Workbook

Sheet CANASTA DE PRECIOS
A1: FONDO DE DESARROLLO LOCAL DE RAFAEL URIBE URIBE | J1: Cotización 0012026 | M1: Cotización 0022026 | P1: Cotización 0032026 | S1: Cotización 0042026 | V1: Cotización 0052026 | Y1: Cotización 0062026 | AB1: Cotización 0072026 | AE1: NÚMERO DE COTIZACIONES | AF1: VALOR PROMEDIO UNITARIO IVA INCLUIDO | AG1: DESVIACIÓN | AH1: COEFICIENTE VARIACIÓN | AI1: ¿SE PUEDE EMPLEAR? SI/NO
A2: LISTADO DE ÍTEMS PARA LA FORMULACIÓN DE PROYECTOS VIGENCIA 2026 | J2: CO01 | M2: CO02 | P2: CO03 | S2: CO04 | V2: CO05 | Y2: CO06 | AB2: CO07
A3: # | B3: CATEGORIA | C3: TIPO | D3: ÍTEM | E3: CODIGO UNSPSC | F3: DESCRIPCIÓN | G3: UNIDAD DE MEDIDA | H3: IMPUESTO A CARGO | I3: VALOR DE REFERENCIA | J3: Precio Unitario SIN IVA | K3: IVA | L3: Precio Unitario IVA incluido | M3: Precio Unitario SIN IVA | N3: IVA | O3: Precio Unitario IVA incluido | P3: Precio Unitario SIN IVA | Q3: IVA | R3: Precio Unitario IVA incluido | S3: Precio Unitario SIN IVA | T3: IVA | U3: Precio Unitario IVA incluido | V3: Precio Unitario SIN IVA | W3: IVA | X3: Precio Unitario IVA incluido | Y3: Precio Unitario SIN IVA | Z3: IVA | AA3: Precio Unitario IVA incluido | AB3: Precio Unitario SIN IVA | AC3: IVA | AD3: Precio Unitario IVA incluido
A4: 1 | B4: ALIMENTACIÓN | C4: COMPRA | D4: ALMUERZO | E4: 90101603 | F4: Almuerzos: (PROTEINA CARNE CERDO Y/O RES Y/O POLLO) BANDEJA + SOPA + JUGO + POSTRE (ALIMENTO PROTEICO 120 GRS, ALIMENTO CEREAL 40 GR EN CRUDO Ò 100 GR COCIDO, TUBERCULO 110 GR, VERDURA FRIA, CRUDA O CALIENTE 100 GR, LEGUMINOSAS 80GR, SOPA Ò CREMA 250 CC, JUGO CON FRUTA DE COSECHA 250 CC, POSTRE DE 30 A 50 GR | G4: UN | H4: =IF(OR(ISNUMBER(SEARCH("ALIMENTACIÓN",B4)),ISNUMBER(SEARCH("ALIMENTACION",B4))),0,IF(AND(ISNUMBER(SEARCH("AMBIENTE",B4)),OR(ISNUMBER(SEARCH("Semilla",D4)),ISNUMBER(SEARCH("ESPECIE VEGETAL",D4)),ISNUMBER(SEARCH("Fertilizante",D4)),ISNUMBER(SEARCH("Humus",D4)),ISNUMBER(SEARCH("Micorrizas",D4)),ISNUMBER(SEARCH("Cascarilla",D4)),ISNUMBER(SEARCH("Turba",D4)))),0,IF(AND(ISNUMBER(SEARCH("ANIMALES",B4)),OR(ISNUMBER(SEARCH("ALIMENTO",D4)),ISNUMBER(SEARCH("Alimento",D4)))),0.05,IF(ISNUMBER(SEARCH("ANIMALES",B4)),0.19,IF(ISNUMBER(SEARCH("AMBIENTE",B4)),0.19,IF(ISNUMBER(SEARCH("CULTURA",B4)),0.19,IF(ISNUMBER(SEARCH("DEPORTE",B4)),0.19,IF(ISNUMBER(SEARCH("Bioseguridad",B4)),0.19,IF(ISNUMBER(SEARCH("DOTACIÓN",B4)),0.19,IF(ISNUMBER(SEARCH("SERVICIO",C4)),0.19,0.19)))))))))) -> 0 | I4: =+AF4 -> 31050 | J4: 31645 | K4: =+J4*H4 -> 0 | L4: =+J4+K4 -> 31645 | M4: 33263 | N4: =+M4*H4 -> 0 | O4: =+M4+N4 -> 33263 | P4: 28474 | Q4: =+P4*H4 -> 0 | R4: =+P4+Q4 -> 28474 | S4: 31825 | T4: =+S4*H4 -> 0 | U4: =+T4+S4 -> 31825 | V4: 30618 | W4: =+V4*H4 -> 0 | X4: =+W4+V4 -> 30618 | Y4: 31696 | Z4: =+Y4*H4 -> 0 | AA4: =+Z4+Y4 -> 31696 | AB4: 29829 | AC4: =+AB4*H4 -> 0 | AD4: =+AC4+AB4 -> 29829 | AE4: =COUNT(L4,O4,R4,U4,X4,AA4,AD4) -> 7 | AF4: =ROUND(AVERAGE(L4,O4,R4,U4,X4,AA4,AD4),0) -> 31050 | AG4: =_xlfn.STDEV.P(L4,O4,R4,U4,X4,AA4,AD4) -> 1443.3382 | AH4: =AG4/AF4 -> 0.046484322 | AI4: =IF(AE4<2,"NO",IF(AH4>0.35,"NO","SI")) -> SI
A5: =1+A4 -> 2 | B5: ALIMENTACIÓN | C5: COMPRA | D5: ALMUERZO TIPO 2 | E5: 90101603 | F5: Alimentación: • Entrada: Sopa 250 ml o 16 onzas de fruta de cosecha. Cantidad: 100 gramos. • Plato fuerte: Proteína de origen animal 100% (Carnes vacuna, cerdo, pollo ó pescado) Cantidad: 250 gramos, Cereal (Arroz) Cantidad: 125 gramos (4) Ensalada de verduras o fruta. Cantidad: 100 gramos, papa – yuca- plátano. Cantidad: 100 gramos • Bebida: Jugo de fruta natural en botella 16 onzas. Todo debe ser empacado en envase biodegradable. El costo del almuerzo incluye servilletas y cubiertos, Entrega en sitio y Menú a acordar en comité técnico. | G5: UN | H5: =IF(OR(ISNUMBER(SEARCH("ALIMENTACIÓN",B5)),ISNUMBER(SEARCH("ALIMENTACION",B5))),0,IF(AND(ISNUMBER(SEARCH("AMBIENTE",B5)),OR(ISNUMBER(SEARCH("Semilla",D5)),ISNUMBER(SEARCH("ESPECIE VEGETAL",D5)),ISNUMBER(SEARCH("Fertilizante",D5)),ISNUMBER(SEARCH("Humus",D5)),ISNUMBER(SEARCH("Micorrizas",D5)),ISNUMBER(SEARCH("Cascarilla",D5)),ISNUMBER(SEARCH("Turba",D5)))),0,IF(AND(ISNUMBER(SEARCH("ANIMALES",B5)),OR(ISNUMBER(SEARCH("ALIMENTO",D5)),ISNUMBER(SEARCH("Alimento",D5)))),0.05,IF(ISNUMBER(SEARCH("ANIMALES",B5)),0.19,IF(ISNUMBER(SEARCH("AMBIENTE",B5)),0.19,IF(ISNUMBER(SEARCH("CULTURA",B5)),0.19,IF(ISNUMBER(SEARCH("DEPORTE",B5)),0.19,IF(ISNUMBER(SEARCH("Bioseguridad",B5)),0.19,IF(ISNUMBER(SEARCH("DOTACIÓN",B5)),0.19,IF(ISNUMBER(SEARCH("SERVICIO",C5)),0.19,0.19)))))))))) -> 0 | I5: =+AF5 -> 40000 | J5: 43611 | K5: =+J5*H5 -> 0 | L5: =+J5+K5 -> 43611 | M5: 41137 | N5: =+M5*H5 -> 0 | O5: =+M5+N5 -> 41137 | P5: 36597 | Q5: =+P5*H5 -> 0 | R5: =+P5+Q5 -> 36597 | S5: 40853 | T5: =+S5*H5 -> 0 | U5: =+T5+S5 -> 40853 | V5: 41942 | W5: =+V5*H5 -> 0 | X5: =+W5+V5 -> 41942 | Y5: 40578 | Z5: =+Y5*H5 -> 0 | AA5: =+Z5+Y5 -> 40578 | AB5: 35282 | AC5: =+AB5*H5 -> 0 | AD5: =+AC5+AB5 -> 35282 | AE5: =COUNT(L5,O5,R5,U5,X5,AA5,AD5) -> 7 | AF5: =ROUND(AVERAGE(L5,O5,R5,U5,X5,AA5,AD5),0) -> 40000 | AG5: =_xlfn.STDEV.P(L5,O5,R5,U5,X5,AA5,AD5) -> 2751.7548 | AH5: =AG5/AF5 -> 0.068793869 | AI5: =IF(AE5<2,"NO",IF(AH5>0.35,"NO","SI")) -> SI
A6: =1+A5 -> 3 | B6: ALIMENTACIÓN | C6: COMPRA | D6: BEBIDA | E6: 90101603 | F6: Botella de agua de 600 cc de una marca reconocida en el mercado | G6: UN | H6: =IF(OR(ISNUMBER(SEARCH("ALIMENTACIÓN",B6)),ISNUMBER(SEARCH("ALIMENTACION",B6))),0,IF(AND(ISNUMBER(SEARCH("AMBIENTE",B6)),OR(ISNUMBER(SEARCH("Semilla",D6)),ISNUMBER(SEARCH("ESPECIE VEGETAL",D6)),ISNUMBER(SEARCH("Fertilizante",D6)),ISNUMBER(SEARCH("Humus",D6)),ISNUMBER(SEARCH("Micorrizas",D6)),ISNUMBER(SEARCH("Cascarilla",D6)),ISNUMBER(SEARCH("Turba",D6)))),0,IF(AND(ISNUMBER(SEARCH("ANIMALES",B6)),OR(ISNUMBER(SEARCH("ALIMENTO",D6)),ISNUMBER(SEARCH("Alimento",D6)))),0.05,IF(ISNUMBER(SEARCH("ANIMALES",B6)),0.19,IF(ISNUMBER(SEARCH("AMBIENTE",B6)),0.19,IF(ISNUMBER(SEARCH("CULTURA",B6)),0.19,IF(ISNUMBER(SEARCH("DEPORTE",B6)),0.19,IF(ISNUMBER(SEARCH("Bioseguridad",B6)),0.19,IF(ISNUMBER(SEARCH("DOTACIÓN",B6)),0.19,IF(ISNUMBER(SEARCH("SERVICIO",C6)),0.19,0.19)))))))))) -> 0 | I6: =+AF6 -> 2100 | J6: 2029 | K6: =+J6*H6 -> 0 | L6: =+J6+K6 -> 2029 | M6: 2261 | N6: =+M6*H6 -> 0 | O6: =+M6+N6 -> 2261 | P6: 2143 | Q6: =+P6*H6 -> 0 | R6: =+P6+Q6 -> 2143 | S6: 2102 | T6: =+S6*H6 -> 0 | U6: =+T6+S6 -> 2102 | V6: 2122 | W6: =+V6*H6 -> 0 | X6: =+W6+V6 -> 2122 | Y6: 2101 | Z6: =+Y6*H6 -> 0 | AA6: =+Z6+Y6 -> 2101 | AB6: 1942 | AC6: =+AB6*H6 -> 0 | AD6: =+AC6+AB6 -> 1942 | AE6: =COUNT(L6,O6,R6,U6,X6,AA6,AD6) -> 7 | AF6: =ROUND(AVERAGE(L6,O6,R6,U6,X6,AA6,AD6),0) -> 2100 | AG6: =_xlfn.STDEV.P(L6,O6,R6,U6,X6,AA6,AD6) -> 91.232826 | AH6: =AG6/AF6 -> 0.043444203 | AI6: =IF(AE6<2,"NO",IF(AH6>0.35,"NO","SI")) -> SI
A7: =1+A6 -> 4 | B7: ALIMENTACIÓN | C7: COMPRA | D7: CENA- BUFFET | E7: 90101603 | F7: Servicio de alimentación tipo buffet por persona, que consiste en la preparación, disposición y exhibición de una variedad de alimentos organizados en una mesa o estación, permitiendo que los comensales se sirvan de manera autónoma según sus preferencias. El servicio deberá incluir una oferta variada de platos que contemple carnes, principios (acompañamientos), postres y bebidas, garantizando opciones equilibradas y suficientes para todos los asistentes. se debe garantizar minimo 150gr de proteina, princpio minimo 50 gr, ensalada 15 gr, carbohidratos 25 gr, 1 postre y 1 bebida 350 Ml Asimismo, deberá asegurar condiciones adecuadas de manipulación de alimentos, presentación, higiene y calidad, así como los elementos necesarios para el servicio (vajilla, utensilios y disposición de los alimentos). El costo incluye menaje, asistentes para servir tipo buffet, transporte y entrega | G7: UN | H7: =IF(OR(ISNUMBER(SEARCH("ALIMENTACIÓN",B7)),ISNUMBER(SEARCH("ALIMENTACION",B7))),0,IF(AND(ISNUMBER(SEARCH("AMBIENTE",B7)),OR(ISNUMBER(SEARCH("Semilla",D7)),ISNUMBER(SEARCH("ESPECIE VEGETAL",D7)),ISNUMBER(SEARCH("Fertilizante",D7)),ISNUMBER(SEARCH("Humus",D7)),ISNUMBER(SEARCH("Micorrizas",D7)),ISNUMBER(SEARCH("Cascarilla",D7)),ISNUMBER(SEARCH("Turba",D7)))),0,IF(AND(ISNUMBER(SEARCH("ANIMALES",B7)),OR(ISNUMBER(SEARCH("ALIMENTO",D7)),ISNUMBER(SEARCH("Alimento",D7)))),0.05,IF(ISNUMBER(SEARCH("ANIMALES",B7)),0.19,IF(ISNUMBER(SEARCH("AMBIENTE",B7)),0.19,IF(ISNUMBER(SEARCH("CULTURA",B7)),0.19,IF(ISNUMBER(SEARCH("DEPORTE",B7)),0.19,IF(ISNUMBER(SEARCH("Bioseguridad",B7)),0.19,IF(ISNUMBER(SEARCH("DOTACIÓN",B7)),0.19,IF(ISNUMBER(SEARCH("SERVICIO",C7)),0.19,0.19)))))))))) -> 0 | I7: =+AF7 -> 24081 | J7: 24931 | K7: =+J7*H7 -> 0 | L7: =+J7+K7 -> 24931 | M7: 26382 | N7: =+M7*H7 -> 0 | O7: =+M7+N7 -> 26382 | P7: 26315 | Q7: =+P7*H7 -> 0 | R7: =+P7+Q7 -> 26315 | S7: 22506 | T7: =+S7*H7 -> 0 | U7: =+T7+S7 -> 22506 | V7: 25376 | W7: =+V7*H7 -> 0 | X7: =+W7+V7 -> 25376 | Y7: 23443 | Z7: =+Y7*H7 -> 0 | AA7: =+Z7+Y7 -> 23443 | AB7: 19617 | AC7: =+AB7*H7 -> 0 | AD7: =+AC7+AB7 -> 19617 | AE7: =COUNT(L7,O7,R7,U7,X7,AA7,AD7) -> 7 | AF7: =ROUND(AVERAGE(L7,O7,R7,U7,X7,AA7,AD7),0) -> 24081 | AG7: =_xlfn.STDEV.P(L7,O7,R7,U7,X7,AA7,AD7) -> 2251.9784 | AH7: =AG7/AF7 -> 0.093516812 | AI7: =IF(AE7<2,"NO",IF(AH7>0.35,"NO","SI")) -> SI
A8: =1+A7 -> 5 | B8: ALIMENTACIÓN | C8: COMPRA | D8: DESAYUNO | E8: 90101603 | F8: un (1) desayuno que incluya proteina, carbohidratos y grasas- bebida caliente, bebida fria y porcion de fruta. INCLUYE TRANSPORTE Y EMPAQUE | G8: UN | H8: =IF(OR(ISNUMBER(SEARCH("ALIMENTACIÓN",B8)),ISNUMBER(SEARCH("ALIMENTACION",B8))),0,IF(AND(ISNUMBER(SEARCH("AMBIENTE",B8)),OR(ISNUMBER(SEARCH("Semilla",D8)),ISNUMBER(SEARCH("ESPECIE VEGETAL",D8)),ISNUMBER(SEARCH("Fertilizante",D8)),ISNUMBER(SEARCH("Humus",D8)),ISNUMBER(SEARCH("Micorrizas",D8)),ISNUMBER(SEARCH("Cascarilla",D8)),ISNUMBER(SEARCH("Turba",D8)))),0,IF(AND(ISNUMBER(SEARCH("ANIMALES",B8)),OR(ISNUMBER(SEARCH("ALIMENTO",D8)),ISNUMBER(SEARCH("Alimento",D8)))),0.05,IF(ISNUMBER(SEARCH("ANIMALES",B8)),0.19,IF(ISNUMBER(SEARCH("AMBIENTE",B8)),0.19,IF(ISNUMBER(SEARCH("CULTURA",B8)),0.19,IF(ISNUMBER(SEARCH("DEPORTE",B8)),0.19,IF(ISNUMBER(SEARCH("Bioseguridad",B8)),0.19,IF(ISNUMBER(SEARCH("DOTACIÓN",B8)),0.19,IF(ISNUMBER(SEARCH("SERVICIO",C8)),0.19,0.19)))))))))) -> 0 | I8: =+AF8 -> 20000 | J8: 20941 | K8: =+J8*H8 -> 0 | L8: =+J8+K8 -> 20941 | M8: 20685 | N8: =+M8*H8 -> 0 | O8: =+M8+N8 -> 20685 | P8: 19652 | Q8: =+P8*H8 -> 0 | R8: =+P8+Q8 -> 19652 | S8: 18640 | T8: =+S8*H8 -> 0 | U8: =+T8+S8 -> 18640 | V8: 20022 | W8: =+V8*H8 -> 0 | X8: =+W8+V8 -> 20022 | Y8: 21449 | Z8: =+Y8*H8 -> 0 | AA8: =+Z8+Y8 -> 21449 | AB8: 18611 | AC8: =+AB8*H8 -> 0 | AD8: =+AC8+AB8 -> 18611 | AE8: =COUNT(L8,O8,R8,U8,X8,AA8,AD8) -> 7 | AF8: =ROUND(AVERAGE(L8,O8,R8,U8,X8,AA8,AD8),0) -> 20000 | AG8: =_xlfn.STDEV.P(L8,O8,R8,U8,X8,AA8,AD8) -> 1025.0307 | AH8: =AG8/AF8 -> 0.051251537 | AI8: =IF(AE8<2,"NO",IF(AH8>0.35,"NO","SI")) -> SI
A9: =1+A8 -> 6 | B9: ALIMENTACIÓN | C9: COMPRA | D9: GALLETAS ARTESANALES | E9: 90101603 | F9: Paquete de galletas artesanales de 7 unidades de minímo 300 grm, con decoración adecuada al evento | G9: UN | H9: =IF(OR(ISNUMBER(SEARCH("ALIMENTACIÓN",B9)),ISNUMBER(SEARCH("ALIMENTACION",B9))),0,IF(AND(ISNUMBER(SEARCH("AMBIENTE",B9)),OR(ISNUMBER(SEARCH("Semilla",D9)),ISNUMBER(SEARCH("ESPECIE VEGETAL",D9)),ISNUMBER(SEARCH("Fertilizante",D9)),ISNUMBER(SEARCH("Humus",D9)),ISNUMBER(SEARCH("Micorrizas",D9)),ISNUMBER(SEARCH("Cascarilla",D9)),ISNUMBER(SEARCH("Turba",D9)))),0,IF(AND(ISNUMBER(SEARCH("ANIMALES",B9)),OR(ISNUMBER(SEARCH("ALIMENTO",D9)),ISNUMBER(SEARCH("Alimento",D9)))),0.05,IF(ISNUMBER(SEARCH("ANIMALES",B9)),0.19,IF(ISNUMBER(SEARCH("AMBIENTE",B9)),0.19,IF(ISNUMBER(SEARCH("CULTURA",B9)),0.19,IF(ISNUMBER(SEARCH("DEPORTE",B9)),0.19,IF(ISNUMBER(SEARCH("Bioseguridad",B9)),0.19,IF(ISNUMBER(SEARCH("DOTACIÓN",B9)),0.19,IF(ISNUMBER(SEARCH("SERVICIO",C9)),0.19,0.19)))))))))) -> 0 | I9: =+AF9 -> 5600 | J9: 6145 | K9: =+J9*H9 -> 0 | L9: =+J9+K9 -> 6145 | M9: 5741 | N9: =+M9*H9 -> 0 | O9: =+M9+N9 -> 5741 | P9: 5830 | Q9: =+P9*H9 -> 0 | R9: =+P9+Q9 -> 5830 | S9: 5498 | T9: =+S9*H9 -> 0 | U9: =+T9+S9 -> 5498 | V9: 5102 | W9: =+V9*H9 -> 0 | X9: =+W9+V9 -> 5102 | Y9: 5896 | Z9: =+Y9*H9 -> 0 | AA9: =+Z9+Y9 -> 5896 | AB9: 4988 | AC9: =+AB9*H9 -> 0 | AD9: =+AC9+AB9 -> 4988 | AE9: =COUNT(L9,O9,R9,U9,X9,AA9,AD9) -> 7 | AF9: =ROUND(AVERAGE(L9,O9,R9,U9,X9,AA9,AD9),0) -> 5600 | AG9: =_xlfn.STDEV.P(L9,O9,R9,U9,X9,AA9,AD9) -> 394.67419 | AH9: =AG9/AF9 -> 0.070477533 | AI9: =IF(AE9<2,"NO",IF(AH9>0.35,"NO","SI")) -> SI
A10: =1+A9 -> 7 | B10: ALIMENTACIÓN | C10: COMPRA | D10: REFRIGERIO COMPUESTO TIPO 1 | E10: 90101603 | F10: refrigerio compuesto de Un sándwich tipo baguete de jamón, queso, lechuga y salsas de 250 gr; y/o, Un sándwich tipo baguete de pollo, lechuga y salsas de 250 gr y/o perro caliente de mínimo 14 cm, -1 brownie mínimo 80gr, 1 Jugo: Mínimo 200 ml de contenido (envase tetra pack y/o botella plástica desechable) que contenga 14% de fruta, 4,5% de calorías, sin conservantes ni sabores artificiales 4 una porción de fruta de mínimo 120 gr (manzana, pera, banano, mango, pitaya, granadilla) . El refrigerio debe estar en empaque individual en bandeja y/o bolsa elaborada en cartón 100 %reciclable y biodegradable, debe ser balanceado y responder a la normatividad vigente en lo que corresponde a las características organolépticas de conservación. Este debe incluir la transporte y entrega en el sitio de las reuniones | G10: UN | H10: =IF(OR(ISNUMBER(SEARCH("ALIMENTACIÓN",B10)),ISNUMBER(SEARCH("ALIMENTACION",B10))),0,IF(AND(ISNUMBER(SEARCH("AMBIENTE",B10)),OR(ISNUMBER(SEARCH("Semilla",D10)),ISNUMBER(SEARCH("ESPECIE VEGETAL",D10)),ISNUMBER(SEARCH("Fertilizante",D10)),ISNUMBER(SEARCH("Humus",D10)),ISNUMBER(SEARCH("Micorrizas",D10)),ISNUMBER(SEARCH("Cascarilla",D10)),ISNUMBER(SEARCH("Turba",D10)))),0,IF(AND(ISNUMBER(SEARCH("ANIMALES",B10)),OR(ISNUMBER(SEARCH("ALIMENTO",D10)),ISNUMBER(SEARCH("Alimento",D10)))),0.05,IF(ISNUMBER(SEARCH("ANIMALES",B10)),0.19,IF(ISNUMBER(SEARCH("AMBIENTE",B10)),0.19,IF(ISNUMBER(SEARCH("CULTURA",B10)),0.19,IF(ISNUMBER(SEARCH("DEPORTE",B10)),0.19,IF(ISNUMBER(SEARCH("Bioseguridad",B10)),0.19,IF(ISNUMBER(SEARCH("DOTACIÓN",B10)),0.19,IF(ISNUMBER(SEARCH("SERVICIO",C10)),0.19,0.19)))))))))) -> 0 | I10: =+AF10 -> 22300 | J10: 22030 | K10: =+J10*H10 -> 0 | L10: =+J10+K10 -> 22030 | M10: 20384 | N10: =+M10*H10 -> 0 | O10: =+M10+N10 -> 20384 | P10: 24273 | Q10: =+P10*H10 -> 0 | R10: =+P10+Q10 -> 24273 | S10: 20223 | T10: =+S10*H10 -> 0 | U10: =+T10+S10 -> 20223 | V10: 20171 | W10: =+V10*H10 -> 0 | X10: =+W10+V10 -> 20171 | Y10: 20174 | Z10: =+Y10*H10 -> 0 | AA10: =+Z10+Y10 -> 20174 | AB10: 28845 | AC10: =+AB10*H10 -> 0 | AD10: =+AC10+AB10 -> 28845 | AE10: =COUNT(L10,O10,R10,U10,X10,AA10,AD10) -> 7 | AF10: =ROUND(AVERAGE(L10,O10,R10,U10,X10,AA10,AD10),0) -> 22300 | AG10: =_xlfn.STDEV.P(L10,O10,R10,U10,X10,AA10,AD10) -> 3019.9375 | AH10: =AG10/AF10 -> 0.1354232 | AI10: =IF(AE10<2,"NO",IF(AH10>0.35,"NO","SI")) -> SI
A11: =1+A10 -> 8 | B11: ALIMENTACIÓN | C11: COMPRA | D11: REFRIGERIO COMPUESTO TIPO 2 | E11: 90101603 | F11: Consta de: Un pasabocas hojaldrado croissant, pastel relleno con proteína animal mínimo 150 gr, 1 mini brownie 45gr 3. Jugo: Mínimo 200 ml de contenido (envase tetra pack y/o botella plástica desechable) que contenga 14% de fruta, 4,5% de calorías, sin conservantes ni sabores artificiales 4 una porción de fruta de mínimo 150 gr (manzana, pera, banano, mango, pitaya, granadilla) . El refrigerio debe estar en empaque individual en bandeja elaborada en cartón 100 %reciclable y biodegradable, debe ser balanceado y responder a la normatividad vigente en lo que corresponde a las características organolépticas de conservación. Este debe incluir la transporte y entrega en el sitio de las reuniones | G11: UN | H11: =IF(OR(ISNUMBER(SEARCH("ALIMENTACIÓN",B11)),ISNUMBER(SEARCH("ALIMENTACION",B11))),0,IF(AND(ISNUMBER(SEARCH("AMBIENTE",B11)),OR(ISNUMBER(SEARCH("Semilla",D11)),ISNUMBER(SEARCH("ESPECIE VEGETAL",D11)),ISNUMBER(SEARCH("Fertilizante",D11)),ISNUMBER(SEARCH("Humus",D11)),ISNUMBER(SEARCH("Micorrizas",D11)),ISNUMBER(SEARCH("Cascarilla",D11)),ISNUMBER(SEARCH("Turba",D11)))),0,IF(AND(ISNUMBER(SEARCH("ANIMALES",B11)),OR(ISNUMBER(SEARCH("ALIMENTO",D11)),ISNUMBER(SEARCH("Alimento",D11)))),0.05,IF(ISNUMBER(SEARCH("ANIMALES",B11)),0.19,IF(ISNUMBER(SEARCH("AMBIENTE",B11)),0.19,IF(ISNUMBER(SEARCH("CULTURA",B11)),0.19,IF(ISNUMBER(SEARCH("DEPORTE",B11)),0.19,IF(ISNUMBER(SEARCH("Bioseguridad",B11)),0.19,IF(ISNUMBER(SEARCH("DOTACIÓN",B11)),0.19,IF(ISNUMBER(SEARCH("SERVICIO",C11)),0.19,0.19)))))))))) -> 0 | I11: =+AF11 -> 17600 | J11: 18572 | K11: =+J11*H11 -> 0 | L11: =+J11+K11 -> 18572 | M11: 16371 | N11: =+M11*H11 -> 0 | O11: =+M11+N11 -> 16371 | P11: 17847 | Q11: =+P11*H11 -> 0 | R11: =+P11+Q11 -> 17847 | S11: 18789 | T11: =+S11*H11 -> 0 | U11: =+T11+S11 -> 18789 | V11: 17345 | W11: =+V11*H11 -> 0 | X11: =+W11+V11 -> 17345 | Y11: 16892 | Z11: =+Y11*H11 -> 0 | AA11: =+Z11+Y11 -> 16892 | AB11: 17384 | AC11: =+AB11*H11 -> 0 | AD11: =+AC11+AB11 -> 17384 | AE11: =COUNT(L11,O11,R11,U11,X11,AA11,AD11) -> 7 | AF11: =ROUND(AVERAGE(L11,O11,R11,U11,X11,AA11,AD11),0) -> 17600 | AG11: =_xlfn.STDEV.P(L11,O11,R11,U11,X11,AA11,AD11) -> 805.5965 | AH11: =AG11/AF11 -> 0.045772528 | AI11: =IF(AE11<2,"NO",IF(AH11>0.35,"NO","SI")) -> SI
A12: =1+A11 -> 9 | B12: ALIMENTACIÓN | C12: COMPRA | D12: SNACK HIDRATACIÓN | E12: 90101603 | F12: Hidratación: botella de agua sin gas de 600ml, bocadillo veleño y fruta en cosecha | G12: UN | H12: =IF(OR(ISNUMBER(SEARCH("ALIMENTACIÓN",B12)),ISNUMBER(SEARCH("ALIMENTACION",B12))),0,IF(AND(ISNUMBER(SEARCH("AMBIENTE",B12)),OR(ISNUMBER(SEARCH("Semilla",D12)),ISNUMBER(SEARCH("ESPECIE VEGETAL",D12)),ISNUMBER(SEARCH("Fertilizante",D12)),ISNUMBER(SEARCH("Humus",D12)),ISNUMBER(SEARCH("Micorrizas",D12)),ISNUMBER(SEARCH("Cascarilla",D12)),ISNUMBER(SEARCH("Turba",D12)))),0,IF(AND(ISNUMBER(SEARCH("ANIMALES",B12)),OR(ISNUMBER(SEARCH("ALIMENTO",D12)),ISNUMBER(SEARCH("Alimento",D12)))),0.05,IF(ISNUMBER(SEARCH("ANIMALES",B12)),0.19,IF(ISNUMBER(SEARCH("AMBIENTE",B12)),0.19,IF(ISNUMBER(SEARCH("CULTURA",B12)),0.19,IF(ISNUMBER(SEARCH("DEPORTE",B12)),0.19,IF(ISNUMBER(SEARCH("Bioseguridad",B12)),0.19,IF(ISNUMBER(SEARCH("DOTACIÓN",B12)),0.19,IF(ISNUMBER(SEARCH("SERVICIO",C12)),0.19,0.19)))))))))) -> 0 | I12: =+AF12 -> 6000 | J12: 5655 | K12: =+J12*H12 -> 0 | L12: =+J12+K12 -> 5655 | M12: 6046 | N12: =+M12*H12 -> 0 | O12: =+M12+N12 -> 6046 | P12: 5702 | Q12: =+P12*H12 -> 0 | R12: =+P12+Q12 -> 5702 | S12: 5762 | T12: =+S12*H12 -> 0 | U12: =+T12+S12 -> 5762 | V12: 5761 | W12: =+V12*H12 -> 0 | X12: =+W12+V12 -> 5761 | Y12: 5789 | Z12: =+Y12*H12 -> 0 | AA12: =+Z12+Y12 -> 5789 | AB12: 7285 | AC12: =+AB12*H12 -> 0 | AD12: =+AC12+AB12 -> 7285 | AE12: =COUNT(L12,O12,R12,U12,X12,AA12,AD12) -> 7 | AF12: =ROUND(AVERAGE(L12,O12,R12,U12,X12,AA12,AD12),0) -> 6000 | AG12: =_xlfn.STDEV.P(L12,O12,R12,U12,X12,AA12,AD12) -> 537.11611 | AH12: =AG12/AF12 -> 0.089519351 | AI12: =IF(AE12<2,"NO",IF(AH12>0.35,"NO","SI")) -> SI
A13: =1+A12 -> 10 | B13: AMBIENTE | C13: COMPRA | D13: Balanza | E13: 41111500 | F13: Tipo electrónica material base acero inoxidable material platón acero inoxidable capacidad 1000 grs a 5000 grs con sensibilidad de 1 grs a 2 grs de medición. La bascula, deberá estar construida en materiales resistentes, antioxidantes y que no afecten por efectos vibratorios la precisión del equipo. | G13: UN | H13: =IF(OR(ISNUMBER(SEARCH("ALIMENTACIÓN",B13)),ISNUMBER(SEARCH("ALIMENTACION",B13))),0,IF(AND(ISNUMBER(SEARCH("AMBIENTE",B13)),OR(ISNUMBER(SEARCH("Semilla",D13)),ISNUMBER(SEARCH("ESPECIE VEGETAL",D13)),ISNUMBER(SEARCH("Fertilizante",D13)),ISNUMBER(SEARCH("Humus",D13)),ISNUMBER(SEARCH("Micorrizas",D13)),ISNUMBER(SEARCH("Cascarilla",D13)),ISNUMBER(SEARCH("Turba",D13)))),0,IF(AND(ISNUMBER(SEARCH("ANIMALES",B13)),OR(ISNUMBER(SEARCH("ALIMENTO",D13)),ISNUMBER(SEARCH("Alimento",D13)))),0.05,IF(ISNUMBER(SEARCH("ANIMALES",B13)),0.19,IF(ISNUMBER(SEARCH("AMBIENTE",B13)),0.19,IF(ISNUMBER(SEARCH("CULTURA",B13)),0.19,IF(ISNUMBER(SEARCH("DEPORTE",B13)),0.19,IF(ISNUMBER(SEARCH("Bioseguridad",B13)),0.19,IF(ISNUMBER(SEARCH("DOTACIÓN",B13)),0.19,IF(ISNUMBER(SEARCH("SERVICIO",C13)),0.19,0.19)))))))))) -> 0.19 | I13: =+AF13 -> 47899 | J13: 41819 | K13: =+J13*H13 -> 7945.61 | L13: =+J13+K13 -> 49764.61 | M13: 41324 | N13: =+M13*H13 -> 7851.56 | O13: =+M13+N13 -> 49175.56 | P13: 43748 | Q13: =+P13*H13 -> 8312.12 | R13: =+P13+Q13 -> 52060.12 | S13: 40702 | T13: =+S13*H13 -> 7733.38 | U13: =+T13+S13 -> 48435.38 | V13: 37474 | W13: =+V13*H13 -> 7120.06 | X13: =+W13+V13 -> 44594.06 | Y13: 40583 | Z13: =+Y13*H13 -> 7710.77 | AA13: =+Z13+Y13 -> 48293.77 | AB13: 36111 | AC13: =+AB13*H13 -> 6861.09 | AD13: =+AC13+AB13 -> 42972.09 | AE13: =COUNT(L13,O13,R13,U13,X13,AA13,AD13) -> 7 | AF13: =ROUND(AVERAGE(L13,O13,R13,U13,X13,AA13,AD13),0) -> 47899 | AG13: =_xlfn.STDEV.P(L13,O13,R13,U13,X13,AA13,AD13) -> 2880.1201 | AH13: =AG13/AF13 -> 0.060129023 | AI13: =IF(AE13<2,"NO",IF(AH13>0.35,"NO","SI")) -> SI
A14: =1+A13 -> 11 | B14: AMBIENTE | C14: COMPRA | D14: Balde construcción | E14: 24110000 | F14: Amigable con el medio ambiente sin perder sus cualidades de resistencia y durabilidad. Polietileno 100% reciclado. Resistente a los golpes y deformaciones. Manija metálica recubierta con elastómero para mayor comodidad, usos: Para cargue y transporte de concreto, escombros, arena y cualquier material para la construcción en general, Capacidad 12 litros. | G14: UN | H14: =IF(OR(ISNUMBER(SEARCH("ALIMENTACIÓN",B14)),ISNUMBER(SEARCH("ALIMENTACION",B14))),0,IF(AND(ISNUMBER(SEARCH("AMBIENTE",B14)),OR(ISNUMBER(SEARCH("Semilla",D14)),ISNUMBER(SEARCH("ESPECIE VEGETAL",D14)),ISNUMBER(SEARCH("Fertilizante",D14)),ISNUMBER(SEARCH("Humus",D14)),ISNUMBER(SEARCH("Micorrizas",D14)),ISNUMBER(SEARCH("Cascarilla",D14)),ISNUMBER(SEARCH("Turba",D14)))),0,IF(AND(ISNUMBER(SEARCH("ANIMALES",B14)),OR(ISNUMBER(SEARCH("ALIMENTO",D14)),ISNUMBER(SEARCH("Alimento",D14)))),0.05,IF(ISNUMBER(SEARCH("ANIMALES",B14)),0.19,IF(ISNUMBER(SEARCH("AMBIENTE",B14)),0.19,IF(ISNUMBER(SEARCH("CULTURA",B14)),0.19,IF(ISNUMBER(SEARCH("DEPORTE",B14)),0.19,IF(ISNUMBER(SEARCH("Bioseguridad",B14)),0.19,IF(ISNUMBER(SEARCH("DOTACIÓN",B14)),0.19,IF(ISNUMBER(SEARCH("SERVICIO",C14)),0.19,0.19)))))))))) -> 0.19 | I14: =+AF14 -> 22899 | J14: 19205 | K14: =+J14*H14 -> 3648.95 | L14: =+J14+K14 -> 22853.95 | M14: 20800 | N14: =+M14*H14 -> 3952 | O14: =+M14+N14 -> 24752 | P14: 19493 | Q14: =+P14*H14 -> 3703.67 | R14: =+P14+Q14 -> 23196.67 | S14: 17889 | T14: =+S14*H14 -> 3398.91 | U14: =+T14+S14 -> 21287.91 | V14: 18059 | W14: =+V14*H14 -> 3431.21 | X14: =+W14+V14 -> 21490.21 | Y14: 19777 | Z14: =+Y14*H14 -> 3757.63 | AA14: =+Z14+Y14 -> 23534.63 | AB14: 19479 | AC14: =+AB14*H14 -> 3701.01 | AD14: =+AC14+AB14 -> 23180.01 | AE14: =COUNT(L14,O14,R14,U14,X14,AA14,AD14) -> 7 | AF14: =ROUND(AVERAGE(L14,O14,R14,U14,X14,AA14,AD14),0) -> 22899 | AG14: =_xlfn.STDEV.P(L14,O14,R14,U14,X14,AA14,AD14) -> 1107.606 | AH14: =AG14/AF14 -> 0.048369187 | AI14: =IF(AE14<2,"NO",IF(AH14>0.35,"NO","SI")) -> SI
A15: =1+A14 -> 12 | B15: AMBIENTE | C15: COMPRA | D15: Bandejas | E15: 21101612 | F15: Bandeja de germinación x 200 alveolos | G15: UN | H15: =IF(OR(ISNUMBER(SEARCH("ALIMENTACIÓN",B15)),ISNUMBER(SEARCH("ALIMENTACION",B15))),0,IF(AND(ISNUMBER(SEARCH("AMBIENTE",B15)),OR(ISNUMBER(SEARCH("Semilla",D15)),ISNUMBER(SEARCH("ESPECIE VEGETAL",D15)),ISNUMBER(SEARCH("Fertilizante",D15)),ISNUMBER(SEARCH("Humus",D15)),ISNUMBER(SEARCH("Micorrizas",D15)),ISNUMBER(SEARCH("Cascarilla",D15)),ISNUMBER(SEARCH("Turba",D15)))),0,IF(AND(ISNUMBER(SEARCH("ANIMALES",B15)),OR(ISNUMBER(SEARCH("ALIMENTO",D15)),ISNUMBER(SEARCH("Alimento",D15)))),0.05,IF(ISNUMBER(SEARCH("ANIMALES",B15)),0.19,IF(ISNUMBER(SEARCH("AMBIENTE",B15)),0.19,IF(ISNUMBER(SEARCH("CULTURA",B15)),0.19,IF(ISNUMBER(SEARCH("DEPORTE",B15)),0.19,IF(ISNUMBER(SEARCH("Bioseguridad",B15)),0.19,IF(ISNUMBER(SEARCH("DOTACIÓN",B15)),0.19,IF(ISNUMBER(SEARCH("SERVICIO",C15)),0.19,0.19)))))))))) -> 0.19 | I15: =+AF15 -> 24000 | J15: 18881 | K15: =+J15*H15 -> 3587.39 | L15: =+J15+K15 -> 22468.39 | M15: 19793 | N15: =+M15*H15 -> 3760.67 | O15: =+M15+N15 -> 23553.67 | P15: 18448 | Q15: =+P15*H15 -> 3505.12 | R15: =+P15+Q15 -> 21953.12 | S15: 20919 | T15: =+S15*H15 -> 3974.61 | U15: =+T15+S15 -> 24893.61 | V15: 18210 | W15: =+V15*H15 -> 3459.9 | X15: =+W15+V15 -> 21669.9 | Y15: 19910 | Z15: =+Y15*H15 -> 3782.9 | AA15: =+Z15+Y15 -> 23692.9 | AB15: 25013 | AC15: =+AB15*H15 -> 4752.47 | AD15: =+AC15+AB15 -> 29765.47 | AE15: =COUNT(L15,O15,R15,U15,X15,AA15,AD15) -> 7 | AF15: =ROUND(AVERAGE(L15,O15,R15,U15,X15,AA15,AD15),0) -> 24000 | AG15: =_xlfn.STDEV.P(L15,O15,R15,U15,X15,AA15,AD15) -> 2571.7591 | AH15: =AG15/AF15 -> 0.10715663 | AI15: =IF(AE15<2,"NO",IF(AH15>0.35,"NO","SI")) -> SI
A16: =1+A15 -> 13 | B16: AMBIENTE | C16: COMPRA | D16: BOLSAS ECOLOGICAS | E16: 90101603 | F16: Bolsas ecológicas en cambrel con agarraderas. Estas deben tener una medida de 50cm de alto x 60cm de ancho. Debe contar con estampados alusivos al proceso de separación en la fuente, logos de la Alcaldía Mayor de Bogotá y de la Alcaldía Local de Rafael Uribe Uribe, los cuales deben estar en policromía. | G16: UN | H16: =IF(OR(ISNUMBER(SEARCH("ALIMENTACIÓN",B16)),ISNUMBER(SEARCH("ALIMENTACION",B16))),0,IF(AND(ISNUMBER(SEARCH("AMBIENTE",B16)),OR(ISNUMBER(SEARCH("Semilla",D16)),ISNUMBER(SEARCH("ESPECIE VEGETAL",D16)),ISNUMBER(SEARCH("Fertilizante",D16)),ISNUMBER(SEARCH("Humus",D16)),ISNUMBER(SEARCH("Micorrizas",D16)),ISNUMBER(SEARCH("Cascarilla",D16)),ISNUMBER(SEARCH("Turba",D16)))),0,IF(AND(ISNUMBER(SEARCH("ANIMALES",B16)),OR(ISNUMBER(SEARCH("ALIMENTO",D16)),ISNUMBER(SEARCH("Alimento",D16)))),0.05,IF(ISNUMBER(SEARCH("ANIMALES",B16)),0.19,IF(ISNUMBER(SEARCH("AMBIENTE",B16)),0.19,IF(ISNUMBER(SEARCH("CULTURA",B16)),0.19,IF(ISNUMBER(SEARCH("DEPORTE",B16)),0.19,IF(ISNUMBER(SEARCH("Bioseguridad",B16)),0.19,IF(ISNUMBER(SEARCH("DOTACIÓN",B16)),0.19,IF(ISNUMBER(SEARCH("SERVICIO",C16)),0.19,0.19)))))))))) -> 0.19 | I16: =+AF16 -> 10057 | J16: 7924 | K16: =+J16*H16 -> 1505.56 | L16: =+J16+K16 -> 9429.56 | M16: 8425 | N16: =+M16*H16 -> 1600.75 | O16: =+M16+N16 -> 10025.75 | P16: 7612 | Q16: =+P16*H16 -> 1446.28 | R16: =+P16+Q16 -> 9058.28 | S16: 8763 | T16: =+S16*H16 -> 1664.97 | U16: =+T16+S16 -> 10427.97 | V16: 8905 | W16: =+V16*H16 -> 1691.95 | X16: =+W16+V16 -> 10596.95 | Y16: 8692 | Z16: =+Y16*H16 -> 1651.48 | AA16: =+Z16+Y16 -> 10343.48 | AB16: 8835 | AC16: =+AB16*H16 -> 1678.65 | AD16: =+AC16+AB16 -> 10513.65 | AE16: =COUNT(L16,O16,R16,U16,X16,AA16,AD16) -> 7 | AF16: =ROUND(AVERAGE(L16,O16,R16,U16,X16,AA16,AD16),0) -> 10057 | AG16: =_xlfn.STDEV.P(L16,O16,R16,U16,X16,AA16,AD16) -> 549.26734 | AH16: =AG16/AF16 -> 0.054615426 | AI16: =IF(AE16<2,"NO",IF(AH16>0.35,"NO","SI")) -> SI
... A125: =1+A124 -> 122 | B125: Bioseguridad | C125: COMPRA | D125: Botas impermeables | E125: 90101603 | F125: Botas impermeables Tallas 36 a la 42 Exterior de: 100.0% Cloruro de polivinilo; Suela de: 100.0% Cloruro de polivinilo; Interior de: 100.0% Poliéster | G125: UN | H125: =IF(OR(ISNUMBER(SEARCH("ALIMENTACIÓN",B125)),ISNUMBER(SEARCH("ALIMENTACION",B125))),0,IF(AND(ISNUMBER(SEARCH("AMBIENTE",B125)),OR(ISNUMBER(SEARCH("Semilla",D125)),ISNUMBER(SEARCH("ESPECIE VEGETAL",D125)),ISNUMBER(SEARCH("Fertilizante",D125)),ISNUMBER(SEARCH("Humus",D125)),ISNUMBER(SEARCH("Micorrizas",D125)),ISNUMBER(SEARCH("Cascarilla",D125)),ISNUMBER(SEARCH("Turba",D125)))),0,IF(AND(ISNUMBER(SEARCH("ANIMALES",B125)),OR(ISNUMBER(SEARCH("ALIMENTO",D125)),ISNUMBER(SEARCH("Alimento",D125)))),0.05,IF(ISNUMBER(SEARCH("ANIMALES",B125)),0.19,IF(ISNUMBER(SEARCH("AMBIENTE",B125)),0.19,IF(ISNUMBER(SEARCH("CULTURA",B125)),0.19,IF(ISNUMBER(SEARCH("DEPORTE",B125)),0.19,IF(ISNUMBER(SEARCH("Bioseguridad",B125)),0.19,IF(ISNUMBER(SEARCH("DOTACIÓN",B125)),0.19,IF(ISNUMBER(SEARCH("SERVICIO",C125)),0.19,0.19)))))))))) -> 0.19 | I125: =+AF125 -> 99999 | J125: 76834 | K125: =+J125*H125 -> 14598.46 | L125: =+J125+K125 -> 91432.46 | M125: 80840 | N125: =+M125*H125 -> 15359.6 | O125: =+M125+N125 -> 96199.6 | P125: 76512 | Q125: =+P125*H125 -> 14537.28 | R125: =+P125+Q125 -> 91049.28 | S125: 89980 | T125: =+S125*H125 -> 17096.2 | U125: =+T125+S125 -> 107076.2 | V125: 81334 | W125: =+V125*H125 -> 15453.46 | X125: =+W125+V125 -> 96787.46 | Y125: 82645 | Z125: =+Y125*H125 -> 15702.55 | AA125: =+Z125+Y125 -> 98347.55 | AB125: 100087 | AC125: =+AB125*H125 -> 19016.53 | AD125: =+AC125+AB125 -> 119103.53 | AE125: =COUNT(L125,O125,R125,U125,X125,AA125,AD125) -> 7 | AF125: =ROUND(AVERAGE(L125,O125,R125,U125,X125,AA125,AD125),0) -> 99999 | AG125: =_xlfn.STDEV.P(L125,O125,R125,U125,X125,AA125,AD125) -> 9227.5181 | AH125: =AG125/AF125 -> 0.092276104 | AI125: =IF(AE125<2,"NO",IF(AH125>0.35,"NO","SI")) -> SI
A126: =1+A125 -> 123 | B126: Bioseguridad | C126: COMPRA | D126: BOTIQUIN TIPO A | E126: 42172000 | F126: Botiquín tipo A de primeros auxilios: - Los elementos con lo que debe contar son los estipulados en la resolución 705 de 2007 de la Secretaría Distrital de Salud 1)_x000D_4 GASA ESTÉRIL 7.5X7.5 POR 5 UND_x000D_2)_x000D_1 ESPARADRAPO DE TELA 4" X5 YARDAS_x000D_3)_x000D_1 BAJALENGUAS PAQ X 20 UND_x000D_4)_x000D_1 GUANTE VINILO CAJA POR 100UNIDADES_x000D_5)_x000D_1 VENDA ELÁSTICA 2" X 5 YARDAS_x000D_6)_x000D_1 VENDA ELÁSTICA 3" X 5 YARDAS_x000D_7)_x000D_1 VENDA ELÁSTICA 5" X 5 YARDAS_x000D_8)_x000D_1 VENDA DE ALGODÓN 3" X 5 YARDAS_x000D_9)_x000D_1 VENDA DE ALGODÓN 5" X 5 YARDAS_x000D_10)_x000D_1 YODOPOVIDONA SOLUCIÓN 120ML_x000D_11)_x000D_2 SOLUCIÓN SALINA 250ML_x000D_12)_x000D_1 TERMOMETRO DIGITAL_x000D_13)_x000D_1 ALCOHOL ANTISÉPTICO FRASCO X 300ML | G126: UN | H126: =IF(OR(ISNUMBER(SEARCH("ALIMENTACIÓN",B126)),ISNUMBER(SEARCH("ALIMENTACION",B126))),0,IF(AND(ISNUMBER(SEARCH("AMBIENTE",B126)),OR(ISNUMBER(SEARCH("Semilla",D126)),ISNUMBER(SEARCH("ESPECIE VEGETAL",D126)),ISNUMBER(SEARCH("Fertilizante",D126)),ISNUMBER(SEARCH("Humus",D126)),ISNUMBER(SEARCH("Micorrizas",D126)),ISNUMBER(SEARCH("Cascarilla",D126)),ISNUMBER(SEARCH("Turba",D126)))),0,IF(AND(ISNUMBER(SEARCH("ANIMALES",B126)),OR(ISNUMBER(SEARCH("ALIMENTO",D126)),ISNUMBER(SEARCH("Alimento",D126)))),0.05,IF(ISNUMBER(SEARCH("ANIMALES",B126)),0.19,IF(ISNUMBER(SEARCH("AMBIENTE",B126)),0.19,IF(ISNUMBER(SEARCH("CULTURA",B126)),0.19,IF(ISNUMBER(SEARCH("DEPORTE",B126)),0.19,IF(ISNUMBER(SEARCH("Bioseguridad",B126)),0.19,IF(ISNUMBER(SEARCH("DOTACIÓN",B126)),0.19,IF(ISNUMBER(SEARCH("SERVICIO",C126)),0.19,0.19)))))))))) -> 0.19 | I126: =+AF126 -> 155999 | J126: 127499 | K126: =+J126*H126 -> 24224.81 | L126: =+J126+K126 -> 151723.81 | M126: 140612 | N126: =+M126*H126 -> 26716.28 | O126: =+M126+N126 -> 167328.28 | P126: 143867 | Q126: =+P126*H126 -> 27334.73 | R126: =+P126+Q126 -> 171201.73 | S126: 129246 | T126: =+S126*H126 -> 24556.74 | U126: =+T126+S126 -> 153802.74 | V126: 124757 | W126: =+V126*H126 -> 23703.83 | X126: =+W126+V126 -> 148460.83 | Y126: 136096 | Z126: =+Y126*H126 -> 25858.24 | AA126: =+Z126+Y126 -> 161954.24 | AB126: 115567 | AC126: =+AB126*H126 -> 21957.73 | AD126: =+AC126+AB126 -> 137524.73 | AE126: =COUNT(L126,O126,R126,U126,X126,AA126,AD126) -> 7 | AF126: =ROUND(AVERAGE(L126,O126,R126,U126,X126,AA126,AD126),0) -> 155999 | AG126: =_xlfn.STDEV.P(L126,O126,R126,U126,X126,AA126,AD126) -> 10797.909 | AH126: =AG126/AF126 -> 0.069217812 | AI126: =IF(AE126<2,"NO",IF(AH126>0.35,"NO","SI")) -> SI
A127: =1+A126 -> 124 | B127: Bioseguridad | C127: COMPRA | D127: BOTIQUIN TIPO B | E127: 42172000 | F127: Botiquín tipo B de primeros auxilios: - Los elementos con lo que debe contar son los estipulados en la resolución 705 de 2007 de la Secretaría Distrital de Salud. 1)1 GASA LIMPIA PAQ X 100 UND2)20 GASA ESTÉRIL 7.5X7.5 POR 5 UND. 3)4 COMPRESA ABDOMINAL4)1 ESPARADRAPO DE TELA 4′′ X5 YARDAS5)1 BAJALENGUAS PAQ X 20 UND6)2 VENDA ELÁSTICA 2′′ X 5 YARDAS7)2 VENDA ELÁSTICA 3′′ X 5 YARDAS8)2 VENDA ELÁSTICA 5′′ X 5 YARDAS9)2 VENDA DE ALGODÓN 3′′ X 5 YARDAS10)2 VENDA DE ALGODÓN 5′′ X 5 YARDAS11)1 YODOPOVIDONA ESPUMA 120ML12)5 SOLUCIÓN SALINA 250ML13)1 GUANTE LATEX POR CAJA DE 100 O DE VINILO SEGÚN DISPONIBILIDAD.14)1 TERMOMETRO DIGITAL15)1 ALCOHOL ANTISÉPTICO FRASCO X 300ML16)1 LINTERNA DINAMO17)1 TIJERA UNIVERSAL PARA TRAUMA18)1 CUELLO PARA INMOVILIZACIÓN CERVICAL USO ADULTO MUL 1 KIT X 3 PIEZAS19)INMOVILIZADORES EN CARTÓN PLAST BRAZO PIERNA TOBILLO20)1 VASOS PAQUETE X 25 UND21)1 ACIDO ACETIL SALICILICO TAB X 10 UND22)2 ACETAMINOFÉN 500 MG TAB X 10 UND.23)1 HIDROXIDO DE ALUMINIO TFRASCO24)2 BARRERA PLÁSTICA DE PROTECCIÓN PARA RCP TIPO LLAVER | G127: UN | H127: =IF(OR(ISNUMBER(SEARCH("ALIMENTACIÓN",B127)),ISNUMBER(SEARCH("ALIMENTACION",B127))),0,IF(AND(ISNUMBER(SEARCH("AMBIENTE",B127)),OR(ISNUMBER(SEARCH("Semilla",D127)),ISNUMBER(SEARCH("ESPECIE VEGETAL",D127)),ISNUMBER(SEARCH("Fertilizante",D127)),ISNUMBER(SEARCH("Humus",D127)),ISNUMBER(SEARCH("Micorrizas",D127)),ISNUMBER(SEARCH("Cascarilla",D127)),ISNUMBER(SEARCH("Turba",D127)))),0,IF(AND(ISNUMBER(SEARCH("ANIMALES",B127)),OR(ISNUMBER(SEARCH("ALIMENTO",D127)),ISNUMBER(SEARCH("Alimento",D127)))),0.05,IF(ISNUMBER(SEARCH("ANIMALES",B127)),0.19,IF(ISNUMBER(SEARCH("AMBIENTE",B127)),0.19,IF(ISNUMBER(SEARCH("CULTURA",B127)),0.19,IF(ISNUMBER(SEARCH("DEPORTE",B127)),0.19,IF(ISNUMBER(SEARCH("Bioseguridad",B127)),0.19,IF(ISNUMBER(SEARCH("DOTACIÓN",B127)),0.19,IF(ISNUMBER(SEARCH("SERVICIO",C127)),0.19,0.19)))))))))) -> 0.19 | I127: =+AF127 -> 387900 | J127: 342957 | K127: =+J127*H127 -> 65161.83 | L127: =+J127+K127 -> 408118.83 | M127: 301164 | N127: =+M127*H127 -> 57221.16 | O127: =+M127+N127 -> 358385.16 | P127: 306896 | Q127: =+P127*H127 -> 58310.24 | R127: =+P127+Q127 -> 365206.24 | S127: 338157 | T127: =+S127*H127 -> 64249.83 | U127: =+T127+S127 -> 402406.83 | V127: 337725 | W127: =+V127*H127 -> 64167.75 | X127: =+W127+V127 -> 401892.75 | Y127: 349048 | Z127: =+Y127*H127 -> 66319.12 | AA127: =+Z127+Y127 -> 415367.12 | AB127: 305815 | AC127: =+AB127*H127 -> 58104.85 | AD127: =+AC127+AB127 -> 363919.85 | AE127: =COUNT(L127,O127,R127,U127,X127,AA127,AD127) -> 7 | AF127: =ROUND(AVERAGE(L127,O127,R127,U127,X127,AA127,AD127),0) -> 387900 | AG127: =_xlfn.STDEV.P(L127,O127,R127,U127,X127,AA127,AD127) -> 22458.435 | AH127: =AG127/AF127 -> 0.057897486 | AI127: =IF(AE127<2,"NO",IF(AH127>0.35,"NO","SI")) -> SI
A128: =1+A127 -> 125 | B128: Bioseguridad | C128: COMPRA | D128: Brazalete Brigadista | E128: 90101603 | F128: Brazalete Brigadista, elaborado en lona tipo morral y vinilo, con banda reflectiva. Cinta elástica negra que permite graduarlo al brazo | G128: UN | H128: =IF(OR(ISNUMBER(SEARCH("ALIMENTACIÓN",B128)),ISNUMBER(SEARCH("ALIMENTACION",B128))),0,IF(AND(ISNUMBER(SEARCH("AMBIENTE",B128)),OR(ISNUMBER(SEARCH("Semilla",D128)),ISNUMBER(SEARCH("ESPECIE VEGETAL",D128)),ISNUMBER(SEARCH("Fertilizante",D128)),ISNUMBER(SEARCH("Humus",D128)),ISNUMBER(SEARCH("Micorrizas",D128)),ISNUMBER(SEARCH("Cascarilla",D128)),ISNUMBER(SEARCH("Turba",D128)))),0,IF(AND(ISNUMBER(SEARCH("ANIMALES",B128)),OR(ISNUMBER(SEARCH("ALIMENTO",D128)),ISNUMBER(SEARCH("Alimento",D128)))),0.05,IF(ISNUMBER(SEARCH("ANIMALES",B128)),0.19,IF(ISNUMBER(SEARCH("AMBIENTE",B128)),0.19,IF(ISNUMBER(SEARCH("CULTURA",B128)),0.19,IF(ISNUMBER(SEARCH("DEPORTE",B128)),0.19,IF(ISNUMBER(SEARCH("Bioseguridad",B128)),0.19,IF(ISNUMBER(SEARCH("DOTACIÓN",B128)),0.19,IF(ISNUMBER(SEARCH("SERVICIO",C128)),0.19,0.19)))))))))) -> 0.19 | I128: =+AF128 -> 3499 | J128: 3100 | K128: =+J128*H128 -> 589 | L128: =+J128+K128 -> 3689 | M128: 2868 | N128: =+M128*H128 -> 544.92 | O128: =+M128+N128 -> 3412.92 | P128: 2666 | Q128: =+P128*H128 -> 506.54 | R128: =+P128+Q128 -> 3172.54 | S128: 2858 | T128: =+S128*H128 -> 543.02 | U128: =+T128+S128 -> 3401.02 | V128: 2669 | W128: =+V128*H128 -> 507.11 | X128: =+W128+V128 -> 3176.11 | Y128: 2671 | Z128: =+Y128*H128 -> 507.49 | AA128: =+Z128+Y128 -> 3178.49 | AB128: 3752 | AC128: =+AB128*H128 -> 712.88 | AD128: =+AC128+AB128 -> 4464.88 | AE128: =COUNT(L128,O128,R128,U128,X128,AA128,AD128) -> 7 | AF128: =ROUND(AVERAGE(L128,O128,R128,U128,X128,AA128,AD128),0) -> 3499 | AG128: =_xlfn.STDEV.P(L128,O128,R128,U128,X128,AA128,AD128) -> 430.87854 | AH128: =AG128/AF128 -> 0.12314334 | AI128: =IF(AE128<2,"NO",IF(AH128>0.35,"NO","SI")) -> SI
A129: =1+A128 -> 126 | B129: Bioseguridad | C129: COMPRA | D129: CAMILLA: | E129: 90101603 | F129: CAMILLA:: Higiénica, traslucida, material polietileno de alta densidad.Tamaño: 184 cm. x 45 cm x 6.5cm Peso: 7 Kg ,Soporta carga: mínimo 130 Kg.Inmovilizador: 8 correas de nylon de 2” con velcro y cintas reflectiva. Almohadilla para sostener y proteger cabeza. Colores: Anaranjado o amarillo. | G129: UN | H129: =IF(OR(ISNUMBER(SEARCH("ALIMENTACIÓN",B129)),ISNUMBER(SEARCH("ALIMENTACION",B129))),0,IF(AND(ISNUMBER(SEARCH("AMBIENTE",B129)),OR(ISNUMBER(SEARCH("Semilla",D129)),ISNUMBER(SEARCH("ESPECIE VEGETAL",D129)),ISNUMBER(SEARCH("Fertilizante",D129)),ISNUMBER(SEARCH("Humus",D129)),ISNUMBER(SEARCH("Micorrizas",D129)),ISNUMBER(SEARCH("Cascarilla",D129)),ISNUMBER(SEARCH("Turba",D129)))),0,IF(AND(ISNUMBER(SEARCH("ANIMALES",B129)),OR(ISNUMBER(SEARCH("ALIMENTO",D129)),ISNUMBER(SEARCH("Alimento",D129)))),0.05,IF(ISNUMBER(SEARCH("ANIMALES",B129)),0.19,IF(ISNUMBER(SEARCH("AMBIENTE",B129)),0.19,IF(ISNUMBER(SEARCH("CULTURA",B129)),0.19,IF(ISNUMBER(SEARCH("DEPORTE",B129)),0.19,IF(ISNUMBER(SEARCH("Bioseguridad",B129)),0.19,IF(ISNUMBER(SEARCH("DOTACIÓN",B129)),0.19,IF(ISNUMBER(SEARCH("SERVICIO",C129)),0.19,0.19)))))))))) -> 0.19 | I129: =+AF129 -> 139999 | J129: 119043 | K129: =+J129*H129 -> 22618.17 | L129: =+J129+K129 -> 141661.17 | M129: 128004 | N129: =+M129*H129 -> 24320.76 | O129: =+M129+N129 -> 152324.76 | P129: 121878 | Q129: =+P129*H129 -> 23156.82 | R129: =+P129+Q129 -> 145034.82 | S129: 121913 | T129: =+S129*H129 -> 23163.47 | U129: =+T129+S129 -> 145076.47 | V129: 116563 | W129: =+V129*H129 -> 22146.97 | X129: =+W129+V129 -> 138709.97 | Y129: 124463 | Z129: =+Y129*H129 -> 23647.97 | AA129: =+Z129+Y129 -> 148110.97 | AB129: 91662 | AC129: =+AB129*H129 -> 17415.78 | AD129: =+AC129+AB129 -> 109077.78 | AE129: =COUNT(L129,O129,R129,U129,X129,AA129,AD129) -> 7 | AF129: =ROUND(AVERAGE(L129,O129,R129,U129,X129,AA129,AD129),0) -> 139999 | AG129: =_xlfn.STDEV.P(L129,O129,R129,U129,X129,AA129,AD129) -> 13252.573 | AH129: =AG129/AF129 -> 0.094661912 | AI129: =IF(AE129<2,"NO",IF(AH129>0.35,"NO","SI")) -> SI
A130: =1+A129 -> 127 | B130: Bioseguridad | C130: COMPRA | D130: Casco de Seguridad | E130: 90101603 | F130: Casco de Seguridad, peso de 1 kg y sus medidas son 29 cm x 28 cm x 38 cm, | G130: UN | H130: =IF(OR(ISNUMBER(SEARCH("ALIMENTACIÓN",B130)),ISNUMBER(SEARCH("ALIMENTACION",B130))),0,IF(AND(ISNUMBER(SEARCH("AMBIENTE",B130)),OR(ISNUMBER(SEARCH("Semilla",D130)),ISNUMBER(SEARCH("ESPECIE VEGETAL",D130)),ISNUMBER(SEARCH("Fertilizante",D130)),ISNUMBER(SEARCH("Humus",D130)),ISNUMBER(SEARCH("Micorrizas",D130)),ISNUMBER(SEARCH("Cascarilla",D130)),ISNUMBER(SEARCH("Turba",D130)))),0,IF(AND(ISNUMBER(SEARCH("ANIMALES",B130)),OR(ISNUMBER(SEARCH("ALIMENTO",D130)),ISNUMBER(SEARCH("Alimento",D130)))),0.05,IF(ISNUMBER(SEARCH("ANIMALES",B130)),0.19,IF(ISNUMBER(SEARCH("AMBIENTE",B130)),0.19,IF(ISNUMBER(SEARCH("CULTURA",B130)),0.19,IF(ISNUMBER(SEARCH("DEPORTE",B130)),0.19,IF(ISNUMBER(SEARCH("Bioseguridad",B130)),0.19,IF(ISNUMBER(SEARCH("DOTACIÓN",B130)),0.19,IF(ISNUMBER(SEARCH("SERVICIO",C130)),0.19,0.19)))))))))) -> 0.19 | I130: =+AF130 -> 42899 | J130: 33584 | K130: =+J130*H130 -> 6380.96 | L130: =+J130+K130 -> 39964.96 | M130: 34043 | N130: =+M130*H130 -> 6468.17 | O130: =+M130+N130 -> 40511.17 | P130: 38721 | Q130: =+P130*H130 -> 7356.99 | R130: =+P130+Q130 -> 46077.99 | S130: 36059 | T130: =+S130*H130 -> 6851.21 | U130: =+T130+S130 -> 42910.21 | V130: 34431 | W130: =+V130*H130 -> 6541.89 | X130: =+W130+V130 -> 40972.89 | Y130: 33563 | Z130: =+Y130*H130 -> 6376.97 | AA130: =+Z130+Y130 -> 39939.97 | AB130: 41947 | AC130: =+AB130*H130 -> 7969.93 | AD130: =+AC130+AB130 -> 49916.93 | AE130: =COUNT(L130,O130,R130,U130,X130,AA130,AD130) -> 7 | AF130: =ROUND(AVERAGE(L130,O130,R130,U130,X130,AA130,AD130),0) -> 42899 | AG130: =_xlfn.STDEV.P(L130,O130,R130,U130,X130,AA130,AD130) -> 3507.8183 | AH130: =AG130/AF130 -> 0.081769233 | AI130: =IF(AE130<2,"NO",IF(AH130>0.35,"NO","SI")) -> SI
A131: =1+A130 -> 128 | B131: Bioseguridad | C131: COMPRA | D131: CEMENTO | E131: 90101603 | F131: Bultos de cemento x 50 Kg | G131: UN | H131: =IF(OR(ISNUMBER(SEARCH("ALIMENTACIÓN",B131)),ISNUMBER(SEARCH("ALIMENTACION",B131))),0,IF(AND(ISNUMBER(SEARCH("AMBIENTE",B131)),OR(ISNUMBER(SEARCH("Semilla",D131)),ISNUMBER(SEARCH("ESPECIE VEGETAL",D131)),ISNUMBER(SEARCH("Fertilizante",D131)),ISNUMBER(SEARCH("Humus",D131)),ISNUMBER(SEARCH("Micorrizas",D131)),ISNUMBER(SEARCH("Cascarilla",D131)),ISNUMBER(SEARCH("Turba",D131)))),0,IF(AND(ISNUMBER(SEARCH("ANIMALES",B131)),OR(ISNUMBER(SEARCH("ALIMENTO",D131)),ISNUMBER(SEARCH("Alimento",D131)))),0.05,IF(ISNUMBER(SEARCH("ANIMALES",B131)),0.19,IF(ISNUMBER(SEARCH("AMBIENTE",B131)),0.19,IF(ISNUMBER(SEARCH("CULTURA",B131)),0.19,IF(ISNUMBER(SEARCH("DEPORTE",B131)),0.19,IF(ISNUMBER(SEARCH("Bioseguridad",B131)),0.19,IF(ISNUMBER(SEARCH("DOTACIÓN",B131)),0.19,IF(ISNUMBER(SEARCH("SERVICIO",C131)),0.19,0.19)))))))))) -> 0.19 | I131: =+AF131 -> 38249 | J131: 34072 | K131: =+J131*H131 -> 6473.68 | L131: =+J131+K131 -> 40545.68 | M131: 30117 | N131: =+M131*H131 -> 5722.23 | O131: =+M131+N131 -> 35839.23 | P131: 35251 | Q131: =+P131*H131 -> 6697.69 | R131: =+P131+Q131 -> 41948.69 | S131: 32505 | T131: =+S131*H131 -> 6175.95 | U131: =+T131+S131 -> 38680.95 | V131: 30321 | W131: =+V131*H131 -> 5760.99 | X131: =+W131+V131 -> 36081.99 | Y131: 34229 | Z131: =+Y131*H131 -> 6503.51 | AA131: =+Z131+Y131 -> 40732.51 | AB131: 28502 | AC131: =+AB131*H131 -> 5415.38 | AD131: =+AC131+AB131 -> 33917.38 | AE131: =COUNT(L131,O131,R131,U131,X131,AA131,AD131) -> 7 | AF131: =ROUND(AVERAGE(L131,O131,R131,U131,X131,AA131,AD131),0) -> 38249 | AG131: =_xlfn.STDEV.P(L131,O131,R131,U131,X131,AA131,AD131) -> 2792.4056 | AH131: =AG131/AF131 -> 0.073005976 | AI131: =IF(AE131<2,"NO",IF(AH131>0.35,"NO","SI")) -> SI
A132: =1+A131 -> 129 | B132: Bioseguridad | C132: COMPRA | D132: CHALECO REFLECTIVO | E132: 90101603 | F132: Chaleco reflectivo- color NARANJA Ecierre con velcro | G132: UN | H132: =IF(OR(ISNUMBER(SEARCH("ALIMENTACIÓN",B132)),ISNUMBER(SEARCH("ALIMENTACION",B132))),0,IF(AND(ISNUMBER(SEARCH("AMBIENTE",B132)),OR(ISNUMBER(SEARCH("Semilla",D132)),ISNUMBER(SEARCH("ESPECIE VEGETAL",D132)),ISNUMBER(SEARCH("Fertilizante",D132)),ISNUMBER(SEARCH("Humus",D132)),ISNUMBER(SEARCH("Micorrizas",D132)),ISNUMBER(SEARCH("Cascarilla",D132)),ISNUMBER(SEARCH("Turba",D132)))),0,IF(AND(ISNUMBER(SEARCH("ANIMALES",B132)),OR(ISNUMBER(SEARCH("ALIMENTO",D132)),ISNUMBER(SEARCH("Alimento",D132)))),0.05,IF(ISNUMBER(SEARCH("ANIMALES",B132)),0.19,IF(ISNUMBER(SEARCH("AMBIENTE",B132)),0.19,IF(ISNUMBER(SEARCH("CULTURA",B132)),0.19,IF(ISNUMBER(SEARCH("DEPORTE",B132)),0.19,IF(ISNUMBER(SEARCH("Bioseguridad",B132)),0.19,IF(ISNUMBER(SEARCH("DOTACIÓN",B132)),0.19,IF(ISNUMBER(SEARCH("SERVICIO",C132)),0.19,0.19)))))))))) -> 0.19 | I132: =+AF132 -> 14899 | J132: 11402 | K132: =+J132*H132 -> 2166.38 | L132: =+J132+K132 -> 13568.38 | M132: 12873 | N132: =+M132*H132 -> 2445.87 | O132: =+M132+N132 -> 15318.87 | P132: 11575 | Q132: =+P132*H132 -> 2199.25 | R132: =+P132+Q132 -> 13774.25 | S132: 11946 | T132: =+S132*H132 -> 2269.74 | U132: =+T132+S132 -> 14215.74 | V132: 11826 | W132: =+V132*H132 -> 2246.94 | X132: =+W132+V132 -> 14072.94 | Y132: 12386 | Z132: =+Y132*H132 -> 2353.34 | AA132: =+Z132+Y132 -> 14739.34 | AB132: 15636 | AC132: =+AB132*H132 -> 2970.84 | AD132: =+AC132+AB132 -> 18606.84 | AE132: =COUNT(L132,O132,R132,U132,X132,AA132,AD132) -> 7 | AF132: =ROUND(AVERAGE(L132,O132,R132,U132,X132,AA132,AD132),0) -> 14899 | AG132: =_xlfn.STDEV.P(L132,O132,R132,U132,X132,AA132,AD132) -> 1609.5558 | AH132: =AG132/AF132 -> 0.10803113 | AI132: =IF(AE132<2,"NO",IF(AH132>0.35,"NO","SI")) -> SI
A133: =1+A132 -> 130 | B133: Bioseguridad | C133: COMPRA | D133: Delantal | E133: 46181501 | F133: Delantal en Tela Antifluido Cuerpo Entero Unisex | G133: UN | H133: =IF(OR(ISNUMBER(SEARCH("ALIMENTACIÓN",B133)),ISNUMBER(SEARCH("ALIMENTACION",B133))),0,IF(AND(ISNUMBER(SEARCH("AMBIENTE",B133)),OR(ISNUMBER(SEARCH("Semilla",D133)),ISNUMBER(SEARCH("ESPECIE VEGETAL",D133)),ISNUMBER(SEARCH("Fertilizante",D133)),ISNUMBER(SEARCH("Humus",D133)),ISNUMBER(SEARCH("Micorrizas",D133)),ISNUMBER(SEARCH("Cascarilla",D133)),ISNUMBER(SEARCH("Turba",D133)))),0,IF(AND(ISNUMBER(SEARCH("ANIMALES",B133)),OR(ISNUMBER(SEARCH("ALIMENTO",D133)),ISNUMBER(SEARCH("Alimento",D133)))),0.05,IF(ISNUMBER(SEARCH("ANIMALES",B133)),0.19,IF(ISNUMBER(SEARCH("AMBIENTE",B133)),0.19,IF(ISNUMBER(SEARCH("CULTURA",B133)),0.19,IF(ISNUMBER(SEARCH("DEPORTE",B133)),0.19,IF(ISNUMBER(SEARCH("Bioseguridad",B133)),0.19,IF(ISNUMBER(SEARCH("DOTACIÓN",B133)),0.19,IF(ISNUMBER(SEARCH("SERVICIO",C133)),0.19,0.19)))))))))) -> 0.19 | I133: =+AF133 -> 25900 | J133: 23265 | K133: =+J133*H133 -> 4420.35 | L133: =+J133+K133 -> 27685.35 | M133: 23758 | N133: =+M133*H133 -> 4514.02 | O133: =+M133+N133 -> 28272.02 | P133: 22241 | Q133: =+P133*H133 -> 4225.79 | R133: =+P133+Q133 -> 26466.79 | S133: 20814 | T133: =+S133*H133 -> 3954.66 | U133: =+T133+S133 -> 24768.66 | V133: 20544 | W133: =+V133*H133 -> 3903.36 | X133: =+W133+V133 -> 24447.36 | Y133: 22160 | Z133: =+Y133*H133 -> 4210.4 | AA133: =+Z133+Y133 -> 26370.4 | AB133: 19568 | AC133: =+AB133*H133 -> 3717.92 | AD133: =+AC133+AB133 -> 23285.92 | AE133: =COUNT(L133,O133,R133,U133,X133,AA133,AD133) -> 7 | AF133: =ROUND(AVERAGE(L133,O133,R133,U133,X133,AA133,AD133),0) -> 25900 | AG133: =_xlfn.STDEV.P(L133,O133,R133,U133,X133,AA133,AD133) -> 1672.4655 | AH133: =AG133/AF133 -> 0.064573958 | AI133: =IF(AE133<2,"NO",IF(AH133>0.35,"NO","SI")) -> SI
A134: =1+A133 -> 131 | B134: Bioseguridad | C134: COMPRA | D134: Extintor multipropósitos | E134: 90101603 | F134: Extintor multipropósitos de 10 Lbs polvo ABC | G134: UN | H134: =IF(OR(ISNUMBER(SEARCH("ALIMENTACIÓN",B134)),ISNUMBER(SEARCH("ALIMENTACION",B134))),0,IF(AND(ISNUMBER(SEARCH("AMBIENTE",B134)),OR(ISNUMBER(SEARCH("Semilla",D134)),ISNUMBER(SEARCH("ESPECIE VEGETAL",D134)),ISNUMBER(SEARCH("Fertilizante",D134)),ISNUMBER(SEARCH("Humus",D134)),ISNUMBER(SEARCH("Micorrizas",D134)),ISNUMBER(SEARCH("Cascarilla",D134)),ISNUMBER(SEARCH("Turba",D134)))),0,IF(AND(ISNUMBER(SEARCH("ANIMALES",B134)),OR(ISNUMBER(SEARCH("ALIMENTO",D134)),ISNUMBER(SEARCH("Alimento",D134)))),0.05,IF(ISNUMBER(SEARCH("ANIMALES",B134)),0.19,IF(ISNUMBER(SEARCH("AMBIENTE",B134)),0.19,IF(ISNUMBER(SEARCH("CULTURA",B134)),0.19,IF(ISNUMBER(SEARCH("DEPORTE",B134)),0.19,IF(ISNUMBER(SEARCH("Bioseguridad",B134)),0.19,IF(ISNUMBER(SEARCH("DOTACIÓN",B134)),0.19,IF(ISNUMBER(SEARCH("SERVICIO",C134)),0.19,0.19)))))))))) -> 0.19 | I134: =+AF134 -> 62949 | J134: 49922 | K134: =+J134*H134 -> 9485.18 | L134: =+J134+K134 -> 59407.18 | M134: 53047 | N134: =+M134*H134 -> 10078.93 | O134: =+M134+N134 -> 63125.93 | P134: 52392 | Q134: =+P134*H134 -> 9954.48 | R134: =+P134+Q134 -> 62346.48 | S134: 51383 | T134: =+S134*H134 -> 9762.77 | U134: =+T134+S134 -> 61145.77 | V134: 51837 | W134: =+V134*H134 -> 9849.03 | X134: =+W134+V134 -> 61686.03 | Y134: 50987 | Z134: =+Y134*H134 -> 9687.53 | AA134: =+Z134+Y134 -> 60674.53 | AB134: 60723 | AC134: =+AB134*H134 -> 11537.37 | AD134: =+AC134+AB134 -> 72260.37 | AE134: =COUNT(L134,O134,R134,U134,X134,AA134,AD134) -> 7 | AF134: =ROUND(AVERAGE(L134,O134,R134,U134,X134,AA134,AD134),0) -> 62949 | AG134: =_xlfn.STDEV.P(L134,O134,R134,U134,X134,AA134,AD134) -> 3958.0006 | AH134: =AG134/AF134 -> 0.062876305 | AI134: =IF(AE134<2,"NO",IF(AH134>0.35,"NO","SI")) -> SI
A135: =1+A134 -> 132 | B135: Bioseguridad | C135: COMPRA | D135: GAFAS DE SEGURIDAD | E135: 46181804 | F135: Gafas Antiempañante Lente Claro Protección frontal y lateral Marco y patillas flexibles de nylon Dupont Lente de policarbonato 100%, Patilla telescópica ajustable a 4 posiciones de largo Brazo extensible, Filtros UV, UVA, UVB Anti-rayones (HC), Talla Unica, lente transparente, marco transparente, banda elastica ajustable | G135: UN | H135: =IF(OR(ISNUMBER(SEARCH("ALIMENTACIÓN",B135)),ISNUMBER(SEARCH("ALIMENTACION",B135))),0,IF(AND(ISNUMBER(SEARCH("AMBIENTE",B135)),OR(ISNUMBER(SEARCH("Semilla",D135)),ISNUMBER(SEARCH("ESPECIE VEGETAL",D135)),ISNUMBER(SEARCH("Fertilizante",D135)),ISNUMBER(SEARCH("Humus",D135)),ISNUMBER(SEARCH("Micorrizas",D135)),ISNUMBER(SEARCH("Cascarilla",D135)),ISNUMBER(SEARCH("Turba",D135)))),0,IF(AND(ISNUMBER(SEARCH("ANIMALES",B135)),OR(ISNUMBER(SEARCH("ALIMENTO",D135)),ISNUMBER(SEARCH("Alimento",D135)))),0.05,IF(ISNUMBER(SEARCH("ANIMALES",B135)),0.19,IF(ISNUMBER(SEARCH("AMBIENTE",B135)),0.19,IF(ISNUMBER(SEARCH("CULTURA",B135)),0.19,IF(ISNUMBER(SEARCH("DEPORTE",B135)),0.19,IF(ISNUMBER(SEARCH("Bioseguridad",B135)),0.19,IF(ISNUMBER(SEARCH("DOTACIÓN",B135)),0.19,IF(ISNUMBER(SEARCH("SERVICIO",C135)),0.19,0.19)))))))))) -> 0.19 | I135: =+AF135 -> 14899 | J135: 13432 | K135: =+J135*H135 -> 2552.08 | L135: =+J135+K135 -> 15984.08 | M135: 12609 | N135: =+M135*H135 -> 2395.71 | O135: =+M135+N135 -> 15004.71 | P135: 13438 | Q135: =+P135*H135 -> 2553.22 | R135: =+P135+Q135 -> 15991.22 | S135: 12239 | T135: =+S135*H135 -> 2325.41 | U135: =+T135+S135 -> 14564.41 | V135: 12385 | W135: =+V135*H135 -> 2353.15 | X135: =+W135+V135 -> 14738.15 | Y135: 13561 | Z135: =+Y135*H135 -> 2576.59 | AA135: =+Z135+Y135 -> 16137.59 | AB135: 9979 | AC135: =+AB135*H135 -> 1896.01 | AD135: =+AC135+AB135 -> 11875.01 | AE135: =COUNT(L135,O135,R135,U135,X135,AA135,AD135) -> 7 | AF135: =ROUND(AVERAGE(L135,O135,R135,U135,X135,AA135,AD135),0) -> 14899 | AG135: =_xlfn.STDEV.P(L135,O135,R135,U135,X135,AA135,AD135) -> 1373.1071 | AH135: =AG135/AF135 -> 0.092161021 | AI135: =IF(AE135<2,"NO",IF(AH135>0.35,"NO","SI")) -> SI
A136: =1+A135 -> 133 | B136: Bioseguridad | C136: COMPRA | D136: GUANTES DE NITRILO AJUSTABLE | E136: 46181504 | F136: Caja de Guantes de Nitrilo x 100 unidades ajustables desechables, Calibre 3 o superior, antialergico multiusos resistente a solventes. | G136: Caja X 100 UND | H136: =IF(OR(ISNUMBER(SEARCH("ALIMENTACIÓN",B136)),ISNUMBER(SEARCH("ALIMENTACION",B136))),0,IF(AND(ISNUMBER(SEARCH("AMBIENTE",B136)),OR(ISNUMBER(SEARCH("Semilla",D136)),ISNUMBER(SEARCH("ESPECIE VEGETAL",D136)),ISNUMBER(SEARCH("Fertilizante",D136)),ISNUMBER(SEARCH("Humus",D136)),ISNUMBER(SEARCH("Micorrizas",D136)),ISNUMBER(SEARCH("Cascarilla",D136)),ISNUMBER(SEARCH("Turba",D136)))),0,IF(AND(ISNUMBER(SEARCH("ANIMALES",B136)),OR(ISNUMBER(SEARCH("ALIMENTO",D136)),ISNUMBER(SEARCH("Alimento",D136)))),0.05,IF(ISNUMBER(SEARCH("ANIMALES",B136)),0.19,IF(ISNUMBER(SEARCH("AMBIENTE",B136)),0.19,IF(ISNUMBER(SEARCH("CULTURA",B136)),0.19,IF(ISNUMBER(SEARCH("DEPORTE",B136)),0.19,IF(ISNUMBER(SEARCH("Bioseguridad",B136)),0.19,IF(ISNUMBER(SEARCH("DOTACIÓN",B136)),0.19,IF(ISNUMBER(SEARCH("SERVICIO",C136)),0.19,0.19)))))))))) -> 0.19 | I136: =+AF136 -> 33900 | J136: 28682 | K136: =+J136*H136 -> 5449.58 | L136: =+J136+K136 -> 34131.58 | M136: 28389 | N136: =+M136*H136 -> 5393.91 | O136: =+M136+N136 -> 33782.91 | P136: 27149 | Q136: =+P136*H136 -> 5158.31 | R136: =+P136+Q136 -> 32307.31 | S136: 30772 | T136: =+S136*H136 -> 5846.68 | U136: =+T136+S136 -> 36618.68 | V136: 27689 | W136: =+V136*H136 -> 5260.91 | X136: =+W136+V136 -> 32949.91 | Y136: 26618 | Z136: =+Y136*H136 -> 5057.42 | AA136: =+Z136+Y136 -> 31675.42 | AB136: 30110 | AC136: =+AB136*H136 -> 5720.9 | AD136: =+AC136+AB136 -> 35830.9 | AE136: =COUNT(L136,O136,R136,U136,X136,AA136,AD136) -> 7 | AF136: =ROUND(AVERAGE(L136,O136,R136,U136,X136,AA136,AD136),0) -> 33900 | AG136: =_xlfn.STDEV.P(L136,O136,R136,U136,X136,AA136,AD136) -> 1672.2535 | AH136: =AG136/AF136 -> 0.049329012 | AI136: =IF(AE136<2,"NO",IF(AH136>0.35,"NO","SI")) -> SI
A137: =1+A136 -> 134 | B137: Bioseguridad | C137: COMPRA | D137: JABON LÍQUIDO | E137: 53131608 | F137: Detergente liquido multiusos x garrafa (20 litros) | G137: UN | H137: =IF(OR(ISNUMBER(SEARCH("ALIMENTACIÓN",B137)),ISNUMBER(SEARCH("ALIMENTACION",B137))),0,IF(AND(ISNUMBER(SEARCH("AMBIENTE",B137)),OR(ISNUMBER(SEARCH("Semilla",D137)),ISNUMBER(SEARCH("ESPECIE VEGETAL",D137)),ISNUMBER(SEARCH("Fertilizante",D137)),ISNUMBER(SEARCH("Humus",D137)),ISNUMBER(SEARCH("Micorrizas",D137)),ISNUMBER(SEARCH("Cascarilla",D137)),ISNUMBER(SEARCH("Turba",D137)))),0,IF(AND(ISNUMBER(SEARCH("ANIMALES",B137)),OR(ISNUMBER(SEARCH("ALIMENTO",D137)),ISNUMBER(SEARCH("Alimento",D137)))),0.05,IF(ISNUMBER(SEARCH("ANIMALES",B137)),0.19,IF(ISNUMBER(SEARCH("AMBIENTE",B137)),0.19,IF(ISNUMBER(SEARCH("CULTURA",B137)),0.19,IF(ISNUMBER(SEARCH("DEPORTE",B137)),0.19,IF(ISNUMBER(SEARCH("Bioseguridad",B137)),0.19,IF(ISNUMBER(SEARCH("DOTACIÓN",B137)),0.19,IF(ISNUMBER(SEARCH("SERVICIO",C137)),0.19,0.19)))))))))) -> 0.19 | I137: =+AF137 -> 132000 | J137: 114435 | K137: =+J137*H137 -> 21742.65 | L137: =+J137+K137 -> 136177.65 | M137: 112575 | N137: =+M137*H137 -> 21389.25 | O137: =+M137+N137 -> 133964.25 | P137: 109947 | Q137: =+P137*H137 -> 20889.93 | R137: =+P137+Q137 -> 130836.93 | S137: 109826 | T137: =+S137*H137 -> 20866.94 | U137: =+T137+S137 -> 130692.94 | V137: 110131 | W137: =+V137*H137 -> 20924.89 | X137: =+W137+V137 -> 131055.89 | Y137: 107272 | Z137: =+Y137*H137 -> 20381.68 | AA137: =+Z137+Y137 -> 127653.68 | AB137: 112282 | AC137: =+AB137*H137 -> 21333.58 | AD137: =+AC137+AB137 -> 133615.58 | AE137: =COUNT(L137,O137,R137,U137,X137,AA137,AD137) -> 7 | AF137: =ROUND(AVERAGE(L137,O137,R137,U137,X137,AA137,AD137),0) -> 132000 | AG137: =_xlfn.STDEV.P(L137,O137,R137,U137,X137,AA137,AD137) -> 2584.6833 | AH137: =AG137/AF137 -> 0.019580934 | AI137: =IF(AE137<2,"NO",IF(AH137>0.35,"NO","SI")) -> SI
A138: =1+A137 -> 135 | B138: Bioseguridad | C138: COMPRA | D138: Linterna Manual Con Dinamo | E138: 90101603 | F138: Linterna Manual Con Dinamo Sin Pilas Ni Cables, luz: Blanco Tipo de alimentación: dínamo. Tipo de luz: led Potencia: 500lm. Alcance de proyección: 15m. Es recargable. Material: plástico | G138: UN | H138: =IF(OR(ISNUMBER(SEARCH("ALIMENTACIÓN",B138)),ISNUMBER(SEARCH("ALIMENTACION",B138))),0,IF(AND(ISNUMBER(SEARCH("AMBIENTE",B138)),OR(ISNUMBER(SEARCH("Semilla",D138)),ISNUMBER(SEARCH("ESPECIE VEGETAL",D138)),ISNUMBER(SEARCH("Fertilizante",D138)),ISNUMBER(SEARCH("Humus",D138)),ISNUMBER(SEARCH("Micorrizas",D138)),ISNUMBER(SEARCH("Cascarilla",D138)),ISNUMBER(SEARCH("Turba",D138)))),0,IF(AND(ISNUMBER(SEARCH("ANIMALES",B138)),OR(ISNUMBER(SEARCH("ALIMENTO",D138)),ISNUMBER(SEARCH("Alimento",D138)))),0.05,IF(ISNUMBER(SEARCH("ANIMALES",B138)),0.19,IF(ISNUMBER(SEARCH("AMBIENTE",B138)),0.19,IF(ISNUMBER(SEARCH("CULTURA",B138)),0.19,IF(ISNUMBER(SEARCH("DEPORTE",B138)),0.19,IF(ISNUMBER(SEARCH("Bioseguridad",B138)),0.19,IF(ISNUMBER(SEARCH("DOTACIÓN",B138)),0.19,IF(ISNUMBER(SEARCH("SERVICIO",C138)),0.19,0.19)))))))))) -> 0.19 | I138: =+AF138 -> 34500 | J138: 29289 | K138: =+J138*H138 -> 5564.91 | L138: =+J138+K138 -> 34853.91 | M138: 26883 | N138: =+M138*H138 -> 5107.77 | O138: =+M138+N138 -> 31990.77 | P138: 26668 | Q138: =+P138*H138 -> 5066.92 | R138: =+P138+Q138 -> 31734.92 | S138: 26829 | T138: =+S138*H138 -> 5097.51 | U138: =+T138+S138 -> 31926.51 | V138: 30000 | W138: =+V138*H138 -> 5700 | X138: =+W138+V138 -> 35700 | Y138: 31183 | Z138: =+Y138*H138 -> 5924.77 | AA138: =+Z138+Y138 -> 37107.77 | AB138: 32087 | AC138: =+AB138*H138 -> 6096.53 | AD138: =+AC138+AB138 -> 38183.53 | AE138: =COUNT(L138,O138,R138,U138,X138,AA138,AD138) -> 7 | AF138: =ROUND(AVERAGE(L138,O138,R138,U138,X138,AA138,AD138),0) -> 34500 | AG138: =_xlfn.STDEV.P(L138,O138,R138,U138,X138,AA138,AD138) -> 2463.9939 | AH138: =AG138/AF138 -> 0.071420114 | AI138: =IF(AE138<2,"NO",IF(AH138>0.35,"NO","SI")) -> SI
... A790: =1+A789 -> 787 | B790: TALENTO HUMANO | C790: SERVICIO | D790: Técnico o Tecnólogo | E790: 80111600 | F790: Un (1) Técnico y/o Tecnólogo. Con experiencia laboral mínima de doce (12) meses y en por lo menos un proyecto en actividades técnico-administrativas y/o otras actividades relacionadas con los componentes técnicos y/o administrativos del proyecto. | G790: Mes | H790: =IF(OR(ISNUMBER(SEARCH("ALIMENTACIÓN",B790)),ISNUMBER(SEARCH("ALIMENTACION",B790))),0,IF(AND(ISNUMBER(SEARCH("AMBIENTE",B790)),OR(ISNUMBER(SEARCH("Semilla",D790)),ISNUMBER(SEARCH("ESPECIE VEGETAL",D790)),ISNUMBER(SEARCH("Fertilizante",D790)),ISNUMBER(SEARCH("Humus",D790)),ISNUMBER(SEARCH("Micorrizas",D790)),ISNUMBER(SEARCH("Cascarilla",D790)),ISNUMBER(SEARCH("Turba",D790)))),0,IF(AND(ISNUMBER(SEARCH("ANIMALES",B790)),OR(ISNUMBER(SEARCH("ALIMENTO",D790)),ISNUMBER(SEARCH("Alimento",D790)))),0.05,IF(ISNUMBER(SEARCH("ANIMALES",B790)),0.19,IF(ISNUMBER(SEARCH("AMBIENTE",B790)),0.19,IF(ISNUMBER(SEARCH("CULTURA",B790)),0.19,IF(ISNUMBER(SEARCH("DEPORTE",B790)),0.19,IF(ISNUMBER(SEARCH("Bioseguridad",B790)),0.19,IF(ISNUMBER(SEARCH("DOTACIÓN",B790)),0.19,IF(ISNUMBER(SEARCH("SERVICIO",C790)),0.19,0.19)))))))))) -> 0.19 | I790: =+AF790 -> 3525999 | J790: 2675349 | K790: =+J790*H790 -> 508316.31 | L790: =+J790+K790 -> 3183665.3 | M790: 2989514 | N790: =+M790*H790 -> 568007.66 | O790: =+M790+N790 -> 3557521.7 | P790: 2685328 | Q790: =+P790*H790 -> 510212.32 | R790: =+P790+Q790 -> 3195540.3 | S790: 2752732 | T790: =+S790*H790 -> 523019.08 | U790: =+T790+S790 -> 3275751.1 | V790: 3032288 | W790: =+V790*H790 -> 576134.72 | X790: =+W790+V790 -> 3608422.7 | Y790: 3017824 | Z790: =+Y790*H790 -> 573386.56 | AA790: =+Z790+Y790 -> 3591210.6 | AB790: 3588138 | AC790: =+AB790*H790 -> 681746.22 | AD790: =+AC790+AB790 -> 4269884.2 | AE790: =COUNT(L790,O790,R790,U790,X790,AA790,AD790) -> 7 | AF790: =ROUND(AVERAGE(L790,O790,R790,U790,X790,AA790,AD790),0) -> 3525999 | AG790: =_xlfn.STDEV.P(L790,O790,R790,U790,X790,AA790,AD790) -> 349371.77 | AH790: =AG790/AF790 -> 0.099084478 | AI790: =IF(AE790<2,"NO",IF(AH790>0.35,"NO","SI")) -> SI

Sheet HOJA DE TRABAJO
A1: FONDO DE DESARROLLO LOCAL DE RAFAEL URIBE URIBE
A2: LISTADO DE ÍTEMS PARA LA FORMULACIÓN DE PROYECTOS VIGENCIA 2026
A3: # | B3: CATEGORIA | C3: TIPO | D3: ÍTEM | E3: CODIGO UNSPSC | F3: DESCRIPCIÓN | G3: UNIDAD DE MEDIDA | H3: IMPUESTO A CARGO | I3: VALOR DE REFERENCIA | J3: PROCESO CONTRTACIÓN BOGOTANEIDAD | K3: PROCESO CONTRTACIÓN 2
A4: 1 | B4: ALIMENTACIÓN | C4: COMPRA | D4: ALMUERZO | E4: 90101603 | F4: Almuerzos: (PROTEINA CARNE CERDO Y/O RES Y/O POLLO) BANDEJA + SOPA + JUGO + POSTRE (ALIMENTO PROTEICO 120 GRS, ALIMENTO CEREAL 40 GR EN CRUDO Ò 100 GR COCIDO, TUBERCULO 110 GR, VERDURA FRIA, CRUDA O CALIENTE 100 GR, LEGUMINOSAS 80GR, SOPA Ò CREMA 250 CC, JUGO CON FRUTA DE COSECHA 250 CC, POSTRE DE 30 A 50 GR | G4: UN | H4: =IF(OR(ISNUMBER(SEARCH("ALIMENTACIÓN",B4)),ISNUMBER(SEARCH("ALIMENTACION",B4))),0,IF(AND(ISNUMBER(SEARCH("AMBIENTE",B4)),OR(ISNUMBER(SEARCH("Semilla",D4)),ISNUMBER(SEARCH("ESPECIE VEGETAL",D4)),ISNUMBER(SEARCH("Fertilizante",D4)),ISNUMBER(SEARCH("Humus",D4)),ISNUMBER(SEARCH("Micorrizas",D4)),ISNUMBER(SEARCH("Cascarilla",D4)),ISNUMBER(SEARCH("Turba",D4)))),0,IF(AND(ISNUMBER(SEARCH("ANIMALES",B4)),OR(ISNUMBER(SEARCH("ALIMENTO",D4)),ISNUMBER(SEARCH("Alimento",D4)))),0.05,IF(ISNUMBER(SEARCH("ANIMALES",B4)),0.19,IF(ISNUMBER(SEARCH("AMBIENTE",B4)),0.19,IF(ISNUMBER(SEARCH("CULTURA",B4)),0.19,IF(ISNUMBER(SEARCH("DEPORTE",B4)),0.19,IF(ISNUMBER(SEARCH("Bioseguridad",B4)),0.19,IF(ISNUMBER(SEARCH("DOTACIÓN",B4)),0.19,IF(ISNUMBER(SEARCH("SERVICIO",C4)),0.19,0.19)))))))))) -> 0 | I4: =+'CANASTA DE PRECIOS'!I4 -> 31050
