Workbook
Name \0: #REF!
Name \0: #REF!
Name \0: #REF!
Name \0: #REF!
Name \0: #REF!
Name \00: #REF!
Name \00: #REF!
Name \00: #REF!
Name \00: #REF!
Name \00: #REF!
Name \a: #REF!
Name \a: #REF!
Name \a: #REF!
Name \a: #REF!
Name \a: #REF!
Name \AA: #REF!
Name \AA: #REF!
Name \AA: #REF!
Name \AA: #REF!
Name \AA: #REF!
Name \b: #REF!
Name \b: #REF!
Name \b: #REF!
Name \b: #REF!
Name \b: #REF!
Name \bb: #REF!
Name \bb: #REF!
Name \bb: #REF!
Name \bb: #REF!
Name \bb: #REF!
Name \E: #REF!
Name \E: #REF!
Name \E: #REF!
Name \E: #REF!
Name \E: #REF!
Name \EE: #REF!
Name \EE: #REF!
Name \EE: #REF!
Name \EE: #REF!
Name \EE: #REF!
Name \f: #REF!
Name \G: #REF!
Name \G: #REF!
Name \G: #REF!
Name \G: #REF!
Name \G: #REF!
Name \G: #REF!
Name \k: #REF!
Name \k: #REF!
Name \k: #REF!
Name \k: #REF!
Name \k: #REF!
Name \k: #REF!
Name \l: #REF!
Name \l: #REF!
Name \l: #REF!
Name \l: #REF!
Name \l: #REF!
Name \l: #REF!
Name \M: #REF!

Sheet PRESUPUESTO PRIMER PROCESO
B1: Formulario 1 - Propuesta económica - Documento tipo de mínima cuantía de obra pública de infraestructura social
B2: Versión: 1 de 21 de agosto de 2025
C5: FORMULARIO 1
C6: PRESUPUESTO OFICIAL
C7: [La Entidad puede utilizar este formulario de detalle del presupuesto oficial para determinar las condiciones bajo las cuales los Proponentes analizarán y presentarán su propuesta económica de forma detallada, sin perjuicio que la Entidad pueda modificarlo o establecer la presentación de la oferta económica con un formulario distinto al indicado.] [El presente Formulario aplica para los Procesos de Contratación que tengan como forma de pago precios unitarios. Tratándose de otras modalidades de pago, la Entidad debe ajustarlo cuando corresponde a: precio global, llave en mano, administración delegada, reembolso de gastos o cualquier otra forma de pago.]
C9: Adicionalmente, cuando el proceso de contratación es estructurado por precios unitarios, la Entidad debe aplicar las notas 1, 2 y 3 del presente formulario y las casillas de "Descripción", "Porcentaje" de la Administración, Imprevisto, Utilidad y total A.I.U. resaltadas en color amarillo. Tratándose de otras modalidades de precio, la Entidad puede o no configurar los mismos aspectos.
C11: Nº | D11: ÍTEM DE PAGO | E11: ESPECIFICACIONES | G11: ADECUACION Y MANTENIMIENTO DE LA INFRAESTRUCTURA DEPORTIVA DEL ESTADIO SANTIAGO DE LAS ATALAYAS DEL MUNICIPIO DE YOPAL - DEPARTAMENTO DE CASANARE. | H11: UND. | I11: CANTIDAD | J11: VALOR UNITARIO | K11: VALOR TOTAL
E12: GENERAL | F12: PARTICULAR
C13: 1. | D13: ADECUACIONES AUDITORIO
C14: 1 | D14: AUDITORIO
C15: 1.1 | D15: 1 | E15: 7510 | G15: Cielo raso en lamina PVC 10 mm (incluye cornisa) | H15: M2 | I15: 275 | J15: =+'APU 1.1'!O66 -> 171280 | K15: =ROUND(I15*J15,0) -> 47102000
C16: 1.2 | D16: 2 | E16: COTIZACION | G16: Aire Piso Techo Midea On/ Off, 60.000 Btu = 5 Toneladas De Refrigeracion Suministro E Instalacion | H16: UND. | I16: 6 | J16: =+'APU 1.2'!O70 -> 22604687 | K16: =ROUND(I16*J16,0) -> 135628122
C17: 1.3 | D17: 3 | E17: 7.636 | G17: Luminaria tipo panel led 60x60 cm, 110 V. Incluye: cable encauchetado 3x16 AWG, clavija de caucho y elementos de fijación. Suministro e instalacion | H17: UND. | I17: 15 | J17: =+'APU 1.3'!O69 -> 194239 | K17: =ROUND(I17*J17,0) -> 2913585
C18: 1.4 | D18: 4 | E18: 7.635 | G18: Luminaria de emergencia tipo led 110V, 2.4W, autonomia minima 90 minutos. Incluye: cable encauchetado 3x16 AWG, clavija de caucho y elementos de fijación. Suministro e instalacion | H18: UND. | I18: 6 | J18: =+'APU 1,4'!O69 -> 183024 | K18: =ROUND(I18*J18,0) -> 1098144
C19: 1.5 | D19: 5 | E19: 6.689 | G19: Ventana aluminio proyectante con vidrio crudo 5mm. Suministro e instal | H19: M2 | I19: =4*0.5*0.5 -> 1 | J19: =+'APU1,5'!O69 -> 284853 | K19: =ROUND(I19*J19,0) -> 284853
C20: 1.6 | D20: 6 | E20: 6.357 | G20: Vidrio incoloro 4 mm. Suministro e instal. | H20: M2 | I20: =(0.8*0.5*2)+(1*0.9*20) -> 18.8 | J20: =+'APU 1,6'!O69 -> 93125 | K20: =ROUND(I20*J20,0) -> 1750750
C21: SUB TOTAL ADECUACION AUDITORIO | K21: =+SUM(K15:K20) -> 188777454
C22: SISTEMA ELECTRICO
C23: 1.7 | D23: 7 | E23: 848 | G23: Replanteo en baja tensión | H23: km | I23: 0.11 | J23: =+'APU 1,7'!O69 -> 1022943 | K23: =ROUND(I23*J23,0) -> 112524
C24: 1.8 | D24: 8 | E24: 7.613 | G24: Cortacircuito termomagnético tripolar de 15-60A, 120/240V, enchufable. Suministro e instalación. | H24: und | I24: 8 | J24: =+'APU 1,8'!O69 -> 218255 | K24: =ROUND(I24*J24,0) -> 1746040
C25: 1.9 | D25: 9 | E25: 7.585 | G25: Canalización ducto conduit PVC DB tipo pesado 2 x 2", zona blanda. Incluye cinta de prevención y arena lavada de río. | H25: m | I25: 98.6 | J25: =+'APU1.9'!O69 -> 54478 | K25: =ROUND(I25*J25,0) -> 5371531
C26: 1.10 | D26: 10 | E26: 1.921 | G26: Salida para interruptor doble, linea decorativa und 134,845.00 incluye: tubo PVC tipo pesado 1/2", cable de cobre, caja plastica 5800, terminales PVC y readecuación de muro | H26: und | I26: 4 | J26: =+'APU 1.10'!$O$69 -> 180692 | K26: =ROUND(I26*J26,0) -> 722768
C27: 1.11 | D27: 11 | E27: 7.64 | G27: Salida para tomacorriente doble con polo a tierra, NEMA 5 15R, incluye: tubo EMT tipo pesado 1/2", cable de cobre aislado THWN 2xNº 12 + 1x12T AWG, caja metálica 5800. Suministro e instalación. | H27: und | I27: 4 | J27: =+'APU 1.11'!O69 -> 381623 | K27: =ROUND(I27*J27,0) -> 1526492
C28: 1.12 | D28: 12 | E28: 7.639 | G28: Salida para iluminación, en tubería metálica tipo conduit EMT 1/2". Incluye: caja metálica semipesado 5800, accesorios de montaje, cable de cobre 3x12 AWG-THHN, Toma monofásica doble con polo a tierra 15A con tapa. | H28: und | I28: 20 | J28: =+'APU1.12'!O69 -> 336446 | K28: =ROUND(I28*J28,0) -> 6728920
C29: 1.13 | D29: 13 | E29: 7.636 | G29: Luminaria tipo panel led 60x60 cm, 110 V. Incluye: cable encauchetado 3x16 AWG, clavija de caucho y elementos de fijación. Suministro e instalación. | H29: und | I29: 20 | J29: =+'APU1.13'!O69 -> 194239 | K29: =ROUND(I29*J29,0) -> 3884780
C30: 1.14 | D30: 14 | E30: 2.26 | G30: Caja de inspección CS-274. | H30: und | I30: 6 | J30: =+'APU 1.14'!O69 -> 1478168 | K30: =ROUND(I30*J30,0) -> 8869008
C31: 1.15 | D31: 15 | E31: 7.571 | G31: Acometida en conductor de aluminio S8000 4x2 AWG THW 600 V 75° +1x8T cobre desnudo AWG. Suministro e instalacion | H31: m | I31: 160 | J31: =+'APU1.15'!O69 -> 52125 | K31: =ROUND(I31*J31,0) -> 8340000
C32: 1.16 | D32: 16 | E32: 7.657 | G32: Varilla de puesta a tierra Copperweld 5/8"x2.4 m para bajantes del sistema de apantallamiento. Incluye: suelo artificial, soldadura exotérmica, cable de cobre desnudo AWG Nº 2. Suministro e instalacion | H32: und | I32: 2 | J32: =+'APU 1.16'!O69 -> 997655 | K32: =ROUND(I32*J32,0) -> 1995310
C33: SUBTOTAL SISTEMA ELECTRICO | K33: =SUM(K23:K32) -> 39297373
C34: TOTAL AUDITORIO | K34: =+K33+K21 -> 228074827
C35: 2 | D35: ADECUACIONES CAMERINOS (ZONA DE ARBITROS)
C37: 2.1 | D37: 1 | E37: 7.51 | G37: Cielo raso en lamina PVC 10 mm (incluye cornisa) | H37: m2 | I37: 25 | J37: =+'APU 2.1'!O69 -> 171280 | K37: =+I37*J37 -> 4282000
C38: 2.2 | D38: 2 | E38: COTIZACION | G38: Grama sintetica tipo monofilamentada 20 mm, tejido tufting, peso 840gr/m2, trafico pesado, sistema de instalación pegado, tela base Polipropileno con protección UV, estructura C-shape. | H38: m2 | I38: 25 | J38: =+'APU 2.2'!O70 -> 210032 | K38: =+I38*J38 -> 5250800
C39: 2.3 | D39: 3 | E39: COTIZACION | G39: Pegante PL285, presentación en cuñetes 4.5 Galones | H39: und | I39: 2 | J39: =+'APU 2.3'!O70 -> 1406665 | K39: =+I39*J39 -> 2813330
C40: 2.4 | D40: 4 | E40: 6.337 | G40: Pintura vinilo interior sobre pañete 3 manos | H40: m2 | I40: 28 | J40: =+'APU 2,4'!O69 -> 25591 | K40: =+I40*J40 -> 716548
C41: SUBTOTAL CAMERINO ARBITROS | K41: =+K37+K38+K39+K40 -> 13062678
C42: DUCHAS CAMERINO ARBITROS
C43: 2.5 | D43: 5 | G43: Ducha conjunto individual tipo cromada con registro full paso de 1/2" | H43: und | I43: 3 | J43: =+'APU 2.5'!O69 -> 162963 | K43: =+I43*J43 -> 488889
C44: 2.6 | D44: 6 | E44: 7.472 | G44: Division baños en acero inoxidable Cal 18. Suministro e Instal. | H44: m2 | I44: 12.25 | J44: =+'APU2.6'!O69 -> 1456979 | K44: =ROUND(I44*J44,0) -> 17847993
C45: 2.7 | D45: 7 | E45: 5.287 | G45: Division para ducha en acrílico y aluminio | H45: m2 | I45: 14.28 | J45: =+'APU 2.7'!O69 -> 226320 | K45: =ROUND(I45*J45,0) -> 3231850 | O45: =SUM(O35:O44) -> 0
...

Sheet LISTA INSUMO
C2: LISTA DE PRECIOS BÁSICOS DE MATERIALES E INSUMOS
C3: =+'PRESUPUESTO PRIMER PROCESO'!G11 -> ADECUACION Y MANTENIMIENTO DE LA INFRAESTRUCTURA DEPORTIVA DEL ESTADIO SANTIAGO DE LAS ATALAYAS DEL MUNICIPIO DE YOPAL - DEPARTAMENTO DE CASANARE.
C6: MATERIALES | H6: OBSERVACIONES
A7: N° | C7: N° | D7: INSUMO | E7: UNIDAD | F7: VR. UNIT
A8: 1 | D8: Durmiente - abarco 4 x 4 | E8: m | F8: 3111
A9: 2 | D9: Puntilla con cabeza 2" | E9: lb | F9: 4992
A10: 10 | D10: Alambre Negro No 18 o 17 | E10: kg | F10: 8386
A11: 11 | D11: Concreto 3000 Psi 210 Kg/cm2 (Basico, 5% desperdicio) | E11: m³ | F11: =#REF! -> #REF! | H11: ANIDADO | I11: A3
A12: 13 | D12: Tabla chapa ordinario 0.10 | E12: m | F12: 6583
A13: 1301 | D13: Tabla chapa ordinario 0.20 | E13: m | F13: 4333
A14: 1401 | D14: Bordillo prefabricado 0.20 x 0.80m x 0.10 m | E14: und | F14: 14964
A15: 15 | D15: Mortero 1:4 (desperdicio 5%) | E15: m³ | F15: =#REF! -> #REF! | H15: ANIDADO | I15: A9
A16: 17 | D16: Durmiente - ordinario 5 x 5 | E16: m | F16: 2078 | N16: =+J16/1.19 -> 0
A17: 18 | D17: Tabla chapa ordinario 0.30 | E17: m | F17: 5785
A18: 19 | D18: Vara de clavo 3M -1 | E18: m | F18: 3500
A19: 20 | D19: Repisa Ordinario 3 m | E19: m | F19: 4388
A20: 25 | D20: Sikaflex-401 Pavement SL cartucho 300 ml | E20: und | F20: 52919
A21: 27 | D21: Acero de Refuerzo Grado 60 | E21: kg | F21: =#REF! -> #REF! | H21: ANIDADO | I21: A8
A22: 2701 | D22: Acero ASTM - A1011 G 50 | E22: kg | F22: 8623
A23: 2702 | D23: Acero de refuerzo 37000 Psi | E23: kg | F23: 6360
A24: 2703 | D24: Acero de refuerzo 60000 Psi | E24: kg | F24: 6237
A25: 28 | D25: Durmiente ordinario 4 x 4 x 3.0 m | E25: m | F25: 2194
A26: 32 | D26: Soldadura electrosoldada 7018 de 1/8" | E26: kg | F26: 19312
A27: 33 | D27: Hoja Segueta | E27: und | F27: 4355
A28: 34 | D28: Malla electrosoldada Q-5 o M-188 (2.35 x 6m) | E28: m² | F28: 22219
A29: 40 | D29: Anticorrosivo gris/blanco/rojo | E29: gal | F29: 59292
A30: 43 | D30: Soldadura electrosoldada 6013 de 1/8" | E30: kg | F30: 16937
A31: 46 | D31: Lamina HR 1/4" | E31: m² | F31: 367428
A32: 47 | D32: Tornillo Ø= 5/8" x 2" G-8 R.O. Con T. A. | E32: und | F32: 5200
A33: 56 | D33: Acero ASTM - A500 C | E33: kg | F33: 8995
... A44: 80 | D44: Sika 1 imp. integral | E44: kg | F44: 16577
A45: 81 | D45: Filos y dilataciones 1:4 | E45: m | H45: ANIDADO
A46: 82 | D46: Estuco plastico | E46: gal | F46: 16993
A47: 83 | D47: Vinilo tipo viniltex interior tipo 1 de alta calidad | E47: gal | F47: 55444
A48: 84 | D48: Baldosa grano de mármol 30*30 / 33*33 blanco | E48: m² | F48: 60031
A49: 85 | D49: Boquilla lista junta normal | E49: kg | F49: 5013
A50: 86 | D50: Pulida y brillada de piso granito (incluye: material y maquinaria a todo costo) | E50: m² | H50: ANIDADO
A51: 87 | D51: Guardaescoba grano de marmol 7.2 x 30 | E51: m | F51: 11454.33
A52: 88 | D52: Boquilla lista junta estrecha | E52: kg | F52: 4791.67
A53: 89 | D53: Pegacor blanco adhesivo cerámico | E53: kg | F53: 1461.67
...

Sheet AIU
B2: PROYECTO | E2: =+'PRESUPUESTO PRIMER PROCESO'!G11 -> ADECUACION Y MANTENIMIENTO DE LA INFRAESTRUCTURA DEPORTIVA DEL ESTADIO SANTIAGO DE LAS ATALAYAS DEL MUNICIPIO DE YOPAL - DEPARTAMENTO DE CASANARE.
B6: ANALISIS DEL A.I.U DE REFERENCIA
B8: DESCRIPCION | F8: % PARCIAL | G8: % SUBTOTAL
B9: 1 | C9: ADMINISTRACION
C11: A. | D11: ADM. CENTRAL | F11: =SUM(F12:F15) -> 0.0134
D12: 1 | E12: Sueldos y prestaciones de la direccion (profesionales, administrativos y tecnicos) | F12: 0.0121
D13: 2 | E13: Gastos de Oficina (arriendos, dotacion, papeleria, copias, servicios publicos, comunicaciones) | F13: 0.0003
D14: 3 | E14: Transporte | F14: 0.001
C16: B. | D16: ADM. DE LA OBRA | F16: =SUM(F17:F23) -> 0.0437 | N16: =+J16/1.19 -> 0
D17: 1 | E17: Sueldos y prestaciones del personal vinculado diretamente a la obra. (Residente, administracion, tecnico, Inspectores, oficinistas, conductores, contador, almacenista, conseerge, otros.) | F17: 0.0285
D18: 2 | E18: Instalaciones para empleados y obreros (oficinas, laboratorios, talleres, servicios medicos, comedores, dormitorios, otros.) | F18: 0.001
D19: 3 | E19: Gastos de Oficina y Campamento (Valla, dotaciones, servicios publicos, comunicaciones, papeleria, copias, otros) | F19: 0.0001
D20: 4 | E20: Equipo completo de Topografia (incluye transito, nivel, y elementos complementarios) y Comision de Topografia (Topografo y 2 Cadeneros) | F20: 0.0111
D21: 5 | E21: Equipo de laboratorios (Incluye laboratorista- inspector) | F21: 0.0015
D22: 6 | E22: Transporte | F22: 0.0015
C24: C. | D24: GASTOS LEGALES , JURIDICOS Y TRIBUTARIOS | F24: =19.79%+1.5% -> 0.2129
E25: TOTAL ADMINISTRACION (A) | G25: =F11+F16+F24 -> 0.27 | I25: 0.2551
B26: 2 | C26: IMPREVISTOS
E28: TOTAL IMPREVISTOS (I) | G28: 0.02 | I28: 0.02
B29: 3 | C29: UTILIDAD
E31: TOTAL UTILIDAD (U) | G31: 0.05 | I31: 0.05
B33: TOTAL A.I.U. | G33: =+G25+G28+G31 -> 0.34

Sheet APU 1.1
B1: Formulario 1 - Propuesta económica - Documento tipo de mínima cuantía de obra pública de infraestructura social
B2: Versión: 1 de 21 de agosto de 2025
C5: [La entidad podrá utilizar este formato para la presentación de los análisis de Precios Unitarios del Contratista en la oportunidad prevista en el numeral 8.2. de la invitación]
E7: INDERCAS
E9: =+'PRESUPUESTO PRIMER PROCESO'!G11 -> ADECUACION Y MANTENIMIENTO DE LA INFRAESTRUCTURA DEPORTIVA DEL ESTADIO SANTIAGO DE LAS ATALAYAS DEL MUNICIPIO DE YOPAL - DEPARTAMENTO DE CASANARE. | L9: VERSIÓN
L11: PÁGINA | M11: 1 | N11: DE | O11: 1
E13: ANALISIS DE PRECIOS UNITARIOS
L15: FECHA | M15: DD | N15: MM | O15: AA
M16: 18 | N16: 8 | O16: 2026
C19: DATOS ESPECÍFICOS
C20: ÍTEM | D20: DESCRIPCIÓN | M20: UNIDAD | O20: CANTIDAD
C21: =+'PRESUPUESTO PRIMER PROCESO'!C15 -> 1.1 | D21: =+'PRESUPUESTO PRIMER PROCESO'!G15 -> Cielo raso en lamina PVC 10 mm (incluye cornisa) | M21: =+'PRESUPUESTO PRIMER PROCESO'!H15 -> M2 | O21: =+'PRESUPUESTO PRIMER PROCESO'!I15 -> 275
C22: I. EQUIPO
C25: DESCRIPCIÓN | H25: MARCA | J25: TIPO | L25: TARIFA/HORA | M25: RENDIMIENTO | O25: Vr. UNITARIO
C26: Herramienta menor 10% M.O. DD | H26: N/A | J26: Eqp | L26: 5136 | M26: 1.1 | O26: =ROUND(L26*M26,0) -> 5650
C29: SUBTOTAL $ | O29: =SUM(O26:O28) -> 5650
C30: II. MATERIALES
C33: DESCRIPCIÓN | K33: UNIDAD | L33: CANTIDAD | M33: PRECIO UNIT. | O33: Vr. UNITARIO
C34: Angulo 25 x 25 mm Cal 26 de 2.44 m | K34: und | L34: 0.42 | M34: 3165 | O34: =ROUND(L34*M34,0) -> 1329
C35: Canal o vigueta 38 x 20 cal. 26 de 2.44 m | K35: und | L35: 0.56 | M35: 4562 | O35: =ROUND(L35*M35,0) -> 2555
C36: Corniza blanca PVC 3.0 m | K36: und | L36: 0.25 | M36: 15828 | O36: =ROUND(L36*M36,0) -> 3957
C37: Lamina PVC 10 mm ancho 25 - 30 cm | K37: m2 | L37: 1 | M37: 52531 | O37: =ROUND(L37*M37,0) -> 52531
C38: Perfil omega Cal 26 2.44 | K38: und | L38: 0.81 | M38: 4306 | O38: =ROUND(L38*M38,0) -> 3488
C39: Perfil angular blanco PVC 3.0 m | K39: und | L39: 0.0375 | M39: 22658 | O39: =ROUND(L39*M39,0) -> 850
C40: Tornillo estructura drywall punta aguda 7 mm x 7/16" | K40: und | L40: 15 | M40: 39 | O40: =ROUND(L40*M40,0) -> 585
C41: Tornillo punta aguda 6 mm x 1" drywall | K41: und | L41: 9 | M41: 38 | O41: =ROUND(L41*M41,0) -> 342
C42: SUBTOTAL $ | O42: =SUM(O34:O41) -> 65637
C43: III. TRANSPORTES
C45: MATERIAL | J45: VOL. o PESO | K45: DISTANCIA | L45: M3 o Ton/Km | M45: TARIFA | O45: Vr. UNITARIO
C46: Transporte de materiales - t | J46: 0.01 | M46: 3858 | O46: =ROUND(J46*M46,0) -> 39
O48: =SUM(O46:O47) -> 39
C51: TRABAJADOR | J51: JORNAL | K51: PRESTACIONES | L51: JORNAL TOTAL | M51: RENDIMIENTO | O51: Vr. UNITARIO
C52: Cuadrilla DD (Carpinteria de madera) | J52: H | K52: 51359 | M52: 1.1 | O52: =ROUND(K52*M52,0) -> 56495
O55: =ROUND(K55*M55,0) -> 0
C56: SUBTOTAL $ | O56: =SUM(O52:O55) -> 56495
C58: TOTAL COSTO DIRECTO $ | O58: =ROUND(O29+O42+O56+O48,0) -> 127821
C59: V. COSTOS INDIRECTOS
C60: Descripción | L60: Porcentaje | M60: Valor Total
C61: ADMINISTRACION | L61: 0.27 | M61: =+O58 -> 127821 | O61: =+ROUND(M61*L61,0) -> 34512
C62: IMPREVISTOS | L62: 0.02 | M62: =+O58 -> 127821 | O62: =+ROUND(M62*L62,0) -> 2556
...

Sheet APU 1.2
B1: Formulario 1 - Propuesta económica - Documento tipo de mínima cuantía de obra pública de infraestructura social
B2: Versión: 1 de 21 de agosto de 2025
C5: [La entidad podrá utilizar este formato para la presentación de los análisis de Precios Unitarios del Contratista en la oportunidad prevista en el numeral 8.2. de la invitación]
E7: INDERCAS
E9: =+'PRESUPUESTO PRIMER PROCESO'!G11 -> ADECUACION Y MANTENIMIENTO DE LA INFRAESTRUCTURA DEPORTIVA DEL ESTADIO SANTIAGO DE LAS ATALAYAS DEL MUNICIPIO DE YOPAL - DEPARTAMENTO DE CASANARE. | L9: VERSIÓN
L11: PÁGINA | M11: 1 | N11: DE | O11: 1
E13: ANALISIS DE PRECIOS UNITARIOS
L15: FECHA | M15: DD | N15: MM | O15: AA
M16: 18 | N16: 8 | O16: 2026
C19: DATOS ESPECÍFICOS
C20: ÍTEM | D20: DESCRIPCIÓN | M20: UNIDAD | O20: CANTIDAD
C21: =+'PRESUPUESTO PRIMER PROCESO'!C16 -> 1.2 | D21: =+'PRESUPUESTO PRIMER PROCESO'!G16 -> Aire Piso Techo Midea On/ Off, 60.000 Btu = 5 Toneladas De Refrigeracion Suministro E Instalacion | M21: =+'PRESUPUESTO PRIMER PROCESO'!H16 -> UND. | O21: =+'PRESUPUESTO PRIMER PROCESO'!I16 -> 6
C22: I. EQUIPO
C25: DESCRIPCIÓN | H25: MARCA | J25: TIPO | L25: TARIFA/HORA | M25: RENDIMIENTO | O25: Vr. UNITARIO
C26: Herramienta menor 10% M.O. BB | H26: n/a | L26: 3686 | M26: 13 | O26: =ROUND(L26*M26,0) -> 47918
O27: =ROUND(L27*M27,0) -> 0
C29: SUBTOTAL $ | O29: =SUM(O26:O28) -> 47918
C30: II. MATERIALES
C33: DESCRIPCIÓN | K33: UNIDAD | L33: CANTIDAD | M33: PRECIO UNIT. | O33: Vr. UNITARIO
C34: Tuberia de de cobre 3/4 | K34: und | L34: 96 | M34: 32147.28 | O34: =ROUND(L34*M34,0) -> 3086139
C35: tuberia de cobre 3/8 | K35: und | L35: 96 | M35: 13709.54 | O35: =ROUND(L35*M35,0) -> 1316116
C36: rubatex 3/4 | K36: und | L36: 96 | M36: 6450.93 | O36: =ROUND(L36*M36,0) -> 619289
C37: Cinta Vinilo | K37: und | L37: 96 | M37: 51069.72 | O37: =ROUND(L37*M37,0) -> 4902693
C38: Rubatex 3/8 | K38: und | L38: 96 | M38: 2419.41 | O38: =ROUND(L38*M38,0) -> 232263
C39: Cable 3*14 encauchetado | K39: und | L39: 96 | M39: 8386.02 | O39: =ROUND(L39*M39,0) -> 805058
C40: Soporte condensador | K40: und | L40: 6 | M40: 142457.5 | O40: =ROUND(L40*M40,0) -> 854745
C41: Soporte evaporador | K41: und | L41: 6 | M41: 96764 | O41: =ROUND(L41*M41,0) -> 580584
C42: Riel metálico | K42: und | L42: 2 | M42: 204278 | O42: =ROUND(L42*M42,0) -> 408556
C43: Filtro secador | K43: und | L43: 6 | M43: 102139.5 | O43: =ROUND(L43*M43,0) -> 612837
C44: Aire Piso Techo Midea On/ Off, 60.000 Btu = 5 Toneladas De Refrigeracion | K44: und | L44: 6 | M44: 860121 | O44: =ROUND(L44*M44,0) -> 5160726
C45: SUBTOTAL $ | O45: =SUM(O34:O44) -> 18579006
C46: III. TRANSPORTES
C48: MATERIAL | J48: VOL. o PESO | K48: DISTANCIA | L48: M3 o Ton/Km | M48: TARIFA | O48: Vr. UNITARIO
O51: =SUM(O49:O50) -> 0
C52: IV. MANO DE OBRA
C54: TRABAJADOR | J54: JORNAL | K54: PRESTACIONES | L54: JORNAL TOTAL | M54: RENDIMIENTO | O54: Vr. UNITARIO
C55: Cuadrilla BB (Instalaciones) | J55: H | K55: 36861.1 | M55: 10 | O55: =ROUND(K55*M55,0) -> 368611
C59: SUBTOTAL $ | O59: =SUM(O55:O58) -> 368611
C61: TOTAL COSTO DIRECTO $ | O61: =ROUND(O29+O45+O59+O51,0) -> 18995535
C62: V. COSTOS INDIRECTOS
...

Sheet APU 1.3
B1: Formulario 1 - Propuesta económica - Documento tipo de mínima cuantía de obra pública de infraestructura social
B2: Versión: 1 de 21 de agosto de 2025
C5: [La entidad podrá utilizar este formato para la presentación de los análisis de Precios Unitarios del Contratista en la oportunidad prevista en el numeral 8.2. de la invitación]
E7: INDERCAS
E9: =+'PRESUPUESTO PRIMER PROCESO'!G11 -> ADECUACION Y MANTENIMIENTO DE LA INFRAESTRUCTURA DEPORTIVA DEL ESTADIO SANTIAGO DE LAS ATALAYAS DEL MUNICIPIO DE YOPAL - DEPARTAMENTO DE CASANARE. | L9: VERSIÓN
L11: PÁGINA | M11: 1 | N11: DE | O11: 1
E13: ANALISIS DE PRECIOS UNITARIOS
L15: FECHA | M15: DD | N15: MM | O15: AA
M16: 18 | N16: 8 | O16: 2026
C19: DATOS ESPECÍFICOS
C20: ÍTEM | D20: DESCRIPCIÓN | M20: UNIDAD | O20: CANTIDAD
C21: =+'PRESUPUESTO PRIMER PROCESO'!C17 -> 1.3 | D21: =+'PRESUPUESTO PRIMER PROCESO'!G17 -> Luminaria tipo panel led 60x60 cm, 110 V. Incluye: cable encauchetado 3x16 AWG, clavija de caucho y elementos de fijación. Suministro e instalacion | M21: =+'PRESUPUESTO PRIMER PROCESO'!H17 -> UND. | O21: =+'PRESUPUESTO PRIMER PROCESO'!I17 -> 15
C22: I. EQUIPO
C25: DESCRIPCIÓN | H25: MARCA | J25: TIPO | L25: TARIFA/HORA | M25: RENDIMIENTO | O25: Vr. UNITARIO
C26: Herramienta menor 10% M.O. FF Elec | H26: n/a | J26: Eqp | L26: 6395 | M26: 0.4 | O26: =ROUND(L26*M26,0) -> 2558
C29: SUBTOTAL $ | O29: =SUM(O26:O28) -> 2558
C30: II. MATERIALES
C33: DESCRIPCIÓN | K33: UNIDAD | L33: CANTIDAD | M33: PRECIO UNIT. | O33: Vr. UNITARIO
C34: Clavija de caucho | K34: und | L34: 1 | M34: 5853 | O34: =ROUND(L34*M34,0) -> 5853
C35: Conector terminal tipo resorte No 12 | K35: und | L35: 3 | M35: 496 | O35: =ROUND(L35*M35,0) -> 1488
C36: Luminaria smart panel led 60x60 cm 40w, 4000 lm 4000K | K36: und | L36: 1 | M36: 101565 | O36: =ROUND(L36*M36,0) -> 101565
C37: Cable de cobre encauchetado 3 x 16 AWG | K37: m | L37: 1.5 | M37: 5257 | O37: =ROUND(L37*M37,0) -> 7886
S43: =+O35+O36+O37+O38+#REF!+O39+O40+O41+O42+O43 -> #REF!
C45: SUBTOTAL $ | O45: =SUM(O34:O44) -> 116792
C46: III. TRANSPORTES
C48: MATERIAL | J48: VOL. o PESO | K48: DISTANCIA | L48: M3 o Ton/Km | M48: TARIFA | O48: Vr. UNITARIO
C49: Transporte de materiales - t | J49: 0.006 | M49: 3858 | O49: =ROUND(M49*J49,0) -> 23
O51: =SUM(O49:O50) -> 23
C52: IV. MANO DE OBRA
C54: TRABAJADOR | J54: JORNAL | K54: PRESTACIONES | L54: JORNAL TOTAL | M54: RENDIMIENTO | O54: Vr. UNITARIO
C55: Cuadrilla FF (Electrica) | J55: h | K55: 63953 | M55: 0.4 | O55: =ROUND(K55*M55,0) -> 25581
C59: SUBTOTAL $ | O59: =SUM(O55:O58) -> 25581
C61: TOTAL COSTO DIRECTO $ | O61: =ROUND(O29+O45+O59+O51,0) -> 144954
C62: V. COSTOS INDIRECTOS
C63: Descripción | L63: Porcentaje | M63: Valor Total
C64: ADMINISTRACION | L64: 0.27 | M64: =+O61 -> 144954 | O64: =+ROUND(M64*L64,0) -> 39138
C65: IMPREVISTOS | L65: 0.02 | M65: =+O61 -> 144954 | O65: =+ROUND(M65*L65,0) -> 2899
C66: UTILIDAD | L66: 0.05 | M66: =+O61 -> 144954 | O66: =+ROUND(M66*L66,0) -> 7248
C67: SUBTOTAL $ | O67: =ROUND(SUM(O64:O66),2) -> 49285
C69: Precio Unitario Total Aproximado al peso $ | O69: =ROUND(O61+O67,2) -> 194239
...

Sheet APU 1,4
B1: Formulario 1 - Propuesta económica - Documento tipo de mínima cuantía de obra pública de infraestructura social
B2: Versión: 1 de 21 de agosto de 2025
C5: [La entidad podrá utilizar este formato para la presentación de los análisis de Precios Unitarios del Contratista en la oportunidad prevista en el numeral 8.2. de la invitación]
E7: INDERCAS
E9: ADECUACION Y MANTENIMIENTO DE LA INFRAESTRUCTURA DEPORTIVA DEL ESTADIO SANTIAGO DE LAS ATALAYAS DEL MUNICIPIO DE YOPAL - DEPARTAMENTO DE CASANARE. | L9: VERSIÓN
L11: PÁGINA | M11: 1 | N11: DE | O11: 1
E13: ANALISIS DE PRECIOS UNITARIOS
L15: FECHA | M15: DD | N15: MM | O15: AA
M16: 18 | N16: 8 | O16: 2026
C19: DATOS ESPECÍFICOS
C20: ÍTEM | D20: DESCRIPCIÓN | M20: UNIDAD | O20: CANTIDAD
C21: =+'PRESUPUESTO PRIMER PROCESO'!C18 -> 1.4 | D21: =+'PRESUPUESTO PRIMER PROCESO'!G18 -> Luminaria de emergencia tipo led 110V, 2.4W, autonomia minima 90 minutos. Incluye: cable encauchetado 3x16 AWG, clavija de caucho y elementos de fijación. Suministro e instalacion | M21: =+'PRESUPUESTO PRIMER PROCESO'!H18 -> UND. | O21: =+'PRESUPUESTO PRIMER PROCESO'!I18 -> 6
C22: I. EQUIPO
C25: DESCRIPCIÓN | H25: MARCA | J25: TIPO | L25: TARIFA/HORA | M25: RENDIMIENTO | O25: Vr. UNITARIO
C26: Herramienta menor 10% M.O. FF Elec | H26: n/a | L26: 6395 | M26: 0.4 | O26: =ROUND(L26*M26,0) -> 2558
C29: SUBTOTAL $ | O29: =SUM(O26:O28) -> 2558
C30: II. MATERIALES
C33: DESCRIPCIÓN | K33: UNIDAD | L33: CANTIDAD | M33: PRECIO UNIT. | O33: Vr. UNITARIO
C34: Cable de cobre encauchetado 3 x 16 AWG | K34: m | L34: 1 | M34: 5257 | O34: =ROUND(M34*L34,0) -> 5257
C35: Clavija de caucho | K35: und | L35: 1 | M35: 5853 | O35: =ROUND(M35*L35,0) -> 5853
C36: Luminaria de emergencia led R1 2x1.6W 90 minutos de autonomía | K36: und | L36: 1 | M36: 97324 | O36: =ROUND(M36*L36,0) -> 97324
S43: =+O35+O36+O37+O38+#REF!+O39+O40+O41+O42+O43 -> #REF!
C45: SUBTOTAL $ | O45: =SUM(O34:O44) -> 108434
C46: III. TRANSPORTES
C48: MATERIAL | J48: VOL. o PESO | K48: DISTANCIA | L48: M3 o Ton/Km | M48: TARIFA | O48: Vr. UNITARIO
C49: Transporte de materiales - t | J49: 0.003 | M49: 3858 | O49: =ROUND(M49*J49,0) -> 12
O51: =SUM(O49:O50) -> 12
C52: IV. MANO DE OBRA
C54: TRABAJADOR | J54: JORNAL | K54: PRESTACIONES | L54: JORNAL TOTAL | M54: RENDIMIENTO | O54: Vr. UNITARIO
C55: Cuadrilla FF (Electrica) | J55: H | K55: 63953 | M55: 0.4 | O55: =ROUND(K55*M55,0) -> 25581
C59: SUBTOTAL $ | O59: =SUM(O55:O58) -> 25581
C61: TOTAL COSTO DIRECTO $ | O61: =ROUND(O29+O45+O59+O51,0) -> 136585
C62: V. COSTOS INDIRECTOS
C63: Descripción | L63: Porcentaje | M63: Valor Total
C64: ADMINISTRACION | L64: 0.27 | M64: =+O61 -> 136585 | O64: =+ROUND(M64*L64,0) -> 36878
C65: IMPREVISTOS | L65: 0.02 | M65: =+O61 -> 136585 | O65: =+ROUND(M65*L65,0) -> 2732
C66: UTILIDAD | L66: 0.05 | M66: =+O61 -> 136585 | O66: =+ROUND(M66*L66,0) -> 6829
C67: SUBTOTAL $ | O67: =ROUND(SUM(O64:O66),2) -> 46439
C69: Precio Unitario Total Aproximado al peso $ | O69: =ROUND(O61+O67,2) -> 183024
H72: Firma
...

Sheet APU1,5
B1: Formulario 1 - Propuesta económica - Documento tipo de mínima cuantía de obra pública de infraestructura social
B2: Versión: 1 de 21 de agosto de 2025
E7: INDERCAS
E9: ADECUACION Y MANTENIMIENTO DE LA INFRAESTRUCTURA DEPORTIVA DEL ESTADIO SANTIAGO DE LAS ATALAYAS DEL MUNICIPIO DE YOPAL - DEPARTAMENTO DE CASANARE. | L9: VERSIÓN
L11: PÁGINA | M11: 1 | N11: DE | O11: 1
E13: ANALISIS DE PRECIOS UNITARIOS
L15: FECHA
M16: 18 | N16: 8 | O16: 2026
C19: DATOS ESPECÍFICOS
C20: ÍTEM | D20: DESCRIPCIÓN | M20: UNIDAD | O20: CANTIDAD
C21: =+'PRESUPUESTO PRIMER PROCESO'!C19 -> 1.5 | D21: =+'PRESUPUESTO PRIMER PROCESO'!G19 -> Ventana aluminio proyectante con vidrio crudo 5mm. Suministro e instal | M21: =+'PRESUPUESTO PRIMER PROCESO'!H19 -> M2 | O21: =+'PRESUPUESTO PRIMER PROCESO'!I19 -> 1
C22: I. EQUIPO
C25: DESCRIPCIÓN | H25: MARCA | J25: TIPO | L25: TARIFA/HORA | M25: RENDIMIENTO | O25: Vr. UNITARIO
O26: =ROUND(L26*M26,0) -> 0
C29: SUBTOTAL $ | O29: 0
C30: II. MATERIALES
C33: DESCRIPCIÓN | K33: UNIDAD | L33: CANTIDAD | M33: PRECIO UNIT. | O33: Vr. UNITARIO
C34: Ventana aluminio proyectante con vidrio crudo 5 mm instalada a todo costo | K34: m2 | L34: 1 | M34: 165123 | O34: =ROUND(L34*M34,0) -> 165123
C35: Instalacion carpinteria metalica con mortero 1:4 | K35: m2 | L35: 1 | M35: 47318 | O35: =ROUND(L35*M35,0) -> 47318
O36: =ROUND(L36*M36,0) -> 0
C45: SUBTOTAL $ | O45: =SUM(O34:O44) -> 212441
C46: III. TRANSPORTES
C48: MATERIAL | J48: VOL. o PESO | K48: DISTANCIA | L48: M3 o Ton/Km | M48: TARIFA | O48: Vr. UNITARIO
C49: Transporte de materiales - t | J49: 0.035 | M49: 3858 | O49: =ROUND(M49*J49,0) -> 135
C51: SUBTOTAL $ | O51: =SUM(O49:O50) -> 135
C52: IV. MANO DE OBRA
C54: TRABAJADOR | J54: JORNAL | K54: PRESTACIONES | L54: JORNAL TOTAL | M54: RENDIMIENTO | O54: Vr. UNITARIO
O55: =ROUND(K55*M55,0) -> 0
C59: SUBTOTAL $ | O59: =SUM(O55:O58) -> 0
C61: TOTAL COSTO DIRECTO $ | O61: =ROUND(O29+O45+O59+O51,0) -> 212576
C62: V. COSTOS INDIRECTOS
C63: Descripción | L63: Porcentaje | M63: Valor Total
C64: ADMINISTRACION | L64: 0.27 | M64: =O61 -> 212576 | O64: =ROUND(M64*L64,0) -> 57396
C65: IMPREVISTOS | L65: 0.05 | M65: =O61 -> 212576 | O65: =ROUND(M65*L65,0) -> 10629
C66: UTILIDAD | L66: 0.02 | M66: =O61 -> 212576 | O66: =ROUND(M66*L66,0) -> 4252
C67: SUBTOTAL $ | O67: =ROUND(SUM(O64:O66),2) -> 72277
C69: Precio Unitario Total Aproximado al peso $ | O69: =ROUND(O61+O67,2) -> 284853
H72: Firma
H73: Nombre: YOHANA GONZALEZ CEPEDA
H74: Profesional Contratado OAP
...

Sheet APU 1,6
B1: Formulario 1 - Propuesta económica - Documento tipo de mínima cuantía de obra pública de infraestructura social
B2: Versión: 1 de 21 de agosto de 2025
E7: INDERCAS
E9: ADECUACION Y MANTENIMIENTO DE LA INFRAESTRUCTURA DEPORTIVA DEL ESTADIO SANTIAGO DE LAS ATALAYAS DEL MUNICIPIO DE YOPAL - DEPARTAMENTO DE CASANARE. | L9: VERSIÓN
L11: PÁGINA | M11: 1 | N11: DE | O11: 1
E13: ANALISIS DE PRECIOS UNITARIOS
L15: FECHA
M16: 18 | N16: 8 | O16: 2026
C19: DATOS ESPECÍFICOS
C20: ÍTEM | D20: DESCRIPCIÓN | M20: UNIDAD | O20: CANTIDAD
C21: =+'PRESUPUESTO PRIMER PROCESO'!C20 -> 1.6 | D21: =+'PRESUPUESTO PRIMER PROCESO'!G20 -> Vidrio incoloro 4 mm. Suministro e instal. | M21: =+'PRESUPUESTO PRIMER PROCESO'!H20 -> M2 | O21: =+'PRESUPUESTO PRIMER PROCESO'!I20 -> 18.8
C22: I. EQUIPO
C25: DESCRIPCIÓN | H25: MARCA | J25: TIPO | L25: TARIFA/HORA | M25: RENDIMIENTO | O25: Vr. UNITARIO
C26: Herramienta menor 10% M.O. AA | J26: Eqp | L26: 4108 | M26: 0.25 | O26: =ROUND(L26*M26,0) -> 1027
C29: SUBTOTAL $ | O29: =SUM(O26:O28) -> 1027
C30: II. MATERIALES
C33: DESCRIPCIÓN | K33: UNIDAD | L33: CANTIDAD | M33: PRECIO UNIT. | O33: Vr. UNITARIO
C34: Silicona transparente antihongo cartucho 280/300 ml | K34: und | L34: 0.1 | M34: 15351 | O34: =ROUND(M34*L34,0) -> 1535
C35: Vidrio incoloro 4 mm o transparente crudo | K35: m2 | L35: 1.03 | M35: 55000 | O35: =ROUND(M35*L35,0) -> 56650
C45: SUBTOTAL $ | O45: =SUM(O34:O44) -> 58185
C46: III. TRANSPORTES
C48: MATERIAL | J48: VOL. o PESO | K48: DISTANCIA | L48: M3 o Ton/Km | M48: TARIFA | O48: Vr. UNITARIO
C49: Transporte de materiales - t | J49: 0.004 | M49: 3858 | O49: =ROUND(M49*J49,0) -> 15
C51: SUBTOTAL $ | O51: =SUM(O49:O50) -> 15
C52: IV. MANO DE OBRA
C54: TRABAJADOR | J54: JORNAL | K54: PRESTACIONES | L54: JORNAL TOTAL | M54: RENDIMIENTO | O54: Vr. UNITARIO
C55: Cuadrilla AA (Albañileria) | J55: h | K55: 41075 | M55: 0.25 | O55: =ROUND(K55*M55,0) -> 10269
C59: SUBTOTAL $ | O59: =SUM(O55:O58) -> 10269
C61: TOTAL COSTO DIRECTO $ | O61: =ROUND(O29+O45+O59+O51,0) -> 69496
C62: V. COSTOS INDIRECTOS
C63: Descripción | L63: Porcentaje | M63: Valor Total
C64: ADMINISTRACION | L64: 0.27 | M64: =O61 -> 69496 | O64: =ROUND(M64*L64,0) -> 18764
C65: IMPREVISTOS | L65: 0.02 | M65: =O61 -> 69496 | O65: =ROUND(M65*L65,0) -> 1390
C66: UTILIDAD | L66: 0.05 | M66: =O61 -> 69496 | O66: =ROUND(M66*L66,0) -> 3475
C67: SUBTOTAL $ | O67: =ROUND(SUM(O64:O66),2) -> 23629
C69: Precio Unitario Total Aproximado al peso $ | O69: =ROUND(O61+O67,2) -> 93125
H72: Firma
H73: Nombre: YOHANA GONZALEZ CEPEDA
H74: Profesional Contratado OAP
H75: Matricula No. :15202-278440 BYC
...

Sheet APU 1,7
B1: Formulario 1 - Propuesta económica - Documento tipo de mínima cuantía de obra pública de infraestructura social
B2: Versión: 1 de 21 de agosto de 2025
E7: INDERCAS
E9: ADECUACION Y MANTENIMIENTO DE LA INFRAESTRUCTURA DEPORTIVA DEL ESTADIO SANTIAGO DE LAS ATALAYAS DEL MUNICIPIO DE YOPAL - DEPARTAMENTO DE CASANARE. | L9: VERSIÓN
L11: PÁGINA | M11: 1 | N11: DE | O11: 1
E13: ANALISIS DE PRECIOS UNITARIOS
L15: FECHA
M16: 18 | N16: 8 | O16: 2026
C19: DATOS ESPECÍFICOS
C20: ÍTEM | D20: DESCRIPCIÓN | M20: UNIDAD | O20: CANTIDAD
C21: =+'PRESUPUESTO PRIMER PROCESO'!C23 -> 1.7 | D21: =+'PRESUPUESTO PRIMER PROCESO'!G23 -> Replanteo en baja tensión | M21: =+'PRESUPUESTO PRIMER PROCESO'!H23 -> km | O21: =+'PRESUPUESTO PRIMER PROCESO'!I23 -> 0.11
C22: I. EQUIPO
C25: DESCRIPCIÓN | J25: TIPO | L25: TARIFA/HORA | M25: RENDIMIENTO | O25: Vr. UNITARIO
C26: Herramienta menor 10% M.O. II | J26: Eqp | L26: 13511 | M26: 3.4783 | O26: =ROUND(L26*M26,0) -> 46995
C29: SUBTOTAL $ | O29: =SUM(O26:O28) -> 46995
C30: II. MATERIALES
C33: DESCRIPCIÓN | K33: UNIDAD | L33: CANTIDAD | M33: PRECIO UNIT. | O33: Vr. UNITARIO
C34: Cinta de Señalizacion - peligro no pase - | K34: m | L34: 90 | M34: 72 | O34: =ROUND(L34*M34,0) -> 6480
C35: Esmalte brillante tipo pintulux de Pintuco o similar | K35: gal | L35: 0.0218 | M35: 92850 | O35: =ROUND(L35*M35,0) -> 2024
C36: Estaca de madera h=0.50-0.60m * A= 4-5 cm | K36: und | L36: 15 | M36: 1415 | O36: =ROUND(L36*M36,0) -> 21225
C37: Campero 2000 cc-2999 cc | K37: hr | L37: 3.4783 | M37: 49167 | O37: =ROUND(L37*M37,0) -> 171018
C38: Estacion total de alto rendimiento | K38: hr | L38: 3.4783 | M38: 13140 | O38: =ROUND(L38*M38,0) -> 45705
C45: SUBTOTAL $ | O45: =SUM(O34:O44) -> 246452
C46: III. TRANSPORTES
C48: MATERIAL | J48: VOL. o PESO | K48: DISTANCIA | L48: M3 o Ton/Km | M48: TARIFA | O48: Vr. UNITARIO
C51: SUBTOTAL $ | O51: 0
C52: IV. MANO DE OBRA
C54: TRABAJADOR | J54: JORNAL | K54: PRESTACIONES | L54: JORNAL TOTAL | M54: RENDIMIENTO | O54: Vr. UNITARIO
C55: Cuadrilla II (Topografia) | J55: h | K55: 135107 | M55: 3.4783 | O55: =ROUND(K55*M55,0) -> 469943
C59: SUBTOTAL $ | O59: =SUM(O55:O58) -> 469943
C61: TOTAL COSTO DIRECTO $ | O61: =ROUND(O29+O45+O59+O51,0) -> 763390
C62: V. COSTOS INDIRECTOS
C63: Descripción | L63: Porcentaje | M63: Valor Total
C64: ADMINISTRACION | L64: 0.27 | M64: =O61 -> 763390 | O64: =ROUND(M64*L64,0) -> 206115
C65: IMPREVISTOS | L65: 0.02 | M65: =O61 -> 763390 | O65: =ROUND(M65*L65,0) -> 15268
C66: UTILIDAD | L66: 0.05 | M66: =O61 -> 763390 | O66: =ROUND(M66*L66,0) -> 38170
C67: SUBTOTAL $ | O67: =ROUND(SUM(O64:O66),2) -> 259553
C69: Precio Unitario Total Aproximado al peso $ | O69: =ROUND(O61+O67,2) -> 1022943
H72: Firma
H73: Nombre: YOHANA GONZALEZ CEPEDA
...

Sheet APU 1,8
B1: Formulario 1 - Propuesta económica - Documento tipo de mínima cuantía de obra pública de infraestructura social
B2: Versión: 1 de 21 de agosto de 2025
E7: INDERCAS
E9: ADECUACION Y MANTENIMIENTO DE LA INFRAESTRUCTURA DEPORTIVA DEL ESTADIO SANTIAGO DE LAS ATALAYAS DEL MUNICIPIO DE YOPAL - DEPARTAMENTO DE CASANARE. | L9: VERSIÓN
L11: PÁGINA | M11: 1 | N11: DE | O11: 1
E13: ANALISIS DE PRECIOS UNITARIOS
L15: FECHA
M16: 18 | N16: 8 | O16: 2026
C19: DATOS ESPECÍFICOS
C20: ÍTEM | D20: DESCRIPCIÓN | M20: UNIDAD | O20: CANTIDAD
C21: =+'PRESUPUESTO PRIMER PROCESO'!C24 -> 1.8 | D21: =+'PRESUPUESTO PRIMER PROCESO'!G24 -> Cortacircuito termomagnético tripolar de 15-60A, 120/240V, enchufable. Suministro e instalación. | M21: =+'PRESUPUESTO PRIMER PROCESO'!H24 -> und | O21: =+'PRESUPUESTO PRIMER PROCESO'!I24 -> 8
C22: I. EQUIPO
C25: DESCRIPCIÓN | J25: TIPO | L25: TARIFA/HORA | M25: RENDIMIENTO | O25: Vr. UNITARIO
C26: Herramienta menor 10% M.O. FF Elec | J26: Eqp | L26: 6395 | M26: 0.2 | O26: =ROUND(L26*M26,0) -> 1279
C29: SUBTOTAL $ | O29: =SUM(O26:O28) -> 1279
C30: II. MATERIALES
C33: DESCRIPCIÓN | K33: UNIDAD | L33: CANTIDAD | M33: PRECIO UNIT. | O33: Vr. UNITARIO
C34: Cortacircuito termomagnetico Tripolar de 15-60A, 120/240 V,enchufable | K34: und | L34: 1 | M34: 148806 | O34: =+M34*L34 -> 148806
C45: SUBTOTAL $ | O45: =SUM(O34:O44) -> 148806
C46: III. TRANSPORTES
C48: MATERIAL | J48: VOL. o PESO | K48: DISTANCIA | L48: M3 o Ton/Km | M48: TARIFA | O48: Vr. UNITARIO
C51: SUBTOTAL $ | O51: 0
C52: IV. MANO DE OBRA
C54: TRABAJADOR | J54: JORNAL | K54: PRESTACIONES | L54: JORNAL TOTAL | M54: RENDIMIENTO | O54: Vr. UNITARIO
C55: Cuadrilla FF (Electrica) | J55: h | K55: 63953 | M55: 0.2 | O55: =ROUND(K55*M55,0) -> 12791
C59: SUBTOTAL $ | O59: =SUM(O55:O58) -> 12791
C61: TOTAL COSTO DIRECTO $ | O61: =ROUND(O29+O45+O59+O51,0) -> 162876
C62: V. COSTOS INDIRECTOS
C63: Descripción | L63: Porcentaje | M63: Valor Total
C64: ADMINISTRACION | L64: 0.27 | M64: =O61 -> 162876 | O64: =ROUND(M64*L64,0) -> 43977
C65: IMPREVISTOS | L65: 0.02 | M65: =O61 -> 162876 | O65: =ROUND(M65*L65,0) -> 3258
C66: UTILIDAD | L66: 0.05 | M66: =O61 -> 162876 | O66: =ROUND(M66*L66,0) -> 8144
C67: SUBTOTAL $ | O67: =ROUND(SUM(O64:O66),2) -> 55379
C69: Precio Unitario Total Aproximado al peso $ | O69: =ROUND(O61+O67,2) -> 218255
H72: Firma
H73: Nombre: YOHANA GONZALEZ CEPEDA
H74: Profesional Contratado OAP
H75: Matricula No. :15202-278440 BYC
C77: OBSERVACIONES INTERVENTORÍA O SUPERVISIÓN
C81: APROBACIÓN POR INTERVENTORÍA O SUPERVISIÓN
...

Sheet APU1.9
B1: Formulario 1 - Propuesta económica - Documento tipo de mínima cuantía de obra pública de infraestructura social
B2: Versión: 1 de 21 de agosto de 2025
E7: INDERCAS
E9: ADECUACION Y MANTENIMIENTO DE LA INFRAESTRUCTURA DEPORTIVA DEL ESTADIO SANTIAGO DE LAS ATALAYAS DEL MUNICIPIO DE YOPAL - DEPARTAMENTO DE CASANARE. | L9: VERSIÓN
L11: PÁGINA | M11: 1 | N11: DE | O11: 1
E13: ANALISIS DE PRECIOS UNITARIOS
L15: FECHA
M16: 18 | N16: 8 | O16: 2026
C19: DATOS ESPECÍFICOS
C20: ÍTEM | D20: DESCRIPCIÓN | M20: UNIDAD | O20: CANTIDAD
C21: =+'PRESUPUESTO PRIMER PROCESO'!C25 -> 1.9 | D21: =+'PRESUPUESTO PRIMER PROCESO'!G25 -> Canalización ducto conduit PVC DB tipo pesado 2 x 2", zona blanda. Incluye cinta de prevención y arena lavada de río. | M21: =+'PRESUPUESTO PRIMER PROCESO'!H25 -> m | O21: =+'PRESUPUESTO PRIMER PROCESO'!I25 -> 98.6
C22: I. EQUIPO
C25: DESCRIPCIÓN | J25: TIPO | L25: TARIFA/HORA | M25: RENDIMIENTO | O25: Vr. UNITARIO
C26: Herramienta menor 10% M.O. FF Elec | J26: Eqp | L26: 6395 | M26: 0.25 | O26: =ROUND(L26*M26,0) -> 1599
C29: SUBTOTAL $ | O29: =SUM(O26:O28) -> 1599
C30: II. MATERIALES
C33: DESCRIPCIÓN | K33: UNIDAD | L33: CANTIDAD | M33: PRECIO UNIT. | O33: Vr. UNITARIO
C34: Adaptador terminal de campana PVC 2" | K34: und | L34: 0.12 | M34: 5194 | O34: =ROUND(M34*L34,0) -> 623
C35: Arena lavada de rio | K35: m3 | L35: 0.074 | M35: 36811 | O35: =ROUND(M35*L35,0) -> 2724
C36: Cinta de prevencion riesgo electrico 25 cm | K36: m | L36: 1 | M36: 586 | O36: =ROUND(M36*L36,0) -> 586
C37: Ducto conduit PVC DB 2" | K37: m | L37: 2 | M37: 9099 | O37: =ROUND(M37*L37,0) -> 18198
C45: SUBTOTAL $ | O45: =SUM(O34:O44) -> 22131
C46: III. TRANSPORTES
C48: MATERIAL | J48: VOL. o PESO | K48: DISTANCIA | L48: M3 o Ton/Km | M48: TARIFA | O48: Vr. UNITARIO
C49: Transporte de materiales (arena, piedra, comun, tierra) - m³ | J49: 0.074 | M49: 12660 | O49: =ROUND(M49*J49,0) -> 937
C51: SUBTOTAL $ | O51: =SUM(O49:O50) -> 937
C52: IV. MANO DE OBRA
C54: TRABAJADOR | J54: JORNAL | K54: PRESTACIONES | L54: JORNAL TOTAL | M54: RENDIMIENTO | O54: Vr. UNITARIO
C55: Cuadrilla FF (Electrica) | J55: h | K55: 63953 | M55: 0.25 | O55: =ROUND(K55*M55,0) -> 15988
C59: SUBTOTAL $ | O59: =SUM(O55:O58) -> 15988
C61: TOTAL COSTO DIRECTO $ | O61: =ROUND(O29+O45+O59+O51,0) -> 40655
C62: V. COSTOS INDIRECTOS
C63: Descripción | L63: Porcentaje | M63: Valor Total
C64: ADMINISTRACION | L64: 0.27 | M64: =O61 -> 40655 | O64: =ROUND(M64*L64,0) -> 10977
C65: IMPREVISTOS | L65: 0.02 | M65: =O61 -> 40655 | O65: =ROUND(M65*L65,0) -> 813
C66: UTILIDAD | L66: 0.05 | M66: =O61 -> 40655 | O66: =ROUND(M66*L66,0) -> 2033
C67: SUBTOTAL $ | O67: =ROUND(SUM(O64:O66),2) -> 13823
C69: Precio Unitario Total Aproximado al peso $ | O69: =ROUND(O61+O67,2) -> 54478
H72: Firma
H73: Nombre: YOHANA GONZALEZ CEPEDA
...

Sheet APU 1.10
B1: Formulario 1 - Propuesta económica - Documento tipo de mínima cuantía de obra pública de infraestructura social
B2: Versión: 1 de 21 de agosto de 2025
E7: INDERCAS
E9: ADECUACION Y MANTENIMIENTO DE LA INFRAESTRUCTURA DEPORTIVA DEL ESTADIO SANTIAGO DE LAS ATALAYAS DEL MUNICIPIO DE YOPAL - DEPARTAMENTO DE CASANARE. | L9: VERSIÓN
L11: PÁGINA | M11: 1 | N11: DE | O11: 1
E13: ANALISIS DE PRECIOS UNITARIOS
L15: FECHA
M16: 18 | N16: 8 | O16: 2026
C19: DATOS ESPECÍFICOS
C20: ÍTEM | D20: DESCRIPCIÓN | M20: UNIDAD | O20: CANTIDAD
C21: =+'PRESUPUESTO PRIMER PROCESO'!C26 -> 1.10 | D21: =+'PRESUPUESTO PRIMER PROCESO'!G26 -> Salida para interruptor doble, linea decorativa und 134,845.00 incluye: tubo PVC tipo pesado 1/2", cable de cobre, caja plastica 5800, terminales PVC y readecuación de muro | M21: =+'PRESUPUESTO PRIMER PROCESO'!H26 -> und | O21: =+'PRESUPUESTO PRIMER PROCESO'!I26 -> 4
C22: I. EQUIPO
C25: DESCRIPCIÓN | J25: TIPO | L25: TARIFA/HORA | M25: RENDIMIENTO | O25: Vr. UNITARIO
C26: Herramienta menor 10% M.O. FF Elec | J26: Eqp | L26: 6395 | M26: 1 | O26: =ROUND(L26*M26,0) -> 6395
C29: SUBTOTAL $ | O29: =SUM(O26:O28) -> 6395
C30: II. MATERIALES
C33: DESCRIPCIÓN | K33: UNIDAD | L33: CANTIDAD | M33: PRECIO UNIT. | O33: Vr. UNITARIO
C34: Accesorios tubería-cableado conduit PVC | K34: und | L34: 1 | M34: 200 | O34: =ROUND(L34*M34,0) -> 200
C35: Adaptador terminal conduit 1/2" | K35: und | L35: 2 | M35: 554 | O35: =ROUND(L35*M35,0) -> 1108
C36: Cable de cobre 12 - AWG THHN/THWN-2 600 V 90°C | K36: m | L36: 13 | M36: 2881 | O36: =ROUND(L36*M36,0) -> 37453
C37: Caja plastica REF 5800 (rectangular) | K37: und | L37: 1 | M37: 2525 | O37: =ROUND(L37*M37,0) -> 2525
C38: Interruptor doble linea decorativa | K38: und | L38: 1 | M38: 9400 | O38: =ROUND(L38*M38,0) -> 9400
C39: Limpiador liquido PVC 1/4 gl o 760 gr | K39: und | L39: 0.0083 | M39: 72440 | O39: =ROUND(L39*M39,0) -> 601
C40: Soldadura liquida PVC 1/4 gl | K40: und | L40: 0.0083 | M40: 150290 | O40: =ROUND(L40*M40,0) -> 1247
C41: Tubo conduit PVC 1/2" | K41: m | L41: 4 | M41: 2986 | O41: =ROUND(L41*M41,0) -> 11944
C45: SUBTOTAL $ | O45: =SUM(O34:O44) -> 64478
C46: III. TRANSPORTES
C48: MATERIAL | J48: VOL. o PESO | K48: DISTANCIA | L48: M3 o Ton/Km | M48: TARIFA | O48: Vr. UNITARIO
C49: Transporte de materiales - t | J49: 0.005 | M49: 3858 | O49: =ROUND(J49*M49,0) -> 19
C51: SUBTOTAL $ | O51: =SUM(O49:O50) -> 19
C52: IV. MANO DE OBRA
C54: TRABAJADOR | J54: JORNAL | K54: PRESTACIONES | L54: JORNAL TOTAL | M54: RENDIMIENTO | O54: Vr. UNITARIO
C55: Cuadrilla FF (Electrica) | J55: h | K55: 63953 | M55: 1 | O55: =ROUND(K55*M55,0) -> 63953
C59: SUBTOTAL $ | O59: =SUM(O55:O58) -> 63953
C61: TOTAL COSTO DIRECTO $ | O61: =ROUND(O29+O45+O59+O51,0) -> 134845
C62: V. COSTOS INDIRECTOS
C63: Descripción | L63: Porcentaje | M63: Valor Total
C64: ADMINISTRACION | L64: 0.27 | M64: =O61 -> 134845 | O64: =ROUND(M64*L64,0) -> 36408
C65: IMPREVISTOS | L65: 0.02 | M65: =O61 -> 134845 | O65: =ROUND(M65*L65,0) -> 2697
C66: UTILIDAD | L66: 0.05 | M66: =O61 -> 134845 | O66: =ROUND(M66*L66,0) -> 6742
...

Sheet APU 1.11
B1: Formulario 1 - Propuesta económica - Documento tipo de mínima cuantía de obra pública de infraestructura social
B2: Versión: 1 de 21 de agosto de 2025
E7: INDERCAS
E9: ADECUACION Y MANTENIMIENTO DE LA INFRAESTRUCTURA DEPORTIVA DEL ESTADIO SANTIAGO DE LAS ATALAYAS DEL MUNICIPIO DE YOPAL - DEPARTAMENTO DE CASANARE. | L9: VERSIÓN
L11: PÁGINA | M11: 1 | N11: DE | O11: 1
E13: ANALISIS DE PRECIOS UNITARIOS
L15: FECHA
M16: 18 | N16: 8 | O16: 2026
C19: DATOS ESPECÍFICOS
C20: ÍTEM | D20: DESCRIPCIÓN | M20: UNIDAD | O20: CANTIDAD
C21: =+'PRESUPUESTO PRIMER PROCESO'!C27 -> 1.11 | D21: =+'PRESUPUESTO PRIMER PROCESO'!G27 -> Salida para tomacorriente doble con polo a tierra, NEMA 5 15R, incluye: tubo EMT tipo pesado 1/2", cable de cobre aislado THWN 2xNº 12 + 1x12T AWG, caja metálica 5800. Suministro e instalación. | M21: =+'PRESUPUESTO PRIMER PROCESO'!H27 -> und | O21: =+'PRESUPUESTO PRIMER PROCESO'!I27 -> 4
C22: I. EQUIPO
C25: DESCRIPCIÓN | J25: TIPO | L25: TARIFA/HORA | M25: RENDIMIENTO | O25: Vr. UNITARIO
C26: Herramienta menor 10% M.O. FF Elec | J26: Eqp | L26: 6395 | M26: 2.25 | O26: =ROUND(L26*M26,0) -> 14389
C29: SUBTOTAL $ | O29: =SUM(O26:O28) -> 14389
C30: II. MATERIALES
C33: DESCRIPCIÓN | K33: UNIDAD | L33: CANTIDAD | M33: PRECIO UNIT. | O33: Vr. UNITARIO
C34: Cable de cobre 12 - AWG LHFR-LS 600 V 75°C - Libre de halogenos | K34: m | L34: 15 | M34: 3059 | O34: =ROUND(L34*M34,0) -> 45885
C35: Caja galvanizada semipesada tipo industrial 5800 | K35: und | L35: 1 | M35: 10009 | O35: =ROUND(L35*M35,0) -> 10009
C36: Chazo para tornillo de 1/8" x 1 1/4" | K36: und | L36: 6 | M36: 200 | O36: =ROUND(L36*M36,0) -> 1200
C37: Conector de autodesforre calibre 10/12 AWG | K37: und | L37: 3 | M37: 1413 | O37: =ROUND(L37*M37,0) -> 4239
C38: Conector terminal EMT 1/2" | K38: und | L38: 1 | M38: 830 | O38: =ROUND(L38*M38,0) -> 830
C39: Grapa doble ala tipo pesado EMT 1/2" | K39: und | L39: 3 | M39: 223 | O39: =ROUND(L39*M39,0) -> 669
C40: Marquillas de identificacion | K40: und | L40: 1 | M40: 1200 | O40: =ROUND(L40*M40,0) -> 1200
C41: Tomacorriente doble, polo a tierra, 15 A, 125 V, grado comercial | K41: und | L41: 1 | M41: 22288 | O41: =ROUND(L41*M41,0) -> 22288
C42: Tornillo goloso de 1/8" x 1 1/4" | K42: und | L42: 6 | M42: 300 | O42: =ROUND(L42*M42,0) -> 1800
C43: Tubo galvanizado 1/2" x 3 m EMT | K43: und | L43: 1.67 | M43: 22136 | O43: =ROUND(L43*M43,0) -> 36967
C44: Union tipo EMT 1/2" | K44: und | L44: 2 | M44: 557 | O44: =ROUND(L44*M44,0) -> 1114
C45: SUBTOTAL $ | O45: =SUM(O34:O44) -> 126201
C46: III. TRANSPORTES
C48: MATERIAL | J48: VOL. o PESO | K48: DISTANCIA | L48: M3 o Ton/Km | M48: TARIFA | O48: Vr. UNITARIO
C49: Transporte de materiales - t | J49: 0.08 | M49: 3858 | O49: =ROUND(J49*M49,0) -> 309
C51: SUBTOTAL $ | O51: =SUM(O49:O50) -> 309
C52: IV. MANO DE OBRA
C54: TRABAJADOR | J54: JORNAL | K54: PRESTACIONES | L54: JORNAL TOTAL | M54: RENDIMIENTO | O54: Vr. UNITARIO
C55: Cuadrilla FF (Electrica) | J55: h | K55: 63953 | M55: 2.25 | O55: =ROUND(K55*M55,0) -> 143894
C59: SUBTOTAL $ | O59: =SUM(O55:O58) -> 143894
C61: TOTAL COSTO DIRECTO $ | O61: =ROUND(O29+O45+O59+O51,0) -> 284793
C62: V. COSTOS INDIRECTOS
C63: Descripción | L63: Porcentaje | M63: Valor Total
...

Sheet APU1.12
B1: Formulario 1 - Propuesta económica - Documento tipo de mínima cuantía de obra pública de infraestructura social
B2: Versión: 1 de 21 de agosto de 2025
E7: INDERCAS
E9: ADECUACION Y MANTENIMIENTO DE LA INFRAESTRUCTURA DEPORTIVA DEL ESTADIO SANTIAGO DE LAS ATALAYAS DEL MUNICIPIO DE YOPAL - DEPARTAMENTO DE CASANARE. | L9: VERSIÓN
L11: PÁGINA | M11: 1 | N11: DE | O11: 1
E13: ANALISIS DE PRECIOS UNITARIOS
L15: FECHA
M16: 18 | N16: 8 | O16: 2026
C19: DATOS ESPECÍFICOS
C20: ÍTEM | D20: DESCRIPCIÓN | M20: UNIDAD | O20: CANTIDAD
C21: =+'PRESUPUESTO PRIMER PROCESO'!C28 -> 1.12 | D21: =+'PRESUPUESTO PRIMER PROCESO'!G28 -> Salida para iluminación, en tubería metálica tipo conduit EMT 1/2". Incluye: caja metálica semipesado 5800, accesorios de montaje, cable de cobre 3x12 AWG-THHN, Toma monofásica doble con polo a tierra 15A con tapa. | M21: =+'PRESUPUESTO PRIMER PROCESO'!H28 -> und | O21: =+'PRESUPUESTO PRIMER PROCESO'!I28 -> 20
C22: I. EQUIPO
C25: DESCRIPCIÓN | J25: TIPO | L25: TARIFA/HORA | M25: RENDIMIENTO | O25: Vr. UNITARIO
C26: Herramienta menor 10% M.O. FF Elec | J26: Eqp | L26: 6395 | M26: 2.1 | O26: =ROUND(L26*M26,0) -> 13430
C29: SUBTOTAL $ | O29: =SUM(O26:O28) -> 13430
C30: II. MATERIALES
C33: DESCRIPCIÓN | K33: UNIDAD | L33: CANTIDAD | M33: PRECIO UNIT. | O33: Vr. UNITARIO
C34: Cable de cobre 12 - AWG LHFR-LS 600 V 75°C - Libre de halogenos | K34: m | L34: 13.5 | M34: 3059 | O34: =ROUND(L34*M34,0) -> 41297
C35: Caja galvanizada semipesada tipo industrial 5800 | K35: und | L35: 1 | M35: 10009 | O35: =ROUND(L35*M35,0) -> 10009
C36: Chazo para tornillo de 1/8" x 1 1/4" | K36: und | L36: 6 | M36: 200 | O36: =ROUND(L36*M36,0) -> 1200
C37: onector terminal EMT 1/2" | K37: und | L37: 2 | M37: 830 | O37: =ROUND(L37*M37,0) -> 1660
C38: Conector terminal tipo resorte No 12 | K38: und | L38: 3 | M38: 496 | O38: =ROUND(L38*M38,0) -> 1488
C39: Grapa chanel zincada 1/2" calibre 14 | K39: und | L39: 3 | M39: 908 | O39: =ROUND(L39*M39,0) -> 2724
C40: Marquillas de identificacion | K40: und | L40: 1 | M40: 1200 | O40: =ROUND(L40*M40,0) -> 1200
C41: Tomacorriente doble con polo a tierra leviton o similar con tapa | K41: und | L41: 1 | M41: 7823 | O41: =ROUND(L41*M41,0) -> 7823
C42: Tornillo goloso de 1/8" x 1 1/4" | K42: und | L42: 6 | M42: 300 | O42: =ROUND(L42*M42,0) -> 1800
C43: Tubo galvanizado 1/2" x 3 m EMT | K43: und | L43: 1.5 | M43: 22136 | O43: =ROUND(L43*M43,0) -> 33204
C44: Union tipo EMT 1/2" | K44: und | L44: 1 | M44: 557 | O44: =ROUND(L44*M44,0) -> 557
C45: SUBTOTAL $ | O45: =SUM(O34:O44) -> 102962
C46: III. TRANSPORTES
C48: MATERIAL | J48: VOL. o PESO | K48: DISTANCIA | L48: M3 o Ton/Km | M48: TARIFA | O48: Vr. UNITARIO
C49: Transporte de materiales - t | J49: 0.1 | M49: 3858 | O49: =ROUND(J49*M49,0) -> 386
C51: SUBTOTAL $ | O51: =SUM(O49:O50) -> 386
C52: IV. MANO DE OBRA
C54: TRABAJADOR | J54: JORNAL | K54: PRESTACIONES | L54: JORNAL TOTAL | M54: RENDIMIENTO | O54: Vr. UNITARIO
C55: Cuadrilla FF (Electrica) | J55: h | K55: 63953 | M55: 2.1 | O55: =ROUND(K55*M55,0) -> 134301
C59: SUBTOTAL $ | O59: =SUM(O55:O58) -> 134301
C61: TOTAL COSTO DIRECTO $ | O61: =ROUND(O29+O45+O59+O51,0) -> 251079
C62: V. COSTOS INDIRECTOS
C63: Descripción | L63: Porcentaje | M63: Valor Total
...

Sheet APU1.13
B1: Formulario 1 - Propuesta económica - Documento tipo de mínima cuantía de obra pública de infraestructura social
B2: Versión: 1 de 21 de agosto de 2025
E7: INDERCAS
E9: ADECUACION Y MANTENIMIENTO DE LA INFRAESTRUCTURA DEPORTIVA DEL ESTADIO SANTIAGO DE LAS ATALAYAS DEL MUNICIPIO DE YOPAL - DEPARTAMENTO DE CASANARE. | L9: VERSIÓN
L11: PÁGINA | M11: 1 | N11: DE | O11: 1
E13: ANALISIS DE PRECIOS UNITARIOS
L15: FECHA
M16: 18 | N16: 8 | O16: 2026
C19: DATOS ESPECÍFICOS
C20: ÍTEM | D20: DESCRIPCIÓN | M20: UNIDAD | O20: CANTIDAD
C21: =+'PRESUPUESTO PRIMER PROCESO'!C29 -> 1.13 | D21: =+'PRESUPUESTO PRIMER PROCESO'!G29 -> Luminaria tipo panel led 60x60 cm, 110 V. Incluye: cable encauchetado 3x16 AWG, clavija de caucho y elementos de fijación. Suministro e instalación. | M21: =+'PRESUPUESTO PRIMER PROCESO'!H29 -> und | O21: =+'PRESUPUESTO PRIMER PROCESO'!I29 -> 20
C22: I. EQUIPO
C25: DESCRIPCIÓN | J25: TIPO | L25: TARIFA/HORA | M25: RENDIMIENTO | O25: Vr. UNITARIO
C26: Herramienta menor 10% M.O. FF Elec | J26: Eqp | L26: 6395 | M26: 0.4 | O26: =ROUND(L26*M26,0) -> 2558
C29: SUBTOTAL $ | O29: =SUM(O26:O28) -> 2558
C30: II. MATERIALES
C33: DESCRIPCIÓN | K33: UNIDAD | L33: CANTIDAD | M33: PRECIO UNIT. | O33: Vr. UNITARIO
C34: Cable de cobre encauchetado 3 x 16 AWG | K34: m | L34: 1.5 | M34: 5257 | O34: =ROUND(L34*M34,0) -> 7886
C35: Clavija de caucho | K35: und | L35: 1 | M35: 5853 | O35: =ROUND(L35*M35,0) -> 5853
C36: Conector terminal tipo resorte No 12 | K36: und | L36: 3 | M36: 496 | O36: =ROUND(L36*M36,0) -> 1488
C37: Luminaria smart panel led 60x60 cm 40w, 4000 lm 4000K | K37: und | L37: 1 | M37: 101565 | O37: =ROUND(L37*M37,0) -> 101565
C45: SUBTOTAL $ | O45: =SUM(O34:O44) -> 116792
C46: III. TRANSPORTES
C48: MATERIAL | J48: VOL. o PESO | K48: DISTANCIA | L48: M3 o Ton/Km | M48: TARIFA | O48: Vr. UNITARIO
C49: Transporte de materiales - t | J49: 0.006 | M49: 3858 | O49: =ROUND(J49*M49,0) -> 23
C51: SUBTOTAL $ | O51: =SUM(O49:O50) -> 23
C52: IV. MANO DE OBRA
C54: TRABAJADOR | J54: JORNAL | K54: PRESTACIONES | L54: JORNAL TOTAL | M54: RENDIMIENTO | O54: Vr. UNITARIO
C55: Cuadrilla FF (Electrica) | J55: h | K55: 63953 | M55: 0.4 | O55: =ROUND(K55*M55,0) -> 25581
C59: SUBTOTAL $ | O59: =SUM(O55:O58) -> 25581
C61: TOTAL COSTO DIRECTO $ | O61: =ROUND(O29+O45+O59+O51,0) -> 144954
C62: V. COSTOS INDIRECTOS
C63: Descripción | L63: Porcentaje | M63: Valor Total
C64: ADMINISTRACION | L64: 0.27 | M64: =O61 -> 144954 | O64: =ROUND(M64*L64,0) -> 39138
C65: IMPREVISTOS | L65: 0.02 | M65: =O61 -> 144954 | O65: =ROUND(M65*L65,0) -> 2899
C66: UTILIDAD | L66: 0.05 | M66: =O61 -> 144954 | O66: =ROUND(M66*L66,0) -> 7248
C67: SUBTOTAL $ | O67: =ROUND(SUM(O64:O66),2) -> 49285
C69: Precio Unitario Total Aproximado al peso $ | O69: =ROUND(O61+O67,2) -> 194239
H72: Firma
H73: Nombre: YOHANA GONZALEZ CEPEDA
...

Sheet APU 1.14
B1: Formulario 1 - Propuesta económica - Documento tipo de mínima cuantía de obra pública de infraestructura social
B2: Versión: 1 de 21 de agosto de 2025
E7: INDERCAS
E9: ADECUACION Y MANTENIMIENTO DE LA INFRAESTRUCTURA DEPORTIVA DEL ESTADIO SANTIAGO DE LAS ATALAYAS DEL MUNICIPIO DE YOPAL - DEPARTAMENTO DE CASANARE. | L9: VERSIÓN
L11: PÁGINA | M11: 1 | N11: DE | O11: 1
E13: ANALISIS DE PRECIOS UNITARIOS
L15: FECHA
M16: 18 | N16: 8 | O16: 2026
C19: DATOS ESPECÍFICOS
C20: ÍTEM | D20: DESCRIPCIÓN | M20: UNIDAD | O20: CANTIDAD
C21: =+'PRESUPUESTO PRIMER PROCESO'!C30 -> 1.14 | D21: =+'PRESUPUESTO PRIMER PROCESO'!G30 -> Caja de inspección CS-274. | M21: =+'PRESUPUESTO PRIMER PROCESO'!H30 -> und | O21: =+'PRESUPUESTO PRIMER PROCESO'!I30 -> 6
C22: I. EQUIPO
C25: DESCRIPCIÓN | J25: TIPO | L25: TARIFA/HORA | M25: RENDIMIENTO | O25: Vr. UNITARIO
C26: Herramienta menor 10% M.O. AA | J26: Eqp | L26: 4108 | M26: 4 | O26: =ROUND(L26*M26,0) -> 16432
C29: SUBTOTAL $ | O29: =SUM(O26:O28) -> 16432
C30: II. MATERIALES
C33: DESCRIPCIÓN | K33: UNIDAD | L33: CANTIDAD | M33: PRECIO UNIT. | O33: Vr. UNITARIO
C34: Ladrillo tolete comun | K34: und | L34: 180 | M34: 945 | O34: =ROUND(L34*M34,0) -> 170100
C35: Tabla chapa ordinaria 0.20 m | K35: m | L35: 2 | M35: 8132 | O35: =ROUND(L35*M35,0) -> 16264
C36: Triturado de 1/2" - 3/4" | K36: m3 | L36: 0.081 | M36: 80066 | O36: =ROUND(L36*M36,0) -> 6485
C37: Tapa para acometidas de BT y AP 715 x 715 x 60 mm | K37: und | L37: 1 | M37: 405945 | O37: =ROUND(L37*M37,0) -> 405945
C38: Concreto 3000 Psi 210 Kg/cm2 (Basico, 5% desperdicio) | K38: m³ | L38: 0.068 | M38: 579091 | O38: =ROUND(L38*M38,0) -> 39378
C39: Concreto 1500 Psi 105 kg/cm2 (Basico, 5% desperdicio) | K39: m³ | L39: 0.041 | M39: 497053 | O39: =ROUND(L39*M39,0) -> 20379
C40: Marco para acometidas de BT y AP 720 x 720 mm x 2 1/2" | K40: und | L40: 1 | M40: 218973 | O40: =ROUND(L40*M40,0) -> 218973
C41: Mortero 1:5 (desperdicio 5 %) | K41: m³ | L41: 0.12 | M41: 344984 | O41: =ROUND(L41*M41,0) -> 41398
C45: SUBTOTAL $ | O45: =SUM(O34:O44) -> 918922
C46: III. TRANSPORTES
C48: MATERIAL | J48: VOL. o PESO | K48: DISTANCIA | L48: M3 o Ton/Km | M48: TARIFA | O48: Vr. UNITARIO
C49: Transporte de materiales - t | J49: 0.63 | M49: 3858 | O49: =ROUND(J49*M49,0) -> 2431
C50: Transporte de material (triturado) - m³ | J50: 0.081 | M50: 12660 | O50: =ROUND(J50*M50,0) -> 1025
C51: SUBTOTAL $ | O51: =SUM(O49:O50) -> 3456
C52: IV. MANO DE OBRA
C54: TRABAJADOR | J54: JORNAL | K54: PRESTACIONES | L54: JORNAL TOTAL | M54: RENDIMIENTO | O54: Vr. UNITARIO
C55: Cuadrilla AA (Albañileria) | J55: h | K55: 41075 | M55: 4 | O55: =ROUND(K55*M55,0) -> 164300
C59: SUBTOTAL $ | O59: =SUM(O55:O58) -> 164300
C61: TOTAL COSTO DIRECTO $ | O61: =ROUND(O29+O45+O59+O51,0) -> 1103110
C62: V. COSTOS INDIRECTOS
C63: Descripción | L63: Porcentaje | M63: Valor Total
C64: ADMINISTRACION | L64: 0.27 | M64: =O61 -> 1103110 | O64: =ROUND(M64*L64,0) -> 297840
C65: IMPREVISTOS | L65: 0.02 | M65: =O61 -> 1103110 | O65: =ROUND(M65*L65,0) -> 22062
...

Sheet APU1.15
B1: Formulario 1 - Propuesta económica - Documento tipo de mínima cuantía de obra pública de infraestructura social
B2: Versión: 1 de 21 de agosto de 2025
E7: INDERCAS
E9: ADECUACION Y MANTENIMIENTO DE LA INFRAESTRUCTURA DEPORTIVA DEL ESTADIO SANTIAGO DE LAS ATALAYAS DEL MUNICIPIO DE YOPAL - DEPARTAMENTO DE CASANARE. | L9: VERSIÓN
L11: PÁGINA | M11: 1 | N11: DE | O11: 1
E13: ANALISIS DE PRECIOS UNITARIOS
L15: FECHA
M16: 18 | N16: 8 | O16: 2026
C19: DATOS ESPECÍFICOS
C20: ÍTEM | D20: DESCRIPCIÓN | M20: UNIDAD | O20: CANTIDAD
C21: =+'PRESUPUESTO PRIMER PROCESO'!C31 -> 1.15 | D21: =+'PRESUPUESTO PRIMER PROCESO'!G31 -> Acometida en conductor de aluminio S8000 4x2 AWG THW 600 V 75° +1x8T cobre desnudo AWG. Suministro e instalacion | M21: =+'PRESUPUESTO PRIMER PROCESO'!H31 -> m | O21: =+'PRESUPUESTO PRIMER PROCESO'!I31 -> 160
C22: I. EQUIPO
C25: DESCRIPCIÓN | J25: TIPO | L25: TARIFA/HORA | M25: RENDIMIENTO | O25: Vr. UNITARIO
C26: Herramienta menor 10% M.O. FF Elec | J26: Eqp | L26: 6395 | M26: 0.16 | O26: =ROUND(L26*M26,0) -> 1023
C29: SUBTOTAL $ | O29: =SUM(O26:O28) -> 1023
C30: II. MATERIALES
C33: DESCRIPCIÓN | K33: UNIDAD | L33: CANTIDAD | M33: PRECIO UNIT. | O33: Vr. UNITARIO
C34: Cable 2 AWG Aluminio AA8000 THHW TC 600V 90C | K34: m | L34: 4.12 | M34: 5176 | O34: =ROUND(M34*L34,0) -> 21325
C35: Cable de cobre desnudo AWG Nº 8 | K35: m | L35: 1.03 | M35: 6135 | O35: =ROUND(M35*L35,0) -> 6319
C45: SUBTOTAL $ | O45: =SUM(O34:O44) -> 27644
C46: III. TRANSPORTES
C48: MATERIAL | J48: VOL. o PESO | K48: DISTANCIA | L48: M3 o Ton/Km | M48: TARIFA | O48: Vr. UNITARIO
C51: SUBTOTAL $ | O51: 0
C52: IV. MANO DE OBRA
C54: TRABAJADOR | J54: JORNAL | K54: PRESTACIONES | L54: JORNAL TOTAL | M54: RENDIMIENTO | O54: Vr. UNITARIO
C55: Cuadrilla FF (Electrica) | J55: h | K55: 63953 | M55: 0.16 | O55: =ROUND(K55*M55,0) -> 10232
C59: SUBTOTAL $ | O59: =SUM(O55:O58) -> 10232
C61: TOTAL COSTO DIRECTO $ | O61: =ROUND(O29+O45+O59+O51,0) -> 38899
C62: V. COSTOS INDIRECTOS
C63: Descripción | L63: Porcentaje | M63: Valor Total
C64: ADMINISTRACION | L64: 0.27 | M64: =O61 -> 38899 | O64: =ROUND(M64*L64,0) -> 10503
C65: IMPREVISTOS | L65: 0.02 | M65: =O61 -> 38899 | O65: =ROUND(M65*L65,0) -> 778
C66: UTILIDAD | L66: 0.05 | M66: =O61 -> 38899 | O66: =ROUND(M66*L66,0) -> 1945
C67: SUBTOTAL $ | O67: =ROUND(SUM(O64:O66),2) -> 13226
C69: Precio Unitario Total Aproximado al peso $ | O69: =ROUND(O61+O67,2) -> 52125
H72: Firma
H73: Nombre: YOHANA GONZALEZ CEPEDA
H74: Profesional Contratado OAP
H75: Matricula No. :15202-278440 BYC
C77: OBSERVACIONES INTERVENTORÍA O SUPERVISIÓN
...

Sheet APU 1.16
B1: Formulario 1 - Propuesta económica - Documento tipo de mínima cuantía de obra pública de infraestructura social
B2: Versión: 1 de 21 de agosto de 2025
E7: INDERCAS
E9: ADECUACION Y MANTENIMIENTO DE LA INFRAESTRUCTURA DEPORTIVA DEL ESTADIO SANTIAGO DE LAS ATALAYAS DEL MUNICIPIO DE YOPAL - DEPARTAMENTO DE CASANARE. | L9: VERSIÓN
L11: PÁGINA | M11: 1 | N11: DE | O11: 1
E13: ANALISIS DE PRECIOS UNITARIOS
L15: FECHA
M16: 18 | N16: 8 | O16: 2026
C19: DATOS ESPECÍFICOS
C20: ÍTEM | D20: DESCRIPCIÓN | M20: UNIDAD | O20: CANTIDAD
C21: =+'PRESUPUESTO PRIMER PROCESO'!C32 -> 1.16 | D21: =+'PRESUPUESTO PRIMER PROCESO'!G32 -> Varilla de puesta a tierra Copperweld 5/8"x2.4 m para bajantes del sistema de apantallamiento. Incluye: suelo artificial, soldadura exotérmica, cable de cobre desnudo AWG Nº 2. Suministro e instalacion | M21: =+'PRESUPUESTO PRIMER PROCESO'!H32 -> und | O21: =+'PRESUPUESTO PRIMER PROCESO'!I32 -> 2
C22: I. EQUIPO
C25: DESCRIPCIÓN | J25: TIPO | L25: TARIFA/HORA | M25: RENDIMIENTO | O25: Vr. UNITARIO
C26: Herramienta menor 10% M.O. FF-1 Elc. Esp | J26: Eqp | L26: 12503 | M26: 2 | O26: =ROUND(L26*M26,0) -> 25006
C29: SUBTOTAL $ | O29: =SUM(O26:O28) -> 25006
C30: II. MATERIALES
C33: DESCRIPCIÓN | K33: UNIDAD | L33: CANTIDAD | M33: PRECIO UNIT. | O33: Vr. UNITARIO
C34: Bulto de suelo artificial x 25 kg | K34: und | L34: 1 | M34: 151235 | O34: =ROUND(M34*L34,0) -> 151235
C35: Cable de cobre desnudo AWG Nº 2 | K35: m | L35: 3 | M35: 23224 | O35: =ROUND(M35*L35,0) -> 69672
C36: Soldadura exotermica 115 gr | K36: und | L36: 1 | M36: 17786 | O36: =ROUND(M36*L36,0) -> 17786
C37: Varilla de cobre de 5/8" x 2,4 m al 99% | K37: und | L37: 1 | M37: 230650 | O37: =ROUND(M37*L37,0) -> 230650
C45: SUBTOTAL $ | O45: =SUM(O34:O44) -> 469343
C46: III. TRANSPORTES
C48: MATERIAL | J48: VOL. o PESO | K48: DISTANCIA | L48: M3 o Ton/Km | M48: TARIFA | O48: Vr. UNITARIO
C49: Transporte de materiales - t | J49: 0.028 | M49: 3858 | O49: =ROUND(M49*J49,0) -> 108
C51: SUBTOTAL $ | O51: =SUM(O49:O50) -> 108
C52: IV. MANO DE OBRA
C54: TRABAJADOR | J54: JORNAL | K54: PRESTACIONES | L54: JORNAL TOTAL | M54: RENDIMIENTO | O54: Vr. UNITARIO
C55: Cuadrilla FF-1 (Electrica Especializada) | J55: h | K55: 125031 | M55: 2 | O55: =ROUND(K55*M55,0) -> 250062
C59: SUBTOTAL $ | O59: =SUM(O55:O58) -> 250062
C61: TOTAL COSTO DIRECTO $ | O61: =ROUND(O29+O45+O59+O51,0) -> 744519
C62: V. COSTOS INDIRECTOS
C63: Descripción | L63: Porcentaje | M63: Valor Total
C64: ADMINISTRACION | L64: 0.27 | M64: =O61 -> 744519 | O64: =ROUND(M64*L64,0) -> 201020
C65: IMPREVISTOS | L65: 0.02 | M65: =O61 -> 744519 | O65: =ROUND(M65*L65,0) -> 14890
C66: UTILIDAD | L66: 0.05 | M66: =O61 -> 744519 | O66: =ROUND(M66*L66,0) -> 37226
C67: SUBTOTAL $ | O67: =ROUND(SUM(O64:O66),2) -> 253136
C69: Precio Unitario Total Aproximado al peso $ | O69: =ROUND(O61+O67,2) -> 997655
H72: Firma
H73: Nombre: YOHANA GONZALEZ CEPEDA
...

Sheet APU 2.1
