Workbook
Name contratación: 'IDENTIFICACION Y ANALISIS'!$B$41:$B$44
Name ejecución: 'IDENTIFICACION Y ANALISIS'!$B$46:$B$71
Name OPCIONES: 'ASIGNACION Y TRATAMIENTO'!$B$52:$B$54
Name planeación: 'IDENTIFICACION Y ANALISIS'!$B$19:$B$28
Name selección: 'IDENTIFICACION Y ANALISIS'!$B$32:$B$37

Sheet CONTEXTO
C2: MATRIZ DE RIESGOS EN CONTRATACIÓN | F2: Código: GCO-GCI-F164 Versión: 02 Vigencia: 01 de diciembre de 2022 Caso HOLA: 280117
B6: ESTABLECER EL CONTEXTO
B7: El punto inicial es identificar el contexto en el cual interactúa la Entidad Estatal para conocer el ambiente social, económico y político, e identificar (i) sus propios Riesgos; (ii) los Riesgos comunes a sus Procesos de Contratación; y (iii) los Riesgos del Proceso de Contratación en particular. (Aplica igual para contratos interadministrativos) En este paso la Entidad Estatal debe identificar los aspectos que se mencionan a continuación y los posibles efectos adversos que estos pueden generar.
B8: Objeto del Proceso de Contratación: Prestar servicios para la implementación de estrategias de educación ambiental comunitaria con el fin de promover la conservación de la biodiversidad y el agua en la localidad de Bosa
B9: Partícipes del Proceso de Contratación: Contratistas y funcionarios de la Alcaldía Local de Bosa (ALB)
B10: Ciudadanía que se beneficia del Proceso de Contratación: Directamente, colectivos comunitarios residentes de la localidad de Bosa que tengan como objeto de interés la conservación de la biodiversidad y del agua en la localidad. E indirectamente, a través de los colectivos se verá beneficiada la población general de la localidad de Bosa en el aprendizaje y apropiación de los sistemas naturales que los rodean, y a partir del mejoramiento de las condiciones socioecológicas de la localidad.
B11: Capacidad de la Entidad Estatal entendida como la disponibilidad de recursos y conocimientos para el Proceso de Contratación: La disponibilidad de la Entidad de sus recursos y el conocimiento de su equipo humano se refleja en los diferentes funcionarios que participarán en las diversas etapas del proceso de selección: participan las áreas que requieren los procesos de contratación (Etapa de Planeación), Dirección de Contratación, Comité Evaluador (Etapa de selección), Dirección de Contratación (Etapa de contratación) y la supervisión y apoyos a la misma (Etapa de Ejecución).
B12: Suficiencia del presupuesto oficial del Proceso de Contratación: De acuerdo al Plan Anual de Adquisiciones se deben estimar los recursos necesarios para el desarrollo del proceso de la contratación, el cual tendrá el soporte presupuestal suficiente para su desarrollo. Para el presente proceso el presupuesto oficial se estima en SETECIENTOS DIECISÉIS MILLONES NOVECIENTOS TREINTA Y DOS MIL PESOS MONEDA CORRIENTE ($716.932.000) de la vigencia fiscal 2025, con cargo al rubro 2877, proyecto BOSA PROTECTORA DE SU AMBIENTE sostenible: agricultura urbana O230117459920242877.
B13: Condiciones geográficas y de acceso del lugar en el cual se debe cumplir el objeto del Proceso de Contratación: El suministro, obra o servicio se prestará principalmente en las Sedes de la Entidad, o en el lugar indicado en los estudios previos del proceso. // El proceso se llevará a cabo en todas las UPZ de la localidad de Bosa, lo cual se determinará a partir de los colectivos sociales seleccionados como beneficiarios del prioceso.
B14: Entorno socio ambiental: Si aplican
B15: Condiciones políticas: Si aplican
B16: Factores ambientales:
B17: Sector del objeto del Proceso de Contratación y su mercado: Todos los clientes (entidades privadas, Estatales y Gubernamentales), alrededor de todo el Territorio Nacional Colombiano y el exterior, quienes solicitan equipos y servicios de seguridad y control de acceso, con niveles elevados de flujo peatonal.
... B19: Experiencia propia y de otras Entidades Estatales en Procesos de Contratación del mismo tipo.

Sheet IDENTIFICACION Y ANALISIS
C2: MATRIZ DE RIESGOS DE CONTRATACIÓN | F2: Código: GCO-GCI-F164 Versión: 02 Vigencia: 01 de diciembre de 2022 Caso HOLA: 280117
B6: DEFINICIONES
B7: RIESGO: Evento que puede generar efectos adversos y de distinta magnitud en el logro de los objetivos del Proceso de Contratación o en la ejecución de un contrato RIESGOS PREVISIBLES: Son los posibles hechos o circunstancias que por la naturaleza del contrato y de la actividad a ejecutar es factible su ocurrencia. ETAPA DE PLANEACIÓN: Está comprendida desde el momento en que se identifican las necesidades que debe satisfacer la Secretaría Distrital de Gobierno y los Fondos de Desarrollo Local, a través del abastecimiento de bienes, obras o servicios, la elaboración del Plan Anual de Adquisiciones y la estructuración de los documentos y estudios previos. ETAPA DE SELECCIÓN: Está comprendida entre el acto de Apertura del Proceso de Contratación y la Adjudicación o la declaración de desierto del Proceso de Contratación ETAPA DE CONTRATACIÓN: Una vez adjudicado el contrato objeto del Proceso de Contratación, inicia la etapa para la celebración del contrato y el cumplimiento de los requisitos para de perfeccionamiento y ejecución. ETAPA DE EJECUCIÓN: Inicia una vez cumplidos los requisitos previstos para iniciar la ejecución del contrato respectivo y termina con el vencimiento del plazo del contrato o la fecha de liquidación si hay lugar a ella. RIESGO GENERAL: Es un riesgo de todos los procesos de contratación adelantados por la Entidad Estatal, por lo cual está presente en toda su actividad contractual. RIEGO ESPECIFICO: Es un riesgo propio del proceso de contratación objeto de análisis. RIESGOS ECONÓMICOS: Son los derivados del comportamiento del mercado, tales como la fluctuación de los precios de los insumos, desabastecimiento y especulación de los mismos, entre otros. RIESGOS SOCIALES O POLÍTICOS: son los derivados de los cambios de las políticas gubernamentales y de cambios en las condiciones sociales que tengan impacto en la ejecución del contrato. RIESGOS OPERACIONALES: Son los asociados a la operatividad del contrato, tales como la suficiencia del presupuesto oficial, del plazo o los derivados de procesos, procedimientos, parámetros, sistemas de información y tecnológicos, equipos humanos o técnicos inadecuados o insuficientes. RIESGOS FINANCIEROS: Son (i) el riesgo de consecución de financiación o riesgo de liquidez para obtener recursos para cumplir con el objeto del contrato, y (ii) el riesgo de las condiciones financieras establecidas para la obtención de los recursos, tales como plazos, tasas, garantías, contragarantías, y refinanciaciones, entre otros. RIESGOS REGULATORIOS: Derivados de cambios regulatorios o reglamentarios que afecten la ecuación económica del contrato. RIESGOS DE LA NATURALEZA: Son los eventos naturales previsibles en los cuales no hay intervención humana que puedan tener impacto en la ejecución del contrato, por ejemplo los temblores, inundaciones, lluvias, sequías, entre otros. RIESGOS AMBIENTALES: Son los derivados de las obligaciones legales o reglamentarias de carácter ambiental, así como de las licencias, planes de manejo o de permisos y autorizaciones ambientales, incluyendo tasas retributivas y compensatorias, obligaciones de mitigación, tareas de monitoreo y control, entre otras. RIESGOS TECNOLÓGICOS: Son los derivados de fallas en los sistemas de comunicación de voz y de datos, suspensión de servicios públicos, nuevos desarrollos tecnológicos o estándares que deben ser tenidos en cuenta para la ejecución del contrato, obsolescencia tecnológica.
B15: INSTRUCCIONES PARA LA IDENTIFICACIÓN, ANALISIS, EVALUACIÓN , ASIGNACIÓN Y TRATAMIENTO DE RIESGOS EN LA CONTRATACIÓN
B16: 1) Identifique los riesgos previsibles que le apliquen al objeto contractual que se adelante. Los relacionados a continuación se establecen de manera general y como proforma. No obstante, si del objeto contractual se identifican otros riesgos diferentes a los aquí determinados, por favor reemplace el texto de la casilla teniendo en cuenta la etapa del proceso. Así mismo, seleccione la clase, fuente y el tipo (Operacional, Económico, Sociales o Políticos, Regulatorios, Financieros, Tecnológicos, De la naturaleza, Ambientales) 2) Continúe en la hoja de "EVALUACIÓN" (SI EXISTEN DUDAS CONCEPTUALES PARA LA ELABORACIÓN DE LA MATRIZ DE RIESGO CONSULTE EL MANUAL PARA LA IDENTIFICACIÓN Y COBERTURA DEL RIESGO EN LOS PROCESOS DE CONTRATACIÓN EXPEDIDO POR COLOMBIA COMPRA EFICIENTE Y LA GUÍA DE RIESGOS PREVISIBLES CONTRACTUALES, EXPEDIDA POR LA VEEDURÍA DISTRITAL)
C17: ETAPAS | D17: CLASE | E17: FUENTE | F17: TIPO
C18: PLANEACIÓN
B19: Inadecuada escogencia de la modalidad de contratación | D19: General | E19: Interno | F19: Operacionales | G19: Rojo = no
B20: Requisitos habilitantes inapropiados para el proceso de selección | D20: General | E20: Interno | F20: Operacionales
B21: Inadecuado análisis económico estimativo del valor del contrato | D21: Especifico | E21: Interno | F21: Economicos
B22: Falta de profundidad en el estudio de sector no identificandose claramente aspectos de oferta y demanda | D22: Especifico | E22: Interno | F22: Economicos
B23: Inadecuada descripción del bien o servicio requerido | D23: Especifico | E23: Interno | F23: Operacionales
B24: Inadecuada elaboración de estudios y diseños | D24: Especifico | E24: Interno | F24: Operacionales
B25: Requisitos habilitantes que impidan la selección objetiva | D25: General | E25: Interno | F25: Operacionales
B26: Inadecuada identificación de las condiciones contractuales | D26: Especifico | E26: Interno | F26: Operacionales
B27: Ausencia de fundamentación de la justificación y conveniencia de la información técnica | D27: Especifico | E27: Interno | F27: Operacionales
B28: Apertura de procesos sin disponibilidad presupuestal | D28: Especifico | E28: Interno | F28: Operacionales
B29: No aprobación o demoras en la expedición vigencias futuras | D29: Estatal | E29: Externo | F29: Operacionales
C30: SELECCIÓN
B31: Confabulacion de los proponentes (colusión) | D31: General | E31: Externo | F31: Operacionales
B32: Inadecuado manejo administrativo del proceso contractual | D32: General | E32: Interno | F32: Operacionales
B33: Falta de claridad en la elaboración de los actos administrativos | D33: General | E33: Interno | F33: Operacionales
B34: Contestación inoportuna a todas las observaciones formuladas a los documentos de la contratación | D34: Especifico | E34: Interno | F34: Operacionales
B35: No publicación de la documentación del proceso de selección en el SECOP | D35: Especifico | E35: Interno | F35: Operacionales
B36: Inadecuada evaluación de las ofertas y/o verificación de requisitos habilitantes | D36: Especifico | E36: Interno | F36: Operacionales
B37: Selección de ofertas con precios artificialmente bajos o altos | D37: Especifico | E37: Interno | F37: Operacionales
C38: CONTRATACIÓN
B39: Falta de constitución o constitución tardía de la garantía única | D39: General | E39: Externo | F39: Operacionales
B40: Aceptación de garantías que no se ajustan a lo contemplado en el contrato | D40: General | E40: Externo | F40: Operacionales
B41: Riesgo de que no se firme el contrato (por fallo en sistemas o demora o no entrega de documentación por parte del contratista) | D41: General | E41: Interno | F41: Operacionales
B42: Falta de solicitud o solicitud tardía del registro presupuestal | D42: Especifico | E42: Interno | F42: Operacionales
B43: No publicación de la documentación del proceso de contratación en el SECOP | D43: Especifico | E43: Interno | F43: Operacionales
B44: Presentación de reclamos de terceros sobre la selección del oferente que retrasen el perfeccionamiento del contrato | D44: Especifico | E44: Externo | F44: Operacionales
C45: EJECUCIÓN
B46: Fluctuaciones del valor de la moneda | D46: Estatal | E46: Externo | F46: Economicos
B47: Cambio de precios en factores de producción | D47: General | E47: Externo | F47: Economicos
B48: Variación de los precios del mercado | D48: General | E48: Externo | F48: Economicos
B49: Cancelación de pedidos | D49: Especifico | E49: Externo | F49: Economicos
B50: Variación en la disponibilidad de los insumos necesarios para prestar los servicios | D50: Especifico | E50: Externo | F50: Economicos
B51: Incumplimiento de compromisos adquiridos por el contratista seleccionado con sus subcontratistas y/o suministradores de bienes y servicios | D51: General | E51: Externo | F51: Economicos
...

Sheet EVALUACION
C2: MATRIZ DE RIESGOS DE CONTRATACIÓN | K2: Código: GCO-GCI-F164 Versión: 02 Vigencia: 01 de diciembre de 2022 Caso HOLA: 280117
B6: Objeto Contractual: “PRESTAR SERVICIOS PARA LA IMPLEMENTACIÓN DE PROCEDIMIENTOS DE EDUCACIÓN AMBIENTAL COMUNITARIA CON EL FIN DE PROMOVER LA CONSERVACIÓN DE LA BIODIVERSIDAD Y EL AGUA EN LA LOCALIDAD DE BOSA”
B7: INSTRUCCIONES PARA LA IDENTIFICACIÓN, ANALISIS, EVALUACIÓN, ASIGNACIÓN Y TRATAMIENTO DE RIESGOS EN LA CONTRATACIÓN
B8: 1) Diligencie el objeto contractual y seleccione la(s) etapas y los riesgos que aplican al objeto contractual, de acuerdo a lo definido en la hoja de "IDENTIFICACIÓN Y ANÁLISIS"
B9: 2) Describa las consecuencias de la ocurrencia del Riesgo/evento.
B10: 3) Asigne la probabilidad de ocurrencia del riesgo, de conformidad con la tabla de probabilidad y la valoración del riesgo (Cualitativa o Monetaria)
B11: 4) Asigne el impacto que generaría la materialización del riesgo, de conformidad con la tabla de impacto y la valoración del riesgo (Cualitativa o Monetaria)
B12: 5) Al realizar las anteriores actividades se obtendrá la calificación total y la valoración del riesgo (prioridad).
B13: 6) Continúe en la hoja de "EVALUACIÓN DE CONTROLES"
B15: CALIFICACIÓN | H15: Cualitativa
B16: ETAPA (456 pix) | C16: Descripción (qué puede pasar y cómo puede ocurrir) | H16: Consecuencias de la ocurrencia del evento | I16: Probabilidad de Ocurrencia | J16: Impacto | K16: Calificación Total | L16: Prioridad
B17: PLANEACIÓN | C17: Inadecuado análisis económico estimativo del valor del contrato | I17: 2 | J17: 2 | K17: =I17+J17 -> 4 | L17: =IF(K17<=4,"BAJO",IF(K17=5,"MEDIO",IF(K17=6,"ALTO",IF(K17=7,"ALTO","EXTREMO")))) -> BAJO
B18: PLANEACIÓN | C18: Falta de profundidad en el estudio de sector no identificandose claramente aspectos de oferta y demanda | I18: 3 | J18: 2 | K18: =I18+J18 -> 5 | L18: =IF(K18<=4,"BAJO",IF(K18=5,"MEDIO",IF(K18=6,"ALTO",IF(K18=7,"ALTO","EXTREMO")))) -> MEDIO
B19: PLANEACIÓN | C19: Inadecuada descripción del bien o servicio requerido | I19: 2 | J19: 2 | K19: =I19+J19 -> 4 | L19: =IF(K19<=4,"BAJO",IF(K19=5,"MEDIO",IF(K19=6,"ALTO",IF(K19=7,"ALTO","EXTREMO")))) -> BAJO
B20: PLANEACIÓN | C20: Inadecuada elaboración de estudios y diseños | I20: 2 | J20: 2 | K20: =I20+J20 -> 4 | L20: =IF(K20<=4,"BAJO",IF(K20=5,"MEDIO",IF(K20=6,"ALTO",IF(K20=7,"ALTO","EXTREMO")))) -> BAJO
B21: PLANEACIÓN | C21: Inadecuada identificación de las condiciones contractuales | I21: 2 | J21: 2 | K21: =I21+J21 -> 4 | L21: =IF(K21<=4,"BAJO",IF(K21=5,"MEDIO",IF(K21=6,"ALTO",IF(K21=7,"ALTO","EXTREMO")))) -> BAJO
B22: PLANEACIÓN | C22: Ausencia de fundamentación de la justificación y conveniencia de la contratación | I22: 2 | J22: 2 | K22: =I22+J22 -> 4 | L22: =IF(K22<=4,"BAJO",IF(K22=5,"MEDIO",IF(K22=6,"ALTO",IF(K22=7,"ALTO","EXTREMO")))) -> BAJO
B23: PLANEACIÓN | C23: Apertura de procesos sin disponibilidad presupuestal | I23: 2 | J23: 2 | K23: =I23+J23 -> 4 | L23: =IF(K23<=4,"BAJO",IF(K23=5,"MEDIO",IF(K23=6,"ALTO",IF(K23=7,"ALTO","EXTREMO")))) -> BAJO
B24: PLANEACIÓN | C24: No aprobación o demoras en la expedición vigencias futuras | I24: 2 | J24: 2 | K24: =I24+J24 -> 4 | L24: =IF(K24<=4,"BAJO",IF(K24=5,"MEDIO",IF(K24=6,"ALTO",IF(K24=7,"ALTO","EXTREMO")))) -> BAJO
B25: SELECCIÓN | C25: Confabulacion de los proponentes (colusión) | I25: 2 | J25: 2 | K25: =I25+J25 -> 4 | L25: =IF(K25<=4,"BAJO",IF(K25=5,"MEDIO",IF(K25=6,"ALTO",IF(K25=7,"ALTO","EXTREMO")))) -> BAJO
B26: SELECCIÓN | C26: Inadecuado manejo administrativo del proceso contractual | I26: 2 | J26: 2 | K26: =I26+J26 -> 4 | L26: =IF(K26<=4,"BAJO",IF(K26=5,"MEDIO",IF(K26=6,"ALTO",IF(K26=7,"ALTO","EXTREMO")))) -> BAJO
B27: SELECCIÓN | C27: Falta de claridad en la elaboración de los actos administrativos | I27: 2 | J27: 2 | K27: =I27+J27 -> 4 | L27: =IF(K27<=4,"BAJO",IF(K27=5,"MEDIO",IF(K27=6,"ALTO",IF(K27=7,"ALTO","EXTREMO")))) -> BAJO
B28: SELECCIÓN | C28: Contestación inoportuna a todas las observaciones formuladas a los documentos de la contratación | I28: 2 | J28: 2 | K28: =I28+J28 -> 4 | L28: =IF(K28<=4,"BAJO",IF(K28=5,"MEDIO",IF(K28=6,"ALTO",IF(K28=7,"ALTO","EXTREMO")))) -> BAJO
... B60: EJECUCIÓN | C60: Tiempos tardíos en el tramite de obtención de permisos con entidades competentes | I60: 3 | J60: 2 | K60: =I60+J60 -> 5 | L60: =IF(K60<=4,"BAJO",IF(K60=5,"MEDIO",IF(K60=6,"ALTO",IF(K60=7,"ALTO","EXTREMO")))) -> MEDIO
K61: =I61+J61 -> 0 | L61: =IF(K61<=4,"BAJO",IF(K61=5,"MEDIO",IF(K61=6,"ALTO",IF(K61=7,"ALTO","EXTREMO")))) -> BAJO
B64: Probabilidad | C64: Categoria | E64: Valoración | G64: Impacto | H64: Categoria | I64: Valoración
C65: Raro (puede ocurrir excepcionalmente) | E65: 1 | H65: Insignificante | I65: 1
C66: Improbable (puede ocurrir ocasionalmente) | E66: 2 | H66: Menor | I66: 2
C67: Posible (puede ocurrir en cualquier momento futuro) | E67: 3 | H67: Moderado | I67: 3
C68: Probable (probablemente va a ocurrir) | E68: 4 | H68: Mayor | I68: 4
C69: Casi cierto (ocurre en la mayoria de circunstancias) | E69: 5 | H69: Catastrófico | I69: 5
C71: Valoración del Riesgo
C72: Calificación Cualitativa | F72: Obstruye la ejecución del contrato de manera intrascendente. | G72: Dificulta la ejecución del contrato de manera baja, aplicando medidas mínimas se pueden lograr el objeto contractual | H72: Afecta la ejecución del contrato sin alterar el beneficio para las partes | I72: Obstruye la ejecución del contrato sustancialmente pero aun así permite la consecución del objeto contractual | K72: Perturba la ejecución del contrato de manera grave imposibilitando la consecución del objeto contractual.
C73: Calificación Monetaria | F73: Los sobrecostos no representan más del uno por ciento (1%) del valor del contrato. | G73: Los sobrecostos no representan más del cinco por ciento (5%) del valor del contrato. | H73: Genera un impacto sobre el valor del contrato entre el cinco (5%) y el quince por ciento (15%). | I73: Incrementa el valor del contrato entre el quince (15%) y el treinta por ciento (30%). | K73: Impacto sobre el valor del contrato en más del treinta por ciento (30%).
C74: Categoría | E74: Valoración | F74: Insignificante | G74: Menor | H74: Moderado | I74: Mayor | K74: Catastrófico
F75: 1 | G75: 2 | H75: 3 | I75: 4 | K75: 5
C76: Raro (puede ocurrir excepcionalmente) | E76: 1 | F76: 2 | G76: 3 | H76: 4 | I76: 5 | K76: 6
C77: Improbable (puede ocurrir ocasionalmente) | E77: 2 | F77: 3 | G77: 4 | H77: 5 | I77: 6 | K77: 7
C78: Posible (puede ocurrir en cualquier momento futuro) | E78: 3 | F78: 4 | G78: 5 | H78: 6 | I78: 7 | K78: 8
C79: Probable (probablemente va a ocurrir) | E79: 4 | F79: 5 | G79: 6 | H79: 7 | I79: 8 | K79: 9
...

Sheet EVALUACION CON CONTROLES
C2: MATRIZ DE RIESGOS DE CONTRATACIÓN | Q2: Código: GCO-GCI-F164 Versión: 02 Vigencia: 01 de diciembre de 2022 Caso HOLA: 280117
B6: =+EVALUACION!B6 -> Objeto Contractual: “PRESTAR SERVICIOS PARA LA IMPLEMENTACIÓN DE PROCEDIMIENTOS DE EDUCACIÓN AMBIENTAL COMUNITARIA CON EL FIN DE PROMOVER LA CONSERVACIÓN DE LA BIODIVERSIDAD Y EL AGUA EN LA LOCALIDAD DE BOSA”
B7: INSTRUCCIONES PARA LA IDENTIFICACIÓN, ANALISIS, EVALUACIÓN , ASIGNACIÓN Y TRATAMIENTO DE RIESGOS EN LA CONTRATACIÓN
B8: 1) Describa el tratamiento/controles a ser implementados
B9: 2) Diligencie la información de las siguientes columnas, de acuerdo con el análisis realizado a cada riesgo: Afecta el equilibrio económico, persona responsable de implementar el tratamiento, fecha estimada de inicio del tratamiento, fecha estimada en la que se completa el tratamiento, cómo se realiza el monitoreo y la periodicidad.
B10: 3) Continúe en la hoja de "ASIGNACIÓN Y TRATAMIENTO" y diligencie las siguientes casillas: A quien se le asigna y el porcentaje que asume cada una de las partes en caso de que sea compartido.
B15: ETAPA | C15: Descripción (Que puede pasar y, cómo puede ocurrir) | G15: Tratamiento/Controles a ser implementados | I15: Probabilidad de Ocurrencia | J15: Impacto | K15: Calificación Total | L15: Prioridad | M15: ¿Afecta el equilibrio económico del contrato? | N15: Persona responsable por implementar el tratamiento | O15: Fecha estimada en que se inicia el tratamiento | P15: Fecha estimada en que se completa el tratamiento | Q15: ¿Cómo se realiza el monitoreo? | R15: Periodicidad ¿Cuándo?
B16: =+EVALUACION!B19 -> PLANEACIÓN | C16: =+EVALUACION!C19 -> Inadecuada descripción del bien o servicio requerido | G16: Revisión de los items necesarios desde la formulación | I16: =+EVALUACION!I19 -> 2 | J16: =+EVALUACION!J19 -> 2 | K16: =+I16+J16 -> 4 | L16: =IF(K16<=4,"BAJO",IF(K16=5,"MEDIO",IF(K16=6,"ALTO",IF(K16=7,"ALTO","EXTREMO")))) -> BAJO | M16: Se puede presentar en el proceso de adjudicación del contrato sin que altere la ejecución del mismo de manera definitiva | N16: Alcaldía Local AN | O16: Desde la formulación del proceso | P16: En el proceso de adjudicación del proceso | Q16: Seguimiento continuo | R16: Cada vez que se requiera
B17: =+EVALUACION!B30 -> SELECCIÓN | C17: =+EVALUACION!C30 -> Inadecuada evaluación de las ofertas y/o verificación de requisitos habilitantes | G17: Capacitación a los evaluadores, en los 3 aspectos Técnico-jurídico y financiero | I17: =+EVALUACION!I30 -> 2 | J17: =+EVALUACION!J30 -> 2 | K17: =+I17+J17 -> 4 | L17: =IF(K17<=4,"BAJO",IF(K17=5,"MEDIO",IF(K17=6,"ALTO",IF(K17=7,"ALTO","EXTREMO")))) -> BAJO | M17: Se puede presentar en el proceso de adjudicación del contrato sin que altere la ejecución del mismo de manera definitiva | N17: Alcaldía Local AN | O17: Apartir de la publicación del proceso | P17: En el proceso de adjudicación del proceso | Q17: Seguimiento continuo | R17: Cada vez que se requiera
B18: =+EVALUACION!B28 -> SELECCIÓN | C18: =+EVALUACION!C28 -> Contestación inoportuna a todas las observaciones formuladas a los documentos de la contratación | G18: Capacitación a los evaluadores, en los 3 aspectos Técnico-jurídico y financiero | I18: =+EVALUACION!I28 -> 2 | J18: =+EVALUACION!J28 -> 2 | K18: =+I18+J18 -> 4 | L18: =IF(K18<=4,"BAJO",IF(K18=5,"MEDIO",IF(K18=6,"ALTO",IF(K18=7,"ALTO","EXTREMO")))) -> BAJO | M18: Se puede presentar en el proceso de adjudicación del contrato sin que altere la ejecución del mismo de manera definitiva | N18: Alcaldía Local AN | O18: Apartir de la publicación del proceso | P18: En el proceso de adjudicación del proceso | Q18: Seguimiento continuo | R18: Cada vez que se requiera
B19: =+EVALUACION!B34 -> CONTRATACIÓN | C19: =+EVALUACION!C34 -> Riesgo de que no se firme el contrato (por fallo en sistemas o demora o no entrega de documentación por parte del contratista) | G19: Al ser tan amplio el proceso puede presentarse riesgo de no presentación de proveedores, sin embargo se realiza convocatora abierta con invitación a proveedores | I19: =+EVALUACION!I34 -> 2 | J19: =+EVALUACION!J34 -> 2 | K19: =+I19+J19 -> 4 | L19: =IF(K19<=4,"BAJO",IF(K19=5,"MEDIO",IF(K19=6,"ALTO",IF(K19=7,"ALTO","EXTREMO")))) -> BAJO | M19: Se puede presentar en el proceso de adjudicación del contrato | N19: Alcaldía Local AN | O19: Apartir de la publicación del proceso | P19: En el proceso de adjudicación del proceso | Q19: Seguimiento continuo | R19: Cada vez que se requiera
B20: =+EVALUACION!B32 -> CONTRATACIÓN | C20: =+EVALUACION!C32 -> Falta de constitución o constitución tardía de la garantía única | G20: En el pliego de condiciones se aclaran las garantías necesarias para la correcta ejecución del contrato. | I20: =+EVALUACION!I32 -> 2 | J20: =+EVALUACION!J32 -> 2 | K20: =+I20+J20 -> 4 | L20: =IF(K20<=4,"BAJO",IF(K20=5,"MEDIO",IF(K20=6,"ALTO",IF(K20=7,"ALTO","EXTREMO")))) -> BAJO | M20: Se puede presentar en el proceso de firma del contrato sin que altere la ejecución del mismo de manera definitiva | N20: 1. Alcaldía local 2. Ejecutor | O20: Apartir de la publicación del proceso | P20: 1. Fecha de recibo final 2.Fecha de Liquidación | Q20: Seguimiento continuo | R20: Cada vez que se requiera
B21: =+EVALUACION!B40 -> EJECUCIÓN | C21: =+EVALUACION!C40 -> Variación de los precios del mercado | G21: Desde la formulación se debe proyectar la posibilidad de aumento de valores de los insumos | I21: =+EVALUACION!I40 -> 3 | J21: =+EVALUACION!J40 -> 3 | K21: =+I21+J21 -> 6 | L21: =IF(K21<=4,"BAJO",IF(K21=5,"MEDIO",IF(K21=6,"ALTO",IF(K21=7,"ALTO","EXTREMO")))) -> ALTO | M21: Afecta directamente la prestación del servicio de manera temporal | N21: 1. Alcaldía local 2. Ejecutor | O21: Apartir de la suscripción del contrato | P21: 1. Fecha de recibo final 2.Fecha de Liquidación | Q21: Seguimiento continuo | R21: Cada vez que se requiera
B22: =+EVALUACION!B41 -> EJECUCIÓN | C22: =+EVALUACION!C41 -> Cancelación de pedidos | G22: El contratista debe garantizar el cumplimiento de entrega de sus proveedores, solicitando a tiempo los insumos. | I22: =+EVALUACION!I41 -> 3 | J22: =+EVALUACION!J41 -> 4 | K22: =+I22+J22 -> 7 | L22: =IF(K22<=4,"BAJO",IF(K22=5,"MEDIO",IF(K22=6,"ALTO",IF(K22=7,"ALTO","EXTREMO")))) -> ALTO | M22: Afecta directamente la prestación del servicio de manera temporal | N22: 1. Ejecutor | O22: Apartir del acta de inicio | P22: 1. Fecha de recibo final 2.Fecha de Liquidación | Q22: Seguimiento continuo | R22: Cada vez que se requiera
B23: =+EVALUACION!B42 -> EJECUCIÓN | C23: =+EVALUACION!C42 -> Variación en la disponibilidad de los insumos necesarios para prestar los servicios | G23: Desde la formulación se debe proyectar la posibilidad de aumento de valores de los insumos | I23: =+EVALUACION!I42 -> 3 | J23: =+EVALUACION!J42 -> 3 | K23: =+I23+J23 -> 6 | L23: =IF(K23<=4,"BAJO",IF(K23=5,"MEDIO",IF(K23=6,"ALTO",IF(K23=7,"ALTO","EXTREMO")))) -> ALTO | M23: Se puede presentar en la ejecucion del contrato sin que altere la ejecución del mismo de manera definitiva | N23: 1. Alcaldía local 2. Ejecutor | O23: Apartir de la suscripción del contrato | P23: 1. Fecha de recibo final 2.Fecha de Liquidación | Q23: Seguimiento continuo | R23: Cada vez que se requiera
B24: =+EVALUACION!B43 -> EJECUCIÓN | C24: =+EVALUACION!C43 -> Incumplimiento de compromisos adquiridos por el contratista seleccionado con sus subcontratistas, suministradores de bienes y servicios. | G24: Transferir el riesgo. Exigir al contratista la suscripción de una póliza que tenga cobertura durante la ejecución del contrato (Póliza RCE) | I24: =+EVALUACION!I43 -> 3 | J24: =+EVALUACION!J43 -> 4 | K24: =+I24+J24 -> 7 | L24: =IF(K24<=4,"BAJO",IF(K24=5,"MEDIO",IF(K24=6,"ALTO",IF(K24=7,"ALTO","EXTREMO")))) -> ALTO | M24: Afecta directamente la prestación del servicio de manera temporal | N24: 1. Alcaldía local 2. Ejecutor | O24: Apartir de la suscripción del contrato | P24: 1. Fecha de recibo final 2.Fecha de Liquidación | Q24: Seguimiento continuo | R24: Cada vez que se requiera
B25: =+EVALUACION!B44 -> EJECUCIÓN | C25: =+EVALUACION!C44 -> Incumplimiento de la administración en los pagos. | G25: Establecer garantias de incumplimiento y clausulas contractuales que eviten el suceso | I25: =+EVALUACION!I44 -> 2 | J25: =+EVALUACION!J44 -> 2 | K25: =+I25+J25 -> 4 | L25: =IF(K25<=4,"BAJO",IF(K25=5,"MEDIO",IF(K25=6,"ALTO",IF(K25=7,"ALTO","EXTREMO")))) -> BAJO | M25: Afecta directamente la prestación del servicio de manera temporal | N25: Alcaldía Local AN | O25: Apartir del acta de inicio | P25: 1. Fecha de recibo final 2.Fecha de Liquidación | Q25: Seguimiento continuo | R25: Cada vez que se requiera
B26: =+EVALUACION!B51 -> EJECUCIÓN | C26: Inasistencia de los Participantes a las actividades desarrolladas en los diferentes proyectos | G26: Establecer garantias de incumplimiento y clausulas contractuales que eviten el suceso | I26: 2 | J26: 3 | K26: =+I26+J26 -> 5 | L26: =IF(K26<=4,"BAJO",IF(K26=5,"MEDIO",IF(K26=6,"ALTO",IF(K26=7,"ALTO","EXTREMO")))) -> MEDIO | M26: Se presenta en la ejecucion del contrato sin que altere la ejecución del mismo de manera definitiva | N26: 1. Ejecutor | O26: Apartir del acta de inicio | P26: 1. Fecha de recibo final 2.Fecha de Liquidación | Q26: Seguimiento continuo | R26: Cada vez que se requiera
B27: EJECUCIÓN | C27: Son los eventos naturales en los cuales no hay intervención humana y que pueden llegar a impactar la ejecución del contrato, como temblores, lluvias u otros | G27: Establecer un plan de contingencia que permita hacer frente ante posibles eventos y calamidades que se presenten durante la ejecuión del contrato. | I27: 1 | J27: 5 | K27: =+I27+J27 -> 6 | L27: =IF(K27<=4,"BAJO",IF(K27=5,"MEDIO",IF(K27=6,"ALTO",IF(K27=7,"ALTO","EXTREMO")))) -> ALTO | M27: Se puede presentar en la ejecucion del contrato sin que altere la ejecución del mismo de manera definitiva | N27: 1. Alcaldía local 2. Ejecutor | O27: Apartir del acta de inicio | P27: 1. Fecha de recibo final 2.Fecha de Liquidación | Q27: Seguimiento continuo | R27: Cada vez que se requiera
B28: EJECUCIÓN | C28: No contar con los suficientes recursos o liquidez para garantizar el cumplimiento del objeto contractual. | G28: Evaluar la experiencia del proponente en donde se evidencia finalización y entrega de procesos similares a satisfacción. | I28: 1 | J28: 4 | K28: =+I28+J28 -> 5 | L28: =IF(K28<=4,"BAJO",IF(K28=5,"MEDIO",IF(K28=6,"ALTO",IF(K28=7,"ALTO","EXTREMO")))) -> MEDIO | M28: Se puede presentar en la ejecucion del contrato sin que altere la ejecución del mismo de manera definitiva | N28: 1. Alcaldía local 2. Ejecutor | O28: Apartir del acta de inicio | P28: 1. Fecha de recibo final 2.Fecha de Liquidación | Q28: Seguimiento continuo | R28: Cada vez que se requiera
B29: EJECUCIÓN | C29: Cambios en el personal sin reemplazo oportuno | G29: Establecer garantías y obligaciones especificas al ejecutor | I29: 4 | J29: 4 | K29: =+I29+J29 -> 8 | L29: =IF(K29<=4,"BAJO",IF(K29=5,"MEDIO",IF(K29=6,"ALTO",IF(K29=7,"ALTO","EXTREMO")))) -> EXTREMO | M29: Se puede presentar en la ejecucion del contrato sin que altere la ejecución del mismo de manera definitiva | N29: 1. Alcaldía local 2. Ejecutor | O29: Apartir del acta de inicio | P29: 1. Fecha de recibo final 2.Fecha de Liquidación | Q29: Seguimiento continuo | R29: Cada vez que se requiera
B30: EJECUCIÓN | C30: Deserción de los participantes | G30: Garantizar por parte del ejecutor el acompañanmiento continuo a los participantes | I30: 4 | J30: 4 | K30: =+I30+J30 -> 8 | L30: =IF(K30<=4,"BAJO",IF(K30=5,"MEDIO",IF(K30=6,"ALTO",IF(K30=7,"ALTO","EXTREMO")))) -> EXTREMO | M30: Se puede presentar en la ejecucion del contrato sin que altere la ejecución del mismo de manera definitiva | N30: 1. Ejecutor | O30: Apartir del acta de inicio | P30: 1. Fecha de recibo final 2.Fecha de Liquidación | Q30: Seguimiento continuo | R30: Cada vez que se requiera
B31: EJECUCIÓN | C31: Cambios en la tarifa que afecte el equilibrio económico | G31: Generar alertas a tiempo para reducir la probabilidad de ocurrencia | I31: 3 | J31: 3 | K31: =+I31+J31 -> 6 | L31: =IF(K31<=4,"BAJO",IF(K31=5,"MEDIO",IF(K31=6,"ALTO",IF(K31=7,"ALTO","EXTREMO")))) -> ALTO | M31: Se puede presentar en la ejecucion del contrato sin que altere la ejecución del mismo de manera definitiva | N31: 1. Ejecutor 2. Alcaldía Local | O31: Apartir del acta de inicio | P31: 1. Fecha de recibo final 2.Fecha de Liquidación | Q31: Seguimiento continuo | R31: Cada vez que se requiera
B32: EJECUCIÓN | C32: El no prestamo de los escenarios para la realización de las actividades | G32: Solicitar con tiempo los espacos una vez se firme acta de inicio | I32: 4 | J32: 4 | K32: =+I32+J32 -> 8 | L32: =IF(K32<=4,"BAJO",IF(K32=5,"MEDIO",IF(K32=6,"ALTO",IF(K32=7,"ALTO","EXTREMO")))) -> EXTREMO | M32: Afecta directamente la prestación del servicio de manera temporal | N32: 1. Ejecutor 2. Alcaldía Local | O32: Apartir del acta de inicio | P32: 1. Fecha de recibo final 2.Fecha de Liquidación | Q32: Seguimiento continuo | R32: Cada vez que se requiera
B33: EJECUCIÓN | C33: Existencia de inadecuados procesos, procedimientos, parámetros, sistemas de información y tecnológicos, equipos humanos o técnicos sin que los mismos sean imputables a las partes. | G33: Sensibilización, capacitación y formación en los procesos y procedimientos en los que participa de la entidad. | I33: 2 | J33: 2 | K33: =+I33+J33 -> 4 | L33: =IF(K33<=4,"BAJO",IF(K33=5,"MEDIO",IF(K33=6,"ALTO",IF(K33=7,"ALTO","EXTREMO")))) -> BAJO | M33: Se puede presentar en la ejecucion del contrato sin que altere la ejecución del mismo de manera definitiva | N33: 1. Ejecutor 2. Alcaldía Local | O33: Apartir del acta de inicio | P33: 1. Fecha de recibo final 2.Fecha de Liquidación | Q33: Seguimiento continuo | R33: Cada vez que se requiera
B34: EJECUCIÓN | C34: Ejecución en tiempos distintos a los inicialmente programados por circunstancias no imputables a las partes. | G34: Hacer seguimiento a la planeación técnica del cronograma de actividades | I34: 3 | J34: 5 | K34: =+I34+J34 -> 8 | L34: =IF(K34<=4,"BAJO",IF(K34=5,"MEDIO",IF(K34=6,"ALTO",IF(K34=7,"ALTO","EXTREMO")))) -> EXTREMO | M34: Afecta directamente la prestación del servicio de manera temporal | N34: 1. Ejecutor 2. Alcaldía Local | O34: Apartir del acta de inicio | P34: 1. Fecha de recibo final 2.Fecha de Liquidación | Q34: Seguimiento permanente a la ejecución del contrato. | R34: Cada vez que se requiera.
B35: EJECUCIÓN | C35: El no contar con los espacios abiertos adecuados para realizar las actividades de capacitación y/o actividades ludicas. | G35: Transferir el riesgo. Exigir al contratista la suscripción de una póliza que tenga cobertura como la calidad de los Bienes y/o Servicios y el Cumplimiento en la entrega de los mismos. | I35: 2 | J35: 3 | K35: =+I35+J35 -> 5 | L35: =IF(K35<=4,"BAJO",IF(K35=5,"MEDIO",IF(K35=6,"ALTO",IF(K35=7,"ALTO","EXTREMO")))) -> MEDIO | M35: Afecta directamente la prestación del servicio de manera temporal | N35: 1. Ejecutor 2. Alcaldía Local | O35: Apartir del acta de inicio | P35: 1. Fecha de recibo final 2.Fecha de Liquidación | Q35: Seguimiento permanente a la ejecución del contrato. | R35: Cada vez que se requiera.
B36: EJECUCIÓN | C36: Caos fortuitos en eventos y salidas | G36: Transferir el riesgo. Exigir al contratista la suscripción de una póliza que tenga cobertura en caso re riesgos (Póliza RCE) | I36: 3 | J36: 4 | K36: =+I36+J36 -> 7 | L36: =IF(K36<=4,"BAJO",IF(K36=5,"MEDIO",IF(K36=6,"ALTO",IF(K36=7,"ALTO","EXTREMO")))) -> ALTO | M36: Afecta directamente la prestación del servicio de manera temporal | N36: 1. Ejecutor 2. Alcaldía Local | O36: Apartir del acta de inicio | P36: 1. Fecha de recibo final 2.Fecha de Liquidación | Q36: Seguimiento permanente a la ejecución del contrato. | R36: Cada vez que se requiera.
C38: Categoria del Riesgo | H38: Impacto del Riesgo
B39: Probabilidad | C39: Catagoria | F39: Valoración | H39: Categoria | J39: Valoración | N39: Categoria del Riesgo
C40: Raro (puede ocurrir excepcionalmente) | F40: 1 | H40: Insignificante | J40: 1 | N40: Valoración del Riesgo | P40: Categoría
C41: Improbable (puede ocurrir ocasionalmente) | F41: 2 | H41: Menor | J41: 2 | N41: 8, 9 y 10 | P41: Riesgo extremo
C42: Posible (puede ocurrir en cualquier momento futuro) | F42: 3 | H42: Moderado | J42: 3 | N42: 6 y 7 | P42: Riesgo alto
C43: Probable (probablemente va a ocurrir) | F43: 4 | H43: Mayor | J43: 4 | N43: 5 | P43: Riesgo medio
C44: Casi cierto (ocurre en la mayoria de circunstancias) | F44: 5 | H44: Catastrófico | J44: 5 | N44: 2, 3 y 4 | P44: Riesgo bajo
C46: Valoración del Riesgo
C47: Calificación Cualitativa | G47: Obstruye la ejecución del contrato de manera intrascendente. | I47: Dificulta la ejecución del contrato de manera baja, aplicando medidas mínimas se pueden lograr el objeto contractual | L47: Afecta la ejecución del contrato sin alterar el beneficio para las partes | N47: Obstruye la ejecución del contrato sustancialmente pero aun así permite la consecución del objeto contractual | P47: Perturba la ejecución del contrato de manera grave imposibilitando la consecución del objeto contractual.
C48: Calificación Monetaria | G48: Los sobrecostos no representan más del uno por ciento (1%) del valor del contrato. | I48: Los sobrecostos no representan más del cinco por ciento (5%) del valor del contrato. | L48: Genera un impacto sobre el valor del contrato entre el cinco (5%) y el quince por ciento (15%). | N48: Incrementa el valor del contrato entre el quince (15%) y el treinta por ciento (30%). | P48: Impacto sobre el valor del contrato en más del treinta por ciento (30%).
C49: Catagoria | F49: Valoración | G49: Insignificante | I49: Menor | L49: Moderado | N49: Mayor | P49: Catastrófico
G50: 1 | I50: 2 | L50: 3 | N50: 4 | P50: 5
...

Sheet ASIGNACION Y TRATAMIENTO
C2: MATRIZ DE RIESGOS DE CONTRATACIÓN | W2: Código: GCO-GCI-F164 Versión: 02 Vigencia: 01 de diciembre de 2022 Caso HOLA: 280117
B6: =+EVALUACION!B6 -> Objeto Contractual: “PRESTAR SERVICIOS PARA LA IMPLEMENTACIÓN DE PROCEDIMIENTOS DE EDUCACIÓN AMBIENTAL COMUNITARIA CON EL FIN DE PROMOVER LA CONSERVACIÓN DE LA BIODIVERSIDAD Y EL AGUA EN LA LOCALIDAD DE BOSA”
B7: Esta matriz es un documento anexo del Estudio Previo
B10: No | C10: Descripción (Que puede pasar y, cómo puede ocurrir) | D10: Etapa | E10: Clase | F10: Fuente | G10: Consecuencias de la ocurrencia del evento | H10: Probabilidad | I10: Impacto | J10: Calificación total | K10: Prioridad | L10: ¿A quien se le asigna? | M10: % | N10: Tratamiento/Controles a ser implementados | O10: Probabilidad | P10: Impacto | Q10: Calificación total | R10: Prioridad | S10: ¿Afecta el equilibrio económico del contrato? | T10: Persona responsable por implementar el tratamiento | U10: Fecha estimada en que se inicia el tratamiento | V10: Fecha estimada en que se completa el tratamiento | W10: ¿Cómo se realiza el monitoreo | X10: Periodicidad ¿Cuándo?
B11: 1 | C11: =+'EVALUACION CON CONTROLES'!C16:F16 -> Inadecuada descripción del bien o servicio requerido | D11: =+'EVALUACION CON CONTROLES'!B16 -> PLANEACIÓN | E11: =VLOOKUP(C11,'IDENTIFICACION Y ANALISIS'!$B$19:$F$71,3,FALSE) -> Especifico | F11: =VLOOKUP(C11,'IDENTIFICACION Y ANALISIS'!$B$19:$F$71,4,FALSE) -> Interno | G11: Elementos que no cumplan la necesidad de la ciudadanía | H11: =+EVALUACION!I19 -> 2 | I11: =+EVALUACION!J19 -> 2 | J11: =+EVALUACION!K19 -> 4 | K11: =+EVALUACION!L19 -> BAJO | L11: SDG | N11: =+'EVALUACION CON CONTROLES'!G16 -> Revisión de los items necesarios desde la formulación | O11: =+'EVALUACION CON CONTROLES'!I16 -> 2 | P11: =+'EVALUACION CON CONTROLES'!J16 -> 2 | Q11: =+'EVALUACION CON CONTROLES'!K16 -> 4 | R11: =+'EVALUACION CON CONTROLES'!L16 -> BAJO | S11: =+'EVALUACION CON CONTROLES'!M16 -> Se puede presentar en el proceso de adjudicación del contrato sin que altere la ejecución del mismo de manera definitiva | T11: =+'EVALUACION CON CONTROLES'!N16 -> Alcaldía Local AN | U11: =+'EVALUACION CON CONTROLES'!O16 -> Desde la formulación del proceso | V11: =+'EVALUACION CON CONTROLES'!P16 -> En el proceso de adjudicación del proceso | ... X11: =+'EVALUACION CON CONTROLES'!R16 -> Cada vez que se requiera
B12: 2 | C12: =+'EVALUACION CON CONTROLES'!C17:F17 -> Inadecuada evaluación de las ofertas y/o verificación de requisitos habilitantes | D12: =+'EVALUACION CON CONTROLES'!B17 -> SELECCIÓN | E12: =VLOOKUP(C12,'IDENTIFICACION Y ANALISIS'!$B$19:$F$71,3,FALSE) -> Especifico | F12: =VLOOKUP(C12,'IDENTIFICACION Y ANALISIS'!$B$19:$F$71,4,FALSE) -> Interno | G12: Posible falta de conocimeinto en el tema a ejcutar | H12: =+EVALUACION!I22 -> 2 | I12: =+EVALUACION!J22 -> 2 | J12: =+EVALUACION!K22 -> 4 | K12: =+EVALUACION!L22 -> BAJO | L12: SDG | N12: =+'EVALUACION CON CONTROLES'!G17 -> Capacitación a los evaluadores, en los 3 aspectos Técnico-jurídico y financiero | O12: =+'EVALUACION CON CONTROLES'!I17 -> 2 | P12: =+'EVALUACION CON CONTROLES'!J17 -> 2 | Q12: =+'EVALUACION CON CONTROLES'!K17 -> 4 | R12: =+'EVALUACION CON CONTROLES'!L17 -> BAJO | S12: =+'EVALUACION CON CONTROLES'!M17 -> Se puede presentar en el proceso de adjudicación del contrato sin que altere la ejecución del mismo de manera definitiva | T12: =+'EVALUACION CON CONTROLES'!N17 -> Alcaldía Local AN | U12: =+'EVALUACION CON CONTROLES'!O17 -> Apartir de la publicación del proceso | V12: =+'EVALUACION CON CONTROLES'!P17 -> En el proceso de adjudicación del proceso | ... X12: =+'EVALUACION CON CONTROLES'!R17 -> Cada vez que se requiera
B13: 3 | C13: =+'EVALUACION CON CONTROLES'!C18:F18 -> Contestación inoportuna a todas las observaciones formuladas a los documentos de la contratación | D13: =+'EVALUACION CON CONTROLES'!B18 -> SELECCIÓN | E13: =VLOOKUP(C13,'IDENTIFICACION Y ANALISIS'!$B$19:$F$71,3,FALSE) -> Especifico | F13: =VLOOKUP(C13,'IDENTIFICACION Y ANALISIS'!$B$19:$F$71,4,FALSE) -> Interno | G13: retrasos en la adjudicación del proceso | H13: =+EVALUACION!I30 -> 2 | I13: =+EVALUACION!J30 -> 2 | J13: =+EVALUACION!K30 -> 4 | K13: =+EVALUACION!L30 -> BAJO | L13: SDG | N13: =+'EVALUACION CON CONTROLES'!G18 -> Capacitación a los evaluadores, en los 3 aspectos Técnico-jurídico y financiero | O13: =+'EVALUACION CON CONTROLES'!I18 -> 2 | P13: =+'EVALUACION CON CONTROLES'!J18 -> 2 | Q13: =+'EVALUACION CON CONTROLES'!K18 -> 4 | R13: =+'EVALUACION CON CONTROLES'!L18 -> BAJO | S13: =+'EVALUACION CON CONTROLES'!M18 -> Se puede presentar en el proceso de adjudicación del contrato sin que altere la ejecución del mismo de manera definitiva | T13: =+'EVALUACION CON CONTROLES'!N18 -> Alcaldía Local AN | U13: =+'EVALUACION CON CONTROLES'!O18 -> Apartir de la publicación del proceso | V13: =+'EVALUACION CON CONTROLES'!P18 -> En el proceso de adjudicación del proceso | ... X13: =+'EVALUACION CON CONTROLES'!R18 -> Cada vez que se requiera
B14: 4 | C14: =+'EVALUACION CON CONTROLES'!C19:F19 -> Riesgo de que no se firme el contrato (por fallo en sistemas o demora o no entrega de documentación por parte del contratista) | D14: =+'EVALUACION CON CONTROLES'!B19 -> CONTRATACIÓN | E14: =VLOOKUP(C14,'IDENTIFICACION Y ANALISIS'!$B$19:$F$71,3,FALSE) -> General | F14: =VLOOKUP(C14,'IDENTIFICACION Y ANALISIS'!$B$19:$F$71,4,FALSE) -> Interno | G14: Incumplimiento a las espectativas de la comunidad, recursos no invertidos | H14: =+EVALUACION!I28 -> 2 | I14: =+EVALUACION!J28 -> 2 | J14: =+EVALUACION!K28 -> 4 | K14: =+EVALUACION!L28 -> BAJO | L14: SDG | N14: =+'EVALUACION CON CONTROLES'!G19 -> Al ser tan amplio el proceso puede presentarse riesgo de no presentación de proveedores, sin embargo se realiza convocatora abierta con invitación a proveedores | O14: =+'EVALUACION CON CONTROLES'!I19 -> 2 | P14: =+'EVALUACION CON CONTROLES'!J19 -> 2 | Q14: =+'EVALUACION CON CONTROLES'!K19 -> 4 | R14: =+'EVALUACION CON CONTROLES'!L19 -> BAJO | S14: =+'EVALUACION CON CONTROLES'!M19 -> Se puede presentar en el proceso de adjudicación del contrato | T14: =+'EVALUACION CON CONTROLES'!N19 -> Alcaldía Local AN | U14: =+'EVALUACION CON CONTROLES'!O19 -> Apartir de la publicación del proceso | V14: =+'EVALUACION CON CONTROLES'!P19 -> En el proceso de adjudicación del proceso | ... X14: =+'EVALUACION CON CONTROLES'!R19 -> Cada vez que se requiera
B15: 5 | C15: =+'EVALUACION CON CONTROLES'!C20:F20 -> Falta de constitución o constitución tardía de la garantía única | D15: =+'EVALUACION CON CONTROLES'!B20 -> CONTRATACIÓN | E15: =VLOOKUP(C15,'IDENTIFICACION Y ANALISIS'!$B$19:$F$71,3,FALSE) -> General | F15: =VLOOKUP(C15,'IDENTIFICACION Y ANALISIS'!$B$19:$F$71,4,FALSE) -> Externo | G15: Retrasos en el contrato y falta de mparosdel mismo | H15: =+EVALUACION!I34 -> 2 | I15: =+EVALUACION!J34 -> 2 | J15: =+EVALUACION!K34 -> 4 | K15: =+EVALUACION!L34 -> BAJO | L15: CONTRATISTA Y SDG | N15: =+'EVALUACION CON CONTROLES'!G20 -> En el pliego de condiciones se aclaran las garantías necesarias para la correcta ejecución del contrato. | O15: =+'EVALUACION CON CONTROLES'!I20 -> 2 | P15: =+'EVALUACION CON CONTROLES'!J20 -> 2 | Q15: =+'EVALUACION CON CONTROLES'!K20 -> 4 | R15: =+'EVALUACION CON CONTROLES'!L20 -> BAJO | S15: =+'EVALUACION CON CONTROLES'!M20 -> Se puede presentar en el proceso de firma del contrato sin que altere la ejecución del mismo de manera definitiva | T15: =+'EVALUACION CON CONTROLES'!N20 -> 1. Alcaldía local 2. Ejecutor | U15: =+'EVALUACION CON CONTROLES'!O20 -> Apartir de la publicación del proceso | V15: =+'EVALUACION CON CONTROLES'!P20 -> 1. Fecha de recibo final 2.Fecha de Liquidación | ... X15: =+'EVALUACION CON CONTROLES'!R20 -> Cada vez que se requiera
B16: 6 | C16: =+'EVALUACION CON CONTROLES'!C21:F21 -> Variación de los precios del mercado | D16: =+'EVALUACION CON CONTROLES'!B21 -> EJECUCIÓN | E16: =VLOOKUP(C16,'IDENTIFICACION Y ANALISIS'!$B$19:$F$71,3,FALSE) -> General | F16: =VLOOKUP(C16,'IDENTIFICACION Y ANALISIS'!$B$19:$F$71,4,FALSE) -> Externo | G16: Posible desequilibrio para el contratista | H16: =+EVALUACION!I32 -> 2 | I16: =+EVALUACION!J32 -> 2 | J16: =+EVALUACION!K32 -> 4 | K16: =+EVALUACION!L32 -> BAJO | L16: CONTRATISTA | N16: =+'EVALUACION CON CONTROLES'!G21 -> Desde la formulación se debe proyectar la posibilidad de aumento de valores de los insumos | O16: =+'EVALUACION CON CONTROLES'!I21 -> 3 | P16: =+'EVALUACION CON CONTROLES'!J21 -> 3 | Q16: =+'EVALUACION CON CONTROLES'!K21 -> 6 | R16: =+'EVALUACION CON CONTROLES'!L21 -> ALTO | S16: =+'EVALUACION CON CONTROLES'!M21 -> Afecta directamente la prestación del servicio de manera temporal | T16: =+'EVALUACION CON CONTROLES'!N21 -> 1. Alcaldía local 2. Ejecutor | U16: =+'EVALUACION CON CONTROLES'!O21 -> Apartir de la suscripción del contrato | V16: =+'EVALUACION CON CONTROLES'!P21 -> 1. Fecha de recibo final 2.Fecha de Liquidación | ... X16: =+'EVALUACION CON CONTROLES'!R21 -> Cada vez que se requiera
B17: 7 | C17: =+'EVALUACION CON CONTROLES'!C22:F22 -> Cancelación de pedidos | D17: =+'EVALUACION CON CONTROLES'!B22 -> EJECUCIÓN | E17: =VLOOKUP(C17,'IDENTIFICACION Y ANALISIS'!$B$19:$F$71,3,FALSE) -> Especifico | F17: =VLOOKUP(C17,'IDENTIFICACION Y ANALISIS'!$B$19:$F$71,4,FALSE) -> Externo | G17: Retrasos en la ejecución | H17: =+EVALUACION!I40 -> 3 | I17: =+EVALUACION!J40 -> 3 | J17: =+EVALUACION!K40 -> 6 | K17: =+EVALUACION!L40 -> ALTO | L17: CONTRATISTA | N17: =+'EVALUACION CON CONTROLES'!G22 -> El contratista debe garantizar el cumplimiento de entrega de sus proveedores, solicitando a tiempo los insumos. | O17: =+'EVALUACION CON CONTROLES'!I22 -> 3 | P17: =+'EVALUACION CON CONTROLES'!J22 -> 4 | Q17: =+'EVALUACION CON CONTROLES'!K22 -> 7 | R17: =+'EVALUACION CON CONTROLES'!L22 -> ALTO | S17: =+'EVALUACION CON CONTROLES'!M22 -> Afecta directamente la prestación del servicio de manera temporal | T17: =+'EVALUACION CON CONTROLES'!N22 -> 1. Ejecutor | U17: =+'EVALUACION CON CONTROLES'!O22 -> Apartir del acta de inicio | V17: =+'EVALUACION CON CONTROLES'!P22 -> 1. Fecha de recibo final 2.Fecha de Liquidación | ... X17: =+'EVALUACION CON CONTROLES'!R22 -> Cada vez que se requiera
B18: 8 | C18: =+'EVALUACION CON CONTROLES'!C23:F23 -> Variación en la disponibilidad de los insumos necesarios para prestar los servicios | D18: =+'EVALUACION CON CONTROLES'!B23 -> EJECUCIÓN | E18: =VLOOKUP(C18,'IDENTIFICACION Y ANALISIS'!$B$19:$F$71,3,FALSE) -> Especifico | F18: =VLOOKUP(C18,'IDENTIFICACION Y ANALISIS'!$B$19:$F$71,4,FALSE) -> Externo | G18: Posible desequilibrio para el contratista | H18: =+EVALUACION!I41 -> 3 | I18: =+EVALUACION!J41 -> 4 | J18: =+EVALUACION!K41 -> 7 | K18: =+EVALUACION!L41 -> ALTO | L18: CONTRATISTA Y SDG | N18: =+'EVALUACION CON CONTROLES'!G23 -> Desde la formulación se debe proyectar la posibilidad de aumento de valores de los insumos | O18: =+'EVALUACION CON CONTROLES'!I23 -> 3 | P18: =+'EVALUACION CON CONTROLES'!J23 -> 3 | Q18: =+'EVALUACION CON CONTROLES'!K23 -> 6 | R18: =+'EVALUACION CON CONTROLES'!L23 -> ALTO | S18: =+'EVALUACION CON CONTROLES'!M23 -> Se puede presentar en la ejecucion del contrato sin que altere la ejecución del mismo de manera definitiva | T18: =+'EVALUACION CON CONTROLES'!N23 -> 1. Alcaldía local 2. Ejecutor | U18: =+'EVALUACION CON CONTROLES'!O23 -> Apartir de la suscripción del contrato | V18: =+'EVALUACION CON CONTROLES'!P23 -> 1. Fecha de recibo final 2.Fecha de Liquidación | ... X18: =+'EVALUACION CON CONTROLES'!R23 -> Cada vez que se requiera
B19: 9 | C19: =+'EVALUACION CON CONTROLES'!C24:F24 -> Incumplimiento de compromisos adquiridos por el contratista seleccionado con sus subcontratistas, suministradores de bienes y servicios. | D19: =+'EVALUACION CON CONTROLES'!B24 -> EJECUCIÓN | E19: =VLOOKUP(C19,'IDENTIFICACION Y ANALISIS'!$B$19:$F$71,3,FALSE) -> #N/A | F19: =VLOOKUP(C19,'IDENTIFICACION Y ANALISIS'!$B$19:$F$71,4,FALSE) -> #N/A | G19: Quejas y reclamos por los subcontratistas a la Alcaldía Local | H19: =+EVALUACION!I42 -> 3 | I19: =+EVALUACION!J42 -> 3 | J19: =+EVALUACION!K42 -> 6 | K19: =+EVALUACION!L42 -> ALTO | L19: CONTRATISTA Y SDG | N19: =+'EVALUACION CON CONTROLES'!G24 -> Transferir el riesgo. Exigir al contratista la suscripción de una póliza que tenga cobertura durante la ejecución del contrato (Póliza RCE) | O19: =+'EVALUACION CON CONTROLES'!I24 -> 3 | P19: =+'EVALUACION CON CONTROLES'!J24 -> 4 | Q19: =+'EVALUACION CON CONTROLES'!K24 -> 7 | R19: =+'EVALUACION CON CONTROLES'!L24 -> ALTO | S19: =+'EVALUACION CON CONTROLES'!M24 -> Afecta directamente la prestación del servicio de manera temporal | T19: =+'EVALUACION CON CONTROLES'!N24 -> 1. Alcaldía local 2. Ejecutor | U19: =+'EVALUACION CON CONTROLES'!O24 -> Apartir de la suscripción del contrato | V19: =+'EVALUACION CON CONTROLES'!P24 -> 1. Fecha de recibo final 2.Fecha de Liquidación | ... X19: =+'EVALUACION CON CONTROLES'!R24 -> Cada vez que se requiera
B20: 10 | C20: =+'EVALUACION CON CONTROLES'!C25:F25 -> Incumplimiento de la administración en los pagos. | D20: =+'EVALUACION CON CONTROLES'!B25 -> EJECUCIÓN | E20: =VLOOKUP(C20,'IDENTIFICACION Y ANALISIS'!$B$19:$F$71,3,FALSE) -> #N/A | F20: =VLOOKUP(C20,'IDENTIFICACION Y ANALISIS'!$B$19:$F$71,4,FALSE) -> #N/A | G20: Posible desequilibrio para el contratista y posible incumplimiento | H20: =+EVALUACION!I43 -> 3 | I20: =+EVALUACION!J43 -> 4 | J20: =+EVALUACION!K43 -> 7 | K20: =+EVALUACION!L43 -> ALTO | L20: SDG | N20: =+'EVALUACION CON CONTROLES'!G25 -> Establecer garantias de incumplimiento y clausulas contractuales que eviten el suceso | O20: =+'EVALUACION CON CONTROLES'!I25 -> 2 | P20: =+'EVALUACION CON CONTROLES'!J25 -> 2 | Q20: =+'EVALUACION CON CONTROLES'!K25 -> 4 | R20: =+'EVALUACION CON CONTROLES'!L25 -> BAJO | S20: =+'EVALUACION CON CONTROLES'!M25 -> Afecta directamente la prestación del servicio de manera temporal | T20: =+'EVALUACION CON CONTROLES'!N25 -> Alcaldía Local AN | U20: =+'EVALUACION CON CONTROLES'!O25 -> Apartir del acta de inicio | V20: =+'EVALUACION CON CONTROLES'!P25 -> 1. Fecha de recibo final 2.Fecha de Liquidación | ... X20: =+'EVALUACION CON CONTROLES'!R25 -> Cada vez que se requiera
B21: 11 | C21: =+'EVALUACION CON CONTROLES'!C26:F26 -> Inasistencia de los Participantes a las actividades desarrolladas en los diferentes proyectos | D21: =+'EVALUACION CON CONTROLES'!B26 -> EJECUCIÓN | E21: General | F21: Externo | G21: Retrasos en la ejecución y no cumplimiento de meta | H21: =+EVALUACION!I44 -> 2 | I21: =+EVALUACION!J44 -> 2 | J21: =+EVALUACION!K44 -> 4 | K21: =+EVALUACION!L44 -> BAJO | L21: CONTRATISTA | N21: =+'EVALUACION CON CONTROLES'!G26 -> Establecer garantias de incumplimiento y clausulas contractuales que eviten el suceso | O21: =+'EVALUACION CON CONTROLES'!I26 -> 2 | P21: =+'EVALUACION CON CONTROLES'!J26 -> 3 | Q21: =+'EVALUACION CON CONTROLES'!K26 -> 5 | R21: =+'EVALUACION CON CONTROLES'!L26 -> MEDIO | S21: =+'EVALUACION CON CONTROLES'!M26 -> Se presenta en la ejecucion del contrato sin que altere la ejecución del mismo de manera definitiva | T21: =+'EVALUACION CON CONTROLES'!N26 -> 1. Ejecutor | U21: =+'EVALUACION CON CONTROLES'!O26 -> Apartir del acta de inicio | V21: =+'EVALUACION CON CONTROLES'!P26 -> 1. Fecha de recibo final 2.Fecha de Liquidación | ... X21: =+'EVALUACION CON CONTROLES'!R26 -> Cada vez que se requiera
B22: 12 | C22: =+'EVALUACION CON CONTROLES'!C27:F27 -> Son los eventos naturales en los cuales no hay intervención humana y que pueden llegar a impactar la ejecución del contrato, como temblores, lluvias u otros | D22: =+'EVALUACION CON CONTROLES'!B27 -> EJECUCIÓN | E22: General | F22: Externo | G22: Accidentes, fallecimiento u otros | H22: =+EVALUACION!I51 -> 3 | I22: =+EVALUACION!J51 -> 2 | J22: =+EVALUACION!K51 -> 5 | K22: =+EVALUACION!L51 -> MEDIO | L22: CONTRATISTA Y SDG | N22: =+'EVALUACION CON CONTROLES'!G27 -> Establecer un plan de contingencia que permita hacer frente ante posibles eventos y calamidades que se presenten durante la ejecuión del contrato. | O22: =+'EVALUACION CON CONTROLES'!I27 -> 1 | P22: =+'EVALUACION CON CONTROLES'!J27 -> 5 | Q22: =+'EVALUACION CON CONTROLES'!K27 -> 6 | R22: =+'EVALUACION CON CONTROLES'!L27 -> ALTO | S22: =+'EVALUACION CON CONTROLES'!M27 -> Se puede presentar en la ejecucion del contrato sin que altere la ejecución del mismo de manera definitiva | T22: =+'EVALUACION CON CONTROLES'!N27 -> 1. Alcaldía local 2. Ejecutor | U22: =+'EVALUACION CON CONTROLES'!O27 -> Apartir del acta de inicio | V22: =+'EVALUACION CON CONTROLES'!P27 -> 1. Fecha de recibo final 2.Fecha de Liquidación | ... X22: =+'EVALUACION CON CONTROLES'!R27 -> Cada vez que se requiera
B23: 13 | C23: =+'EVALUACION CON CONTROLES'!C28:F28 -> No contar con los suficientes recursos o liquidez para garantizar el cumplimiento del objeto contractual. | D23: =+'EVALUACION CON CONTROLES'!B28 -> EJECUCIÓN | E23: Especifico | F23: Externo | G23: Posible desequilibrio para el contratista y posible incumplimiento | H23: =+EVALUACION!I52 -> 3 | I23: =+EVALUACION!J52 -> 3 | J23: =+EVALUACION!K52 -> 6 | K23: =+EVALUACION!L52 -> ALTO | L23: CONTRATISTA Y SDG | N23: =+'EVALUACION CON CONTROLES'!G28 -> Evaluar la experiencia del proponente en donde se evidencia finalización y entrega de procesos similares a satisfacción. | O23: =+'EVALUACION CON CONTROLES'!I28 -> 1 | P23: =+'EVALUACION CON CONTROLES'!J28 -> 4 | Q23: =+'EVALUACION CON CONTROLES'!K28 -> 5 | R23: =+'EVALUACION CON CONTROLES'!L28 -> MEDIO | S23: =+'EVALUACION CON CONTROLES'!M28 -> Se puede presentar en la ejecucion del contrato sin que altere la ejecución del mismo de manera definitiva | T23: =+'EVALUACION CON CONTROLES'!N28 -> 1. Alcaldía local 2. Ejecutor | U23: =+'EVALUACION CON CONTROLES'!O28 -> Apartir del acta de inicio | V23: =+'EVALUACION CON CONTROLES'!P28 -> 1. Fecha de recibo final 2.Fecha de Liquidación | ... X23: =+'EVALUACION CON CONTROLES'!R28 -> Cada vez que se requiera
B24: 14 | C24: =+'EVALUACION CON CONTROLES'!C29:F29 -> Cambios en el personal sin reemplazo oportuno | D24: =+'EVALUACION CON CONTROLES'!B29 -> EJECUCIÓN | E24: Especifico | F24: Interno | G24: retrasos en la ejecución del contrato | H24: =+EVALUACION!I53 -> 3 | I24: =+EVALUACION!J53 -> 2 | J24: =+EVALUACION!K53 -> 5 | K24: =+EVALUACION!L53 -> MEDIO | L24: CONTRATISTA Y SDG | N24: =+'EVALUACION CON CONTROLES'!G29 -> Establecer garantías y obligaciones especificas al ejecutor | O24: =+'EVALUACION CON CONTROLES'!I29 -> 4 | P24: =+'EVALUACION CON CONTROLES'!J29 -> 4 | Q24: =+'EVALUACION CON CONTROLES'!K29 -> 8 | R24: =+'EVALUACION CON CONTROLES'!L29 -> EXTREMO | S24: =+'EVALUACION CON CONTROLES'!M29 -> Se puede presentar en la ejecucion del contrato sin que altere la ejecución del mismo de manera definitiva | T24: =+'EVALUACION CON CONTROLES'!N29 -> 1. Alcaldía local 2. Ejecutor | U24: =+'EVALUACION CON CONTROLES'!O29 -> Apartir del acta de inicio | V24: =+'EVALUACION CON CONTROLES'!P29 -> 1. Fecha de recibo final 2.Fecha de Liquidación | ... X24: =+'EVALUACION CON CONTROLES'!R29 -> Cada vez que se requiera
B25: 15 | C25: =+'EVALUACION CON CONTROLES'!C30:F30 -> Deserción de los participantes | D25: =+'EVALUACION CON CONTROLES'!B30 -> EJECUCIÓN | E25: General | F25: Externo | G25: retrasos en la ejecución del contrato | H25: =+EVALUACION!I55 -> 2 | I25: =+EVALUACION!J55 -> 2 | J25: =+EVALUACION!K55 -> 4 | K25: =+EVALUACION!L55 -> BAJO | L25: CONTRATISTA | N25: =+'EVALUACION CON CONTROLES'!G30 -> Garantizar por parte del ejecutor el acompañanmiento continuo a los participantes | O25: =+'EVALUACION CON CONTROLES'!I30 -> 4 | P25: =+'EVALUACION CON CONTROLES'!J30 -> 4 | Q25: =+'EVALUACION CON CONTROLES'!K30 -> 8 | R25: =+'EVALUACION CON CONTROLES'!L30 -> EXTREMO | S25: =+'EVALUACION CON CONTROLES'!M30 -> Se puede presentar en la ejecucion del contrato sin que altere la ejecución del mismo de manera definitiva | T25: =+'EVALUACION CON CONTROLES'!N30 -> 1. Ejecutor | U25: =+'EVALUACION CON CONTROLES'!O30 -> Apartir del acta de inicio | V25: =+'EVALUACION CON CONTROLES'!P30 -> 1. Fecha de recibo final 2.Fecha de Liquidación | ... X25: =+'EVALUACION CON CONTROLES'!R30 -> Cada vez que se requiera
B26: 16 | C26: =+'EVALUACION CON CONTROLES'!C31:F31 -> Cambios en la tarifa que afecte el equilibrio económico | D26: =+'EVALUACION CON CONTROLES'!B31 -> EJECUCIÓN | E26: Especifico | F26: Externo | G26: Posible desequilibrio para el contratista y posible incumplimiento | H26: =+EVALUACION!I56 -> 2 | I26: =+EVALUACION!J56 -> 2 | J26: =+EVALUACION!K56 -> 4 | K26: =+EVALUACION!L56 -> BAJO | L26: CONTRATISTA Y SDG | N26: =+'EVALUACION CON CONTROLES'!G31 -> Generar alertas a tiempo para reducir la probabilidad de ocurrencia | O26: =+'EVALUACION CON CONTROLES'!I31 -> 3 | P26: =+'EVALUACION CON CONTROLES'!J31 -> 3 | Q26: =+'EVALUACION CON CONTROLES'!K31 -> 6 | R26: =+'EVALUACION CON CONTROLES'!L31 -> ALTO | S26: =+'EVALUACION CON CONTROLES'!M31 -> Se puede presentar en la ejecucion del contrato sin que altere la ejecución del mismo de manera definitiva | T26: =+'EVALUACION CON CONTROLES'!N31 -> 1. Ejecutor 2. Alcaldía Local | U26: =+'EVALUACION CON CONTROLES'!O31 -> Apartir del acta de inicio | V26: =+'EVALUACION CON CONTROLES'!P31 -> 1. Fecha de recibo final 2.Fecha de Liquidación | ... X26: =+'EVALUACION CON CONTROLES'!R31 -> Cada vez que se requiera
B27: 17 | C27: =+'EVALUACION CON CONTROLES'!C32:F32 -> El no prestamo de los escenarios para la realización de las actividades | D27: =+'EVALUACION CON CONTROLES'!B32 -> EJECUCIÓN | E27: General | F27: Externo | G27: retrasos en la ejecución del contrato | H27: =+EVALUACION!I57 -> 2 | I27: =+EVALUACION!J57 -> 2 | J27: =+EVALUACION!K57 -> 4 | K27: =+EVALUACION!L57 -> BAJO | L27: CONTRATISTA Y SDG | N27: =+'EVALUACION CON CONTROLES'!G32 -> Solicitar con tiempo los espacos una vez se firme acta de inicio | O27: =+'EVALUACION CON CONTROLES'!I32 -> 4 | P27: =+'EVALUACION CON CONTROLES'!J32 -> 4 | Q27: =+'EVALUACION CON CONTROLES'!K32 -> 8 | R27: =+'EVALUACION CON CONTROLES'!L32 -> EXTREMO | S27: =+'EVALUACION CON CONTROLES'!M32 -> Afecta directamente la prestación del servicio de manera temporal | T27: =+'EVALUACION CON CONTROLES'!N32 -> 1. Ejecutor 2. Alcaldía Local | U27: =+'EVALUACION CON CONTROLES'!O32 -> Apartir del acta de inicio | V27: =+'EVALUACION CON CONTROLES'!P32 -> 1. Fecha de recibo final 2.Fecha de Liquidación | ... X27: =+'EVALUACION CON CONTROLES'!R32 -> Cada vez que se requiera
