Workbook

Sheet ProyecciónFinal_2
B3: =+CosteoIndividual2!B2 -> RESUMEN COTIZACIONES DE PRECIOS - Matriz de Calculo - FDLB-ES-C-086-2026
B5: ITEM | C5: PRODUCTO O SERVICIO | D5: ESPECIFICACION TECNICA | E5: DESCRIPCION TECNICA | F5: UNIDAD DE MEDIDA A COTIZAR | G5: CANTIDAD A COTIZAR | H5: VALOR UNITARIO PROMEDIO O MEDIANA (INCLUIDO IVA SI APLICA) | I5: VALOR PROMEDIO O MEDIANA TOTAL (INCLUIDO IVA SI APLICA) | J5: FUENTE DE CONSULTA | K5: DESVIACIÓN ESTÁNDAR | L5: SI DESVEST ES >15% SE PROMEDIA CON MEDIANA | M5: Tecnica Utilizada
B6: =CosteoIndividual2!B7 -> 1 | C6: =CosteoIndividual2!C7 -> Alquiler de salón de eventos 100 personas | D6: =CosteoIndividual2!D7 -> Servicio de alquiler de un (1) salón para el desarrollo de eventos, que cuente con espacio para la atención de mínimo cien (100) personas sentadas, dotado con las condiciones físicas elementos estructurales, técnicos y logísticos tales como tarima, zonas de entrada y recepción, iluminación en pasillos, áreas de circulación, escaleras, zonas de cambio de nivel, baños, halls de entrada y recepciones, zonas de oficinas, en caso de ser necesario iluminación para espéctalos, servicio de sonido que garantice la calidad y cubrimiento de todo el espacio, sillas plásticas sin brazos de color blanco, mesas cuadradas y rectangulares con mantel de color blanco, señalización y todos los elementos que garanticen la atención de emergencias. El tiempo de alquiler del servicio tendrá una duración de ocho (8) horas. | E6: =CosteoIndividual2!E7 -> N/A | F6: =CosteoIndividual2!F7 -> UN | G6: =CosteoIndividual2!G7 -> 1 | H6: =CosteoIndividual2!AA7 -> 1577348 | I6: =CosteoIndividual2!AB7 -> 1577348 | J6: =+CosteoIndividual2!AC7 -> FDLB-ES-C-048-2026 | K6: =CosteoIndividual2!AD7 -> 1456524.3 | L6: =CosteoIndividual2!AE7 -> 0.64849198 | M6: =IF(L6="","",IF(L6<0.15,"Promedio","Mediana")) -> Mediana
B7: =CosteoIndividual2!B8 -> 2 | C7: =CosteoIndividual2!C8 -> Alquiler de videobeam tipo 1 | D7: =CosteoIndividual2!D8 -> Servicio de alquiler de Video Beam de cuatro mil (4000) lumens de resolución 4K y entradas HDMI Y Display Port, conectividad inalámbrica y todos los accesorios que garanticen su correcto funcionamiento, debe incluir debe incluir telón para proyecciones entre cien (100) y ciento veinte (120) pulgadas (") para izar o con base para piso transporte de carga, personal técnico uniformados con todos los elementos de seguridad e identificado para su instalación, operación y desmontaje conforme a la programación establecida por la Alcaldía Local de Bosa.El tiempo de alquiler del servicio tendrá una duración de diez (10) horas. | E7: =CosteoIndividual2!E8 -> N/A | F7: =CosteoIndividual2!F8 -> UN | G7: =CosteoIndividual2!G8 -> 1 | H7: =CosteoIndividual2!AA8 -> 356451 | I7: =CosteoIndividual2!AB8 -> 356451 | J7: =+CosteoIndividual2!AC8 -> FDLB-ES-C-048-2026 | K7: =CosteoIndividual2!AD8 -> 4059069.1 | L7: =CosteoIndividual2!AE8 -> 1.7188396 | M7: =IF(L7="","",IF(L7<0.15,"Promedio","Mediana")) -> Mediana
B8: =CosteoIndividual2!B9 -> 3 | C8: =CosteoIndividual2!C9 -> Suministro Impresión de volantes | D8: =CosteoIndividual2!D9 -> Impresión de mil (1000) volantes en tamaño media carta trece (13) centímetros x veintiún 21 centímetros a full color por dos caras (4x4) en propalcote de ciento quince (115) gramos conforme al diseño establecido por la Alcaldía Local de Bosa | E8: =CosteoIndividual2!E9 -> Debe contener como mínimo la siguiente información: Logos de la Alcaldía Local de Bosa (ALB), información de la convocatoria, código QR que dirija al formulario de inscripción y lo demás que disponga el Comité Técnico de Seguimiento y Control | F8: =CosteoIndividual2!F9 -> UN | G8: =CosteoIndividual2!G9 -> 1 | H8: =CosteoIndividual2!AA9 -> 419304 | I8: =CosteoIndividual2!AB9 -> 419304 | J8: =+CosteoIndividual2!AC9 -> FDLB-ES-C-048-2026 | K8: =CosteoIndividual2!AD9 -> 6264495.4 | L8: =CosteoIndividual2!AE9 -> 1.7744291 | M8: =IF(L8="","",IF(L8<0.15,"Promedio","Mediana")) -> Mediana
B9: =CosteoIndividual2!B10 -> 4 | C9: =CosteoIndividual2!C10 -> Suministro Impresión de certificado/diploma | D9: =CosteoIndividual2!D10 -> Impresión de certificados / Diplomas en tamaño carta a Full Color en Sutratato En Opalina O Propalcote 200 G para ser entregados conforme a la programación establecida por la Alcaldía Local de Bosa | E9: =CosteoIndividual2!E10 -> Deben contener la siguiente información: Logos de la Alcaldía Local de Bosa y Presupuestos participativos, la información del proyecto (nombre del proyecto, número del contrato, fecha realización), datos de identificación del/la participante (nombre y cédula), fecha de entrega, entre otros que sean acordados en los Comités | F9: =CosteoIndividual2!F10 -> UN | G9: =CosteoIndividual2!G10 -> 1 | H9: =CosteoIndividual2!AA10 -> 376808 | I9: =CosteoIndividual2!AB10 -> 376808 | J9: =+CosteoIndividual2!AC10 -> FDLB-ES-C-048-2026 | K9: =CosteoIndividual2!AD10 -> 5650046 | L9: =CosteoIndividual2!AE10 -> 2.0002114 | M9: =IF(L9="","",IF(L9<0.15,"Promedio","Mediana")) -> Mediana
B10: =CosteoIndividual2!B11 -> 5 | C10: =CosteoIndividual2!C11 -> Suministro Resma de papel Carta | D10: =CosteoIndividual2!D11 -> Suministro de resma de papel blanco multiuso en tamaño carta (216 x 279 mm), gramaje 75 g/m² ( 500 hojas por resma) opacidad ≥ 90 %, uso impresión y copiado láser e inyección para ser sumisnitrado conforme a la programacion establecida por la Alcaldia Local de Bosa | E10: =CosteoIndividual2!E11 -> N/A | F10: =CosteoIndividual2!F11 -> UN | G10: =CosteoIndividual2!G11 -> 1 | H10: =CosteoIndividual2!AA11 -> 24408 | I10: =CosteoIndividual2!AB11 -> 24408 | J10: =+CosteoIndividual2!AC11 -> FDLB-ES-C-048-2026 | K10: =CosteoIndividual2!AD11 -> 39541.579 | L10: =CosteoIndividual2!AE11 -> 0.79066908 | M10: =IF(L10="","",IF(L10<0.15,"Promedio","Mediana")) -> Mediana
B11: =CosteoIndividual2!B12 -> 6 | C11: =CosteoIndividual2!C12 -> Suministro Bolígrafo negro semi gel | D11: =CosteoIndividual2!D12 -> Suministro de caja con doce (12) unidades de Bolígrafo tinta negra tipo semi-gel, punta 0,7 mm, cuerpo plástico para ser entregado conforme a la programacion establecida por la Alcaldia Local de Bosa | E11: =CosteoIndividual2!E12 -> Debe tener el logo de la ALB, el nombre de "PROCEDAS 2025", y el nombre de "Presupuestos participativos" cuando corresponda | F11: =CosteoIndividual2!F12 -> UN | G11: =CosteoIndividual2!G12 -> 1 | H11: =CosteoIndividual2!AA12 -> 15520 | I11: =CosteoIndividual2!AB12 -> 15520 | J11: =+CosteoIndividual2!AC12 -> FDLB-ES-C-048-2026 | K11: =CosteoIndividual2!AD12 -> 2162279 | L11: =CosteoIndividual2!AE12 -> 1.9734428 | M11: =IF(L11="","",IF(L11<0.15,"Promedio","Mediana")) -> Mediana
B12: =CosteoIndividual2!B13 -> 7 | C12: =CosteoIndividual2!C13 -> Suministro Agenda ecológica | D12: =CosteoIndividual2!D13 -> Agenda con esfero ecológico y con 80 hojas rayadas. Alto 18,1 cm Ancho 13 cm Largo Esfero: 14 cm Profundidad 1,4 cm para ser entregado conforme a la programacion establecida por la Alcaldia Local de Bosa | E12: =CosteoIndividual2!E13 -> Debe tener el logo de la ALB, el nombre de "PROCEDAS 2025", y el nombre de "Presupuestos participativos" cuando corresponda | F12: =CosteoIndividual2!F13 -> UN | G12: =CosteoIndividual2!G13 -> 1 | H12: =CosteoIndividual2!AA13 -> 35000 | I12: =CosteoIndividual2!AB13 -> 35000 | J12: =+CosteoIndividual2!AC13 -> FDLB-ES-C-048-2026 | K12: =CosteoIndividual2!AD13 -> 230689.03 | L12: =CosteoIndividual2!AE13 -> 1.4445284 | M12: =IF(L12="","",IF(L12<0.15,"Promedio","Mediana")) -> Mediana
B13: =CosteoIndividual2!B14 -> 8 | C13: =CosteoIndividual2!C14 -> Suministro Bolsa ecológica | D13: =CosteoIndividual2!D14 -> Suministro de paquete con cincuenta (50) unidades de bolsas ecológicas fabricadas en 100% algodón orgánico de cincuenta (50) centímetros de largo x cuarenta y cinco (45) cm de ancho en colores variados marcadas por los dos (2) costados conforme al diseño establecido por la Alcaldía Local de Bosa. | E13: =CosteoIndividual2!E14 -> Debe tener el logo de la ALB, el nombre de "PROCEDAS 2025", y el nombre de "Presupuestos participativos" cuando corresponda | F13: =CosteoIndividual2!F14 -> PAC | G13: =CosteoIndividual2!G14 -> 1 | H13: =CosteoIndividual2!AA14 -> 6230 | I13: =CosteoIndividual2!AB14 -> 6230 | J13: =+CosteoIndividual2!AC14 -> FDLB-ES-C-048-2026 | K13: =CosteoIndividual2!AD14 -> 740389.28 | L13: =CosteoIndividual2!AE14 -> 1.9435539 | M13: =IF(L13="","",IF(L13<0.15,"Promedio","Mediana")) -> Mediana
B14: =CosteoIndividual2!B15 -> 9 | C14: =CosteoIndividual2!C15 -> Suministro Refrigerio tipo 1 | D14: =CosteoIndividual2!D15 -> Suministro de Refrigerio compuesto por un (1) pastel de pollo o un (1) pastel de carne o un (1) pastel gloria o un (1) sándwich con dos (2) rebanadas de pan, una (1) tajada de jamón y una (1) tajada de queso, una (1) fruta entera y un (1) jugo en envase pet o Tetrapak doscientos (200) ml, una (1) fruta (manzana, pera, durazno, banano, mandarina, o ciruela), todos los alimentos relacionados en esta descripción técnica deberán estar en empaques desechables biodegradables aptos para el almacenamiento y transporte de alimentos, para ser entregados conforme a la programación establecida por la Alcaldía Local de Bosa. el servicio de alquiler por diez (10) horas | E14: =CosteoIndividual2!E15 -> El servicio de refrigerio debe incluir transporte y personal en el lugar y horario establecido por la Alcaldía Local de Bosa. La entidad ejecutora se compromete a suministrar al FDLB los documentos donde consten la formalización del proveedor lo que incluye entre otros, los cursos de manipulación de alimentos de los operarios. | F14: =CosteoIndividual2!F15 -> UN | G14: =CosteoIndividual2!G15 -> 1 | H14: =CosteoIndividual2!AA15 -> 13571 | I14: =CosteoIndividual2!AB15 -> 13571 | J14: =+CosteoIndividual2!AC15 -> FDLB-ES-C-048-2026 | K14: =CosteoIndividual2!AD15 -> 1686.0337 | L14: =CosteoIndividual2!AE15 -> 0.088726702 | M14: =IF(L14="","",IF(L14<0.15,"Promedio","Mediana")) -> Promedio
B15: =CosteoIndividual2!B16 -> 10 | C15: =CosteoIndividual2!C16 -> Suministro Refrigerio tipo 3 | D15: =CosteoIndividual2!D16 -> Servicio de refrigerio compuesto por un (1) sándwich de pan baguette que contenga con pollo, queso, lechuga, tomate y salsa, una (1) bebida de 400 ml, una (1) fruta y un (1) dulce, todos los alimentos relacionados en esta descripción técnica deberán estar en empaques desechables biodegradables aptos para el almacenamiento y transporte de alimentos, para ser entregados conforme a la programación establecida por la Alcaldía Local de Bosa. | E15: =CosteoIndividual2!E16 -> El servicio de refrigerio debe incluir transporte y personal en el lugar y horario establecido por la Alcaldía Local de Bosa. La entidad ejecutora se compromete a suministrar al FDLB los documentos donde consten la formalización del proveedor lo que incluye entre otros, los cursos de manipulación de alimentos de los operarios. | F15: =CosteoIndividual2!F16 -> UN | G15: =CosteoIndividual2!G16 -> 1 | H15: =CosteoIndividual2!AA16 -> 16938 | I15: =CosteoIndividual2!AB16 -> 16938 | J15: =+CosteoIndividual2!AC16 -> FDLB-ES-C-048-2026 | K15: =CosteoIndividual2!AD16 -> 1788.9582 | L15: =CosteoIndividual2!AE16 -> 0.070899657 | M15: =IF(L15="","",IF(L15<0.15,"Promedio","Mediana")) -> Promedio
B16: =CosteoIndividual2!B17 -> 11 | C16: =CosteoIndividual2!C17 -> Suministro Almuerzo tipo 1 | D16: =CosteoIndividual2!D17 -> Servicio de almuerzo compuesto por una (1) porción de proteína de ciento cincuenta (150) gramos, una (1) porción de ensalada fresca de ciento cincuenta (150) gramos, una (1) porción de arroz blanco de ochenta (80) gramos, una (1) porción de verdura de cien (100) gramos, una (1) porción de papa en cascos de ochenta (80) gramos y una bebida de jugo natural de doscientos (200) mililitros, todos los alimentos relacionados en esta descripción técnica deberán estar en empaques desechables biodegradables aptos para el almacenamiento y transporte de alimentos preparados que incluya cuchara, tenedor, cuchillo y servilleta, para ser entregados de manera individual conforme a la programación establecida por la Alcaldía Local de Bosa. | E16: =CosteoIndividual2!E17 -> Incluye empaque y transporte a lugares definidos por la alcaldía. Los empaques y contenedores deben ser reciclables (no icopor) o compostables y se debe incluir su manejo post-consumo | F16: =CosteoIndividual2!F17 -> UN | G16: =CosteoIndividual2!G17 -> 1 | H16: =CosteoIndividual2!AA17 -> 32833 | I16: =CosteoIndividual2!AB17 -> 32833 | J16: =+CosteoIndividual2!AC17 -> FDLB-ES-C-048-2026 | K16: =CosteoIndividual2!AD17 -> 3527.3516 | L16: =CosteoIndividual2!AE17 -> 0.10743402 | M16: =IF(L16="","",IF(L16<0.15,"Promedio","Mediana")) -> Promedio
B17: =CosteoIndividual2!B18 -> 12 | C17: =CosteoIndividual2!C18 -> Suministro Video clip | D17: =CosteoIndividual2!D18 -> Produccion y edición de video clip que contenga y recopile el proceso de implementación de los PROCEDAS de maximo 10 minutos | E17: =CosteoIndividual2!E18 -> N/A | F17: =CosteoIndividual2!F18 -> UN | G17: =CosteoIndividual2!G18 -> 1 | H17: =CosteoIndividual2!AA18 -> 1190574 | I17: =CosteoIndividual2!AB18 -> 1190574 | J17: =+CosteoIndividual2!AC18 -> FDLB-ES-C-086-2026 | K17: =CosteoIndividual2!AD18 -> 23879432 | L17: =CosteoIndividual2!AE18 -> 1.3666573 | M17: =IF(L17="","",IF(L17<0.15,"Promedio","Mediana")) -> Mediana
... B47: =CosteoIndividual2!B48 -> 42 | C47: =CosteoIndividual2!C48 -> SUMINISTRO AFICHES | D47: =CosteoIndividual2!D48 -> SUMINISTRO DE MIL (1.000) AFICHES EN TAMAÑO 33 CM DE ANCHO X 48 CM DE ALTO, IMPRESIÓN A CUATRICROMÍA (4X0) EN PAPEL PROPALCOLTE DE DOSCIENTOS (200) GRAMOS SEGÚN EL DISEÑO ENTREGADO POR LA ALCALDÍA LOCAL DE BOSA. LA IMPRESIÓN DEBE SER DE ALTA CALIDAD GARANTIZANDO QUE LOS DETALLES SEAN NÍTIDOS, CON BUENOS CORTES EN LOS PERFILES Y EXCELENTE PRESENTACIÓN ESTÉTICA. | E47: =CosteoIndividual2!E48 -> Incluye entrega en Bosa, Incluye gastos de entrega e impuestos (si aplica) | F47: =CosteoIndividual2!F48 -> UN | G47: =CosteoIndividual2!G48 -> 1 | H47: =CosteoIndividual2!AA48 -> 2521984 | I47: =CosteoIndividual2!AB48 -> 2521984 | J47: =+CosteoIndividual2!AC48 -> FDLB-ES-C-048-2026 | K47: =CosteoIndividual2!AD48 -> 0 | L47: =CosteoIndividual2!AE48 -> 0 | M47: =IF(L47="","",IF(L47<0.15,"Promedio","Mediana")) -> Promedio
G48: TOTAL | I48: =SUM(I6:I47) -> 145728343

Sheet Hoja1
C5: COTIZACIONES POR CORREO ELECTRONICO
C7: PROVEEDORES | D7: 3099
C8: COTIZACIONES | D8: 3

Sheet CosteoIndividual2
B2: RESUMEN COTIZACIONES DE PRECIOS - Matriz de Calculo - FDLB-ES-C-086-2026
I4: FDLB-ES-C-086-2026 | L4: FDLB-ES-C-048-2026
I5: GRUPO DISCENTIA 360 S.A.S - 900.197.249-7 | J5: CENTRO DE INNOVACIÓN PARA EL DESARROLLO SOCIAL - 901.418.605-1 | K5: CORPORACIÓN COLOMBIANA DE AGRICULTURA URBANA Y CONSERVACIÓN DEL AMBIENTE CORAMBIENTAL - 830.071.862-7 | L5: CSTBOV SAS NIT: 900910140 | M5: FUNDACIÓN JUSTICIA SOCIAL NIT: 830069703 | N5: 3csoluciones integrales NIT: 901995151 | O5: CORAMBIENTAL NIT: 830071862 | P5: 04-CEA MONACO Academia de Automovilismo y Motociclismo NIT 79937664-1 | Q5: 05-ESCUELA AMERICANA DE AUTOMOVILISMO NIT 901757387-2 | R5: 06-EDUCARS SAS NIT 901621016-0 | S5: 07-CEA FENIX NIT 901.712.069-1 | T5: FDLB-ES-C-113-2026
B6: ITEM | C6: PRODUCTO O SERVICIO | D6: DESCRIPCION TECNICA (Especifique mas detalles en caso de ser necesario) | E6: DESCRIPCION TECNICA (Especifique mas detalles en caso de ser necesario) | F6: UNIDAD DE MEDIDA A COTIZAR | G6: CANTIDAD A COTIZAR | H6: TIEMPO | I6: Cotización 1 VALOR UNITARIO (INCLUIDO IVA SI APLICA) | J6: Cotización 2 VALOR UNITARIO (INCLUIDO IVA SI APLICA) | K6: Cotización 3 VALOR UNITARIO (INCLUIDO IVA SI APLICA) | L6: Cotización 4 VALOR UNITARIO (INCLUIDO IVA SI APLICA) | M6: Cotización 5 VALOR UNITARIO (INCLUIDO IVA SI APLICA) | N6: Cotización VALOR UNITARIO (INCLUIDO IVA SI APLICA) | O6: Cotización 7 VALOR UNITARIO (INCLUIDO IVA SI APLICA) | P6: Cotización 8 VALOR UNITARIO (INCLUIDO IVA SI APLICA) | Q6: Cotización 9 VALOR UNITARIO (INCLUIDO IVA SI APLICA) | R6: Cotización 10 VALOR UNITARIO (INCLUIDO IVA SI APLICA) | S6: Cotización 11 VALOR UNITARIO (INCLUIDO IVA SI APLICA) | T6: CENTRO DE INNOVACIÓN PARA EL DESARROLLO SOCIAL - 901.418.605-1 | U6: ASOCIACION COORDINADORA CIVICA NACIONAL - 830.058.435-9 | V6: CORPORACIÓN COLOMBIANA DE AGRICULTURA URBANA Y CONSERVACIÓN DEL AMBIENTE CORAMBIENTAL - 830.071.862-7 | W6: GRUPO DISCENTIA 360 S.A.S - 900.197.249-7 | X6: PROCESOS ADJUDICADOS OTRAS ENTIDADES | Y6: RESOLUCION | Z6: VCP | AA6: VALOR UNITARIO PROMEDIO O MEDIANA (INCLUIDO IVA SI APLICA) | AB6: VALOR PROMEDIO O MEDIANA TOTAL (INCLUIDO IVA SI APLICA) | AC6: FUENTE DE CONSULTA | AD6: DESVIACIÓN ESTÁNDAR | AE6: SI DESVEST ES >15% SE PROMEDIA CON MEDIANA | AG6: Cotizaciones Elemento | AH6: Probabilidad Ahorro | AJ6: VALORES DE OTRAS ALCALDIAS | AK6: PROCESO | AL6: LINK
B7: 1 | C7: Alquiler de salón de eventos 100 personas | D7: Servicio de alquiler de un (1) salón para el desarrollo de eventos, que cuente con espacio para la atención de mínimo cien (100) personas sentadas, dotado con las condiciones físicas elementos estructurales, técnicos y logísticos tales como tarima, zonas de entrada y recepción, iluminación en pasillos, áreas de circulación, escaleras, zonas de cambio de nivel, baños, halls de entrada y recepciones, zonas de oficinas, en caso de ser necesario iluminación para espéctalos, servicio de sonido que garantice la calidad y cubrimiento de todo el espacio, sillas plásticas sin brazos de color blanco, mesas cuadradas y rectangulares con mantel de color blanco, señalización y todos los elementos que garanticen la atención de emergencias. El tiempo de alquiler del servicio tendrá una duración de ocho (8) horas. | E7: N/A | F7: UN | G7: 1 | L7: 1410210 | M7: 1420796.8 | N7: 1733900 | O7: 4419163 | AA7: =IFERROR(IF(AE7>(0.15),ROUND(MEDIAN(I7:Y7),0),ROUND(AVERAGE(I7:Y7),0)),"") -> 1577348 | AB7: =+AA7*G7 -> 1577348 | AC7: FDLB-ES-C-048-2026 | AD7: =IFERROR(STDEV(I7:Y7),"") -> 1456524.3 | AE7: =IFERROR(AD7/AVERAGE(I7:Y7),"") -> 0.64849198 | AG7: =COUNTIF(I7:Y7,">0") -> 4 | AH7: =1-(MIN(I7:Y7)/AA7) -> 0.1059614 | AJ7: 2697000 | AK7: CO1.REQ.10518120 | AL7: https://community.secop.gov.co/Public/Tendering/OpportunityDetail/Index?noticeUID=CO1.NTC.10374619
B8: 2 | C8: Alquiler de videobeam tipo 1 | D8: Servicio de alquiler de Video Beam de cuatro mil (4000) lumens de resolución 4K y entradas HDMI Y Display Port, conectividad inalámbrica y todos los accesorios que garanticen su correcto funcionamiento, debe incluir debe incluir telón para proyecciones entre cien (100) y ciento veinte (120) pulgadas (") para izar o con base para piso transporte de carga, personal técnico uniformados con todos los elementos de seguridad e identificado para su instalación, operación y desmontaje conforme a la programación establecida por la Alcaldía Local de Bosa.El tiempo de alquiler del servicio tendrá una duración de diez (10) horas. | E8: N/A | F8: UN | G8: 1 | L8: 8449732.8 | M8: 319401.77 | N8: 393500 | O8: 283434 | Z8: 477492 | AA8: =IFERROR(IF(AE8>(0.15),ROUND(MEDIAN(I8:Y8),0),ROUND(AVERAGE(I8:Y8),0)),"") -> 356451 | AB8: =+AA8*G8 -> 356451 | AC8: FDLB-ES-C-048-2026 | AD8: =IFERROR(STDEV(I8:Y8),"") -> 4059069.1 | AE8: =IFERROR(AD8/AVERAGE(I8:Y8),"") -> 1.7188396 | AG8: =COUNTIF(I8:Y8,">0") -> 4 | AH8: =1-(MIN(I8:Y8)/AA8) -> 0.20484442
B9: 3 | C9: Suministro Impresión de volantes | D9: Impresión de mil (1000) volantes en tamaño media carta trece (13) centímetros x veintiún 21 centímetros a full color por dos caras (4x4) en propalcote de ciento quince (115) gramos conforme al diseño establecido por la Alcaldía Local de Bosa | E9: Debe contener como mínimo la siguiente información: Logos de la Alcaldía Local de Bosa (ALB), información de la convocatoria, código QR que dirija al formulario de inscripción y lo demás que disponga el Comité Técnico de Seguimiento y Control | F9: UN | G9: 1 | L9: 12926922 | M9: 376808.15 | N9: 461800 | O9: 356185.04 | AA9: =IFERROR(IF(AE9>(0.15),ROUND(MEDIAN(I9:Y9),0),ROUND(AVERAGE(I9:Y9),0)),"") -> 419304 | AB9: =+AA9*G9 -> 419304 | AC9: FDLB-ES-C-048-2026 | AD9: =IFERROR(STDEV(I9:Y9),"") -> 6264495.4 | AE9: =IFERROR(AD9/AVERAGE(I9:Y9),"") -> 1.7744291 | AG9: =COUNTIF(I9:Y9,">0") -> 4 | AH9: =1-(MIN(I9:Y9)/AA9) -> 0.15053269
B10: 4 | C10: Suministro Impresión de certificado/diploma | D10: Impresión de certificados / Diplomas en tamaño carta a Full Color en Sutratato En Opalina O Propalcote 200 G para ser entregados conforme a la programación establecida por la Alcaldía Local de Bosa | E10: Deben contener la siguiente información: Logos de la Alcaldía Local de Bosa y Presupuestos participativos, la información del proyecto (nombre del proyecto, número del contrato, fecha realización), datos de identificación del/la participante (nombre y cédula), fecha de entrega, entre otros que sean acordados en los Comités | F10: UN | G10: 1 | L10: 12926922 | M10: 376808.15 | N10: 461800 | O10: 356185.04 | X10: 1907 | AA10: =IFERROR(IF(AE10>(0.15),ROUND(MEDIAN(I10:Y10),0),ROUND(AVERAGE(I10:Y10),0)),"") -> 376808 | AB10: =+AA10*G10 -> 376808 | AC10: FDLB-ES-C-048-2026 | AD10: =IFERROR(STDEV(I10:Y10),"") -> 5650046 | AE10: =IFERROR(AD10/AVERAGE(I10:Y10),"") -> 2.0002114 | AG10: =COUNTIF(I10:Y10,">0") -> 5 | AH10: =1-(MIN(I10:Y10)/AA10) -> 0.99493907 | AJ10: 1907 | AK10: FDLCB-LP-004-2026 | AL10: https://community.secop.gov.co/Public/Tendering/OpportunityDetail/Index?isFromPublicArea=True&noticeUID=CO1.NTC.10647701&utm_source=chatgpt.com
B11: 5 | C11: Suministro Resma de papel Carta | D11: Suministro de resma de papel blanco multiuso en tamaño carta (216 x 279 mm), gramaje 75 g/m² ( 500 hojas por resma) opacidad ≥ 90 %, uso impresión y copiado láser e inyección para ser sumisnitrado conforme a la programacion establecida por la Alcaldia Local de Bosa | E11: N/A | F11: UN | G11: 1 | L11: 135235.1 | M11: 65885.413 | N11: 80200 | O11: 59560.128 | T11: 23956 | U11: 24408 | V11: 20114 | W11: 21922 | X11: =17899*1.051 -> 18811.849 | AA11: =IFERROR(IF(AE11>(0.15),ROUND(MEDIAN(I11:Y11),0),ROUND(AVERAGE(I11:Y11),0)),"") -> 24408 | AB11: =+AA11*G11 -> 24408 | AC11: FDLB-ES-C-048-2026 | AD11: =IFERROR(STDEV(I11:Y11),"") -> 39541.579 | AE11: =IFERROR(AD11/AVERAGE(I11:Y11),"") -> 0.79066908 | AG11: =COUNTIF(I11:Y11,">0") -> 9 | AH11: =1-(MIN(I11:Y11)/AA11) -> 0.22927528 | AJ11: =17899*1.051 -> 18811.849 | AK11: FDLSF-MC-007-2025 | AL11: https://community.secop.gov.co/Public/Tendering/OpportunityDetail/Index?noticeUID=CO1.NTC.9308428 | AN11: FDLPA-SASI-020-2025 | AO11: https://community.secop.gov.co/Public/Tendering/OpportunityDetail/Index?noticeUID=CO1.NTC.8369892
B12: 6 | C12: Suministro Bolígrafo negro semi gel | D12: Suministro de caja con doce (12) unidades de Bolígrafo tinta negra tipo semi-gel, punta 0,7 mm, cuerpo plástico para ser entregado conforme a la programacion establecida por la Alcaldia Local de Bosa | E12: Debe tener el logo de la ALB, el nombre de "PROCEDAS 2025", y el nombre de "Presupuestos participativos" cuando corresponda | F12: UN | G12: 1 | L12: 4339106.4 | M12: 14440.309 | N12: 16600 | O12: 12608.32 | AA12: =IFERROR(IF(AE12>(0.15),ROUND(MEDIAN(I12:Y12),0),ROUND(AVERAGE(I12:Y12),0)),"") -> 15520 | AB12: =+AA12*G12 -> 15520 | AC12: FDLB-ES-C-048-2026 | AD12: =IFERROR(STDEV(I12:Y12),"") -> 2162279 | AE12: =IFERROR(AD12/AVERAGE(I12:Y12),"") -> 1.9734428 | AG12: =COUNTIF(I12:Y12,">0") -> 4 | AH12: =1-(MIN(I12:Y12)/AA12) -> 0.18760825
B13: 7 | C13: Suministro Agenda ecológica | D13: Agenda con esfero ecológico y con 80 hojas rayadas. Alto 18,1 cm Ancho 13 cm Largo Esfero: 14 cm Profundidad 1,4 cm para ser entregado conforme a la programacion establecida por la Alcaldia Local de Bosa | E13: Debe tener el logo de la ALB, el nombre de "PROCEDAS 2025", y el nombre de "Presupuestos participativos" cuando corresponda | F13: UN | G13: 1 | L13: =25285032.3/50 -> 505700.65 | M13: =2181617.6096/50 -> 43632.352 | N13: =2424200/50 -> 48484 | O13: =2048852/50 -> 40977.04 | Z13: 35000 | AA13: =Z13 -> 35000 | AB13: =+AA13*G13 -> 35000 | AC13: FDLB-ES-C-048-2026 | AD13: =IFERROR(STDEV(I13:Y13),"") -> 230689.03 | AE13: =IFERROR(AD13/AVERAGE(I13:Y13),"") -> 1.4445284 | AG13: =COUNTIF(I13:Y13,">0") -> 4 | AH13: =1-(MIN(I13:Y13)/AA13) -> -0.17077257 | AI13: no es ecológica | AJ13: 31640 | AK13: CO1.REQ.10518120 | AL13: https://community.secop.gov.co/Public/Tendering/OpportunityDetail/Index?noticeUID=CO1.NTC.10374619
B14: 8 | C14: Suministro Bolsa ecológica | D14: Suministro de paquete con cincuenta (50) unidades de bolsas ecológicas fabricadas en 100% algodón orgánico de cincuenta (50) centímetros de largo x cuarenta y cinco (45) cm de ancho en colores variados marcadas por los dos (2) costados conforme al diseño establecido por la Alcaldía Local de Bosa. | E14: Debe tener el logo de la ALB, el nombre de "PROCEDAS 2025", y el nombre de "Presupuestos participativos" cuando corresponda | F14: PAC | G14: 1 | L14: 1491528.5 | M14: 10407.917 | N14: 12400 | O14: 9448 | Z14: 6230 | AA14: =Z14 -> 6230 | AB14: =+AA14*G14 -> 6230 | AC14: FDLB-ES-C-048-2026 | AD14: =IFERROR(STDEV(I14:Y14),"") -> 740389.28 | AE14: =IFERROR(AD14/AVERAGE(I14:Y14),"") -> 1.9435539 | AG14: =COUNTIF(I14:Y14,">0") -> 4 | AH14: =1-(MIN(I14:Y14)/AA14) -> -0.51653291
B15: 9 | C15: Suministro Refrigerio tipo 1 | D15: Suministro de Refrigerio compuesto por un (1) pastel de pollo o un (1) pastel de carne o un (1) pastel gloria o un (1) sándwich con dos (2) rebanadas de pan, una (1) tajada de jamón y una (1) tajada de queso, una (1) fruta entera y un (1) jugo en envase pet o Tetrapak doscientos (200) ml, una (1) fruta (manzana, pera, durazno, banano, mandarina, o ciruela), todos los alimentos relacionados en esta descripción técnica deberán estar en empaques desechables biodegradables aptos para el almacenamiento y transporte de alimentos, para ser entregados conforme a la programación establecida por la Alcaldía Local de Bosa. el servicio de alquiler por diez (10) horas | E15: El servicio de refrigerio debe incluir transporte y personal en el lugar y horario establecido por la Alcaldía Local de Bosa. La entidad ejecutora se compromete a suministrar al FDLB los documentos donde consten la formalización del proveedor lo que incluye entre otros, los cursos de manipulación de alimentos de los operarios. | F15: UN | G15: 1 | L15: 18591.1 | M15: 16789.105 | N15: 20400 | O15: 20230 | Z15: 13571 | AA15: =Z15 -> 13571 | AB15: =+AA15*G15 -> 13571 | AC15: FDLB-ES-C-048-2026 | AD15: =IFERROR(STDEV(I15:Y15),"") -> 1686.0337 | AE15: =IFERROR(AD15/AVERAGE(I15:Y15),"") -> 0.088726702 | AG15: =COUNTIF(I15:Y15,">0") -> 4 | AH15: =1-(MIN(I15:Y15)/AA15) -> -0.23713103 | AJ15: 16415 | AK15: FDLCB-LP-004-2026 | AL15: https://community.secop.gov.co/Public/Tendering/OpportunityDetail/Index?isFromPublicArea=True&noticeUID=CO1.NTC.10647701&utm_source=chatgpt.com
B16: 10 | C16: Suministro Refrigerio tipo 3 | D16: Servicio de refrigerio compuesto por un (1) sándwich de pan baguette que contenga con pollo, queso, lechuga, tomate y salsa, una (1) bebida de 400 ml, una (1) fruta y un (1) dulce, todos los alimentos relacionados en esta descripción técnica deberán estar en empaques desechables biodegradables aptos para el almacenamiento y transporte de alimentos, para ser entregados conforme a la programación establecida por la Alcaldía Local de Bosa. | E16: El servicio de refrigerio debe incluir transporte y personal en el lugar y horario establecido por la Alcaldía Local de Bosa. La entidad ejecutora se compromete a suministrar al FDLB los documentos donde consten la formalización del proveedor lo que incluye entre otros, los cursos de manipulación de alimentos de los operarios. | F16: UN | G16: 1 | L16: 26827.2 | M16: 22811.821 | N16: 26300 | O16: 24990 | Z16: 16938 | AA16: =Z16 -> 16938 | AB16: =+AA16*G16 -> 16938 | AC16: FDLB-ES-C-048-2026 | AD16: =IFERROR(STDEV(I16:Y16),"") -> 1788.9582 | AE16: =IFERROR(AD16/AVERAGE(I16:Y16),"") -> 0.070899657 | AG16: =COUNTIF(I16:Y16,">0") -> 4 | AH16: =1-(MIN(I16:Y16)/AA16) -> -0.34678365 | AJ16: 21545 | AK16: FDLCB-LP-004-2026 | AL16: https://community.secop.gov.co/Public/Tendering/OpportunityDetail/Index?isFromPublicArea=True&noticeUID=CO1.NTC.10647701&utm_source=chatgpt.com
B17: 11 | C17: Suministro Almuerzo tipo 1 | D17: Servicio de almuerzo compuesto por una (1) porción de proteína de ciento cincuenta (150) gramos, una (1) porción de ensalada fresca de ciento cincuenta (150) gramos, una (1) porción de arroz blanco de ochenta (80) gramos, una (1) porción de verdura de cien (100) gramos, una (1) porción de papa en cascos de ochenta (80) gramos y una bebida de jugo natural de doscientos (200) mililitros, todos los alimentos relacionados en esta descripción técnica deberán estar en empaques desechables biodegradables aptos para el almacenamiento y transporte de alimentos preparados que incluya cuchara, tenedor, cuchillo y servilleta, para ser entregados de manera individual conforme a la programación establecida por la Alcaldía Local de Bosa. | E17: Incluye empaque y transporte a lugares definidos por la alcaldía. Los empaques y contenedores deben ser reciclables (no icopor) o compostables y se debe incluir su manejo post-consumo | F17: UN | G17: 1 | L17: 34838.1 | M17: 30639.803 | N17: 36700 | O17: 29153 | Z17: 42711 | AA17: =IFERROR(IF(AE17>(0.15),ROUND(MEDIAN(I17:Y17),0),ROUND(AVERAGE(I17:Y17),0)),"") -> 32833 | AB17: =+AA17*G17 -> 32833 | AC17: FDLB-ES-C-048-2026 | AD17: =IFERROR(STDEV(I17:Y17),"") -> 3527.3516 | AE17: =IFERROR(AD17/AVERAGE(I17:Y17),"") -> 0.10743402 | AG17: =COUNTIF(I17:Y17,">0") -> 4 | AH17: =1-(MIN(I17:Y17)/AA17) -> 0.11208236 | AJ17: 34066 | AK17: FDLCB-LP-004-2026 | AL17: https://community.secop.gov.co/Public/Tendering/OpportunityDetail/Index?isFromPublicArea=True&noticeUID=CO1.NTC.10647701&utm_source=chatgpt.com
B18: 12 | C18: Suministro Video clip | D18: Produccion y edición de video clip que contenga y recopile el proceso de implementación de los PROCEDAS de maximo 10 minutos | E18: N/A | F18: UN | G18: 1 | P18: =50000000*1.051 -> 52550000 | Q18: =2000000*1.051 -> 2102000 | R18: =2500000*1.051 -> 2627500 | S18: =12000000*1.051 -> 12612000 | Z18: 1190574 | AA18: =Z18 -> 1190574 | AB18: =+AA18*G18 -> 1190574 | AC18: FDLB-ES-C-086-2026 | AD18: =IFERROR(STDEV(I18:Y18),"") -> 23879432 | AE18: =IFERROR(AD18/AVERAGE(I18:Y18),"") -> 1.3666573 | AG18: =COUNTIF(I18:Y18,">0") -> 4 | AH18: =1-(MIN(I18:Y18)/AA18) -> -0.76553494 | AJ18: =1134000*5 -> 5670000 | AK18: FDLCB-LP-004-2026 | AL18: https://community.secop.gov.co/Public/Tendering/OpportunityDetail/Index?isFromPublicArea=True&noticeUID=CO1.NTC.10647701&utm_source=chatgpt.com
B19: 13 | C19: Suministro Plegable tipo fanzi | D19: Plegable tipo fanzin en tamaño tabloide, impresión 4x4 a cuatricromía en ambas caras, papel esmaltado C2S Gloss de 115 g/m2 (de acuerdo con la guía de contratación sostenible) | E19: Debe contener como mínimo la siguiente información: Logos de la Alcaldía Local de Bosa (ALB), información de la convocatoria, código QR que dirija al formulario de inscripción y lo demás que disponga el Comité Técnico de Seguimiento y Control | F19: UN | G19: 1 | I19: 10000 | J19: 9300 | K19: 9520 | AA19: =IFERROR(IF(AE19>(0.15),ROUND(MEDIAN(I19:Y19),0),ROUND(AVERAGE(I19:Y19),0)),"") -> 9607 | AB19: =+AA19*G19 -> 9607 | AC19: FDLB-ES-C-086-2026 | AD19: =IFERROR(STDEV(I19:Y19),"") -> 357.95717 | AE19: =IFERROR(AD19/AVERAGE(I19:Y19),"") -> 0.037261329 | AG19: =COUNTIF(I19:Y19,">0") -> 3 | AH19: =1-(MIN(I19:Y19)/AA19) -> 0.031955866
B20: 14 | C20: PROFESIONAL EN EDUCACIÓN AMBIENTAL | D20: FORMACIÓN ACADÉMICA: TÍTULO PROFESIONAL EN LICENCIATURA EN CIENCIAS NATURALES Y/O EDUCACIÓN AMBIENTAL Y/O INGENIERÍA AMBIENTAL Y/O INGENIERÍA SANITARIA Y AMBIENTAL Y/O ADMINISTRACIÓN AMBIENTAL Y/O AFINES SEGÚN SNIES. EXPERIENCIA: MÍNIMO VEINTITRÉS (23) MESES DE EXPERIENCIA LABORAL GENERAL A PARTIR DE LA EXPEDICIÓN DE LA TARJETA PROFESIONAL, CON EXPERIENCIA ESPECÍFICA DE MÍNIMO UN (1) AÑO EN GESTIÓN E IMPLEMENTACIÓN DE PROYECTOS AMBIENTALES. DEDICACIÓN: SIETE (7) MESES DE EJECUCIÓN TÉCNICA. | E20: Titulo profesional relacionado con los servicios a contratar con experiencia minima de 1 año | F20: UN | G20: 1 | H20: 9 | Y20: =5860000*H20 -> 52740000 | AA20: =IFERROR(IF(AE20>(0.15),ROUND(MEDIAN(I20:Y20),0),ROUND(AVERAGE(I20:Y20),0)),"") -> 52740000 | AB20: =+AA20*G20 -> 52740000 | AC20: RESOLUCION | AD20: =IFERROR(STDEV(I20:Y20),"") | AE20: =IFERROR(AD20/AVERAGE(I20:Y20),"") | AG20: =COUNTIF(I20:Y20,">0") -> 1 | AH20: =1-(MIN(I20:Y20)/AA20) -> 0
B21: 15 | C21: COORDINADOR/A DEL PROYECTO | D21: FORMACIÓN ACADÉMICA: TÍTULO PROFESIONAL EN ECOLOGÍA Y/O BIOLOGÍA Y/O INGENIERÍA AMBIENTAL Y/O FORESTAL, O AFINES SEGÚN SNIES. EXPERIENCIA: MÍNIMO TRES (3) AÑOS DE EXPERIENCIA GENERAL A PARTIR DE LA EXPEDICIÓN DE LA TARJETA PROFESIONAL, CON EXPERIENCIA ESPECÍFICA DE MÍNIMO DOS (2) AÑOS EN EDUCACIÓN AMBIENTAL Y/O FORMULACIÓN DE PROYECTOS AMBIENTALES Y/O SISTEMAS DE INFORMACIÓN GEOGRÁFICA (SIG). DEDICACIÓN: NUEVE (9) MESES. | F21: UN | G21: 1 | H21: 7 | Y21: =5860000*H21 -> 41020000 | AA21: =IFERROR(IF(AE21>(0.15),ROUND(MEDIAN(I21:Y21),0),ROUND(AVERAGE(I21:Y21),0)),"") -> 41020000 | AB21: =+AA21*G21 -> 41020000 | AC21: RESOLUCION
B22: 16 | C22: ASISTENTE ADMINISTRATIVO | D22: FORMACIÓN ACADÉMICA: TÍTULO BACHILLER Y CERTIFICADO DE APTITUD OCUPACIONAL, O TÍTULO DE EDUCACIÓN PARA EL TRABAJO Y EL DESARROLLO HUMANO, O TÍTULO DE FORMACIÓN TÉCNICA LABORAL EN ÁREAS ADMINISTRATIVAS Y/O AFINES. EXPERIENCIA: MÍNIMO TRES (3) AÑOS DE EXPERIENCIA LABORAL DEBIDAMENTE CERTIFICADA. DEDICACIÓN: SIETE (7) MESES DE EJECUCIÓN TÉCNICA. | F22: UN | G22: 1 | H22: 7 | Y22: =5860000*H22 -> 41020000 | AA22: =IFERROR(IF(AE22>(0.15),ROUND(MEDIAN(I22:Y22),0),ROUND(AVERAGE(I22:Y22),0)),"") -> 41020000 | AB22: =+AA22*G22 -> 41020000 | AC22: RESOLUCION
B23: 17 | C23: Sabedor(a) | D23: Sabedores/ras de Medicina Ancestral Tipo 1 | E23: Persona con pertenencia a los pueblos indígenas con un (1) año de experiencia práctica y reconocimiento en cada uno de sus pueblos. Perfil debe ser avalados por la Mesa Indígena de la localidad de Bosa, dando prioridad a los habitantes de Bosa, aportando aval por parte de la Mesa indígena. | F23: UN | G23: 1 | H23: 1 HORA | I23: 100000 | J23: 85000 | K23: 83300 | AA23: =IFERROR(IF(AE23>(0.15),ROUND(MEDIAN(I23:Y23),0),ROUND(AVERAGE(I23:Y23),0)),"") -> 89433 | AB23: =+AA23*G23 -> 89433 | AC23: FDLB-ES-C-086-2026 | AD23: =IFERROR(STDEV(I23:Y23),"") -> 9190.3935 | AE23: =IFERROR(AD23/AVERAGE(I23:Y23),"") -> 0.10276251 | AG23: =COUNTIF(I23:Y23,">0") -> 3 | AH23: =1-(MIN(I23:Y23)/AA23) -> 0.068576476
B24: 18 | C24: Alquiler de carpa tipo kiosco 4 x 4 | D24: Alquiler de Carpa tipo kiosco de cuatro (4) metros de acho x cuatro (4) metros de profundidad y dos metros con veinte (2,20) centímetros de altura recubierta en su totalidad por lona de color blanco con laterales, la carpa debe estar en buen estado estético y de funcionamiento e incluir contrapesos, accesorios, transporte de carga y personal para ser instaladas y desinstaladas en el lugar dispuesto por la Alcaldía Local de Bosa. El tiempo de alquiler del servicio tendrá una duración de un día | E24: Carpa modular de estructura metálica reforzada (acero o aluminio), con dimensiones de 4 x 4 metros, cubierta en lona impermeable tipo poliéster o PVC de alta resistencia, color blanco o institucional. Debe contar con protección contra lluvia y radiación solar, sistema de anclaje seguro (estacas o contrapesos), y encontrarse en óptimas condiciones físicas y de limpieza. Incluye transporte, montaje y desmontaje en el lugar del evento, con instalación previa mínima de dos (2) horas antes del inicio de la actividad. | F24: UN | G24: 1 | L24: 338704.3 | M24: 387974.88 | N24: 478000 | O24: 595000 | X24: 512363 | Z24: 400830 | AA24: =Z24 -> 400830 | AB24: =+AA24*G24 -> 400830 | AC24: FDLB-ES-C-048-2026 | AD24: =IFERROR(STDEV(I24:Y24),"") -> 101442.28 | AE24: =IFERROR(AD24/AVERAGE(I24:Y24),"") -> 0.21937809 | AG24: =COUNTIF(I24:Y24,">0") -> 5 | AH24: =1-(MIN(I24:Y24)/AA24) -> 0.15499264 | AJ24: 512363 | AK24: FDLCB-LP-004-2026 | AL24: https://community.secop.gov.co/Public/Tendering/OpportunityDetail/Index?isFromPublicArea=True&noticeUID=CO1.NTC.10647701&utm_source=chatgpt.com
B25: 19 | C25: Suministro Azadon | D25: Azadon de cabeza forjada de acero templado con mango de madera resistente entre 120 cm y 145 cm | E25: Herramienta para cavar, remover tierra y cortar raíces | F25: UN | G25: 1 | I25: 98000 | J25: 107600 | K25: 105000 | AA25: =IFERROR(IF(AE25>(0.15),ROUND(MEDIAN(I25:Y25),0),ROUND(AVERAGE(I25:Y25),0)),"") -> 103533 | AB25: =+AA25*G25 -> 103533 | AC25: FDLB-ES-C-086-2026 | AD25: =IFERROR(STDEV(I25:Y25),"") -> 4965.2123 | AE25: =IFERROR(AD25/AVERAGE(I25:Y25),"") -> 0.047957621 | AG25: =COUNTIF(I25:Y25,">0") -> 3 | AH25: =1-(MIN(I25:Y25)/AA25) -> 0.053441898
B26: 20 | C26: Suministro Palin | D26: Palin de cabeza cuadrada con diámetro de cubo de 34.5 mm, sistema de enmangado remachado y mango tipo anilla en madera, con una longitud de 53 cm y diámetro de 38 mm. | E26: Herramienta apta para jardinería y agricultura, | F26: UN | G26: 1 | I26: 82000 | J26: 79000 | K26: 77350 | AA26: =IFERROR(IF(AE26>(0.15),ROUND(MEDIAN(I26:Y26),0),ROUND(AVERAGE(I26:Y26),0)),"") -> 79450 | AB26: =+AA26*G26 -> 79450 | AC26: FDLB-ES-C-086-2026 | AD26: =IFERROR(STDEV(I26:Y26),"") -> 2357.435 | AE26: =IFERROR(AD26/AVERAGE(I26:Y26),"") -> 0.029671933 | AG26: =COUNTIF(I26:Y26,">0") -> 3 | AH26: =1-(MIN(I26:Y26)/AA26) -> 0.026431718
B27: 21 | C27: Suministro Regadera | D27: Regadera Plástica de 1,75 Litros Dimensiones: 7,5x33x24,5cm | E27: N/A | F27: UN | G27: 1 | I27: 35000 | J27: 32500 | K27: 29750 | AA27: =IFERROR(IF(AE27>(0.15),ROUND(MEDIAN(I27:Y27),0),ROUND(AVERAGE(I27:Y27),0)),"") -> 32417 | AB27: =+AA27*G27 -> 32417 | AC27: FDLB-ES-C-086-2026 | AD27: =IFERROR(STDEV(I27:Y27),"") -> 2625.9919 | AE27: =IFERROR(AD27/AVERAGE(I27:Y27),"") -> 0.081007461 | AG27: =COUNTIF(I27:Y27,">0") -> 3 | AH27: =1-(MIN(I27:Y27)/AA27) -> 0.082271648
B28: 22 | C28: Suministro Plantulas | D28: Plantulas para siembra Aromáticas, Hortalizas y frutales | E28: N/A | F28: UN | G28: 1 | I28: 9800 | J28: 9000 | K28: 9500 | X28: 3767 | AA28: =IFERROR(IF(AE28>(0.15),ROUND(MEDIAN(I28:Y28),0),ROUND(AVERAGE(I28:Y28),0)),"") -> 9250 | AB28: =+AA28*G28 -> 9250 | AC28: FDLB-ES-C-086-2026 | AD28: =IFERROR(STDEV(I28:Y28),"") -> 2852.3187 | AE28: =IFERROR(AD28/AVERAGE(I28:Y28),"") -> 0.3557949 | AG28: =COUNTIF(I28:Y28,">0") -> 4 | AH28: =1-(MIN(I28:Y28)/AA28) -> 0.59275676 | AJ28: 3767
B29: 23 | C29: Suministro semillas | D29: Semillas forestales, semillas frutales, hortalizas | E29: N/A | F29: UN | G29: 1 | I29: 14000 | J29: 12000 | K29: 11186 | X29: 8500 | AA29: =IFERROR(IF(AE29>(0.15),ROUND(MEDIAN(I29:Y29),0),ROUND(AVERAGE(I29:Y29),0)),"") -> 11593 | AB29: =+AA29*G29 -> 11593 | AC29: FDLB-ES-C-086-2026 | AD29: =IFERROR(STDEV(I29:Y29),"") -> 2278.4459 | AE29: =IFERROR(AD29/AVERAGE(I29:Y29),"") -> 0.19948745 | AG29: =COUNTIF(I29:Y29,">0") -> 4 | AH29: =1-(MIN(I29:Y29)/AA29) -> 0.26679893 | AJ29: 8500
B30: 24 | C30: Suministro de guantes de nitrilo | D30: Guantes de Nitrilo. 100% libres de Látex x 50 pares. | E30: Guantes desechables o reutilizables, resistentes, talla estándar o surtida, destinados a la protección de manos durante manipulación de residuos sólidos no peligrosos. | F30: UN | G30: 1 | I30: 30000 | J30: 28000 | K30: 29900 | Z30: 62809 | AA30: =IFERROR(IF(AE30>(0.15),ROUND(MEDIAN(I30:Y30),0),ROUND(AVERAGE(I30:Y30),0)),"") -> 29300 | AB30: =+AA30*G30 -> 29300 | AC30: FDLB-ES-C-086-2026 | AD30: =IFERROR(STDEV(I30:Y30),"") -> 1126.9428 | AE30: =IFERROR(AD30/AVERAGE(I30:Y30),"") -> 0.03846221 | AG30: =COUNTIF(I30:Y30,">0") -> 3 | AH30: =1-(MIN(I30:Y30)/AA30) -> 0.044368601
B31: 25 | C31: Suministro de Elementos de aseo | D31: Bolsas de basura | E31: Bolsas plásticas de alta resistencia (mínimo calibre 1.5 o superior), capacidad entre 30 y 50 galones, aptas para recolección de residuos ordinarios en jornadas comunitarias. Deben soportar peso y evitar rupturas. | F31: UN | G31: 1 | I31: 1900 | J31: 1600 | K31: 1490 | AA31: =IFERROR(IF(AE31>(0.15),ROUND(MEDIAN(I31:Y31),0),ROUND(AVERAGE(I31:Y31),0)),"") -> 1663 | AB31: =+AA31*G31 -> 1663 | AC31: FDLB-ES-C-086-2026 | AD31: =IFERROR(STDEV(I31:Y31),"") -> 212.21059 | AE31: =IFERROR(AD31/AVERAGE(I31:Y31),"") -> 0.12758152 | AG31: =COUNTIF(I31:Y31,">0") -> 3 | AH31: =1-(MIN(I31:Y31)/AA31) -> 0.10402886
B32: 26 | C32: Suministro Bolsas de lona en polipropileno | D32: Empaque De Lona Blanco Polipropileno | E32: Lonas plásticas o de polipropileno reutilizables, resistentes al peso y a la humedad, utilizadas para acopio temporal de residuos o material vegetal durante jornadas de limpieza ambiental. | F32: UN | G32: 1 | I32: 2900 | J32: 2750 | K32: 2900 | AA32: =IFERROR(IF(AE32>(0.15),ROUND(MEDIAN(I32:Y32),0),ROUND(AVERAGE(I32:Y32),0)),"") -> 2850 | AB32: =+AA32*G32 -> 2850 | AC32: FDLB-ES-C-086-2026 | AD32: =IFERROR(STDEV(I32:Y32),"") -> 86.60254 | AE32: =IFERROR(AD32/AVERAGE(I32:Y32),"") -> 0.030386856 | AG32: =COUNTIF(I32:Y32,">0") -> 3 | AH32: =1-(MIN(I32:Y32)/AA32) -> 0.035087719
B33: 27 | C33: Suministro Elementos de aseo | D33: Recogedor Con Banda y Palo | E33: Recogedor plástico o metálico de alta resistencia, con mango largo o corto, adecuado para la recolección de residuos sólidos durante jornadas de limpieza. | F33: UN | G33: 1 | I33: 44000 | J33: 45000 | K33: 43000 | AA33: =IFERROR(IF(AE33>(0.15),ROUND(MEDIAN(I33:Y33),0),ROUND(AVERAGE(I33:Y33),0)),"") -> 44000 | AB33: =+AA33*G33 -> 44000 | AC33: FDLB-ES-C-086-2026 | AD33: =IFERROR(STDEV(I33:Y33),"") -> 1000 | AE33: =IFERROR(AD33/AVERAGE(I33:Y33),"") -> 0.022727273 | AG33: =COUNTIF(I33:Y33,">0") -> 3 | AH33: =1-(MIN(I33:Y33)/AA33) -> 0.022727273
B34: 28 | C34: Suministro Rastrillo | D34: Escoba Plástica De 18 Dientes Con Mango | E34: Rastrillo metálico o plástico reforzado, con mango resistente, adecuado para nivelación de suelo y recolección de hojas o material vegetal. | F34: UN | G34: 1 | I34: 48200 | J34: 46900 | K34: 45000 | AA34: =IFERROR(IF(AE34>(0.15),ROUND(MEDIAN(I34:Y34),0),ROUND(AVERAGE(I34:Y34),0)),"") -> 46700 | AB34: =+AA34*G34 -> 46700 | AC34: FDLB-ES-C-086-2026 | AD34: =IFERROR(STDEV(I34:Y34),"") -> 1609.3477 | AE34: =IFERROR(AD34/AVERAGE(I34:Y34),"") -> 0.034461407 | AG34: =COUNTIF(I34:Y34,">0") -> 3 | AH34: =1-(MIN(I34:Y34)/AA34) -> 0.03640257
B35: 29 | C35: Intérprete de lenguaje de señas | D35: Servicio de interprete de señas con perfil como Tecnologo, tecnico o bachiller y que acredite ser intérprete de lengua de señas que cuente mínimo con dos (2) años de experiencia como intérprete. La prestacion del servicio se requiere por ocho (8) horas. | E35: Intérprete certificado en Lengua de Señas Colombiana (LSC), con experiencia en eventos comunitarios e institucionales, garantizando accesibilidad e inclusión de personas sordas. | F35: UN | G35: 1 | L35: 16767.3 | M35: 597081.01 | N35: 708500 | O35: 566867 | AA35: =IFERROR(IF(AE35>(0.15),ROUND(MEDIAN(I35:Y35),0),ROUND(AVERAGE(I35:Y35),0)),"") -> 581974 | AB35: =+AA35*G35 -> 581974 | AC35: FDLB-ES-C-048-2026 | AD35: =IFERROR(STDEV(I35:Y35),"") -> 309738.44 | AE35: =IFERROR(AD35/AVERAGE(I35:Y35),"") -> 0.65580336 | AG35: =COUNTIF(I35:Y35,">0") -> 4 | AH35: =1-(MIN(I35:Y35)/AA35) -> 0.97118892
B36: 30 | C36: Suministro Brocha de 2" | D36: Suministro de una (1) brocha plana de dos (2) pulgadas (") para ser entregados conforme a la programacion establecida por la Alcaldia Local de Bosa | E36: Brochas de cerdas sintéticas o mixtas, resistentes a pintura vinílica o acrílica, en diferentes pulgadas (2” a 4”), aptas para acabados y detalles en superficies lisas o rugosas. | F36: UN | G36: 1 | L36: 33870.1 | M36: 11297.767 | N36: 13700 | O36: 9825 | AA36: =IFERROR(IF(AE36>(0.15),ROUND(MEDIAN(I36:Y36),0),ROUND(AVERAGE(I36:Y36),0)),"") -> 12499 | AB36: =+AA36*G36 -> 12499 | AC36: FDLB-ES-C-048-2026 | AD36: =IFERROR(STDEV(I36:Y36),"") -> 11245.241 | AE36: =IFERROR(AD36/AVERAGE(I36:Y36),"") -> 0.65481273 | AG36: =COUNTIF(I36:Y36,">0") -> 4 | AH36: =1-(MIN(I36:Y36)/AA36) -> 0.21393711
B37: 31 | C37: Suministro Brocha de 4" | D37: Suministro de una (1) brocha plana de cuatro (4) pulgadas (") para ser entregados conforme a la programacion establecida por la Alcaldia Local de Bosa | E37: Brochas de cerdas sintéticas o mixtas, resistentes a pintura vinílica o acrílica, en diferentes pulgadas (2” a 4”), aptas para acabados y detalles en superficies lisas o rugosas. | F37: UN | G37: 1 | L37: 74230.2 | M37: 25367.88 | N37: 29600 | O37: 23620 | AA37: =IFERROR(IF(AE37>(0.15),ROUND(MEDIAN(I37:Y37),0),ROUND(AVERAGE(I37:Y37),0)),"") -> 27484 | AB37: =+AA37*G37 -> 27484 | AC37: FDLB-ES-C-048-2026 | AD37: =IFERROR(STDEV(I37:Y37),"") -> 24147.981 | AE37: =IFERROR(AD37/AVERAGE(I37:Y37),"") -> 0.63207131 | AG37: =COUNTIF(I37:Y37,">0") -> 4 | AH37: =1-(MIN(I37:Y37)/AA37) -> 0.14059089
B38: 32 | C38: Suministro Rodillo 4" | D38: Suministro de rodillo de cuatro (4) pulgadas (") de felpa acrilica para ser entregado conforme a la programacion establecida por la Alcladia Local de Bosa | E38: Rodillos con felpa de buena absorción y estructura metálica resistente, adecuados para superficies amplias (muros, paredes), compatibles con pintura base agua. | F38: UN | G38: 1 | L38: 43553.4 | M38: 16198.596 | N38: 19300 | O38: 14172 | AA38: =IFERROR(IF(AE38>(0.15),ROUND(MEDIAN(I38:Y38),0),ROUND(AVERAGE(I38:Y38),0)),"") -> 17749 | AB38: =+AA38*G38 -> 17749 | AC38: FDLB-ES-C-048-2026 | AD38: =IFERROR(STDEV(I38:Y38),"") -> 13661.996 | AE38: =IFERROR(AD38/AVERAGE(I38:Y38),"") -> 0.58620082 | AG38: =COUNTIF(I38:Y38,">0") -> 4 | AH38: =1-(MIN(I38:Y38)/AA38) -> 0.20153248
B39: 33 | C39: Suministro Guantes de carnaza | D39: Guantes de carnaza | E39: Guantes material resistente a pinturas base agua o base solvente, talla estándar o surtida, que garanticen protección de manos durante jornadas de embellecimiento o intervención comunitaria. | F39: UN | G39: 1 | I39: 37000 | J39: 36000 | K39: 36250 | AA39: =IFERROR(IF(AE39>(0.15),ROUND(MEDIAN(I39:Y39),0),ROUND(AVERAGE(I39:Y39),0)),"") -> 36417 | AB39: =+AA39*G39 -> 36417 | AC39: FDLB-ES-C-086-2026 | AD39: =IFERROR(STDEV(I39:Y39),"") -> 520.4165 | AE39: =IFERROR(AD39/AVERAGE(I39:Y39),"") -> 0.014290613 | AG39: =COUNTIF(I39:Y39,">0") -> 3 | AH39: =1-(MIN(I39:Y39)/AA39) -> 0.011450696
B40: 34 | C40: Suministro Pala | D40: Pala cuadrada con mango | E40: Pala metálica con mango de madera o fibra resistente, apta para remoción de tierra, residuos o material vegetal en actividades de recuperación ambiental. | F40: UN | G40: 1 | I40: 55000 | J40: 52000 | K40: 49900 | AA40: =IFERROR(IF(AE40>(0.15),ROUND(MEDIAN(I40:Y40),0),ROUND(AVERAGE(I40:Y40),0)),"") -> 52300 | AB40: =+AA40*G40 -> 52300 | AC40: FDLB-ES-C-086-2026 | AD40: =IFERROR(STDEV(I40:Y40),"") -> 2563.2011 | AE40: =IFERROR(AD40/AVERAGE(I40:Y40),"") -> 0.049009582 | AG40: =COUNTIF(I40:Y40,">0") -> 3 | AH40: =1-(MIN(I40:Y40)/AA40) -> 0.045889101
B41: 35 | C41: Suministro Utensilios de cocina | D41: Utensilios de cocina ollas medianas | E41: Elementos aptos para preparación de alimentos comunitarios, en acero inoxidable o material resistente. | F41: UN | G41: 1 | I41: 170000 | J41: 163000 | K41: 169900 | AA41: =IFERROR(IF(AE41>(0.15),ROUND(MEDIAN(I41:Y41),0),ROUND(AVERAGE(I41:Y41),0)),"") -> 167633 | AB41: =+AA41*G41 -> 167633 | AC41: FDLB-ES-C-086-2026 | AD41: =IFERROR(STDEV(I41:Y41),"") -> 4012.8959 | AE41: =IFERROR(AD41/AVERAGE(I41:Y41),"") -> 0.023938532 | AG41: =COUNTIF(I41:Y41,">0") -> 3 | AH41: =1-(MIN(I41:Y41)/AA41) -> 0.027637756
B42: 36 | C42: Suministro Utensilios de cocina | D42: Utensilios de cocina cucharones grandes | E42: Elementos aptos para preparación de alimentos comunitarios, en acero inoxidable o material resistente. | F42: UN | G42: 1 | I42: 68400 | J42: 67300 | K42: 64900 | AA42: =IFERROR(IF(AE42>(0.15),ROUND(MEDIAN(I42:Y42),0),ROUND(AVERAGE(I42:Y42),0)),"") -> 66867 | AB42: =+AA42*G42 -> 66867 | AC42: FDLB-ES-C-086-2026 | AD42: =IFERROR(STDEV(I42:Y42),"") -> 1789.7858 | AE42: =IFERROR(AD42/AVERAGE(I42:Y42),"") -> 0.026766488 | AG42: =COUNTIF(I42:Y42,">0") -> 3 | AH42: =1-(MIN(I42:Y42)/AA42) -> 0.029416603
...
