Workbook
Name \0: #REF!
Name \00: #REF!
Name \a: #REF!
Name \AA: #REF!
Name \b: #REF!
Name \b: #REF!
Name \b: #REF!
Name \bb: #REF!
Name \c: #REF!
Name \c: #REF!
Name \C: #REF!
Name \D: #REF!
Name \E: #REF!
Name \EE: #REF!
Name \eliminar: #REF!
Name \eliminar: #REF!
Name \eliminar: #REF!
Name \eliminar1: #REF!
Name \eliminar1: #REF!
Name \eliminar1: #REF!
Name \f: #REF!
Name \G: #REF!
Name \i: #REF!
Name \k: #REF!
Name \l: #REF!
Name \m: #REF!
Name \M: #REF!
Name \ñ: #REF!
Name \o: #REF!
Name \P: #REF!
Name \q: #REF!
Name \q: #REF!
Name \R: #REF!
Name \s: #REF!
Name \sa: #REF!
Name \t: #REF!
Name \V: #REF!
Name \w: #N/A
Name \X: #N/A
Name \z: #REF!
Name \z: #REF!
Name \Z: #N/A
Name _: #REF!
Name _____________________________________________________i1: #REF!
Name __________________________________________________i1: #REF!
Name _________________________________________________AFC1: #REF!
Name _________________________________________________AFC3: #REF!
Name _________________________________________________AFC5: #REF!
Name _________________________________________________BGC1: #REF!
Name _________________________________________________BGC3: #REF!
Name _________________________________________________BGC5: #REF!
Name _________________________________________________CAC1: #REF!
Name _________________________________________________CAC3: #REF!
Name _________________________________________________CAC5: #REF!
Name _________________________________________________i1: #REF!
Name _________________________________________________SBC1: #REF!
Name _________________________________________________SBC3: #REF!
Name _________________________________________________SBC5: #REF!
Name ________________________________________________AFC1: #REF!
Name ________________________________________________AFC3: #REF!

Sheet PPTO RESUMEN
C2: REPUBLICA DE COLOMBIA
C3: DEPARTAMENTO DE LA GUAJIRA
C4: MUNICIPIO DE BARRANCAS
C5: OFICINA ASESORA DE PLANEACION
C7: CONSTRUCCIÓN DE UN SISTEMA SOLAR FOTOVOLTAICO DE GENERACIÓN DISTRIBUIDA DE 0.99 MWE ETAPA 3 PARA EL DESARROLLO SOCIOECONÓMICO DEL MUNICIPIO DE BARRANCAS, EN EL DEPARTAMENTO DE LA GUAJIRA - BARRANCAS III
C9: PRESUPUESTO DE OBRA
C11: Elaboró: | E11: Municipio: | G11: BARRANCAS
C12: Fecha: | E12: Departamento: | G12: LA GUAJIRA
C14: ITEM | D14: DESCRIPCIÓN | E14: UNID. | F14: CANTIDAD | G14: VR. UNITARIO | H14: VR. TOTAL
C17: 1 | D17: OBRAS PRELIMINARES | H17: =SUM(H18:H20) -> 7.2395944e+08
C18: 1.1 | D18: Localizacion, trazado y replanteo | E18: m2 | F18: ='MEM CAP 1'!J32 -> 11803.7 | G18: =+'APU C1'!H47 -> 4293.9427 | H18: =F18*G18 -> 50684412
C19: 1.2 | D19: Limpieza y descapote del terreno (tala de árboles, desbroce de maleza, y retiro de material vegetal. | E19: m2 | F19: ='MEM CAP 1'!J67 -> 11803.7 | G19: =+'APU C1'!H104 -> 53972.893 | H19: =F19*G19 -> 6.3707983e+08
C20: 1.3 | D20: Instalación y adecuacion de campamento y almacen de equipos y herramientas | E20: glb | F20: ='MEM CAP 1'!J102 -> 1 | G20: =+'APU C1'!H158 -> 36195192 | H20: =F20*G20 -> 36195192
C21: 2 | D21: MOVIMIENTOS DE TIERRA Y ADECUACION DEL TERRENO | H21: =SUM(H22:H24) -> 1.8094883e+09
C22: 2.1 | D22: Corte y nivelacion del terreno. Incluye cargue y transporte | E22: m3 | F22: =+'MEM CAP 2'!J32 -> 2360.7 | G22: ='APU C2'!H52 -> 83968.319 | H22: =F22*G22 -> 1.9822401e+08
C23: 2.2 | D23: Excavación sin clasificar de la explanación, canales y préstamos. | E23: m3 | F23: =+'MEM CAP 2'!J67 -> 9231.9 | G23: =+'APU C2'!H108 -> 37491.448 | H23: =F23*G23 -> 3.461173e+08
C24: 2.3 | D24: Suministro, colocacion y compactacion de relleno seleccionado | E24: m3 | F24: =+'MEM CAP 2'!J102 -> 6094.6 | G24: =+'APU C2'!H160 -> 207584.9 | H24: =F24*G24 -> 1.265147e+09
C25: 3 | D25: CERRAMIENTO PERIMETRAL | H25: =SUM(H26:H29) -> 5.5306171e+08
C26: 3.1 | D26: Suministro e instalación de cerramiento perimetral en malla eslabonada de alta seguridad, incluye: excavación, cimentación en dados de concreto de 21 MPA, postes tubulares galvanizados en caliente, brazos inclinados, alambre de púas, accesorios de fijación y todo lo necesario para su correcta ejecución y entrega a satisfacción. | E26: ml | F26: =+'MEM CAP 3'!$J$32 -> 504 | G26: ='APU C3'!H58 -> 857883.55 | H26: =F26*G26 -> 4.3237331e+08
C27: 3.2 | D27: Suministro e instalación de portón vehicular de doble hoja en tubería galvanizada y malla eslabonada, según diseño. Incluye: parales principales, cerrojos de seguridad, accesorios de sujeción, pintura de retoque en soldaduras y todo lo necesario para su entrega a satisfacción. | E27: und | F27: =+'MEM CAP 3'!$J$67 -> 1 | G27: =+'APU C3'!H120 -> 5810035.1 | H27: =F27*G27 -> 5810035.1
C28: 3.3 | D28: Suministro e instalación de puerta peatonal en tubería galvanizada y malla eslabonada, según diseño. Incluye: marco, cerradura/portacandado, bisagras, fijaciones y todo lo necesario para su correcta operación. | E28: und | F28: =+'MEM CAP 3'!J102 -> 1 | G28: =+'APU C3'!H186 -> 2509706.1 | H28: =F28*G28 -> 2509706.1
C29: 3.4 | D29: Suministro e instalacion de lamparas de iluminacion tipo exterior con alimentacion autonoma. Incluye poste de 6 metros en acero galvanizado | E29: und | F29: =+'MEM ELECTRICOS'!J14 -> 20 | G29: =+'APU C3'!H241 -> 5618433.2 | H29: =F29*G29 -> 1.1236866e+08
C30: 4 | D30: OBRAS CIVILES GENERALES | H30: =SUM(H31:H36) -> 1.1231096e+09
C31: 4.1 | D31: Conformación de calzada con sub_base granular tipo invias; incluye: suministro, extendido, humedecimiento, transporte externo, transporte interno, compactación hasta una densidad del 95% de la máxima obtenida en el ensayo del próctor modificado, medido en sitio. | E31: m2 | F31: =+'MEM CAP 4'!J32 -> 4149.4 | G31: ='APU 4.1.'!H48 -> 208621.22 | H31: =F31*G31 -> 8.6565288e+08
C32: 4.2 | D32: Construcción de cuneta de sección trapezoidal revestida con geosintético textil impermeable (tipo impertex o similar). Incluye: excavación, perfilado, compactación de la banca, suministro, corte, instalación y anclaje del material geosintético, y todo lo necesario para su correcto funcionamiento. | E32: ml | F32: =+'MEM CAP 4'!J67 -> 317.8 | G32: ='APU4.2.'!H49 -> 511254.17 | H32: =F32*G32 -> 1.6247658e+08
C33: 4.3 | D33: Construcción de camino peatonal permeable. Incluye: actividades de adecuación, nivelación y preparación del terreno, suministro e instalación de sistema de confinamiento celular (geocelda), suministro, llenado y acomodo de material granular tipo grava, y todo lo necesario para su correcto funcionamiento. | E33: ml | F33: =+'MEM CAP 4'!J102 -> 184 | G33: ='APU4.3.'!H49 -> 351502.76 | H33: =F33*G33 -> 64676509
C34: 4.4 | D34: Caja de inspección eléctrico de 90 x 90 x 110cm, en concreto reforzado de f'c= 3.500 psi - impermeabilizado. Incluye excavación y tape, tapa y herrajes, cañuelas, marcos en ángulo de 1 1/2"x3/16 e incluye todo lo necesario para su correcto funcionamiento. | E34: und | F34: =+'MEM CAP 4'!J137 -> 5 | G34: ='APU4.4.'!H46 -> 950354.16 | H34: =F34*G34 -> 4751770.8
C35: 4.5 | D35: Construcción de caseta tipo cobertizo de 2 x 1 mts, para la ubicación de inversores, sin muros. Incluye: placa base en concreto de 3.500 psi, estructura metálica con protección anticorrosiva, cubierta termoacústica, accesorios para fijación de equipos y todo lo necesario para su correcto funcionamiento. | E35: und | F35: =+'MEM CAP 4'!J172 -> 5 | G35: ='APU4.5.'!H55 -> 3603543.9 | H35: =F35*G35 -> 18017719
C36: 4.6 | D36: Construcción de cimentación en concreto de 4.000 PSI para soporte de subestación eléctrica principal. Incluye excavación, retiro de material y acero de refuerzo. | E36: und | F36: =+'MEM CAP 4'!J208 -> 1 | G36: ='APU4.6.'!H54 -> 7534184.5 | H36: =F36*G36 -> 7534184.5
C37: 5 | D37: ZANJA MT PARA 1 CIRCUITO | H37: =SUM(H38:H39) -> 80172729
C38: 5.1 | D38: Suministro e instalación de canalización de dos (02) tubos enterrada a profundidad máxima de 1,00 mts, en tubería de PVC de 4" tipo DB (ZANJA 1) | E38: ml | F38: =+'MEM ELECTRICOS'!J31 -> 60 | G38: ='APU 5.1.'!H52 -> 277991.73 | H38: =F38*G38 -> 16679504
C39: 5.2 | D39: Suministro e instalación de canalización de tres (04) tubos enterrada a profundidad máxima de 1,00 mts, en tubería de PVC de 4" tipo DB (ZANJA 2) | E39: ml | F39: =+'MEM ELECTRICOS'!J48 -> 144 | G39: ='APU 5.2.'!H52 -> 440925.17 | H39: =F39*G39 -> 63493225
C40: 6 | D40: ZANJA BT PARA 1 CIRCUITO | H40: =SUM(H41:H42) -> 30337324
C41: 6.1 | D41: Suministro e instalación de canalización de cuatro (01) tubos enterrada a profundidad máxima de 1,10 mts, en tubería de PVC de 4" tipo DB (ZANJA 3) | E41: ml | F41: =+'MEM ELECTRICOS'!J65 -> 25 | G41: ='APU 6.1.'!H52 -> 262780.58 | H41: =F41*G41 -> 6569514.5
C42: 6.2 | D42: Suministro e instalación de canalización de tres (02) tubos enterrada a profundidad máxima de 1,00 mts, en tubería de PVC de 2" tipo DB (ZANJA 4) | E42: ml | F42: =+'MEM ELECTRICOS'!J82 -> 115 | G42: ='APU 6.2.'!H52 -> 206676.61 | H42: =F42*G42 -> 23767810
C43: 7 | D43: MALLA A TIERRA | H43: =SUM(H44:H52) -> 25700990
C44: 7.1 | D44: Suministro e instalacion de cable de cobre desnudo de calibre N° 1/0 AWG | E44: m | F44: =+'MEM ELECTRICOS'!P91 -> 260 | G44: ='APU 7.1.'!H48 -> 65791.709 | H44: =F44*G44 -> 17105844
C45: 7.2 | D45: Ejecucion de soldadura exotermica del cable conductor en X, 115 gr | E45: und | F45: =+'MEM ELECTRICOS'!P108 -> 5 | G45: ='APU 7.2.'!H48 -> 44454.614 | H45: =F45*G45 -> 222273.07
C46: 7.3 | D46: Ejecucion de soldadura exotermica del cable conductor en T, 115 gr | E46: und | F46: =+'MEM ELECTRICOS'!P125 -> 11 | G46: ='APU 7.3.'!H48 -> 44454.614 | H46: =F46*G46 -> 489000.75
C47: 7.4 | D47: Ejecucion de soldadura exotermica del cable conductor terminal, 115 gr | E47: und | F47: =+'MEM ELECTRICOS'!P142 -> 5 | G47: ='APU 7.4.'!H48 -> 44454.614 | H47: =F47*G47 -> 222273.07
...

Sheet PPTO TOTAL
C2: REPUBLICA DE COLOMBIA
C3: DEPARTAMENTO DE LA GUAJIRA
C4: MUNICIPIO DE BARRANCAS
C5: OFICINA ASESORA DE PLANEACION
C7: CONSTRUCCIÓN DE UN SISTEMA SOLAR FOTOVOLTAICO DE GENERACIÓN DISTRIBUIDA DE 0.99 MWE PARA EL DESARROLLO SOCIOECONÓMICO DEL MUNICIPIO DE BARRANCAS, EN EL DEPARTAMENTO DE LA GUAJIRA - BARRANCAS III
C9: PRESUPUESTO DE OBRA
C11: Elaboró: | E11: Municipio: | G11: BARRANCAS
C12: Fecha: | E12: Departamento: | G12: LA GUAJIRA
C14: ITEM | D14: DESCRIPCIÓN | E14: UNID. | F14: CANTIDAD | G14: MATERIALES | H14: EQUIPOS | I14: TRANSPORTES | J14: MANO DE OBRA | K14: VR UNITARIO | L14: MATERIALES | M14: EQUIPOS | N14: TRANSPORTES | O14: MANO DE OBRA | P14: VR TOTAL
R16: MO | S16: MAT | T16: EQUIP | U16: TRANS | V16: TOTAL
C17: 1 | D17: OBRAS PRELIMINARES | P17: =SUM(P18:P20) -> 7.2395944e+08 | Q17: =+P17*1.33 -> 9.6286605e+08 | R17: =+SUM(O18:O20)*1.33 -> 62110570 | S17: =+SUM(L18:L20)*1.33 -> 82047746 | T17: =+SUM(M18:M20)*1.33 -> 6.7935761e+08 | U17: =+SUM(N18:N20)*1.33 -> 1.3935012e+08 | V17: =SUM(R17:U17) -> 9.6286605e+08
C18: 1.1 | D18: Localizacion, trazado y replanteo | E18: m2 | F18: ='MEM CAP 1'!J32 -> 11803.7 | G18: =+'APU C1'!H23 -> 1576.0636 | H18: =+'APU C1'!H32 -> 1065.8489 | I18: =+'APU C1'!H39 -> 78.80318 | J18: =+'APU C1'!H45 -> 1573.2271 | K18: =+'APU C1'!H47 -> 4293.9427 | L18: =+$F$18*G18 -> 18603382 | M18: =+$F$18*H18 -> 12580960 | N18: =+$F$18*I18 -> 930169.1 | O18: =+$F$18*J18 -> 18569901 | P18: =F18*K18 -> 50684412
C19: 1.2 | D19: Limpieza y descapote del terreno (tala de árboles, desbroce de maleza, y retiro de material vegetal. | E19: m2 | F19: ='MEM CAP 1'!J67 -> 11803.7 | G19: =+'APU C1'!H75 -> 1928.1256 | H19: =+'APU C1'!H85 -> 41752.552 | I19: =+'APU C1'!H94 -> 8625.3968 | J19: =+'APU C1'!H102 -> 1666.8188 | K19: =+'APU C1'!H104 -> 53972.893 | L19: =+$F$19*G19 -> 22759016 | M19: =+$F$19*H19 -> 4.9283459e+08 | N19: =+$F$19*I19 -> 1.018116e+08 | O19: =+$F$19*J19 -> 19674629 | P19: =F19*K19 -> 6.3707983e+08
C20: 1.3 | D20: Instalación y adecuacion de campamento y almacen de equipos y herramientas | E20: glb | F20: ='MEM CAP 1'!J102 -> 1 | G20: =+'APU C1'!H132 -> 20327637 | H20: =+'APU C1'!H141 -> 5379644.2 | I20: =+'APU C1'!H148 -> 2032763.7 | J20: =+'APU C1'!H156 -> 8455147 | K20: =+'APU C1'!H158 -> 36195192 | L20: =+$F$20*G20 -> 20327637 | M20: =+$F$20*H20 -> 5379644.2 | N20: =+$F$20*I20 -> 2032763.7 | O20: =+$F$20*J20 -> 8455147 | P20: =F20*K20 -> 36195192
C21: 2 | D21: MOVIMIENTOS DE TIERRA Y ADECUACION DEL TERRENO | P21: =SUM(P22:P24) -> 1.8094883e+09 | Q21: =+P21*1.33 -> 2.4066194e+09 | R21: =+SUM(O22:O24)*1.33 -> 1.0676486e+08 | S21: =+SUM(L22:L24)*1.33 -> 6.279845e+08 | T21: =+SUM(M22:M24)*1.33 -> 8.055381e+08 | U21: =+SUM(N22:N24)*1.33 -> 8.6633194e+08 | V21: =SUM(R21:U21) -> 2.4066194e+09
C22: 2.1 | D22: Corte y nivelacion del terreno. Incluye cargue y transporte | E22: m3 | F22: =+'MEM CAP 2'!J32 -> 2360.7 | G22: =+'APU C2'!H23 -> 8764.2071 | H22: =+'APU C2'!H33 -> 34330.944 | I22: =+'APU C2'!H42 -> 39206.349 | J22: =+'APU C2'!H50 -> 1666.8188 | K22: ='APU C2'!H52 -> 83968.319 | L22: =+$F$22*G22 -> 20689664 | M22: =+$F$22*H22 -> 81045061 | N22: =+$F$22*I22 -> 92554428 | O22: =+$F$22*J22 -> 3934859.2 | P22: =F22*K22 -> 1.9822401e+08
C23: 2.2 | D23: Excavación sin clasificar de la explanación, canales y préstamos. | E23: m3 | F23: =+'MEM CAP 2'!J67 -> 9231.9 | G23: =+'APU C2'!H79 -> 0 | H23: =+'APU C2'!H89 -> 31717.297 | I23: =+'APU C2'!H98 -> 4107.3318 | J23: =+'APU C2'!H106 -> 1666.8188 | K23: =+'APU C2'!H108 -> 37491.448 | L23: =+$F$23*G23 -> 0 | M23: =+$F$23*H23 -> 2.9281092e+08 | N23: =+$F$23*I23 -> 37918476 | O23: =+$F$23*J23 -> 15387905 | P23: =F23*K23 -> 3.461173e+08
C24: 2.3 | D24: Suministro, colocacion y compactacion de relleno seleccionado | E24: m3 | F24: =+'MEM CAP 2'!J102 -> 6094.6 | G24: =+'APU C2'!H134 -> 74078.55 | H24: =+'APU C2'!H143 -> 38035.6 | I24: =+'APU C2'!H150 -> 85469.841 | J24: =+'APU C2'!H158 -> 10000.913 | K24: =+'APU C2'!H160 -> 207584.9 | L24: =+$F$24*G24 -> 4.5147913e+08 | M24: =+$F$24*H24 -> 2.3181176e+08 | N24: =+$F$24*I24 -> 5.2090449e+08 | O24: =+$F$24*J24 -> 60951564 | P24: =F24*K24 -> 1.265147e+09
C25: 3 | D25: CERRAMIENTO PERIMETRAL | P25: =SUM(P26:P29) -> 5.5306171e+08 | Q25: =+P25*1.33 -> 7.3557208e+08 | R25: =+SUM(O26:O29)*1.33 -> 2.606627e+08 | S25: =+SUM(L26:L29)*1.33 -> 4.1723444e+08 | T25: =+SUM(M26:M29)*1.33 -> 36813219 | U25: =+SUM(N26:N29)*1.33 -> 20861722 | V25: =SUM(R25:U25) -> 7.3557208e+08
C26: 3.1 | D26: Suministro e instalación de cerramiento perimetral en malla eslabonada de alta seguridad, incluye: excavación, cimentación en dados de concreto de 21 MPA, postes tubulares galvanizados en caliente, brazos inclinados, alambre de púas, accesorios de fijación y todo lo necesario para su correcta ejecución y entrega a satisfacción. | E26: ml | F26: =+'MEM CAP 3'!$J$32 -> 504 | G26: =+'APU C3'!H29 -> 421392.68 | H26: =+'APU C3'!H40 -> 47212.612 | I26: =+'APU C3'!H47 -> 21069.634 | J26: =+'APU C3'!H56 -> 368208.62 | K26: ='APU C3'!H58 -> 857883.55 | L26: =+$F$26*G26 -> 2.1238191e+08 | M26: =+$F$26*H26 -> 23795156 | N26: =+$F$26*I26 -> 10619096 | O26: =+$F$26*J26 -> 1.8557714e+08 | P26: =F26*K26 -> 4.3237331e+08
C27: 3.2 | D27: Suministro e instalación de portón vehicular de doble hoja en tubería galvanizada y malla eslabonada, según diseño. Incluye: parales principales, cerrojos de seguridad, accesorios de sujeción, pintura de retoque en soldaduras y todo lo necesario para su entrega a satisfacción. | E27: und | F27: =+'MEM CAP 3'!$J$67 -> 1 | G27: =+'APU C3'!H91 -> 4644625.2 | H27: =+'APU C3'!H102 -> 296770.62 | I27: =+'APU C3'!H109 -> 232231.26 | J27: =+'APU C3'!H118 -> 636408.11 | K27: =+'APU C3'!H120 -> 5810035.1 | L27: =+$F$27*G27 -> 4644625.2 | M27: =+$F$27*H27 -> 296770.62 | N27: =+$F$27*I27 -> 232231.26 | O27: =+$F$27*J27 -> 636408.11 | P27: =F27*K27 -> 5810035.1
C28: 3.3 | D28: Suministro e instalación de puerta peatonal en tubería galvanizada y malla eslabonada, según diseño. Incluye: marco, cerradura/portacandado, bisagras, fijaciones y todo lo necesario para su correcta operación. | E28: und | F28: =+'MEM CAP 3'!J102 -> 1 | G28: =+'APU C3'!H157 -> 1984890.6 | H28: =+'APU C3'!H168 -> 107366.84 | I28: =+'APU C3'!H175 -> 99244.532 | J28: =+'APU C3'!H184 -> 318204.06 | K28: =+'APU C3'!H186 -> 2509706.1 | L28: =+$F$28*G28 -> 1984890.6 | M28: =+$F$28*H28 -> 107366.84 | N28: =+$F$28*I28 -> 99244.532 | O28: =+$F$28*J28 -> 318204.06 | P28: =F28*K28 -> 2509706.1
C29: 3.4 | D29: Suministro e instalacion de lamparas de iluminacion tipo exterior con alimentacion autonoma. Incluye poste de 6 metros en acero galvanizado | E29: und | F29: =+'MEM ELECTRICOS'!J14 -> 20 | G29: =+'APU C3'!H215 -> 4734933.7 | H29: =+'APU C3'!H226 -> 173990.92 | I29: =+'APU C3'!H232 -> 236746.68 | J29: =+'APU C3'!H239 -> 472761.92 | K29: =+'APU C3'!H241 -> 5618433.2 | L29: =+$F$29*G29 -> 94698674 | M29: =+$F$29*H29 -> 3479818.4 | N29: =+$F$29*I29 -> 4734933.7 | O29: =+$F$29*J29 -> 9455238.3 | P29: =F29*K29 -> 1.1236866e+08
C30: 4 | D30: OBRAS CIVILES GENERALES | P30: =SUM(P31:P36) -> 1.1231096e+09 | Q30: =+P30*1.33 -> 1.4937358e+09 | R30: =+SUM(O31:O36)*1.33 -> 3.3805151e+08 | S30: =+SUM(L31:L36)*1.33 -> 2.1456241e+08 | T30: =+SUM(M31:M36)*1.33 -> 7.782177e+08 | U30: =+SUM(N31:N36)*1.33 -> 1.6290421e+08 | V30: =SUM(R30:U30) -> 1.4937358e+09
C31: 4.1 | D31: Conformación de calzada con sub_base granular tipo invias; incluye: suministro, extendido, humedecimiento, transporte externo, transporte interno, compactación hasta una densidad del 95% de la máxima obtenida en el ensayo del próctor modificado, medido en sitio. | E31: m2 | F31: =+'MEM CAP 4'!J32 -> 4149.4 | G31: =+'APU 4.1.'!H22 -> 21535.877 | H31: =+'APU 4.1.'!H31 -> 133787.28 | I31: =+'APU 4.1.'!H38 -> 28295.782 | J31: =+'APU 4.1.'!H46 -> 25002.282 | K31: ='APU 4.1.'!H48 -> 208621.22 | L31: =+$F$31*G31 -> 89360969 | M31: =+$F$31*H31 -> 5.5513692e+08 | N31: =+$F$31*I31 -> 1.1741052e+08 | O31: =+$F$31*J31 -> 1.0374447e+08 | P31: =F31*K31 -> 8.6565288e+08
C32: 4.2 | D32: Construcción de cuneta de sección trapezoidal revestida con geosintético textil impermeable (tipo impertex o similar). Incluye: excavación, perfilado, compactación de la banca, suministro, corte, instalación y anclaje del material geosintético, y todo lo necesario para su correcto funcionamiento. | E32: ml | F32: =+'MEM CAP 4'!J67 -> 317.8 | G32: =+'APU4.2.'!H23 -> 102409.36 | H32: =+'APU4.2.'!H33 -> 40059.898 | I32: =+'APU4.2.'!H40 -> 5120.4678 | J32: =+'APU4.2.'!H47 -> 363664.45 | K32: ='APU4.2.'!H49 -> 511254.17 | L32: =+$F$32*G32 -> 32545693 | M32: =+$F$32*H32 -> 12731035 | N32: =+$F$32*I32 -> 1627284.7 | O32: =+$F$32*J32 -> 1.1557256e+08 | P32: =F32*K32 -> 1.6247658e+08
C33: 4.3 | D33: Construcción de camino peatonal permeable. Incluye: actividades de adecuación, nivelación y preparación del terreno, suministro e instalación de sistema de confinamiento celular (geocelda), suministro, llenado y acomodo de material granular tipo grava, y todo lo necesario para su correcto funcionamiento. | E33: ml | F33: =+'MEM CAP 4'!J102 -> 184 | G33: =+'APU4.3.'!H23 -> 95653.853 | H33: =+'APU4.3.'!H31 -> 83944.408 | I33: =+'APU4.3.'!H38 -> 12802.477 | J33: =+'APU4.3.'!H47 -> 159102.03 | K33: ='APU4.3.'!H49 -> 351502.76 | L33: =+$F$33*G33 -> 17600309 | M33: =+$F$33*H33 -> 15445771 | N33: =+$F$33*I33 -> 2355655.8 | O33: =+$F$33*J33 -> 29274773 | P33: =F33*K33 -> 64676509
C34: 4.4 | D34: Caja de inspección eléctrico de 90 x 90 x 110cm, en concreto reforzado de f'c= 3.500 psi - impermeabilizado. Incluye excavación y tape, tapa y herrajes, cañuelas, marcos en ángulo de 1 1/2"x3/16 e incluye todo lo necesario para su correcto funcionamiento. | E34: und | F34: =+'MEM CAP 4'!J137 -> 5 | G34: =+'APU4.4.'!H24 -> 648875.9 | H34: =+'APU4.4.'!H32 -> 69016.209 | I34: =+'APU4.4.'!H38 -> 32443.795 | J34: =+'APU4.4.'!H44 -> 200018.26 | K34: ='APU4.4.'!H46 -> 950354.16 | L34: =+$F$34*G34 -> 3244379.5 | M34: =+$F$34*H34 -> 345081.04 | N34: =+$F$34*I34 -> 162218.98 | O34: =+$F$34*J34 -> 1000091.3 | P34: =F34*K34 -> 4751770.8
C35: 4.5 | D35: Construcción de caseta tipo cobertizo de 2 x 1 mts, para la ubicación de inversores, sin muros. Incluye: placa base en concreto de 3.500 psi, estructura metálica con protección anticorrosiva, cubierta termoacústica, accesorios para fijación de equipos y todo lo necesario para su correcto funcionamiento. | E35: und | F35: =+'MEM CAP 4'!J172 -> 5 | G35: =+'APU4.5.'!H29 -> 2405889.1 | H35: =+'APU4.5.'!H41 -> 240933.9 | I35: =+'APU4.5.'!H47 -> 120294.46 | J35: =+'APU4.5.'!H53 -> 836426.37 | K35: ='APU4.5.'!H55 -> 3603543.9 | L35: =+$F$35*G35 -> 12029446 | M35: =+$F$35*H35 -> 1204669.5 | N35: =+$F$35*I35 -> 601472.29 | O35: =+$F$35*J35 -> 4182131.8 | P35: =F35*K35 -> 18017719
C36: 4.6 | D36: Construcción de cimentación en concreto de 4.000 PSI para soporte de subestación eléctrica principal. Incluye excavación, retiro de material y acero de refuerzo. | E36: und | F36: =+'MEM CAP 4'!J208 -> 1 | G36: =+'APU4.6.'!H24 -> 6544321.6 | H36: =+'APU4.6.'!H36 -> 262610.27 | I36: =+'APU4.6.'!H43 -> 327216.08 | J36: =+'APU4.6.'!H52 -> 400036.52 | K36: ='APU4.6.'!H54 -> 7534184.5 | L36: =+$F$36*G36 -> 6544321.6 | M36: =+$F$36*H36 -> 262610.27 | N36: =+$F$36*I36 -> 327216.08 | O36: =+$F$36*J36 -> 400036.52 | P36: =F36*K36 -> 7534184.5
C37: 5 | D37: ZANJA MT PARA 1 CIRCUITO | P37: =SUM(P38:P39) -> 80172729 | Q37: =+P37*1.33 -> 1.0662973e+08 | R37: =+SUM(O38:O40)*1.33 -> 25849740 | S37: =+SUM(L38:L40)*1.33 -> 63137434 | T37: =+SUM(M38:M40)*1.33 -> 8556408.5 | U37: =+SUM(N38:N40)*1.33 -> 9086146.3 | V37: =SUM(R37:U37) -> 1.0662973e+08
C38: 5.1 | D38: Suministro e instalación de canalización de dos (02) tubos enterrada a profundidad máxima de 1,00 mts, en tubería de PVC de 4" tipo DB (ZANJA 1) | E38: ml | F38: =+'MEM ELECTRICOS'!J31 -> 60 | G38: =+'APU 5.1.'!H26 -> 149802.32 | H38: =+'APU 5.1.'!H35 -> 30204.588 | I38: =+'APU 5.1.'!H42 -> 29343.553 | J38: =+'APU 5.1.'!H50 -> 68641.267 | K38: ='APU 5.1.'!H52 -> 277991.73 | L38: =+$F$38*G38 -> 8988139.5 | M38: =+$F$38*H38 -> 1812275.3 | N38: =+$F$38*I38 -> 1760613.2 | O38: =+$F$38*J38 -> 4118476 | P38: =F38*K38 -> 16679504
C39: 5.2 | D39: Suministro e instalación de canalización de tres (04) tubos enterrada a profundidad máxima de 1,00 mts, en tubería de PVC de 4" tipo DB (ZANJA 2) | E39: ml | F39: =+'MEM ELECTRICOS'!J48 -> 144 | G39: =+'APU 5.2.'!H26 -> 267247.33 | H39: =+'APU 5.2.'!H35 -> 32091.073 | I39: =+'APU 5.2.'!H42 -> 35215.804 | J39: =+'APU 5.2.'!H50 -> 106370.96 | K39: ='APU 5.2.'!H52 -> 440925.17 | L39: =+$F$39*G39 -> 38483616 | M39: =+$F$39*H39 -> 4621114.5 | N39: =+$F$39*I39 -> 5071075.7 | O39: =+$F$39*J39 -> 15317419 | P39: =F39*K39 -> 63493225
C40: 6 | D40: ZANJA BT PARA 1 CIRCUITO | P40: =SUM(P41:P42) -> 30337324 | Q40: =+P40*1.33 -> 40348641 | R40: =+SUM(O41:O43)*1.33 -> 15719271 | S40: =+SUM(L41:L43)*1.33 -> 14971949 | T40: =+SUM(M41:M43)*1.33 -> 5039251.7 | U40: =+SUM(N41:N43)*1.33 -> 4618169.7 | V40: =SUM(R40:U40) -> 40348641
C41: 6.1 | D41: Suministro e instalación de canalización de cuatro (01) tubos enterrada a profundidad máxima de 1,10 mts, en tubería de PVC de 4" tipo DB (ZANJA 3) | E41: ml | F41: =+'MEM ELECTRICOS'!J65 -> 25 | G41: =+'APU 6.1.'!H26 -> 109198.19 | H41: =+'APU 6.1.'!H35 -> 25444.794 | I41: =+'APU 6.1.'!H42 -> 21312.213 | J41: =+'APU 6.1.'!H50 -> 106825.38 | K41: ='APU 6.1.'!H52 -> 262780.58 | L41: =+$F$41*G41 -> 2729954.8 | M41: =+$F$41*H41 -> 636119.85 | N41: =+$F$41*I41 -> 532805.34 | O41: =+$F$41*J41 -> 2670634.5 | P41: =F41*K41 -> 6569514.5
C42: 6.2 | D42: Suministro e instalación de canalización de tres (02) tubos enterrada a profundidad máxima de 1,00 mts, en tubería de PVC de 2" tipo DB (ZANJA 4) | E42: ml | F42: =+'MEM ELECTRICOS'!J82 -> 115 | G42: =+'APU 6.2.'!H26 -> 74149.125 | H42: =+'APU 6.2.'!H35 -> 27415.576 | I42: =+'APU 6.2.'!H42 -> 25560.893 | J42: =+'APU 6.2.'!H50 -> 79551.014 | K42: ='APU 6.2.'!H52 -> 206676.61 | L42: =+$F$42*G42 -> 8527149.3 | M42: =+$F$42*H42 -> 3152791.2 | N42: =+$F$42*I42 -> 2939502.7 | O42: =+$F$42*J42 -> 9148366.6 | P42: =F42*K42 -> 23767810
C43: 7 | D43: MALLA A TIERRA | P43: =SUM(P44:P52) -> 25700990 | Q43: =+P43*1.33 -> 34182317 | R43: =+SUM(O44:O52)*1.33 -> 10367135 | S43: =+SUM(L44:L52)*1.33 -> 22124543 | T43: =+SUM(M44:M52)*1.33 -> 1100249.6 | U43: =+SUM(N44:N52)*1.33 -> 590389.24 | V43: =SUM(R43:U43) -> 34182317
C44: 7.1 | D44: Suministro e instalacion de cable de cobre desnudo de calibre N° 1/0 AWG | E44: m | F44: =+'MEM ELECTRICOS'!P91 -> 260 | G44: =+'APU 7.1.'!H22 -> 41011.831 | H44: =+'APU 7.1.'!H30 -> 1610 | I44: =+'APU 7.1.'!H38 -> 1230.3549 | J44: =+'APU 7.1.'!H46 -> 21939.523 | K44: ='APU 7.1.'!H48 -> 65791.709 | L44: =+$F$44*G44 -> 10663076 | M44: =+$F$44*H44 -> 418600 | N44: =+$F$44*I44 -> 319892.28 | O44: =+$F$44*J44 -> 5704276 | P44: =F44*K44 -> 17105844
C45: 7.2 | D45: Ejecucion de soldadura exotermica del cable conductor en X, 115 gr | E45: und | F45: =+'MEM ELECTRICOS'!P108 -> 5 | G45: =+'APU 7.2.'!H22 -> 26392.975 | H45: =+'APU 7.2.'!H30 -> 5741.2857 | I45: =+'APU 7.2.'!H38 -> 527.8595 | J45: =+'APU 7.2.'!H46 -> 11792.494 | K45: ='APU 7.2.'!H48 -> 44454.614 | L45: =+$F$45*G45 -> 131964.88 | M45: =+$F$45*H45 -> 28706.429 | N45: =+$F$45*I45 -> 2639.2975 | O45: =+$F$45*J45 -> 58962.469 | P45: =F45*K45 -> 222273.07
C46: 7.3 | D46: Ejecucion de soldadura exotermica del cable conductor en T, 115 gr | E46: und | F46: =+'MEM ELECTRICOS'!P125 -> 11 | G46: =+'APU 7.3.'!H22 -> 26392.975 | H46: =+'APU 7.3.'!H30 -> 5741.2857 | I46: =+'APU 7.3.'!H38 -> 527.8595 | J46: =+'APU 7.3.'!H46 -> 11792.494 | K46: ='APU 7.3.'!H48 -> 44454.614 | L46: =+$F$46*G46 -> 290322.73 | M46: =+$F$46*H46 -> 63154.143 | N46: =+$F$46*I46 -> 5806.4545 | O46: =+$F$46*J46 -> 129717.43 | P46: =F46*K46 -> 489000.75
...

Sheet MO SUPERVISION
A1: SALARIOS MENSUAL BASICO POR APOYO A LA SUPERVISIÓN
A2: 1
B3: Duracion en obra (MESES) | C3: 11 | E3: CONSTRUCCIÓN DE OBRAS CIVILES Y ELECTRICAS
B4: PERSONAL ESPECIALISTA, PROFESIONAL O DE APOYO | C4: CANTIDAD DE PERSONAL POR ACTIVIDAD | D4: VALOR MES | E4: MES 1 | F4: MES 2 | G4: MES 3 | H4: MES 4 | I4: MES 5 | J4: MES 6 | K4: MES 7 | L4: MES 8 | M4: MES 9 | N4: MES 10 | O4: MES 11 | P4: TOTAL DEDICACIÓN HOMBRES ETAPA OBRA | Q4: % DE DEDICACIÓN | R4: COSTO ($) TOTAL HOMBRES PROYECTO ETAPA OBRA
B5: INGENIERO APOYO A LA SUPERVISION | C5: 1 | D5: ='PPTO RESUMEN'!H100/C3 -> 6900370.9 | E5: 1 | F5: 1 | G5: 1 | H5: 1 | I5: 1 | J5: 1 | K5: 1 | L5: 1 | M5: 1 | N5: 1 | O5: 1 | P5: =C3 -> 11 | Q5: 1 | R5: =P5*D5 -> 75904080 | S5: =R5-'PPTO RESUMEN'!H100 -> 0
A6: RESPONSABILIDADES
A7: Apoyar tecnicamente a la supervision de cronogramas del proyecto energetico sostenible
A8: Apoyar tecnicamente a la supervision en la revision de los informes mensuales presentados en los contratos del proyecto energetico sostenible
A9: INCLUSIONES
A10: El monto salarial incluye todos los costos asociados a contratos de prestacion de servicios y se realizará el pago neto mensual por el monto relacionado. Se debe presentar los documentos asociados a la liquidacion y pago de Planilla Unica para consolidacion del proceso, por el valor cotizado mensual.

Sheet AIU
B2: REPUBLICA DE COLOMBIA
B3: DEPARTAMENTO DE LA GUAJIRA
B4: MUNICIPIO DE BARRANCAS
B5: OFICINA ASESORA DE PLANEACION
B7: CONSTRUCCIÓN DE UN SISTEMA SOLAR FOTOVOLTAICO DE GENERACIÓN DISTRIBUIDA DE 0.99 MWE PARA EL DESARROLLO SOCIOECONÓMICO DEL MUNICIPIO DE BARRANCAS, EN EL DEPARTAMENTO DE LA GUAJIRA - BARRANCAS III
B9: ANALISIS DETALLADO AIU
B11: VALOR BASE COSTO DIRECTO | K11: ='PPTO RESUMEN'!H85 -> 7.590408e+09
B13: ÍTEM | C13: DESCRIPCIÓN | D13: SUELDO Y/O TARIFA MENSUAL | E13: FP | F13: SUBTOTAL MES | G13: CANT | H13: DEDICACIÓN | I13: VALOR TOTAL MES | J13: TIEMPO | K13: VALOR TOTAL | L13: % PARICIPACIÓN
B14: ADMINISTRACIÓN
B15: 1 | C15: COSTOS DE PERSONAL
C16: PERSONAL PROFESIONAL
C17: DIRECTOR DE OBRA - ING ELECTRICO | D17: 4500000 | E17: ='F.P MANO DE OBRA'!N26 -> 1.5596 | F17: =D17*E17 -> 7018200 | G17: 1 | H17: 0.5 | I17: =F17*G17*H17 -> 3509100 | J17: 10 | K17: =I17*J17 -> 35091000 | L17: =K17/$K$11 -> 0.0046230716
C18: RESIDENTE DE OBRA - ING ELECTRICO | D18: 2600000 | E18: =E21 -> 1.7501 | F18: =D18*E18 -> 4550260 | G18: 1 | H18: 1 | I18: =F18*G18*H18 -> 4550260 | J18: 10 | K18: =I18*J18 -> 45502600 | L18: =K18/$K$11 -> 0.0059947502
C19: RESIDENTE DE OBRA - ING CIVIL | D19: 2600000 | E19: =E18 -> 1.7501 | F19: =D19*E19 -> 4550260 | G19: 1 | H19: 1 | I19: =F19*G19*H19 -> 4550260 | J19: 10 | K19: =I19*J19 -> 45502600 | L19: =K19/$K$11 -> 0.0059947502
C20: PERSONAL NO PROFESIONAL
C21: SECRETARIA | D21: 2000000 | E21: ='F.P MANO DE OBRA'!G26 -> 1.7501 | F21: =D21*E21 -> 3500200 | G21: 1 | H21: 0.5 | I21: =F21*G21*H21 -> 1750100 | J21: 10 | K21: =I21*J21 -> 17501000 | L21: =K21/$K$11 -> 0.0023056732
C22: AUXILIAR DE LOGISTICA | D22: 2000000 | E22: =E21 -> 1.7501 | F22: =D22*E22 -> 3500200 | G22: 1 | H22: 1 | I22: =F22*G22*H22 -> 3500200 | J22: 10 | K22: =I22*J22 -> 35002000 | L22: =K22/$K$11 -> 0.0046113463
B24: 2 | C24: COSTOS GENERALES DE OBRA
C25: VALLA INFORMATIVA DEL PROYECTO | D25: UNIDAD | F25: 2500000 | G25: 1 | H25: 1 | K25: =F25*G25*H25 -> 2500000 | L25: =K25/$K$11 -> 0.00032936306
C26: PLANOS RECORD | D26: UNIDAD | F26: 3000000 | G26: 1 | H26: 1 | K26: =F26*G26*H26 -> 3000000 | L26: =K26/$K$11 -> 0.00039523567
C27: MANEJO DE ALMACEN | D27: MES | F27: 1500000 | G27: 1 | H27: 0.5 | J27: 10 | K27: =F27*G27*H27*J27 -> 7500000 | L27: =K27/$K$11 -> 0.00098808918
C28: LIMPIEZA DE OBRA | D28: UNIDAD | G28: 1 | H28: 1 | K28: =F28*G28*H28 -> 0 | L28: =K28/$K$11 -> 0
B30: 3 | C30: COSTOS ADMINISTRATIVOS
C31: OFICINA Y MOBILIARIO | D31: MES | F31: 1489049.2 | G31: 1 | H31: 1 | J31: 10 | K31: =F31*G31*H31*J31 -> 14890492 | L31: =K31/$K$11 -> 0.0019617512
C32: EQUIPOS DE COMPUTO Y SOFTWARE | D32: UNIDAD | F32: 3000000 | G32: 1 | H32: 1 | K32: =F32*G32*H32 -> 3000000 | L32: =K32/$K$11 -> 0.00039523567
C33: ALQUILER DE CAMIONETA INCLUYE TRANSPORTE | D33: MES | F33: 10277122 | G33: 1 | H33: 1 | J33: 10 | K33: =F33*G33*H33*J33 -> 1.0277122e+08 | L33: =K33/$K$11 -> 0.013539618
C34: COMUNICACIONES (TELEFONOS, RADIOS, INTERNET) | D34: MES | F34: 275948.39 | G34: 1 | H34: 1 | J34: 10 | K34: =F34*G34*H34*J34 -> 2759483.9 | L34: =K34/$K$11 -> 0.00036354882
C35: ACOMETIDA ELECTRICA TEMPORAL | D35: UNIDAD | F35: 2500000 | G35: 1 | H35: 1 | K35: =F35*G35*H35 -> 2500000 | L35: =K35/$K$11 -> 0.00032936306
C36: PAPELERIA-FOTOCOPIAS-INFORMES CONTRATISTA DE OBRA | D36: MES | F36: 500000 | G36: 1 | H36: 1 | J36: 10 | K36: =F36*G36*H36*J36 -> 5000000 | L36: =K36/$K$11 -> 0.00065872612
C37: SOFTWARE DE CONTROL LOGISTICO | D37: UNIDAD | F37: 3000000 | G37: 1 | H37: 1 | K37: =F37*G37*H37 -> 3000000 | L37: =K37/$K$11 -> 0.00039523567
C38: REVISIÓN CONTRACTUAL | D38: UNIDAD | F38: =ROUNDUP(K11*0.1%/1000000,0)*1000000 -> 8000000 | G38: 1 | H38: 1 | K38: =F38*G38*H38 -> 8000000 | L38: =K38/$K$11 -> 0.0010539618
C39: ASESORIA JURIDICA | D39: MES | F39: 3500000 | G39: 1 | H39: 0.5 | J39: 10 | K39: =F39*G39*H39*J39 -> 17500000 | L39: =K39/$K$11 -> 0.0023055414
C40: ASESORIA AMBIENTAL | D40: MES | F40: 3500000 | G40: 1 | H40: 0.5 | J40: 10 | K40: =F40*G40*H40*J40 -> 17500000 | L40: =K40/$K$11 -> 0.0023055414
C41: ASESORIA FINANCIERA Y CONTABLE | D41: MES | F41: 2200000 | G41: 1 | H41: 0.5 | J41: 10 | K41: =F41*G41*H41*J41 -> 11000000 | L41: =K41/$K$11 -> 0.0014491975
C42: GASTOS FINANCIEROS Y BANCARIOS | G42: 1 | H42: 1 | K42: =F42*G42*H42 -> 0 | L42: =K42/$K$11 -> 0
B44: 4 | C44: POLIZAS
C45: Poliza de cumplimiento, estabilidad y manejo de anticipo | H45: 0.005 | K45: =ROUNDUP(H45*$K$11,)*0 -> 0 | L45: =K45/$K$11 -> 0
C46: Poliza Responsabilidad Civil Extracontractual | H46: 0.001 | K46: =ROUNDUP(H46*$K$11,)*0 -> 0 | L46: =K46/$K$11 -> 0
B48: TOTAL ADMINISTRACIÓN | K48: =SUM(K15:K47) -> 3.795204e+08 | L48: =+K48/K11 -> 0.05 | N48: =+'PPTO RESUMEN'!H85*0.05 -> 3.795204e+08 | T48: =+K48-N48 -> 0
B50: IMPREVISTOS | K50: =L50*$K$11 -> 1.5180816e+08 | L50: 0.02 | N50: =+K48+K73 -> 2.0494102e+09
...

Sheet MO INTERVENTORIA
B1: PRESUPUESTO DE INTERVENTORÍA
C2: FECHA | D2: MARZO 2025
B3: ÍTEM | C3: CONCEPTO | D3: CANTIDAD | E3: COSTO MES | F3: F.P. | G3: COSTO TOTAL MENSUAL | H3: DEDICACIÓN | S3: VALOR PARCIAL
H4: 1 | I4: 2 | J4: 3 | K4: 4 | L4: 5 | M4: 6 | N4: 7 | O4: 8 | P4: 9 | Q4: 10 | R4: TOTAL MES
B5: A | C5: PERSONAL PROFESIONAL
B6: 1 | C6: INGENIERO ESPECIALISTA DIRECTOR | D6: 1 | E6: 4500000 | F6: ='F.P INTERVENTORIA'!N30 -> 1.7396 | G6: =E6*F6 -> 7828200 | H6: 0.5 | I6: =H6 -> 0.5 | J6: =I6 -> 0.5 | K6: =J6 -> 0.5 | L6: =K6 -> 0.5 | M6: =L6 -> 0.5 | N6: =M6 -> 0.5 | O6: =N6 -> 0.5 | P6: =O6 -> 0.5 | Q6: =P6 -> 0.5 | R6: =+SUM(H6:Q6) -> 5 | S6: =+R6*G6 -> 39141000
B7: 2 | C7: INGENIERO RESIDENTE CAMPO | D7: 1 | E7: 3600000 | F7: =F6 -> 1.7396 | G7: =E7*F7 -> 6262560 | H7: 1 | I7: =H7 -> 1 | J7: 1 | K7: 1 | L7: =K7 -> 1 | M7: =L7 -> 1 | N7: =M7 -> 1 | O7: =N7 -> 1 | P7: =O7 -> 1 | Q7: =P7 -> 1 | R7: =+SUM(H7:Q7) -> 10 | S7: =+R7*G7 -> 62625600
B8: 3 | C8: INGENIERO AMBIENTAL | D8: 1 | E8: 3600000 | F8: =F7 -> 1.7396 | G8: =E8*F8 -> 6262560 | H8: 0.2 | I8: =H8 -> 0.2 | J8: =I8 -> 0.2 | K8: =J8 -> 0.2 | L8: =K8 -> 0.2 | M8: =L8 -> 0.2 | N8: =M8 -> 0.2 | O8: =N8 -> 0.2 | P8: =O8 -> 0.2 | Q8: =P8 -> 0.2 | R8: =+SUM(H8:Q8) -> 2 | S8: =+R8*G8 -> 12525120
B9: 4 | C9: ABOGADO | D9: 1 | E9: 3500000 | F9: 1.7396 | G9: =E9*F9 -> 6088600 | H9: 0.1 | I9: =H9 -> 0.1 | J9: =I9 -> 0.1 | K9: =J9 -> 0.1 | L9: =K9 -> 0.1 | M9: =L9 -> 0.1 | N9: =M9 -> 0.1 | O9: =N9 -> 0.1 | P9: =O9 -> 0.1 | Q9: =P9 -> 0.1 | R9: =+SUM(H9:Q9) -> 1 | S9: =+R9*G9 -> 6088600
B10: 5 | C10: CONTADOR | D10: 1 | E10: 3500000 | F10: 1.7396 | G10: =E10*F10 -> 6088600 | H10: 0.1 | I10: =H10 -> 0.1 | J10: =I10 -> 0.1 | K10: =J10 -> 0.1 | L10: =K10 -> 0.1 | M10: =L10 -> 0.1 | N10: =M10 -> 0.1 | O10: =N10 -> 0.1 | P10: =O10 -> 0.1 | Q10: =P10 -> 0.1 | R10: =+SUM(H10:Q10) -> 1 | S10: =+R10*G10 -> 6088600
B11: SUBTOTAL A. COSTOS DE PERSONAL PROFESIONAL | S11: =SUM(S6:S10) -> 1.2646892e+08
B13: ÍTEM | C13: CONCEPTO | D13: CANTIDAD | E13: =+E3 -> COSTO MES | F13: =+F3 -> F.P. | G13: =+G3 -> COSTO TOTAL MENSUAL | H13: DEDICACIÓN | S13: VALOR PARCIAL
H14: 1 | I14: 2 | J14: 3 | K14: 4 | L14: 5 | M14: 6 | N14: 7 | O14: 8 | P14: 9 | Q14: 10 | R14: TOTAL MES
B15: B | C15: PERSONAL TÉCNICO AUXILIAR
B16: 1 | C16: SECRETARIA | D16: 1 | E16: 2100000 | F16: ='F.P INTERVENTORIA'!G30 -> 1.9301 | G16: =+E16*F16*D16 -> 4053210 | H16: 0.5 | I16: =H16 -> 0.5 | J16: =I16 -> 0.5 | K16: =J16 -> 0.5 | L16: =K16 -> 0.5 | M16: =L16 -> 0.5 | N16: =M16 -> 0.5 | O16: =N16 -> 0.5 | P16: =O16 -> 0.5 | Q16: =P16 -> 0.5 | R16: =+SUM(H16:Q16) -> 5 | S16: =+R16*G16 -> 20266050
B17: 2 | C17: PROFESIONAL SISO | D17: 1 | E17: 3300000 | F17: =F8 -> 1.7396 | G17: =+E17*F17*D17 -> 5740680 | H17: 1 | I17: =H17 -> 1 | J17: =I17 -> 1 | K17: =J17 -> 1 | L17: =K17 -> 1 | M17: =L17 -> 1 | N17: =M17 -> 1 | O17: =N17 -> 1 | P17: =O17 -> 1 | Q17: =P17 -> 1 | R17: =+SUM(H17:Q17) -> 10 | S17: =+R17*G17 -> 57406800
B18: 3 | C18: INSPECTOR DE OBRA ELECTRICA | D18: 2 | E18: 2500000 | F18: =F16 -> 1.9301 | G18: =+E18*F18*D18 -> 9650500 | H18: 1 | I18: 1 | J18: 1 | K18: 1 | L18: =K18 -> 1 | M18: =L18 -> 1 | N18: =M18 -> 1 | O18: =N18 -> 1 | P18: =O18 -> 1 | Q18: =P18 -> 1 | R18: =+SUM(H18:Q18) -> 10 | S18: =+G18*R18 -> 96505000
B19: SUBTOTAL B. PERSONAL TÉCNICO AUXILIAR | S19: =SUM(S16:S18) -> 1.7417785e+08
B21: TOTAL COSTOS DE PERSONAL A+B (PROFESIONAL + TÉCNICO AUXILIAR) | S21: =+S11+S19 -> 3.0064677e+08
B23: ITEM | C23: CONCEPTO | D23: CANTIDAD | E23: UNIDAD | G23: COSTO X UNIDAD | H23: DEDICACIÓN | S23: VALOR PARCIAL
H24: 1 | I24: 2 | J24: 3 | K24: 4 | L24: 5 | M24: 6 | N24: 7 | O24: 8 | P24: 9 | Q24: 10 | R24: TOTAL MES
B25: C | C25: INSUMOS (OTROS COSTOS ADMINISTRATIVOS)
B26: 1 | C26: ALQUILER DE VEHÍCULO TIPO TIPO PICK UP < 2,000 CC MODELO MINIMO 2013, Incluye Gastos de Combustible y conductor. | D26: 1 | E26: MES | G26: 8000000 | H26: 0.7 | I26: =H26 -> 0.7 | J26: =I26 -> 0.7 | K26: =J26 -> 0.7 | L26: =K26 -> 0.7 | M26: =+L26 -> 0.7 | N26: =K26 -> 0.7 | O26: =N26 -> 0.7 | P26: =O26 -> 0.7 | Q26: =P26 -> 0.7 | R26: =+SUM(H26:Q26) -> 7 | S26: =D26*R26*G26 -> 56000000
B27: 2 | C27: ALQUILER EQUIPOS DE COMPUTO Y DE OFICINA. | D27: 1 | E27: MES | G27: 414147.7 | H27: 1 | I27: 1 | J27: 1 | K27: 1 | L27: 1 | M27: =+L27 -> 1 | N27: =K27 -> 1 | O27: =N27 -> 1 | P27: =O27 -> 1 | Q27: =P27 -> 1 | R27: =+SUM(H27:Q27) -> 10 | S27: =D27*R27*G27 -> 4141477
B28: 3 | C28: ALQUILER OFICINA.INCLUYE SERVICIOS PUBLICOS Y COMPLEMENTARIOS | D28: 1 | E28: MES | G28: 2500000 | H28: 1 | I28: 1 | J28: 1 | K28: 1 | L28: 1 | M28: =+L28 -> 1 | N28: =K28 -> 1 | O28: =N28 -> 1 | P28: =O28 -> 1 | Q28: =P28 -> 1 | R28: =+SUM(H28:Q28) -> 10 | S28: =D28*R28*G28 -> 25000000
B29: 4 | C29: EDICIÓN DE INFORMES, PAPELERÍA, IMPRESIONES | D29: 1 | E29: MES | G29: 500000 | H29: 1 | I29: 1 | J29: 1 | K29: 1 | L29: 1 | M29: =+L29 -> 1 | N29: =K29 -> 1 | O29: =N29 -> 1 | P29: =O29 -> 1 | Q29: =P29 -> 1 | R29: =+SUM(H29:Q29) -> 10 | S29: =D29*R29*G29 -> 5000000
B30: 5 | C30: VIATICOS | D30: 0 | E30: MES | G30: 1500000 | H30: 0 | I30: 0 | J30: 0 | K30: 0 | L30: 0 | M30: 0 | N30: =K30 -> 0 | O30: =N30 -> 0 | R30: =+SUM(H30:O30) -> 0 | S30: =D30*R30*G30 -> 0
B31: SUBTOTAL C. INSUMOS (OTROS COSTOS ADMINISTRATIVOS) | S31: =SUM(S26:S30) -> 90141477
B33: ITEM | C33: CONCEPTO | D33: CANTIDAD | E33: UNIDAD | G33: SUBO TOTAL | H33: 1 | I33: 2 | J33: 3 | K33: 4 | L33: 5 | M33: 6 | N33: 7 | O33: 8 | P33: 9 | Q33: 10 | R33: TOTAL MES | S33: VALOR PARCIAL
B35: D | C35: UTILIDAD
B36: 1 | C36: UTILIDAD (4% DE A+B+C) | D36: 0.05 | G36: =+S21+S31 -> 3.9078825e+08 | S36: =+D36*G36 -> 19539412
B37: SUBTOTAL A + B + C + D | S37: =+S21+S31+S36 -> 4.1032766e+08
B39: ITEM | C39: CONCEPTO | D39: CANTIDAD | E39: UNIDAD | G39: SUBO TOTAL | H39: 1 | I39: 2 | J39: 3 | K39: 4 | L39: 5 | M39: 6 | N39: 7 | O39: 8 | P39: 9 | Q39: 10 | R39: TOTAL MES | S39: VALOR PARCIAL
B41: E | C41: E- GASTOS DE ADMINISTRACIÓN
B42: 1 | C42: GASTOS DE LEGALIZACIÓN (polizas de calidad, cumplimiento, salarios y prestaciones sociales), ESTAMPILLAS MUNICIPAL Y DEPARTAMENTAL( Procultura=1%; Pro-adulto mayor=4%; Pro- desarrollo fronterizo=2%; Prodesarrollo departamental=2%; Pro- uniguajira=2%; Pro deporte y recreacion=2%; pro hospital 2%; justicia familiar 2%). | D42: 0.17 | E42: Nota: los impuestos Son deducidos del Valor total antes del iva (19%). | G42: =+S21+S31+S36 -> 4.1032766e+08 | S42: =+D42*G42 -> 69755702
B43: SUBTOTAL C. INSUMOS (OTROS COSTOS ADMINISTRATIVOS) | S43: =SUM(S42:S42) -> 69755702
B45: TOTAL COSTOS PERSONAL PROFESIONAL(A) + COSTOS PERSONAL TÉCNICO AUXILIAR (B) + OTROS COSTOS ADMINISTRATIVOS ( C ) + UTILIDAD ( D ) + GASTOS DE LEGALIZACION ( E ) | S45: =+S11+S19+S31+S36+S42 -> 4.8008336e+08
B46: IVA (19% DE A +B + C +D) | S46: =+S37*19% -> 77962255
B47: VALOR TOTAL INTERVENTORÍA | S47: =SUM(S45:S46) -> 5.5804562e+08 | U47: ='PPTO RESUMEN'!H99 -> 5.5804562e+08 | V47: =U47-S47 -> 0
B49: FECHA: MARZO DE 2026
...

Sheet FLUJO DE CAJA
A1: FLUJO DE CAJA DEL PROYECTO:CONSTRUCCIÓN DE UN SISTEMA SOLAR FOTOVOLTAICO DE 0.99 MWE PARA EL DESARROLLO SOCIOECONÓMICO DEL MUNICIPIO DE BARRANCAS, EN EL DEPARTAMENTO DE LA GUAJIRA
A2: Etapas constructivas del proyecto | D2: CANTIDAD | E2: 1 | I2: 2 | M2: 3 | Q2: 4 | U2: 5 | Y2: 6 | AC2: 7 | AG2: 8 | AK2: 9 | AO2: 10 | AS2: 11 | AW2: 12 | BA2: 13
D3: Semanas | E3: 1 | F3: 2 | G3: 3 | H3: 4 | I3: 1 | J3: 2 | K3: 3 | L3: 4 | M3: 1 | N3: 2 | O3: 3 | P3: 4 | Q3: 1 | R3: 2 | S3: 3 | T3: 4 | U3: 1 | V3: 2 | W3: 3 | X3: 4 | Y3: 1 | Z3: 2 | AA3: 3 | AB3: 4 | AC3: 1 | AD3: 2 | AE3: 3 | AF3: 4 | AG3: 1 | AH3: 2 | AI3: 3 | AJ3: 4 | AK3: 1 | AL3: 2 | AM3: 3 | AN3: 4 | AO3: 1 | AP3: 2 | AQ3: 3 | AR3: 4 | AS3: 1 | AT3: 2 | AU3: 3 | AV3: 4 | AW3: 1 | AX3: 2 | AY3: 3 | AZ3: 4 | BA3: 1 | BB3: 2 | BC3: 3 | BD3: 4
A4: OBRAS PRELIMINARES | C4: Actividades relacionadas | D4: Precio por actividad | E4: ETAPA PRECONTRACTUAL | BA4: ETAPA DE LIQUIDACION
A5: Localizacion, trazado y replanteo | D5: ='PPTO RESUMEN'!H18 -> 50684412 | M5: =100%/30 -> 0.033333333 | N5: =M5 -> 0.033333333 | O5: =N5 -> 0.033333333 | P5: =O5 -> 0.033333333 | Q5: =P5 -> 0.033333333 | R5: =Q5 -> 0.033333333 | S5: =R5 -> 0.033333333 | T5: =S5 -> 0.033333333 | U5: =T5 -> 0.033333333 | ... AP5: =AO5 -> 0.033333333 | BI5: =SUM(M6:AZ6)-D5 -> 0
M6: =M5*$D$5 -> 1689480.4 | N6: =N5*$D5 -> 1689480.4 | O6: =O5*$D$5 -> 1689480.4 | P6: =P5*$D$5 -> 1689480.4 | Q6: =Q5*$D$5 -> 1689480.4 | R6: =R5*$D$5 -> 1689480.4 | S6: =S5*$D$5 -> 1689480.4 | T6: =T5*$D$5 -> 1689480.4 | U6: =U5*$D$5 -> 1689480.4 | V6: =V5*$D$5 -> 1689480.4 | ... AP6: =AP5*$D$5 -> 1689480.4
A7: Limpieza y descapote del terreno (tala de árboles, desbroce de maleza, y retiro de material vegetal. | D7: ='PPTO RESUMEN'!H19 -> 6.3707983e+08 | N7: =100%/10 -> 0.1 | O7: =N7 -> 0.1 | P7: =O7 -> 0.1 | Q7: =P7 -> 0.1 | R7: =Q7 -> 0.1 | S7: =R7 -> 0.1 | T7: =S7 -> 0.1 | U7: =T7 -> 0.1 | V7: =U7 -> 0.1 | W7: =V7 -> 0.1 | BI7: =SUM(M8:AZ8)-D7 -> 0
N8: =N7*$D7 -> 63707983 | O8: =O7*$D7 -> 63707983 | P8: =P7*$D7 -> 63707983 | Q8: =Q7*$D7 -> 63707983 | R8: =R7*$D7 -> 63707983 | S8: =S7*$D7 -> 63707983 | T8: =T7*$D7 -> 63707983 | U8: =U7*$D7 -> 63707983 | ... W8: =W7*$D7 -> 63707983
A9: Instalación y adecuacion de campamento y almacen de equipos y herramientas | D9: ='PPTO RESUMEN'!H20 -> 36195192 | M9: =100%/4 -> 0.25 | N9: =M9 -> 0.25 | O9: =N9 -> 0.25 | P9: =O9 -> 0.25 | BI9: =SUM(M10:AZ10)-D9 -> 0
M10: =M9*$D9 -> 9048797.9 | N10: =N9*$D9 -> 9048797.9 | O10: =O9*$D9 -> 9048797.9 | P10: =P9*$D9 -> 9048797.9
A11: MOVIMIENTOS DE TIERRA Y ADECUACION DEL TERRENO
A12: Corte y nivelacion del terreno. Incluye cargue y transporte | D12: ='PPTO RESUMEN'!H22 -> 1.9822401e+08 | Q12: =100%/4 -> 0.25 | R12: =Q12 -> 0.25 | S12: =R12 -> 0.25 | T12: =S12 -> 0.25 | BI12: =SUM(M13:AZ13)-D12 -> 0
Q13: =Q12*$D12 -> 49556003 | R13: =R12*$D12 -> 49556003 | S13: =S12*$D12 -> 49556003 | T13: =T12*$D12 -> 49556003
A14: Excavación sin clasificar de la explanación, canales y préstamos. | D14: ='PPTO RESUMEN'!H23 -> 3.461173e+08 | R14: =1/5 -> 0.2 | S14: =R14 -> 0.2 | T14: =S14 -> 0.2 | U14: =T14 -> 0.2 | V14: =U14 -> 0.2 | BI14: =SUM(M15:AZ15)-D14 -> 0
R15: =R14*$D14 -> 69223460 | S15: =S14*$D14 -> 69223460 | T15: =T14*$D14 -> 69223460 | U15: =U14*$D14 -> 69223460 | V15: =V14*$D14 -> 69223460
A16: Suministro, colocacion y compactacion de relleno seleccionado | D16: ='PPTO RESUMEN'!H24 -> 1.265147e+09 | U16: =1/10 -> 0.1 | V16: =U16 -> 0.1 | W16: =V16 -> 0.1 | X16: =W16 -> 0.1 | Y16: =X16 -> 0.1 | Z16: =Y16 -> 0.1 | AA16: =Z16 -> 0.1 | AB16: =AA16 -> 0.1 | AC16: =AB16 -> 0.1 | AD16: =AC16 -> 0.1 | BI16: =SUM(M17:AZ17)-D16 -> 0
U17: =U16*$D16 -> 1.265147e+08 | V17: =V16*$D16 -> 1.265147e+08 | W17: =W16*$D16 -> 1.265147e+08 | X17: =X16*$D16 -> 1.265147e+08 | Y17: =Y16*$D16 -> 1.265147e+08 | Z17: =Z16*$D16 -> 1.265147e+08 | AA17: =AA16*$D16 -> 1.265147e+08 | AB17: =AB16*$D16 -> 1.265147e+08 | ... AD17: =AD16*$D16 -> 1.265147e+08
A18: CERRAMIENTO PERIMETRAL
A19: Suministro e instalación de cerramiento perimetral en malla eslabonada de alta seguridad, incluye: excavación, cimentación en dados de concreto de 21 MPA, postes tubulares galvanizados en caliente, brazos inclinados, alambre de púas, accesorios de fijación y todo lo necesario para su correcta ejecución y entrega a satisfacción. | D19: ='PPTO RESUMEN'!H26 -> 4.3237331e+08 | Q19: =1/20 -> 0.05 | R19: =Q19 -> 0.05 | S19: =R19 -> 0.05 | T19: =S19 -> 0.05 | U19: =T19 -> 0.05 | V19: =U19 -> 0.05 | W19: =V19 -> 0.05 | X19: =W19 -> 0.05 | Y19: =X19 -> 0.05 | ... AJ19: =AI19 -> 0.05 | BI19: =SUM(M20:AZ20)-D19 -> 0
Q20: =Q19*$D19 -> 21618665 | R20: =R19*$D19 -> 21618665 | S20: =S19*$D19 -> 21618665 | T20: =T19*$D19 -> 21618665 | U20: =U19*$D19 -> 21618665 | V20: =V19*$D19 -> 21618665 | W20: =W19*$D19 -> 21618665 | X20: =X19*$D19 -> 21618665 | ... AJ20: =AJ19*$D19 -> 21618665
A21: Suministro e instalación de portón vehicular de doble hoja en tubería galvanizada y malla eslabonada, según diseño. Incluye: parales principales, cerrojos de seguridad, accesorios de sujeción, pintura de retoque en soldaduras y todo lo necesario para su entrega a satisfacción. | D21: ='PPTO RESUMEN'!H27 -> 5810035.1 | AC21: =1/3 -> 0.33333333 | AD21: =AC21 -> 0.33333333 | AE21: =AD21 -> 0.33333333 | BI21: =SUM(M22:AZ22)-D21 -> 0
AC22: =AC21*$D21 -> 1936678.4 | AD22: =AD21*$D21 -> 1936678.4 | AE22: =AE21*$D21 -> 1936678.4
A23: Suministro e instalación de puerta peatonal en tubería galvanizada y malla eslabonada, según diseño. Incluye: marco, cerradura/portacandado, bisagras, fijaciones y todo lo necesario para su correcta operación. | D23: ='PPTO RESUMEN'!H28 -> 2509706.1 | AE23: =1/2 -> 0.5 | AF23: =AE23 -> 0.5 | BI23: =SUM(M24:AZ24)-D23 -> 0
AE24: =AE23*$D23 -> 1254853 | AF24: =AF23*$D23 -> 1254853
A25: Suministro e instalacion de lamparas de iluminacion tipo exterior con alimentacion autonoma. Incluye poste de 6 metros en acero galvanizado | D25: ='PPTO RESUMEN'!H29 -> 1.1236866e+08 | V25: =1/12 -> 0.083333333 | W25: =V25 -> 0.083333333 | X25: =W25 -> 0.083333333 | Z25: =X25 -> 0.083333333 | AA25: =Z25 -> 0.083333333 | AB25: =AA25 -> 0.083333333 | AD25: =AB25 -> 0.083333333 | AE25: =AD25 -> 0.083333333 | AF25: =AE25 -> 0.083333333 | AI25: =AF25 -> 0.083333333 | AJ25: =AI25 -> 0.083333333 | AK25: =AJ25 -> 0.083333333 | BI25: =SUM(M26:AZ26)-D25 -> 0
V26: =V25*$D25 -> 9364055.3 | W26: =W25*$D25 -> 9364055.3 | X26: =X25*$D25 -> 9364055.3 | Z26: =Z25*$D25 -> 9364055.3 | AA26: =AA25*$D25 -> 9364055.3 | AB26: =AB25*$D25 -> 9364055.3 | AD26: =AD25*$D25 -> 9364055.3 | AE26: =AE25*$D25 -> 9364055.3 | AF26: =AF25*$D25 -> 9364055.3 | AI26: =AI25*$D25 -> 9364055.3 | AJ26: =AJ25*$D25 -> 9364055.3 | AK26: =AK25*$D25 -> 9364055.3
A27: OBRAS CIVILES GENERALES
A28: Conformación de calzada con sub_base granular tipo invias; incluye: suministro, extendido, humedecimiento, transporte externo, transporte interno, compactación hasta una densidad del 95% de la máxima obtenida en el ensayo del próctor modificado, medido en sitio. | D28: ='PPTO RESUMEN'!H31 -> 8.6565288e+08 | P28: =1/10 -> 0.1 | Q28: =P28 -> 0.1 | R28: =Q28 -> 0.1 | S28: =R28 -> 0.1 | T28: =S28 -> 0.1 | U28: =T28 -> 0.1 | V28: =U28 -> 0.1 | W28: =V28 -> 0.1 | X28: =W28 -> 0.1 | Y28: =X28 -> 0.1 | BI28: =SUM(M29:AZ29)-D28 -> 0
P29: =P28*$D28 -> 86565288 | Q29: =Q28*$D28 -> 86565288 | R29: =R28*$D28 -> 86565288 | S29: =S28*$D28 -> 86565288 | T29: =T28*$D28 -> 86565288 | U29: =U28*$D28 -> 86565288 | V29: =V28*$D28 -> 86565288 | W29: =W28*$D28 -> 86565288 | ... Y29: =Y28*$D28 -> 86565288
A30: Construcción de cuneta de sección trapezoidal revestida con geosintético textil impermeable (tipo impertex o similar). Incluye: excavación, perfilado, compactación de la banca, suministro, corte, instalación y anclaje del material geosintético, y todo lo necesario para su correcto funcionamiento. | D30: ='PPTO RESUMEN'!H32 -> 1.6247658e+08 | R30: =1/12 -> 0.083333333 | S30: =R30 -> 0.083333333 | T30: =S30 -> 0.083333333 | U30: =T30 -> 0.083333333 | V30: =U30 -> 0.083333333 | W30: =V30 -> 0.083333333 | X30: =W30 -> 0.083333333 | Y30: =X30 -> 0.083333333 | Z30: =Y30 -> 0.083333333 | ... AC30: =AB30 -> 0.083333333 | BI30: =SUM(M31:AZ31)-D30 -> 0
R31: =R30*$D30 -> 13539715 | S31: =S30*$D30 -> 13539715 | T31: =T30*$D30 -> 13539715 | U31: =U30*$D30 -> 13539715 | V31: =V30*$D30 -> 13539715 | W31: =W30*$D30 -> 13539715 | X31: =X30*$D30 -> 13539715 | Y31: =Y30*$D30 -> 13539715 | ... AC31: =AC30*$D30 -> 13539715
A32: Construcción de camino peatonal permeable. Incluye: actividades de adecuación, nivelación y preparación del terreno, suministro e instalación de sistema de confinamiento celular (geocelda), suministro, llenado y acomodo de material granular tipo grava, y todo lo necesario para su correcto funcionamiento. | D32: ='PPTO RESUMEN'!H33 -> 64676509 | Z32: =1/4 -> 0.25 | AA32: =Z32 -> 0.25 | AB32: =AA32 -> 0.25 | AC32: =AB32 -> 0.25 | BI32: =SUM(M33:AZ33)-D32 -> 0
Z33: =Z32*$D32 -> 16169127 | AA33: =AA32*$D32 -> 16169127 | AB33: =AB32*$D32 -> 16169127 | AC33: =AC32*$D32 -> 16169127
A34: Caja de inspección eléctrico de 90 x 90 x 110cm, en concreto reforzado de f'c= 3.500 psi - impermeabilizado. Incluye excavación y tape, tapa y herrajes, cañuelas, marcos en ángulo de 1 1/2"x3/16 e incluye todo lo necesario para su correcto funcionamiento. | D34: ='PPTO RESUMEN'!H34 -> 4751770.8 | AD34: =1/4 -> 0.25 | AE34: =AD34 -> 0.25 | AF34: =AE34 -> 0.25 | AG34: =AF34 -> 0.25 | BI34: =SUM(M35:AZ35)-D34 -> 0
AD35: =AD34*$D34 -> 1187942.7 | AE35: =AE34*$D34 -> 1187942.7 | AF35: =AF34*$D34 -> 1187942.7 | AG35: =AG34*$D34 -> 1187942.7
A36: Construcción de caseta tipo cobertizo de 2 x 1 mts, para la ubicación de inversores, sin muros. Incluye: placa base en concreto de 3.500 psi, estructura metálica con protección anticorrosiva, cubierta termoacústica, accesorios para fijación de equipos y todo lo necesario para su correcto funcionamiento. | D36: ='PPTO RESUMEN'!H35 -> 18017719 | AG36: =1/2 -> 0.5 | AH36: =AG36 -> 0.5 | BI36: =SUM(M37:AZ37)-D36 -> 0
AG37: =AG36*$D36 -> 9008859.7 | AH37: =AH36*$D36 -> 9008859.7
A38: Construcción de cimentación en concreto de 4.000 PSI para soporte de subestación eléctrica principal. Incluye excavación, retiro de material y acero de refuerzo. | D38: ='PPTO RESUMEN'!H36 -> 7534184.5 | AC38: =1/2 -> 0.5 | AD38: =AC38 -> 0.5 | BI38: =SUM(M39:AZ39)-D38 -> 0
AC39: =AC38*$D38 -> 3767092.3 | AD39: =AD38*$D38 -> 3767092.3
A40: ZANJA MT PARA CIRCUITO
...

Sheet APU C1
C1: REPÚBLICA DE COLOMBIA
C2: DEPARTAMENTO DE LA GUAJIRA
C3: MUNICIPIO DE BARRANCAS
A5: FORMATO DE ANÁLISIS DE PRECIOS UNITARIOS
A6: ELABORÓ: | B6: OFICINA ASESORA DE PLANEACIÓN | E6: VERSIÓN: | F6: APU_BAR | G6: FECHA: | H6: JUNIO - 2026
A7: PROYECTO: | B7: ='INSUMOS & EQUIPOS'!$B$6 -> CONSTRUCCIÓN DE UN SISTEMA SOLAR FOTOVOLTAICO DE GENERACIÓN DISTRIBUIDA DE 0.99 MWE ETAPA 3 PARA EL DESARROLLO SOCIOECONÓMICO DEL MUNICIPIO DE BARRANCAS, EN EL DEPARTAMENTO DE LA GUAJIRA - BARRANCAS III
A9: DATOS ESPECIFICOS DE ANÁLISIS DE PRECIOS UNITARIOS
A11: =+#REF! -> #REF!
A13: ÍTEM | B13: DESCRIPCIÓN | H13: UNIDAD
A14: =+'PPTO RESUMEN'!C18 -> 1.1 | B14: =VLOOKUP(A14,'PPTO RESUMEN'!$C$17:$E$83,2,FALSE) -> Localizacion, trazado y replanteo | H14: =VLOOKUP(A14,'PPTO RESUMEN'!$C$17:$E$83,3,FALSE) -> m2
B16: I. MATERIALES
A17: ÍTEM | B17: DESCRIPCIÓN | D17: UNIDAD | E17: CANTIDAD | F17: DESPERDICIO % | G17: VALOR UNIT | H17: VALOR PARCIAL
A18: ='INSUMOS & EQUIPOS'!B29 -> MAT2411020 | B18: ='INSUMOS & EQUIPOS'!C29 -> ESTACA DE MADERA | D18: =VLOOKUP(B18,'INSUMOS & EQUIPOS'!$C$10:$E$419,2,FALSE) -> UND | E18: 0.25272499 | F18: 0.05 | G18: =VLOOKUP(B18,'INSUMOS & EQUIPOS'!$C$10:$E$419,3,FALSE) -> 4054.05 | H18: =E18*G18*(1+F18) -> 1075.7878
A19: ='INSUMOS & EQUIPOS'!B30 -> MAT2411021 | B19: ='INSUMOS & EQUIPOS'!C30 -> LIENZA NYLON /100 ml | D19: =VLOOKUP(B19,'INSUMOS & EQUIPOS'!$C$10:$E$419,2,FALSE) -> UND | E19: =1/100 -> 0.01 | F19: 0.05 | G19: =VLOOKUP(B19,'INSUMOS & EQUIPOS'!$C$10:$E$419,3,FALSE) -> 21850.29 | H19: =E19*G19*(1+F19) -> 229.42804
A20: ='INSUMOS & EQUIPOS'!B31 -> MAT2411022 | B20: ='INSUMOS & EQUIPOS'!C31 -> PUNTILLA 2 1/2" X 11 CC | D20: =VLOOKUP(B20,'INSUMOS & EQUIPOS'!$C$10:$E$419,2,FALSE) -> LB | E20: =1/100 -> 0.01 | F20: 0.05 | G20: =VLOOKUP(B20,'INSUMOS & EQUIPOS'!$C$10:$E$419,3,FALSE) -> 6260.2815 | H20: =E20*G20*(1+F20) -> 65.732956
A21: ='INSUMOS & EQUIPOS'!B32 -> MAT2411023 | B21: ='INSUMOS & EQUIPOS'!C32 -> PINTURA EN AEROSOL ROJO | D21: =VLOOKUP(B21,'INSUMOS & EQUIPOS'!$C$10:$E$419,2,FALSE) -> UND | E21: =1/100 -> 0.01 | F21: 0.05 | G21: =VLOOKUP(B21,'INSUMOS & EQUIPOS'!$C$10:$E$419,3,FALSE) -> 14990 | H21: =E21*G21*(1+F21) -> 157.395
A22: ='INSUMOS & EQUIPOS'!B21 -> MAT2411012 | B22: ='INSUMOS & EQUIPOS'!C21 -> CAL | D22: =VLOOKUP(B22,'INSUMOS & EQUIPOS'!$C$10:$E$419,2,FALSE) -> KG | E22: =1/20 -> 0.05 | F22: 0.05 | G22: =VLOOKUP(B22,'INSUMOS & EQUIPOS'!$C$10:$E$419,3,FALSE) -> 908.9496 | H22: =E22*G22*(1+F22) -> 47.719854
G23: SUB-TOTAL MATERIALES | H23: =SUM(H18:H22) -> 1576.0636
A25: ÍTEM | B25: II. EQUIPOS
B26: DESCRIPCIÓN | E26: UNIDAD | F26: CANTIDAD | G26: VALOR UNIT | H26: VALOR PARCIAL
B27: HERRAMIENTA MENOR (% VR. MANO DE OBRA) | E27: % | F27: 0.05 | G27: =H45 -> 1573.2271 | H27: =F27*G27 -> 78.661354
A28: ='INSUMOS & EQUIPOS'!B321 -> EQUI2411004 | B28: ='INSUMOS & EQUIPOS'!C321 -> EQUIPO DE TOPOGRAFÍA | E28: =VLOOKUP(B28,'INSUMOS & EQUIPOS'!$C$10:$E$419,2,FALSE) -> MES | F28: =1/4000 -> 0.00025 | G28: =VLOOKUP(B28,'INSUMOS & EQUIPOS'!$C$10:$E$419,3,FALSE) -> 3948750 | H28: =F28*G28 -> 987.1875
G32: SUB-TOTAL EQUIPOS | H32: =SUM(H27:H31) -> 1065.8489
B34: III. TRANSPORTE
A35: ITEM: | B35: DESCRIPCIÓN | D35: UNIDAD | E35: DISTANCIA | F35: VOL - CANT | G35: TARIFA | H35: VALOR PARCIAL
A36: ='INSUMOS & EQUIPOS'!B411 -> TRANS241104 | B36: ='INSUMOS & EQUIPOS'!C411 -> TRANSPORTE DE MATERIALES | D36: =VLOOKUP(B36,'INSUMOS & EQUIPOS'!$C$10:$E$419,2,FALSE) -> % | F36: 0.05 | G36: =H23 -> 1576.0636 | H36: =F36*G36 -> 78.80318
G39: SUB-TOTAL TRANSPORTE | H39: =SUM(H36:H38) -> 78.80318
B41: IV. MANO DE OBRA
A42: ITEM: | B42: CUADRILLA | E42: UNIDAD | F42: CANTIDAD | G42: VALOR UNIT | H42: VALOR PARCIAL
A43: ='INSUMOS & EQUIPOS'!B403 -> MO241122 | B43: ='INSUMOS & EQUIPOS'!C403 -> TOPÓGRAFO | E43: =VLOOKUP(B43,'INSUMOS & EQUIPOS'!$C$10:$E$419,2,FALSE) -> MES | F43: =F28 -> 0.00025 | G43: =VLOOKUP(B43,'INSUMOS & EQUIPOS'!$C$10:$E$419,3,FALSE) -> 4026656 | H43: =F43*G43 -> 1006.664
A44: ='INSUMOS & EQUIPOS'!B404 -> MO241123 | B44: ='INSUMOS & EQUIPOS'!C404 -> CADENERO 1 | E44: =VLOOKUP(B44,'INSUMOS & EQUIPOS'!$C$10:$E$419,2,FALSE) -> MES | F44: =F43 -> 0.00025 | G44: =VLOOKUP(B44,'INSUMOS & EQUIPOS'!$C$10:$E$419,3,FALSE) -> 2266252.3 | H44: =F44*G44 -> 566.56308
G45: SUB-TOTAL MANO DE OBRA | H45: =SUM(H43:H44) -> 1573.2271
A47: TOTAL COSTO DIRECTO | H47: =H45+H39+H32+H23 -> 4293.9427
A49: NOTA: Los valores unitarios de los siguientes insumos se han fijado tomando como base los costos de referencia adoptados por Municipio de Barrancas, Departamento de la Guajira.
C53: REPÚBLICA DE COLOMBIA
C54: DEPARTAMENTO DE LA GUAJIRA
C55: MUNICIPIO DE BARRANCAS
A57: FORMATO DE ANÁLISIS DE PRECIOS UNITARIOS
A58: ELABORÓ: | B58: OFICINA ASESORA DE PLANEACIÓN | E58: VERSIÓN: | F58: APU_BAR | G58: FECHA: | H58: JUNIO - 2026
A59: PROYECTO: | B59: ='INSUMOS & EQUIPOS'!$B$6 -> CONSTRUCCIÓN DE UN SISTEMA SOLAR FOTOVOLTAICO DE GENERACIÓN DISTRIBUIDA DE 0.99 MWE ETAPA 3 PARA EL DESARROLLO SOCIOECONÓMICO DEL MUNICIPIO DE BARRANCAS, EN EL DEPARTAMENTO DE LA GUAJIRA - BARRANCAS III
...

Sheet MEM CAP 1
B2: REPUBLICA DE COLOMBIA
B3: DEPARTAMENTO DE LA GUAJIRA
B4: MUNICIPIO DE BARRANCAS
B5: OFICINA ASESORA DE PLANEACION
B7: CONSTRUCCIÓN DE UN SISTEMA SOLAR FOTOVOLTAICO DE GENERACIÓN DISTRIBUIDA DE 0.99 MWE PARA EL DESARROLLO SOCIOECONÓMICO DEL MUNICIPIO DE BARRANCAS, EN EL DEPARTAMENTO DE LA GUAJIRA - BARRANCAS III
B9: MEMORIA DE CANTIDADES
B12: ='PPTO RESUMEN'!C18 -> 1.1 | C12: =VLOOKUP(B12,'PPTO RESUMEN'!$C$17:$E$83,2) -> Localizacion, trazado y replanteo | N12: UNIDAD | O12: =VLOOKUP(B12,'PPTO RESUMEN'!$C$17:$E$83,3) -> m2
B13: No. | C13: CONCEPTO | D13: DIMENSIONES | G13: VOLUMEN / AREA | H13: CANT | I13: UNIDAD | J13: TOTAL | K13: ESQUEMA
D14: LARGO | E14: ALTO | F14: ANCHO
C15: Area total del terreno | G15: 11803.7 | H15: 1 | I15: m2 | J15: =G15 -> 11803.7
B32: TOTAL | J32: =ROUND(SUM(J15:J31),1) -> 11803.7
B33: OBSERVACIONES: 1. El resultado está redondeado a 1 decimal * Area lote tomada de autocad
B37: REPUBLICA DE COLOMBIA
B38: DEPARTAMENTO DE LA GUAJIRA
B39: MUNICIPIO DE BARRANCAS
B40: OFICINA ASESORA DE PLANEACION
B42: =+B7 -> CONSTRUCCIÓN DE UN SISTEMA SOLAR FOTOVOLTAICO DE GENERACIÓN DISTRIBUIDA DE 0.99 MWE PARA EL DESARROLLO SOCIOECONÓMICO DEL MUNICIPIO DE BARRANCAS, EN EL DEPARTAMENTO DE LA GUAJIRA - BARRANCAS III
B44: MEMORIA DE CANTIDADES
B47: 1.2 | C47: =VLOOKUP(B47,'PPTO RESUMEN'!$C$17:$E$83,2) -> Limpieza y descapote del terreno (tala de árboles, desbroce de maleza, y retiro de material vegetal. | N47: UNIDAD | O47: =VLOOKUP(B47,'PPTO RESUMEN'!$C$17:$E$83,3) -> m2
B48: No. | C48: CONCEPTO | D48: DIMENSIONES | G48: VOLUMEN / AREA | H48: CANT | I48: UNIDAD | J48: TOTAL | K48: ESQUEMA
D49: LARGO | E49: ALTO | F49: ANCHO
C50: Area total del terreno | G50: 11803.7 | H50: 1 | I50: m2 | J50: =G50 -> 11803.7
B67: TOTAL | J67: =ROUND(SUM(J50:J66),1) -> 11803.7
B68: OBSERVACIONES: 1. El resultado está redondeado a 1 decimal * Area lote tomada de autocad
B72: REPUBLICA DE COLOMBIA
B73: DEPARTAMENTO DE LA GUAJIRA
B74: MUNICIPIO DE BARRANCAS
B75: OFICINA ASESORA DE PLANEACION
B77: =+B42 -> CONSTRUCCIÓN DE UN SISTEMA SOLAR FOTOVOLTAICO DE GENERACIÓN DISTRIBUIDA DE 0.99 MWE PARA EL DESARROLLO SOCIOECONÓMICO DEL MUNICIPIO DE BARRANCAS, EN EL DEPARTAMENTO DE LA GUAJIRA - BARRANCAS III
B79: MEMORIA DE CANTIDADES
B82: =+'PPTO RESUMEN'!C20 -> 1.3 | C82: =VLOOKUP(B82,'PPTO RESUMEN'!$C$17:$E$83,2) -> Instalación y adecuacion de campamento y almacen de equipos y herramientas | N82: UNIDAD | O82: =VLOOKUP(B82,'PPTO RESUMEN'!$C$17:$E$83,3) -> glb
B83: No. | C83: CONCEPTO | D83: DIMENSIONES | G83: VOLUMEN / AREA | H83: CANT | I83: UNIDAD | J83: TOTAL | K83: ESQUEMA
D84: LARGO | E84: ALTO | F84: ANCHO
C85: Campamento | H85: 1 | J85: 1
B102: TOTAL | J102: =ROUND(SUM(J85:J101),1) -> 1
B103: OBSERVACIONES:

Sheet APU C2
C1: REPÚBLICA DE COLOMBIA
C2: DEPARTAMENTO DE LA GUAJIRA
C3: MUNICIPIO DE BARRANCAS
A5: FORMATO DE ANÁLISIS DE PRECIOS UNITARIOS
A6: ELABORÓ: | B6: OFICINA ASESORA DE PLANEACIÓN | E6: VERSIÓN: | F6: APU_BAR | G6: FECHA: | H6: JUNIO - 2026
A7: PROYECTO: | B7: ='INSUMOS & EQUIPOS'!$B$6 -> CONSTRUCCIÓN DE UN SISTEMA SOLAR FOTOVOLTAICO DE GENERACIÓN DISTRIBUIDA DE 0.99 MWE ETAPA 3 PARA EL DESARROLLO SOCIOECONÓMICO DEL MUNICIPIO DE BARRANCAS, EN EL DEPARTAMENTO DE LA GUAJIRA - BARRANCAS III
A9: DATOS ESPECIFICOS DE ANÁLISIS DE PRECIOS UNITARIOS
A11: ='PPTO RESUMEN'!$D$21 -> MOVIMIENTOS DE TIERRA Y ADECUACION DEL TERRENO
A13: ÍTEM | B13: DESCRIPCIÓN | H13: UNIDAD
A14: ='PPTO RESUMEN'!C22 -> 2.1 | B14: =VLOOKUP(A14,'PPTO RESUMEN'!$C$17:$E$83,2,FALSE) -> Corte y nivelacion del terreno. Incluye cargue y transporte | H14: =VLOOKUP(A14,'PPTO RESUMEN'!$C$17:$E$83,3,FALSE) -> m3
B16: I. MATERIALES
A17: ÍTEM | B17: DESCRIPCIÓN | D17: UNIDAD | E17: CANTIDAD | F17: DESPERDICIO % | G17: VALOR UNIT | H17: VALOR PARCIAL
A18: ='INSUMOS & EQUIPOS'!B414 -> TRANS241107 | B18: ='INSUMOS & EQUIPOS'!C414 -> DERECHO DE EXPLOTACIÓN Y/O DISPOSICIÓN DE MATERIALES | D18: =VLOOKUP(B18,'INSUMOS & EQUIPOS'!$C$10:$E$419,2,FALSE) -> M3 | E18: 1 | F18: 0.05 | G18: =VLOOKUP(B18,'INSUMOS & EQUIPOS'!$C$10:$E$419,3,FALSE) -> 8346.8639 | H18: =E18*G18*(1+F18) -> 8764.2071
G23: SUB-TOTAL MATERIALES | H23: =SUM(H18:H22) -> 8764.2071
A25: ÍTEM | B25: II. EQUIPOS
B26: DESCRIPCIÓN | E26: UNIDAD | F26: CANTIDAD | G26: VALOR UNIT | H26: VALOR PARCIAL
B27: HERRAMIENTA MENOR (% VR. MANO DE OBRA) | E27: % | F27: 0.05 | G27: =H50 -> 1666.8188 | H27: =F27*G27 -> 83.340941
A28: ='INSUMOS & EQUIPOS'!B348 -> C0010822 | B28: ='INSUMOS & EQUIPOS'!C348 -> RETROEXCAVADORA SOBRE LLANTAS, MOTOR 62HP, PROFUNDIDAD DE EXCAVACIÓN DE 5.41 METROS | E28: =VLOOKUP(B28,'INSUMOS & EQUIPOS'!$C$10:$E$419,2,FALSE) -> HM | F28: =1/25 -> 0.04 | G28: =VLOOKUP(B28,'INSUMOS & EQUIPOS'!$C$10:$E$419,3,FALSE) -> 200070 | H28: =F28*G28 -> 8002.8
A29: ='INSUMOS & EQUIPOS'!B350 -> C0010610 | B29: ='INSUMOS & EQUIPOS'!C350 -> MOTONIVELADORA POTENCIA 215 HP, ANCHO DE CUCHILLA 4,27 M, PESO 18 TON | E29: =VLOOKUP(B29,'INSUMOS & EQUIPOS'!$C$10:$E$419,2,FALSE) -> HM | F29: =F28 -> 0.04 | G29: =VLOOKUP(B29,'INSUMOS & EQUIPOS'!$C$10:$E$419,3,FALSE) -> 272680.67 | H29: =F29*G29 -> 10907.227
A30: ='INSUMOS & EQUIPOS'!B351 -> C0010052 | B30: ='INSUMOS & EQUIPOS'!C351 -> BULLDOZER, POTENCIA AL VOLANTE DE 140 HP, MOTOR DE 2200 RPM, LONGITUD DE HOJA 4,80M | E30: =VLOOKUP(B30,'INSUMOS & EQUIPOS'!$C$10:$E$419,2,FALSE) -> HM | F30: =1/50 -> 0.02 | G30: =VLOOKUP(B30,'INSUMOS & EQUIPOS'!$C$10:$E$419,3,FALSE) -> 228058.74 | H30: =F30*G30 -> 4561.1748
