Workbook
Name AUMENTO: '[1]Repuestos 3'!$S$9
Name INCREMENTO: '[1]Repuestos 3'!$S$77
Name M: '[1]Mano de Obra'!$J$131
Name MO: '[1]Mano de Obra'!$J$99
Name SUBE: '[1]Mano de Obra'!$J$11

Sheet AUTOMOVILES - 2026
B2: PROPUESTA AUTOMOVILES | E2: REPUESTOS AUTOMOTORES MULTIMARCA (REPUESTOS) MANTENIMIENTO CORRECTIVO *** Incluye Costos Directos e Indirectos | Q2: =+E2 -> REPUESTOS AUTOMOTORES MULTIMARCA (REPUESTOS) MANTENIMIENTO CORRECTIVO *** Incluye Costos Directos e Indirectos | AD2: =+Q2 -> REPUESTOS AUTOMOTORES MULTIMARCA (REPUESTOS) MANTENIMIENTO CORRECTIVO *** Incluye Costos Directos e Indirectos
B4: DESCRIPCION | E4: HYUNDAI ACCENT VISION | F4: CHEVROLET OPTRA | G4: CHEVROLET SPARK CRONOS 724 (TAXI) | H4: CHEVROLET SPARK | N4: CHEVROLET AVEO | P4: CHEVROLET AVEO EMOTION GT | Q4: CHEVROLET SAIL | S4: CHEVROLET SONIC | U4: CHEVROLET SONIC 4NB 1.6 MT LT C/A | V4: RENAULT SYMBOL (TAXI CITIUS) | W4: RENAULT LOGAN | AB4: RENAULT LOGAN AUTHENTIQUE | AD4: RENAULT LOGAN DYNAMIQUE | AE4: RENAULT SANDERO | AF4: RENAULT SCALA | AG4: RENAULT SYMBIL | AH4: FORD FIESTA | AI4: VOLKSWAGEN GOL | AJ4: NISSAN TIDA | AK4: NISSAN VERSA | AL4: HYUNDAI ACCENT
B5: MODELO | E5: 2006 | F5: 2012 | G5: 2008 | H5: 2008 | I5: 2009 | J5: 2012 | K5: 2013 | L5: 2014 | M5: 2016 | N5: 2010 | O5: 2012 | P5: 2011 | Q5: 2013 | R5: 2018 | S5: 2013 | T5: 2016 | U5: 2016 | V5: 2008 | W5: 2018 | X5: 2019 | Y5: 2023 | Z5: 2025 | AA5: 2027 | AB5: 2016 | AC5: 2017 | AD5: 2016 | AE5: 2016 | AF5: 2012 | AG5: 2008 | AH5: 2014 | AI5: 2015 | AJ5: 2012 | AK5: 2015 | AL5: 2025
B6: UNIDAD | E6: 1 | F6: 1 | G6: 1 | H6: 2 | I6: 1 | J6: 3 | K6: 1 | L6: 3 | M6: 1 | N6: 1 | O6: 1 | P6: 1 | Q6: 4 | R6: 2 | S6: 1 | T6: 2 | U6: 1 | V6: 2 | W6: 5 | X6: 1 | Y6: 1 | Z6: 1 | AA6: 2 | AB6: 2 | AC6: 1 | AD6: 4 | AE6: 1 | AF6: 2 | AG6: 1 | AH6: 1 | AI6: 1 | AJ6: 1 | AK6: 4 | AL6: 10
E7: VALOR TOTAL INCLUIDO IVA | F7: VALOR TOTAL INCLUIDO IVA | G7: VALOR TOTAL INCLUIDO IVA | H7: VALOR TOTAL INCLUIDO IVA | N7: VALOR TOTAL INCLUIDO IVA | P7: VALOR TOTAL INCLUIDO IVA | Q7: VALOR TOTAL INCLUIDO IVA | S7: VALOR TOTAL INCLUIDO IVA | U7: VALOR TOTAL INCLUIDO IVA | V7: VALOR TOTAL INCLUIDO IVA | W7: VALOR TOTAL INCLUIDO IVA | AB7: VALOR TOTAL INCLUIDO IVA | AD7: VALOR TOTAL INCLUIDO IVA | AE7: VALOR TOTAL INCLUIDO IVA | AF7: VALOR TOTAL INCLUIDO IVA | AG7: VALOR TOTAL INCLUIDO IVA | AH7: VALOR TOTAL INCLUIDO IVA | AI7: VALOR TOTAL INCLUIDO IVA | AJ7: VALOR TOTAL INCLUIDO IVA | AK7: VALOR TOTAL INCLUIDO IVA
B8: ITEM | C8: SISTEMA DE FRENOS | D8: CANTIDAD
B9: 1 | C9: JUEGO DE PASTILLAS DELANTERAS | D9: 1 | E9: 398400 | F9: 390600 | G9: 349600 | H9: 348200 | I9: 0 | J9: 0 | K9: 0 | L9: 0 | M9: 0 | N9: 363100 | P9: 362400 | Q9: 364400 | S9: 384500 | U9: 386800 | V9: 381800 | W9: 398000 | AB9: 398000 | AD9: 399000 | AE9: 393600 | AF9: 372500 | AG9: 381800 | AH9: 395400 | AI9: 402600 | AJ9: 353600 | AK9: 364400
B10: 2 | C10: JUEGO DE DISCOS DELANTEROS | D10: 1 | E10: 852200 | F10: 804000 | G10: 717000 | H10: 721000 | I10: 0 | J10: 0 | K10: 0 | L10: 0 | M10: 0 | N10: 763200 | P10: 763200 | Q10: 763200 | S10: 807800 | U10: 811400 | V10: 781600 | W10: 810400 | AB10: 810400 | AD10: 810400 | AE10: 810400 | AF10: 781600 | AG10: 781600 | AH10: 825400 | AI10: 822200 | AJ10: 775200 | AK10: 784800
B11: 3 | C11: PISTÓN MORDAZA | D11: 1 | E11: 258500 | F11: 288900 | G11: 253700 | H11: 265700 | I11: 0 | J11: 0 | K11: 0 | L11: 0 | M11: 0 | N11: 268300 | P11: 268300 | Q11: 268300 | S11: 288900 | U11: 291100 | V11: 247700 | W11: 286300 | AB11: 263500 | AD11: 263500 | AE11: 263500 | AF11: 282700 | AG11: 247700 | AH11: 292500 | AI11: 287500 | AJ11: 288900 | AK11: 298500
B12: 4 | C12: MORDAZA Y SU PASADOR | D12: 1 | E12: 2135200 | F12: 1706200 | G12: 1556000 | H12: 1556000 | I12: 0 | J12: 0 | K12: 0 | L12: 0 | M12: 0 | N12: 1571600 | P12: 1571600 | Q12: 1571600 | S12: 1741200 | U12: 1748400 | V12: 1704600 | W12: 1727400 | AB12: 1727400 | AD12: 1727400 | AE12: 1727400 | AF12: 1791200 | AG12: 1704600 | AH12: 2054400 | AI12: 1801200 | AJ12: 1899200 | AK12: 1966400
B13: 5 | C13: JUEGO EMPAQUETADURTA LIGAS CALÍPER | D13: 1 | E13: 220100 | F13: 250700 | G13: 217900 | H13: 217900 | I13: 0 | J13: 0 | K13: 0 | L13: 0 | M13: 0 | N13: 223900 | P13: 223900 | Q13: 223900 | S13: 257500 | U13: 259900 | V13: 121700 | W13: 132900 | AB13: 130900 | AD13: 130900 | AE13: 130900 | AF13: 216700 | AG13: 121700 | AH13: 244900 | AI13: 274100 | AJ13: 185900 | AK13: 188300
B14: 6 | C14: BOMBA DE FRENO | D14: 1 | E14: 588000 | F14: 565400 | G14: 520300 | H14: 521300 | I14: 0 | J14: 0 | K14: 0 | L14: 0 | M14: 0 | N14: 552100 | P14: 552100 | Q14: 552100 | S14: 580100 | U14: 591500 | V14: 553800 | W14: 590200 | AB14: 590200 | AD14: 586000 | AE14: 589000 | AF14: 641100 | AG14: 554800 | AH14: 621300 | AI14: 615600 | AJ14: 608600 | AK14: 609000
B15: 7 | C15: DEPOSITO BOMBA DE FRENOS | D15: 1 | E15: 164600 | F15: 176800 | G15: 163400 | H15: 167000 | I15: 0 | J15: 0 | K15: 0 | L15: 0 | M15: 0 | N15: 170800 | P15: 170800 | Q15: 170800 | S15: 176800 | U15: 178700 | V15: 161600 | W15: 177500 | AB15: 170900 | AD15: 170900 | AE15: 170900 | AF15: 175000 | AG15: 161600 | AH15: 183400 | AI15: 177500 | AJ15: 176800 | AK15: 182900
B16: 8 | C16: SERVO FRENO (BOOSTER) | D16: 1 | E16: 916900 | F16: 950600 | G16: 853700 | H16: 855700 | I16: 0 | J16: 0 | K16: 0 | L16: 0 | M16: 0 | N16: 923300 | P16: 923300 | Q16: 923300 | S16: 958700 | U16: 975900 | V16: 923800 | W16: 978600 | AB16: 978600 | AD16: 978600 | AE16: 978600 | AF16: 991200 | AG16: 919800 | AH16: 997000 | AI16: 1017000 | AJ16: 956600 | AK16: 983800
B17: 9 | C17: MANGUERA FRENO | D17: 1 | E17: 163200 | F17: 160500 | G17: 148000 | H17: 148000 | I17: 0 | J17: 0 | K17: 0 | L17: 0 | M17: 0 | N17: 154000 | P17: 154000 | Q17: 154000 | S17: 162200 | U17: 164600 | V17: 153300 | W17: 161700 | AB17: 161700 | AD17: 161700 | AE17: 161700 | AF17: 156800 | AG17: 153300 | AH17: 167000 | AI17: 164100 | AJ17: 154500 | AK17: 156900
B18: 10 | C18: LIMPIADOR DE FRENOS 500 ml | D18: 1 | E18: 45400 | F18: 48700 | G18: 44800 | H18: 46000 | I18: 0 | J18: 0 | K18: 0 | L18: 0 | M18: 0 | N18: 46300 | P18: 46300 | Q18: 46300 | S18: 48700 | U18: 48900 | V18: 44200 | W18: 48300 | AB18: 45900 | AD18: 45900 | AE18: 45900 | AF18: 48100 | AG18: 44200 | AH18: 51100 | AI18: 48300 | AJ18: 48700 | AK18: 50700
B19: 11 | C19: SENSOR ABS RUEDA | D19: 1 | E19: 457200 | F19: 486400 | G19: 451800 | H19: 463200 | I19: 0 | J19: 0 | K19: 0 | L19: 0 | M19: 0 | N19: 466600 | P19: 466600 | Q19: 466600 | S19: 500600 | U19: 503400 | V19: 447000 | W19: 484000 | AB19: 463000 | AD19: 463000 | AE19: 463000 | AF19: 479800 | AG19: 447000 | AH19: 512400 | AI19: 501400 | AJ19: 509600 | AK19: 518600
B20: 12 | C20: JUEGO BANDAS TRASERAS | D20: 1 | E20: 388300 | F20: 310333.33 | G20: 352200 | H20: 352200 | I20: 0 | J20: 0 | K20: 0 | L20: 0 | M20: 0 | N20: 359400 | P20: 359400 | Q20: 359400 | S20: 385200 | U20: 392300 | V20: 372100 | W20: 382900 | AB20: 382900 | AD20: 382900 | AE20: 382900 | AF20: 368100 | AG20: 372100 | AH20: 421100 | AI20: 397500 | AJ20: 361000 | AK20: 362100
... B26: 18 | C26: GRADUACION FRENO | D26: 1 | E26: 76666.667 | F26: 84000 | G26: 75666.667 | H26: 78333.333 | I26: 0 | J26: 0 | K26: 0 | L26: 0 | M26: 0 | N26: 79666.667 | P26: 79666.667 | Q26: 79666.667 | S26: 84000 | U26: 84666.667 | V26: 74333.333 | W26: 83666.667 | AB26: 79000 | AD26: 79000 | AE26: 79000 | AF26: 82666.667 | AG26: 74333.333 | AH26: 88666.667 | AI26: 84000 | AJ26: 84000 | AK26: 87666.667
B27: ITEM | C27: SISTEMA DE SUSPENSIÓN | D27: CANTIDAD
B28: 1 | C28: JUEGO AMORTIGUADORES DELANTEROS | D28: 1 | E28: 800400 | F28: 798200 | G28: 748800 | H28: 748800 | I28: 0 | J28: 0 | K28: 0 | L28: 0 | M28: 0 | N28: 788400 | P28: 788400 | Q28: 788400 | S28: 794000 | U28: 813200 | V28: 771600 | W28: 830400 | AB28: 830400 | AD28: 830400 | AE28: 830400 | AF28: 803800 | AG28: 771600 | AH28: 832800 | AI28: 835800 | AJ28: 824000 | AK28: 843200
B29: 2 | C29: BUJE TIJERA INFERIOR | D29: 1 | E29: 289600 | F29: 278400 | G29: 261200 | H29: 261200 | I29: 0 | J29: 0 | K29: 0 | L29: 0 | M29: 0 | N29: 262600 | P29: 262600 | Q29: 262600 | S29: 282400 | U29: 283100 | V29: 283000 | W29: 285100 | AB29: 285100 | AD29: 285100 | AE29: 285100 | AF29: 273800 | AG29: 283000 | AH29: 286000 | AI29: 287300 | AJ29: 272800 | AK29: 273500
B30: 3 | C30: BUJE TIJERA SUPERIOR | D30: 1 | E30: 307100 | F30: 296400 | G30: 278700 | H30: 278700 | I30: 0 | J30: 0 | K30: 0 | L30: 0 | M30: 0 | N30: 280600 | P30: 280600 | Q30: 280600 | S30: 300400 | U30: 301100 | V30: 300500 | W30: 303100 | AB30: 303100 | AD30: 303100 | AE30: 303100 | AF30: 291800 | AG30: 300500 | AH30: 304000 | AI30: 305300 | AJ30: 290800 | AK30: 291500
B31: 4 | C31: ROTULA INFERIOR | D31: 1 | E31: 513300 | F31: 504500 | G31: 462700 | H31: 462700 | I31: 0 | J31: 0 | K31: 0 | L31: 0 | M31: 0 | N31: 475900 | P31: 475900 | Q31: 475900 | S31: 511900 | U31: 518500 | V31: 503500 | W31: 523300 | AB31: 523300 | AD31: 523300 | AE31: 523300 | AF31: 502500 | AG31: 503500 | AH31: 555300 | AI31: 526700 | AJ31: 507700 | AK31: 514300
B32: 5 | C32: ROTULA SUPERIOR | D32: 1 | E32: 381300 | F32: 401500 | G32: 379900 | H32: 382900 | I32: 0 | J32: 0 | K32: 0 | L32: 0 | M32: 0 | N32: 396100 | P32: 396100 | Q32: 396100 | S32: 401500 | U32: 408100 | V32: 378500 | W32: 406900 | AB32: 401100 | AD32: 401100 | AE32: 401100 | AF32: 399700 | AG32: 378500 | AH32: 406900 | AI32: 407300 | AJ32: 401500 | AK32: 411700
B33: 6 | C33: MUÑECO BARRA ESTABILIZADORA | D33: 1 | E33: 486000 | F33: 385200 | G33: 360800 | H33: 360800 | I33: 0 | J33: 0 | K33: 0 | L33: 0 | M33: 0 | N33: 365800 | P33: 365800 | Q33: 365800 | S33: 390400 | U33: 392900 | V33: 385200 | W33: 392700 | AB33: 392700 | AD33: 392700 | AE33: 392700 | AF33: 411400 | AG33: 385200 | AH33: 402600 | AI33: 396500 | AJ33: 445400 | AK33: 447900
B34: 7 | C34: JUEGO DE BUJES BARRA ESTABILIZADORA | D34: 1 | E34: 287000 | F34: 280000 | G34: 264400 | H34: 264400 | I34: 0 | J34: 0 | K34: 0 | L34: 0 | M34: 0 | N34: 269400 | P34: 269400 | Q34: 269400 | S34: 282800 | U34: 285300 | V34: 272400 | W34: 279900 | AB34: 279900 | AD34: 279900 | AE34: 279900 | AF34: 275200 | AG34: 272400 | AH34: 285600 | AI34: 284100 | AJ34: 272800 | AK34: 275300
B35: 8 | C35: TIJERA INFERIOR DELANTERA | D35: 1 | E35: 993100 | F35: 855500 | G35: 843500 | H35: 737300 | I35: 0 | J35: 0 | K35: 0 | L35: 0 | M35: 0 | N35: 748100 | P35: 748100 | Q35: 748100 | S35: 838100 | U35: 843500 | V35: 787300 | W35: 803500 | AB35: 803500 | AD35: 803500 | AE35: 803500 | AF35: 771700 | AG35: 787300 | AH35: 892300 | AI35: 862900 | AJ35: 737300 | AK35: 742700
B36: 9 | C36: TIJERA SUPERIOR DELANTERA | D36: 1 | E36: 552500 | F36: 790700 | G36: 755500 | H36: 755500 | I36: 0 | J36: 0 | K36: 0 | L36: 0 | M36: 0 | N36: 766300 | P36: 766300 | Q36: 568900 | S36: 586900 | U36: 592300 | V36: 884700 | W36: 900900 | AB36: 900900 | AD36: 900900 | AE36: 900900 | AF36: 580900 | AG36: 884700 | AH36: 604900 | AI36: 977700 | AJ36: 586900 | AK36: 604300
B37: 10 | C37: JUEGO ESPIRALES DELANTEROS | D37: 1 | E37: 841400 | F37: 739800 | G37: 685000 | H37: 685000 | I37: 0 | J37: 0 | K37: 0 | L37: 0 | M37: 0 | N37: 710200 | P37: 710200 | Q37: 710200 | S37: 726000 | U37: 738600 | V37: 779800 | W37: 817600 | AB37: 817600 | AD37: 817600 | AE37: 817600 | AF37: 729800 | AG37: 779800 | AH37: 897600 | AI37: 825400 | AJ37: 763200 | AK37: 775800
B38: 11 | C38: JUEGO SOPORTES AMORTIGUADORES DEL,CON RODAMIENTOS | D38: 1 | E38: 362200 | F38: 353800 | G38: 329000 | H38: 329000 | I38: 0 | J38: 0 | K38: 0 | L38: 0 | M38: 0 | N38: 332000 | P38: 332000 | Q38: 332000 | S38: 359400 | U38: 360900 | V38: 350800 | W38: 355300 | AB38: 355300 | AD38: 355300 | AE38: 355300 | AF38: 340400 | AG38: 350800 | AH38: 377800 | AI38: 361700 | AJ38: 331400 | AK38: 332900
B39: 12 | C39: BARRA ESTABILIZADORA DELANTERA | D39: 1 | E39: 443100 | F39: 493100 | G39: 434700 | H39: 453900 | I39: 0 | J39: 0 | K39: 0 | L39: 0 | M39: 0 | N39: 458900 | P39: 458900 | Q39: 458900 | S39: 493100 | U39: 495600 | V39: 425700 | W39: 488400 | AB39: 451800 | AD39: 451800 | AE39: 451800 | AF39: 481700 | AG39: 425700 | AH39: 527300 | AI39: 490200 | AJ39: 493100 | AK39: 518400
... B51: 24 | C51: RODAMIENTO TRASERO | D51: 1 | E51: 440600 | F51: 420400 | G51: 372200 | H51: 372200 | I51: 0 | J51: 0 | K51: 0 | L51: 0 | M51: 0 | N51: 383000 | P51: 383000 | Q51: 383000 | S51: 412000 | U51: 417400 | V51: 398800 | W51: 415000 | AB51: 415000 | AD51: 415000 | AE51: 415000 | AF51: 399200 | AG51: 398800 | AH51: 430000 | AI51: 420400 | AJ51: 397800 | AK51: 403200
B52: ITEM | C52: SISTEMA DE DIRECCIÓN | D52: CANTIDAD
B53: 1 | C53: CAJA DIRECCCION | D53: 1 | E53: 2732100 | F53: 2871300 | G53: 2620400 | H53: 2620400 | I53: 0 | J53: 0 | K53: 0 | L53: 0 | M53: 0 | N53: 2728400 | P53: 2728400 | Q53: 2728400 | S53: 2908500 | U53: 2962500 | V53: 2724300 | W53: 2886300 | AB53: 2886300 | AD53: 2886300 | AE53: 2886300 | AF53: 2805500 | AG53: 2724300 | AH53: 2944700 | AI53: 2944400 | AJ53: 2769800 | AK53: 2823800
B54: 2 | C54: EMPAQUETADURA CAJA DIRECCIÓN | D54: 1 | E54: 957300 | F54: 958500 | G54: 859500 | H54: 859500 | I54: 0 | J54: 0 | K54: 0 | L54: 0 | M54: 0 | N54: 877500 | P54: 877500 | Q54: 877500 | S54: 979500 | U54: 988500 | V54: 909900 | W54: 936900 | AB54: 936900 | AD54: 936900 | AE54: 936900 | AF54: 899100 | AG54: 909900 | AH54: 1049100 | AI54: 973500 | AJ54: 855300 | AK54: 864300
B55: 3 | C55: JUEGO GUARDAPOLVOS CAJA DE DIRECCIÓN | D55: 1 | E55: 265300 | F55: 237100 | G55: 215700 | H55: 215700 | I55: 0 | J55: 0 | K55: 0 | L55: 0 | M55: 0 | N55: 221700 | P55: 221700 | Q55: 221700 | S55: 241100 | U55: 244100 | V55: 224700 | W55: 233700 | AB55: 233700 | AD55: 233700 | AE55: 233700 | AF55: 247500 | AG55: 224700 | AH55: 250700 | AI55: 240900 | AJ55: 263100 | AK55: 266100
B56: 4 | C56: TERMINAL DE DIRECCIÓN | D56: 1 | E56: 411300 | F56: 403900 | G56: 366900 | H56: 366900 | I56: 0 | J56: 0 | K56: 0 | L56: 0 | M56: 0 | N56: 380100 | P56: 380100 | Q56: 380100 | S56: 410100 | U56: 416700 | V56: 383500 | W56: 403300 | AB56: 403300 | AD56: 403300 | AE56: 403300 | AF56: 393100 | AG56: 383500 | AH56: 485300 | AI56: 413300 | AJ56: 387500 | AK56: 394100
B57: 5 | C57: ACEITE HIDRAULICO DIRECCION (CUARTO) | D57: 1 | E57: 57900 | F57: 60500 | G57: 57900 | H57: 57900 | I57: 0 | J57: 0 | K57: 0 | L57: 0 | M57: 0 | N57: 59100 | P57: 59100 | Q57: 59100 | S57: 59100 | U57: 59700 | V57: 57900 | W57: 59700 | AB57: 59700 | AD57: 59700 | AE57: 59700 | AF57: 57900 | AG57: 57900 | AH57: 60700 | AI57: 61600 | AJ57: 59100 | AK57: 59700
B58: 6 | C58: CORREA BOMBA DIRECCION | D58: 1 | E58: 226000 | F58: 225600 | G58: 203400 | H58: 203400 | I58: 0 | J58: 0 | K58: 0 | L58: 0 | M58: 0 | N58: 210000 | P58: 210000 | Q58: 210000 | S58: 229800 | U58: 233000 | V58: 221400 | W58: 231200 | AB58: 231200 | AD58: 231200 | AE58: 231200 | AF58: 209400 | AG58: 221400 | AH58: 233000 | AI58: 234800 | AJ58: 195600 | AK58: 198800
...

Sheet CAMIÓNES - 2026
B2: PROPUESTA CAMIÓNES | E2: =+'AUTOMOVILES - 2026'!E2 -> REPUESTOS AUTOMOTORES MULTIMARCA (REPUESTOS) MANTENIMIENTO CORRECTIVO *** Incluye Costos Directos e Indirectos
B4: DESCRIPCION | E4: JAC HFC1035KN | F4: JAC SZS | G4: CHEVROLET NQR | H4: JMC JX1044TC4
B5: MODELO | E5: 2023 | F5: 2022 | G5: 2014 | H5: 2023
B6: UNIDAD | E6: 1 | F6: 1 | G6: 1 | H6: 1
E7: VALOR TOTAL INCLUIDO IVA | F7: VALOR TOTAL INCLUIDO IVA | G7: VALOR TOTAL INCLUIDO IVA | H7: VALOR TOTAL INCLUIDO IVA
B8: ITEM | C8: SISTEMA DE FRENOS | D8: CANTIDAD
B9: 1 | C9: JUEGO DE PASTILLAS DELANTERAS | D9: 1 | E9: 527333.33 | F9: 507333.33 | G9: 932000 | H9: 534000
B10: 2 | C10: JUEGO DE DISCOS DELANTEROS | D10: 1 | E10: 1194333.3 | F10: 1081000 | G10: 1738500 | H10: 1193500
B11: 3 | C11: PISTÓN MORDAZA | D11: 1 | E11: 750666.67 | F11: 667000 | G11: 740000 | H11: 675333.33
B12: 4 | C12: MORDAZA Y SU PASADOR | D12: 1 | E12: 1169333.3 | F12: 1132666.7 | G12: 1266333.3 | H12: 1142666.7
B13: 5 | C13: JUEGO EMPAQUETADURTA LIGAS CALÍPER | D13: 1 | E13: 247000 | F13: 233000 | G13: 171000 | H13: 250333.33
B14: 6 | C14: BOMBA DE FRENO | D14: 1 | E14: 1012900 | F14: 970900 | G14: 832000 | H14: 1022900
B15: 7 | C15: DEPOSITO BOMBA DE FRENOS | D15: 1 | E15: 285100 | F15: 276100 | G15: 268300 | H15: 285100
B16: 8 | C16: SERVO FRENO (BOOSTER) | D16: 1 | E16: 1593400 | F16: 1535400 | G16: 1517500 | H16: 1524400
B17: 9 | C17: MANGUERA FRENO | D17: 1 | E17: 308800 | F17: 296800 | G17: 288900 | H17: 308800
B18: 10 | C18: LIMPIADOR DE FRENOS 500 ml | D18: 1 | E18: 92200 | F18: 92200 | G18: 71700 | H18: 92200
B19: 11 | C19: SENSOR ABS RUEDA | D19: 1 | E19: 992333.33 | F19: 979000 | G19: 913666.67 | H19: 1015666.7
B20: 12 | C20: JUEGO BANDAS TRASERAS | D20: 1 | E20: 623900 | F20: 599900 | G20: 650300 | H20: 619900
... B25: 17 | C25: GRADUACION FRENO | D25: 1 | E25: 128100 | F25: 141700 | G25: 99300 | H25: 142100
B26: ITEM | C26: SISTEMA DE SUSPENSIÓN | D26: CANTIDAD
B27: 1 | C27: JUEGO AMORTIGUADORES DELANTEROS | D27: 1 | E27: 1590100 | F27: 1709100 | G27: 1726100 | H27: 1626100
B28: 2 | C28: BUJE TIJERA INFERIOR | D28: 1 | E28: 493666.67 | F28: 462000 | G28: 483000 | H28: 493666.67
B29: 3 | C29: BUJE TIJERA SUPERIOR | D29: 1 | E29: 507000 | F29: 480000 | G29: 496333.33 | H29: 501666.67
B30: 4 | C30: ROTULA INFERIOR | D30: 1 | E30: 790000 | F30: 735000 | G30: 787000 | H30: 768333.33
B31: 5 | C31: ROTULA SUPERIOR | D31: 1 | E31: 787333.33 | F31: 757333.33 | G31: 782333.33 | H31: 790666.67
B32: 6 | C32: MUÑECO BARRA ESTABILIZADORA | D32: 1 | E32: 697333.33 | F32: 707333.33 | G32: 744333.33 | H32: 697333.33
B33: 7 | C33: JUEGO DE BUJES BARRA ESTABILIZADORA | D33: 1 | E33: 375666.67 | F33: 376333.33 | G33: 296333.33 | H33: 375666.67
B34: 8 | C34: TIJERA INFERIOR DELANTERA | D34: 1 | E34: 2001666.7 | F34: 1980000 | G34: 2058333.3 | H34: 2001666.7
B35: 9 | C35: TIJERA SUPERIOR DELANTERA | D35: 1 | E35: 2131666.7 | F35: 2045000 | G35: 2108333.3 | H35: 2131666.7
B36: 10 | C36: JUEGO SOPORTES AMORTIGUADORES DEL,CON RODAMIENTOS | D36: 1 | E36: 848000 | F36: 826333.33 | G36: 792000 | H36: 848000
B37: 11 | C37: BARRA ESTABILIZADORA DELANTERA | D37: 1 | E37: 1501400 | F37: 1479400 | G37: 1243000 | H37: 1523400
B38: 12 | C38: RODAMIENTO DELANTERO | D38: 1 | E38: 734300 | F38: 709100 | G38: 694700 | H38: 750300
... B50: 24 | C50: RODAMIENTO TRASERO | D50: 1 | E50: 800100 | F50: 769900 | G50: 691900 | H50: 794100
B51: ITEM | C51: SISTEMA DE DIRECCIÓN | D51: CANTIDAD
B52: 1 | C52: CAJA DIRECCCION | D52: 1 | E52: 5031500 | F52: 4725500 | G52: 4978300 | H52: 5071500
B53: 2 | C53: EMPAQUETADURA CAJA DIRECCIÓN | D53: 1 | E53: 1095400 | F53: 1072400 | G53: 1152200 | H53: 1122500
B54: 3 | C54: BIELA DIRECCIÓN | D54: 1 | E54: 813000 | F54: 786000 | G54: NA | H54: NA
B55: 4 | C55: JUEGO GUARDAPOLVOS CAJA DE DIRECCIÓN | D55: 1 | E55: 396000 | F55: 392667.33 | G55: 433334.67 | H55: 396002
B56: 5 | C56: TERMINAL DE DIRECCIÓN | D56: 1 | E56: 639700 | F56: 623700 | G56: 662500 | H56: 647700
B57: 6 | C57: ACEITE HIDRAULICO DIRECCION (CUARTO) | D57: 1 | E57: 55200 | F57: 54200.1 | G57: 58601.2 | H57: 55200.3
...

Sheet CAMIONETAS - 2026
B2: PROPUESTA CAMIONETAS | E2: =+'AUTOMOVILES - 2026'!$E$2 -> REPUESTOS AUTOMOTORES MULTIMARCA (REPUESTOS) MANTENIMIENTO CORRECTIVO *** Incluye Costos Directos e Indirectos | T2: =+E2 -> REPUESTOS AUTOMOTORES MULTIMARCA (REPUESTOS) MANTENIMIENTO CORRECTIVO *** Incluye Costos Directos e Indirectos | AK2: =+T2 -> REPUESTOS AUTOMOTORES MULTIMARCA (REPUESTOS) MANTENIMIENTO CORRECTIVO *** Incluye Costos Directos e Indirectos | BB2: =+AK2 -> REPUESTOS AUTOMOTORES MULTIMARCA (REPUESTOS) MANTENIMIENTO CORRECTIVO *** Incluye Costos Directos e Indirectos | BU2: =+BB2 -> REPUESTOS AUTOMOTORES MULTIMARCA (REPUESTOS) MANTENIMIENTO CORRECTIVO *** Incluye Costos Directos e Indirectos | CC2: =+BU2 -> REPUESTOS AUTOMOTORES MULTIMARCA (REPUESTOS) MANTENIMIENTO CORRECTIVO *** Incluye Costos Directos e Indirectos
B4: DESCRIPCION | E4: CHEVROLET LUV TFR | F4: CHEVROLET N300 | G4: CHEVROLET TRACKER | I4: CHEVROLET NHR | K4: CHEVROLET COLORADO | O4: CHEVROLET LUV D MAX | T4: CHEVROLET LUV | Z4: CHEVROLET D-MAX | AJ4: RENAULT ALASKAN | AK4: RENAULT MASTER | AL4: RENAULT NEW KOLEOS | AM4: RENAULT OROCH | AO4: RENAULT DYNAMIQUE | AQ4: RENAULT DUSTER | AU4: MAZDA BT - 50 | AX4: NISSAN NP300FRONTIER | BB4: NISSAN FRONTIER D22/NP300 | BE4: NISSAN NAVARA | BI4: TOYOTA PRADO 5P | BL4: TOYOTA HILUX | BU4: TOYOTA FORTUNER | BV4: MITSUBISHI DR 346 | BW4: MITSUBISHI OUTLANDER | BX4: MITSUBISHI SPORTERO | BY4: HYUNDAI H1 | BZ4: HYUNDAI TUCSON i35 | CA4: DODGE RAM 2500 | CB4: HYUNDAI ACCENT | CC4: DODGE JOURNEY | CD4: FORD RANGER | CE4: HYUNDAI ACCENT | CF4: UAZ PICKUP | CG4: KIA DR 371 | CH4: KIA NEW SPORTAGE | CI4: VOLKSWAGEN TRANSPORTER | CJ4: CHERY XCROSS
B5: MODELO | E5: 1995 | F5: 2013 | G5: 2017 | H5: 2025 | I5: 2016 | J5: 2017 | K5: 2022 | L5: 2023 | M5: 2025 | N5: 2026 | O5: 2007 | P5: 2009 | Q5: 2010 | R5: 2011 | S5: 2013 | T5: 2008 | U5: 2010 | V5: 2011 | W5: 2014 | X5: 2015 | Y5: 2016 | Z5: 2008 | AA5: 2009 | AB5: 2010 | AC5: 2011 | AD5: 2012 | AE5: 2013 | AF5: 2014 | AG5: 2015 | AH5: 2016 | AI5: 2017 | AJ5: 2017 | AK5: 2018 | AL5: 2020 | AM5: 2017 | AN5: 2020 | AO5: 2013 | AP5: 2016 | AQ5: 2017 | AR5: 2019 | AS5: 2020 | AT5: 2024 | AU5: 2009 | AV5: 2011 | AW5: 2013 | AX5: 2018 | AY5: 2020 | AZ5: 2022 | BA5: 2027 | BB5: 2012 | BC5: 2013 | BD5: 2016 | BE5: 2012 | BF5: 2013 | BG5: 2014 | BH5: 2015 | BI5: 2008 | BJ5: 2009 | BK5: 2015 | BL5: 2005 | BM5: 2008 | BN5: 2009 | BO5: 2014 | BP5: 2015 | BQ5: 2019 | BR5: 2020 | BS5: 2023 | BT5: 2026 | BU5: 2023 | BV5: 2013 | BW5: 2014 | BX5: 2019 | BY5: 2016 | BZ5: 2015 | CA5: 2014 | CB5: 2022 | CC5: 2018 | CD5: 2022 | CE5: 2023 | CF5: 2020 | CG5: 2016 | CH5: 2011 | CI5: 2017 | CJ5: 2015
B6: UNIDAD | E6: 1 | F6: 2 | G6: 1 | H6: 4 | I6: 1 | J6: 1 | K6: 1 | L6: 1 | M6: 2 | N6: 1 | O6: 1 | P6: 4 | Q6: 2 | R6: 3 | S6: 1 | T6: 3 | U6: 1 | V6: 2 | W6: 6 | X6: 4 | Y6: 4 | Z6: 1 | AA6: 1 | AB6: 1 | AC6: 1 | AD6: 2 | AE6: 2 | AF6: 1 | AG6: 4 | AH6: 6 | AI6: 5 | AJ6: 1 | AK6: 2 | AL6: 2 | AM6: 1 | AN6: 1 | AO6: 1 | AP6: 5 | AQ6: 4 | AR6: 2 | AS6: 1 | AT6: 2 | AU6: 1 | AV6: 1 | AW6: 1 | AX6: 1 | AY6: 2 | AZ6: 1 | BA6: 1 | BB6: 18 | BC6: 1 | BD6: 1 | BE6: 1 | BF6: 2 | BG6: 6 | BH6: 1 | BI6: 1 | BJ6: 1 | BK6: 1 | BL6: 1 | BM6: 1 | BN6: 1 | BO6: 1 | BP6: 3 | BQ6: 1 | BR6: 3 | BS6: 2 | BT6: 1 | BU6: 2 | BV6: 1 | BW6: 1 | BX6: 1 | BY6: 1 | BZ6: 2 | CA6: 1 | CB6: 1 | CC6: 1 | CD6: 1 | CE6: 2 | CF6: 1 | CG6: 1 | CH6: 1 | CI6: 1 | CJ6: 1
E7: VALOR TOTAL INCLUIDO IVA | F7: VALOR TOTAL INCLUIDO IVA | G7: VALOR TOTAL INCLUIDO IVA | I7: VALOR TOTAL INCLUIDO IVA | K7: VALOR TOTAL INCLUIDO IVA | O7: VALOR TOTAL INCLUIDO IVA | T7: VALOR TOTAL INCLUIDO IVA | Z7: VALOR TOTAL INCLUIDO IVA | AJ7: VALOR TOTAL INCLUIDO IVA | AK7: VALOR TOTAL INCLUIDO IVA | AL7: VALOR TOTAL INCLUIDO IVA | AM7: VALOR TOTAL INCLUIDO IVA | AO7: VALOR TOTAL INCLUIDO IVA | AQ7: VALOR TOTAL INCLUIDO IVA | AU7: VALOR TOTAL INCLUIDO IVA | AX7: VALOR TOTAL INCLUIDO IVA | BB7: VALOR TOTAL INCLUIDO IVA | BE7: VALOR TOTAL INCLUIDO IVA | BI7: VALOR TOTAL INCLUIDO IVA | BL7: VALOR TOTAL INCLUIDO IVA | BU7: VALOR TOTAL INCLUIDO IVA | BV7: VALOR TOTAL INCLUIDO IVA | BW7: VALOR TOTAL INCLUIDO IVA | BX7: VALOR TOTAL INCLUIDO IVA | BY7: VALOR TOTAL INCLUIDO IVA | BZ7: VALOR TOTAL INCLUIDO IVA | CA7: VALOR TOTAL INCLUIDO IVA | CC7: VALOR TOTAL INCLUIDO IVA | CD7: VALOR TOTAL INCLUIDO IVA | CF7: VALOR TOTAL INCLUIDO IVA | CG7: VALOR TOTAL INCLUIDO IVA | CH7: VALOR TOTAL INCLUIDO IVA | CI7: VALOR TOTAL INCLUIDO IVA | CJ7: VALOR TOTAL INCLUIDO IVA
B8: ITEM | C8: SISTEMA DE FRENOS | D8: CANTIDAD
B9: 1 | C9: JUEGO DE PASTILLAS DELANTERAS | D9: 1 | E9: 408600 | F9: 421400 | G9: 414600 | I9: 294750 | K9: 406333.33 | O9: 324667.33 | T9: 319666.67 | Z9: 348000 | AJ9: 410200 | AK9: 410800 | AL9: 376000 | AM9: 366166.67 | AO9: 351500 | AP9: 0 | AQ9: 369750 | AU9: 326333.33 | AX9: 355666.67 | BB9: 365666.67 | BE9: 370666.67 | BI9: 438000 | BL9: 389666.67 | BU9: 503000 | BV9: 374000 | BW9: 382333.33 | BX9: 399666.67 | BY9: 378666.67 | BZ9: 367000 | CA9: 365666.67 | CC9: 387000 | CD9: 406333.33 | CF9: 541333.33 | CG9: 382000 | CH9: 382333.33 | CI9: 515333.33 | CJ9: 383666.67
B10: 2 | C10: JUEGO DE DISCOS DELANTEROS | D10: 1 | E10: 909200 | F10: 884600 | G10: 862000 | I10: 624000 | K10: 780000 | O10: 689430.67 | T10: 649666.67 | Z10: 724666.67 | AJ10: 873800 | AK10: 904000 | AL10: 796666.67 | AM10: 728000 | AO10: 713333.33 | AP10: 0 | AQ10: 744000 | AU10: 688000 | AX10: 768000 | BB10: 740000 | BE10: 713333.83 | BI10: 724666.67 | BL10: 724666.67 | BU10: 825333.33 | BV10: 753333.33 | BW10: 753333.33 | BX10: 760000 | BY10: 731333.33 | BZ10: 768000 | CA10: 713333.33 | CC10: 768000 | CD10: 756666.67 | CF10: 796666.67 | CG10: 768000 | CH10: 740000 | CI10: 754666.83 | CJ10: 754667
B11: 3 | C11: PISTÓN MORDAZA | D11: 1 | E11: 272000 | F11: 304200 | G11: 272300 | I11: 358500 | K11: 387333.33 | O11: 736760.83 | T11: 331333.33 | Z11: 331333.33 | AJ11: 305900 | AK11: 320300 | AL11: 387333.33 | AM11: 365333.33 | AO11: 354000 | AP11: 0 | AQ11: 365333.33 | AU11: 331333.33 | AX11: 365333.33 | BB11: 354000 | BE11: 354000 | BI11: 331333.33 | BL11: 331333.33 | BU11: 410000 | BV11: 354000 | BW11: 354000 | BX11: 387333.33 | BY11: 365333.33 | BZ11: 365333.33 | CA11: 354000 | CC11: 365333.33 | CD11: 387333.33 | CF11: 387333.33 | CG11: 365333.33 | CH11: 354000 | CI11: 365333.33 | CJ11: 365333.33
B12: 4 | C12: MORDAZA Y SU PASADOR | D12: 1 | E12: 2320200 | F12: 1896000 | G12: 1697600 | I12: 903500 | K12: 1314000 | O12: 1258000 | T12: 1024666.7 | Z12: 1258000 | AJ12: 2099200 | AK12: 2099200 | AL12: 1314000 | AM12: 1292000 | AO12: 1280666.7 | AP12: 0 | AQ12: 1292000 | AU12: 1258000 | AX12: 1292000 | BB12: 1280666.7 | BE12: 1280666.7 | BI12: 1258000 | BL12: 1258000 | BU12: 1336666.7 | BV12: 1280666.7 | BW12: 1280666.7 | BX12: 1314000 | BY12: 1292000 | BZ12: 1292000 | CA12: 1280666.7 | CC12: 1292000 | CD12: 1314000 | CF12: 1314000 | CG12: 1292000 | CH12: 1280666.7 | CI12: 1292000 | CJ12: 1292000
B13: 5 | C13: JUEGO EMPAQUETADURTA LIGAS CALÍPER | D13: 1 | E13: 244300 | F13: 276100 | G13: 253500 | I13: 151500 | K13: 171000 | O13: 150333.33 | T13: 150333.33 | Z13: 150333.33 | AJ13: 215500 | AK13: 215500 | AL13: 171000 | AM13: 163000 | AO13: 158333.33 | AP13: 0 | AQ13: 163000 | AU13: 150333.33 | AX13: 163000 | BB13: 158333.33 | BE13: 158333.33 | BI13: 150333.33 | BL13: 150333.33 | BU13: 179000 | BV13: 158333.33 | BW13: 158333.33 | BX13: 171000 | BY13: 163000 | BZ13: 163000 | CA13: 158333.33 | CC13: 163000 | CD13: 171000 | CF13: 171000 | CG13: 163000 | CH13: 158333.33 | CI13: 163000 | CJ13: 163000
B14: 6 | C14: BOMBA DE FRENO | D14: 1 | E14: 660800 | F14: 658000 | G14: 659300 | I14: 684955.5 | K14: 655166.67 | O14: 929692.5 | T14: 551500 | Z14: 594833.33 | AJ14: 715038.7 | AK14: 715038.7 | AL14: 671833.33 | AM14: 621166.67 | AO14: 603833.33 | AP14: 0 | AQ14: 621166.67 | AU14: 563166.67 | AX14: 621166.67 | BB14: 592166.67 | BE14: 603833.33 | BI14: 549833.33 | BL14: 558166.67 | BU14: 772661.17 | BV14: 620500 | BW14: 671406.17 | BX14: 730704.5 | BY14: 666539.83 | BZ14: 637833.33 | CA14: 603833.33 | CC14: 637833.33 | CD14: 655166.67 | CF14: 735069.5 | CG14: 637833.33 | CH14: 595500 | CI14: 612833.5 | CJ14: 612833.67
B15: 7 | C15: DEPOSITO BOMBA DE FRENOS | D15: 1 | E15: 175900 | F15: 189400 | G15: 182400 | I15: 244500 | K15: 248000 | O15: 226666.67 | T15: 226666.67 | Z15: 226666.67 | AJ15: 192000 | AK15: 196200 | AL15: 248000 | AM15: 239500 | AO15: 235166.67 | AP15: 0 | AQ15: 239500 | AU15: 226666.67 | AX15: 239500 | BB15: 235166.67 | BE15: 235166.67 | BI15: 226666.67 | BL15: 226666.67 | BU15: 256666.67 | BV15: 235166.67 | BW15: 235166.67 | BX15: 248000 | BY15: 239500 | BZ15: 239500 | CA15: 235166.67 | CC15: 239500 | CD15: 248000 | CF15: 248000 | CG15: 239500 | CH15: 235166.67 | CI15: 239500 | CJ15: 239500
B16: 8 | C16: SERVO FRENO (BOOSTER) | D16: 1 | E16: 1033300 | F16: 1080200 | G16: 1070300 | I16: 961333.33 | K16: 1025833.3 | O16: 1196402.3 | T16: 829333.33 | Z16: 932333.33 | AJ16: 1097600 | AK16: 1097600 | AL16: 1025833.3 | AM16: 1011333.3 | AO16: 991000 | AP16: 0 | AQ16: 1011333.3 | AU16: 932333.33 | AX16: 1011333.3 | BB16: 991000 | BE16: 991000 | BI16: 932333.33 | BL16: 932333.33 | BU16: 1040500 | BV16: 991000 | BW16: 991000 | BX16: 1025833.3 | BY16: 1011333.3 | BZ16: 1011333.3 | CA16: 991000 | CC16: 1011333.3 | CD16: 1025833.3 | CF16: 1025833.3 | CG16: 1011333.3 | CH16: 991000 | CI16: 1011333.3 | CJ16: 1011333.3
B17: 9 | C17: MANGUERA FRENO | D17: 1 | E17: 179400 | F17: 175354.6 | G17: 174350.6 | I17: 198459.17 | K17: 169757.67 | O17: 193333 | T17: 153333.33 | Z17: 149091 | AJ17: 173554.6 | AK17: 173554.6 | AL17: 169757.67 | AM17: 161757.67 | AO17: 157091 | AP17: 0 | AQ17: 161757.67 | AU17: 149091 | AX17: 161757.67 | BB17: 162626 | BE17: 157091 | BI17: 157281 | BL17: 159801 | BU17: 188467.67 | BV17: 157091 | BW17: 162626 | BX17: 177947.67 | BY17: 161736.5 | BZ17: 161757.67 | CA17: 157091 | CC17: 161757.67 | CD17: 169757.67 | CF17: 179522.67 | CG17: 161757.67 | CH17: 165641 | CI17: 169947.67 | CJ17: 166077.67
B18: 10 | C18: LIMPIADOR DE FRENOS 500 ml | D18: 1 | E18: 47600 | F18: 51100 | G18: 47700 | I18: 52666.667 | K18: 65500 | O18: 45122.667 | T18: 57500 | Z18: 57500 | AJ18: 51300 | AK18: 53100 | AL18: 65500 | AM18: 62166.667 | AO18: 60833.333 | AP18: 0 | AQ18: 62166.667 | AU18: 57500 | AX18: 62166.667 | BB18: 60833.333 | BE18: 60833.333 | BI18: 57500 | BL18: 57500 | BU18: 68833.333 | BV18: 60833.333 | BW18: 60833.333 | BX18: 65500 | BY18: 62166.667 | BZ18: 62166.667 | CA18: 60833.333 | CC18: 62166.667 | CD18: 65500 | CF18: 65500 | CG18: 62166.667 | CH18: 60833.333 | CI18: 62166.667 | CJ18: 62166.667
B19: 11 | C19: SENSOR ABS RUEDA | D19: 1 | E19: 467600 | F19: 498100 | G19: 469300 | I19: 524250 | K19: 696000 | O19: N/A | T19: 610500 | Z19: 587000 | AJ19: 500500 | AK19: 513700 | AL19: 665666.67 | AM19: 634333.33 | AO19: 618333.33 | AP19: 0 | AQ19: 634333.33 | AU19: 587000 | AX19: 634333.33 | BB19: 618333.33 | BE19: 618333.33 | BI19: 587000 | BL19: 587000 | BU19: 697000 | BV19: 618333.33 | BW19: 618333.33 | BX19: 665666.67 | BY19: 634333.33 | BZ19: 634333.33 | CA19: 618333.33 | CC19: 634333.33 | CD19: 665666.67 | CF19: 665666.67 | CG19: 634333.33 | CH19: 618333.33 | CI19: 634333.33 | CJ19: 634333.33
B20: 12 | C20: JUEGO BANDAS TRASERAS | D20: 1 | E20: 425900 | F20: 398250 | G20: 407700 | I20: 326333.33 | K20: 353666.67 | O20: 539128 | T20: 327000 | Z20: 327000 | AJ20: 401300 | AK20: 401300 | AL20: 273500 | AM20: 343000 | AO20: 337666.67 | AP20: 0 | AQ20: 343000 | AU20: 327000 | AX20: 343000 | BB20: 337666.67 | BE20: 337666.67 | BI20: 327000 | BL20: 327000 | BU20: 364333.33 | BV20: 337666.67 | BW20: 337666.67 | BX20: 353666.67 | BY20: 343000 | BZ20: 343000 | CA20: 337666.67 | CC20: 343000 | CD20: 353666.67 | CF20: 353666.67 | CG20: 343000 | CH20: 337666.67 | CI20: 343000 | CJ20: 343000
B21: 13 | C21: CILINDRO FRENO TRASERO | D21: 1 | E21: 353700 | F21: 352250 | G21: 362900 | I21: 448000 | K21: 387000 | O21: 337000 | T21: 337000 | Z21: 337000 | AJ21: 361700 | AK21: 361700 | AL21: 387000 | AM21: 367000 | AO21: 357000 | AP21: 0 | AQ21: 367000 | AU21: 337000 | AX21: 367000 | BB21: 357000 | BE21: 357000 | BI21: 363666.67 | BL21: 353666.67 | BU21: 423000 | BV21: 373666.67 | BW21: 373666.67 | BX21: 403666.67 | BY21: 433666.67 | BZ21: 433666.67 | CA21: 423666.67 | CC21: 367000 | CD21: 387000 | CF21: 387000 | CG21: 367000 | CH21: 357000 | CI21: 367000 | CJ21: 367000
B22: 14 | C22: JUEGO DE CAMPANAS TRASERAS | D22: 1 | E22: 895800 | F22: 840125 | G22: 884600 | I22: 749000 | K22: 789500 | O22: 728110.67 | T22: 708166.67 | Z22: 708166.67 | AJ22: 888400 | AK22: 888400 | AL22: 789500 | AM22: 756833.33 | AO22: 740833.33 | AP22: 0 | AQ22: 756833.33 | AU22: 708166.67 | AX22: 756833.33 | BB22: 740833.33 | BE22: 740833.33 | BI22: 708166.67 | BL22: 708166.67 | BU22: 821500 | BV22: 740833.33 | BW22: 740833.33 | BX22: 789500 | BY22: 564500 | BZ22: 564500 | CA22: 546500 | CC22: 564500 | CD22: 789500 | CF22: 789500 | CG22: 756833.33 | CH22: 546500 | CI22: 564500 | CJ22: 564500
B23: 15 | C23: JUEGO DE GUAYAS FRENO DE MANO | D23: 1 | E23: 390500 | F23: 381500 | G23: 357500 | I23: 373333.33 | K23: 272000 | O23: 425574.67 | T23: 250000 | Z23: 250000 | AJ23: 370500 | AK23: 370500 | AL23: 272000 | AM23: 263333.33 | AO23: 258666.67 | AP23: 0 | AQ23: 263333.33 | AU23: 250000 | AX23: 263333.33 | BB23: 258666.67 | BE23: 258666.67 | BI23: 250000 | BL23: 250000 | BU23: 281333.33 | BV23: 258666.67 | BW23: 258666.67 | BX23: 272000 | BY23: 263333.33 | BZ23: 263333.33 | CA23: 258666.67 | CC23: 263333.33 | CD23: 272000 | CF23: 272000 | CG23: 263333.33 | CH23: 258666.67 | CI23: 263333.33 | CJ23: 263333.33
B24: 16 | C24: JUEGO DE PASTILLAS TRASERAS | D24: 1 | E24: 344000 | F24: 410125 | G24: 396875 | I24: 243000 | K24: 401500 | O24: 247660.5 | T24: 240250 | Z24: 263250 | AJ24: 343000 | AK24: 381375 | AL24: 376333.33 | AM24: 292250 | AO24: 283250 | AP24: 0 | AQ24: 287500 | AU24: 263500 | AX24: 287500 | BB24: 310750 | BE24: 278500 | BI24: 715651.5 | BL24: 526804.5 | BU24: 772318.17 | BV24: 352333.33 | BW24: 496361.5 | BX24: 571804.5 | BY24: 478575.33 | BZ24: 360333.33 | CA24: 352333.33 | CC24: 360333.33 | CD24: 310250 | CF24: 514666.67 | CG24: 360333.33 | CH24: 352333.5 | CI24: 477000.33 | CJ24: 360333.83
B25: 17 | C25: LIQUIDO DE FRENOS (PINTA-16 OZ - DOT4) | D25: 1 | E25: 48900 | F25: 48100 | G25: 47100 | I25: 43000 | K25: 43833.333 | O25: 36000 | T25: 42000 | Z25: 42000 | AJ25: 45900 | AK25: 45900 | AL25: 43833.333 | AM25: 43000 | AO25: 42666.667 | AP25: 0 | AQ25: 43000 | AU25: 42000 | AX25: 43000 | BB25: 42666.667 | BE25: 42666.667 | BI25: 42000 | BL25: 42000 | BU25: 44500 | BV25: 42666.667 | BW25: 42666.667 | BX25: 43833.333 | BY25: 43000 | BZ25: 43000 | CA25: 42666.667 | CC25: 43000 | CD25: 43833.333 | CF25: 43833.333 | CG25: 43000 | CH25: 42666.667 | CI25: 43000 | CJ25: 43000
B26: 18 | C26: GRADUACION FRENO | D26: 1 | E26: 107333.33 | F26: 120666.67 | G26: 117000 | I26: 112333.33 | K26: 122250 | O26: 102000 | T26: 102000 | Z26: 102000 | AJ26: 124000 | AK26: 127000 | AL26: 122250 | AM26: 130666.67 | AO26: 127333.33 | AP26: 0 | AQ26: 130666.67 | AU26: 120000 | AX26: 114000 | BB26: 110250 | BE26: 110250 | BI26: 102000 | BL26: 120000 | BU26: 130500 | BV26: 110250 | BW26: 110250 | BX26: 138000 | BY26: 114000 | BZ26: 114000 | CA26: 110250 | CC26: 114000 | CD26: 138000 | CF26: 122250 | CG26: 114000 | CH26: 110250 | CI26: 114000 | CJ26: 114000
B27: ITEM | C27: SISTEMA DE SUSPENSIÓN | D27: CANTIDAD
B28: 1 | C28: JUEGO AMORTIGUADORES DELANTEROS | D28: 1 | E28: 932800 | F28: 943800 | G28: 932400 | I28: 995333.33 | K28: 1012666.7 | O28: 757856.67 | T28: 866666.67 | Z28: 866666.67 | AJ28: 996000 | AK28: 996000 | AL28: 1012666.7 | AM28: 954666.67 | AO28: 925333.33 | AP28: 0 | AQ28: 954666.67 | AU28: 866666.67 | AX28: 954666.67 | BB28: 925333.33 | BE28: 925333.33 | BI28: 866666.67 | BL28: 866666.67 | BU28: 1034833.3 | BV28: 925333.33 | BW28: 925333.33 | BX28: 1012666.7 | BY28: 954666.67 | BZ28: 954666.67 | CA28: 925333.33 | CC28: 954666.67 | CD28: 1012666.7 | CF28: 1012666.7 | CG28: 954666.67 | CH28: 925333.33 | CI28: 954666.67 | CJ28: 954666.67
B29: 2 | C29: BUJE TIJERA INFERIOR | D29: 1 | E29: 335800 | F29: 325100 | G29: 310200 | I29: 167250 | K29: 249666.67 | O29: 225000 | T29: 241833.33 | Z29: 241833.33 | AJ29: 320400 | AK29: 320400 | AL29: 249666.67 | AM29: 246500 | AO29: 245000 | AP29: 0 | AQ29: 246500 | AU29: 241833.33 | AX29: 246500 | BB29: 245000 | BE29: 245000 | BI29: 241833.33 | BL29: 241833.33 | BU29: 252833.33 | BV29: 245000 | BW29: 245000 | BX29: 249666.67 | BY29: 246500 | BZ29: 246500 | CA29: 245000 | CC29: 246500 | CD29: 249666.67 | CF29: 249666.67 | CG29: 246500 | CH29: 245000 | CI29: 246500 | CJ29: 246500
B30: 3 | C30: BUJE TIJERA SUPERIOR | D30: 1 | E30: 336800 | F30: 308250 | G30: 289625 | I30: 171000 | K30: 253000 | O30: 232500 | T30: 243166.67 | Z30: 243166.67 | AJ30: 323400 | AK30: 323400 | AL30: 253000 | AM30: 171000 | AO30: 168750 | AP30: 0 | AQ30: 171000 | AU30: 243166.67 | AX30: 249833.33 | BB30: 248333.33 | BE30: 248333.33 | BI30: 243166.67 | BL30: 243166.67 | BU30: 256166.67 | BV30: 248333.33 | BW30: 248333.33 | BX30: 253000 | BY30: 249833.33 | BZ30: 249833.33 | CA30: 248333.33 | CC30: 249833.33 | CD30: 253000 | CF30: 253000 | CG30: 249833.33 | CH30: 248333.33 | CI30: 249833.33 | CJ30: 249833.33
B31: 4 | C31: ROTULA INFERIOR | D31: 1 | E31: 552300 | F31: 548300 | G31: 528700 | I31: 397750 | K31: 471333.33 | O31: 382842 | T31: 421333.33 | Z31: 421333.33 | AJ31: 560500 | AK31: 560500 | AL31: 471333.33 | AM31: 451333.33 | AO31: 441333.33 | AP31: 0 | AQ31: 451333.33 | AU31: 421333.33 | AX31: 451333.33 | BB31: 441333.33 | BE31: 441333.33 | BI31: 421333.33 | BL31: 421333.33 | BU31: 490666.67 | BV31: 441333.33 | BW31: 441333.33 | BX31: 471333.33 | BY31: 451333.33 | BZ31: 451333.33 | CA31: 441333.33 | CC31: 451333.33 | CD31: 471333.33 | CF31: 471333.33 | CG31: 451333.33 | CH31: 441333.33 | CI31: 451333.33 | CJ31: 451333.33
B32: 5 | C32: ROTULA SUPERIOR | D32: 1 | E32: 420300 | F32: 418875 | G32: 407250 | I32: 402750 | K32: 474666.67 | O32: 408914 | T32: 424666.67 | Z32: 424666.67 | AJ32: 454300 | AK32: 457900 | AL32: 474666.67 | AM32: 402750 | AO32: 391500 | AP32: 0 | AQ32: 402750 | AU32: 424666.67 | AX32: 454666.67 | BB32: 444666.67 | BE32: 444666.67 | BI32: 424666.67 | BL32: 424666.67 | BU32: 494000 | BV32: 444666.67 | BW32: 444666.67 | BX32: 474666.67 | BY32: 454666.67 | BZ32: 454666.67 | CA32: 444666.67 | CC32: 454666.67 | CD32: 474666.67 | CF32: 474666.67 | CG32: 454666.67 | CH32: 444666.67 | CI32: 454666.67 | CJ32: 454666.67
B33: 6 | C33: MUÑECO BARRA ESTABILIZADORA | D33: 1 | E33: 500900 | F33: 461800 | G33: 435600 | I33: 366000 | K33: 549392.67 | O33: 291007.33 | T33: 178333.33 | Z33: 521226 | AJ33: 621582.4 | AK33: 614391.4 | AL33: 549392.67 | AM33: 538059.33 | AO33: 532392.67 | AP33: 0 | AQ33: 538059.33 | AU33: 522468.67 | AX33: 538059.33 | BB33: 576678 | BE33: 532392.67 | BI33: 586836.5 | BL33: 593724 | BU33: 654229.33 | BV33: 532392.67 | BW33: 577272.67 | BX33: 622902.67 | BY33: 544631.33 | BZ33: 538059.33 | CA33: 532392.67 | CC33: 538059.33 | CD33: 549392.67 | CF33: 635502.67 | CG33: 538059.33 | CH33: 601392.67 | CI33: 611569.33 | CJ33: 572624.67
B34: 7 | C34: JUEGO DE BUJES BARRA ESTABILIZADORA | D34: 1 | E34: 301900 | F34: 378926 | G34: 301400 | I34: 303750 | K34: 389878 | O34: 276125.17 | T34: 270666.67 | Z34: 361711.33 | AJ34: 380053.2 | AK34: 374740.2 | AL34: 389878 | AM34: 378544.67 | AO34: 372878 | AP34: 0 | AQ34: 378544.67 | AU34: 362610.67 | AX34: 378544.67 | BB34: 400939.33 | BE34: 372878 | BI34: 403540 | BL34: 422334.67 | BU34: 461668 | BV34: 372878 | BW34: 401386.67 | BX34: 437181.33 | BY34: 383526.67 | BZ34: 378544.67 | CA34: 372878 | CC34: 378544.67 | CD34: 389878 | CF34: 445461.33 | CG34: 378544.67 | CH34: 417226.67 | CI34: 425848 | CJ34: 400126
B35: 8 | C35: TIJERA INFERIOR DELANTERA | D35: 1 | E35: 940300 | F35: 841900 | G35: 826300 | I35: 432250 | K35: 588000 | O35: 1244847.3 | T35: 548000 | Z35: 548000 | AJ35: 815500 | AK35: 815500 | AL35: 588000 | AM35: 572000 | AO35: 564000 | AP35: 0 | AQ35: 572000 | AU35: 548000 | AX35: 572000 | BB35: 564000 | BE35: 564000 | BI35: 548000 | BL35: 548000 | BU35: 604666.67 | BV35: 564000 | BW35: 564000 | BX35: 588000 | BY35: 572000 | BZ35: 572000 | CA35: 564000 | CC35: 572000 | CD35: 588000 | CF35: 588000 | CG35: 572000 | CH35: 564000 | CI35: 572000 | CJ35: 572000
B36: 9 | C36: TIJERA SUPERIOR DELANTERA | D36: 1 | E36: 591900 | F36: 890750 | G36: 867750 | I36: 482250 | K36: 621333.33 | O36: 1285044.3 | T36: 581333.33 | Z36: 581333.33 | AJ36: 685100 | AK36: 697100 | AL36: 621333.33 | AM36: 482250 | AO36: 473250 | AP36: 0 | AQ36: 482250 | AU36: 581333.33 | AX36: 605333.33 | BB36: 597333.33 | BE36: 597333.33 | BI36: 581333.33 | BL36: 581333.33 | BU36: 638000 | BV36: 597333.33 | BW36: 597333.33 | BX36: 621333.33 | BY36: 605333.33 | BZ36: 605333.33 | CA36: 597333.33 | CC36: 605333.33 | CD36: 621333.33 | CF36: 621333.33 | CG36: 605333.33 | CH36: 597333.33 | CI36: 605333.33 | CJ36: 605333.33
B37: 10 | C37: JUEGO ESPIRALES DELANTEROS | D37: 1 | E37: 916400 | F37: 823800 | G37: 807500 | I37: 561750 | K37: 602333.33 | O37: 539666.67 | T37: 539666.67 | Z37: 539666.67 | AJ37: 860500 | AK37: 860500 | AL37: 602333.33 | AM37: 592833.33 | AO37: 577666.67 | AP37: 0 | AQ37: 592833.33 | AU37: 539666.67 | AX37: 592833.33 | BB37: 577666.67 | BE37: 577666.67 | BI37: 539666.67 | BL37: 539666.67 | BU37: 611666.67 | BV37: 577666.67 | BW37: 577666.67 | BX37: 602333.33 | BY37: 592833.33 | BZ37: 592833.33 | CA37: 577666.67 | CC37: 592833.33 | CD37: 602333.33 | CF37: 602333.33 | CG37: 592833.33 | CH37: 577666.67 | CI37: 592833.33 | CJ37: 592833.33
B38: 11 | C38: JUEGO SOPORTES AMORTIGUADORES DEL,CON RODAMIENTOS | D38: 1 | E38: 453100 | F38: 466300 | G38: 456500 | I38: 408750 | K38: 424333.33 | O38: 369333.33 | T38: 369333.33 | Z38: 369333.33 | AJ38: 455900 | AK38: 455900 | AL38: 424333.33 | AM38: 410000 | AO38: 396666.67 | AP38: 0 | AQ38: 410000 | AU38: 369333.33 | AX38: 410000 | BB38: 396666.67 | BE38: 396666.67 | BI38: 369333.33 | BL38: 369333.33 | BU38: 431000 | BV38: 396666.67 | BW38: 396666.67 | BX38: 424333.33 | BY38: 410000 | BZ38: 410000 | CA38: 396666.67 | CC38: 410000 | CD38: 424333.33 | CF38: 424333.33 | CG38: 410000 | CH38: 396666.67 | CI38: 410000 | CJ38: 410000
B39: 12 | C39: BARRA ESTABILIZADORA DELANTERA | D39: 1 | E39: 458000 | F39: 509700 | G39: 459700 | I39: 808333.33 | K39: 710500 | O39: 514555.33 | T39: 619333.33 | Z39: 619333.33 | AJ39: 513100 | AK39: 535900 | AL39: 710500 | AM39: 686666.67 | AO39: 664000 | AP39: 0 | AQ39: 686666.67 | AU39: 619333.33 | AX39: 686666.67 | BB39: 664000 | BE39: 664000 | BI39: 619333.33 | BL39: 619333.33 | BU39: 721666.67 | BV39: 664000 | BW39: 664000 | BX39: 710500 | BY39: 686666.67 | BZ39: 686666.67 | CA39: 664000 | CC39: 686666.67 | CD39: 710500 | CF39: 710500 | CG39: 686666.67 | CH39: 664000 | CI39: 686666.67 | CJ39: 686666.67
... B53: 26 | C53: RODAMIENTO TRASERO | D53: 1 | E53: 464400 | F53: 466000 | G53: 520200 | I53: 450333.33 | K53: 409666.67 | O53: 406333.33 | T53: 339666.67 | Z53: 379666.67 | AJ53: 479000 | AK53: 473000 | AL53: 416333.33 | AM53: 400333.33 | AO53: 392333.33 | AP53: 0 | AQ53: 393666.67 | AU53: 376333.33 | AX53: 393666.67 | BB53: 485666.67 | BE53: 385666.67 | BI53: 669350 | BL53: 669350 | BU53: 726016.67 | BV53: 392333.33 | BW53: 685350 | BX53: 709350 | BY53: 652715 | BZ53: 400333.33 | CA53: 392333.33 | CC53: 400333.33 | CD53: 416333.33 | CF53: 416333.17 | CG53: 400333.33 | CH53: 392333.5 | CI53: 400333.67 | CJ53: 400333.83
B54: ITEM | C54: SISTEMA DE DIRECCIÓN | D54: CANTIDAD
B55: 1 | C55: CAJA DIRECCCION | D55: 1 | E55: 2760700 | F55: 3218693.9 | G55: 3164837.3 | I55: 3053333.3 | K55: 2965333.3 | O55: 2594000 | T55: 2194333.3 | Z55: 2576960.5 | AJ55: 3151800 | AK55: 3151800.1 | AL55: 2915333.7 | AM55: 2886666.7 | AO55: 2805333.3 | AP55: 0 | AQ55: 2803333.3 | AU55: 2600915.8 | AX55: 2803333.3 | BB55: 2801743.8 | BE55: 2722000 | BI55: 2671145.5 | BL55: 2723000.8 | BU55: 3289667.5 | BV55: 2672000.3 | BW55: 2825699.2 | BX55: 3099767.5 | BY55: 2830166.7 | BZ55: 2753333.7 | CA55: 2805333.3 | CC55: 2753333.7 | CD55: 3048666.7 | CF55: 3116642.5 | CG55: 2753333.7 | CH55: 2708666.7 | CI55: 2790000 | CJ55: 2790000
...

Sheet CAMPERO - 2026
B2: PROPUESTA CAMPERO | E2: =+'AUTOMOVILES - 2026'!$E$2 -> REPUESTOS AUTOMOTORES MULTIMARCA (REPUESTOS) MANTENIMIENTO CORRECTIVO *** Incluye Costos Directos e Indirectos | M2: =+E2 -> REPUESTOS AUTOMOTORES MULTIMARCA (REPUESTOS) MANTENIMIENTO CORRECTIVO *** Incluye Costos Directos e Indirectos
B4: DESCRIPCION | E4: KIA SORENTO EX | F4: MITSUBISHI NATIVA | G4: MITSUBISHI NATIVA 5P | H4: SUZUKI VITARA ALL-GR | I4: SUZUKI JIMNY | J4: CHEVROLET TRAIL BLAZER 5P | K4: CHEVROLET GRAND VITARA | M4: NISSAN XTRAIL | O4: CHEVROLET DUSTER DYNAMIQUE | P4: CHEVROLET DUSTER | T4: TOYOTA PRADO 5P | V4: TOYOTA PRADO | X4: TOYOTA FORTUNER
B5: MODELO | E5: 2014 | F5: 2015 | G5: 2016 | H5: 2017 | I5: 2016 | J5: 2023 | K5: 2007 | L5: 2009 | M5: 2012 | N5: 2014 | O5: 2016 | P5: 2016 | Q5: 2018 | R5: 2020 | S5: 2026 | T5: 2013 | U5: 2021 | V5: 2004 | W5: 2013 | X5: 2023
B6: UNIDAD | E6: 1 | F6: 1 | G6: 1 | H6: 4 | I6: 1 | J6: 1 | K6: 1 | L6: 2 | M6: 1 | N6: 1 | O6: 2 | P6: 2 | Q6: 1 | R6: 1 | S6: 2 | T6: 1 | U6: 1 | V6: 1 | W6: 1 | X6: 2
E7: VALOR TOTAL INCLUIDO IVA | F7: VALOR TOTAL INCLUIDO IVA | G7: VALOR TOTAL INCLUIDO IVA | H7: VALOR TOTAL INCLUIDO IVA | I7: VALOR TOTAL INCLUIDO IVA | J7: VALOR TOTAL INCLUIDO IVA | K7: VALOR TOTAL INCLUIDO IVA | M7: VALOR TOTAL INCLUIDO IVA | O7: VALOR TOTAL INCLUIDO IVA | P7: VALOR TOTAL INCLUIDO IVA | T7: VALOR TOTAL INCLUIDO IVA | V7: VALOR TOTAL INCLUIDO IVA | X7: VALOR TOTAL INCLUIDO IVA
B8: ITEM | C8: SISTEMA DE FRENOS | D8: CANTIDAD
B9: 1 | C9: JUEGO DE PASTILLAS DELANTERAS | D9: 1 | E9: 509800 | F9: 580800 | G9: 580800 | H9: 448600 | I9: 478200 | J9: 576000 | K9: 426000 | M9: 465400 | O9: 466800 | P9: 470400 | T9: 581600 | V9: 536800 | X9: 506200
B10: 2 | C10: JUEGO DE DISCOS DELANTEROS | D10: 1 | E10: 1264800 | F10: 1307400 | G10: 1307400 | H10: 937000 | I10: 978200 | J10: 1072200 | K10: 899000 | M10: 1271400 | O10: 964800 | P10: 970800 | T10: 962000 | V10: 883800 | X10: 736800
B11: 3 | C11: PISTÓN MORDAZA | D11: 1 | E11: 353700 | F11: 352900 | G11: 352900 | H11: 363700 | I11: 347100 | J11: 363200 | K11: 324500 | M11: 348300 | O11: 345500 | P11: 361900 | T11: 372500 | V11: 332100 | X11: 416900
B12: 4 | C12: MORDAZA Y SU PASADOR | D12: 1 | E12: 2426000 | F12: 2995200 | G12: 2995200 | H12: 1832800 | I12: 2052800 | J12: 1675000 | K12: 1766400 | M12: 2115800 | O12: 2007000 | P12: 2007000 | T12: 2111000 | V12: 1882400 | X12: 3530200
B13: 5 | C13: JUEGO EMPAQUETADURTA LIGAS CALÍPER | D13: 1 | E13: 288700 | F13: 351100 | G13: 351100 | H13: 230700 | I13: 241700 | J13: 267300 | K13: 213100 | M13: 151100 | O13: 237100 | P13: 231900 | T13: 264500 | V13: 231100 | X13: 188100
B14: 6 | C14: BOMBA DE FRENO | D14: 1 | E14: 729900 | F14: 808900 | G14: 808900 | H14: 745762.3 | I14: 737400 | J14: 806600 | K14: 702798.2 | M14: 746898.2 | O14: 730200 | P14: 728200 | T14: 825798.2 | V14: 751198.2 | X14: 632800
B15: 7 | C15: DEPOSITO BOMBA DE FRENOS | D15: 1 | E15: 215800 | F15: 223000 | G15: 223000 | H15: 217800 | I15: 213400 | J15: 239900 | K15: 206500 | M15: 217600 | O15: 210400 | P15: 214800 | T15: 259600 | V15: 219700 | X15: 259700
B16: 8 | C16: SERVO FRENO (BOOSTER) | D16: 1 | E16: 1138400 | F16: 1255100 | G16: 1255100 | H16: 1114300 | I16: 1186000 | J16: 1283500 | K16: 1036900 | M16: 1110000 | O16: 1177100 | P16: 1142100 | T16: 1155100 | V16: 1060300 | X16: 932200
B17: 9 | C17: MANGUERA FRENO | D17: 1 | E17: 187900 | F17: 208300 | G17: 208300 | H17: 188424.6 | I17: 208200 | J17: 195100 | K17: 178338.6 | M17: 188338.6 | O17: 205500 | P17: 218500 | T17: 186138.6 | V17: 171438.6 | X17: 203500
B18: 10 | C18: LIMPIADOR DE FRENOS 500 ml | D18: 1 | E18: 60700 | F18: 62100 | G18: 62100 | H18: 60300 | I18: 58500 | J18: 65500 | K18: 54800 | M18: 57100 | O18: 57300 | P18: 59700 | T18: 64600 | V18: 59000 | X18: 71600
B19: 11 | C19: SENSOR ABS RUEDA | D19: 1 | E19: 580900 | F19: 611700 | G19: 611700 | H19: 582100 | I19: 580500 | J19: 641500 | K19: 529800 | M19: 553100 | O19: 571500 | P19: 590100 | T19: 645700 | V19: 571800 | X19: 652300
B20: 12 | C20: JUEGO BANDAS TRASERAS | D20: 1 | E20: 352300 | F20: 367300 | G20: 367300 | H20: 434100 | I20: 445100 | J20: 433300 | K20: 373333.33 | M20: 254666.67 | O20: 439300 | P20: 431300 | T20: 386100 | V20: 353300 | X20: 631900
... B26: 18 | C26: GRADUACION FRENO | D26: 1 | E26: 107166.67 | F26: 145000 | G26: 145000 | H26: 108000 | I26: 149500 | J26: 164333.33 | K26: 106333.33 | M26: 112500 | O26: 148300 | P26: 120900 | T26: 142833.33 | V26: 116000 | X26: 178333.33
B27: ITEM | C27: SISTEMA DE SUSPENSIÓN | D27: CANTIDAD
B28: 1 | C28: JUEGO AMORTIGUADORES DELANTEROS | D28: 1 | E28: 1058000 | F28: 1174000 | G28: 1174000 | H28: 987400 | I28: 1055400 | J28: 1057100 | K28: 930000 | M28: 1032400 | O28: 1046600 | P28: 1009600 | T28: 994400 | V28: 915400 | X28: 755100
B29: 2 | C29: BUJE TIJERA INFERIOR | D29: 1 | E29: 358500 | F29: 395200 | G29: 395200 | H29: 317000 | I29: 295166.67 | J29: 316600 | K29: 298200 | M29: 319500 | O29: 333600 | P29: 333600 | T29: 316300 | V29: 295800 | X29: 322700
B30: 3 | C30: BUJE TIJERA SUPERIOR | D30: 1 | E30: 373500 | F30: 407200 | G30: 407200 | H30: 332000 | I30: 308500 | J30: 328600 | K30: 324700 | M30: 355500 | O30: 300500 | P30: 303833.33 | T30: 343300 | V30: 315100 | X30: 312900
B31: 4 | C31: ROTULA INFERIOR | D31: 1 | E31: 679900 | F31: 744500 | G31: 744500 | H31: 612900 | I31: 714666.67 | J31: 608500 | K31: 576700 | M31: 691500 | O31: 644900 | P31: 646900 | T31: 727300 | V31: 645300 | X31: 599900
B32: 5 | C32: ROTULA SUPERIOR | D32: 1 | E32: 467900 | F32: 474700 | G32: 474700 | H32: 476500 | I32: 398000 | J32: 619100 | K32: 436700 | M32: 459700 | O32: 393666.67 | P32: 410333.33 | T32: 732700 | V32: 650100 | X32: 914300
B33: 6 | C33: MUÑECO BARRA ESTABILIZADORA | D33: 1 | E33: 341200 | F33: 430400 | G33: 430400 | H33: 510882.7 | I33: 434800 | J33: 466300 | K33: 472700 | M33: 430200 | O33: 432800 | P33: 486800 | T33: 538400 | V33: 446300 | X33: 781700
B34: 7 | C34: JUEGO DE BUJES BARRA ESTABILIZADORA | D34: 1 | E34: 324000 | F34: 401800 | G34: 401800 | H34: 378426.9 | I34: 329000 | J34: 367700 | K34: 364070.6 | M34: 534023.6 | O34: 327400 | P34: 351400 | T34: 442223.6 | V34: 420723.6 | X34: 439500
B35: 8 | C35: TIJERA INFERIOR DELANTERA | D35: 1 | E35: 1117100 | F35: 1233300 | G35: 1233300 | H35: 792900 | I35: 753000 | J35: 1397100 | K35: 758900 | M35: 1121700 | O35: 786900 | P35: 786900 | T35: 1079500 | V35: 953900 | X35: 683500
B36: 9 | C36: TIJERA SUPERIOR DELANTERA | D36: 1 | E36: 719300 | F36: 735700 | G36: 735700 | H36: 792900 | I36: 753000 | J36: 1386300 | K36: 758900 | M36: 691900 | O36: 731666.67 | P36: 731666.67 | T36: 1048100 | V36: 928900 | X36: 990100
B37: 10 | C37: JUEGO ESPIRALES DELANTEROS | D37: 1 | E37: 1286800 | F37: 1580700 | G37: 1580700 | H37: 942700 | I37: 1143500 | J37: 714000 | K37: 882400 | M37: 1302200 | O37: 932700 | P37: 932700 | T37: 1230000 | V37: 1057600 | X37: 1042800
B38: 11 | C38: JUEGO SOPORTES AMORTIGUADORES DEL,CON RODAMIENTOS | D38: 1 | E38: 524900 | F38: 585500 | G38: 585500 | H38: 487500 | I38: 519900 | J38: 476500 | K38: 445300 | M38: 517500 | O38: 513300 | P38: 505300 | T38: 557100 | V38: 492900 | X38: 699500
B39: 12 | C39: BARRA ESTABILIZADORA DELANTERA | D39: 1 | E39: 652500 | F39: 689900 | G39: 689900 | H39: 653500 | I39: 636500 | J39: 738800 | K39: 562400 | M39: 600900 | O39: 620300 | P39: 636100 | T39: 828300 | V39: 742900 | X39: 581300
... B53: 26 | C53: RODAMIENTO TRASERO | D53: 1 | E53: 719400 | F53: 981200 | G53: 981200 | H53: 699512.6 | I53: 595400 | J53: 675400 | K53: 539000 | M53: 580400 | O53: 584600 | P53: 598600 | T53: 565800 | V53: 512600 | X53: 515200
B54: ITEM | C54: SISTEMA DE DIRECCIÓN | D54: CANTIDAD
B55: 1 | C55: CAJA DIRECCCION | D55: 1 | E55: 3176200 | F55: 3189700 | G55: 3189700 | H55: 3338459.4 | I55: 3280800 | J55: 3772500 | K55: 3089159.4 | M55: 3222559.4 | O55: 3247700 | P55: 2162700 | T55: 3070059.4 | V55: 2766959.4 | X55: 2057900
B56: 2 | C56: EMPAQUETADURA CAJA DIRECCIÓN | D56: 1 | E56: 1195500 | F56: 1295500 | G56: 1295500 | H56: 1064700 | I56: 1121300 | J56: 1323200 | K56: 1007300 | M56: 1167200 | O56: 1098500 | P56: 1087500 | T56: 1208100 | V56: 1155900 | X56: 1111700
B57: 3 | C57: BIELA DIRECCIÓN | D57: 1 | E57: 660625 | F57: 658125 | G57: 658125 | H57: 810353.5 | I57: 658125 | J57: 678125 | K57: 654375 | M57: 664375 | O57: 658125 | P57: 654375 | T57: 664375 | V57: 654375 | X57: 678125
B58: 4 | C58: JUEGO GUARDAPOLVOS CAJA DE DIRECCIÓN | D58: 1 | E58: 206900 | F58: 210300 | G58: 210300 | H58: 210900 | I58: 206700 | J58: 228100 | K58: 193300 | M58: 203300 | O58: 205500 | P58: 209700 | T58: 219500 | V58: 198300 | X58: 236500
B59: 5 | C59: TERMINAL DE DIRECCIÓN | D59: 1 | E59: 670700 | F59: 834300 | G59: 834300 | H59: 526700 | I59: 575700 | J59: 531300 | K59: 490700 | M59: 661100 | O59: 564500 | P59: 562500 | T59: 416700 | V59: 368900 | X59: 460300
B60: 6 | C60: ACEITE HIDRAULICO DIRECCION (CUARTO) | D60: 1 | E60: 66500 | F60: 67900 | G60: 67900 | H60: 67300 | I60: 67900 | J60: 68100 | K60: 63100 | M60: 62900 | O60: 66700 | P60: 66700 | T60: 64100 | V60: 56500 | X60: 65100
...

Sheet MOTOCICLETAS - 2026
B2: PROPUESTA MOTOCICLETAS | E2: =+'AUTOMOVILES - 2026'!$E$2 -> REPUESTOS AUTOMOTORES MULTIMARCA (REPUESTOS) MANTENIMIENTO CORRECTIVO *** Incluye Costos Directos e Indirectos | P2: =+'AUTOMOVILES - 2026'!$E$2 -> REPUESTOS AUTOMOTORES MULTIMARCA (REPUESTOS) MANTENIMIENTO CORRECTIVO *** Incluye Costos Directos e Indirectos | AC2: =+'AUTOMOVILES - 2026'!$E$2 -> REPUESTOS AUTOMOTORES MULTIMARCA (REPUESTOS) MANTENIMIENTO CORRECTIVO *** Incluye Costos Directos e Indirectos | AQ2: =+'AUTOMOVILES - 2026'!$E$2 -> REPUESTOS AUTOMOTORES MULTIMARCA (REPUESTOS) MANTENIMIENTO CORRECTIVO *** Incluye Costos Directos e Indirectos | BE2: =+'AUTOMOVILES - 2026'!$E$2 -> REPUESTOS AUTOMOTORES MULTIMARCA (REPUESTOS) MANTENIMIENTO CORRECTIVO *** Incluye Costos Directos e Indirectos
B4: DESCRIPCION | E4: AKT AKT125 NKDR | F4: BAJAJ DISCOVER 150 | G4: KYMCO FLY | H4: TVS APACHE | I4: HONDA CB 125 POWER SPORT | J4: HONDA CB 110 | K4: HONDA CB 125 E | L4: HONDA CBF | N4: HONDA CB | O4: HONDA ELITE+ | P4: HONDA INVICTA | Q4: HONDA WAVE 110 | T4: HONDA XR | V4: HONDA XL | W4: HONDA XR 250 | X4: HONDA XR-250 TORNADO | Y4: HONDA XR-125 | Z4: HONDA XR 150 | AA4: HONDA XRE 300 | AB4: HONDA XT R | AC4: SUZUKI GE | AD4: SUZUKI INAZUMA 250 | AE4: SUZUKI VIVAX 115 | AF4: SUZUKI GIXXER | AG4: SUZUKI GS | AI4: SUZUKI GS 125 | AO4: SUZUKI BEST 125 | AQ4: SUZUKI DR 200 | AW4: YAMAHA DT | AX4: YAMAHA GPD 150 | AY4: YAMAHA KRYPTON T115 | AZ4: YAMAHA FZ-16 | BB4: YAMAHA T110 EDR | BC4: YAMAHA T115 | BD4: YAMAHA XT 225D | BE4: YAMAHA XTZ-125 | BN4: YAMAHA XTZ-250 | BP4: YAMAHA YBR | BR4: YAMAHA YBR-125E | BT4: YAMAHA YBR-125 ESD | BU4: YAMAHA YW125XFI
B5: MODELO | E5: 2020 | F5: 2016 | G5: 2017 | H5: 2017 | I5: 2014 | J5: 2017 | K5: 2014 | L5: 2013 | M5: 2014 | N5: 2012 | O5: 2016 | P5: 2016 | Q5: 2014 | R5: 2015 | S5: 2016 | T5: 2016 | U5: 2017 | V5: 2005 | W5: 2011 | X5: 2014 | Y5: 2012 | Z5: 2024 | AA5: 2018 | AB5: 2011 | AC5: 2015 | AD5: 2013 | AE5: 2012 | AF5: 2016 | AG5: 2015 | AH5: 2016 | AI5: 2010 | AJ5: 2012 | AK5: 2013 | AL5: 2014 | AM5: 2015 | AN5: 2016 | AO5: 2011 | AP5: 2013 | AQ5: 2007 | AR5: 2009 | AS5: 2010 | AT5: 2013 | AU5: 2014 | AV5: 2015 | AW5: 2008 | AX5: 2019 | AY5: 2013 | AZ5: 2011 | BA5: 2020 | BB5: 2010 | BC5: 2013 | BD5: 2007 | BE5: 2007 | BF5: 2012 | BG5: 2013 | BH5: 2014 | BI5: 2015 | BJ5: 2016 | BK5: 2017 | BL5: 2018 | BM5: 2022 | BN5: 2013 | BO5: 2020 | BP5: 2013 | BQ5: 2014 | BR5: 2012 | BS5: 2013 | BT5: 2013 | BU5: 2016 | BV5: 2020
B6: UNIDAD | E6: 2 | F6: 1 | G6: 1 | H6: 3 | I6: 3 | J6: 3 | K6: 8 | L6: 2 | M6: 1 | N6: 3 | O6: 15 | P6: 2 | Q6: 2 | R6: 2 | S6: 1 | T6: 2 | U6: 1 | V6: 1 | W6: 1 | X6: 2 | Y6: 1 | Z6: 5 | AA6: 1 | AB6: 1 | AC6: 8 | AD6: 1 | AE6: 1 | AF6: 1 | AG6: 1 | AH6: 1 | AI6: 5 | AJ6: 3 | AK6: 2 | AL6: 1 | AM6: 8 | AN6: 2 | AO6: 3 | AP6: 1 | AQ6: 1 | AR6: 1 | AS6: 1 | AT6: 2 | AU6: 7 | AV6: 2 | AW6: 1 | AX6: 1 | AY6: 13 | AZ6: 9 | BA6: 1 | BB6: 1 | BC6: 14 | BD6: 3 | BE6: 1 | BF6: 1 | BG6: 8 | BH6: 7 | BI6: 5 | BJ6: 2 | BK6: 1 | BL6: 3 | BM6: 6 | BN6: 1 | BO6: 2 | BP6: 15 | BQ6: 8 | BR6: 6 | BS6: 9 | BT6: 9 | BU6: 1 | BV6: 1
E7: VALOR TOTAL INCLUIDO IVA | F7: VALOR TOTAL INCLUIDO IVA | G7: VALOR TOTAL INCLUIDO IVA | H7: VALOR TOTAL INCLUIDO IVA | I7: VALOR TOTAL INCLUIDO IVA | J7: VALOR TOTAL INCLUIDO IVA | K7: VALOR TOTAL INCLUIDO IVA | L7: VALOR TOTAL INCLUIDO IVA | N7: VALOR TOTAL INCLUIDO IVA | O7: VALOR TOTAL INCLUIDO IVA | P7: VALOR TOTAL INCLUIDO IVA | Q7: VALOR TOTAL INCLUIDO IVA | T7: VALOR TOTAL INCLUIDO IVA | V7: VALOR TOTAL INCLUIDO IVA | W7: VALOR TOTAL INCLUIDO IVA | X7: VALOR TOTAL INCLUIDO IVA | Y7: VALOR TOTAL INCLUIDO IVA | Z7: VALOR TOTAL INCLUIDO IVA | AA7: VALOR TOTAL INCLUIDO IVA | AB7: VALOR TOTAL INCLUIDO IVA | AC7: VALOR TOTAL INCLUIDO IVA | AD7: VALOR TOTAL INCLUIDO IVA | AE7: VALOR TOTAL INCLUIDO IVA | AF7: VALOR TOTAL INCLUIDO IVA | AG7: VALOR TOTAL INCLUIDO IVA | AI7: VALOR TOTAL INCLUIDO IVA | AO7: VALOR TOTAL INCLUIDO IVA | AQ7: VALOR TOTAL INCLUIDO IVA | AW7: VALOR TOTAL INCLUIDO IVA | AX7: VALOR TOTAL INCLUIDO IVA | AY7: VALOR TOTAL INCLUIDO IVA | AZ7: VALOR TOTAL INCLUIDO IVA | BB7: VALOR TOTAL INCLUIDO IVA | BC7: VALOR TOTAL INCLUIDO IVA | BD7: VALOR TOTAL INCLUIDO IVA | BE7: VALOR TOTAL INCLUIDO IVA | BN7: VALOR TOTAL INCLUIDO IVA | BP7: VALOR TOTAL INCLUIDO IVA | BR7: VALOR TOTAL INCLUIDO IVA | BT7: VALOR TOTAL INCLUIDO IVA | BU7: VALOR TOTAL INCLUIDO IVA
B8: ITEM | C8: SINCRONIZACIÓN | D8: CANTIDAD
B9: 1 | C9: AGUJAS DEL CARBURADOR | D9: 1 | E9: 59400 | F9: 64023.5 | G9: 61967.3 | H9: 63671.1 | I9: 44167.3 | J9: 44167.3 | K9: 44167.3 | L9: 44167.3 | N9: 51700 | O9: 44167.3 | P9: 45528.8 | Q9: 44167.3 | T9: 44167.3 | V9: 82528.8 | W9: 82734.5 | X9: 82734.5 | Y9: 43967.3 | Z9: 50584.25 | AA9: 53883.625 | AB9: 46607 | AC9: 58867.3 | AD9: 52688.25 | AE9: 62503.9 | AF9: 58207 | AG9: 58867.3 | AI9: 61507 | AO9: 60667.3 | AQ9: 70500 | AW9: 64803.9 | AX9: 54838.875 | AY9: 65403.9 | AZ9: 61260.2 | BB9: 65403.9 | BC9: 65403.9 | BD9: 47971.1 | BE9: 59203.9 | BN9: 48371.1 | BP9: 65403.9 | BR9: 65403.9 | BT9: 67100 | BU9: 55000
B10: 2 | C10: BASE Y PUNZON | D10: 1 | E10: 61000 | F10: 68991.6 | G10: 69235.3 | H10: 72476.4 | I10: 86000 | J10: 86000 | K10: 86000 | L10: 86000 | N10: 86000 | O10: 75035.3 | P10: 76234.7 | Q10: 75035.3 | T10: 64035.3 | V10: 69434.7 | W10: 69802.5 | X10: 69802.5 | Y10: 64035.3 | Z10: 44294.25 | AA10: 48269.125 | AB10: 67215.4 | AC10: 63435.3 | AD10: 47073.75 | AE10: 52809.2 | AF10: 71115.4 | AG10: 63435.3 | AI10: 66615.4 | AO10: 51335.3 | AQ10: 67400 | AW10: 66709.2 | AX10: 48095.5 | AY10: 70009.2 | AZ10: 63765.5 | BB10: 70009.2 | BC10: 70009.2 | BD10: 43276.4 | BE10: 59309.2 | BN10: 43776.4 | BP10: 70009.2 | BR10: 70009.2 | BT10: 71400 | BU10: 47875
B11: 3 | C11: BUJIA | D11: 1 | E11: 49200 | F11: 54932.8 | G11: 53232.8 | H11: 53032.8 | I11: 54532.8 | J11: 54532.8 | K11: 54532.8 | L11: 54532.8 | N11: 61600 | O11: 54532.8 | P11: 54867.5 | Q11: 54532.8 | T11: 61500 | V11: 59200 | W11: 59400 | X11: 59199.8 | Y11: 61499.9 | Z11: 61500 | AA11: 63400 | AB11: 61500 | AC11: 53200 | AD11: 59400 | AE11: 47500 | AF11: 59500 | AG11: 51400 | AI11: 52000 | AO11: 47500 | AQ11: 49900 | AW11: 56900 | AX11: 60400 | AY11: 60900.1 | AZ11: 63200.2 | BB11: 60900.4 | BC11: 60900.5 | BD11: 71500.6 | BE11: 53232.8 | BN11: 64432.8 | BP11: 53832.8 | BR11: 53832.8 | BT11: 53832.8 | BU11: 53632.8
B12: 4 | C12: CHICLER DE ALTA | D12: 1 | E12: 41400 | F12: 39300 | G12: 41700 | H12: 41500 | I12: 46500 | J12: 46500 | K12: 46500 | L12: 46500 | N12: 122300 | O12: 46603.5 | P12: 46749.4 | Q12: 46603.5 | T12: 39903.5 | V12: 37949.4 | W12: 37803.5 | X12: 37803.5 | Y12: 39903.5 | Z12: 32168.5 | AA12: 32168.625 | AB12: 40535 | AC12: 27403.5 | AD12: 32168.625 | AE12: 27203.5 | AF12: 43135 | AG12: 27403.5 | AI12: 27403.5 | AO12: 27203.5 | AQ12: 28000 | AW12: 27603.5 | AX12: 32168.625 | AY12: 39603.5 | AZ12: 27303.5 | BB12: 39603.5 | BC12: 39603.5 | BD12: 27603.5 | BE12: 27303.5 | BN12: 28434.9 | BP12: 39603.5 | BR12: 39603.5 | BT12: 42100 | BU12: 34500
