Workbook
Name AUMENTO: '[1]Repuestos 3'!$S$9
Name INCREMENTO: '[1]Repuestos 3'!$S$77
Name M: '[1]Mano de Obra'!$J$131
Name MO: '[1]Mano de Obra'!$J$99
Name SUBE: '[1]Mano de Obra'!$J$11

Sheet AUTOMOVILES - 2026
B2: PROPUESTA AUTOMOVILES | E2: REPUESTOS AUTOMOTORES MULTIMARCA (REPUESTOS) MANTENIMIENTO CORRECTIVO *** Incluye Costos Directos e Indirectos | Q2: =+E2 -> REPUESTOS AUTOMOTORES MULTIMARCA (REPUESTOS) MANTENIMIENTO CORRECTIVO *** Incluye Costos Directos e Indirectos | AD2: =+Q2 -> REPUESTOS AUTOMOTORES MULTIMARCA (REPUESTOS) MANTENIMIENTO CORRECTIVO *** Incluye Costos Directos e Indirectos
B4: DESCRIPCION | E4: HYUNDAI ACCENT VISION | F4: CHEVROLET OPTRA | G4: CHEVROLET SPARK CRONOS 724 (TAXI) | H4: CHEVROLET SPARK | N4: CHEVROLET AVEO | P4: CHEVROLET AVEO EMOTION GT | Q4: CHEVROLET SAIL | S4: CHEVROLET SONIC | U4: CHEVROLET SONIC 4NB 1.6 MT LT C/A | V4: RENAULT SYMBOL (TAXI CITIUS) | W4: RENAULT LOGAN | AB4: RENAULT LOGAN AUTHENTIQUE | AD4: RENAULT LOGAN DYNAMIQUE | AE4: RENAULT SANDERO | AF4: RENAULT SCALA | AG4: RENAULT SYMBIL | AH4: FORD FIESTA | AI4: VOLKSWAGEN GOL | AJ4: NISSAN TIDA | AK4: NISSAN VERSA | AL4: HYUNDAI ACCENT
B5: MODELO | E5: 2006 | F5: 2012 | G5: 2008 | H5: 2008 | I5: 2009 | J5: 2012 | K5: 2013 | L5: 2014 | M5: 2016 | N5: 2010 | O5: 2012 | P5: 2011 | Q5: 2013 | R5: 2018 | S5: 2013 | T5: 2016 | U5: 2016 | V5: 2008 | W5: 2018 | X5: 2019 | Y5: 2023 | Z5: 2025 | AA5: 2027 | AB5: 2016 | AC5: 2017 | AD5: 2016 | AE5: 2016 | AF5: 2012 | AG5: 2008 | AH5: 2014 | AI5: 2015 | AJ5: 2012 | AK5: 2015 | AL5: 2025
B6: UNIDAD | E6: 1 | F6: 1 | G6: 1 | H6: 2 | I6: 1 | J6: 3 | K6: 1 | L6: 3 | M6: 1 | N6: 1 | O6: 1 | P6: 1 | Q6: 4 | R6: 2 | S6: 1 | T6: 2 | U6: 1 | V6: 2 | W6: 5 | X6: 1 | Y6: 1 | Z6: 1 | AA6: 2 | AB6: 2 | AC6: 1 | AD6: 4 | AE6: 1 | AF6: 2 | AG6: 1 | AH6: 1 | AI6: 1 | AJ6: 1 | AK6: 4 | AL6: 10
E7: VALOR TOTAL INCLUIDO IVA | F7: VALOR TOTAL INCLUIDO IVA | G7: VALOR TOTAL INCLUIDO IVA | H7: VALOR TOTAL INCLUIDO IVA | N7: VALOR TOTAL INCLUIDO IVA | P7: VALOR TOTAL INCLUIDO IVA | Q7: VALOR TOTAL INCLUIDO IVA | S7: VALOR TOTAL INCLUIDO IVA | U7: VALOR TOTAL INCLUIDO IVA | V7: VALOR TOTAL INCLUIDO IVA | W7: VALOR TOTAL INCLUIDO IVA | AB7: VALOR TOTAL INCLUIDO IVA | AD7: VALOR TOTAL INCLUIDO IVA | AE7: VALOR TOTAL INCLUIDO IVA | AF7: VALOR TOTAL INCLUIDO IVA | AG7: VALOR TOTAL INCLUIDO IVA | AH7: VALOR TOTAL INCLUIDO IVA | AI7: VALOR TOTAL INCLUIDO IVA | AJ7: VALOR TOTAL INCLUIDO IVA | AK7: VALOR TOTAL INCLUIDO IVA
B8: ITEM | C8: SISTEMA DE FRENOS | D8: CANTIDAD
B9: 1 | C9: JUEGO DE PASTILLAS DELANTERAS | D9: 1 | E9: 398400 | F9: 390600 | G9: 349600 | H9: 348200 | I9: 0 | J9: 0 | K9: 0 | L9: 0 | M9: 0 | N9: 363100 | P9: 362400 | Q9: 364400 | S9: 384500 | U9: 386800 | V9: 381800 | W9: 398000 | AB9: 398000 | AD9: 399000 | AE9: 393600 | AF9: 372500 | AG9: 381800 | AH9: 395400 | AI9: 402600 | AJ9: 353600 | AK9: 364400
B10: 2 | C10: JUEGO DE DISCOS DELANTEROS | D10: 1 | E10: 852200 | F10: 804000 | G10: 717000 | H10: 721000 | I10: 0 | J10: 0 | K10: 0 | L10: 0 | M10: 0 | N10: 763200 | P10: 763200 | Q10: 763200 | S10: 807800 | U10: 811400 | V10: 781600 | W10: 810400 | AB10: 810400 | AD10: 810400 | AE10: 810400 | AF10: 781600 | AG10: 781600 | AH10: 825400 | AI10: 822200 | AJ10: 775200 | AK10: 784800
B11: 3 | C11: PISTÓN MORDAZA | D11: 1 | E11: 258500 | F11: 288900 | G11: 253700 | H11: 265700 | I11: 0 | J11: 0 | K11: 0 | L11: 0 | M11: 0 | N11: 268300 | P11: 268300 | Q11: 268300 | S11: 288900 | U11: 291100 | V11: 247700 | W11: 286300 | AB11: 263500 | AD11: 263500 | AE11: 263500 | AF11: 282700 | AG11: 247700 | AH11: 292500 | AI11: 287500 | AJ11: 288900 | AK11: 298500
B12: 4 | C12: MORDAZA Y SU PASADOR | D12: 1 | E12: 2135200 | F12: 1706200 | G12: 1556000 | H12: 1556000 | I12: 0 | J12: 0 | K12: 0 | L12: 0 | M12: 0 | N12: 1571600 | P12: 1571600 | Q12: 1571600 | S12: 1741200 | U12: 1748400 | V12: 1704600 | W12: 1727400 | AB12: 1727400 | AD12: 1727400 | AE12: 1727400 | AF12: 1791200 | AG12: 1704600 | AH12: 2054400 | AI12: 1801200 | AJ12: 1899200 | AK12: 1966400
B13: 5 | C13: JUEGO EMPAQUETADURTA LIGAS CALÍPER | D13: 1 | E13: 220100 | F13: 250700 | G13: 217900 | H13: 217900 | I13: 0 | J13: 0 | K13: 0 | L13: 0 | M13: 0 | N13: 223900 | P13: 223900 | Q13: 223900 | S13: 257500 | U13: 259900 | V13: 121700 | W13: 132900 | AB13: 130900 | AD13: 130900 | AE13: 130900 | AF13: 216700 | AG13: 121700 | AH13: 244900 | AI13: 274100 | AJ13: 185900 | AK13: 188300
B14: 6 | C14: BOMBA DE FRENO | D14: 1 | E14: 588000 | F14: 565400 | G14: 520300 | H14: 521300 | I14: 0 | J14: 0 | K14: 0 | L14: 0 | M14: 0 | N14: 552100 | P14: 552100 | Q14: 552100 | S14: 580100 | U14: 591500 | V14: 553800 | W14: 590200 | AB14: 590200 | AD14: 586000 | AE14: 589000 | AF14: 641100 | AG14: 554800 | AH14: 621300 | AI14: 615600 | AJ14: 608600 | AK14: 609000
B15: 7 | C15: DEPOSITO BOMBA DE FRENOS | D15: 1 | E15: 164600 | F15: 176800 | G15: 163400 | H15: 167000 | I15: 0 | J15: 0 | K15: 0 | L15: 0 | M15: 0 | N15: 170800 | P15: 170800 | Q15: 170800 | S15: 176800 | U15: 178700 | V15: 161600 | W15: 177500 | AB15: 170900 | AD15: 170900 | AE15: 170900 | AF15: 175000 | AG15: 161600 | AH15: 183400 | AI15: 177500 | AJ15: 176800 | AK15: 182900
B16: 8 | C16: SERVO FRENO (BOOSTER) | D16: 1 | E16: 916900 | F16: 950600 | G16: 853700 | H16: 855700 | I16: 0 | J16: 0 | K16: 0 | L16: 0 | M16: 0 | N16: 923300 | P16: 923300 | Q16: 923300 | S16: 958700 | U16: 975900 | V16: 923800 | W16: 978600 | AB16: 978600 | AD16: 978600 | AE16: 978600 | AF16: 991200 | AG16: 919800 | AH16: 997000 | AI16: 1017000 | AJ16: 956600 | AK16: 983800
B17: 9 | C17: MANGUERA FRENO | D17: 1 | E17: 163200 | F17: 160500 | G17: 148000 | H17: 148000 | I17: 0 | J17: 0 | K17: 0 | L17: 0 | M17: 0 | N17: 154000 | P17: 154000 | Q17: 154000 | S17: 162200 | U17: 164600 | V17: 153300 | W17: 161700 | AB17: 161700 | AD17: 161700 | AE17: 161700 | AF17: 156800 | AG17: 153300 | AH17: 167000 | AI17: 164100 | AJ17: 154500 | AK17: 156900
B18: 10 | C18: LIMPIADOR DE FRENOS 500 ml | D18: 1 | E18: 45400 | F18: 48700 | G18: 44800 | H18: 46000 | I18: 0 | J18: 0 | K18: 0 | L18: 0 | M18: 0 | N18: 46300 | P18: 46300 | Q18: 46300 | S18: 48700 | U18: 48900 | V18: 44200 | W18: 48300 | AB18: 45900 | AD18: 45900 | AE18: 45900 | AF18: 48100 | AG18: 44200 | AH18: 51100 | AI18: 48300 | AJ18: 48700 | AK18: 50700
B19: 11 | C19: SENSOR ABS RUEDA | D19: 1 | E19: 457200 | F19: 486400 | G19: 451800 | H19: 463200 | I19: 0 | J19: 0 | K19: 0 | L19: 0 | M19: 0 | N19: 466600 | P19: 466600 | Q19: 466600 | S19: 500600 | U19: 503400 | V19: 447000 | W19: 484000 | AB19: 463000 | AD19: 463000 | AE19: 463000 | AF19: 479800 | AG19: 447000 | AH19: 512400 | AI19: 501400 | AJ19: 509600 | AK19: 518600
B20: 12 | C20: JUEGO BANDAS TRASERAS | D20: 1 | E20: 388300 | F20: 310333.33 | G20: 352200 | H20: 352200 | I20: 0 | J20: 0 | K20: 0 | L20: 0 | M20: 0 | N20: 359400 | P20: 359400 | Q20: 359400 | S20: 385200 | U20: 392300 | V20: 372100 | W20: 382900 | AB20: 382900 | AD20: 382900 | AE20: 382900 | AF20: 368100 | AG20: 372100 | AH20: 421100 | AI20: 397500 | AJ20: 361000 | AK20: 362100
... B26: 18 | C26: GRADUACION FRENO | D26: 1 | E26: 76666.667 | F26: 84000 | G26: 75666.667 | H26: 78333.333 | I26: 0 | J26: 0 | K26: 0 | L26: 0 | M26: 0 | N26: 79666.667 | P26: 79666.667 | Q26: 79666.667 | S26: 84000 | U26: 84666.667 | V26: 74333.333 | W26: 83666.667 | AB26: 79000 | AD26: 79000 | AE26: 79000 | AF26: 82666.667 | AG26: 74333.333 | AH26: 88666.667 | AI26: 84000 | AJ26: 84000 | AK26: 87666.667
B27: ITEM | C27: SISTEMA DE SUSPENSIÓN | D27: CANTIDAD
B28: 1 | C28: JUEGO AMORTIGUADORES DELANTEROS | D28: 1 | E28: 800400 | F28: 798200 | G28: 748800 | H28: 748800 | I28: 0 | J28: 0 | K28: 0 | L28: 0 | M28: 0 | N28: 788400 | P28: 788400 | Q28: 788400 | S28: 794000 | U28: 813200 | V28: 771600 | W28: 830400 | AB28: 830400 | AD28: 830400 | AE28: 830400 | AF28: 803800 | AG28: 771600 | AH28: 832800 | AI28: 835800 | AJ28: 824000 | AK28: 843200
B29: 2 | C29: BUJE TIJERA INFERIOR | D29: 1 | E29: 289600 | F29: 278400 | G29: 261200 | H29: 261200 | I29: 0 | J29: 0 | K29: 0 | L29: 0 | M29: 0 | N29: 262600 | P29: 262600 | Q29: 262600 | S29: 282400 | U29: 283100 | V29: 283000 | W29: 285100 | AB29: 285100 | AD29: 285100 | AE29: 285100 | AF29: 273800 | AG29: 283000 | AH29: 286000 | AI29: 287300 | AJ29: 272800 | AK29: 273500
B30: 3 | C30: BUJE TIJERA SUPERIOR | D30: 1 | E30: 307100 | F30: 296400 | G30: 278700 | H30: 278700 | I30: 0 | J30: 0 | K30: 0 | L30: 0 | M30: 0 | N30: 280600 | P30: 280600 | Q30: 280600 | S30: 300400 | U30: 301100 | V30: 300500 | W30: 303100 | AB30: 303100 | AD30: 303100 | AE30: 303100 | AF30: 291800 | AG30: 300500 | AH30: 304000 | AI30: 305300 | AJ30: 290800 | AK30: 291500
B31: 4 | C31: ROTULA INFERIOR | D31: 1 | E31: 513300 | F31: 504500 | G31: 462700 | H31: 462700 | I31: 0 | J31: 0 | K31: 0 | L31: 0 | M31: 0 | N31: 475900 | P31: 475900 | Q31: 475900 | S31: 511900 | U31: 518500 | V31: 503500 | W31: 523300 | AB31: 523300 | AD31: 523300 | AE31: 523300 | AF31: 502500 | AG31: 503500 | AH31: 555300 | AI31: 526700 | AJ31: 507700 | AK31: 514300
B32: 5 | C32: ROTULA SUPERIOR | D32: 1 | E32: 381300 | F32: 401500 | G32: 379900 | H32: 382900 | I32: 0 | J32: 0 | K32: 0 | L32: 0 | M32: 0 | N32: 396100 | P32: 396100 | Q32: 396100 | S32: 401500 | U32: 408100 | V32: 378500 | W32: 406900 | AB32: 401100 | AD32: 401100 | AE32: 401100 | AF32: 399700 | AG32: 378500 | AH32: 406900 | AI32: 407300 | AJ32: 401500 | AK32: 411700
B33: 6 | C33: MUÑECO BARRA ESTABILIZADORA | D33: 1 | E33: 486000 | F33: 385200 | G33: 360800 | H33: 360800 | I33: 0 | J33: 0 | K33: 0 | L33: 0 | M33: 0 | N33: 365800 | P33: 365800 | Q33: 365800 | S33: 390400 | U33: 392900 | V33: 385200 | W33: 392700 | AB33: 392700 | AD33: 392700 | AE33: 392700 | AF33: 411400 | AG33: 385200 | AH33: 402600 | AI33: 396500 | AJ33: 445400 | AK33: 447900
B34: 7 | C34: JUEGO DE BUJES BARRA ESTABILIZADORA | D34: 1 | E34: 287000 | F34: 280000 | G34: 264400 | H34: 264400 | I34: 0 | J34: 0 | K34: 0 | L34: 0 | M34: 0 | N34: 269400 | P34: 269400 | Q34: 269400 | S34: 282800 | U34: 285300 | V34: 272400 | W34: 279900 | AB34: 279900 | AD34: 279900 | AE34: 279900 | AF34: 275200 | AG34: 272400 | AH34: 285600 | AI34: 284100 | AJ34: 272800 | AK34: 275300
B35: 8 | C35: TIJERA INFERIOR DELANTERA | D35: 1 | E35: 993100 | F35: 855500 | G35: 843500 | H35: 737300 | I35: 0 | J35: 0 | K35: 0 | L35: 0 | M35: 0 | N35: 748100 | P35: 748100 | Q35: 748100 | S35: 838100 | U35: 843500 | V35: 787300 | W35: 803500 | AB35: 803500 | AD35: 803500 | AE35: 803500 | AF35: 771700 | AG35: 787300 | AH35: 892300 | AI35: 862900 | AJ35: 737300 | AK35: 742700
B36: 9 | C36: TIJERA SUPERIOR DELANTERA | D36: 1 | E36: 552500 | F36: 790700 | G36: 755500 | H36: 755500 | I36: 0 | J36: 0 | K36: 0 | L36: 0 | M36: 0 | N36: 766300 | P36: 766300 | Q36: 568900 | S36: 586900 | U36: 592300 | V36: 884700 | W36: 900900 | AB36: 900900 | AD36: 900900 | AE36: 900900 | AF36: 580900 | AG36: 884700 | AH36: 604900 | AI36: 977700 | AJ36: 586900 | AK36: 604300
B37: 10 | C37: JUEGO ESPIRALES DELANTEROS | D37: 1 | E37: 841400 | F37: 739800 | G37: 685000 | H37: 685000 | I37: 0 | J37: 0 | K37: 0 | L37: 0 | M37: 0 | N37: 710200 | P37: 710200 | Q37: 710200 | S37: 726000 | U37: 738600 | V37: 779800 | W37: 817600 | AB37: 817600 | AD37: 817600 | AE37: 817600 | AF37: 729800 | AG37: 779800 | AH37: 897600 | AI37: 825400 | AJ37: 763200 | AK37: 775800
B38: 11 | C38: JUEGO SOPORTES AMORTIGUADORES DEL,CON RODAMIENTOS | D38: 1 | E38: 362200 | F38: 353800 | G38: 329000 | H38: 329000 | I38: 0 | J38: 0 | K38: 0 | L38: 0 | M38: 0 | N38: 332000 | P38: 332000 | Q38: 332000 | S38: 359400 | U38: 360900 | V38: 350800 | W38: 355300 | AB38: 355300 | AD38: 355300 | AE38: 355300 | AF38: 340400 | AG38: 350800 | AH38: 377800 | AI38: 361700 | AJ38: 331400 | AK38: 332900
B39: 12 | C39: BARRA ESTABILIZADORA DELANTERA | D39: 1 | E39: 443100 | F39: 493100 | G39: 434700 | H39: 453900 | I39: 0 | J39: 0 | K39: 0 | L39: 0 | M39: 0 | N39: 458900 | P39: 458900 | Q39: 458900 | S39: 493100 | U39: 495600 | V39: 425700 | W39: 488400 | AB39: 451800 | AD39: 451800 | AE39: 451800 | AF39: 481700 | AG39: 425700 | AH39: 527300 | AI39: 490200 | AJ39: 493100 | AK39: 518400
... B51: 24 | C51: RODAMIENTO TRASERO | D51: 1 | E51: 440600 | F51: 420400 | G51: 372200 | H51: 372200 | I51: 0 | J51: 0 | K51: 0 | L51: 0 | M51: 0 | N51: 383000 | P51: 383000 | Q51: 383000 | S51: 412000 | U51: 417400 | V51: 398800 | W51: 415000 | AB51: 415000 | AD51: 415000 | AE51: 415000 | AF51: 399200 | AG51: 398800 | AH51: 430000 | AI51: 420400 | AJ51: 397800 | AK51: 403200
B52: ITEM | C52: SISTEMA DE DIRECCIÓN | D52: CANTIDAD
B53: 1 | C53: CAJA DIRECCCION | D53: 1 | E53: 2732100 | F53: 2871300 | G53: 2620400 | H53: 2620400 | I53: 0 | J53: 0 | K53: 0 | L53: 0 | M53: 0 | N53: 2728400 | P53: 2728400 | Q53: 2728400 | S53: 2908500 | U53: 2962500 | V53: 2724300 | W53: 2886300 | AB53: 2886300 | AD53: 2886300 | AE53: 2886300 | AF53: 2805500 | AG53: 2724300 | AH53: 2944700 | AI53: 2944400 | AJ53: 2769800 | AK53: 2823800
B54: 2 | C54: EMPAQUETADURA CAJA DIRECCIÓN | D54: 1 | E54: 957300 | F54: 958500 | G54: 859500 | H54: 859500 | I54: 0 | J54: 0 | K54: 0 | L54: 0 | M54: 0 | N54: 877500 | P54: 877500 | Q54: 877500 | S54: 979500 | U54: 988500 | V54: 909900 | W54: 936900 | AB54: 936900 | AD54: 936900 | AE54: 936900 | AF54: 899100 | AG54: 909900 | AH54: 1049100 | AI54: 973500 | AJ54: 855300 | AK54: 864300
B55: 3 | C55: JUEGO GUARDAPOLVOS CAJA DE DIRECCIÓN | D55: 1 | E55: 265300 | F55: 237100 | G55: 215700 | H55: 215700 | I55: 0 | J55: 0 | K55: 0 | L55: 0 | M55: 0 | N55: 221700 | P55: 221700 | Q55: 221700 | S55: 241100 | U55: 244100 | V55: 224700 | W55: 233700 | AB55: 233700 | AD55: 233700 | AE55: 233700 | AF55: 247500 | AG55: 224700 | AH55: 250700 | AI55: 240900 | AJ55: 263100 | AK55: 266100
B56: 4 | C56: TERMINAL DE DIRECCIÓN | D56: 1 | E56: 411300 | F56: 403900 | G56: 366900 | H56: 366900 | I56: 0 | J56: 0 | K56: 0 | L56: 0 | M56: 0 | N56: 380100 | P56: 380100 | Q56: 380100 | S56: 410100 | U56: 416700 | V56: 383500 | W56: 403300 | AB56: 403300 | AD56: 403300 | AE56: 403300 | AF56: 393100 | AG56: 383500 | AH56: 485300 | AI56: 413300 | AJ56: 387500 | AK56: 394100
B57: 5 | C57: ACEITE HIDRAULICO DIRECCION (CUARTO) | D57: 1 | E57: 57900 | F57: 60500 | G57: 57900 | H57: 57900 | I57: 0 | J57: 0 | K57: 0 | L57: 0 | M57: 0 | N57: 59100 | P57: 59100 | Q57: 59100 | S57: 59100 | U57: 59700 | V57: 57900 | W57: 59700 | AB57: 59700 | AD57: 59700 | AE57: 59700 | AF57: 57900 | AG57: 57900 | AH57: 60700 | AI57: 61600 | AJ57: 59100 | AK57: 59700
B58: 6 | C58: CORREA BOMBA DIRECCION | D58: 1 | E58: 226000 | F58: 225600 | G58: 203400 | H58: 203400 | I58: 0 | J58: 0 | K58: 0 | L58: 0 | M58: 0 | N58: 210000 | P58: 210000 | Q58: 210000 | S58: 229800 | U58: 233000 | V58: 221400 | W58: 231200 | AB58: 231200 | AD58: 231200 | AE58: 231200 | AF58: 209400 | AG58: 221400 | AH58: 233000 | AI58: 234800 | AJ58: 195600 | AK58: 198800
B59: 7 | C59: DEPOSITO BOMBA DIRECCION | D59: 1 | E59: 200300 | F59: 217700 | G59: 198500 | H59: 203300 | I59: 0 | J59: 0 | K59: 0 | L59: 0 | M59: 0 | N59: 209900 | P59: 209900 | Q59: 209900 | S59: 217700 | U59: 220900 | V59: 196100 | W59: 219100 | AB59: 210700 | AD59: 210700 | AE59: 210700 | AF59: 215300 | AG59: 196100 | AH59: 226100 | AI59: 219700 | AJ59: 217700 | AK59: 226300
B60: 8 | C60: BRAZO COMPENSADOR | D60: 1 | E60: 263750 | F60: 277500 | G60: 263750 | H60: 263750 | I60: 0 | J60: 0 | K60: 0 | L60: 0 | M60: 0 | N60: 277500 | P60: 277500 | Q60: 277500 | S60: 277500 | U60: 284375 | V60: 263750 | W60: 284375 | AB60: 284375 | AD60: 284375 | AE60: 284375 | AF60: 277500 | AG60: 263750 | AH60: 277500 | AI60: 284375 | AJ60: 277500 | AK60: 284375
B61: 9 | C61: BRAZO AXIAL | D61: 1 | E61: 451000 | F61: 433400 | G61: 390200 | H61: 390200 | I61: 0 | J61: 0 | K61: 0 | L61: 0 | M61: 0 | N61: 404600 | P61: 404600 | Q61: 404600 | S61: 440800 | U61: 448000 | V61: 414200 | W61: 435800 | AB61: 435800 | AD61: 435800 | AE61: 435800 | AF61: 420600 | AG61: 414200 | AH61: 444400 | AI61: 446200 | AJ61: 413800 | AK61: 421000
B62: 10 | C62: GUARDAPOLVO BRAZO AXIAL | D62: 1 | E62: 80200 | F62: 87400 | G62: 79600 | H62: 81400 | I62: 0 | J62: 0 | K62: 0 | L62: 0 | M62: 0 | N62: 83800 | P62: 83800 | Q62: 83800 | S62: 87400 | U62: 88600 | V62: 78400 | W62: 88000 | AB62: 83800 | AD62: 83800 | AE62: 83800 | AF62: 86200 | AG62: 78400 | AH62: 91000 | AI62: 88000 | AJ62: 87400 | AK62: 91000
B63: 11 | C63: BARRA TRANSVERSAL DIRECCIÓN | D63: 1 | E63: 631750 | F63: 658000 | G63: 631750 | H63: 631750 | I63: 0 | J63: 0 | K63: 0 | L63: 0 | M63: 0 | N63: 658000 | P63: 658000 | Q63: 658000 | S63: 658000 | U63: 671125 | V63: 631750 | W63: 671125 | AB63: 671125 | AD63: 671125 | AE63: 671125 | AF63: 658000 | AG63: 631750 | AH63: 658000 | AI63: 671125 | AJ63: 658000 | AK63: 671125
B64: 12 | C64: BOMBA HIDRÁULICO DIRECCIÓN | D64: 1 | E64: 1154900 | F64: 1123200 | G64: 1063000 | H64: 1063000 | I64: 0 | J64: 0 | K64: 0 | L64: 0 | M64: 0 | N64: 1102600 | P64: 1102600 | Q64: 1102600 | S64: 1128600 | U64: 1147800 | V64: 1088700 | W64: 1147500 | AB64: 1147500 | AD64: 1147500 | AE64: 1147500 | AF64: 1120400 | AG64: 1088700 | AH64: 1129200 | AI64: 1151500 | AJ64: 1122600 | AK64: 1141800
... B67: 15 | C67: SOPORTE CAJA DIRECCIÓN | D67: 1 | E67: 282400 | F67: 305000 | G67: 278800 | H67: 287200 | I67: 0 | J67: 0 | K67: 0 | L67: 0 | M67: 0 | N67: 290600 | P67: 290600 | Q67: 290600 | S67: 305000 | U67: 306800 | V67: 275200 | W67: 304400 | AB67: 288800 | AD67: 288800 | AE67: 288800 | AF67: 300200 | AG67: 275200 | AH67: 319400 | AI67: 304400 | AJ67: 305000 | AK67: 316400
B68: ITEM | C68: SISTEMA DE TRANSMISIÓN | D68: CANTIDAD
B69: 1 | C69: CAJA DE TRANSMISIÓN MECÁNICA | D69: 1 | E69: 3558600 | F69: 3551500 | G69: 3353800 | H69: 3409000 | I69: 0 | J69: 0 | K69: 0 | L69: 0 | M69: 0 | N69: 3454000 | P69: 3454000 | Q69: 3454000 | S69: 3551500 | U69: 3574000 | V69: 3328900 | W69: 3553900 | AB69: 3448900 | AD69: 3448900 | AE69: 3448900 | AF69: 3519000 | AG69: 3328900 | AH69: 3649000 | AI69: 3559400 | AJ69: 3551500 | AK69: 3639000
B70: 2 | C70: RETENEDOR DE ENTRADA TRASMISIÓN MEC | D70: 1 | E70: 97800 | F70: 104800 | G70: 95600 | H70: 98600 | I70: 0 | J70: 0 | K70: 0 | L70: 0 | M70: 0 | N70: 99400 | P70: 99400 | Q70: 99400 | S70: 104800 | U70: 105200 | V70: 94400 | W70: 104000 | AB70: 98000 | AD70: 98000 | AE70: 98000 | AF70: 103000 | AG70: 94400 | AH70: 110200 | AI70: 104600 | AJ70: 104800 | AK70: 108800
B71: 3 | C71: RETENEDOR DE SALIDA TRANSMISIÓN MEC | D71: 1 | E71: 93400 | F71: 104800 | G71: 95600 | H71: 98600 | I71: 0 | J71: 0 | K71: 0 | L71: 0 | M71: 0 | N71: 99400 | P71: 99400 | Q71: 99400 | S71: 104800 | U71: 105200 | V71: 94400 | W71: 104000 | AB71: 98000 | AD71: 98000 | AE71: 98000 | AF71: 103000 | AG71: 94400 | AH71: 110200 | AI71: 104600 | AJ71: 104800 | AK71: 108800
B72: 4 | C72: RETEN LATERAL CAJA TRANSVERSAL | D72: 1 | E72: 133000 | F72: 149700 | G72: 139300 | H72: 142900 | I72: 0 | J72: 0 | K72: 0 | L72: 0 | M72: 0 | N72: 143700 | P72: 143700 | Q72: 143700 | S72: 149700 | U72: 150100 | V72: 137500 | W72: 148900 | AB72: 142300 | AD72: 142300 | AE72: 142300 | AF72: 147900 | AG72: 137500 | AH72: 153800 | AI72: 148900 | AJ72: 149700 | AK72: 154300
B73: 5 | C73: GUARDAPOLVO BARRA CAMBIOS | D73: 1 | E73: 60800 | F73: 66200 | G73: 58600 | H73: 61000 | I73: 0 | J73: 0 | K73: 0 | L73: 0 | M73: 0 | N73: 62000 | P73: 62000 | Q73: 62000 | S73: 66200 | U73: 66600 | V73: 58000 | W73: 66000 | AB73: 61200 | AD73: 61200 | AE73: 61200 | AF73: 65000 | AG73: 58000 | AH73: 70400 | AI73: 66000 | AJ73: 66200 | AK73: 69600
B74: 6 | C74: JUEGO BUJES PALANCA SELECTORA CAMBIOS. (KIT) | D74: 1 | E74: 117400 | F74: 128700 | G74: 117700 | H74: 121300 | I74: 0 | J74: 0 | K74: 0 | L74: 0 | M74: 0 | N74: 122700 | P74: 122700 | Q74: 122700 | S74: 128700 | U74: 129400 | V74: 115900 | W74: 128200 | AB74: 121600 | AD74: 121600 | AE74: 121600 | AF74: 126900 | AG74: 115900 | AH74: 135300 | AI74: 128200 | AJ74: 128700 | AK74: 133600
B75: 7 | C75: SENSOR VELOCIDAD | D75: 1 | E75: 441600 | F75: 423300 | G75: 396900 | H75: 396900 | I75: 0 | J75: 0 | K75: 0 | L75: 0 | M75: 0 | N75: 410100 | P75: 410100 | Q75: 410100 | S75: 424400 | U75: 431000 | V75: 413400 | W75: 433200 | AB75: 433200 | AD75: 433200 | AE75: 433200 | AF75: 420900 | AG75: 413400 | AH75: 434300 | AI75: 438400 | AJ75: 425600 | AK75: 432200
B76: 8 | C76: GUAYA VELOCÍMETRO | D76: 1 | E76: 156200 | F76: 205750 | G76: 154400 | H76: 198250 | I76: 0 | J76: 0 | K76: 0 | L76: 0 | M76: 0 | N76: 205750 | P76: 205750 | Q76: 205750 | S76: 205750 | U76: 209500 | V76: 152600 | W76: 209500 | AB76: 209500 | AD76: 209500 | AE76: 209500 | AF76: 205750 | AG76: 152600 | AH76: 205750 | AI76: 209500 | AJ76: 205750 | AK76: 209500
B77: 9 | C77: PERA BARRA CAMBIOS | D77: 1 | E77: 176600 | F77: 202900 | G77: 189500 | H77: 189500 | I77: 0 | J77: 0 | K77: 0 | L77: 0 | M77: 0 | N77: 194300 | P77: 194300 | Q77: 194300 | S77: 205200 | U77: 207600 | V77: 202300 | W77: 209500 | AB77: 209500 | AD77: 209500 | AE77: 209500 | AF77: 199700 | AG77: 202300 | AH77: 210300 | AI77: 210300 | AJ77: 198300 | AK77: 200700
B78: 10 | C78: ACEITE CAJA (CUARTO) | D78: 1 | E78: 47400 | F78: 50900 | G78: 47400 | H78: 47400 | I78: 0 | J78: 0 | K78: 0 | L78: 0 | M78: 0 | N78: 50400 | P78: 50400 | Q78: 50400 | S78: 50400 | U78: 51600 | V78: 47400 | W78: 51600 | AB78: 51600 | AD78: 51600 | AE78: 51600 | AF78: 50200 | AG78: 47400 | AH78: 51100 | AI78: 52600 | AJ78: 50400 | AK78: 51600
B79: 11 | C79: GUARDAPOLVO INTERNO SEMI EJE | D79: 1 | E79: 126800 | F79: 123200 | G79: 117700 | H79: 117700 | I79: 0 | J79: 0 | K79: 0 | L79: 0 | M79: 0 | N79: 118900 | P79: 118900 | Q79: 118900 | S79: 124200 | U79: 124800 | V79: 125400 | W79: 127200 | AB79: 127200 | AD79: 127200 | AE79: 127200 | AF79: 123100 | AG79: 125400 | AH79: 126900 | AI79: 127000 | AJ79: 124200 | AK79: 124800
B80: 12 | C80: GUARDAPOLVO EXTERNO SEMI EJE | D80: 1 | E80: 135600 | F80: 122100 | G80: 116900 | H80: 116900 | I80: 0 | J80: 0 | K80: 0 | L80: 0 | M80: 0 | N80: 118100 | P80: 118100 | Q80: 118100 | S80: 123100 | U80: 123700 | V80: 122500 | W80: 124300 | AB80: 124300 | AD80: 124300 | AE80: 124300 | AF80: 123200 | AG80: 122500 | AH80: 125700 | AI80: 124800 | AJ80: 125500 | AK80: 126100
... B84: 16 | C84: RETEN SALIDA TRANSFERENCIA | D84: 1 | E84: 126125 | F84: 149125 | G84: 147375 | H84: 147375 | I84: 0 | J84: 0 | K84: 0 | L84: 0 | M84: 0 | N84: 149125 | P84: 149125 | Q84: 149125 | S84: 149125 | U84: 150125 | V84: 147375 | W84: 150125 | AB84: 150125 | AD84: 150125 | AE84: 150125 | AF84: 149125 | AG84: 147375 | AH84: 149125 | AI84: 150125 | AJ84: 149125 | AK84: 150125
B85: ITEM | C85: SISTEMA DE EMBRAGUE | D85: CANTIDAD
B86: 1 | C86: KIT DE EMBRAGUE | D86: 1 | E86: 1229600 | F86: 1228200 | G86: 1187500 | H86: 1187500 | I86: 0 | J86: 0 | K86: 0 | L86: 0 | M86: 0 | N86: 1239100 | P86: 1239100 | Q86: 1239100 | S86: 1278300 | U86: 1303500 | V86: 1242000 | W86: 1318800 | AB86: 1318800 | AD86: 1318800 | AE86: 1318800 | AF86: 1261900 | AG86: 1242000 | AH86: 1283100 | AI86: 1318400 | AJ86: 1260800 | AK86: 1286000
B87: 2 | C87: BOMBA PRINCIPAL EMBRAGUE | D87: 1 | E87: 521300 | F87: 435300 | G87: 398500 | H87: 411700 | I87: 0 | J87: 0 | K87: 0 | L87: 0 | M87: 0 | N87: 414900 | P87: 414900 | Q87: 414900 | S87: 438300 | U87: 439900 | V87: 392500 | W87: 435100 | AB87: 409900 | AD87: 409900 | AE87: 409900 | AF87: 543600 | AG87: 392500 | AH87: 528000 | AI87: 436300 | AJ87: 549400 | AK87: 559000
B88: 3 | C88: BOMBA AUXILIAR EMBRAGUE | D88: 1 | E88: 415000 | F88: 356900 | G88: 322900 | H88: 334300 | I88: 0 | J88: 0 | K88: 0 | L88: 0 | M88: 0 | N88: 337100 | P88: 337100 | Q88: 337100 | S88: 356900 | U88: 358300 | V88: 318100 | W88: 354100 | AB88: 333100 | AD88: 333100 | AE88: 333100 | AF88: 432300 | AG88: 318100 | AH88: 430100 | AI88: 355300 | AJ88: 436900 | AK88: 438300
B89: 4 | C89: MANGUERA EMBRAGUE | D89: 1 | E89: 128300 | F89: 138900 | G89: 126500 | H89: 130700 | I89: 0 | J89: 0 | K89: 0 | L89: 0 | M89: 0 | N89: 131700 | P89: 131700 | Q89: 131700 | S89: 138900 | U89: 139300 | V89: 124700 | W89: 138100 | AB89: 130300 | AD89: 130300 | AE89: 130300 | AF89: 136500 | AG89: 124700 | AH89: 143100 | AI89: 138100 | AJ89: 138900 | AK89: 144100
B90: 5 | C90: BALI BOMBA EMBRAGUE | D90: 1 | E90: 273300 | F90: 275900 | G90: 261700 | H90: 261700 | I90: 0 | J90: 0 | K90: 0 | L90: 0 | M90: 0 | N90: 268900 | P90: 268900 | Q90: 268900 | S90: 277700 | U90: 281300 | V90: 264800 | W90: 275600 | AB90: 275600 | AD90: 275600 | AE90: 275600 | AF90: 271600 | AG90: 264800 | AH90: 285700 | AI90: 279300 | AJ90: 268700 | AK90: 272300
B91: 6 | C91: HORQUILLA EMBRAGUE | D91: 1 | E91: 248600 | F91: 255600 | G91: 238100 | H91: 238100 | I91: 0 | J91: 0 | K91: 0 | L91: 0 | M91: 0 | N91: 248900 | P91: 248900 | Q91: 248900 | S91: 257300 | U91: 262700 | V91: 242000 | W91: 258200 | AB91: 258200 | AD91: 258200 | AE91: 258200 | AF91: 249100 | AG91: 242000 | AH91: 264100 | AI91: 261300 | AJ91: 243600 | AK91: 249000
B92: 7 | C92: BUJE O RODAMIENTO VOLANTE | D92: 1 | E92: 126000 | F92: 122700 | G92: 115900 | H92: 115900 | I92: 0 | J92: 0 | K92: 0 | L92: 0 | M92: 0 | N92: 119300 | P92: 119300 | Q92: 119300 | S92: 123500 | U92: 125300 | V92: 118800 | W92: 124000 | AB92: 124000 | AD92: 124000 | AE92: 124000 | AF92: 123100 | AG92: 118800 | AH92: 126700 | AI92: 125200 | AJ92: 124400 | AK92: 126200
B93: 8 | C93: GUAYA EMBRAGUE | D93: 1 | E93: 199700 | F93: 207000 | G93: 192700 | H93: 192700 | I93: 0 | J93: 0 | K93: 0 | L93: 0 | M93: 0 | N93: 198700 | P93: 198700 | Q93: 198700 | S93: 209100 | U93: 212100 | V93: 198900 | W93: 207900 | AB93: 207900 | AD93: 207900 | AE93: 207900 | AF93: 201500 | AG93: 198900 | AH93: 208500 | AI93: 211200 | AJ93: 197600 | AK93: 200600
B94: 9 | C94: CREMALLERA VOLANTE | D94: 1 | E94: 537000 | F94: 539600 | G94: 512300 | H94: 512300 | I94: 0 | J94: 0 | K94: 0 | L94: 0 | M94: 0 | N94: 539900 | P94: 539900 | Q94: 539900 | S94: 562300 | U94: 575500 | V94: 530800 | W94: 571600 | AB94: 571600 | AD94: 571600 | AE94: 571600 | AF94: 546300 | AG94: 530800 | AH94: 565600 | AI94: 576500 | AJ94: 538400 | AK94: 551600
B95: ITEM | C95: SISTEMA ELÉCTRICO | D95: CANTIDAD
B96: 1 | C96: COMPUTADOR PRINCIPAL MOTOR | D96: 1 | E96: 3974200 | F96: 4031300 | G96: 3741100 | H96: 3741100 | I96: 0 | J96: 0 | K96: 0 | L96: 0 | M96: 0 | N96: 3891100 | P96: 3891100 | Q96: 3891100 | S96: 4067800 | U96: 4142800 | V96: 3795400 | W96: 4020400 | AB96: 4020400 | AD96: 4020400 | AE96: 4020400 | AF96: 3904700 | AG96: 3795400 | AH96: 4127000 | AI96: 4097000 | AJ96: 3801200 | AK96: 3876200
B97: 2 | C97: ALTERNADOR COMPLETO. | D97: 1 | E97: 1302000 | F97: 1351400 | G97: 1268000 | H97: 1268000 | I97: 0 | J97: 0 | K97: 0 | L97: 0 | M97: 0 | N97: 1322000 | P97: 1322000 | Q97: 1322000 | S97: 1359100 | U97: 1386100 | V97: 1294200 | W97: 1375200 | AB97: 1375200 | AD97: 1375200 | AE97: 1375200 | AF97: 1326800 | AG97: 1294200 | AH97: 1344800 | AI97: 1385200 | AJ97: 1307300 | AK97: 1334300
B98: 3 | C98: PORTA ESCOBILLAS | D98: 1 | E98: 180400 | F98: 183700 | G98: 169400 | H98: 169400 | I98: 0 | J98: 0 | K98: 0 | L98: 0 | M98: 0 | N98: 175400 | P98: 175400 | Q98: 175400 | S98: 185800 | U98: 188200 | V98: 176800 | W98: 185200 | AB98: 185200 | AD98: 185200 | AE98: 185200 | AF98: 181100 | AG98: 176800 | AH98: 197600 | AI98: 188000 | AJ98: 180400 | AK98: 182800
B99: 4 | C99: RODAMIENTO ALTERNADOR | D99: 1 | E99: 122900 | F99: 128300 | G99: 121500 | H99: 123700 | I99: 0 | J99: 0 | K99: 0 | L99: 0 | M99: 0 | N99: 126300 | P99: 126300 | Q99: 126300 | S99: 128300 | U99: 129600 | V99: 117900 | W99: 129200 | AB99: 127000 | AD99: 127000 | AE99: 127000 | AF99: 127700 | AG99: 117900 | AH99: 130500 | AI99: 129200 | AJ99: 128300 | AK99: 131000
B100: 5 | C100: REGULADOR DE VOLTAJE | D100: 1 | E100: 294800 | F100: 299900 | G100: 272100 | H100: 272100 | I100: 0 | J100: 0 | K100: 0 | L100: 0 | M100: 0 | N100: 282900 | P100: 282900 | Q100: 282900 | S100: 304300 | U100: 309700 | V100: 283900 | W100: 300100 | AB100: 300100 | AD100: 300100 | AE100: 300100 | AF100: 281900 | AG100: 283900 | AH100: 309500 | AI100: 307200 | AJ100: 266400 | AK100: 271800
B101: 6 | C101: SENSOR CIGÜEÑAL (CKP) | D101: 1 | E101: 370300 | F101: 366500 | G101: 337700 | H101: 337700 | I101: 0 | J101: 0 | K101: 0 | L101: 0 | M101: 0 | N101: 350900 | P101: 350900 | Q101: 350900 | S101: 370600 | U101: 377200 | V101: 355400 | W101: 375200 | AB101: 375200 | AD101: 375200 | AE101: 375200 | AF101: 367100 | AG101: 355400 | AH101: 381100 | AI101: 379000 | AJ101: 371800 | AK101: 378400
B102: 7 | C102: FAROLA | D102: 1 | E102: 1139700 | F102: 1026700 | G102: 904900 | H102: 904900 | I102: 0 | J102: 0 | K102: 0 | L102: 0 | M102: 0 | N102: 937300 | P102: 937300 | Q102: 937300 | S102: 1049900 | U102: 1066700 | V102: 997700 | W102: 1046900 | AB102: 1046900 | AD102: 1046900 | AE102: 1046900 | AF102: 972500 | AG102: 997700 | AH102: 1108100 | AI102: 1071700 | AJ102: 935700 | AK102: 952500
B103: 8 | C103: SENSOR O PERA FRENO | D103: 1 | E103: 228800 | F103: 235800 | G103: 216100 | H103: 216100 | I103: 0 | J103: 0 | K103: 0 | L103: 0 | M103: 0 | N103: 226900 | P103: 226900 | Q103: 226900 | S103: 238100 | U103: 243500 | V103: 231700 | W103: 247900 | AB103: 247900 | AD103: 247900 | AE103: 247900 | AF103: 231300 | AG103: 231700 | AH103: 241700 | AI103: 247800 | AJ103: 228700 | AK103: 234100
B104: 9 | C104: STOP | D104: 1 | E104: 452100 | F104: 445300 | G104: 414700 | H104: 414700 | I104: 0 | J104: 0 | K104: 0 | L104: 0 | M104: 0 | N104: 425500 | P104: 425500 | Q104: 425500 | S104: 450500 | U104: 455900 | V104: 427300 | W104: 443500 | AB104: 443500 | AD104: 443500 | AE104: 443500 | AF104: 424300 | AG104: 427300 | AH104: 469100 | AI104: 452300 | AJ104: 406200 | AK104: 411600
B105: 10 | C105: ARRANQUE COMPLETO. | D105: 1 | E105: 1281200 | F105: 1331000 | G105: 1251900 | H105: 1251900 | I105: 0 | J105: 0 | K105: 0 | L105: 0 | M105: 0 | N105: 1305900 | P105: 1305900 | Q105: 1305900 | S105: 1337600 | U105: 1364600 | V105: 1275900 | W105: 1356900 | AB105: 1356900 | AD105: 1356900 | AE105: 1356900 | AF105: 1315600 | AG105: 1275900 | AH105: 1339200 | AI105: 1364700 | AJ105: 1305100 | AK105: 1332100
B106: 11 | C106: INDUCIDO | D106: 1 | E106: 326400 | F106: 336200 | G106: 312900 | H106: 312900 | I106: 0 | J106: 0 | K106: 0 | L106: 0 | M106: 0 | N106: 325200 | P106: 325200 | Q106: 325200 | S106: 337900 | U106: 346300 | V106: 323600 | W106: 348800 | AB106: 348800 | AD106: 348800 | AE106: 348800 | AF106: 331100 | AG106: 323600 | AH106: 343800 | AI106: 349000 | AJ106: 309600 | AK106: 311000
B107: 12 | C107: AUTOMÁTICO | D107: 1 | E107: 272800 | F107: 277300 | G107: 260300 | H107: 260300 | I107: 0 | J107: 0 | K107: 0 | L107: 0 | M107: 0 | N107: 271100 | P107: 271100 | Q107: 271100 | S107: 278900 | U107: 284300 | V107: 268900 | W107: 285100 | AB107: 285100 | AD107: 285100 | AE107: 285100 | AF107: 274200 | AG107: 268900 | AH107: 284700 | AI107: 285900 | AJ107: 272500 | AK107: 277900
... B130: 35 | C130: BATERIA | D130: 1 | E130: 800800 | F130: 811200 | G130: 800800 | H130: 805600 | I130: 0 | J130: 0 | K130: 0 | L130: 0 | M130: 0 | N130: 800800 | P130: 819700 | Q130: 812800 | S130: 819700 | U130: 819800 | V130: 818800 | W130: 800800 | AB130: 800800 | AD130: 812800 | AE130: 825300 | AF130: 822500 | AG130: 825800 | AH130: 841400 | AI130: 843700 | AJ130: 822800 | AK130: 828800
B131: ITEM | C131: SISTEMA DE REFRIGERACIÓN Y A/A. | D131: CANTIDAD
B132: 1 | C132: BOMBA DE AGUA Y EMPAQUE | D132: 1 | E132: 617600 | F132: 611200 | G132: 583500 | H132: 583500 | I132: 0 | J132: 0 | K132: 0 | L132: 0 | M132: 0 | N132: 603900 | P132: 603900 | Q132: 603900 | S132: 605400 | U132: 616200 | V132: 594800 | W132: 626000 | AB132: 626000 | AD132: 626000 | AE132: 626000 | AF132: 603800 | AG132: 594800 | AH132: 627800 | AI132: 635700 | AJ132: 610700 | AK132: 621500
B133: 2 | C133: TERMOSTATO | D133: 1 | E133: 219100 | F133: 228600 | G133: 213400 | H133: 213400 | I133: 0 | J133: 0 | K133: 0 | L133: 0 | M133: 0 | N133: 221800 | P133: 221800 | Q133: 221800 | S133: 230300 | U133: 235100 | V133: 218600 | W133: 231800 | AB133: 231800 | AD133: 231800 | AE133: 231800 | AF133: 224200 | AG133: 218600 | AH133: 233100 | AI133: 234400 | AJ133: 221200 | AK133: 226000
B134: 3 | C134: RADIADOR COMPLETO CON TAPA | D134: 1 | E134: 890500 | F134: 922900 | G134: 860000 | H134: 860000 | I134: 0 | J134: 0 | K134: 0 | L134: 0 | M134: 0 | N134: 899600 | P134: 899600 | Q134: 899600 | S134: 929000 | U134: 948200 | V134: 896400 | W134: 955200 | AB134: 955200 | AD134: 955200 | AE134: 955200 | AF134: 907000 | AG134: 896400 | AH134: 947200 | AI134: 956700 | AJ134: 895400 | AK134: 914600
B135: 4 | C135: DEPOSITO RECUPARADOR AGUA CON TAPA | D135: 1 | E135: 260500 | F135: 268200 | G135: 244800 | H135: 244800 | I135: 0 | J135: 0 | K135: 0 | L135: 0 | M135: 0 | N135: 253200 | P135: 253200 | Q135: 253200 | S135: 272100 | U135: 275700 | V135: 264600 | W135: 276600 | AB135: 276600 | AD135: 276600 | AE135: 276600 | AF135: 259200 | AG135: 264600 | AH135: 285500 | AI135: 279000 | AJ135: 253100 | AK135: 256700
B136: 5 | C136: SOPORTE RADIADOR | D136: 1 | E136: 128400 | F136: 136800 | G136: 127200 | H136: 130200 | I136: 0 | J136: 0 | K136: 0 | L136: 0 | M136: 0 | N136: 131400 | P136: 131400 | Q136: 131400 | S136: 136800 | U136: 137400 | V136: 126000 | W136: 136200 | AB136: 130200 | AD136: 130200 | AE136: 130200 | AF136: 135000 | AG136: 126000 | AH136: 142200 | AI136: 136800 | AJ136: 136800 | AK136: 141000
B137: 6 | C137: ENFOCADOR RADIADOR | D137: 1 | E137: 202166.67 | F137: 224000 | G137: 197500 | H137: 207500 | I137: 0 | J137: 0 | K137: 0 | L137: 0 | M137: 0 | N137: 210500 | P137: 210500 | Q137: 210500 | S137: 224000 | U137: 230000 | V137: 192833.33 | W137: 226000 | AB137: 206666.67 | AD137: 206666.67 | AE137: 206666.67 | AF137: 222500 | AG137: 192833.33 | AH137: 228500 | AI137: 227333.33 | AJ137: 224000 | AK137: 233000
B138: 7 | C138: SENSOR O PERA TEMPERATURA | D138: 1 | E138: 219600 | F138: 220600 | G138: 204500 | H138: 204500 | I138: 0 | J138: 0 | K138: 0 | L138: 0 | M138: 0 | N138: 211700 | P138: 211700 | Q138: 211700 | S138: 222900 | U138: 226500 | V138: 210100 | W138: 220900 | AB138: 220900 | AD138: 220900 | AE138: 220900 | AF138: 219200 | AG138: 210100 | AH138: 226000 | AI138: 224900 | AJ138: 220000 | AK138: 223600
B139: 8 | C139: REFRIGERANTE MOTOR (GALON) | D139: 1 | E139: 94300 | F139: 86600 | G139: 78800 | H139: 78800 | I139: 0 | J139: 0 | K139: 0 | L139: 0 | M139: 0 | N139: 80900 | P139: 80900 | Q139: 80900 | S139: 88100 | U139: 88300 | V139: 88900 | W139: 91200 | AB139: 91200 | AD139: 91200 | AE139: 91200 | AF139: 84200 | AG139: 88900 | AH139: 90100 | AI139: 91100 | AJ139: 82900 | AK139: 83100
B140: 9 | C140: FILTRO AIRE ACONDICIONADO | D140: 1 | E140: 117100 | F140: 118400 | G140: 111900 | H140: 111900 | I140: 0 | J140: 0 | K140: 0 | L140: 0 | M140: 0 | N140: 116100 | P140: 116100 | Q140: 116100 | S140: 118100 | U140: 119900 | V140: 118900 | W140: 124900 | AB140: 124900 | AD140: 124900 | AE140: 124900 | AF140: 114600 | AG140: 118900 | AH140: 120200 | AI140: 124800 | AJ140: 112500 | AK140: 114300
B141: 10 | C141: VALVULA HARRISON A/A | D141: 1 | E141: 259100 | F141: 265700 | G141: 258500 | H141: 260300 | I141: 0 | J141: 0 | K141: 0 | L141: 0 | M141: 0 | N141: 262100 | P141: 262100 | Q141: 262100 | S141: 265700 | U141: 266600 | V141: 257300 | W141: 266000 | AB141: 261800 | AD141: 261800 | AE141: 261800 | AF141: 264500 | AG141: 257300 | AH141: 269300 | AI141: 266000 | AJ141: 265700 | AK141: 269000
B142: 11 | C142: MANGUERA RADIADOR SUPERIOR | D142: 1 | E142: 180000 | F142: 186300 | G142: 170300 | H142: 170300 | I142: 0 | J142: 0 | K142: 0 | L142: 0 | M142: 0 | N142: 176300 | P142: 176300 | Q142: 176300 | S142: 188900 | U142: 191300 | V142: 176400 | W142: 184800 | AB142: 184800 | AD142: 184800 | AE142: 184800 | AF142: 181500 | AG142: 176400 | AH142: 191400 | AI142: 189400 | AJ142: 178800 | AK142: 181200
B143: 12 | C143: MANGUERA RADIADOR INFERIOR | D143: 1 | E143: 182100 | F143: 179700 | G143: 163800 | H143: 163800 | I143: 0 | J143: 0 | K143: 0 | L143: 0 | M143: 0 | N143: 169800 | P143: 169800 | Q143: 169800 | S143: 182300 | U143: 184700 | V143: 173000 | W143: 181400 | AB143: 181400 | AD143: 181400 | AE143: 181400 | AF143: 173800 | AG143: 173000 | AH143: 182100 | AI143: 184600 | AJ143: 169800 | AK143: 172200
... B148: 17 | C148: EVAPORADOR DEL A/A. | D148: 1 | E148: 971200 | F148: 1056000 | G148: 956200 | H148: 989800 | I148: 0 | J148: 0 | K148: 0 | L148: 0 | M148: 0 | N148: 997800 | P148: 997800 | Q148: 997800 | S148: 1056000 | U148: 1060000 | V148: 941200 | W148: 1048000 | AB148: 985000 | AD148: 985000 | AE148: 985000 | AF148: 1036800 | AG148: 941200 | AH148: 1114800 | AI148: 1051000 | AJ148: 1056000 | AK148: 1099000
B149: ITEM | C149: SISTEMA DE ALIMENTACIÓN | D149: CANTIDAD
...

Sheet CAMIÓNES - 2026
B2: PROPUESTA CAMIÓNES | E2: =+'AUTOMOVILES - 2026'!E2 -> REPUESTOS AUTOMOTORES MULTIMARCA (REPUESTOS) MANTENIMIENTO CORRECTIVO *** Incluye Costos Directos e Indirectos
B4: DESCRIPCION | E4: JAC HFC1035KN | F4: JAC SZS | G4: CHEVROLET NQR | H4: JMC JX1044TC4
B5: MODELO | E5: 2023 | F5: 2022 | G5: 2014 | H5: 2023
B6: UNIDAD | E6: 1 | F6: 1 | G6: 1 | H6: 1
E7: VALOR TOTAL INCLUIDO IVA | F7: VALOR TOTAL INCLUIDO IVA | G7: VALOR TOTAL INCLUIDO IVA | H7: VALOR TOTAL INCLUIDO IVA
B8: ITEM | C8: SISTEMA DE FRENOS | D8: CANTIDAD
B9: 1 | C9: JUEGO DE PASTILLAS DELANTERAS | D9: 1 | E9: 527333.33 | F9: 507333.33 | G9: 932000 | H9: 534000
B10: 2 | C10: JUEGO DE DISCOS DELANTEROS | D10: 1 | E10: 1194333.3 | F10: 1081000 | G10: 1738500 | H10: 1193500
B11: 3 | C11: PISTÓN MORDAZA | D11: 1 | E11: 750666.67 | F11: 667000 | G11: 740000 | H11: 675333.33
B12: 4 | C12: MORDAZA Y SU PASADOR | D12: 1 | E12: 1169333.3 | F12: 1132666.7 | G12: 1266333.3 | H12: 1142666.7
B13: 5 | C13: JUEGO EMPAQUETADURTA LIGAS CALÍPER | D13: 1 | E13: 247000 | F13: 233000 | G13: 171000 | H13: 250333.33
B14: 6 | C14: BOMBA DE FRENO | D14: 1 | E14: 1012900 | F14: 970900 | G14: 832000 | H14: 1022900
B15: 7 | C15: DEPOSITO BOMBA DE FRENOS | D15: 1 | E15: 285100 | F15: 276100 | G15: 268300 | H15: 285100
B16: 8 | C16: SERVO FRENO (BOOSTER) | D16: 1 | E16: 1593400 | F16: 1535400 | G16: 1517500 | H16: 1524400
B17: 9 | C17: MANGUERA FRENO | D17: 1 | E17: 308800 | F17: 296800 | G17: 288900 | H17: 308800
B18: 10 | C18: LIMPIADOR DE FRENOS 500 ml | D18: 1 | E18: 92200 | F18: 92200 | G18: 71700 | H18: 92200
B19: 11 | C19: SENSOR ABS RUEDA | D19: 1 | E19: 992333.33 | F19: 979000 | G19: 913666.67 | H19: 1015666.7
B20: 12 | C20: JUEGO BANDAS TRASERAS | D20: 1 | E20: 623900 | F20: 599900 | G20: 650300 | H20: 619900
... B25: 17 | C25: GRADUACION FRENO | D25: 1 | E25: 128100 | F25: 141700 | G25: 99300 | H25: 142100
B26: ITEM | C26: SISTEMA DE SUSPENSIÓN | D26: CANTIDAD
B27: 1 | C27: JUEGO AMORTIGUADORES DELANTEROS | D27: 1 | E27: 1590100 | F27: 1709100 | G27: 1726100 | H27: 1626100
B28: 2 | C28: BUJE TIJERA INFERIOR | D28: 1 | E28: 493666.67 | F28: 462000 | G28: 483000 | H28: 493666.67
B29: 3 | C29: BUJE TIJERA SUPERIOR | D29: 1 | E29: 507000 | F29: 480000 | G29: 496333.33 | H29: 501666.67
B30: 4 | C30: ROTULA INFERIOR | D30: 1 | E30: 790000 | F30: 735000 | G30: 787000 | H30: 768333.33
B31: 5 | C31: ROTULA SUPERIOR | D31: 1 | E31: 787333.33 | F31: 757333.33 | G31: 782333.33 | H31: 790666.67
B32: 6 | C32: MUÑECO BARRA ESTABILIZADORA | D32: 1 | E32: 697333.33 | F32: 707333.33 | G32: 744333.33 | H32: 697333.33
B33: 7 | C33: JUEGO DE BUJES BARRA ESTABILIZADORA | D33: 1 | E33: 375666.67 | F33: 376333.33 | G33: 296333.33 | H33: 375666.67
B34: 8 | C34: TIJERA INFERIOR DELANTERA | D34: 1 | E34: 2001666.7 | F34: 1980000 | G34: 2058333.3 | H34: 2001666.7
B35: 9 | C35: TIJERA SUPERIOR DELANTERA | D35: 1 | E35: 2131666.7 | F35: 2045000 | G35: 2108333.3 | H35: 2131666.7
B36: 10 | C36: JUEGO SOPORTES AMORTIGUADORES DEL,CON RODAMIENTOS | D36: 1 | E36: 848000 | F36: 826333.33 | G36: 792000 | H36: 848000
B37: 11 | C37: BARRA ESTABILIZADORA DELANTERA | D37: 1 | E37: 1501400 | F37: 1479400 | G37: 1243000 | H37: 1523400
B38: 12 | C38: RODAMIENTO DELANTERO | D38: 1 | E38: 734300 | F38: 709100 | G38: 694700 | H38: 750300
... B50: 24 | C50: RODAMIENTO TRASERO | D50: 1 | E50: 800100 | F50: 769900 | G50: 691900 | H50: 794100
B51: ITEM | C51: SISTEMA DE DIRECCIÓN | D51: CANTIDAD
B52: 1 | C52: CAJA DIRECCCION | D52: 1 | E52: 5031500 | F52: 4725500 | G52: 4978300 | H52: 5071500
B53: 2 | C53: EMPAQUETADURA CAJA DIRECCIÓN | D53: 1 | E53: 1095400 | F53: 1072400 | G53: 1152200 | H53: 1122500
B54: 3 | C54: BIELA DIRECCIÓN | D54: 1 | E54: 813000 | F54: 786000 | G54: NA | H54: NA
B55: 4 | C55: JUEGO GUARDAPOLVOS CAJA DE DIRECCIÓN | D55: 1 | E55: 396000 | F55: 392667.33 | G55: 433334.67 | H55: 396002
B56: 5 | C56: TERMINAL DE DIRECCIÓN | D56: 1 | E56: 639700 | F56: 623700 | G56: 662500 | H56: 647700
B57: 6 | C57: ACEITE HIDRAULICO DIRECCION (CUARTO) | D57: 1 | E57: 55200 | F57: 54200.1 | G57: 58601.2 | H57: 55200.3
B58: 7 | C58: CORREA BOMBA DIRECCION | D58: 1 | E58: 312900 | F58: 297400 | G58: 273000 | H58: 306400
B59: 8 | C59: DEPOSITO BOMBA DIRECCION | D59: 1 | E59: 355300 | F59: 352300 | G59: 329500 | H59: 355300.3
B60: 9 | C60: BRAZO COMPENSADOR | D60: 1 | E60: 554666.67 | F60: 551333.33 | G60: 523667 | H60: 538000
B61: 10 | C61: BRAZO AXIAL | D61: 1 | E61: 868333.33 | F61: 858333.33 | G61: 978666.67 | H61: 868333.33
B62: 11 | C62: GUARDAPOLVO BRAZO AXIAL | D62: 1 | E62: 180666.67 | F62: 177333.5 | G62: 188668 | H62: 180667.17
B63: 12 | C63: BARRA TRANSVERSAL DIRECCIÓN | D63: 1 | E63: 885400 | F63: 837400 | G63: 633600 | H63: 885400.3
B64: 13 | C64: BOMBA HIDRÁULICO DIRECCIÓN | D64: 1 | E64: 1830600 | F64: 1772600 | G64: 1994300 | H64: 1830600.3
B65: 14 | C65: EMPAQUETADURA BOMBA DIRECCIÓN | D65: 1 | E65: 642800 | F65: 611800 | G65: 655200 | H65: 642800.3
B66: 15 | C66: MANGUERA BOMBA DIRECCIÓN HIDRÁULICA | D66: 1 | E66: 655500 | F66: 630500 | G66: 621700 | H66: 655501.8
B67: 16 | C67: SOPORTE CAJA DIRECCIÓN | D67: 1 | E67: 1132333.3 | F67: 1059000 | G67: 982666.67 | H67: 1105666.7
B68: ITEM | C68: SISTEMA DE TRANSMISIÓN | D68: CANTIDAD
B69: 1 | C69: CAJA DE TRANSMISIÓN MECÁNICA | D69: 1 | E69: 7383400 | F69: 6946400 | G69: 7406000 | H69: 7363400
B70: 2 | C70: RETENEDOR DE ENTRADA TRASMISIÓN MEC | D70: 1 | E70: 235600 | F70: 233600 | G70: 231700 | H70: 235600
B71: 3 | C71: RETENEDOR DE SALIDA TRANSMISIÓN MEC | D71: 1 | E71: 222700 | F71: 220700 | G71: 196900 | H71: 222700
B72: 4 | C72: RETEN LATERAL CAJA TRANSVERSAL | D72: 1 | E72: 226800 | F72: 223800 | G72: 217500 | H72: 226800
B73: 5 | C73: GUARDAPOLVO BARRA CAMBIOS | D73: 1 | E73: 183700 | F73: 181700 | G73: 177500 | H73: 183700
B74: 6 | C74: JUEGO BUJES PALANCA SELECTORA CAMBIOS. (KIT) | D74: 1 | E74: 268700 | F74: 279700 | G74: 246100 | H74: 290700
B75: 7 | C75: SENSOR VELOCIDAD | D75: 1 | E75: 685400 | F75: 627200 | G75: 627200 | H75: 673400
B76: 8 | C76: GUAYA VELOCÍMETRO | D76: 1 | E76: 345000 | F76: 326875 | G76: 313750 | H76: 346875
B77: 9 | C77: CARDAN DELANTERO | D77: 1 | E77: 2101500 | F77: 1797750 | G77: 1870250 | H77: 1851500
B78: 10 | C78: CARDAN TRASERO | D78: 1 | E78: 2054200 | F78: 1918700 | G78: 2035200 | H78: 2034200
B79: 11 | C79: CRUCETA CARDAN (UNIDAD) | D79: 1 | E79: 419000 | F79: 416000 | G79: 255500 | H79: 419000
B80: 12 | C80: SOPORTE CENTRAL CARDAN | D80: 1 | E80: 468500 | F80: 463500 | G80: 468500 | H80: 468500
... B89: 21 | C89: RETENEDOR SPEED | D89: 1 | E89: 200500 | F89: 204500 | G89: 225100 | H89: 206500
B90: ITEM | C90: SISTEMA DE EMBRAGUE | D90: CANTIDAD
B91: 1 | C91: KIT DE EMBRAGUE | D91: 1 | E91: 2777800 | F91: 2705800 | G91: 2634100 | H91: 2767800
B92: 2 | C92: BOMBA PRINCIPAL EMBRAGUE | D92: 1 | E92: 1429800 | F92: 1442800 | G92: 1507400 | H92: 1531800
B93: 3 | C93: BOMBA AUXILIAR EMBRAGUE | D93: 1 | E93: 917800 | F93: 828800 | G93: 946700 | H93: 917800
B94: 4 | C94: MANGUERA EMBRAGUE | D94: 1 | E94: 408300 | F94: 396300 | G94: 334800 | H94: 408300
B95: 5 | C95: BALI BOMBA EMBRAGUE | D95: 1 | E95: 596000 | F95: 547666.67 | G95: 568666.67 | H95: 576000
B96: 6 | C96: HORQUILLA EMBRAGUE | D96: 1 | E96: 467700 | F96: 453700 | G96: 481900 | H96: 470700
B97: 7 | C97: BUJE O RODAMIENTO VOLANTE | D97: 1 | E97: 214000 | F97: 209000 | G97: 235200 | H97: 214000
B98: 8 | C98: GUAYA EMBRAGUE | D98: 1 | E98: 787500 | F98: 722500 | G98: 714000 | H98: 765000
B99: 9 | C99: CREMALLERA VOLANTE | D99: 1 | E99: 573400 | F99: 585600 | G99: 567500 | H99: 572200
B100: ITEM | C100: SISTEMA ELÉCTRICO | D100: CANTIDAD
B101: 1 | C101: COMPUTADOR PRINCIPAL MOTOR | D101: 1 | E101: 6889700 | F101: 6659700 | G101: 6638000 | H101: 7439700
B102: 2 | C102: ALTERNADOR COMPLETO. | D102: 1 | E102: 2573400 | F102: 2185400 | G102: 2396700 | H102: 2503400
B103: 3 | C103: PORTA ESCOBILLAS | D103: 1 | E103: 268100 | F103: 256100 | G103: 260100 | H103: 277100
B104: 4 | C104: RODAMIENTO ALTERNADOR | D104: 1 | E104: 257500 | F104: 252500 | G104: 266700 | H104: 253500
B105: 5 | C105: REGULADOR DE VOLTAJE | D105: 1 | E105: 425600 | F105: 422600 | G105: 389300 | H105: 431700
B106: 6 | C106: SENSOR CIGÜEÑAL (CKP) | D106: 1 | E106: 685600 | F106: 655600 | G106: 655200 | H106: 679600
B107: 7 | C107: FAROLA | D107: 1 | E107: 1158100 | F107: 1147100 | G107: 1192100 | H107: 1158100
B108: 8 | C108: SENSOR O PERA FRENO | D108: 1 | E108: 336200 | F108: 331200 | G108: 342700 | H108: 332200
B109: 9 | C109: STOP | D109: 1 | E109: 632500 | F109: 614500 | G109: 531400 | H109: 641500
B110: 10 | C110: ARRANQUE COMPLETO. | D110: 1 | E110: 2173800 | F110: 2155800 | G110: 2317900 | H110: 2257800
B111: 11 | C111: INDUCIDO | D111: 1 | E111: 464900 | F111: 459900 | G111: 481000 | H111: 464900
B112: 12 | C112: AUTOMÁTICO | D112: 1 | E112: 447000 | F112: 429000 | G112: 404800 | H112: 447000
... B135: 35 | C135: BATERIA | D135: 1 | E135: 1022700 | F135: 1040700 | G135: 1050800 | H135: 1039500
B136: ITEM | C136: SISTEMA DE REFRIGERACIÓN Y A/A. | D136: CANTIDAD
B137: 1 | C137: BOMBA DE AGUA Y EMPAQUE | D137: 1 | E137: 1128900 | F137: 1121900 | G137: 1196000 | H137: 1158900
B138: 2 | C138: TERMOSTATO | D138: 1 | E138: 441600 | F138: 438600 | G138: 425100 | H138: 399600
B139: 3 | C139: RADIADOR COMPLETO CON TAPA | D139: 1 | E139: 1796700 | F139: 1718700 | G139: 1849600 | H139: 1826700
B140: 4 | C140: DEPOSITO RECUPARADOR AGUA CON TAPA | D140: 1 | E140: 410700 | F140: 408700 | G140: 421300 | H140: 410700
B141: 5 | C141: SOPORTE RADIADOR | D141: 1 | E141: 324500 | F141: 311500 | G141: 293300 | H141: 324100
B142: 6 | C142: ENFOCADOR RADIADOR | D142: 1 | E142: 699500 | F142: 686500 | G142: 728800 | H142: 801500
B143: 7 | C143: SENSOR O PERA TEMPERATURA | D143: 1 | E143: 334500 | F143: 329500 | G143: 350200 | H143: 347700
B144: 8 | C144: REFRIGERANTE MOTOR (GALON) | D144: 1 | E144: 81200 | F144: 80200 | G144: 81600 | H144: 81200
B145: 9 | C145: FILTRO AIRE ACONDICIONADO | D145: 1 | E145: 145300 | F145: 143300 | G145: 139500 | H145: 152500
B146: 10 | C146: VALVULA HARRISON A/A | D146: 1 | E146: 622100 | F146: 616100 | G146: 322000 | H146: 319700
B147: 11 | C147: MANGUERA RADIADOR SUPERIOR | D147: 1 | E147: 311800 | F147: 299800 | G147: 291000 | H147: 318800
...

Sheet CAMIONETAS - 2026
B2: PROPUESTA CAMIONETAS | E2: =+'AUTOMOVILES - 2026'!$E$2 -> REPUESTOS AUTOMOTORES MULTIMARCA (REPUESTOS) MANTENIMIENTO CORRECTIVO *** Incluye Costos Directos e Indirectos | T2: =+E2 -> REPUESTOS AUTOMOTORES MULTIMARCA (REPUESTOS) MANTENIMIENTO CORRECTIVO *** Incluye Costos Directos e Indirectos | AK2: =+T2 -> REPUESTOS AUTOMOTORES MULTIMARCA (REPUESTOS) MANTENIMIENTO CORRECTIVO *** Incluye Costos Directos e Indirectos | BB2: =+AK2 -> REPUESTOS AUTOMOTORES MULTIMARCA (REPUESTOS) MANTENIMIENTO CORRECTIVO *** Incluye Costos Directos e Indirectos | BU2: =+BB2 -> REPUESTOS AUTOMOTORES MULTIMARCA (REPUESTOS) MANTENIMIENTO CORRECTIVO *** Incluye Costos Directos e Indirectos | CC2: =+BU2 -> REPUESTOS AUTOMOTORES MULTIMARCA (REPUESTOS) MANTENIMIENTO CORRECTIVO *** Incluye Costos Directos e Indirectos
B4: DESCRIPCION | E4: CHEVROLET LUV TFR | F4: CHEVROLET N300 | G4: CHEVROLET TRACKER | I4: CHEVROLET NHR | K4: CHEVROLET COLORADO | O4: CHEVROLET LUV D MAX | T4: CHEVROLET LUV | Z4: CHEVROLET D-MAX | AJ4: RENAULT ALASKAN | AK4: RENAULT MASTER | AL4: RENAULT NEW KOLEOS | AM4: RENAULT OROCH | AO4: RENAULT DYNAMIQUE | AQ4: RENAULT DUSTER | AU4: MAZDA BT - 50 | AX4: NISSAN NP300FRONTIER | BB4: NISSAN FRONTIER D22/NP300 | BE4: NISSAN NAVARA | BI4: TOYOTA PRADO 5P | BL4: TOYOTA HILUX | BU4: TOYOTA FORTUNER | BV4: MITSUBISHI DR 346 | BW4: MITSUBISHI OUTLANDER | BX4: MITSUBISHI SPORTERO | BY4: HYUNDAI H1 | BZ4: HYUNDAI TUCSON i35 | CA4: DODGE RAM 2500 | CB4: HYUNDAI ACCENT | CC4: DODGE JOURNEY | CD4: FORD RANGER | CE4: HYUNDAI ACCENT | CF4: UAZ PICKUP | CG4: KIA DR 371 | CH4: KIA NEW SPORTAGE | CI4: VOLKSWAGEN TRANSPORTER | CJ4: CHERY XCROSS
B5: MODELO | E5: 1995 | F5: 2013 | G5: 2017 | H5: 2025 | I5: 2016 | J5: 2017 | K5: 2022 | L5: 2023 | M5: 2025 | N5: 2026 | O5: 2007 | P5: 2009 | Q5: 2010 | R5: 2011 | S5: 2013 | T5: 2008 | U5: 2010 | V5: 2011 | W5: 2014 | X5: 2015 | Y5: 2016 | Z5: 2008 | AA5: 2009 | AB5: 2010 | AC5: 2011 | AD5: 2012 | AE5: 2013 | AF5: 2014 | AG5: 2015 | AH5: 2016 | AI5: 2017 | AJ5: 2017 | AK5: 2018 | AL5: 2020 | AM5: 2017 | AN5: 2020 | AO5: 2013 | AP5: 2016 | AQ5: 2017 | AR5: 2019 | AS5: 2020 | AT5: 2024 | AU5: 2009 | AV5: 2011 | AW5: 2013 | AX5: 2018 | AY5: 2020 | AZ5: 2022 | BA5: 2027 | BB5: 2012 | BC5: 2013 | BD5: 2016 | BE5: 2012 | BF5: 2013 | BG5: 2014 | BH5: 2015 | BI5: 2008 | BJ5: 2009 | BK5: 2015 | BL5: 2005 | BM5: 2008 | BN5: 2009 | BO5: 2014 | BP5: 2015 | BQ5: 2019 | BR5: 2020 | BS5: 2023 | BT5: 2026 | BU5: 2023 | BV5: 2013 | BW5: 2014 | BX5: 2019 | BY5: 2016 | BZ5: 2015 | CA5: 2014 | CB5: 2022 | CC5: 2018 | CD5: 2022 | CE5: 2023 | CF5: 2020 | CG5: 2016 | CH5: 2011 | CI5: 2017 | CJ5: 2015
B6: UNIDAD | E6: 1 | F6: 2 | G6: 1 | H6: 4 | I6: 1 | J6: 1 | K6: 1 | L6: 1 | M6: 2 | N6: 1 | O6: 1 | P6: 4 | Q6: 2 | R6: 3 | S6: 1 | T6: 3 | U6: 1 | V6: 2 | W6: 6 | X6: 4 | Y6: 4 | Z6: 1 | AA6: 1 | AB6: 1 | AC6: 1 | AD6: 2 | AE6: 2 | AF6: 1 | AG6: 4 | AH6: 6 | AI6: 5 | AJ6: 1 | AK6: 2 | AL6: 2 | AM6: 1 | AN6: 1 | AO6: 1 | AP6: 5 | AQ6: 4 | AR6: 2 | AS6: 1 | AT6: 2 | AU6: 1 | AV6: 1 | AW6: 1 | AX6: 1 | AY6: 2 | AZ6: 1 | BA6: 1 | BB6: 18 | BC6: 1 | BD6: 1 | BE6: 1 | BF6: 2 | BG6: 6 | BH6: 1 | BI6: 1 | BJ6: 1 | BK6: 1 | BL6: 1 | BM6: 1 | BN6: 1 | BO6: 1 | BP6: 3 | BQ6: 1 | BR6: 3 | BS6: 2 | BT6: 1 | BU6: 2 | BV6: 1 | BW6: 1 | BX6: 1 | BY6: 1 | BZ6: 2 | CA6: 1 | CB6: 1 | CC6: 1 | CD6: 1 | CE6: 2 | CF6: 1 | CG6: 1 | CH6: 1 | CI6: 1 | CJ6: 1
E7: VALOR TOTAL INCLUIDO IVA | F7: VALOR TOTAL INCLUIDO IVA | G7: VALOR TOTAL INCLUIDO IVA | I7: VALOR TOTAL INCLUIDO IVA | K7: VALOR TOTAL INCLUIDO IVA | O7: VALOR TOTAL INCLUIDO IVA | T7: VALOR TOTAL INCLUIDO IVA | Z7: VALOR TOTAL INCLUIDO IVA | AJ7: VALOR TOTAL INCLUIDO IVA | AK7: VALOR TOTAL INCLUIDO IVA | AL7: VALOR TOTAL INCLUIDO IVA | AM7: VALOR TOTAL INCLUIDO IVA | AO7: VALOR TOTAL INCLUIDO IVA | AQ7: VALOR TOTAL INCLUIDO IVA | AU7: VALOR TOTAL INCLUIDO IVA | AX7: VALOR TOTAL INCLUIDO IVA | BB7: VALOR TOTAL INCLUIDO IVA | BE7: VALOR TOTAL INCLUIDO IVA | BI7: VALOR TOTAL INCLUIDO IVA | BL7: VALOR TOTAL INCLUIDO IVA | BU7: VALOR TOTAL INCLUIDO IVA | BV7: VALOR TOTAL INCLUIDO IVA | BW7: VALOR TOTAL INCLUIDO IVA | BX7: VALOR TOTAL INCLUIDO IVA | BY7: VALOR TOTAL INCLUIDO IVA | BZ7: VALOR TOTAL INCLUIDO IVA | CA7: VALOR TOTAL INCLUIDO IVA | CC7: VALOR TOTAL INCLUIDO IVA | CD7: VALOR TOTAL INCLUIDO IVA | CF7: VALOR TOTAL INCLUIDO IVA | CG7: VALOR TOTAL INCLUIDO IVA | CH7: VALOR TOTAL INCLUIDO IVA | CI7: VALOR TOTAL INCLUIDO IVA | CJ7: VALOR TOTAL INCLUIDO IVA
B8: ITEM | C8: SISTEMA DE FRENOS | D8: CANTIDAD
B9: 1 | C9: JUEGO DE PASTILLAS DELANTERAS | D9: 1 | E9: 408600 | F9: 421400 | G9: 414600 | I9: 294750 | K9: 406333.33 | O9: 324667.33 | T9: 319666.67 | Z9: 348000 | AJ9: 410200 | AK9: 410800 | AL9: 376000 | AM9: 366166.67 | AO9: 351500 | AP9: 0 | AQ9: 369750 | AU9: 326333.33 | AX9: 355666.67 | BB9: 365666.67 | BE9: 370666.67 | BI9: 438000 | BL9: 389666.67 | BU9: 503000 | BV9: 374000 | BW9: 382333.33 | BX9: 399666.67 | BY9: 378666.67 | BZ9: 367000 | CA9: 365666.67 | CC9: 387000 | CD9: 406333.33 | CF9: 541333.33 | CG9: 382000 | CH9: 382333.33 | CI9: 515333.33 | CJ9: 383666.67
B10: 2 | C10: JUEGO DE DISCOS DELANTEROS | D10: 1 | E10: 909200 | F10: 884600 | G10: 862000 | I10: 624000 | K10: 780000 | O10: 689430.67 | T10: 649666.67 | Z10: 724666.67 | AJ10: 873800 | AK10: 904000 | AL10: 796666.67 | AM10: 728000 | AO10: 713333.33 | AP10: 0 | AQ10: 744000 | AU10: 688000 | AX10: 768000 | BB10: 740000 | BE10: 713333.83 | BI10: 724666.67 | BL10: 724666.67 | BU10: 825333.33 | BV10: 753333.33 | BW10: 753333.33 | BX10: 760000 | BY10: 731333.33 | BZ10: 768000 | CA10: 713333.33 | CC10: 768000 | CD10: 756666.67 | CF10: 796666.67 | CG10: 768000 | CH10: 740000 | CI10: 754666.83 | CJ10: 754667
B11: 3 | C11: PISTÓN MORDAZA | D11: 1 | E11: 272000 | F11: 304200 | G11: 272300 | I11: 358500 | K11: 387333.33 | O11: 736760.83 | T11: 331333.33 | Z11: 331333.33 | AJ11: 305900 | AK11: 320300 | AL11: 387333.33 | AM11: 365333.33 | AO11: 354000 | AP11: 0 | AQ11: 365333.33 | AU11: 331333.33 | AX11: 365333.33 | BB11: 354000 | BE11: 354000 | BI11: 331333.33 | BL11: 331333.33 | BU11: 410000 | BV11: 354000 | BW11: 354000 | BX11: 387333.33 | BY11: 365333.33 | BZ11: 365333.33 | CA11: 354000 | CC11: 365333.33 | CD11: 387333.33 | CF11: 387333.33 | CG11: 365333.33 | CH11: 354000 | CI11: 365333.33 | CJ11: 365333.33
B12: 4 | C12: MORDAZA Y SU PASADOR | D12: 1 | E12: 2320200 | F12: 1896000 | G12: 1697600 | I12: 903500 | K12: 1314000 | O12: 1258000 | T12: 1024666.7 | Z12: 1258000 | AJ12: 2099200 | AK12: 2099200 | AL12: 1314000 | AM12: 1292000 | AO12: 1280666.7 | AP12: 0 | AQ12: 1292000 | AU12: 1258000 | AX12: 1292000 | BB12: 1280666.7 | BE12: 1280666.7 | BI12: 1258000 | BL12: 1258000 | BU12: 1336666.7 | BV12: 1280666.7 | BW12: 1280666.7 | BX12: 1314000 | BY12: 1292000 | BZ12: 1292000 | CA12: 1280666.7 | CC12: 1292000 | CD12: 1314000 | CF12: 1314000 | CG12: 1292000 | CH12: 1280666.7 | CI12: 1292000 | CJ12: 1292000
B13: 5 | C13: JUEGO EMPAQUETADURTA LIGAS CALÍPER | D13: 1 | E13: 244300 | F13: 276100 | G13: 253500 | I13: 151500 | K13: 171000 | O13: 150333.33 | T13: 150333.33 | Z13: 150333.33 | AJ13: 215500 | AK13: 215500 | AL13: 171000 | AM13: 163000 | AO13: 158333.33 | AP13: 0 | AQ13: 163000 | AU13: 150333.33 | AX13: 163000 | BB13: 158333.33 | BE13: 158333.33 | BI13: 150333.33 | BL13: 150333.33 | BU13: 179000 | BV13: 158333.33 | BW13: 158333.33 | BX13: 171000 | BY13: 163000 | BZ13: 163000 | CA13: 158333.33 | CC13: 163000 | CD13: 171000 | CF13: 171000 | CG13: 163000 | CH13: 158333.33 | CI13: 163000 | CJ13: 163000
B14: 6 | C14: BOMBA DE FRENO | D14: 1 | E14: 660800 | F14: 658000 | G14: 659300 | I14: 684955.5 | K14: 655166.67 | O14: 929692.5 | T14: 551500 | Z14: 594833.33 | AJ14: 715038.7 | AK14: 715038.7 | AL14: 671833.33 | AM14: 621166.67 | AO14: 603833.33 | AP14: 0 | AQ14: 621166.67 | AU14: 563166.67 | AX14: 621166.67 | BB14: 592166.67 | BE14: 603833.33 | BI14: 549833.33 | BL14: 558166.67 | BU14: 772661.17 | BV14: 620500 | BW14: 671406.17 | BX14: 730704.5 | BY14: 666539.83 | BZ14: 637833.33 | CA14: 603833.33 | CC14: 637833.33 | CD14: 655166.67 | CF14: 735069.5 | CG14: 637833.33 | CH14: 595500 | CI14: 612833.5 | CJ14: 612833.67
B15: 7 | C15: DEPOSITO BOMBA DE FRENOS | D15: 1 | E15: 175900 | F15: 189400 | G15: 182400 | I15: 244500 | K15: 248000 | O15: 226666.67 | T15: 226666.67 | Z15: 226666.67 | AJ15: 192000 | AK15: 196200 | AL15: 248000 | AM15: 239500 | AO15: 235166.67 | AP15: 0 | AQ15: 239500 | AU15: 226666.67 | AX15: 239500 | BB15: 235166.67 | BE15: 235166.67 | BI15: 226666.67 | BL15: 226666.67 | BU15: 256666.67 | BV15: 235166.67 | BW15: 235166.67 | BX15: 248000 | BY15: 239500 | BZ15: 239500 | CA15: 235166.67 | CC15: 239500 | CD15: 248000 | CF15: 248000 | CG15: 239500 | CH15: 235166.67 | CI15: 239500 | CJ15: 239500
B16: 8 | C16: SERVO FRENO (BOOSTER) | D16: 1 | E16: 1033300 | F16: 1080200 | G16: 1070300 | I16: 961333.33 | K16: 1025833.3 | O16: 1196402.3 | T16: 829333.33 | Z16: 932333.33 | AJ16: 1097600 | AK16: 1097600 | AL16: 1025833.3 | AM16: 1011333.3 | AO16: 991000 | AP16: 0 | AQ16: 1011333.3 | AU16: 932333.33 | AX16: 1011333.3 | BB16: 991000 | BE16: 991000 | BI16: 932333.33 | BL16: 932333.33 | BU16: 1040500 | BV16: 991000 | BW16: 991000 | BX16: 1025833.3 | BY16: 1011333.3 | BZ16: 1011333.3 | CA16: 991000 | CC16: 1011333.3 | CD16: 1025833.3 | CF16: 1025833.3 | CG16: 1011333.3 | CH16: 991000 | CI16: 1011333.3 | CJ16: 1011333.3
B17: 9 | C17: MANGUERA FRENO | D17: 1 | E17: 179400 | F17: 175354.6 | G17: 174350.6 | I17: 198459.17 | K17: 169757.67 | O17: 193333 | T17: 153333.33 | Z17: 149091 | AJ17: 173554.6 | AK17: 173554.6 | AL17: 169757.67 | AM17: 161757.67 | AO17: 157091 | AP17: 0 | AQ17: 161757.67 | AU17: 149091 | AX17: 161757.67 | BB17: 162626 | BE17: 157091 | BI17: 157281 | BL17: 159801 | BU17: 188467.67 | BV17: 157091 | BW17: 162626 | BX17: 177947.67 | BY17: 161736.5 | BZ17: 161757.67 | CA17: 157091 | CC17: 161757.67 | CD17: 169757.67 | CF17: 179522.67 | CG17: 161757.67 | CH17: 165641 | CI17: 169947.67 | CJ17: 166077.67
B18: 10 | C18: LIMPIADOR DE FRENOS 500 ml | D18: 1 | E18: 47600 | F18: 51100 | G18: 47700 | I18: 52666.667 | K18: 65500 | O18: 45122.667 | T18: 57500 | Z18: 57500 | AJ18: 51300 | AK18: 53100 | AL18: 65500 | AM18: 62166.667 | AO18: 60833.333 | AP18: 0 | AQ18: 62166.667 | AU18: 57500 | AX18: 62166.667 | BB18: 60833.333 | BE18: 60833.333 | BI18: 57500 | BL18: 57500 | BU18: 68833.333 | BV18: 60833.333 | BW18: 60833.333 | BX18: 65500 | BY18: 62166.667 | BZ18: 62166.667 | CA18: 60833.333 | CC18: 62166.667 | CD18: 65500 | CF18: 65500 | CG18: 62166.667 | CH18: 60833.333 | CI18: 62166.667 | CJ18: 62166.667
B19: 11 | C19: SENSOR ABS RUEDA | D19: 1 | E19: 467600 | F19: 498100 | G19: 469300 | I19: 524250 | K19: 696000 | O19: N/A | T19: 610500 | Z19: 587000 | AJ19: 500500 | AK19: 513700 | AL19: 665666.67 | AM19: 634333.33 | AO19: 618333.33 | AP19: 0 | AQ19: 634333.33 | AU19: 587000 | AX19: 634333.33 | BB19: 618333.33 | BE19: 618333.33 | BI19: 587000 | BL19: 587000 | BU19: 697000 | BV19: 618333.33 | BW19: 618333.33 | BX19: 665666.67 | BY19: 634333.33 | BZ19: 634333.33 | CA19: 618333.33 | CC19: 634333.33 | CD19: 665666.67 | CF19: 665666.67 | CG19: 634333.33 | CH19: 618333.33 | CI19: 634333.33 | CJ19: 634333.33
B20: 12 | C20: JUEGO BANDAS TRASERAS | D20: 1 | E20: 425900 | F20: 398250 | G20: 407700 | I20: 326333.33 | K20: 353666.67 | O20: 539128 | T20: 327000 | Z20: 327000 | AJ20: 401300 | AK20: 401300 | AL20: 273500 | AM20: 343000 | AO20: 337666.67 | AP20: 0 | AQ20: 343000 | AU20: 327000 | AX20: 343000 | BB20: 337666.67 | BE20: 337666.67 | BI20: 327000 | BL20: 327000 | BU20: 364333.33 | BV20: 337666.67 | BW20: 337666.67 | BX20: 353666.67 | BY20: 343000 | BZ20: 343000 | CA20: 337666.67 | CC20: 343000 | CD20: 353666.67 | CF20: 353666.67 | CG20: 343000 | CH20: 337666.67 | CI20: 343000 | CJ20: 343000
B21: 13 | C21: CILINDRO FRENO TRASERO | D21: 1 | E21: 353700 | F21: 352250 | G21: 362900 | I21: 448000 | K21: 387000 | O21: 337000 | T21: 337000 | Z21: 337000 | AJ21: 361700 | AK21: 361700 | AL21: 387000 | AM21: 367000 | AO21: 357000 | AP21: 0 | AQ21: 367000 | AU21: 337000 | AX21: 367000 | BB21: 357000 | BE21: 357000 | BI21: 363666.67 | BL21: 353666.67 | BU21: 423000 | BV21: 373666.67 | BW21: 373666.67 | BX21: 403666.67 | BY21: 433666.67 | BZ21: 433666.67 | CA21: 423666.67 | CC21: 367000 | CD21: 387000 | CF21: 387000 | CG21: 367000 | CH21: 357000 | CI21: 367000 | CJ21: 367000
B22: 14 | C22: JUEGO DE CAMPANAS TRASERAS | D22: 1 | E22: 895800 | F22: 840125 | G22: 884600 | I22: 749000 | K22: 789500 | O22: 728110.67 | T22: 708166.67 | Z22: 708166.67 | AJ22: 888400 | AK22: 888400 | AL22: 789500 | AM22: 756833.33 | AO22: 740833.33 | AP22: 0 | AQ22: 756833.33 | AU22: 708166.67 | AX22: 756833.33 | BB22: 740833.33 | BE22: 740833.33 | BI22: 708166.67 | BL22: 708166.67 | BU22: 821500 | BV22: 740833.33 | BW22: 740833.33 | BX22: 789500 | BY22: 564500 | BZ22: 564500 | CA22: 546500 | CC22: 564500 | CD22: 789500 | CF22: 789500 | CG22: 756833.33 | CH22: 546500 | CI22: 564500 | CJ22: 564500
B23: 15 | C23: JUEGO DE GUAYAS FRENO DE MANO | D23: 1 | E23: 390500 | F23: 381500 | G23: 357500 | I23: 373333.33 | K23: 272000 | O23: 425574.67 | T23: 250000 | Z23: 250000 | AJ23: 370500 | AK23: 370500 | AL23: 272000 | AM23: 263333.33 | AO23: 258666.67 | AP23: 0 | AQ23: 263333.33 | AU23: 250000 | AX23: 263333.33 | BB23: 258666.67 | BE23: 258666.67 | BI23: 250000 | BL23: 250000 | BU23: 281333.33 | BV23: 258666.67 | BW23: 258666.67 | BX23: 272000 | BY23: 263333.33 | BZ23: 263333.33 | CA23: 258666.67 | CC23: 263333.33 | CD23: 272000 | CF23: 272000 | CG23: 263333.33 | CH23: 258666.67 | CI23: 263333.33 | CJ23: 263333.33
B24: 16 | C24: JUEGO DE PASTILLAS TRASERAS | D24: 1 | E24: 344000 | F24: 410125 | G24: 396875 | I24: 243000 | K24: 401500 | O24: 247660.5 | T24: 240250 | Z24: 263250 | AJ24: 343000 | AK24: 381375 | AL24: 376333.33 | AM24: 292250 | AO24: 283250 | AP24: 0 | AQ24: 287500 | AU24: 263500 | AX24: 287500 | BB24: 310750 | BE24: 278500 | BI24: 715651.5 | BL24: 526804.5 | BU24: 772318.17 | BV24: 352333.33 | BW24: 496361.5 | BX24: 571804.5 | BY24: 478575.33 | BZ24: 360333.33 | CA24: 352333.33 | CC24: 360333.33 | CD24: 310250 | CF24: 514666.67 | CG24: 360333.33 | CH24: 352333.5 | CI24: 477000.33 | CJ24: 360333.83
B25: 17 | C25: LIQUIDO DE FRENOS (PINTA-16 OZ - DOT4) | D25: 1 | E25: 48900 | F25: 48100 | G25: 47100 | I25: 43000 | K25: 43833.333 | O25: 36000 | T25: 42000 | Z25: 42000 | AJ25: 45900 | AK25: 45900 | AL25: 43833.333 | AM25: 43000 | AO25: 42666.667 | AP25: 0 | AQ25: 43000 | AU25: 42000 | AX25: 43000 | BB25: 42666.667 | BE25: 42666.667 | BI25: 42000 | BL25: 42000 | BU25: 44500 | BV25: 42666.667 | BW25: 42666.667 | BX25: 43833.333 | BY25: 43000 | BZ25: 43000 | CA25: 42666.667 | CC25: 43000 | CD25: 43833.333 | CF25: 43833.333 | CG25: 43000 | CH25: 42666.667 | CI25: 43000 | CJ25: 43000
B26: 18 | C26: GRADUACION FRENO | D26: 1 | E26: 107333.33 | F26: 120666.67 | G26: 117000 | I26: 112333.33 | K26: 122250 | O26: 102000 | T26: 102000 | Z26: 102000 | AJ26: 124000 | AK26: 127000 | AL26: 122250 | AM26: 130666.67 | AO26: 127333.33 | AP26: 0 | AQ26: 130666.67 | AU26: 120000 | AX26: 114000 | BB26: 110250 | BE26: 110250 | BI26: 102000 | BL26: 120000 | BU26: 130500 | BV26: 110250 | BW26: 110250 | BX26: 138000 | BY26: 114000 | BZ26: 114000 | CA26: 110250 | CC26: 114000 | CD26: 138000 | CF26: 122250 | CG26: 114000 | CH26: 110250 | CI26: 114000 | CJ26: 114000
B27: ITEM | C27: SISTEMA DE SUSPENSIÓN | D27: CANTIDAD
B28: 1 | C28: JUEGO AMORTIGUADORES DELANTEROS | D28: 1 | E28: 932800 | F28: 943800 | G28: 932400 | I28: 995333.33 | K28: 1012666.7 | O28: 757856.67 | T28: 866666.67 | Z28: 866666.67 | AJ28: 996000 | AK28: 996000 | AL28: 1012666.7 | AM28: 954666.67 | AO28: 925333.33 | AP28: 0 | AQ28: 954666.67 | AU28: 866666.67 | AX28: 954666.67 | BB28: 925333.33 | BE28: 925333.33 | BI28: 866666.67 | BL28: 866666.67 | BU28: 1034833.3 | BV28: 925333.33 | BW28: 925333.33 | BX28: 1012666.7 | BY28: 954666.67 | BZ28: 954666.67 | CA28: 925333.33 | CC28: 954666.67 | CD28: 1012666.7 | CF28: 1012666.7 | CG28: 954666.67 | CH28: 925333.33 | CI28: 954666.67 | CJ28: 954666.67
B29: 2 | C29: BUJE TIJERA INFERIOR | D29: 1 | E29: 335800 | F29: 325100 | G29: 310200 | I29: 167250 | K29: 249666.67 | O29: 225000 | T29: 241833.33 | Z29: 241833.33 | AJ29: 320400 | AK29: 320400 | AL29: 249666.67 | AM29: 246500 | AO29: 245000 | AP29: 0 | AQ29: 246500 | AU29: 241833.33 | AX29: 246500 | BB29: 245000 | BE29: 245000 | BI29: 241833.33 | BL29: 241833.33 | BU29: 252833.33 | BV29: 245000 | BW29: 245000 | BX29: 249666.67 | BY29: 246500 | BZ29: 246500 | CA29: 245000 | CC29: 246500 | CD29: 249666.67 | CF29: 249666.67 | CG29: 246500 | CH29: 245000 | CI29: 246500 | CJ29: 246500
B30: 3 | C30: BUJE TIJERA SUPERIOR | D30: 1 | E30: 336800 | F30: 308250 | G30: 289625 | I30: 171000 | K30: 253000 | O30: 232500 | T30: 243166.67 | Z30: 243166.67 | AJ30: 323400 | AK30: 323400 | AL30: 253000 | AM30: 171000 | AO30: 168750 | AP30: 0 | AQ30: 171000 | AU30: 243166.67 | AX30: 249833.33 | BB30: 248333.33 | BE30: 248333.33 | BI30: 243166.67 | BL30: 243166.67 | BU30: 256166.67 | BV30: 248333.33 | BW30: 248333.33 | BX30: 253000 | BY30: 249833.33 | BZ30: 249833.33 | CA30: 248333.33 | CC30: 249833.33 | CD30: 253000 | CF30: 253000 | CG30: 249833.33 | CH30: 248333.33 | CI30: 249833.33 | CJ30: 249833.33
B31: 4 | C31: ROTULA INFERIOR | D31: 1 | E31: 552300 | F31: 548300 | G31: 528700 | I31: 397750 | K31: 471333.33 | O31: 382842 | T31: 421333.33 | Z31: 421333.33 | AJ31: 560500 | AK31: 560500 | AL31: 471333.33 | AM31: 451333.33 | AO31: 441333.33 | AP31: 0 | AQ31: 451333.33 | AU31: 421333.33 | AX31: 451333.33 | BB31: 441333.33 | BE31: 441333.33 | BI31: 421333.33 | BL31: 421333.33 | BU31: 490666.67 | BV31: 441333.33 | BW31: 441333.33 | BX31: 471333.33 | BY31: 451333.33 | BZ31: 451333.33 | CA31: 441333.33 | CC31: 451333.33 | CD31: 471333.33 | CF31: 471333.33 | CG31: 451333.33 | CH31: 441333.33 | CI31: 451333.33 | CJ31: 451333.33
B32: 5 | C32: ROTULA SUPERIOR | D32: 1 | E32: 420300 | F32: 418875 | G32: 407250 | I32: 402750 | K32: 474666.67 | O32: 408914 | T32: 424666.67 | Z32: 424666.67 | AJ32: 454300 | AK32: 457900 | AL32: 474666.67 | AM32: 402750 | AO32: 391500 | AP32: 0 | AQ32: 402750 | AU32: 424666.67 | AX32: 454666.67 | BB32: 444666.67 | BE32: 444666.67 | BI32: 424666.67 | BL32: 424666.67 | BU32: 494000 | BV32: 444666.67 | BW32: 444666.67 | BX32: 474666.67 | BY32: 454666.67 | BZ32: 454666.67 | CA32: 444666.67 | CC32: 454666.67 | CD32: 474666.67 | CF32: 474666.67 | CG32: 454666.67 | CH32: 444666.67 | CI32: 454666.67 | CJ32: 454666.67
B33: 6 | C33: MUÑECO BARRA ESTABILIZADORA | D33: 1 | E33: 500900 | F33: 461800 | G33: 435600 | I33: 366000 | K33: 549392.67 | O33: 291007.33 | T33: 178333.33 | Z33: 521226 | AJ33: 621582.4 | AK33: 614391.4 | AL33: 549392.67 | AM33: 538059.33 | AO33: 532392.67 | AP33: 0 | AQ33: 538059.33 | AU33: 522468.67 | AX33: 538059.33 | BB33: 576678 | BE33: 532392.67 | BI33: 586836.5 | BL33: 593724 | BU33: 654229.33 | BV33: 532392.67 | BW33: 577272.67 | BX33: 622902.67 | BY33: 544631.33 | BZ33: 538059.33 | CA33: 532392.67 | CC33: 538059.33 | CD33: 549392.67 | CF33: 635502.67 | CG33: 538059.33 | CH33: 601392.67 | CI33: 611569.33 | CJ33: 572624.67
B34: 7 | C34: JUEGO DE BUJES BARRA ESTABILIZADORA | D34: 1 | E34: 301900 | F34: 378926 | G34: 301400 | I34: 303750 | K34: 389878 | O34: 276125.17 | T34: 270666.67 | Z34: 361711.33 | AJ34: 380053.2 | AK34: 374740.2 | AL34: 389878 | AM34: 378544.67 | AO34: 372878 | AP34: 0 | AQ34: 378544.67 | AU34: 362610.67 | AX34: 378544.67 | BB34: 400939.33 | BE34: 372878 | BI34: 403540 | BL34: 422334.67 | BU34: 461668 | BV34: 372878 | BW34: 401386.67 | BX34: 437181.33 | BY34: 383526.67 | BZ34: 378544.67 | CA34: 372878 | CC34: 378544.67 | CD34: 389878 | CF34: 445461.33 | CG34: 378544.67 | CH34: 417226.67 | CI34: 425848 | CJ34: 400126
B35: 8 | C35: TIJERA INFERIOR DELANTERA | D35: 1 | E35: 940300 | F35: 841900 | G35: 826300 | I35: 432250 | K35: 588000 | O35: 1244847.3 | T35: 548000 | Z35: 548000 | AJ35: 815500 | AK35: 815500 | AL35: 588000 | AM35: 572000 | AO35: 564000 | AP35: 0 | AQ35: 572000 | AU35: 548000 | AX35: 572000 | BB35: 564000 | BE35: 564000 | BI35: 548000 | BL35: 548000 | BU35: 604666.67 | BV35: 564000 | BW35: 564000 | BX35: 588000 | BY35: 572000 | BZ35: 572000 | CA35: 564000 | CC35: 572000 | CD35: 588000 | CF35: 588000 | CG35: 572000 | CH35: 564000 | CI35: 572000 | CJ35: 572000
B36: 9 | C36: TIJERA SUPERIOR DELANTERA | D36: 1 | E36: 591900 | F36: 890750 | G36: 867750 | I36: 482250 | K36: 621333.33 | O36: 1285044.3 | T36: 581333.33 | Z36: 581333.33 | AJ36: 685100 | AK36: 697100 | AL36: 621333.33 | AM36: 482250 | AO36: 473250 | AP36: 0 | AQ36: 482250 | AU36: 581333.33 | AX36: 605333.33 | BB36: 597333.33 | BE36: 597333.33 | BI36: 581333.33 | BL36: 581333.33 | BU36: 638000 | BV36: 597333.33 | BW36: 597333.33 | BX36: 621333.33 | BY36: 605333.33 | BZ36: 605333.33 | CA36: 597333.33 | CC36: 605333.33 | CD36: 621333.33 | CF36: 621333.33 | CG36: 605333.33 | CH36: 597333.33 | CI36: 605333.33 | CJ36: 605333.33
B37: 10 | C37: JUEGO ESPIRALES DELANTEROS | D37: 1 | E37: 916400 | F37: 823800 | G37: 807500 | I37: 561750 | K37: 602333.33 | O37: 539666.67 | T37: 539666.67 | Z37: 539666.67 | AJ37: 860500 | AK37: 860500 | AL37: 602333.33 | AM37: 592833.33 | AO37: 577666.67 | AP37: 0 | AQ37: 592833.33 | AU37: 539666.67 | AX37: 592833.33 | BB37: 577666.67 | BE37: 577666.67 | BI37: 539666.67 | BL37: 539666.67 | BU37: 611666.67 | BV37: 577666.67 | BW37: 577666.67 | BX37: 602333.33 | BY37: 592833.33 | BZ37: 592833.33 | CA37: 577666.67 | CC37: 592833.33 | CD37: 602333.33 | CF37: 602333.33 | CG37: 592833.33 | CH37: 577666.67 | CI37: 592833.33 | CJ37: 592833.33
B38: 11 | C38: JUEGO SOPORTES AMORTIGUADORES DEL,CON RODAMIENTOS | D38: 1 | E38: 453100 | F38: 466300 | G38: 456500 | I38: 408750 | K38: 424333.33 | O38: 369333.33 | T38: 369333.33 | Z38: 369333.33 | AJ38: 455900 | AK38: 455900 | AL38: 424333.33 | AM38: 410000 | AO38: 396666.67 | AP38: 0 | AQ38: 410000 | AU38: 369333.33 | AX38: 410000 | BB38: 396666.67 | BE38: 396666.67 | BI38: 369333.33 | BL38: 369333.33 | BU38: 431000 | BV38: 396666.67 | BW38: 396666.67 | BX38: 424333.33 | BY38: 410000 | BZ38: 410000 | CA38: 396666.67 | CC38: 410000 | CD38: 424333.33 | CF38: 424333.33 | CG38: 410000 | CH38: 396666.67 | CI38: 410000 | CJ38: 410000
B39: 12 | C39: BARRA ESTABILIZADORA DELANTERA | D39: 1 | E39: 458000 | F39: 509700 | G39: 459700 | I39: 808333.33 | K39: 710500 | O39: 514555.33 | T39: 619333.33 | Z39: 619333.33 | AJ39: 513100 | AK39: 535900 | AL39: 710500 | AM39: 686666.67 | AO39: 664000 | AP39: 0 | AQ39: 686666.67 | AU39: 619333.33 | AX39: 686666.67 | BB39: 664000 | BE39: 664000 | BI39: 619333.33 | BL39: 619333.33 | BU39: 721666.67 | BV39: 664000 | BW39: 664000 | BX39: 710500 | BY39: 686666.67 | BZ39: 686666.67 | CA39: 664000 | CC39: 686666.67 | CD39: 710500 | CF39: 710500 | CG39: 686666.67 | CH39: 664000 | CI39: 686666.67 | CJ39: 686666.67
... B53: 26 | C53: RODAMIENTO TRASERO | D53: 1 | E53: 464400 | F53: 466000 | G53: 520200 | I53: 450333.33 | K53: 409666.67 | O53: 406333.33 | T53: 339666.67 | Z53: 379666.67 | AJ53: 479000 | AK53: 473000 | AL53: 416333.33 | AM53: 400333.33 | AO53: 392333.33 | AP53: 0 | AQ53: 393666.67 | AU53: 376333.33 | AX53: 393666.67 | BB53: 485666.67 | BE53: 385666.67 | BI53: 669350 | BL53: 669350 | BU53: 726016.67 | BV53: 392333.33 | BW53: 685350 | BX53: 709350 | BY53: 652715 | BZ53: 400333.33 | CA53: 392333.33 | CC53: 400333.33 | CD53: 416333.33 | CF53: 416333.17 | CG53: 400333.33 | CH53: 392333.5 | CI53: 400333.67 | CJ53: 400333.83
B54: ITEM | C54: SISTEMA DE DIRECCIÓN | D54: CANTIDAD
B55: 1 | C55: CAJA DIRECCCION | D55: 1 | E55: 2760700 | F55: 3218693.9 | G55: 3164837.3 | I55: 3053333.3 | K55: 2965333.3 | O55: 2594000 | T55: 2194333.3 | Z55: 2576960.5 | AJ55: 3151800 | AK55: 3151800.1 | AL55: 2915333.7 | AM55: 2886666.7 | AO55: 2805333.3 | AP55: 0 | AQ55: 2803333.3 | AU55: 2600915.8 | AX55: 2803333.3 | BB55: 2801743.8 | BE55: 2722000 | BI55: 2671145.5 | BL55: 2723000.8 | BU55: 3289667.5 | BV55: 2672000.3 | BW55: 2825699.2 | BX55: 3099767.5 | BY55: 2830166.7 | BZ55: 2753333.7 | CA55: 2805333.3 | CC55: 2753333.7 | CD55: 3048666.7 | CF55: 3116642.5 | CG55: 2753333.7 | CH55: 2708666.7 | CI55: 2790000 | CJ55: 2790000
B56: 2 | C56: EMPAQUETADURA CAJA DIRECCIÓN | D56: 1 | E56: 610600 | F56: 1018300 | G56: 949500 | I56: 1188333.3 | K56: 1287166.7 | O56: 1186000 | T56: 1186000 | Z56: 1186000 | AJ56: 927300 | AK56: 927300 | AL56: 1287166.7 | AM56: 1246666.7 | AO56: 1226333.3 | AP56: 0 | AQ56: 1246666.7 | AU56: 1186000 | AX56: 1246666.7 | BB56: 1226333.3 | BE56: 1226333.3 | BI56: 1186000 | BL56: 1186000 | BU56: 1327666.7 | BV56: 1226333.3 | BW56: 1226333.3 | BX56: 1287166.7 | BY56: 1246666.7 | BZ56: 1246666.7 | CA56: 1226333.3 | CC56: 1246666.7 | CD56: 1287166.7 | CF56: 1287166.7 | CG56: 1246666.7 | CH56: 1226333.3 | CI56: 1246666.7 | CJ56: 1246666.7
B57: 3 | C57: BIELA DIRECCIÓN | D57: 1 | E57: 643125 | F57: 664375 | G57: 560500 | I57: 576228.5 | K57: 528666.67 | O57: 697439 | T57: 502000 | Z57: 510666.67 | AJ57: 664625 | AK57: 664625 | AL57: 547000 | AM57: 528000 | AO57: 522666.67 | AP57: 0 | AQ57: 518000 | AU57: 699492.17 | AX57: 518000 | BB57: 708105.67 | BE57: 512666.67 | BI57: 794144 | BL57: 796197.17 | BU57: 833530.5 | BV57: 531000 | BW57: 710158.83 | BX57: 538666.67 | BY57: 544666.67 | BZ57: 536333.33 | CA57: 522666.67 | CC57: 536333.33 | CD57: 538666.67 | CF57: 525333.33 | CG57: 536333.33 | CH57: 516000 | CI57: 521333.33 | CJ57: 521333.33
B58: 4 | C58: JUEGO GUARDAPOLVOS CAJA DE DIRECCIÓN | D58: 1 | E58: 283300 | F58: 256900 | G58: 245700 | I58: 146250 | K58: 198666.67 | O58: 176666.67 | T58: 176666.67 | Z58: 176666.67 | AJ58: 287100 | AK58: 287100 | AL58: 198666.67 | AM58: 190000 | AO58: 185333.33 | AP58: 0 | AQ58: 190000 | AU58: 176666.67 | AX58: 190000 | BB58: 185333.33 | BE58: 185333.33 | BI58: 176666.67 | BL58: 176666.67 | BU58: 208000 | BV58: 185333.33 | BW58: 185333.33 | BX58: 198666.67 | BY58: 190000 | BZ58: 190000 | CA58: 185333.33 | CC58: 190000 | CD58: 198666.67 | CF58: 198666.67 | CG58: 190000 | CH58: 185333.33 | CI58: 190000 | CJ58: 190000
B59: 5 | C59: TERMINAL DE DIRECCIÓN | D59: 1 | E59: 450300 | F59: 447700 | G59: 432900 | I59: 364666.67 | K59: 384666.67 | O59: 334666.67 | T59: 334666.67 | Z59: 334666.67 | AJ59: 440300 | AK59: 440300 | AL59: 384666.67 | AM59: 364666.67 | AO59: 354666.67 | AP59: 0 | AQ59: 364666.67 | AU59: 334666.67 | AX59: 364666.67 | BB59: 354666.67 | BE59: 354666.67 | BI59: 334666.67 | BL59: 334666.67 | BU59: 404000 | BV59: 354666.67 | BW59: 354666.67 | BX59: 384666.67 | BY59: 364666.67 | BZ59: 364666.67 | CA59: 354666.67 | CC59: 364666.67 | CD59: 384666.67 | CF59: 384666.67 | CG59: 364666.67 | CH59: 354666.67 | CI59: 364666.67 | CJ59: 364666.67
B60: 6 | C60: ACEITE HIDRAULICO DIRECCION (CUARTO) | D60: 1 | E60: 62500 | F60: 66500 | G60: 64900 | I60: 78333.333 | K60: 81000 | O60: 74333.333 | T60: 74333.333 | Z60: 74333.333 | AJ60: 64900 | AK60: 64900 | AL60: 81000 | AM60: 78333.333 | AO60: 77000 | AP60: 0 | AQ60: 78333.333 | AU60: 74333.333 | AX60: 78333.333 | BB60: 77000 | BE60: 77000 | BI60: 74333.333 | BL60: 74333.333 | BU60: 83666.667 | BV60: 77000 | BW60: 77000 | BX60: 81000 | BY60: 78333.333 | BZ60: 78333.333 | CA60: 77000 | CC60: 78333.333 | CD60: 81000 | CF60: 81000 | CG60: 78333.333 | CH60: 77000 | CI60: 78333.333 | CJ60: 78333.333
B61: 7 | C61: CORREA BOMBA DIRECCION | D61: 1 | E61: 245400 | F61: 247200 | G61: 236000 | I61: 293000 | K61: 312500 | O61: 276000 | T61: 276000 | Z61: 276000 | AJ61: 221600 | AK61: 221600 | AL61: 312500 | AM61: 298000 | AO61: 290666.67 | AP61: 0 | AQ61: 298000 | AU61: 276000 | AX61: 298000 | BB61: 290666.67 | BE61: 290666.67 | BI61: 276000 | BL61: 276000 | BU61: 327166.67 | BV61: 290666.67 | BW61: 290666.67 | BX61: 312500 | BY61: 298000 | BZ61: 298000 | CA61: 290666.67 | CC61: 298000 | CD61: 312500 | CF61: 312500 | CG61: 298000 | CH61: 290666.67 | CI61: 298000 | CJ61: 298000
B62: 8 | C62: DEPOSITO BOMBA DIRECCION | D62: 1 | E62: 219700 | F62: 239300 | G62: 231100 | I62: 369666.67 | K62: 384166.67 | O62: 347666.67 | T62: 347666.67 | Z62: 347666.67 | AJ62: 243700 | AK62: 249100 | AL62: 384166.67 | AM62: 369666.67 | AO62: 362333.33 | AP62: 0 | AQ62: 369666.67 | AU62: 347666.67 | AX62: 369666.67 | BB62: 362333.33 | BE62: 362333.33 | BI62: 347666.67 | BL62: 347666.67 | BU62: 398833.33 | BV62: 362333.33 | BW62: 362333.33 | BX62: 384166.67 | BY62: 369666.67 | BZ62: 369666.67 | CA62: 362333.33 | CC62: 369666.67 | CD62: 384166.67 | CF62: 384166.67 | CG62: 369666.67 | CH62: 362333.33 | CI62: 369666.67 | CJ62: 369666.67
B63: 9 | C63: BRAZO COMPENSADOR | D63: 1 | E63: 304375 | F63: 323125 | G63: 329000 | I63: 367750 | K63: 344500 | O63: 313000 | T63: 313000 | Z63: 313000 | AJ63: 329000 | AK63: 345500 | AL63: 390250 | AM63: 367750 | AO63: 356500 | AP63: 0 | AQ63: 367750 | AU63: 313000 | AX63: 339500 | BB63: 333000 | BE63: 333000 | BI63: 334000 | BL63: 334000 | BU63: 412000 | BV63: 356500 | BW63: 356500 | BX63: 390250 | BY63: 367750 | BZ63: 367750 | CA63: 356500 | CC63: 367750 | CD63: 344500 | CF63: 344500 | CG63: 339500 | CH63: 356500 | CI63: 367750 | CJ63: 367750
B64: 10 | C64: BRAZO AXIAL | D64: 1 | E64: 493600 | F64: 481400 | G64: 462200 | I64: 383000 | K64: 410666.67 | O64: 356666.67 | T64: 356666.67 | Z64: 356666.67 | AJ64: 471400 | AK64: 471400 | AL64: 410666.67 | AM64: 389333.33 | AO64: 378666.67 | AP64: 0 | AQ64: 389333.33 | AU64: 356666.67 | AX64: 389333.33 | BB64: 378666.67 | BE64: 378666.67 | BI64: 356666.67 | BL64: 356666.67 | BU64: 432666.67 | BV64: 378666.67 | BW64: 378666.67 | BX64: 410666.67 | BY64: 389333.33 | BZ64: 389333.33 | CA64: 378666.67 | CC64: 389333.33 | CD64: 410666.67 | CF64: 410666.67 | CG64: 389333.33 | CH64: 378666.67 | CI64: 389333.33 | CJ64: 389333.33
B65: 11 | C65: GUARDAPOLVO BRAZO AXIAL | D65: 1 | E65: 87300 | F65: 95400 | G65: 91600 | I65: 216000 | K65: 162666.67 | O65: 149166.67 | T65: 149166.67 | Z65: 149166.67 | AJ65: 97000 | AK65: 99400 | AL65: 162666.67 | AM65: 157333.33 | AO65: 154666.67 | AP65: 0 | AQ65: 157333.33 | AU65: 149166.67 | AX65: 157333.33 | BB65: 154666.67 | BE65: 154666.67 | BI65: 149166.67 | BL65: 149166.67 | BU65: 168166.67 | BV65: 154666.67 | BW65: 154666.67 | BX65: 162666.67 | BY65: 157333.33 | BZ65: 157333.33 | CA65: 154666.67 | CC65: 157333.33 | CD65: 162666.67 | CF65: 162666.67 | CG65: 157333.33 | CH65: 154666.67 | CI65: 157333.33 | CJ65: 157333.33
B66: 12 | C66: BARRA TRANSVERSAL DIRECCIÓN | D66: 1 | E66: 652375 | F66: 740833.33 | G66: 759500 | I66: 771333.33 | K66: 789333.33 | O66: 694666.67 | T66: 694666.67 | Z66: 694666.67 | AJ66: 759500 | AK66: 763000 | AL66: 783000 | AM66: 740250 | AO66: 719250 | AP66: 0 | AQ66: 740250 | AU66: 694666.67 | AX66: 740250 | BB66: 719250 | BE66: 719250 | BI66: 676500 | BL66: 676500 | BU66: 825000 | BV66: 719250 | BW66: 719250 | BX66: 783000 | BY66: 740250 | BZ66: 740250 | CA66: 719250 | CC66: 740250 | CD66: 789333.33 | CF66: 789333.33 | CG66: 751333.33 | CH66: 719250 | CI66: 740250 | CJ66: 740250
... B70: 16 | C70: SOPORTE CAJA DIRECCIÓN | D70: 1 | E70: 286800 | F70: 316700 | G70: 296300 | I70: 283250 | K70: 358333.33 | O70: 338666.67 | T70: 338666.67 | Z70: 338666.67 | AJ70: 319100 | AK70: 328700 | AL70: 358333.33 | AM70: 350500 | AO70: 346500 | AP70: 0 | AQ70: 350500 | AU70: 338666.67 | AX70: 350500 | BB70: 346500 | BE70: 346500 | BI70: 338666.67 | BL70: 338666.67 | BU70: 366166.67 | BV70: 346500 | BW70: 346500 | BX70: 358333.33 | BY70: 350500 | BZ70: 350500 | CA70: 346500 | CC70: 350500 | CD70: 358333.33 | CF70: 358333.33 | CG70: 350500 | CH70: 346500 | CI70: 350500 | CJ70: 350500
B71: ITEM | C71: SISTEMA DE TRANSMISIÓN | D71: CANTIDAD
B72: 1 | C72: CAJA DE TRANSMISIÓN MECÁNICA | D72: 1 | E72: 4912500 | F72: 5401100 | G72: 5278800 | I72: 6079166.7 | K72: 6180500 | O72: 5927333.3 | T72: 5927333.3 | Z72: 5927333.3 | AJ72: 5431500 | AK72: 5496500 | AL72: 6180500 | AM72: 6079166.7 | AO72: 6028500 | AP72: 0 | AQ72: 6079166.7 | AU72: 5927333.3 | AX72: 6079166.7 | BB72: 6028500 | BE72: 6028500 | BI72: 5927333.3 | BL72: 5927333.3 | BU72: 6281666.7 | BV72: 6028500 | BW72: 6028500 | BX72: 6180500 | BY72: 6079166.7 | BZ72: 6079166.7 | CA72: 6028500 | CC72: 6079166.7 | CD72: 6180500 | CF72: 6180500 | CG72: 6079166.7 | CH72: 6028500 | CI72: 6079166.7 | CJ72: 6079166.7
B73: 2 | C73: RETENEDOR DE ENTRADA TRASMISIÓN MEC | D73: 1 | E73: 100200 | F73: 108500 | G73: 100600 | I73: 173666.67 | K73: 141000 | O73: 123000 | T73: 123000 | Z73: 123000 | AJ73: 109000 | AK73: 112600 | AL73: 141000 | AM73: 133666.67 | AO73: 130333.33 | AP73: 0 | AQ73: 133666.67 | AU73: 123000 | AX73: 133666.67 | BB73: 130333.33 | BE73: 130333.33 | BI73: 123000 | BL73: 123000 | BU73: 148333.33 | BV73: 130333.33 | BW73: 130333.33 | BX73: 141000 | BY73: 133666.67 | BZ73: 133666.67 | CA73: 130333.33 | CC73: 133666.67 | CD73: 141000 | CF73: 141000 | CG73: 133666.67 | CH73: 130333.33 | CI73: 133666.67 | CJ73: 133666.67
B74: 3 | C74: RETENEDOR DE SALIDA TRANSMISIÓN MEC | D74: 1 | E74: 95800 | F74: 104100 | G74: 96200 | I74: 155333.33 | K74: 117166.67 | O74: 112666.67 | T74: 112666.67 | Z74: 112666.67 | AJ74: 104600 | AK74: 108200 | AL74: 117166.67 | AM74: 115333.33 | AO74: 114500 | AP74: 0 | AQ74: 115333.33 | AU74: 112666.67 | AX74: 115333.33 | BB74: 114500 | BE74: 114500 | BI74: 112666.67 | BL74: 112666.67 | BU74: 119000 | BV74: 114500 | BW74: 114500 | BX74: 117166.67 | BY74: 115333.33 | BZ74: 115333.33 | CA74: 114500 | CC74: 115333.33 | CD74: 117166.67 | CF74: 117166.67 | CG74: 115333.33 | CH74: 114500 | CI74: 115333.33 | CJ74: 115333.33
B75: 4 | C75: RETEN LATERAL CAJA TRANSVERSAL | D75: 1 | E75: 135400 | F75: 142400 | G75: 135800 | I75: 141333.33 | K75: 133166.67 | O75: 128666.67 | T75: 128666.67 | Z75: 128666.67 | AJ75: 142900 | AK75: 143600 | AL75: 133166.67 | AM75: 131333.33 | AO75: 130500 | AP75: 0 | AQ75: 131333.33 | AU75: 128666.67 | AX75: 131333.33 | BB75: 130500 | BE75: 130500 | BI75: 128666.67 | BL75: 128666.67 | BU75: 135000 | BV75: 130500 | BW75: 130500 | BX75: 133166.67 | BY75: 131333.33 | BZ75: 131333.33 | CA75: 130500 | CC75: 131333.33 | CD75: 133166.67 | CF75: 133166.67 | CG75: 131333.33 | CH75: 130500 | CI75: 131333.33 | CJ75: 131333.33
B76: 5 | C76: GUARDAPOLVO BARRA CAMBIOS | D76: 1 | E76: 63500 | F76: 70100 | G76: 64200 | I76: 162000 | K76: 100666.67 | O76: 95500 | T76: 95500 | Z76: 95500 | AJ76: 70800 | AK76: 73800 | AL76: 100666.67 | AM76: 98666.667 | AO76: 97500 | AP76: 0 | AQ76: 98666.667 | AU76: 95500 | AX76: 98666.667 | BB76: 97500 | BE76: 97500 | BI76: 95500 | BL76: 95500 | BU76: 102666.67 | BV76: 97500 | BW76: 97500 | BX76: 100666.67 | BY76: 98666.667 | BZ76: 98666.667 | CA76: 97500 | CC76: 98666.667 | CD76: 100666.67 | CF76: 100666.67 | CG76: 98666.667 | CH76: 97500 | CI76: 98666.667 | CJ76: 98666.667
B77: 6 | C77: JUEGO BUJES PALANCA SELECTORA CAMBIOS. (KIT) | D77: 1 | E77: 125100 | F77: 135400 | G77: 126700 | I77: 204833.33 | K77: 201333.33 | O77: 184000 | T77: 184000 | Z77: 184000 | AJ77: 136300 | AK77: 140500 | AL77: 201333.33 | AM77: 198166.67 | AO77: 196666.67 | AP77: 0 | AQ77: 198166.67 | AU77: 184000 | AX77: 198166.67 | BB77: 196666.67 | BE77: 196666.67 | BI77: 184000 | BL77: 184000 | BU77: 204500 | BV77: 196666.67 | BW77: 196666.67 | BX77: 201333.33 | BY77: 198166.67 | BZ77: 198166.67 | CA77: 196666.67 | CC77: 198166.67 | CD77: 201333.33 | CF77: 201333.33 | CG77: 198166.67 | CH77: 196666.67 | CI77: 198166.67 | CJ77: 198166.67
B78: 7 | C78: SENSOR VELOCIDAD | D78: 1 | E78: 519600 | F78: 499100 | G78: 494900 | I78: 424666.67 | K78: 503000 | O78: 453000 | T78: 453000 | Z78: 453000 | AJ78: 510400 | AK78: 510400 | AL78: 503000 | AM78: 483000 | AO78: 473000 | AP78: 0 | AQ78: 483000 | AU78: 453000 | AX78: 483000 | BB78: 473000 | BE78: 473000 | BI78: 453000 | BL78: 453000 | BU78: 522333.33 | BV78: 473000 | BW78: 473000 | BX78: 503000 | BY78: 483000 | BZ78: 483000 | CA78: 473000 | CC78: 483000 | CD78: 503000 | CF78: 503000 | CG78: 483000 | CH78: 473000 | CI78: 483000 | CJ78: 483000
B79: 8 | C79: GUAYA VELOCÍMETRO | D79: 1 | E79: 159800 | F79: 230750 | G79: 160400 | I79: 274666.67 | K79: 238500 | O79: 208500 | T79: 208500 | Z79: 208500 | AJ79: 234000 | AK79: 234000 | AL79: 238500 | AM79: 226500 | AO79: 220500 | AP79: 0 | AQ79: 226500 | AU79: 208500 | AX79: 226500 | BB79: 220500 | BE79: 220500 | BI79: 208500 | BL79: 208500 | BU79: 250500 | BV79: 220500 | BW79: 220500 | BX79: 238500 | BY79: 226500 | BZ79: 226500 | CA79: 220500 | CC79: 226500 | CD79: 238500 | CF79: 242000 | CG79: 231333.33 | CH79: 220500 | CI79: 226500 | CJ79: 226500
B80: 9 | C80: CARDAN DELANTERO | D80: 1 | E80: 1612166.7 | F80: 1190500 | G80: 1691611.8 | I80: 1978217.2 | K80: 1626000 | O80: 1535500 | T80: 1495500 | Z80: 1382166.7 | AJ80: 1776666.7 | AK80: 1236250 | AL80: 1054000 | AM80: 1236250 | AO80: 1190500 | AP80: 0 | AQ80: 1038750 | AU80: 2111774.3 | AX80: 1722500 | BB80: 2187537 | BE80: 1712333.3 | BI80: 2109321.8 | BL80: 2139095 | BU80: 2422428.3 | BV80: 1699000 | BW80: 1600333.3 | BX80: 1630666.7 | BY80: 912750 | BZ80: 1023750 | CA80: 1190500 | CC80: 1023750 | CD80: 1309000 | CF80: 1054000 | CG80: 1023750 | CH80: 1008500 | CI80: 1023750 | CJ80: 1023750
B81: 10 | C81: CARDAN TRASERO | D81: 1 | E81: 1652166.7 | F81: 1265500 | G81: 1660365.5 | I81: 1959469.2 | K81: 1865666.7 | O81: 1645333.3 | T81: 1535500 | Z81: 1638666.7 | AJ81: 1765000 | AK81: 1218750 | AL81: 1256500 | AM81: 1881666.7 | AO81: 1841000 | AP81: 0 | AQ81: 1901666.7 | AU81: 2086370.2 | AX81: 1901666.7 | BB81: 2162750.7 | BE81: 1861000 | BI81: 2084228.2 | BL81: 2110237.5 | BU81: 2393570.8 | BV81: 1841000 | BW81: 1805666.7 | BX81: 1836000 | BY81: 1815833.3 | BZ81: 1881666.7 | CA81: 1841000 | CC81: 1881666.7 | CD81: 1909333.3 | CF81: 1256500 | CG81: 1038750 | CH81: 1712333.3 | CI81: 1038750 | CJ81: 1038750
B82: 11 | C82: CRUCETA CARDAN (UNIDAD) | D82: 1 | E82: 184500 | F82: 183750 | G82: 186750 | I82: 205833.33 | K82: 219833.33 | O82: 209833.33 | T82: 209833.33 | Z82: 209833.33 | AJ82: 215833.33 | AK82: 186750 | AL82: 192750 | AM82: 215833.33 | AO82: 213833.33 | AP82: 0 | AQ82: 215833.33 | AU82: 209833.33 | AX82: 215833.33 | BB82: 213833.33 | BE82: 213833.33 | BI82: 209833.33 | BL82: 209833.33 | BU82: 224000 | BV82: 213833.33 | BW82: 213833.33 | BX82: 219833.33 | BY82: 215833.33 | BZ82: 215833.33 | CA82: 213833.33 | CC82: 215833.33 | CD82: 219833.33 | CF82: 192750 | CG82: 186750 | CH82: 213833.33 | CI82: 186750 | CJ82: 186750
B83: 12 | C83: SOPORTE CENTRAL CARDAN | D83: 1 | E83: 378000 | F83: 385250 | G83: 398000 | I83: 406666.67 | K83: 440333.33 | O83: 384333.33 | T83: 384333.33 | Z83: 384333.33 | AJ83: 418333.33 | AK83: 398000 | AL83: 422750 | AM83: 418333.33 | AO83: 407000 | AP83: 0 | AQ83: 418333.33 | AU83: 384333.33 | AX83: 418333.33 | BB83: 407000 | BE83: 407000 | BI83: 384333.33 | BL83: 384333.33 | BU83: 463000 | BV83: 407000 | BW83: 407000 | BX83: 440333.33 | BY83: 418333.33 | BZ83: 418333.33 | CA83: 407000 | CC83: 418333.33 | CD83: 440333.33 | CF83: 422750 | CG83: 398000 | CH83: 407000 | CI83: 398000 | CJ83: 398000
... B92: 21 | C92: RETENEDOR SPEED | D92: 1 | E92: 101500 | F92: 98431.667 | G92: 89931.667 | I92: 172471.83 | K92: 151147.5 | O92: 130897.5 | T92: 109000 | Z92: 130897.5 | AJ92: 99265 | AK92: 103265 | AL92: 151147.5 | AM92: 142897.5 | AO92: 139147.5 | AP92: 0 | AQ92: 142897.5 | AU92: 130897.5 | AX92: 142897.5 | BB92: 139147.5 | BE92: 139147.5 | BI92: 130897.5 | BL92: 130897.5 | BU92: 159397.5 | BV92: 139147.5 | BW92: 139147.5 | BX92: 151147.5 | BY92: 136707.75 | BZ92: 142897.5 | CA92: 139147.5 | CC92: 142897.5 | CD92: 151147.5 | CF92: 151147.5 | CG92: 142897.5 | CH92: 139147.5 | CI92: 142897.5 | CJ92: 142897.5
B93: ITEM | C93: SISTEMA DE EMBRAGUE | D93: CANTIDAD
B94: 1 | C94: KIT DE EMBRAGUE | D94: 1 | E94: 1521400 | F94: 1342400 | G94: 1317100 | I94: 2032000 | K94: 2174666.7 | O94: 1533333.3 | T94: 1466666.7 | Z94: 1533333.3 | AJ94: 1729800 | AK94: 1518800 | AL94: 1430333.3 | AM94: 1411333.3 | AO94: 1401666.7 | AP94: 0 | AQ94: 1411333.3 | AU94: 1513333.3 | AX94: 1544666.7 | BB94: 1535000 | BE94: 1535000 | BI94: 1613333.3 | BL94: 1613333.3 | BU94: 1682833.3 | BV94: 1535000 | BW94: 1535000 | BX94: 1563666.7 | BY94: 1644666.7 | BZ94: 1478000 | CA94: 1535000 | CC94: 1544666.7 | CD94: 1830333.3 | CF94: 1663666.7 | CG94: 1711333.3 | CH94: 1701666.7 | CI94: 1878000 | CJ94: 1428000
B95: 2 | C95: BOMBA PRINCIPAL EMBRAGUE | D95: 1 | E95: 578300 | F95: 413618.5 | G95: 422735.8 | I95: 618520.33 | K95: 574509.33 | O95: 502509.33 | T95: 488000 | Z95: 502509.33 | AJ95: 633957.5 | AK95: 630177.6 | AL95: 574509.33 | AM95: 545842.67 | AO95: 531176 | AP95: 0 | AQ95: 545842.67 | AU95: 508809.17 | AX95: 545842.67 | BB95: 540852.67 | BE95: 531176 | BI95: 517301.33 | BL95: 527349.17 | BU95: 636125 | BV95: 531176 | BW95: 547150.83 | BX95: 589301.33 | BY95: 548744.17 | BZ95: 545842.67 | CA95: 531176 | CC95: 545842.67 | CD95: 574509.33 | CF95: 597729.17 | CG95: 545842.67 | CH95: 545790.33 | CI95: 566452.5 | CJ95: 553269.33
B96: 3 | C96: BOMBA AUXILIAR EMBRAGUE | D96: 1 | E96: 424300 | F96: 351160.12 | G96: 360626.1 | I96: 506922.5 | K96: 494908.33 | O96: 431575 | T96: 355166.67 | Z96: 431575 | AJ96: 539331.5 | AK96: 536890 | AL96: 494908.33 | AM96: 469575 | AO96: 456908.33 | AP96: 0 | AQ96: 469575 | AU96: 435644.17 | AX96: 469575 | BB96: 465546.33 | BE96: 456908.33 | BI96: 444615.17 | BL96: 452204.17 | BU96: 537868.5 | BV96: 456908.33 | BW96: 469617.5 | BX96: 507948.5 | BY96: 471640.5 | BZ96: 469575 | CA96: 456908.33 | CC96: 469575 | CD96: 494908.33 | CF96: 514142.5 | CG96: 469575 | CH96: 470028 | CI96: 486379.17 | CJ96: 476233
B97: 4 | C97: MANGUERA EMBRAGUE | D97: 1 | E97: 131000 | F97: 136000 | G97: 131100 | I97: 258000 | K97: 182666.67 | O97: 162000 | T97: 162000 | Z97: 162000 | AJ97: 142500 | AK97: 147300 | AL97: 182666.67 | AM97: 174666.67 | AO97: 170000 | AP97: 0 | AQ97: 174666.67 | AU97: 162000 | AX97: 174666.67 | BB97: 170000 | BE97: 170000 | BI97: 162000 | BL97: 162000 | BU97: 190666.67 | BV97: 170000 | BW97: 170000 | BX97: 182666.67 | BY97: 174666.67 | BZ97: 174666.67 | CA97: 170000 | CC97: 174666.67 | CD97: 182666.67 | CF97: 182666.67 | CG97: 174666.67 | CH97: 170000 | CI97: 174666.67 | CJ97: 174666.67
B98: 5 | C98: BALI BOMBA EMBRAGUE | D98: 1 | E98: 294900 | F98: 283125 | G98: 297700 | I98: 256500 | K98: 305333.33 | O98: 278666.67 | T98: 278666.67 | Z98: 278666.67 | AJ98: 297500 | AK98: 297500 | AL98: 305333.33 | AM98: 294666.67 | AO98: 289333.33 | AP98: 0 | AQ98: 294666.67 | AU98: 278666.67 | AX98: 294666.67 | BB98: 289333.33 | BE98: 289333.33 | BI98: 278666.67 | BL98: 278666.67 | BU98: 316000 | BV98: 289333.33 | BW98: 289333.33 | BX98: 305333.33 | BY98: 294666.67 | BZ98: 294666.67 | CA98: 289333.33 | CC98: 294666.67 | CD98: 305333.33 | CF98: 305333.33 | CG98: 294666.67 | CH98: 289333.33 | CI98: 294666.67 | CJ98: 294666.67
B99: 6 | C99: HORQUILLA EMBRAGUE | D99: 1 | E99: 281000 | F99: 287770.6 | G99: 290133.6 | I99: 275050.33 | K99: 298187.83 | O99: 258187.83 | T99: 264666.67 | Z99: 258187.83 | AJ99: 266689.2 | AK99: 265912.7 | AL99: 298187.83 | AM99: 282187.83 | AO99: 274187.83 | AP99: 0 | AQ99: 282187.83 | AU99: 258386 | AX99: 282187.83 | BB99: 282241.5 | BE99: 274187.83 | BI99: 270254.33 | BL99: 275052 | BU99: 280322 | BV99: 274187.83 | BW99: 282339.33 | BX99: 311452 | BY99: 283963.33 | BZ99: 282187.83 | CA99: 274187.83 | CC99: 282187.83 | CD99: 298187.83 | CF99: 313612 | CG99: 282187.83 | CH99: 286749.33 | CI99: 295452 | CJ99: 288441.5
B100: 7 | C100: BUJE O RODAMIENTO VOLANTE | D100: 1 | E100: 136400 | F100: 134400 | G100: 133400 | I100: 148833.33 | K100: 156666.67 | O100: 137000 | T100: 137000 | Z100: 137000 | AJ100: 138500 | AK100: 138500 | AL100: 156666.67 | AM100: 148833.33 | AO100: 144833.33 | AP100: 0 | AQ100: 148833.33 | AU100: 137000 | AX100: 148833.33 | BB100: 144833.33 | BE100: 144833.33 | BI100: 137000 | BL100: 137000 | BU100: 164500 | BV100: 144833.33 | BW100: 144833.33 | BX100: 156666.67 | BY100: 148833.33 | BZ100: 148833.33 | CA100: 144833.33 | CC100: 148833.33 | CD100: 156666.67 | CF100: 156666.67 | CG100: 148833.33 | CH100: 144833.33 | CI100: 148833.33 | CJ100: 148833.33
B101: 8 | C101: GUAYA EMBRAGUE | D101: 1 | E101: 217700 | F101: 236087 | G101: 231987 | I101: 185145.75 | K101: 226645 | O101: 204645 | T101: 189166.67 | Z101: 204645 | AJ101: 230887 | AK101: 230887 | AL101: 226645 | AM101: 217978.33 | AO101: 213311.67 | AP101: 0 | AQ101: 217978.33 | AU101: 204645 | AX101: 217978.33 | BB101: 213311.67 | BE101: 213311.67 | BI101: 204645 | BL101: 204645 | BU101: 235978.33 | BV101: 213311.67 | BW101: 213311.67 | BX101: 226645 | BY101: 211763.83 | BZ101: 217978.33 | CA101: 213311.67 | CC101: 217978.33 | CD101: 226645 | CF101: 226645 | CG101: 217978.33 | CH101: 213311.67 | CI101: 217978.33 | CJ101: 217978.33
B102: 9 | C102: CREMALLERA VOLANTE | D102: 1 | E102: 617400 | F102: 629000 | G102: 629900 | I102: 683666.67 | K102: 638000 | O102: 560666.67 | T102: 560666.67 | Z102: 560666.67 | AJ102: 628400 | AK102: 628400 | AL102: 638000 | AM102: 622000 | AO102: 601333.33 | AP102: 0 | AQ102: 622000 | AU102: 560666.67 | AX102: 622000 | BB102: 601333.33 | BE102: 601333.33 | BI102: 560666.67 | BL102: 560666.67 | BU102: 648166.67 | BV102: 601333.33 | BW102: 601333.33 | BX102: 638000 | BY102: 622000 | BZ102: 622000 | CA102: 601333.33 | CC102: 622000 | CD102: 638000 | CF102: 638000 | CG102: 622000 | CH102: 601333.33 | CI102: 622000 | CJ102: 622000
B103: ITEM | C103: SISTEMA ELÉCTRICO | D103: CANTIDAD
B104: 1 | C104: COMPUTADOR PRINCIPAL MOTOR | D104: 1 | E104: 5220600 | F104: 4609900 | G104: 4571100 | I104: 5250000 | K104: 4608666.7 | O104: 3612666.7 | T104: 3579333.3 | Z104: 4046000 | AJ104: 4481200 | AK104: 4481200 | AL104: 4608666.7 | AM104: 4383333.3 | AO104: 4270666.7 | AP104: 0 | AQ104: 4383333.3 | AU104: 4046000 | AX104: 4383333.3 | BB104: 4270666.7 | BE104: 4270666.7 | BI104: 4046000 | BL104: 4046000 | BU104: 4833333.3 | BV104: 4270666.7 | BW104: 4270666.7 | BX104: 4608666.7 | BY104: 4383333.3 | BZ104: 4383333.3 | CA104: 4270666.7 | CC104: 4383333.3 | CD104: 4608666.7 | CF104: 4608666.7 | CG104: 4383333.3 | CH104: 4270666.7 | CI104: 4383333.3 | CJ104: 4383333.3
B105: 2 | C105: ALTERNADOR COMPLETO. | D105: 1 | E105: 1462800 | F105: 1530800 | G105: 1510500 | I105: 1660000 | K105: 1590666.7 | O105: 1388666.7 | T105: 1388666.7 | Z105: 1388666.7 | AJ105: 1422300 | AK105: 1422300 | AL105: 1590666.7 | AM105: 1510000 | AO105: 1469333.3 | AP105: 0 | AQ105: 1510000 | AU105: 1388666.7 | AX105: 1510000 | BB105: 1469333.3 | BE105: 1469333.3 | BI105: 1388666.7 | BL105: 1388666.7 | BU105: 1672000 | BV105: 1469333.3 | BW105: 1469333.3 | BX105: 1590666.7 | BY105: 1510000 | BZ105: 1510000 | CA105: 1469333.3 | CC105: 1510000 | CD105: 1590666.7 | CF105: 1590666.7 | CG105: 1510000 | CH105: 1469333.3 | CI105: 1510000 | CJ105: 1510000
B106: 3 | C106: PORTA ESCOBILLAS | D106: 1 | E106: 196600 | F106: 201100 | G106: 197000 | I106: 201333.33 | K106: 192666.67 | O106: 172000 | T106: 172000 | Z106: 172000 | AJ106: 202000 | AK106: 202000 | AL106: 192666.67 | AM106: 184666.67 | AO106: 180000 | AP106: 0 | AQ106: 184666.67 | AU106: 172000 | AX106: 184666.67 | BB106: 180000 | BE106: 180000 | BI106: 172000 | BL106: 172000 | BU106: 200666.67 | BV106: 180000 | BW106: 180000 | BX106: 192666.67 | BY106: 184666.67 | BZ106: 184666.67 | CA106: 180000 | CC106: 184666.67 | CD106: 192666.67 | CF106: 192666.67 | CG106: 184666.67 | CH106: 180000 | CI106: 184666.67 | CJ106: 184666.67
B107: 4 | C107: RODAMIENTO ALTERNADOR | D107: 1 | E107: 130600 | F107: 136900 | G107: 134500 | I107: 151833.33 | K107: 157666.67 | O107: 143000 | T107: 143000 | Z107: 143000 | AJ107: 138700 | AK107: 140100 | AL107: 157666.67 | AM107: 151833.33 | AO107: 148833.33 | AP107: 0 | AQ107: 151833.33 | AU107: 143000 | AX107: 151833.33 | BB107: 148833.33 | BE107: 148833.33 | BI107: 143000 | BL107: 143000 | BU107: 163500 | BV107: 148833.33 | BW107: 148833.33 | BX107: 157666.67 | BY107: 151833.33 | BZ107: 151833.33 | CA107: 148833.33 | CC107: 151833.33 | CD107: 157666.67 | CF107: 157666.67 | CG107: 151833.33 | CH107: 148833.33 | CI107: 151833.33 | CJ107: 151833.33
B108: 5 | C108: REGULADOR DE VOLTAJE | D108: 1 | E108: 327200 | F108: 335900 | G108: 326100 | I108: 307000 | K108: 311333.33 | O108: 271333.33 | T108: 271333.33 | Z108: 271333.33 | AJ108: 309600 | AK108: 309600 | AL108: 311333.33 | AM108: 295333.33 | AO108: 287333.33 | AP108: 0 | AQ108: 295333.33 | AU108: 271333.33 | AX108: 295333.33 | BB108: 287333.33 | BE108: 287333.33 | BI108: 271333.33 | BL108: 271333.33 | BU108: 328000 | BV108: 287333.33 | BW108: 287333.33 | BX108: 311333.33 | BY108: 295333.33 | BZ108: 295333.33 | CA108: 287333.33 | CC108: 295333.33 | CD108: 311333.33 | CF108: 311333.33 | CG108: 295333.33 | CH108: 287333.33 | CI108: 295333.33 | CJ108: 295333.33
B109: 6 | C109: SENSOR CIGÜEÑAL (CKP) | D109: 1 | E109: 409300 | F109: 413004.4 | G109: 409239.4 | I109: 437142.5 | K109: 390795 | O109: 344174 | T109: 339666.67 | Z109: 344174 | AJ109: 429737.8 | AK109: 425277 | AL109: 390795 | AM109: 370795 | AO109: 360795 | AP109: 0 | AQ109: 370795 | AU109: 348229.67 | AX109: 370795 | BB109: 376326.17 | BE109: 360795 | BI109: 362354 | BL109: 371674.67 | BU109: 441008 | BV109: 360795 | BW109: 380379.67 | BX109: 412354 | BY109: 378337.83 | BZ109: 370795 | CA109: 360795 | CC109: 370795 | CD109: 390795 | CF109: 419604.67 | CG109: 370795 | CH109: 376091 | CI109: 396409.67 | CJ109: 383581.17
B110: 7 | C110: FAROLA | D110: 1 | E110: 1225500 | F110: 1178500 | G110: 1101299.9 | I110: 869666.67 | K110: 903000 | O110: 695666.67 | T110: 705666.67 | Z110: 762333.33 | AJ110: 1129700 | AK110: 1179700 | AL110: 986333.33 | AM110: 903000 | AO110: 878333.33 | AP110: 0 | AQ110: 936333.33 | AU110: 762333.33 | AX110: 936333.33 | BB110: 828333.33 | BE110: 911666.67 | BI110: 812333.33 | BL110: 804000 | BU110: 981833.33 | BV110: 911666.67 | BW110: 845000 | BX110: 919666.67 | BY110: 869666.67 | BZ110: 936333.33 | CA110: 878333.33 | CC110: 936333.33 | CD110: 953000 | CF110: 889666.67 | CG110: 839666.67 | CH110: 815000 | CI110: 839666.67 | CJ110: 839666.67
B111: 8 | C111: SENSOR O PERA FRENO | D111: 1 | E111: 261200 | F111: 271800 | G111: 270100 | I111: 273666.67 | K111: 274500 | O111: 243000 | T111: 243000 | Z111: 243000 | AJ111: 271900 | AK111: 271900 | AL111: 274500 | AM111: 267000 | AO111: 259000 | AP111: 0 | AQ111: 267000 | AU111: 243000 | AX111: 267000 | BB111: 259000 | BE111: 259000 | BI111: 243000 | BL111: 243000 | BU111: 278666.67 | BV111: 259000 | BW111: 259000 | BX111: 274500 | BY111: 267000 | BZ111: 267000 | CA111: 259000 | CC111: 267000 | CD111: 274500 | CF111: 274500 | CG111: 267000 | CH111: 259000 | CI111: 267000 | CJ111: 267000
B112: 9 | C112: STOP | D112: 1 | E112: 484500 | F112: 515502.4 | G112: 468700 | I112: 438666.83 | K112: 426333.33 | O112: 384666.67 | T112: 384666.67 | Z112: 441670.67 | AJ112: 483602.4 | AK112: 445400 | AL112: 413000 | AM112: 417000 | AO112: 417333.33 | AP112: 0 | AQ112: 410333.33 | AU112: 389666.67 | AX112: 410333.33 | BB112: 397333.33 | BE112: 402333.33 | BI112: 473620.67 | BL112: 483160.67 | BU112: 539827.33 | BV112: 389000 | BW112: 479180.67 | BX112: 513620.67 | BY112: 465500.5 | BZ112: 397000 | CA112: 457670.67 | CC112: 397000 | CD112: 481670.67 | CF112: 433333.33 | CG112: 417333.33 | CH112: 409333.33 | CI112: 417333.33 | CJ112: 417333.33
B113: 10 | C113: ARRANQUE COMPLETO. | D113: 1 | E113: 1442000 | F113: 1510400 | G113: 1408900 | I113: 1535833.3 | K113: 1489333.3 | O113: 1172166.7 | T113: 1212166.7 | Z113: 1355333.3 | AJ113: 1404100 | AK113: 1404100 | AL113: 1489333.3 | AM113: 1469166.7 | AO113: 1436000 | AP113: 0 | AQ113: 1469166.7 | AU113: 1355333.3 | AX113: 1469166.7 | BB113: 1436000 | BE113: 1436000 | BI113: 1355333.3 | BL113: 1355333.3 | BU113: 1509666.7 | BV113: 1436000 | BW113: 1436000 | BX113: 1489333.3 | BY113: 1469166.7 | BZ113: 1469166.7 | CA113: 1436000 | CC113: 1469166.7 | CD113: 1489333.3 | CF113: 1489333.3 | CG113: 1469166.7 | CH113: 1436000 | CI113: 1469166.7 | CJ113: 1469166.7
B114: 11 | C114: INDUCIDO | D114: 1 | E114: 376200 | F114: 373500 | G114: 336400 | I114: 398666.67 | K114: 434000 | O114: 370666.67 | T114: 370666.67 | Z114: 370666.67 | AJ114: 320800 | AK114: 320800 | AL114: 434000 | AM114: 408666.67 | AO114: 396000 | AP114: 0 | AQ114: 408666.67 | AU114: 370666.67 | AX114: 408666.67 | BB114: 396000 | BE114: 396000 | BI114: 370666.67 | BL114: 370666.67 | BU114: 459333.33 | BV114: 396000 | BW114: 396000 | BX114: 434000 | BY114: 408666.67 | BZ114: 408666.67 | CA114: 396000 | CC114: 408666.67 | CD114: 434000 | CF114: 434000 | CG114: 408666.67 | CH114: 396000 | CI114: 408666.67 | CJ114: 408666.67
B115: 12 | C115: AUTOMÁTICO | D115: 1 | E115: 305200 | F115: 313300 | G115: 313300 | I115: 317000 | K115: 336333.33 | O115: 296333.33 | T115: 296333.33 | Z115: 296333.33 | AJ115: 315700 | AK115: 315700 | AL115: 336333.33 | AM115: 320333.33 | AO115: 312333.33 | AP115: 0 | AQ115: 320333.33 | AU115: 296333.33 | AX115: 320333.33 | BB115: 312333.33 | BE115: 312333.33 | BI115: 296333.33 | BL115: 296333.33 | BU115: 353000 | BV115: 312333.33 | BW115: 312333.33 | BX115: 336333.33 | BY115: 320333.33 | BZ115: 320333.33 | CA115: 312333.33 | CC115: 320333.33 | CD115: 336333.33 | CF115: 336333.33 | CG115: 320333.33 | CH115: 312333.33 | CI115: 320333.33 | CJ115: 320333.33
... B138: 35 | C138: BATERIA | D138: 1 | E138: 926600 | F138: 931200 | G138: 908800 | I138: 912000 | K138: 858333.33 | O138: 898333.33 | T138: 893333.33 | Z138: 864333.33 | AJ138: 871800 | AK138: 871800 | AL138: 826666.67 | AM138: 833333.33 | AO138: 820000 | AP138: 0 | AQ138: 806666.67 | AU138: 845000 | AX138: 858333.33 | BB138: 866666.67 | BE138: 858333.33 | BI138: 845000 | BL138: 841000 | BU138: 856666.67 | BV138: 853333.33 | BW138: 848333.33 | BX138: 826666.67 | BY138: 865000 | BZ138: 838333.33 | CA138: 845000 | CC138: 865000 | CD138: 858333.33 | CF138: 855666.67 | CG138: 865000 | CH138: 851666.67 | CI138: 851666.67 | CJ138: 823333.33
B139: ITEM | C139: SISTEMA DE REFRIGERACIÓN Y A/A. | D139: CANTIDAD
B140: 1 | C140: BOMBA DE AGUA Y EMPAQUE | D140: 1 | E140: 692000 | F140: 687400 | G140: 694500 | I140: 713666.67 | K140: 670000 | O140: 591333.33 | T140: 591333.33 | Z140: 591333.33 | AJ140: 701300 | AK140: 701300 | AL140: 670000 | AM140: 638666.67 | AO140: 622666.67 | AP140: 0 | AQ140: 638666.67 | AU140: 591333.33 | AX140: 638666.67 | BB140: 622666.67 | BE140: 622666.67 | BI140: 591333.33 | BL140: 591333.33 | BU140: 701333.33 | BV140: 622666.67 | BW140: 622666.67 | BX140: 670000 | BY140: 638666.67 | BZ140: 638666.67 | CA140: 622666.67 | CC140: 638666.67 | CD140: 670000 | CF140: 670000 | CG140: 638666.67 | CH140: 622666.67 | CI140: 638666.67 | CJ140: 638666.67
B141: 2 | C141: TERMOSTATO | D141: 1 | E141: 251500 | F141: 263259.8 | G141: 263998.8 | I141: 343298.17 | K141: 266433 | O141: 232433 | T141: 228000 | Z141: 232433 | AJ141: 261859.8 | AK141: 261859.8 | AL141: 266433 | AM141: 252433 | AO141: 245766.33 | AP141: 0 | AQ141: 252433 | AU141: 232433 | AX141: 252433 | BB141: 252471.33 | BE141: 245766.33 | BI141: 242288 | BL141: 245168 | BU141: 292501.33 | BV141: 245766.33 | BW141: 252471.33 | BX141: 276288 | BY141: 252273.33 | BZ141: 252433 | CA141: 245766.33 | CC141: 252433 | CD141: 266433 | CF141: 278088 | CG141: 252433 | CH141: 255981.33 | CI141: 262288 | CJ141: 257563
B142: 3 | C142: RADIADOR COMPLETO CON TAPA | D142: 1 | E142: 1036700 | F142: 1070500 | G142: 1064600 | I142: 1069666.7 | K142: 1034166.7 | O142: 940666.67 | T142: 940666.67 | Z142: 940666.67 | AJ142: 1060400 | AK142: 1060400 | AL142: 1034166.7 | AM142: 1019666.7 | AO142: 999333.33 | AP142: 0 | AQ142: 1019666.7 | AU142: 940666.67 | AX142: 1019666.7 | BB142: 999333.33 | BE142: 999333.33 | BI142: 940666.67 | BL142: 997333.33 | BU142: 1218666.7 | BV142: 999333.33 | BW142: 999333.33 | BX142: 1034166.7 | BY142: 1168666.7 | BZ142: 1118666.7 | CA142: 1089333.3 | CC142: 1118666.7 | CD142: 1210000 | CF142: 1034166.7 | CG142: 1019666.7 | CH142: 999333.33 | CI142: 1185333.3 | CJ142: 1019666.7
B143: 4 | C143: DEPOSITO RECUPARADOR AGUA CON TAPA | D143: 1 | E143: 293900 | F143: 294000 | G143: 284400 | I143: 329000 | K143: 262000 | O143: 232666.67 | T143: 232666.67 | Z143: 232666.67 | AJ143: 284300 | AK143: 284300 | AL143: 262000 | AM143: 250666.67 | AO143: 244666.67 | AP143: 0 | AQ143: 250666.67 | AU143: 232666.67 | AX143: 250666.67 | BB143: 244666.67 | BE143: 244666.67 | BI143: 232666.67 | BL143: 232666.67 | BU143: 274000 | BV143: 244666.67 | BW143: 244666.67 | BX143: 262000 | BY143: 340666.67 | BZ143: 250666.67 | CA143: 244666.67 | CC143: 250666.67 | CD143: 262000 | CF143: 262000 | CG143: 250666.67 | CH143: 244666.67 | CI143: 250666.67 | CJ143: 250666.67
B144: 5 | C144: SOPORTE RADIADOR | D144: 1 | E144: 132000 | F144: 140800 | G144: 133200 | I144: 231333.33 | K144: 218666.67 | O144: 192000 | T144: 192000 | Z144: 192000 | AJ144: 141600 | AK144: 145200 | AL144: 218666.67 | AM144: 208000 | AO144: 202666.67 | AP144: 0 | AQ144: 208000 | AU144: 192000 | AX144: 208000 | BB144: 202666.67 | BE144: 202666.67 | BI144: 192000 | BL144: 192000 | BU144: 229333.33 | BV144: 202666.67 | BW144: 202666.67 | BX144: 218666.67 | BY144: 208000 | BZ144: 208000 | CA144: 202666.67 | CC144: 208000 | CD144: 218666.67 | CF144: 218666.67 | CG144: 208000 | CH144: 202666.67 | CI144: 208000 | CJ144: 208000
B145: 6 | C145: ENFOCADOR RADIADOR | D145: 1 | E145: 211166.67 | F145: 251833.33 | G145: 232500 | I145: 431038.33 | K145: 376425 | O145: 302750 | T145: 275250 | Z145: 300250 | AJ145: 260499.67 | AK145: 272499.83 | AL145: 350250 | AM145: 358425 | AO145: 349425 | AP145: 0 | AQ145: 358425 | AU145: 331425 | AX145: 358425 | BB145: 449392.5 | BE145: 349425 | BI145: 331425 | BL145: 431392.5 | BU145: 495142.5 | BV145: 349425 | BW145: 331807.5 | BX145: 358807.5 | BY145: 340807.5 | BZ145: 358425 | CA145: 349425 | CC145: 358425 | CD145: 376425 | CF145: 376425 | CG145: 358425 | CH145: 349425 | CI145: 458392.5 | CJ145: 358425
B146: 7 | C146: SENSOR O PERA TEMPERATURA | D146: 1 | E146: 241200 | F146: 244600 | G146: 240500 | I146: 236333.33 | K146: 248666.67 | O146: 222000 | T146: 222000 | Z146: 222000 | AJ146: 248800 | AK146: 248800 | AL146: 248666.67 | AM146: 238000 | AO146: 232666.67 | AP146: 0 | AQ146: 238000 | AU146: 222000 | AX146: 238000 | BB146: 232666.67 | BE146: 232666.67 | BI146: 222000 | BL146: 222000 | BU146: 259333.33 | BV146: 232666.67 | BW146: 232666.67 | BX146: 248666.67 | BY146: 238000 | BZ146: 238000 | CA146: 232666.67 | CC146: 238000 | CD146: 248666.67 | CF146: 248666.67 | CG146: 238000 | CH146: 232666.67 | CI146: 238000 | CJ146: 238000
B147: 8 | C147: REFRIGERANTE MOTOR (GALON) | D147: 1 | E147: 97300 | F147: 88200 | G147: 82900 | I147: 59666.667 | K147: 64000 | O147: 61166.667 | T147: 61166.667 | Z147: 61166.667 | AJ147: 84900 | AK147: 84900 | AL147: 64000 | AM147: 63000 | AO147: 62333.333 | AP147: 0 | AQ147: 63000 | AU147: 61166.667 | AX147: 63000 | BB147: 62333.333 | BE147: 62333.333 | BI147: 61166.667 | BL147: 61166.667 | BU147: 65166.667 | BV147: 62333.333 | BW147: 62333.333 | BX147: 64000 | BY147: 63000 | BZ147: 63000 | CA147: 62333.333 | CC147: 63000 | CD147: 64000 | CF147: 64000 | CG147: 63000 | CH147: 62333.333 | CI147: 63000 | CJ147: 63000
B148: 9 | C148: FILTRO AIRE ACONDICIONADO | D148: 1 | E148: 133100 | F148: 144001 | G148: 144701 | I148: 114334.83 | K148: 144668.33 | O148: 130001.67 | T148: 115000 | Z148: 130001.67 | AJ148: 141101 | AK148: 141101 | AL148: 144668.33 | AM148: 138668.33 | AO148: 135335 | AP148: 0 | AQ148: 138668.33 | AU148: 133871.67 | AX148: 138668.33 | BB148: 141185 | BE148: 135335 | BI148: 116666.67 | BL148: 115666.67 | BU148: 139000 | BV148: 124333.33 | BW148: 124333.33 | BX148: 133666.67 | BY148: 127666.67 | BZ148: 127666.67 | CA148: 127000 | CC148: 130333.33 | CD148: 134166.67 | CF148: 136333.33 | CG148: 127333.33 | CH148: 125333.33 | CI148: 130333.33 | CJ148: 125666.67
...

Sheet CAMPERO - 2026
B2: PROPUESTA CAMPERO | E2: =+'AUTOMOVILES - 2026'!$E$2 -> REPUESTOS AUTOMOTORES MULTIMARCA (REPUESTOS) MANTENIMIENTO CORRECTIVO *** Incluye Costos Directos e Indirectos | M2: =+E2 -> REPUESTOS AUTOMOTORES MULTIMARCA (REPUESTOS) MANTENIMIENTO CORRECTIVO *** Incluye Costos Directos e Indirectos
B4: DESCRIPCION | E4: KIA SORENTO EX | F4: MITSUBISHI NATIVA | G4: MITSUBISHI NATIVA 5P | H4: SUZUKI VITARA ALL-GR | I4: SUZUKI JIMNY | J4: CHEVROLET TRAIL BLAZER 5P | K4: CHEVROLET GRAND VITARA | M4: NISSAN XTRAIL | O4: CHEVROLET DUSTER DYNAMIQUE | P4: CHEVROLET DUSTER | T4: TOYOTA PRADO 5P | V4: TOYOTA PRADO | X4: TOYOTA FORTUNER
B5: MODELO | E5: 2014 | F5: 2015 | G5: 2016 | H5: 2017 | I5: 2016 | J5: 2023 | K5: 2007 | L5: 2009 | M5: 2012 | N5: 2014 | O5: 2016 | P5: 2016 | Q5: 2018 | R5: 2020 | S5: 2026 | T5: 2013 | U5: 2021 | V5: 2004 | W5: 2013 | X5: 2023
B6: UNIDAD | E6: 1 | F6: 1 | G6: 1 | H6: 4 | I6: 1 | J6: 1 | K6: 1 | L6: 2 | M6: 1 | N6: 1 | O6: 2 | P6: 2 | Q6: 1 | R6: 1 | S6: 2 | T6: 1 | U6: 1 | V6: 1 | W6: 1 | X6: 2
E7: VALOR TOTAL INCLUIDO IVA | F7: VALOR TOTAL INCLUIDO IVA | G7: VALOR TOTAL INCLUIDO IVA | H7: VALOR TOTAL INCLUIDO IVA | I7: VALOR TOTAL INCLUIDO IVA | J7: VALOR TOTAL INCLUIDO IVA | K7: VALOR TOTAL INCLUIDO IVA | M7: VALOR TOTAL INCLUIDO IVA | O7: VALOR TOTAL INCLUIDO IVA | P7: VALOR TOTAL INCLUIDO IVA | T7: VALOR TOTAL INCLUIDO IVA | V7: VALOR TOTAL INCLUIDO IVA | X7: VALOR TOTAL INCLUIDO IVA
B8: ITEM | C8: SISTEMA DE FRENOS | D8: CANTIDAD
B9: 1 | C9: JUEGO DE PASTILLAS DELANTERAS | D9: 1 | E9: 509800 | F9: 580800 | G9: 580800 | H9: 448600 | I9: 478200 | J9: 576000 | K9: 426000 | M9: 465400 | O9: 466800 | P9: 470400 | T9: 581600 | V9: 536800 | X9: 506200
B10: 2 | C10: JUEGO DE DISCOS DELANTEROS | D10: 1 | E10: 1264800 | F10: 1307400 | G10: 1307400 | H10: 937000 | I10: 978200 | J10: 1072200 | K10: 899000 | M10: 1271400 | O10: 964800 | P10: 970800 | T10: 962000 | V10: 883800 | X10: 736800
B11: 3 | C11: PISTÓN MORDAZA | D11: 1 | E11: 353700 | F11: 352900 | G11: 352900 | H11: 363700 | I11: 347100 | J11: 363200 | K11: 324500 | M11: 348300 | O11: 345500 | P11: 361900 | T11: 372500 | V11: 332100 | X11: 416900
B12: 4 | C12: MORDAZA Y SU PASADOR | D12: 1 | E12: 2426000 | F12: 2995200 | G12: 2995200 | H12: 1832800 | I12: 2052800 | J12: 1675000 | K12: 1766400 | M12: 2115800 | O12: 2007000 | P12: 2007000 | T12: 2111000 | V12: 1882400 | X12: 3530200
B13: 5 | C13: JUEGO EMPAQUETADURTA LIGAS CALÍPER | D13: 1 | E13: 288700 | F13: 351100 | G13: 351100 | H13: 230700 | I13: 241700 | J13: 267300 | K13: 213100 | M13: 151100 | O13: 237100 | P13: 231900 | T13: 264500 | V13: 231100 | X13: 188100
B14: 6 | C14: BOMBA DE FRENO | D14: 1 | E14: 729900 | F14: 808900 | G14: 808900 | H14: 745762.3 | I14: 737400 | J14: 806600 | K14: 702798.2 | M14: 746898.2 | O14: 730200 | P14: 728200 | T14: 825798.2 | V14: 751198.2 | X14: 632800
B15: 7 | C15: DEPOSITO BOMBA DE FRENOS | D15: 1 | E15: 215800 | F15: 223000 | G15: 223000 | H15: 217800 | I15: 213400 | J15: 239900 | K15: 206500 | M15: 217600 | O15: 210400 | P15: 214800 | T15: 259600 | V15: 219700 | X15: 259700
B16: 8 | C16: SERVO FRENO (BOOSTER) | D16: 1 | E16: 1138400 | F16: 1255100 | G16: 1255100 | H16: 1114300 | I16: 1186000 | J16: 1283500 | K16: 1036900 | M16: 1110000 | O16: 1177100 | P16: 1142100 | T16: 1155100 | V16: 1060300 | X16: 932200
B17: 9 | C17: MANGUERA FRENO | D17: 1 | E17: 187900 | F17: 208300 | G17: 208300 | H17: 188424.6 | I17: 208200 | J17: 195100 | K17: 178338.6 | M17: 188338.6 | O17: 205500 | P17: 218500 | T17: 186138.6 | V17: 171438.6 | X17: 203500
B18: 10 | C18: LIMPIADOR DE FRENOS 500 ml | D18: 1 | E18: 60700 | F18: 62100 | G18: 62100 | H18: 60300 | I18: 58500 | J18: 65500 | K18: 54800 | M18: 57100 | O18: 57300 | P18: 59700 | T18: 64600 | V18: 59000 | X18: 71600
B19: 11 | C19: SENSOR ABS RUEDA | D19: 1 | E19: 580900 | F19: 611700 | G19: 611700 | H19: 582100 | I19: 580500 | J19: 641500 | K19: 529800 | M19: 553100 | O19: 571500 | P19: 590100 | T19: 645700 | V19: 571800 | X19: 652300
B20: 12 | C20: JUEGO BANDAS TRASERAS | D20: 1 | E20: 352300 | F20: 367300 | G20: 367300 | H20: 434100 | I20: 445100 | J20: 433300 | K20: 373333.33 | M20: 254666.67 | O20: 439300 | P20: 431300 | T20: 386100 | V20: 353300 | X20: 631900
... B26: 18 | C26: GRADUACION FRENO | D26: 1 | E26: 107166.67 | F26: 145000 | G26: 145000 | H26: 108000 | I26: 149500 | J26: 164333.33 | K26: 106333.33 | M26: 112500 | O26: 148300 | P26: 120900 | T26: 142833.33 | V26: 116000 | X26: 178333.33
B27: ITEM | C27: SISTEMA DE SUSPENSIÓN | D27: CANTIDAD
B28: 1 | C28: JUEGO AMORTIGUADORES DELANTEROS | D28: 1 | E28: 1058000 | F28: 1174000 | G28: 1174000 | H28: 987400 | I28: 1055400 | J28: 1057100 | K28: 930000 | M28: 1032400 | O28: 1046600 | P28: 1009600 | T28: 994400 | V28: 915400 | X28: 755100
B29: 2 | C29: BUJE TIJERA INFERIOR | D29: 1 | E29: 358500 | F29: 395200 | G29: 395200 | H29: 317000 | I29: 295166.67 | J29: 316600 | K29: 298200 | M29: 319500 | O29: 333600 | P29: 333600 | T29: 316300 | V29: 295800 | X29: 322700
B30: 3 | C30: BUJE TIJERA SUPERIOR | D30: 1 | E30: 373500 | F30: 407200 | G30: 407200 | H30: 332000 | I30: 308500 | J30: 328600 | K30: 324700 | M30: 355500 | O30: 300500 | P30: 303833.33 | T30: 343300 | V30: 315100 | X30: 312900
B31: 4 | C31: ROTULA INFERIOR | D31: 1 | E31: 679900 | F31: 744500 | G31: 744500 | H31: 612900 | I31: 714666.67 | J31: 608500 | K31: 576700 | M31: 691500 | O31: 644900 | P31: 646900 | T31: 727300 | V31: 645300 | X31: 599900
B32: 5 | C32: ROTULA SUPERIOR | D32: 1 | E32: 467900 | F32: 474700 | G32: 474700 | H32: 476500 | I32: 398000 | J32: 619100 | K32: 436700 | M32: 459700 | O32: 393666.67 | P32: 410333.33 | T32: 732700 | V32: 650100 | X32: 914300
B33: 6 | C33: MUÑECO BARRA ESTABILIZADORA | D33: 1 | E33: 341200 | F33: 430400 | G33: 430400 | H33: 510882.7 | I33: 434800 | J33: 466300 | K33: 472700 | M33: 430200 | O33: 432800 | P33: 486800 | T33: 538400 | V33: 446300 | X33: 781700
B34: 7 | C34: JUEGO DE BUJES BARRA ESTABILIZADORA | D34: 1 | E34: 324000 | F34: 401800 | G34: 401800 | H34: 378426.9 | I34: 329000 | J34: 367700 | K34: 364070.6 | M34: 534023.6 | O34: 327400 | P34: 351400 | T34: 442223.6 | V34: 420723.6 | X34: 439500
B35: 8 | C35: TIJERA INFERIOR DELANTERA | D35: 1 | E35: 1117100 | F35: 1233300 | G35: 1233300 | H35: 792900 | I35: 753000 | J35: 1397100 | K35: 758900 | M35: 1121700 | O35: 786900 | P35: 786900 | T35: 1079500 | V35: 953900 | X35: 683500
B36: 9 | C36: TIJERA SUPERIOR DELANTERA | D36: 1 | E36: 719300 | F36: 735700 | G36: 735700 | H36: 792900 | I36: 753000 | J36: 1386300 | K36: 758900 | M36: 691900 | O36: 731666.67 | P36: 731666.67 | T36: 1048100 | V36: 928900 | X36: 990100
B37: 10 | C37: JUEGO ESPIRALES DELANTEROS | D37: 1 | E37: 1286800 | F37: 1580700 | G37: 1580700 | H37: 942700 | I37: 1143500 | J37: 714000 | K37: 882400 | M37: 1302200 | O37: 932700 | P37: 932700 | T37: 1230000 | V37: 1057600 | X37: 1042800
B38: 11 | C38: JUEGO SOPORTES AMORTIGUADORES DEL,CON RODAMIENTOS | D38: 1 | E38: 524900 | F38: 585500 | G38: 585500 | H38: 487500 | I38: 519900 | J38: 476500 | K38: 445300 | M38: 517500 | O38: 513300 | P38: 505300 | T38: 557100 | V38: 492900 | X38: 699500
B39: 12 | C39: BARRA ESTABILIZADORA DELANTERA | D39: 1 | E39: 652500 | F39: 689900 | G39: 689900 | H39: 653500 | I39: 636500 | J39: 738800 | K39: 562400 | M39: 600900 | O39: 620300 | P39: 636100 | T39: 828300 | V39: 742900 | X39: 581300
... B53: 26 | C53: RODAMIENTO TRASERO | D53: 1 | E53: 719400 | F53: 981200 | G53: 981200 | H53: 699512.6 | I53: 595400 | J53: 675400 | K53: 539000 | M53: 580400 | O53: 584600 | P53: 598600 | T53: 565800 | V53: 512600 | X53: 515200
B54: ITEM | C54: SISTEMA DE DIRECCIÓN | D54: CANTIDAD
B55: 1 | C55: CAJA DIRECCCION | D55: 1 | E55: 3176200 | F55: 3189700 | G55: 3189700 | H55: 3338459.4 | I55: 3280800 | J55: 3772500 | K55: 3089159.4 | M55: 3222559.4 | O55: 3247700 | P55: 2162700 | T55: 3070059.4 | V55: 2766959.4 | X55: 2057900
B56: 2 | C56: EMPAQUETADURA CAJA DIRECCIÓN | D56: 1 | E56: 1195500 | F56: 1295500 | G56: 1295500 | H56: 1064700 | I56: 1121300 | J56: 1323200 | K56: 1007300 | M56: 1167200 | O56: 1098500 | P56: 1087500 | T56: 1208100 | V56: 1155900 | X56: 1111700
B57: 3 | C57: BIELA DIRECCIÓN | D57: 1 | E57: 660625 | F57: 658125 | G57: 658125 | H57: 810353.5 | I57: 658125 | J57: 678125 | K57: 654375 | M57: 664375 | O57: 658125 | P57: 654375 | T57: 664375 | V57: 654375 | X57: 678125
B58: 4 | C58: JUEGO GUARDAPOLVOS CAJA DE DIRECCIÓN | D58: 1 | E58: 206900 | F58: 210300 | G58: 210300 | H58: 210900 | I58: 206700 | J58: 228100 | K58: 193300 | M58: 203300 | O58: 205500 | P58: 209700 | T58: 219500 | V58: 198300 | X58: 236500
B59: 5 | C59: TERMINAL DE DIRECCIÓN | D59: 1 | E59: 670700 | F59: 834300 | G59: 834300 | H59: 526700 | I59: 575700 | J59: 531300 | K59: 490700 | M59: 661100 | O59: 564500 | P59: 562500 | T59: 416700 | V59: 368900 | X59: 460300
B60: 6 | C60: ACEITE HIDRAULICO DIRECCION (CUARTO) | D60: 1 | E60: 66500 | F60: 67900 | G60: 67900 | H60: 67300 | I60: 67900 | J60: 68100 | K60: 63100 | M60: 62900 | O60: 66700 | P60: 66700 | T60: 64100 | V60: 56500 | X60: 65100
B61: 7 | C61: CORREA BOMBA DIRECCION | D61: 1 | E61: 228000 | F61: 234000 | G61: 234000 | H61: 263100 | I61: 258800 | J61: 252100 | K61: 249000 | M61: 219600 | O61: 257900 | P61: 262700 | T61: 257300 | V61: 244900 | X61: 274300
B62: 8 | C62: DEPOSITO BOMBA DIRECCION | D62: 1 | E62: 272900 | F62: 280500 | G62: 280500 | H62: 277300 | I62: 267900 | J62: 306400 | K62: 244300 | M62: 260900 | O62: 264300 | P62: 273100 | T62: 315500 | V62: 261700 | X62: 331600
B63: 9 | C63: BRAZO COMPENSADOR | D63: 1 | E63: 356500 | F63: 385250 | G63: 385250 | H63: 329000 | I63: 337750 | J63: 345125 | K63: 304375 | M63: 356500 | O63: 385250 | P63: 367750 | T63: 356500 | V63: 334000 | X63: 429500
B64: 10 | C64: BRAZO AXIAL | D64: 1 | E64: 545000 | F64: 617400 | G64: 617400 | H64: 483200 | I64: 505600 | J64: 654800 | K64: 447400 | M64: 524600 | O64: 498000 | P64: 505000 | T64: 462000 | V64: 417600 | X64: 484800
B65: 11 | C65: GUARDAPOLVO BRAZO AXIAL | D65: 1 | E65: 110400 | F65: 111800 | G65: 111800 | H65: 112000 | I65: 106400 | J65: 121900 | K65: 98100 | M65: 105000 | O65: 104600 | P65: 110200 | T65: 129000 | V65: 105900 | X65: 133300
B66: 12 | C66: BARRA TRANSVERSAL DIRECCIÓN | D66: 1 | E66: 719250 | F66: 755250 | G66: 755250 | H66: 763000 | I66: 770500 | J66: 841125 | K66: 709875 | M66: 719250 | O66: 755250 | P66: 665250 | T66: 719250 | V66: 676500 | X66: 705000
... B70: 16 | C70: SOPORTE CAJA DIRECCIÓN | D70: 1 | E70: 356700 | F70: 372300 | G70: 372300 | H70: 358900 | I70: 366700 | J70: 384300 | K70: 337200 | M70: 353100 | O70: 359500 | P70: 357700 | T70: 369300 | V70: 351200 | X70: 457700
B71: ITEM | C71: SISTEMA DE TRANSMISIÓN | D71: CANTIDAD
B72: 1 | C72: CAJA DE TRANSMISIÓN MECÁNICA | D72: 1 | E72: 7395000 | F72: 7655800 | G72: 7655800 | H72: 7418600 | I72: 7503000 | J72: 8201600 | K72: 7095400 | M72: 7247100 | O72: 7457500 | P72: 7176500 | T72: 7901200 | V72: 7300200 | X72: 7185300
B73: 2 | C73: RETENEDOR DE ENTRADA TRASMISIÓN MEC | D73: 1 | E73: 131300 | F73: 133200 | G73: 133200 | H73: 131200 | I73: 124800 | J73: 155200 | K73: 117000 | M73: 122900 | O73: 122400 | P73: 128200 | T73: 138400 | V73: 126900 | X73: 153200
B74: 3 | C74: RETENEDOR DE SALIDA TRANSMISIÓN MEC | D74: 1 | E74: 120900 | F74: 118200 | G74: 118200 | H74: 121300 | I74: 116800 | J74: 131200 | K74: 112600 | M74: 118500 | O74: 116400 | P74: 120800 | T74: 125500 | V74: 119500 | X74: 149200
B75: 4 | C75: RETEN LATERAL CAJA TRANSVERSAL | D75: 1 | E75: 146800 | F75: 152000 | G75: 152000 | H75: 147200 | I75: 150400 | J75: 155300 | K75: 143100 | M75: 145200 | O75: 149900 | P75: 146700 | T75: 152200 | V75: 145300 | X75: 187600
B76: 5 | C76: GUARDAPOLVO BARRA CAMBIOS | D76: 1 | E76: 86900 | F76: 89000 | G76: 89000 | H76: 87600 | I76: 82400 | J76: 93600 | K76: 76100 | M76: 80900 | O76: 80600 | P76: 85200 | T76: 98900 | V76: 84500 | X76: 108200
B77: 6 | C77: JUEGO BUJES PALANCA SELECTORA CAMBIOS. (KIT) | D77: 1 | E77: 161800 | F77: 168700 | G77: 168700 | H77: 162100 | I77: 159100 | J77: 179100 | K77: 144300 | M77: 152200 | O77: 156100 | P77: 159100 | T77: 194200 | V77: 157500 | X77: 198900
B78: 7 | C78: SENSOR VELOCIDAD | D78: 1 | E78: 485000 | F78: 492400 | G78: 492400 | H78: 495600 | I78: 495200 | J78: 520100 | K78: 463700 | M78: 465900 | O78: 562000 | P78: 565000 | T78: 499000 | V78: 466100 | X78: 539000
B79: 8 | C79: GUAYA VELOCÍMETRO | D79: 1 | E79: 220500 | F79: 234000 | G79: 234000 | H79: 226500 | I79: 234000 | J79: 258000 | K79: 160333.33 | M79: 220500 | O79: 234000 | P79: 226500 | T79: 220500 | V79: 177000 | X79: 258000
B80: 9 | C80: CARDAN DELANTERO | D80: 1 | E80: 1415833.3 | F80: 1978200 | G80: 1978200 | H80: 1443151.7 | I80: 1945300 | J80: 2072900 | K80: 1032833.3 | M80: 1085666.7 | O80: 1142500 | P80: 1095166.7 | T80: 2080100 | V80: 1990300 | X80: 1834100
B81: 10 | C81: CARDAN TRASERO | D81: 1 | E81: 2183800 | F81: 2120300 | G81: 2120300 | H81: 2103391 | I81: 2006500 | J81: 1995000 | K81: 1071500 | M81: 1219000 | O81: 1999000 | P81: 2086500 | T81: 2034100 | V81: 1969100 | X81: 1747900
B82: 11 | C82: CRUCETA CARDAN (UNIDAD) | D82: 1 | E82: 221300 | F82: 210300 | G82: 210300 | H82: 243100 | I82: 230900 | J82: 240700 | K82: 210166.67 | M82: 178500 | O82: 229000 | P82: 242200 | T82: 312400 | V82: 287900 | X82: 506800
B83: 12 | C83: SOPORTE CENTRAL CARDAN | D83: 1 | E83: 405100 | F83: 401200 | G83: 401200 | H83: 452500 | I83: 429500 | J83: 469200 | K83: 412166.67 | M83: 355166.67 | O83: 440400 | P83: 456200 | T83: 501300 | V83: 454500 | X83: 474200
... B92: 21 | C92: RETENEDOR SPEED | D92: 1 | E92: 122500 | F92: 116000 | G92: 116000 | H92: 123263 | I92: 106666.67 | J92: 176833.33 | K92: 89666.667 | M92: 96833.333 | O92: 104000 | P92: 80000 | T92: 138666.67 | V92: 122166.67 | X92: 201833.33
B93: ITEM | C93: SISTEMA DE EMBRAGUE | D93: CANTIDAD
B94: 1 | C94: KIT DE EMBRAGUE | D94: 1 | E94: 2327300 | F94: 2350400 | G94: 2350400 | H94: 1744700 | I94: 1522500 | J94: 2539500 | K94: 1138000 | M94: 1847900 | O94: 1859800 | P94: 1795200 | T94: 2377900 | V94: 2228900 | X94: 1813800
B95: 2 | C95: BOMBA PRINCIPAL EMBRAGUE | D95: 1 | E95: 664600 | F95: 721300 | G95: 721300 | H95: 666291.5 | I95: 635000 | J95: 691400 | K95: 606667.5 | M95: 682467.5 | O95: 661700 | P95: 661700 | T95: 624667.5 | V95: 576967.5 | X95: 698000
B96: 3 | C96: BOMBA AUXILIAR EMBRAGUE | D96: 1 | E96: 509800 | F96: 632500 | G96: 632500 | H96: 553991.8 | I96: 330166.67 | J96: 425700 | K96: 425200 | M96: 494700 | O96: 428900 | P96: 414000 | T96: 471500 | V96: 444200 | X96: 538700
B97: 4 | C97: MANGUERA EMBRAGUE | D97: 1 | E97: 164300 | F97: 176100 | G97: 176100 | H97: 168400 | I97: 172300 | J97: 191800 | K97: 153200 | M97: 161000 | O97: 168700 | P97: 167800 | T97: 170600 | V97: 156700 | X97: 195500
B98: 5 | C98: BALI BOMBA EMBRAGUE | D98: 1 | E98: 356200 | F98: 374600 | G98: 374600 | H98: 331400 | I98: 337300 | J98: 358700 | K98: 314100 | M98: 341500 | O98: 334200 | P98: 350200 | T98: 309500 | V98: 291000 | X98: 290300
B99: 6 | C99: HORQUILLA EMBRAGUE | D99: 1 | E99: 327700 | F99: 369400 | G99: 369400 | H99: 307973.9 | I99: 323800 | J99: 339900 | K99: 273341.5 | M99: 295749 | O99: 321400 | P99: 332400 | T99: 287149 | V99: 261141.5 | X99: 337400
B100: 7 | C100: BUJE O RODAMIENTO VOLANTE | D100: 1 | E100: 148100 | F100: 156700 | G100: 156700 | H100: 140000 | I100: 139000 | J100: 152600 | K100: 131900 | M100: 144800 | O100: 137900 | P100: 143900 | T100: 141600 | V100: 132200 | X100: 295100
B101: 8 | C101: GUAYA EMBRAGUE | D101: 1 | E101: 216250 | F101: 228125 | G101: 228125 | H101: 192957 | I101: 228125 | J101: 245000 | K101: 218978.5 | M101: 227103.5 | O101: 228125 | P101: 236875 | T101: 227103.5 | V101: 218978.5 | X101: 245000
B102: 9 | C102: CREMALLERA VOLANTE | D102: 1 | E102: 656700 | F102: 690800 | G102: 690800 | H102: 647200 | I102: 668300 | J102: 665000 | K102: 531800 | M102: 522900 | O102: 663400 | P102: 677400 | T102: 646900 | V102: 602400 | X102: 459800
B103: ITEM | C103: SISTEMA ELÉCTRICO | D103: CANTIDAD
B104: 1 | C104: COMPUTADOR PRINCIPAL MOTOR | D104: 1 | E104: 5266000 | F104: 5474600 | G104: 5474600 | H104: 4857900 | I104: 4751200 | J104: 5674600 | K104: 4484500 | M104: 4980400 | O104: 4713000 | P104: 4765000 | T104: 5065300 | V104: 4627600 | X104: 3407500
B105: 2 | C105: ALTERNADOR COMPLETO. | D105: 1 | E105: 1616200 | F105: 1695700 | G105: 1695700 | H105: 1612500 | I105: 1679200 | J105: 1837200 | K105: 1494300 | M105: 1598000 | O105: 1668100 | P105: 1666100 | T105: 1711800 | V105: 1573900 | X105: 1368100
B106: 3 | C106: PORTA ESCOBILLAS | D106: 1 | E106: 233800 | F106: 267800 | G106: 267800 | H106: 210800 | I106: 224900 | J106: 244300 | K106: 197200 | M106: 236200 | O106: 222000 | P106: 224000 | T106: 210900 | V106: 193600 | X106: 223900
B107: 4 | C107: RODAMIENTO ALTERNADOR | D107: 1 | E107: 145700 | F107: 150500 | G107: 150500 | H107: 147300 | I107: 213300 | J107: 225700 | K107: 137000 | M107: 142500 | O107: 146300 | P107: 146300 | T107: 156500 | V107: 141400 | X107: 166300
B108: 5 | C108: REGULADOR DE VOLTAJE | D108: 1 | E108: 359000 | F108: 421400 | G108: 421400 | H108: 319600 | I108: 336900 | J108: 369800 | K108: 295100 | M108: 347200 | O108: 333400 | P108: 329400 | T108: 325700 | V108: 296600 | X108: 334300
B109: 6 | C109: SENSOR CIGÜEÑAL (CKP) | D109: 1 | E109: 455800 | F109: 492100 | G109: 492100 | H109: 474803.3 | I109: 473300 | J109: 576800 | K109: 443303.3 | M109: 481903.3 | O109: 467700 | P109: 463700 | T109: 414403.3 | V109: 381503.3 | X109: 430400
B110: 7 | C110: FAROLA | D110: 1 | E110: 1515100 | F110: 1805900 | G110: 1805900 | H110: 1525615.3 | I110: 1307100 | J110: 1521600 | K110: 1100500 | M110: 1385700 | O110: 1281900 | P110: 1251900 | T110: 1688700 | V110: 1449900 | X110: 1037000
B111: 8 | C111: SENSOR O PERA FRENO | D111: 1 | E111: 297300 | F111: 328900 | G111: 328900 | H111: 278800 | I111: 293700 | J111: 276500 | K111: 255100 | M111: 286700 | O111: 291200 | P111: 291200 | T111: 304000 | V111: 274400 | X111: 255700
B112: 9 | C112: STOP | D112: 1 | E112: 566100 | F112: 601700 | G112: 601700 | H112: 544989.3 | I112: 500400 | J112: 518800 | K112: 477600 | M112: 547200 | O112: 495200 | P112: 499400 | T112: 501100 | V112: 463500 | X112: 527800
B113: 10 | C113: ARRANQUE COMPLETO. | D113: 1 | E113: 1637700 | F113: 1661000 | G113: 1661000 | H113: 1618400 | I113: 1639400 | J113: 1792100 | K113: 1547100 | M113: 1664900 | O113: 1630200 | P113: 1640200 | T113: 1621000 | V113: 1509500 | X113: 1297300
B114: 11 | C114: INDUCIDO | D114: 1 | E114: 454800 | F114: 490000 | G114: 490000 | H114: 421600 | I114: 416300 | J114: 476400 | K114: 385000 | M114: 434300 | O114: 412000 | P114: 406000 | T114: 432100 | V114: 394800 | X114: 505100
B115: 12 | C115: AUTOMÁTICO | D115: 1 | E115: 337900 | F115: 361700 | G115: 361700 | H115: 326200 | I115: 333200 | J115: 367100 | K115: 302900 | M115: 349300 | O115: 331200 | P115: 331200 | T115: 340500 | V115: 314600 | X115: 356900
... B138: 35 | C138: BATERIA | D138: 1 | E138: 905600 | F138: 919500 | G138: 859500 | H138: 881700 | I138: 910200 | J138: 893800 | K138: 885100 | M138: 896700 | O138: 900600 | P138: 892200 | T138: 896800 | V138: 877300 | X138: 701300
B139: ITEM | C139: SISTEMA DE REFRIGERACIÓN Y A/A. | D139: CANTIDAD
B140: 1 | C140: BOMBA DE AGUA Y EMPAQUE | D140: 1 | E140: 782900 | F140: 864000 | G140: 864000 | H140: 723900 | I140: 748700 | J140: 832800 | K140: 676100 | M140: 778000 | O140: 742700 | P140: 742500 | T140: 832600 | V140: 757900 | X140: 598400
B141: 2 | C141: TERMOSTATO | D141: 1 | E141: 274600 | F141: 296200 | G141: 296200 | H141: 272523.6 | I141: 278100 | J141: 296300 | K141: 256775.1 | M141: 305075.1 | O141: 275900 | P141: 282900 | T141: 290075.1 | V141: 267375.1 | X141: 184200
B142: 3 | C142: RADIADOR COMPLETO CON TAPA | D142: 1 | E142: 1224300 | F142: 1284400 | G142: 1284400 | H142: 1138700 | I142: 1143500 | J142: 1326000 | K142: 1084700 | M142: 1217000 | O142: 1135500 | P142: 1135500 | T142: 1163200 | V142: 1073600 | X142: 763700
B143: 4 | C143: DEPOSITO RECUPARADOR AGUA CON TAPA | D143: 1 | E143: 239600 | F143: 250000 | G143: 250000 | H143: 297500 | I143: 319000 | J143: 302800 | K143: 277900 | M143: 296200 | O143: 314800 | P143: 310800 | T143: 249000 | V143: 228200 | X143: 298900
B144: 5 | C144: SOPORTE RADIADOR | D144: 1 | E144: 163600 | F144: 162800 | G144: 162800 | H144: 163800 | I144: 154400 | J144: 172000 | K144: 148800 | M144: 155200 | O144: 152000 | P144: 160800 | T144: 191200 | V144: 160200 | X144: 188800
B145: 6 | C145: ENFOCADOR RADIADOR | D145: 1 | E145: 282833.33 | F145: 288166.67 | G145: 288166.67 | H145: 326046.83 | I145: 281166.67 | J145: 494833.33 | K145: 284166.67 | M145: 304333.33 | O145: 279000 | P145: 316500 | T145: 494833.33 | V145: 432333.33 | X145: 587000
B146: 7 | C146: SENSOR O PERA TEMPERATURA | D146: 1 | E146: 270200 | F146: 294900 | G146: 294900 | H146: 255100 | I146: 265900 | J146: 261700 | K146: 238400 | M146: 256000 | O146: 262900 | P146: 265700 | T146: 273400 | V146: 249300 | X146: 155100
B147: 8 | C147: REFRIGERANTE MOTOR (GALON) | D147: 1 | E147: 96900 | F147: 109300 | G147: 109300 | H147: 86100 | I147: 94200 | J147: 109100 | K147: 83800 | M147: 98000 | O147: 92600 | P147: 92600 | T147: 179800 | V147: 155200 | X147: 90300
B148: 9 | C148: FILTRO AIRE ACONDICIONADO | D148: 1 | E148: 127000 | F148: 139401 | G148: 139401 | H148: 157445.1 | I148: 156201 | J148: 150601 | K148: 141500 | M148: 129600 | O148: 155001 | P148: 150000 | T148: 149700 | V148: 139200 | X148: 158601
B149: 10 | C149: VALVULA HARRISON A/A | D149: 1 | E149: 288700 | F149: 291700 | G149: 291700 | H149: 289900 | I149: 286300 | J149: 300200 | K149: 277300 | M149: 283300 | O149: 284500 | P149: 288100 | T149: 307300 | V149: 285100 | X149: 311600
B150: 11 | C150: MANGUERA RADIADOR SUPERIOR | D150: 1 | E150: 227700 | F150: 254400 | G150: 254400 | H150: 211100 | I150: 223800 | J150: 226200 | K150: 199200 | M150: 218300 | O150: 220700 | P150: 220700 | T150: 242500 | V150: 218100 | X150: 285100
B151: 12 | C151: MANGUERA RADIADOR INFERIOR | D151: 1 | E151: 230700 | F151: 253300 | G151: 253300 | H151: 210800 | I151: 225400 | J151: 221400 | K151: 199800 | M151: 222100 | O151: 222200 | P151: 222200 | T151: 231700 | V151: 209200 | X151: 212400
... B156: 17 | C156: EVAPORADOR DEL A/A. | D156: 1 | E156: 1333400 | F156: 1360800 | G156: 1360800 | H156: 1446792.2 | I156: 1283600 | J156: 1402500 | K156: 1173200 | M156: 1238600 | O156: 1256000 | P156: 1240100 | T156: 1339000 | V156: 1243200 | X156: 1087700
B157: ITEM | C157: SISTEMA DE ALIMENTACIÓN | D157: CANTIDAD
...

Sheet MOTOCICLETAS - 2026
B2: PROPUESTA MOTOCICLETAS | E2: =+'AUTOMOVILES - 2026'!$E$2 -> REPUESTOS AUTOMOTORES MULTIMARCA (REPUESTOS) MANTENIMIENTO CORRECTIVO *** Incluye Costos Directos e Indirectos | P2: =+'AUTOMOVILES - 2026'!$E$2 -> REPUESTOS AUTOMOTORES MULTIMARCA (REPUESTOS) MANTENIMIENTO CORRECTIVO *** Incluye Costos Directos e Indirectos | AC2: =+'AUTOMOVILES - 2026'!$E$2 -> REPUESTOS AUTOMOTORES MULTIMARCA (REPUESTOS) MANTENIMIENTO CORRECTIVO *** Incluye Costos Directos e Indirectos | AQ2: =+'AUTOMOVILES - 2026'!$E$2 -> REPUESTOS AUTOMOTORES MULTIMARCA (REPUESTOS) MANTENIMIENTO CORRECTIVO *** Incluye Costos Directos e Indirectos | BE2: =+'AUTOMOVILES - 2026'!$E$2 -> REPUESTOS AUTOMOTORES MULTIMARCA (REPUESTOS) MANTENIMIENTO CORRECTIVO *** Incluye Costos Directos e Indirectos
B4: DESCRIPCION | E4: AKT AKT125 NKDR | F4: BAJAJ DISCOVER 150 | G4: KYMCO FLY | H4: TVS APACHE | I4: HONDA CB 125 POWER SPORT | J4: HONDA CB 110 | K4: HONDA CB 125 E | L4: HONDA CBF | N4: HONDA CB | O4: HONDA ELITE+ | P4: HONDA INVICTA | Q4: HONDA WAVE 110 | T4: HONDA XR | V4: HONDA XL | W4: HONDA XR 250 | X4: HONDA XR-250 TORNADO | Y4: HONDA XR-125 | Z4: HONDA XR 150 | AA4: HONDA XRE 300 | AB4: HONDA XT R | AC4: SUZUKI GE | AD4: SUZUKI INAZUMA 250 | AE4: SUZUKI VIVAX 115 | AF4: SUZUKI GIXXER | AG4: SUZUKI GS | AI4: SUZUKI GS 125 | AO4: SUZUKI BEST 125 | AQ4: SUZUKI DR 200 | AW4: YAMAHA DT | AX4: YAMAHA GPD 150 | AY4: YAMAHA KRYPTON T115 | AZ4: YAMAHA FZ-16 | BB4: YAMAHA T110 EDR | BC4: YAMAHA T115 | BD4: YAMAHA XT 225D | BE4: YAMAHA XTZ-125 | BN4: YAMAHA XTZ-250 | BP4: YAMAHA YBR | BR4: YAMAHA YBR-125E | BT4: YAMAHA YBR-125 ESD | BU4: YAMAHA YW125XFI
B5: MODELO | E5: 2020 | F5: 2016 | G5: 2017 | H5: 2017 | I5: 2014 | J5: 2017 | K5: 2014 | L5: 2013 | M5: 2014 | N5: 2012 | O5: 2016 | P5: 2016 | Q5: 2014 | R5: 2015 | S5: 2016 | T5: 2016 | U5: 2017 | V5: 2005 | W5: 2011 | X5: 2014 | Y5: 2012 | Z5: 2024 | AA5: 2018 | AB5: 2011 | AC5: 2015 | AD5: 2013 | AE5: 2012 | AF5: 2016 | AG5: 2015 | AH5: 2016 | AI5: 2010 | AJ5: 2012 | AK5: 2013 | AL5: 2014 | AM5: 2015 | AN5: 2016 | AO5: 2011 | AP5: 2013 | AQ5: 2007 | AR5: 2009 | AS5: 2010 | AT5: 2013 | AU5: 2014 | AV5: 2015 | AW5: 2008 | AX5: 2019 | AY5: 2013 | AZ5: 2011 | BA5: 2020 | BB5: 2010 | BC5: 2013 | BD5: 2007 | BE5: 2007 | BF5: 2012 | BG5: 2013 | BH5: 2014 | BI5: 2015 | BJ5: 2016 | BK5: 2017 | BL5: 2018 | BM5: 2022 | BN5: 2013 | BO5: 2020 | BP5: 2013 | BQ5: 2014 | BR5: 2012 | BS5: 2013 | BT5: 2013 | BU5: 2016 | BV5: 2020
B6: UNIDAD | E6: 2 | F6: 1 | G6: 1 | H6: 3 | I6: 3 | J6: 3 | K6: 8 | L6: 2 | M6: 1 | N6: 3 | O6: 15 | P6: 2 | Q6: 2 | R6: 2 | S6: 1 | T6: 2 | U6: 1 | V6: 1 | W6: 1 | X6: 2 | Y6: 1 | Z6: 5 | AA6: 1 | AB6: 1 | AC6: 8 | AD6: 1 | AE6: 1 | AF6: 1 | AG6: 1 | AH6: 1 | AI6: 5 | AJ6: 3 | AK6: 2 | AL6: 1 | AM6: 8 | AN6: 2 | AO6: 3 | AP6: 1 | AQ6: 1 | AR6: 1 | AS6: 1 | AT6: 2 | AU6: 7 | AV6: 2 | AW6: 1 | AX6: 1 | AY6: 13 | AZ6: 9 | BA6: 1 | BB6: 1 | BC6: 14 | BD6: 3 | BE6: 1 | BF6: 1 | BG6: 8 | BH6: 7 | BI6: 5 | BJ6: 2 | BK6: 1 | BL6: 3 | BM6: 6 | BN6: 1 | BO6: 2 | BP6: 15 | BQ6: 8 | BR6: 6 | BS6: 9 | BT6: 9 | BU6: 1 | BV6: 1
E7: VALOR TOTAL INCLUIDO IVA | F7: VALOR TOTAL INCLUIDO IVA | G7: VALOR TOTAL INCLUIDO IVA | H7: VALOR TOTAL INCLUIDO IVA | I7: VALOR TOTAL INCLUIDO IVA | J7: VALOR TOTAL INCLUIDO IVA | K7: VALOR TOTAL INCLUIDO IVA | L7: VALOR TOTAL INCLUIDO IVA | N7: VALOR TOTAL INCLUIDO IVA | O7: VALOR TOTAL INCLUIDO IVA | P7: VALOR TOTAL INCLUIDO IVA | Q7: VALOR TOTAL INCLUIDO IVA | T7: VALOR TOTAL INCLUIDO IVA | V7: VALOR TOTAL INCLUIDO IVA | W7: VALOR TOTAL INCLUIDO IVA | X7: VALOR TOTAL INCLUIDO IVA | Y7: VALOR TOTAL INCLUIDO IVA | Z7: VALOR TOTAL INCLUIDO IVA | AA7: VALOR TOTAL INCLUIDO IVA | AB7: VALOR TOTAL INCLUIDO IVA | AC7: VALOR TOTAL INCLUIDO IVA | AD7: VALOR TOTAL INCLUIDO IVA | AE7: VALOR TOTAL INCLUIDO IVA | AF7: VALOR TOTAL INCLUIDO IVA | AG7: VALOR TOTAL INCLUIDO IVA | AI7: VALOR TOTAL INCLUIDO IVA | AO7: VALOR TOTAL INCLUIDO IVA | AQ7: VALOR TOTAL INCLUIDO IVA | AW7: VALOR TOTAL INCLUIDO IVA | AX7: VALOR TOTAL INCLUIDO IVA | AY7: VALOR TOTAL INCLUIDO IVA | AZ7: VALOR TOTAL INCLUIDO IVA | BB7: VALOR TOTAL INCLUIDO IVA | BC7: VALOR TOTAL INCLUIDO IVA | BD7: VALOR TOTAL INCLUIDO IVA | BE7: VALOR TOTAL INCLUIDO IVA | BN7: VALOR TOTAL INCLUIDO IVA | BP7: VALOR TOTAL INCLUIDO IVA | BR7: VALOR TOTAL INCLUIDO IVA | BT7: VALOR TOTAL INCLUIDO IVA | BU7: VALOR TOTAL INCLUIDO IVA
B8: ITEM | C8: SINCRONIZACIÓN | D8: CANTIDAD
B9: 1 | C9: AGUJAS DEL CARBURADOR | D9: 1 | E9: 59400 | F9: 64023.5 | G9: 61967.3 | H9: 63671.1 | I9: 44167.3 | J9: 44167.3 | K9: 44167.3 | L9: 44167.3 | N9: 51700 | O9: 44167.3 | P9: 45528.8 | Q9: 44167.3 | T9: 44167.3 | V9: 82528.8 | W9: 82734.5 | X9: 82734.5 | Y9: 43967.3 | Z9: 50584.25 | AA9: 53883.625 | AB9: 46607 | AC9: 58867.3 | AD9: 52688.25 | AE9: 62503.9 | AF9: 58207 | AG9: 58867.3 | AI9: 61507 | AO9: 60667.3 | AQ9: 70500 | AW9: 64803.9 | AX9: 54838.875 | AY9: 65403.9 | AZ9: 61260.2 | BB9: 65403.9 | BC9: 65403.9 | BD9: 47971.1 | BE9: 59203.9 | BN9: 48371.1 | BP9: 65403.9 | BR9: 65403.9 | BT9: 67100 | BU9: 55000
B10: 2 | C10: BASE Y PUNZON | D10: 1 | E10: 61000 | F10: 68991.6 | G10: 69235.3 | H10: 72476.4 | I10: 86000 | J10: 86000 | K10: 86000 | L10: 86000 | N10: 86000 | O10: 75035.3 | P10: 76234.7 | Q10: 75035.3 | T10: 64035.3 | V10: 69434.7 | W10: 69802.5 | X10: 69802.5 | Y10: 64035.3 | Z10: 44294.25 | AA10: 48269.125 | AB10: 67215.4 | AC10: 63435.3 | AD10: 47073.75 | AE10: 52809.2 | AF10: 71115.4 | AG10: 63435.3 | AI10: 66615.4 | AO10: 51335.3 | AQ10: 67400 | AW10: 66709.2 | AX10: 48095.5 | AY10: 70009.2 | AZ10: 63765.5 | BB10: 70009.2 | BC10: 70009.2 | BD10: 43276.4 | BE10: 59309.2 | BN10: 43776.4 | BP10: 70009.2 | BR10: 70009.2 | BT10: 71400 | BU10: 47875
B11: 3 | C11: BUJIA | D11: 1 | E11: 49200 | F11: 54932.8 | G11: 53232.8 | H11: 53032.8 | I11: 54532.8 | J11: 54532.8 | K11: 54532.8 | L11: 54532.8 | N11: 61600 | O11: 54532.8 | P11: 54867.5 | Q11: 54532.8 | T11: 61500 | V11: 59200 | W11: 59400 | X11: 59199.8 | Y11: 61499.9 | Z11: 61500 | AA11: 63400 | AB11: 61500 | AC11: 53200 | AD11: 59400 | AE11: 47500 | AF11: 59500 | AG11: 51400 | AI11: 52000 | AO11: 47500 | AQ11: 49900 | AW11: 56900 | AX11: 60400 | AY11: 60900.1 | AZ11: 63200.2 | BB11: 60900.4 | BC11: 60900.5 | BD11: 71500.6 | BE11: 53232.8 | BN11: 64432.8 | BP11: 53832.8 | BR11: 53832.8 | BT11: 53832.8 | BU11: 53632.8
B12: 4 | C12: CHICLER DE ALTA | D12: 1 | E12: 41400 | F12: 39300 | G12: 41700 | H12: 41500 | I12: 46500 | J12: 46500 | K12: 46500 | L12: 46500 | N12: 122300 | O12: 46603.5 | P12: 46749.4 | Q12: 46603.5 | T12: 39903.5 | V12: 37949.4 | W12: 37803.5 | X12: 37803.5 | Y12: 39903.5 | Z12: 32168.5 | AA12: 32168.625 | AB12: 40535 | AC12: 27403.5 | AD12: 32168.625 | AE12: 27203.5 | AF12: 43135 | AG12: 27403.5 | AI12: 27403.5 | AO12: 27203.5 | AQ12: 28000 | AW12: 27603.5 | AX12: 32168.625 | AY12: 39603.5 | AZ12: 27303.5 | BB12: 39603.5 | BC12: 39603.5 | BD12: 27603.5 | BE12: 27303.5 | BN12: 28434.9 | BP12: 39603.5 | BR12: 39603.5 | BT12: 42100 | BU12: 34500
B13: 5 | C13: CHICLER DE MINIMA | D13: 1 | E13: 29700 | F13: 27157.5 | G13: 45157.5 | H13: 48557.5 | I13: 46957.5 | J13: 46957.5 | K13: 46957.5 | L13: 46957.5 | N13: 46957.5 | O13: 46957.5 | P13: 47119.6 | Q13: 46957.5 | T13: 39457.5 | V13: 39819.6 | W13: 39657.5 | X13: 39657.5 | Y13: 39457.5 | Z13: 32168.5 | AA13: 32168.625 | AB13: 40035 | AC13: 45257.5 | AD13: 32168.625 | AE13: 27257.5 | AF13: 28035 | AG13: 45257.5 | AI13: 45257.5 | AO13: 27257.5 | AQ13: 27100 | AW13: 27657.5 | AX13: 32168.625 | AY13: 46457.5 | AZ13: 27357.5 | BB13: 46457.5 | BC13: 46457.5 | BD13: 27657.5 | BE13: 27357.5 | BN13: 28434.9 | BP13: 46457.5 | BR13: 46457.5 | BT13: 46600 | BU13: 31625
B14: 6 | C14: COMANDO ACELERADOR | D14: 1 | E14: 101600 | F14: 97400 | G14: 97900 | H14: 98800 | I14: 98300 | J14: 102300.5 | K14: 102300.6 | L14: 98300 | N14: 97900 | O14: 98300 | P14: 100300 | Q14: 100300 | T14: 100300 | V14: 95300 | W14: 99300 | X14: 107200 | Y14: 105100 | Z14: 106000 | AA14: 107200 | AB14: 105100 | AC14: 105500 | AD14: 107200 | AE14: 105100 | AF14: 105500 | AG14: 99500 | AI14: 99500 | AO14: 99100 | AQ14: 100500 | AW14: 100300 | AX14: 98600 | AY14: 98100.1 | AZ14: 101800 | BB14: 98899.9 | BC14: 99300 | BD14: 100300.1 | BE14: 99300 | BN14: 109700 | BP14: 108100 | BR14: 107700.1 | BT14: 98600 | BU14: 105300
B15: 7 | C15: CORTINA DEL CARBURADOR | D15: 1 | E15: 97000 | F15: 102000 | G15: 102600 | H15: 103800 | I15: 103200 | J15: 103200 | K15: 98000 | L15: 98000 | N15: 97400 | O15: 98000 | P15: 126200 | Q15: 126200 | T15: 126200 | V15: 127600 | W15: 125900 | X15: 126700 | Y15: 123900 | Z15: 145750 | AA15: 145750 | AB15: 123900 | AC15: 124500 | AD15: 145750 | AE15: 123900 | AF15: 124500 | AG15: 112400 | AI15: 112400 | AO15: 111800 | AQ15: 113800 | AW15: 113400 | AX15: 126625 | AY15: 108900.1 | AZ15: 111900 | BB15: 111499.9 | BC15: 112100 | BD15: 113400.1 | BE15: 112100 | BN15: 117200 | BP15: 115100 | BR15: 92912.2 | BT15: 107400 | BU15: 130625
B16: 8 | C16: FILTRO DE AIRE | D16: 1 | E16: 53400 | F16: 60800 | G16: 61300 | H16: 59400 | I16: 69500 | J16: 69500 | K16: 69500 | L16: 69500 | N16: 69500 | O16: 72912.3 | P16: 73236.5 | Q16: 72912.3 | T16: 64812.3 | V16: 102736.5 | W16: 100800 | X16: 102412.3 | Y16: 64812.3 | Z16: 68200 | AA16: 77938.9 | AB16: 79639 | AC16: 64912.3 | AD16: 68003 | AE16: 64512.3 | AF16: 75239 | AG16: 64912.3 | AI16: 64912.3 | AO16: 64512.3 | AQ16: 66800 | AW16: 94712.3 | AX16: 63503 | AY16: 59112.3 | AZ16: 63312.3 | BB16: 59112.3 | BC16: 59112.3 | BD16: 74212.3 | BE16: 82712.3 | BN16: 74403 | BP16: 55400 | BR16: 55400.1 | BT16: 59112.3 | BU16: 59800
B17: 9 | C17: FILTRO COMBUSTIBLE | D17: 1 | E17: 38700 | F17: 47432.4 | G17: 51632.4 | H17: 47553.1 | I17: 49332.4 | J17: 49332.4 | K17: 49332.4 | L17: 49332.4 | N17: 49332.4 | O17: 49332.4 | P17: 49709.6 | Q17: 49332.4 | T17: 49132.4 | V17: 56109.6 | W17: 49500 | X17: 55732.4 | Y17: 49132.4 | Z17: 45000 | AA17: 42632.4 | AB17: 49132.5 | AC17: 49832.4 | AD17: 52253.1 | AE17: 52553.1 | AF17: 46032.5 | AG17: 49832.4 | AI17: 49832.4 | AO17: 51632.4 | AQ17: 38700 | AW17: 61953.1 | AX17: 43153.1 | AY17: 56553.1 | AZ17: 47753.1 | BB17: 56553.1 | BC17: 56553.1 | BD17: 43253.1 | BE17: 56653.1 | BN17: 43453.1 | BP17: 56553.1 | BR17: 56553.1 | BT17: 56553.1 | BU17: 56553.1
B18: 10 | C18: GUAYA ACELERADOR | D18: 1 | E18: 79700 | F18: 89465.3 | G18: 57899.7 | H18: 94280.9 | I18: 59099.7 | J18: 59099.7 | K18: 59099.7 | L18: 59099.7 | N18: 57899.7 | O18: 59099.7 | P18: 62805.7 | Q18: 59099.7 | T18: 59099.7 | V18: 65405.7 | W18: 46800 | X18: 65080.9 | Y18: 57899.7 | Z18: 59300 | AA18: 99446.6 | AB18: 62946.7 | AC18: 81299.7 | AD18: 94280.9 | AE18: 84999.7 | AF18: 97946.7 | AG18: 81299.7 | AI18: 81299.7 | AO18: 84999.7 | AQ18: 88400 | AW18: 61499.7 | AX18: 63380.9 | AY18: 82299.7 | AZ18: 90065.3 | BB18: 82299.7 | BC18: 82299.7 | BD18: 101499.7 | BE18: 58499.7 | BN18: 104580.9 | BP18: 82299.7 | BR18: 82299.7 | BT18: 82299.7 | BU18: 82299.7
B19: 11 | C19: GUAYA CHOQUE | D19: 1 | E19: 114100 | F19: 117700 | G19: 92500 | H19: 116700 | I19: 93700 | J19: 93700 | K19: 93700 | L19: 93700 | N19: 92500 | O19: 93700 | P19: 95500 | Q19: 95500 | T19: 95500 | V19: 99100 | W19: 103600 | X19: 105400.1 | Y19: 98800.2 | Z19: 123500.38 | AA19: 125375 | AB19: 100300.1 | AC19: 129500 | AD19: 121625 | AE19: 124900 | AF19: 124700.1 | AG19: 129500 | AI19: 131100 | AO19: 128100 | AQ19: 102100 | AW19: 102900 | AX19: 124125 | AY19: 133600 | AZ19: 100900 | BB19: 133600 | BC19: 133600 | BD19: 102900 | BE19: 99900 | BN19: 106300 | BP19: 135699.8 | BR19: 135699.8 | BT19: 135699.8 | BU19: 126749.75
B20: 12 | C20: PULVERIZADOR | D20: 1 | E20: 104800 | F20: 83740.7 | G20: 109251.7 | H20: 87818.8 | I20: 83051.7 | J20: 83051.7 | K20: 83051.7 | L20: 83051.7 | N20: 82851.7 | O20: 83051.7 | P20: 84546 | Q20: 83051.7 | T20: 83051.7 | V20: 85046 | W20: 78000 | X20: 88318.8 | Y20: 82851.7 | Z20: 96625 | AA20: 106884.75 | AB20: 88507.9 | AC20: 105151.7 | AD20: 105523.5 | AE20: 99351.7 | AF20: 117807.9 | AG20: 107992.2 | AI20: 105151.7 | AO20: 99351.7 | AQ20: 80500 | AW20: 83351.7 | AX20: 105523.5 | AY20: 100351.7 | AZ20: 84040.7 | BB20: 100351.7 | BC20: 100351.7 | BD20: 87918.8 | BE20: 82951.7 | BN20: 88218.8 | BP20: 100351.7 | BR20: 100351.7 | BT20: 100351.7 | BU20: 99814.625
... B29: 21 | C29: KIT CARBURADOR | D29: 1 | E29: 262300 | F29: 277800 | G29: 283400 | H29: 267200 | I29: 300300 | J29: 300300 | K29: 300300 | L29: 300300 | N29: 297600 | O29: 297600 | P29: 297600 | Q29: 297600 | T29: 287100 | V29: 290000 | W29: 284800 | X29: 284800.1 | Y29: 281900.2 | Z29: 232000.38 | AA29: 232000.38 | AB29: 281900.3 | AC29: 252000.3 | AD29: 232000.38 | AE29: 260600.3 | AF29: 266200.3 | AG29: 243400 | AI29: 243400 | AO29: 252000 | AQ29: 260600 | AW29: 165200 | AX29: 222750 | AY29: 261800 | AZ29: 248100 | BB29: 261800 | BC29: 261800 | BD29: 168000 | BE29: 160200 | BN29: 176800 | BP29: 270100 | BR29: 270100 | BT29: 271600 | BU29: 231625
B30: 22 | C30: BOMBA COMBUSTIBLE | D30: 1 | E30: N/A | F30: N/A | G30: N/A | H30: N/A | I30: N/A | J30: N/A | K30: N/A | L30: N/A | N30: N/A | O30: N/A | P30: N/A | Q30: N/A | T30: N/A | V30: N/A | W30: N/A | X30: N/A | Y30: N/A | Z30: N/A | AA30: 518800 | AB30: 413000.12 | AC30: N/A | AD30: N/A | AE30: N/A | AF30: 413000.12 | AG30: N/A | AI30: N/A | AO30: N/A | AQ30: N/A | AW30: N/A | AX30: N/A | AY30: N/A | AZ30: N/A | BB30: N/A | BC30: N/A | BD30: 424500 | BE30: N/A | BN30: 415500 | BP30: N/A | BR30: N/A | BT30: N/A | BU30: N/A
B31: 23 | C31: EMPAQUE CARBURADOR | D31: 1 | E31: 32800 | F31: 32235.2 | G31: 32016.4 | H31: 32794.5 | I31: 32216.4 | J31: 33400 | K31: 33400 | L31: 33400 | N31: 33200 | O31: 33400 | P31: 32648.6 | Q31: 32216.4 | T31: 32216.4 | V31: 32848.6 | W31: 33400 | X31: 33094.5 | Y31: 32016.4 | Z31: 41000 | AA31: 39523.75 | AB31: 32900 | AC31: 32216.4 | AD31: 39092.125 | AE31: 32016.4 | AF31: 33100 | AG31: 32216.4 | AI31: 32216.4 | AO31: 32016.4 | AQ31: 32900 | AW31: 32900 | AX31: 38000 | AY31: 32600 | AZ31: 32600 | BB31: 32500 | BC31: 32600 | BD31: 32894.5 | BE31: 32116.4 | BN31: 33873.7 | BP31: 32116.4 | BR31: 32016.4 | BT31: 32116.4 | BU31: 37375
B32: 24 | C32: CAUCHO O EMPAQUE CONECTOR CARBURADOR | D32: 1 | E32: 45800 | F32: 45700 | G32: 58500 | H32: 46500 | I32: 59700 | J32: 59700 | K32: 59700 | L32: 59700 | N32: 59700 | O32: 59700 | P32: 60300 | Q32: 60300 | T32: 69600 | V32: 70200 | W32: 70200 | X32: 70500 | Y32: 69400 | Z32: 82625 | AA32: 82625 | AB32: 69400 | AC32: 69600 | AD32: 82625 | AE32: 69400 | AF32: 69600 | AG32: 66600 | AI32: 55600 | AO32: 53900 | AQ32: 69100 | AW32: 59200 | AX32: 69125 | AY32: 58700 | AZ32: 58700 | BB32: 58500 | BC32: 58700 | BD32: 69000 | BE32: 44300 | BN32: 69600 | BP32: 50700 | BR32: 50500 | BT32: 49900 | BU32: 59125
B33: 25 | C33: FLOTADOR CARBURADOR | D33: 1 | E33: 68900 | F33: 65468.3 | G33: 66179.2 | H33: 70905.8 | I33: 67979.2 | J33: 67979.2 | K33: 67979.2 | L33: 67979.2 | N33: 65579.2 | O33: 67979.2 | P33: 69165.6 | Q33: 67979.2 | T33: 67979.2 | V33: 72765.6 | W33: 86000 | X33: 76305.8 | Y33: 73700 | Z33: 93625 | AA33: 93625 | AB33: 73700 | AC33: 76100 | AD33: 93625 | AE33: 73700 | AF33: 76100 | AG33: 67979.2 | AI33: 67979.2 | AO33: 65579.2 | AQ33: 77500 | AW33: 76300 | AX33: 90875 | AY33: 72700 | AZ33: 72700 | BB33: 70900 | BC33: 72700 | BD33: 72105.8 | BE33: 72200 | BN33: 75899.3 | BP33: 72400 | BR33: 64979.2 | BT33: 66779.2 | BU33: 90500
B34: 26 | C34: INYECTOR | D34: 1 | E34: N/A | F34: N/A | G34: N/A | H34: N/A | I34: N/A | J34: N/A | K34: N/A | L34: N/A | N34: N/A | O34: N/A | P34: N/A | Q34: N/A | T34: N/A | V34: N/A | W34: N/A | X34: N/A | Y34: N/A | Z34: N/A | AA34: 704300 | AB34: 748875.12 | AC34: 644043.25 | AD34: 552734.6 | AE34: 644043.25 | AF34: 748875.12 | AG34: 644043.25 | AI34: 644043.25 | AO34: 644043.25 | AQ34: 644043.25 | AW34: 644043.25 | AX34: 630834.6 | AY34: 644043.25 | AZ34: 644043.25 | BB34: 644043.25 | BC34: N/A | BD34: 741625 | BE34: N/A | BN34: 757625 | BP34: N/A | BR34: N/A | BT34: N/A | BU34: N/A
B35: 27 | C35: CHOKE | D35: 1 | E35: 126200 | F35: 130900 | G35: 131200 | H35: 131900 | I35: 131600 | J35: 131600 | K35: 131600 | L35: 131600 | N35: 131200 | O35: 131600 | P35: 131600 | Q35: 131600 | T35: 131600 | V35: 132400 | W35: 132400 | X35: 126000 | Y35: 124300 | Z35: 149875 | AA35: 149875 | AB35: 124300 | AC35: 124700 | AD35: 149875 | AE35: 124300 | AF35: 124700 | AG35: 122000 | AI35: 122000 | AO35: 121600 | AQ35: 122800 | AW35: 122600 | AX35: 148000 | AY35: 121800 | AZ35: 124500 | BB35: 121700 | BC35: 122000.1 | BD35: 122800.2 | BE35: 122500 | BN35: 130200 | BP35: 126000 | BR35: 125700 | BT35: 122500 | BU35: 146500
B36: ITEM | C36: MOTOR | D36: CANTIDAD
B37: 1 | C37: CADENILLA | D37: 1 | E37: 211300 | F37: 160555.1 | G37: 239241.1 | H37: 246911.4 | I37: 238341.1 | J37: 238341.1 | K37: 238341.1 | L37: 238341.1 | N37: 242600 | O37: 238341.1 | P37: 239855.1 | Q37: 238341.1 | T37: 232841.1 | V37: 229455.1 | W37: 230411.4 | X37: 230411.4 | Y37: 232841.1 | Z37: 232841.2 | AA37: 238623.4 | AB37: 232841 | AC37: 211741.1 | AD37: 228882.8 | AE37: 201341.1 | AF37: 233741 | AG37: 211741.1 | AI37: 211741.1 | AO37: 201600 | AQ37: 235300 | AW37: 253641.1 | AX37: 247782.8 | AY37: 163241.1 | AZ37: 246155.1 | BB37: 160841.1 | BC37: 163241.1 | BD37: 213311.4 | BE37: 234241.1 | BN37: 214582.8 | BP37: 163241.1 | BR37: 160841.1 | BT37: 163241.1 | BU37: 244041.1
B38: 2 | C38: EMPAQUE CABEZA DE FUERZA | D38: 1 | E38: 60100 | F38: 69881.1 | G38: 70181.1 | H38: 70976.2 | I38: 70676.2 | J38: 70676.2 | K38: 70676.2 | L38: 70676.2 | N38: 59800 | O38: 70381.1 | P38: 70381.1 | Q38: 70381.1 | T38: 70381.1 | V38: 70981.1 | W38: 71276.2 | X38: 71576.2 | Y38: 70181.1 | Z38: 70681.2 | AA38: 72638.7 | AB38: 70181 | AC38: 70381.1 | AD38: 72638.7 | AE38: 70181.1 | AF38: 70381 | AG38: 70676.2 | AI38: 70381.1 | AO38: 55800 | AQ38: 56600 | AW38: 70781.1 | AX38: 71938.7 | AY38: 70281.1 | AZ38: 70281.1 | BB38: 70081.1 | BC38: 70281.1 | BD38: 71076.2 | BE38: 70281.1 | BN38: 72538.7 | BP38: 70281.1 | BR38: 70081.1 | BT38: 70281.1 | BU38: 70281.1
B39: 3 | C39: EMPAQUE CARTER | D39: 1 | E39: N/A | F39: N/A | G39: N/A | H39: N/A | I39: N/A | J39: N/A | K39: N/A | L39: N/A | N39: N/A | O39: N/A | P39: N/A | Q39: N/A | T39: N/A | V39: N/A | W39: N/A | X39: N/A | Y39: N/A | Z39: N/A | AA39: 45100 | AB39: 42294.2 | AC39: N/A | AD39: N/A | AE39: N/A | AF39: 42994.2 | AG39: N/A | AI39: N/A | AO39: N/A | AQ39: N/A | AW39: N/A | AX39: N/A | AY39: N/A | AZ39: N/A | BB39: N/A | BC39: N/A | BD39: 45095 | BE39: N/A | BN39: 45081.8 | BP39: N/A | BR39: N/A | BT39: N/A | BU39: N/A
B40: 4 | C40: EMPAQUE CILINDRO | D40: 1 | E40: 57502.9 | F40: 59902.9 | G40: 36957.6 | H40: 66295 | I40: 38275.7 | J40: 38275.7 | K40: 38275.7 | L40: 43500 | N40: 42900 | O40: 38157.6 | P40: 38502.9 | Q40: 38157.6 | T40: 38157.6 | V40: 40302.9 | W40: 41395 | X40: 42595 | Y40: 36957.6 | Z40: 38757.7 | AA40: 63558.3 | AB40: 36957.5 | AC40: 60257.6 | AD40: 70113 | AE40: 60057.6 | AF40: 66657.5 | AG40: 61084 | AI40: 60257.6 | AO40: 60057.6 | AQ40: 71157.6 | AW40: 39357.6 | AX40: 60413 | AY40: 60757.6 | AZ40: 58902.9 | BB40: 60757.6 | BC40: 60757.6 | BD40: 65395 | BE40: 37557.6 | BN40: 65513 | BP40: 60757.6 | BR40: 60757.6 | BT40: 60757.6 | BU40: 60757.6
B41: 5 | C41: EMPAQUE CULATA | D41: 1 | E41: 91392.2 | F41: 95592.2 | G41: 109412.5 | H41: 101754.7 | I41: 67530.5 | J41: 67530.5 | K41: 67530.5 | L41: 67530.5 | N41: 67400 | O41: 67412.5 | P41: 69192.2 | Q41: 67412.5 | T41: 100012.5 | V41: 72792.2 | W41: 73854.7 | X41: 75654.7 | Y41: 100012.5 | Z41: 100012.6 | AA41: 78561.8 | AB41: 100012.4 | AC41: 91112.5 | AD41: 100535.2 | AE41: 91012.5 | AF41: 99812.4 | AG41: 91112.5 | AI41: 91112.5 | AO41: 91012.5 | AQ41: 106300 | AW41: 99712.5 | AX41: 95135.2 | AY41: 95212.5 | AZ41: 90792.2 | BB41: 95212.5 | BC41: 95212.5 | BD41: 110254.7 | BE41: 93112.5 | BN41: 111435.2 | BP41: 95212.5 | BR41: 95212.5 | BT41: 95212.5 | BU41: 95212.5
B42: 6 | C42: EMPAQUE CULATIN | D42: 1 | E42: 44953 | F42: 44953 | G42: 44039 | H42: 48132.2 | I42: 44943.8 | J42: 44943.8 | K42: 44943.8 | L42: 44943.8 | N42: 43743.8 | O42: 45239 | P42: 46753 | Q42: 45239 | T42: 45239 | V42: 48553 | W42: 49332.2 | X42: 50532.2 | Y42: 44039 | Z42: 45839.1 | AA42: 51954.8 | AB42: 44038.9 | AC42: 45239 | AD42: 50414.1 | AE42: 44039 | AF42: 45238.9 | AG42: 45061.9 | AI42: 45239 | AO42: 44039 | AQ42: 47039 | AW42: 46439 | AX42: 48014.1 | AY42: 44639 | AZ42: 46153 | BB42: 44039 | BC42: 44639 | BD42: 48732.2 | BE42: 44639 | BN42: 49814.1 | BP42: 44639 | BR42: 44039 | BT42: 44639 | BU42: 44639
B43: 7 | C43: EMPAQUE TAPA VOLANTE | D43: 1 | E43: 61318 | F43: 38203 | G43: 38457.7 | H43: 41990.2 | I43: 39716.7 | J43: 39716.7 | K43: 39716.7 | L43: 39716.7 | N43: 38516.7 | O43: 39657.7 | P43: 40003 | Q43: 39657.7 | T43: 39657.7 | V43: 41803 | W43: 43190.2 | X43: 44390.2 | Y43: 38457.7 | Z43: 40257.8 | AA43: 68140.4 | AB43: 38457.6 | AC43: 39657.7 | AD43: 44095 | AE43: 61646.2 | AF43: 39657.6 | AG43: 40779.3 | AI43: 39657.7 | AO43: 61646.2 | AQ43: 41457.7 | AW43: 40857.7 | AX43: 70295 | AY43: 39057.7 | AZ43: 61118 | BB43: 38457.7 | BC43: 39057.7 | BD43: 71590.2 | BE43: 39057.7 | BN43: 71295 | BP43: 39057.7 | BR43: 38457.7 | BT43: 39057.7 | BU43: 63146.2
B44: 8 | C44: EMPAQUE TENSOR CADENILLA | D44: 1 | E44: 33144 | F44: 33144 | G44: 33398.7 | H44: 35790.2 | I44: 33398.7 | J44: 33398.7 | K44: 33398.7 | L44: 33398.7 | N44: 33398.7 | O44: 33398.7 | P44: 33744 | Q44: 33398.7 | T44: 33398.7 | V44: 34944 | W44: 36390.2 | X44: 36990.2 | Y44: 33398.7 | Z44: 33998.8 | AA44: 38218.2 | AB44: 33398.6 | AC44: 33398.7 | AD44: 37872.9 | AE44: 33398.7 | AF44: 33398.6 | AG44: 34579.3 | AI44: 33398.7 | AO44: 33398.7 | AQ44: 34598.7 | AW44: 34598.7 | AX44: 36672.9 | AY44: 33398.7 | AZ44: 33744 | BB44: 32798.7 | BC44: 33398.7 | BD44: 36390.2 | BE44: 33398.7 | BN44: 37872.9 | BP44: 33398.7 | BR44: 32798.7 | BT44: 33398.7 | BU44: 33398.7
B45: 9 | C45: EMPAQUETADURA MOTOR | D45: 1 | E45: 240939.6 | F45: 222439.6 | G45: 249539.6 | H45: 223444.5 | I45: 181239.6 | J45: 181239.6 | K45: 181239.6 | L45: 181239.6 | N45: 177639.6 | O45: 181239.6 | P45: 181239.6 | Q45: 181239.6 | T45: 181239.6 | V45: 281239.6 | W45: 280944.5 | X45: 280944.5 | Y45: 177639.6 | Z45: 184839.7 | AA45: 195561.2 | AB45: 177639.5 | AC45: 250339.6 | AD45: 285961.2 | AE45: 279239.6 | AF45: 231639.5 | AG45: 250044.5 | AI45: 250339.6 | AO45: 279239.6 | AQ45: 273139.6 | AW45: 187239.6 | AX45: 184161.2 | AY45: 217339.6 | AZ45: 179439.6 | BB45: 217339.6 | BC45: 217339.6 | BD45: 186944.5 | BE45: 179439.6 | BN45: 193161.2 | BP45: 202500 | BR45: 217339.6 | BT45: 217339.6 | BU45: 209700
B46: 10 | C46: FILTRO DE ACEITE | D46: 1 | E46: 51445 | F46: 54045 | G46: 59845 | H46: 48545 | I46: 64245 | J46: 64245 | K46: 64245 | L46: 64245 | N46: 64245 | O46: 64245 | P46: 64245 | Q46: 64245 | T46: 57145 | V46: 69845 | W46: 69845 | X46: 63199.8 | Y46: 50499.9 | Z46: 50500 | AA46: 59477.8 | AB46: 57144.9 | AC46: 49900 | AD46: 51500 | AE46: 44500 | AF46: 48344.9 | AG46: 56745 | AI46: 56745 | AO46: 51345 | AQ46: 58145 | AW46: 46945 | AX46: 57945 | AY46: 57745 | AZ46: 57145 | BB46: 57745 | BC46: 57745 | BD46: 60145 | BE46: 46045 | BN46: 60145 | BP46: 56800 | BR46: 57745 | BT46: 57745 | BU46: 57845
B47: 11 | C47: KIT EMPAQUES CABEZA DE FUERZA | D47: 1 | E47: 126581.1 | F47: 159581.1 | G47: 128381.1 | H47: 161176.2 | I47: 129576.2 | J47: 129576.2 | K47: 129576.2 | L47: 129576.2 | N47: 128676.2 | O47: 129281.1 | P47: 129281.1 | Q47: 129281.1 | T47: 129281.1 | V47: 130181.1 | W47: 130476.2 | X47: 131076.2 | Y47: 128381.1 | Z47: 129681.2 | AA47: 132138.7 | AB47: 128381 | AC47: 187481.1 | AD47: 132138.7 | AE47: 128381.1 | AF47: 168781 | AG47: 187776.2 | AI47: 187481.1 | AO47: 128381.1 | AQ47: 210281.1 | AW47: 129981.1 | AX47: 130838.7 | AY47: 154481.1 | AZ47: 129081.1 | BB47: 154481.1 | BC47: 154481.1 | BD47: 130276.2 | BE47: 129081.1 | BN47: 131838.7 | BP47: 144100 | BR47: 154481.1 | BT47: 154481.1 | BU47: 154481.1
B48: 12 | C48: MONEDAS | D48: 1 | E48: 143600 | F48: 143000 | G48: 144200 | H48: 146600 | I48: 145400 | J48: 145400 | K48: 145400 | L48: 145400 | N48: 144200 | O48: 145400 | P48: 145400 | Q48: 145400 | T48: 145400 | V48: 150400 | W48: 150400 | X48: 151600 | Y48: 146200 | Z48: 148600 | AA48: 151600 | AB48: 146200 | AC48: 147400 | AD48: 151600 | AE48: 146200 | AF48: 147400 | AG48: 147400 | AI48: 147400 | AO48: 145200 | AQ48: 149400 | AW48: 149200 | AX48: 148000 | AY48: 146800 | AZ48: 146800 | BB48: 145600 | BC48: 146800 | BD48: 149400 | BE48: 148000 | BN48: 143400 | BP48: 140000 | BR48: 138800 | BT48: 131000 | BU48: 140000
B49: 13 | C49: ORING TAPA FILTRO DE ACEITE | D49: 1 | E49: 32634.1 | F49: 33534.1 | G49: 35300 | H49: 33999.4 | I49: 33761.5 | J49: 33761.5 | K49: 33761.5 | L49: 33761.5 | N49: 33761.5 | O49: 34174.7 | P49: 34334.1 | Q49: 34174.7 | T49: 34774.7 | V49: 34334.1 | W49: 34499.4 | X49: 34499.4 | Y49: 34774.7 | Z49: 34774.8 | AA49: 34766 | AB49: 35666 | AC49: 33874.7 | AD49: 34253.5 | AE49: 32874.7 | AF49: 34366 | AG49: 33933.7 | AI49: 33874.7 | AO49: 32874.7 | AQ49: 33974.7 | AW49: 36774.7 | AX49: 29453.5 | AY49: 28174.7 | AZ49: 34034.1 | BB49: 28174.7 | BC49: 28174.7 | BD49: 34999.4 | BE49: 34874.7 | BN49: 35353.5 | BP49: 28174.7 | BR49: 28174.7 | BT49: 28174.7 | BU49: 28174.7
B50: 14 | C50: ORING TAPON DE ACEITE | D50: 1 | E50: 28000.1 | F50: 27400.1 | G50: 29200 | H50: 28588.3 | I50: 27722.7 | J50: 27722.7 | K50: 27722.7 | L50: 27722.7 | N50: 27722.7 | O50: 27840.8 | P50: 28000.1 | Q50: 27840.8 | T50: 27840.8 | V50: 28600.1 | W50: 28588.3 | X50: 29188.3 | Y50: 27840.8 | Z50: 28440.9 | AA50: 29696 | AB50: 28496 | AC50: 27840.8 | AD50: 29483.5 | AE50: 27840.8 | AF50: 28496 | AG50: 27722.7 | AI50: 27840.8 | AO50: 27840.8 | AQ50: 28440.8 | AW50: 28440.8 | AX50: 28283.5 | AY50: 27840.8 | AZ50: 28000.1 | BB50: 27840.8 | BC50: 27840.8 | BD50: 28588.3 | BE50: 27840.8 | BN50: 28883.5 | BP50: 28200 | BR50: 28200 | BT50: 28300 | BU50: 28200
B51: 15 | C51: RETENEDOR BOMBA AGUA | D51: 1 | E51: N/A | F51: N/A | G51: N/A | H51: N/A | I51: N/A | J51: N/A | K51: N/A | L51: N/A | N51: N/A | O51: N/A | P51: N/A | Q51: N/A | T51: N/A | V51: N/A | W51: N/A | X51: N/A | Y51: N/A | Z51: N/A | AA51: 43971.1 | AB51: 48625 | AC51: N/A | AD51: N/A | AE51: N/A | AF51: 48625 | AG51: N/A | AI51: N/A | AO51: N/A | AQ51: 50000 | AW51: N/A | AX51: N/A | AY51: N/A | AZ51: N/A | BB51: N/A | BC51: N/A | BD51: 47125 | BE51: N/A | BN51: 47625 | BP51: N/A | BR51: N/A | BT51: N/A | BU51: N/A
B52: 16 | C52: RETENEDOR CIGUENAL | D52: 1 | E52: 72055.6 | F52: 72355.6 | G52: 75338.4 | H52: 72054 | I52: 55438.4 | J52: 55438.4 | K52: 55438.4 | L52: 55438.4 | N52: 54238.4 | O52: 55438.4 | P52: 56155.6 | Q52: 55438.4 | T52: 55438.4 | V52: 57955.6 | W52: 58354 | X52: 59554 | Y52: 54238.4 | Z52: 60125 | AA52: 60271.2 | AB52: 54999.9 | AC52: 76038.4 | AD52: 85554 | AE52: 75238.4 | AF52: 70799.9 | AG52: 76038.4 | AI52: 76038.4 | AO52: 75238.4 | AQ52: 83738.4 | AW52: 56638.4 | AX52: 57154 | AY52: 76538.4 | AZ52: 55555.6 | BB52: 76538.4 | BC52: 76538.4 | BD52: 57754 | BE52: 54838.4 | BN52: 58954 | BP52: 76538.4 | BR52: 76538.4 | BT52: 76538.4 | BU52: 76538.4
B53: 17 | C53: RETENEDOR EJE DE LEVAS | D53: 1 | E53: 38600 | F53: 39100 | G53: 39700 | H53: 41500 | I53: 40900 | J53: 40900 | K53: 40900 | L53: 40900 | N53: 39700 | O53: 40900 | P53: 40900 | Q53: 40900 | T53: 40900 | V53: 40300 | W53: 40300 | X53: 41500 | Y53: 37900 | Z53: 39700 | AA53: 41500 | AB53: 37900 | AC53: 38600 | AD53: 41000.1 | AE53: 37400.2 | AF53: 39100 | AG53: 38600.2 | AI53: 38600.2 | AO53: 37400.2 | AQ53: 39800.2 | AW53: 61900.2 | AX53: 38600.2 | AY53: 38000.2 | AZ53: 38000.2 | BB53: 37400.2 | BC53: 38000.2 | BD53: 39800.2 | BE53: 56300.2 | BN53: 40400.2 | BP53: 38000.2 | BR53: 37400.2 | BT53: 38000.2 | BU53: 38000.2
B54: 18 | C54: TAPA FILTRO DE ACEITE | D54: 1 | E54: 110900 | F54: 110300 | G54: 112100 | H54: 115100 | I54: 113300 | J54: 113300 | K54: 113300 | L54: 113300 | N54: 112100 | O54: 113300 | P54: 113300 | Q54: 113300 | T54: 113300 | V54: 116900 | W54: 116900 | X54: 118700 | Y54: 112100 | Z54: 115100 | AA54: 118700 | AB54: 112100 | AC54: 110900 | AD54: 116300.1 | AE54: 109700.2 | AF54: 113300 | AG54: 110900.2 | AI54: 110900.2 | AO54: 109700.2 | AQ54: 114500.2 | AW54: 113300.2 | AX54: 112100.2 | AY54: 110300.2 | AZ54: 110300.2 | BB54: 109100.2 | BC54: 110300.2 | BD54: 113300.2 | BE54: 110300.2 | BN54: 115700.2 | BP54: 110300.2 | BR54: 109100.2 | BT54: 110300.2 | BU54: 110300.2
B55: 19 | C55: TAPON ACEITE | D55: 1 | E55: 25500 | F55: 24900 | G55: 25500 | H55: 26300 | I55: 26200 | J55: 26200 | K55: 26200 | L55: 26200 | N55: 25500 | O55: 26200 | P55: 26200 | Q55: 26200 | T55: 26200 | V55: 26400 | W55: 26400 | X55: 26600 | Y55: 25500 | Z55: 26300 | AA55: 26600 | AB55: 25500 | AC55: 26200 | AD55: 26600 | AE55: 25500 | AF55: 26200 | AG55: 26200 | AI55: 26200 | AO55: 25500 | AQ55: 26400 | AW55: 26400 | AX55: 26200 | AY55: 26100 | AZ55: 26100 | BB55: 25500 | BC55: 26100 | BD55: 26400 | BE55: 26100 | BN55: 26500 | BP55: 26100 | BR55: 25500 | BT55: 26100 | BU55: 26100
B56: 20 | C56: ACEITE 2T | D56: 1 | E56: 48000 | F56: 48000 | G56: 48000 | H56: 48000 | I56: 48000 | J56: 48000 | K56: 48000 | L56: 48000 | N56: 48000 | O56: 48000 | P56: 48000 | Q56: 48000 | T56: 48000 | V56: 48000 | W56: 48000 | X56: 48000 | Y56: 48000 | Z56: 48000 | AA56: 48000 | AB56: 48000 | AC56: 48000 | AD56: 48000 | AE56: 48000 | AF56: 48000 | AG56: 48000 | AI56: 48000 | AO56: 48000 | AQ56: 48000 | AW56: 40400 | AX56: 48000 | AY56: 48000 | AZ56: 48000 | BB56: 48000 | BC56: 48000 | BD56: 48000 | BE56: 48000 | BN56: 48000 | BP56: 48000 | BR56: 48000 | BT56: 48000 | BU56: 48000
B57: 21 | C57: ACEITE 4T 20W50 API SN JASO MA2 | D57: 1 | E57: 40200 | F57: 39600 | G57: 41400 | H57: 45600 | I57: 43800 | J57: 43800 | K57: 43800 | L57: 43800 | N57: 41400 | O57: 43800 | P57: 43800 | Q57: 43800 | T57: 43800 | V57: 48000 | W57: 48000 | X57: 50400 | Y57: 41400 | Z57: 45600 | AA57: 50400 | AB57: 41400 | AC57: 43800 | AD57: 50400 | AE57: 41400 | AF57: 43800 | AG57: 43800 | AI57: 43800 | AO57: 41400 | AQ57: 48000 | AW57: 46800 | AX57: 44400 | AY57: 42600 | AZ57: 42600 | BB57: 40800 | BC57: 42600 | BD57: 46800 | BE57: 42600 | BN57: 49200 | BP57: 42600 | BR57: 40800 | BT57: 42600 | BU57: 42600
B58: 22 | C58: TAPA BOMBA ACEITE | D58: 1 | E58: 117500 | F58: 117500 | G58: 119300 | H58: 120300 | I58: 120100 | J58: 120100 | K58: 120100 | L58: 120100 | N58: 118700 | O58: 120100 | P58: 120100 | Q58: 120100 | T58: 120100 | V58: 119500 | W58: 119500 | X58: 120000 | Y58: 117500 | Z58: 119200 | AA58: 120000 | AB58: 117500 | AC58: 118900 | AD58: 120000 | AE58: 117500 | AF58: 118900 | AG58: 118900 | AI58: 118900 | AO58: 117500 | AQ58: 119500 | AW58: 119300 | AX58: 119000 | AY58: 118700 | AZ58: 118700 | BB58: 116900 | BC58: 118700 | BD58: 119300 | BE58: 118700 | BN58: 119800 | BP58: 118700 | BR58: 116900 | BT58: 118700 | BU58: 118700
B59: 23 | C59: DEPOSITO ACEITE | D59: 1 | E59: 279375 | F59: 279375 | G59: 279375 | H59: 279375 | I59: 279375 | J59: 279375 | K59: 279375 | L59: 279375 | N59: 279375 | O59: 279375 | P59: 279375 | Q59: 279375 | T59: 279375 | V59: 279375 | W59: 279375 | X59: 279375 | Y59: 279375 | Z59: 279375 | AA59: 279375 | AB59: 279375 | AC59: 279375 | AD59: 279375 | AE59: 279375 | AF59: 279375 | AG59: 279375 | AI59: 279375 | AO59: 279375 | AQ59: 279375 | AW59: 228100 | AX59: 279375 | AY59: 279375 | AZ59: 279375 | BB59: 279375 | BC59: 279375 | BD59: 279375 | BE59: 279375 | BN59: 279375 | BP59: 279375 | BR59: 279375 | BT59: 279375 | BU59: 279375
B60: 24 | C60: KIT RETENEDORES MOTOR | D60: 1 | E60: 126800 | F60: 125600 | G60: 128600 | H60: 134000 | I60: 131000 | J60: 131000 | K60: 131000 | L60: 131000 | N60: 128600 | O60: 131000 | P60: 131000 | Q60: 131000 | T60: 131000 | V60: 136000 | W60: 136000 | X60: 136700 | Y60: 128600 | Z60: 134000 | AA60: 136700 | AB60: 128600 | AC60: 131000 | AD60: 136700 | AE60: 128600 | AF60: 131000 | AG60: 131000 | AI60: 131000 | AO60: 128600 | AQ60: 136000 | AW60: 135800 | AX60: 132800 | AY60: 129800 | AZ60: 129800 | BB60: 127400 | BC60: 129800 | BD60: 135800 | BE60: 129800 | BN60: 136400 | BP60: 129800 | BR60: 127400 | BT60: 129800 | BU60: 129800
B61: 25 | C61: ORING Y/O EMPAQUE TAPA VALVULAS | D61: 1 | E61: 31100 | F61: 31100 | G61: 31200 | H61: 31300 | I61: 31300 | J61: 31300 | K61: 31300 | L61: 31300 | N61: 31100 | O61: 31300 | P61: 31300 | Q61: 31300 | T61: 31300 | V61: 31500 | W61: 31500 | X61: 31600 | Y61: 31100 | Z61: 31400 | AA61: 31600 | AB61: 31100 | AC61: 31300 | AD61: 31600 | AE61: 31100 | AF61: 31300 | AG61: 31300 | AI61: 31300 | AO61: 31100 | AQ61: 31500 | AW61: 31400 | AX61: 31300 | AY61: 31200 | AZ61: 31200 | BB61: 31100 | BC61: 31200 | BD61: 31400 | BE61: 31200 | BN61: 31600 | BP61: 31200 | BR61: 31100 | BT61: 31200 | BU61: 31200
B62: 26 | C62: PERA TEMPERATURA | D62: 1 | E62: 148375 | F62: 148375 | G62: 148375 | H62: 148375 | I62: 148375 | J62: 148375 | K62: 148375 | L62: 148375 | N62: 148375 | O62: 148375 | P62: 148375 | Q62: 148375 | T62: 148375 | V62: 154375 | W62: 154375 | X62: 154375 | Y62: 154375 | Z62: 154375 | AA62: 215400 | AB62: 154375 | AC62: 154375 | AD62: 123900 | AE62: 154375 | AF62: 154375 | AG62: 154375 | AI62: 154375 | AO62: 154375 | AQ62: 154375 | AW62: 154375 | AX62: 115500 | AY62: 154375 | AZ62: 154375 | BB62: 154375 | BC62: 154375 | BD62: 154375 | BE62: 154375 | BN62: 154375 | BP62: 154375 | BR62: 154375 | BT62: 154375 | BU62: 154375
B63: 27 | C63: KIT ORING | D63: 1 | E63: 54100 | F63: 54000 | G63: 54300 | H63: 54800 | I63: 54500 | J63: 54500 | K63: 54500 | L63: 54500 | N63: 55100 | O63: 54500 | P63: 54500 | Q63: 54500 | T63: 54500 | V63: 55100 | W63: 55100 | X63: 55400 | Y63: 54300 | Z63: 54800 | AA63: 55400 | AB63: 54300 | AC63: 54500 | AD63: 55400 | AE63: 54300 | AF63: 54500 | AG63: 54500 | AI63: 54500 | AO63: 54300 | AQ63: 55100 | AW63: 54900 | AX63: 54700 | AY63: 54400 | AZ63: 54400 | BB63: 54200 | BC63: 54400 | BD63: 54900 | BE63: 54400 | BN63: 55300 | BP63: 54400 | BR63: 54200 | BT63: 54400 | BU63: 54400
B64: ITEM | C64: SISTEMA DE TRANSFERENCIA | D64: CANTIDAD
B65: 1 | C65: BUJE TENSOR CADENA | D65: 1 | E65: 59700 | F65: 57455.6 | G65: 57938.4 | H65: 61454 | I65: 59138.4 | J65: 59138.4 | K65: 59138.4 | L65: 59138.4 | N65: 57938.4 | O65: 59138.4 | P65: 59855.6 | Q65: 59138.4 | T65: 59138.4 | V65: 62855.6 | W65: 63254 | X65: 64454 | Y65: 57938.4 | Z65: 62171.1 | AA65: 65171.2 | AB65: 59771.2 | AC65: 59138.4 | AD65: 64454 | AE65: 57938.4 | AF65: 60971.2 | AG65: 59138.4 | AI65: 59138.4 | AO65: 57938.4 | AQ65: 63600 | AW65: 60938.4 | AX65: 60854 | AY65: 58538.4 | AZ65: 59255.6 | BB65: 57338.4 | BC65: 58538.4 | BD65: 62054 | BE65: 58538.4 | BN65: 63854 | BP65: 58538.4 | BR65: 57338.4 | BT65: 58538.4 | BU65: 117300
B66: 2 | C66: BUJES EMBRAGUE | D66: 1 | E66: 67900 | F66: 65655.6 | G66: 66738.4 | H66: 70854 | I66: 67938.4 | J66: 67938.4 | K66: 67938.4 | L66: 67938.4 | N66: 66738.4 | O66: 67938.4 | P66: 68655.6 | Q66: 67938.4 | T66: 67938.4 | V66: 72255.6 | W66: 72255.6 | X66: 75300 | Y66: 69700 | Z66: 72700 | AA66: 78100 | AB66: 72500 | AC66: 70900 | AD66: 75300 | AE66: 69700 | AF66: 73700 | AG66: 72700 | AI66: 72700 | AO66: 71500 | AQ66: 76300 | AW66: 75100 | AX66: 72100 | AY66: 72100 | AZ66: 70300 | BB66: 69100 | BC66: 72100 | BD66: 76100 | BE66: 72100 | BN66: 78000 | BP66: 70300 | BR66: 69100 | BT66: 70300 | BU66: 72100
B67: 3 | C67: BUJES PORTA PLATO | D67: 1 | E67: 70500 | F67: 66873.9 | G67: 67956.7 | H67: 73707 | I67: 69156.7 | J67: 69156.7 | K67: 69156.7 | L67: 69156.7 | N67: 67956.7 | O67: 69156.7 | P67: 69873.9 | Q67: 69156.7 | T67: 69156.7 | V67: 73473.9 | W67: 75507 | X67: 77307 | Y67: 67956.7 | Z67: 74424.1 | AA67: 78024.2 | AB67: 71424.2 | AC67: 69156.7 | AD67: 77307 | AE67: 67956.7 | AF67: 72624.2 | AG67: 69156.7 | AI67: 69156.7 | AO67: 67956.7 | AQ67: 70700 | AW67: 71556.7 | AX67: 73107 | AY67: 68556.7 | AZ67: 69273.9 | BB67: 67356.7 | BC67: 68556.7 | BD67: 74307 | BE67: 68556.7 | BN67: 76707 | BP67: 68556.7 | BR67: 67356.7 | BT67: 68556.7 | BU67: 73300
B68: 4 | C68: CANASTILLAS VARILLA DE EMBRAGUE | D68: 1 | E68: 134300 | F68: 133700 | G68: 134900 | H68: 137300 | I68: 136100 | J68: 136100 | K68: 136100 | L68: 136100 | N68: 134900 | O68: 136100 | P68: 136100 | Q68: 136100 | T68: 136100 | V68: 139100 | W68: 139100 | X68: 137300 | Y68: 131900 | Z68: 134300 | AA68: 137300 | AB68: 131900 | AC68: 133100 | AD68: 137300 | AE68: 131900 | AF68: 133100 | AG68: 108100 | AI68: 108100 | AO68: 106900 | AQ68: 107100 | AW68: 109900 | AX68: 133700 | AY68: 107500 | AZ68: 132500 | BB68: 131300 | BC68: 107500 | BD68: 134900 | BE68: 107500 | BN68: 136700 | BP68: 132500 | BR68: 131300 | BT68: 132500 | BU68: 107500
B69: 5 | C69: DISCOS EMBRAGUE | D69: 1 | E69: 183600 | F69: 195096.5 | G69: 201605.3 | H69: 184482 | I69: 218305.3 | J69: 218305.3 | K69: 218305.3 | L69: 218305.3 | N69: 218305.3 | O69: 218305.3 | P69: 218305.3 | Q69: 218305.3 | T69: 245305.3 | V69: 232905.3 | W69: 229182 | X69: 229182 | Y69: 245305.3 | Z69: 245305.2 | AA69: 212005.3 | AB69: 245305.3 | AC69: 214405.3 | AD69: 232905.3 | AE69: 224505.3 | AF69: 166505.3 | AG69: 214405.3 | AI69: 214405.3 | AO69: 224505.3 | AQ69: 230200 | AW69: 275905.3 | AX69: 241305.3 | AY69: 194705.3 | AZ69: 178205.3 | BB69: 194705.3 | BC69: 194705.3 | BD69: 189382 | BE69: 240405.3 | BN69: 193105.3 | BP69: 194705.3 | BR69: 194705.3 | BT69: 194705.3 | BU69: 185800
B70: 6 | C70: KIT EMBRAGUE | D70: 1 | E70: 370500 | F70: 367500 | G70: 377100 | H70: 396300 | I70: 418700 | J70: 418700 | K70: 418700 | L70: 418700 | N70: 408500 | O70: 418700 | P70: 418700 | Q70: 418700 | T70: 418700 | V70: 440300 | W70: 440300 | X70: 424600 | Y70: 382500 | Z70: 402900 | AA70: 453600 | AB70: 411500 | AC70: 392700 | AD70: 424600 | AE70: 382500 | AF70: 421700 | AG70: 392700 | AI70: 392700 | AO70: 382500 | AQ70: 414300 | AW70: 408300 | AX70: 397500 | AY70: 387900 | AZ70: 387900 | BB70: 378300 | BC70: 387900 | BD70: 437300 | BE70: 387900 | BN70: 450500 | BP70: 387900 | BR70: 378300 | BT70: 387900 | BU70: 387900
B71: 7 | C71: EMPAQUETADURA CAJA VELOCIDADES | D71: 1 | E71: 106200 | F71: 106100.1 | G71: 101500 | H71: 102300 | I71: 101900 | J71: 101900 | K71: 101900 | L71: 101900 | N71: 101500 | O71: 101900 | P71: 101900 | Q71: 101900 | T71: 101900 | V71: 102800 | W71: 102800 | X71: 103400 | Y71: 101500 | Z71: 102300 | AA71: 103400 | AB71: 101500 | AC71: 101900 | AD71: 103400 | AE71: 101500 | AF71: 101900 | AG71: 101900 | AI71: 101900 | AO71: 101500 | AQ71: 102800 | AW71: 102600 | AX71: 102100 | AY71: 101700 | AZ71: 101700 | BB71: 101300 | BC71: 101700 | BD71: 102600 | BE71: 101700 | BN71: 103100 | BP71: 101700 | BR71: 101300 | BT71: 101700 | BU71: 101700
B72: 8 | C72: GUAYA EMBRAGUE | D72: 1 | E72: 100100 | F72: 103270.5 | G72: 71258 | H72: 108259.5 | I72: 72458 | J72: 72458 | K72: 72458 | L72: 72458 | N72: 71258 | O72: 72458 | P72: 74370.5 | Q72: 72458 | T72: 72458 | V72: 76970.5 | W72: 78059.5 | X72: 78359.5 | Y72: 71258 | Z72: 79171.9 | AA72: 80272 | AB72: 76172 | AC72: 72458 | AD72: 122859.5 | AE72: 91258 | AF72: 103172 | AG72: 72458 | AI72: 72458 | AO72: 91258 | AQ72: 125000 | AW72: 74858 | AX72: 76659.5 | AY72: 99958 | AZ72: 109670.5 | BB72: 99958 | BC72: 99958 | BD72: 120759.5 | BE72: 71858 | BN72: 120759.5 | BP72: 99958 | BR72: 99958 | BT72: 99958 | BU72: 101300
B73: 9 | C73: PLACA EMBRAGUE | D73: 1 | E73: 141700 | F73: 141100.1 | G73: 143500 | H73: 155300 | I73: 152900 | J73: 152900 | K73: 152900 | L73: 152900 | N73: 150500 | O73: 152900 | P73: 152900 | Q73: 152900 | T73: 152900 | V73: 158300 | W73: 158300 | X73: 161900 | Y73: 150500 | Z73: 155300 | AA73: 161900 | AB73: 150500 | AC73: 152900 | AD73: 161900 | AE73: 150500 | AF73: 152900 | AG73: 152900 | AI73: 152900 | AO73: 150500 | AQ73: 149300 | AW73: 157100 | AX73: 154100 | AY73: 151700 | AZ73: 151700 | BB73: 149300 | BC73: 151700 | BD73: 157100 | BE73: 151700 | BN73: 160100 | BP73: 151700 | BR73: 149300 | BT73: 151700 | BU73: 151700
B74: 10 | C74: SEPARADOR DISCOS EMBRAGUE | D74: 1 | E74: 84500 | F74: 83900.1 | G74: 67700 | H74: 75400 | I74: 74100 | J74: 74100 | K74: 74100 | L74: 74100 | N74: 71700 | O74: 74100 | P74: 74100 | Q74: 74100 | T74: 74100 | V74: 75900 | W74: 75900 | X74: 76400 | Y74: 71700 | Z74: 75400 | AA74: 76400 | AB74: 71700 | AC74: 74100 | AD74: 76400 | AE74: 71700 | AF74: 74100 | AG74: 74100 | AI74: 74100 | AO74: 71700 | AQ74: 75900 | AW74: 75700 | AX74: 75300 | AY74: 72900 | AZ74: 72900 | BB74: 71100 | BC74: 72900 | BD74: 75700 | BE74: 72900 | BN74: 76100 | BP74: 72900 | BR74: 71100 | BT74: 72900 | BU74: 72900
B75: 11 | C75: KIT ARRASTRE | D75: 1 | E75: 311100 | F75: 351226.1 | G75: 335100 | H75: 341700 | I75: 381000 | J75: 382000 | K75: 379000 | L75: 382000 | N75: 379000 | O75: 384000 | P75: 387000 | Q75: 386000 | T75: 364853.6 | V75: 396953.6 | W75: 402674.9 | X75: 412688.2 | Y75: 364853.6 | Z75: 364853.7 | AA75: 454821 | AB75: 394321 | AC75: 346000 | AD75: 375882.5 | AE75: 337400 | AF75: 359121 | AG75: 346900 | AI75: 345600 | AO75: 337200 | AQ75: 365500 | AW75: 420574.9 | AX75: 424582.5 | AY75: 343282.5 | AZ75: 376182.5 | BB75: 343282.5 | BC75: 343282.5 | BD75: 409582.5 | BE75: 387782.5 | BN75: 409582.5 | BP75: 343282.5 | BR75: 343282.5 | BT75: 333600 | BU75: 330600
B76: 12 | C76: MANIGUETA EMBRAGUE | D76: 1 | E76: 100300 | F76: 103583.8 | G76: 66466.6 | H76: 102682.2 | I76: 113066.6 | J76: 113066.6 | K76: 113066.6 | L76: 113066.6 | N76: 113066.6 | O76: 113066.6 | P76: 113783.8 | Q76: 113066.6 | T76: 102366.6 | V76: 112183.8 | W76: 112582.2 | X76: 112582.2 | Y76: 102366.6 | Z76: 102366.7 | AA76: 86897.9 | AB76: 104697.9 | AC76: 91466.6 | AD76: 112380.7 | AE76: 104566.6 | AF76: 100397.9 | AG76: 91466.6 | AI76: 91466.6 | AO76: 104566.6 | AQ76: 112100 | AW76: 70066.6 | AX76: 70480.7 | AY76: 67066.6 | AZ76: 67783.8 | BB76: 65866.6 | BC76: 67066.6 | BD76: 71182.2 | BE76: 67066.6 | BN76: 74080.7 | BP76: 67066.6 | BR76: 65866.6 | BT76: 67066.6 | BU76: 68800
... B91: 27 | C91: PERA O SENSOR NEUTRO | D91: 1 | E91: 132800 | F91: 137879 | G91: 140544.6 | H91: 137129 | I91: 137244.6 | J91: 137244.6 | K91: 137244.6 | L91: 137244.6 | N91: 137244.6 | O91: 137244.6 | P91: 138679 | Q91: 137244.6 | T91: 134444.6 | V91: 133679 | W91: 134529 | X91: 134529 | Y91: 134444.6 | Z91: 134444.7 | AA91: 96763.4 | AB91: 138163.4 | AC91: 137944.6 | AD91: 141629 | AE91: 126144.6 | AF91: 133463.4 | AG91: 137944.6 | AI91: 137944.6 | AO91: 126144.6 | AQ91: 146600 | AW91: 88844.6 | AX91: 89329 | AY91: 148744.6 | AZ91: 86679 | BB91: 148744.6 | BC91: 148744.6 | BD91: 91129 | BE91: 85244.6 | BN91: 94129 | BP91: 148744.6 | BR91: 148744.6 | BT91: 148744.6 | BU91: 151000
B92: ITEM | C92: SISTEMA DE SUSPENSIÓN | D92: CANTIDAD
B93: 1 | C93: CANASTILLA SUSPENSION | D93: 1 | E93: 231500 | F93: 203218.4 | G93: 195539.2 | H93: 212602.7 | I93: 132723.2 | J93: 132723.2 | K93: 132723.2 | L93: 132723.2 | N93: 130323.2 | O93: 132723.2 | P93: 134157.6 | Q93: 132723.2 | T93: 132723.2 | V93: 139557.6 | W93: 140702.7 | X93: 144302.7 | Y93: 130323.2 | Z93: 135123.2 | AA93: 228137.1 | AB93: 134337.1 | AC93: 195939.2 | AD93: 211802.7 | AE93: 194539.2 | AF93: 204937.1 | AG93: 195939.2 | AI93: 212600 | AO93: 194539.2 | AQ93: 220100 | AW93: 214939.2 | AX93: 202402.7 | AY93: 198639.2 | AZ93: 213945.6 | BB93: 198639.2 | BC93: 198639.2 | BD93: 222002.7 | BE93: 199839.2 | BN93: 222002.7 | BP93: 198639.2 | BR93: 198639.2 | BT93: 198639.2 | BU93: 198639.2
B94: 2 | C94: RETENEDOR TELESCOPICO | D94: 1 | E94: 151100 | F94: 151841.5 | G94: 123541.5 | H94: 148641.5 | I94: 149741.5 | J94: 149741.5 | K94: 149741.5 | L94: 149741.5 | N94: 149741.5 | O94: 149741.5 | P94: 149741.5 | Q94: 151400 | T94: 154500 | V94: 149700 | W94: 146200 | X94: 145541.5 | Y94: 150341.5 | Z94: 150341.5 | AA94: 151241.5 | AB94: 150341.5 | AC94: 136941.5 | AD94: 144941.5 | AE94: 137241.5 | AF94: 150241.5 | AG94: 136941.5 | AI94: 142600 | AO94: 137241.5 | AQ94: 154100 | AW94: 165741.5 | AX94: 137741.5 | AY94: 124141.5 | AZ94: 146641.5 | BB94: 122941.5 | BC94: 124141.5 | BD94: 146941.5 | BE94: 155241.5 | BN94: 146941.5 | BP94: 124141.5 | BR94: 122941.5 | BT94: 124141.5 | BU94: 124141.5
B95: 3 | C95: RODAMIENTO RUEDA DELANTERA | D95: 1 | E95: 68400 | F95: 79357.1 | G95: 81557.1 | H95: 78957.1 | I95: 87657.1 | J95: 87657.1 | K95: 87657.1 | L95: 87657.1 | N95: 87657.1 | O95: 87657.1 | P95: 87657.1 | Q95: 87657.1 | T95: 78457.1 | V95: 89757.1 | W95: 89757.1 | X95: 89757.1 | Y95: 78457.1 | Z95: 78457.1 | AA95: 77257.1 | AB95: 78457.1 | AC95: 76657.1 | AD95: 84957.1 | AE95: 70657.1 | AF95: 79757.1 | AG95: 76657.1 | AI95: 75300 | AO95: 70657.1 | AQ95: 79000 | AW95: 64457.1 | AX95: 81257.1 | AY95: 78257.1 | AZ95: 61457.1 | BB95: 78257.1 | BC95: 78257.1 | BD95: 71857.1 | BE95: 61457.1 | BN95: 71857.1 | BP95: 78257.1 | BR95: 78257.1 | BT95: 78257.1 | BU95: 79757.1
B96: 4 | C96: RODAMIENTO RUEDA TRASERA | D96: 1 | E96: 69000 | F96: 79526.9 | G96: 82626.9 | H96: 82326.9 | I96: 87726.9 | J96: 87726.9 | K96: 87726.9 | L96: 87726.9 | N96: 87726.9 | O96: 87726.9 | P96: 87726.9 | Q96: 87726.9 | T96: 79026.9 | V96: 88026.9 | W96: 88026.9 | X96: 88026.9 | Y96: 79026.9 | Z96: 79026.9 | AA96: 80426.9 | AB96: 79026.9 | AC96: 82926.9 | AD96: 86026.9 | AE96: 73226.9 | AF96: 83026.9 | AG96: 82926.9 | AI96: 82400 | AO96: 73226.9 | AQ96: 83300 | AW96: 65426.9 | AX96: 82526.9 | AY96: 80126.9 | AZ96: 62426.9 | BB96: 80126.9 | BC96: 80126.9 | BD96: 73726.9 | BE96: 62426.9 | BN96: 73726.9 | BP96: 80126.9 | BR96: 80126.9 | BT96: 80126.9 | BU96: 81326.9
B97: 5 | C97: ACEITE TELESCOPICOS (Fork oil 10w) | D97: 1 | E97: 40000 | F97: 40000 | G97: 41800 | H97: 44800 | I97: 43600 | J97: 43600 | K97: 43600 | L97: 43600 | N97: 41200 | O97: 43600 | P97: 43600 | Q97: 43600 | T97: 43600 | V97: 47200 | W97: 47200 | X97: 50200.1 | Y97: 41200.2 | Z97: 45400.2 | AA97: 50200.4 | AB97: 41200.4 | AC97: 43600.6 | AD97: 50200.7 | AE97: 41200.8 | AF97: 43600.4 | AG97: 43600.8 | AI97: 43600.8 | AO97: 41200.8 | AQ97: 47200.8 | AW97: 46000.8 | AX97: 44200.8 | AY97: 42400.8 | AZ97: 42400.8 | BB97: 40600.8 | BC97: 42400.8 | BD97: 46000.4 | BE97: 42400.8 | BN97: 49000.4 | BP97: 42400.8 | BR97: 40600.8 | BT97: 42400.8 | BU97: 42400.8
B98: ITEM | C98: SISTEMA DE DIRECCIÓN | D98: CANTIDAD
B99: 1 | C99: CANASTILLA SUSPENSION | D99: 1 | E99: 258500 | F99: 207718.4 | G99: 200039.2 | H99: 219116.2 | I99: 137223.2 | J99: 137223.2 | K99: 137223.2 | L99: 137223.2 | N99: 148000 | O99: 150400 | P99: 150400 | Q99: 137223.2 | T99: 137223.2 | V99: 144057.6 | W99: 145202.7 | X99: 148802.7 | Y99: 134823.2 | Z99: 139623.2 | AA99: 241822.6 | AB99: 138837.1 | AC99: 200439.2 | AD99: 218316.2 | AE99: 199039.2 | AF99: 218622.6 | AG99: 200439.2 | AI99: 200439.2 | AO99: 199039.2 | AQ99: 302300 | AW99: 219439.2 | AX99: 208916.2 | AY99: 203139.2 | AZ99: 218445.6 | BB99: 203139.2 | BC99: 203139.2 | BD99: 228516.2 | BE99: 204339.2 | BN99: 228516.2 | BP99: 203139.2 | BR99: 203139.2 | BT99: 203139.2 | BU99: 211400
B100: ITEM | C100: SISTEMA DE FRENOS | D100: CANTIDAD
B101: 1 | C101: BANDAS FRENOS TRASEROS | D101: 1 | E101: 103100 | F101: 101299.9 | G101: 110900 | H101: 103800 | I101: 118400 | J101: 118400 | K101: 118400 | L101: 116400 | N101: 116400 | O101: 116400 | P101: 116400 | Q101: 116400 | T101: 78300 | V101: 83100 | W101: 81100 | X101: 84100 | Y101: 73900 | Z101: 78100 | AA101: 84100 | AB101: 73900 | AC101: 111100 | AD101: 114100 | AE101: 110000 | AF101: 92600 | AG101: 111100 | AI101: 111100 | AO101: 107000 | AQ101: 111300 | AW101: 79900 | AX101: 77500 | AY101: 118500 | AZ101: 75100 | BB101: 118500 | BC101: 118500 | BD101: 79900 | BE101: 75100 | BN101: 82300 | BP101: 118500 | BR101: 118500 | BT101: 118500 | BU101: 118500
B102: 2 | C102: BOMBA DE FRENO DELANTERO | D102: 1 | E102: 321800 | F102: 336129.2 | G102: 350088.5 | H102: 385415.1 | I102: 357188.5 | J102: 357188.5 | K102: 357188.5 | L102: 357188.5 | N102: 357188.5 | O102: 357188.5 | P102: 360429.2 | Q102: 357188.5 | T102: 366288.5 | V102: 374329.2 | W102: 376215.1 | X102: 376215.1 | Y102: 366288.5 | Z102: 366288.5 | AA102: 412022.9 | AB102: 374522.9 | AC102: 368988.5 | AD102: 389315.1 | AE102: 265188.5 | AF102: 401822.9 | AG102: 368988.5 | AI102: 368988.5 | AO102: 263300 | AQ102: 352000 | AW102: 431688.5 | AX102: 341515.1 | AY102: 347088.5 | AZ102: 383029.2 | BB102: 347088.5 | BC102: 347088.5 | BD102: 370393.8 | BE102: 383967.2 | BN102: 373515.1 | BP102: 347200 | BR102: 343967.2 | BT102: 343967.2 | BU102: 336500
B103: 3 | C103: BOMBA DE FRENO TRASERO | D103: 1 | E103: 285800 | F103: 290529.2 | G103: 295088.5 | H103: 339815.1 | I103: 226888.5 | J103: 226888.5 | K103: 226888.5 | L103: 226888.5 | N103: 225588.5 | O103: 226888.5 | P103: 230129.2 | Q103: 226888.5 | T103: 320688.5 | V103: 328729.2 | W103: 330615.1 | X103: 330615.1 | Y103: 320688.5 | Z103: 320688.5 | AA103: 340522.9 | AB103: 328922.9 | AC103: 323388.5 | AD103: 343715.1 | AE103: 225588.5 | AF103: 356222.9 | AG103: 323388.5 | AI103: 323388.5 | AO103: 225588.5 | AQ103: 308288.5 | AW103: 386088.5 | AX103: 304115.1 | AY103: 301488.5 | AZ103: 229529.2 | BB103: 301488.5 | BC103: 301488.5 | BD103: 351693.8 | BE103: 338367.2 | BN103: 354815.1 | BP103: 306600 | BR103: 298367.2 | BT103: 298367.2 | BU103: 304100
B104: 4 | C104: CAMPANA FRENO | D104: 1 | E104: 224800 | F104: 231400 | G104: 232900 | H104: 235800 | I104: 234400 | J104: 234400 | K104: 234400 | L104: 234400 | N104: 232800 | O104: 234400 | P104: 234400 | Q104: 234400 | T104: 234400 | V104: 237700 | W104: 235100 | X104: 237300 | Y104: 230200 | Z104: 233300 | AA104: 237300 | AB104: 230200 | AC104: 231800 | AD104: 237300 | AE104: 230200 | AF104: 231800 | AG104: 231800 | AI104: 231800 | AO104: 223800 | AQ104: 228700 | AW104: 351400 | AX104: 232500 | AY104: 231000 | AZ104: 231000 | BB104: 229500 | BC104: 231000 | BD104: 234200 | BE104: 316300 | BN104: 236300 | BP104: 236600 | BR104: 229500 | BT104: 231000 | BU104: 236600
B105: 5 | C105: DISCO FRENO DELANTERO | D105: 1 | E105: 269900 | F105: 277737.5 | G105: 269137.5 | H105: 279237.5 | I105: 267637.5 | J105: 267637.5 | K105: 267637.5 | L105: 267637.5 | N105: 267637.5 | O105: 267637.5 | P105: 267637.5 | Q105: 267637.5 | T105: 265137.5 | V105: 258037.5 | W105: 258037.5 | X105: 258037.5 | Y105: 265137.5 | Z105: 265137.5 | AA105: 258437.5 | AB105: 265137.5 | AC105: 269637.5 | AD105: 312348.4 | AE105: 289937.5 | AF105: 261937.5 | AG105: 269637.5 | AI105: 269637.5 | AO105: 286600 | AQ105: 293600 | AW105: 363689.1 | AX105: 261489.1 | AY105: 292189.1 | AZ105: 287189.1 | BB105: 292189.1 | BC105: 292189.1 | BD105: 273989.1 | BE105: 317689.1 | BN105: 273989.1 | BP105: 294600 | BR105: 292189.1 | BT105: 292189.1 | BU105: 279200
B106: 6 | C106: DISCO FRENO TRASERO | D106: 1 | E106: 193900 | F106: 189937.5 | G106: 191237.5 | H106: 193737.5 | I106: 192537.5 | J106: 192537.5 | K106: 192537.5 | L106: 192537.5 | N106: 191137.5 | O106: 192537.5 | P106: 192537.5 | Q106: 192537.5 | T106: 192537.5 | V106: 195437.5 | W106: 195437.5 | X106: 197237.5 | Y106: 191137.5 | Z106: 193837.5 | AA106: 271037.5 | AB106: 191137.5 | AC106: 192537.5 | AD106: 214848.4 | AE106: 191137.5 | AF106: 192537.5 | AG106: 192537.5 | AI106: 192537.5 | AO106: 193800 | AQ106: 198100 | AW106: 201889.1 | AX106: 271689.1 | AY106: 199089.1 | AZ106: 199089.1 | BB106: 197789.1 | BC106: 199089.1 | BD106: 312289.1 | BE106: 199089.1 | BN106: 312289.1 | BP106: 202700 | BR106: 197789.1 | BT106: 199089.1 | BU106: 275300
B107: 7 | C107: EMPAQUETADURA BOMBA FRENO TRASERO | D107: 1 | E107: 80100 | F107: 80100 | G107: 81900 | H107: 84900 | I107: 83700 | J107: 83700 | K107: 83700 | L107: 83700 | N107: 81300 | O107: 83700 | P107: 83700 | Q107: 83700 | T107: 83700 | V107: 85800 | W107: 85800 | X107: 86300 | Y107: 81300 | Z107: 85500 | AA107: 86300 | AB107: 81300 | AC107: 83700 | AD107: 106500 | AE107: 81300 | AF107: 83700 | AG107: 83700 | AI107: 83700 | AO107: 81300 | AQ107: 103300 | AW107: 85600 | AX107: 84300 | AY107: 82500 | AZ107: 82500 | BB107: 80700 | BC107: 82500 | BD107: 85600 | BE107: 82500 | BN107: 86100 | BP107: 80300 | BR107: 80700 | BT107: 82500 | BU107: 80300
B108: 8 | C108: EMPAQUETADURA MORDAZA | D108: 1 | E108: 84500 | F108: 94018.5 | G108: 99084.1 | H108: 104368.5 | I108: 106684.1 | J108: 106684.1 | K108: 106684.1 | L108: 106684.1 | N108: 106684.1 | O108: 106684.1 | P108: 108118.5 | Q108: 106684.1 | T108: 95784.1 | V108: 97918.5 | W108: 98768.5 | X108: 98768.5 | Y108: 95784.1 | Z108: 95784.1 | AA108: 83902.9 | AB108: 99502.9 | AC108: 92084.1 | AD108: 113968.5 | AE108: 91284.1 | AF108: 109302.9 | AG108: 92084.1 | AI108: 92084.1 | AO108: 91284.1 | AQ108: 125184.1 | AW108: 75984.1 | AX108: 76468.5 | AY108: 94984.1 | AZ108: 73818.5 | BB108: 94984.1 | BC108: 94984.1 | BD108: 78268.5 | BE108: 72384.1 | BN108: 81268.5 | BP108: 69800 | BR108: 94984.1 | BT108: 94984.1 | BU108: 69800
B109: 9 | C109: GUAYA FRENO | D109: 1 | E109: 114100 | F109: 120700 | G109: 120300 | H109: 121700 | I109: 122700 | J109: 122700 | K109: 122700 | L109: 122700 | N109: 122700 | O109: 122700 | P109: 122700 | Q109: 122700 | T109: 118900 | V109: 119600 | W109: 119600 | X109: 119600 | Y109: 121400 | Z109: 121400 | AA109: 95400 | AB109: 121400 | AC109: 119700 | AD109: 120700 | AE109: 115700 | AF109: 123100 | AG109: 119700 | AI109: 119700 | AO109: 115700 | AQ109: 120600 | AW109: 92400 | AX109: 91200 | AY109: 123600 | AZ109: 125100 | BB109: 123600 | BC109: 123600 | BD109: 92400 | BE109: 89400 | BN109: 94800 | BP109: 123600 | BR109: 123600 | BT109: 123600 | BU109: 123600
B110: 10 | C110: KALIPERS | D110: 1 | E110: 234000 | F110: 221000 | G110: 209900 | H110: 284900 | I110: 239300 | J110: 239300 | K110: 239300 | L110: 239300 | N110: 239300 | O110: 239300 | P110: 239300 | Q110: 239300 | T110: 160100 | V110: 164200 | W110: 164200 | X110: 166700 | Y110: 158200 | Z110: 162000 | AA110: 292900 | AB110: 158200 | AC110: 160100 | AD110: 256900 | AE110: 281800 | AF110: 271000 | AG110: 160100 | AI110: 160100 | AO110: 281800 | AQ110: 241900 | AW110: 163100 | AX110: 264500 | AY110: 191300 | AZ110: 159200 | BB110: 191300 | BC110: 191300 | BD110: 232500 | BE110: 159200 | BN110: 232500 | BP110: 191300 | BR110: 191300 | BT110: 191300 | BU110: 227900
B111: 11 | C111: KIT EMPAQUES MORDAZA TRASERA | D111: 1 | E111: 66900 | F111: 71191.9 | G111: 70323.2 | H111: 72629.4 | I111: 70623.2 | J111: 70623.2 | K111: 70623.2 | L111: 70623.2 | N111: 70223.2 | O111: 70623.2 | P111: 71791.9 | Q111: 70623.2 | T111: 70623.2 | V111: 72391.9 | W111: 73029.4 | X111: 73529.4 | Y111: 70223.2 | Z111: 70923.2 | AA111: 74618.5 | AB111: 73118.5 | AC111: 70623.2 | AD111: 73529.4 | AE111: 70223.2 | AF111: 73518.5 | AG111: 70623.2 | AI111: 70623.2 | AO111: 70223.2 | AQ111: 71223.2 | AW111: 71023.2 | AX111: 72529.4 | AY111: 70423.2 | AZ111: 71591.9 | BB111: 70123.2 | BC111: 70423.2 | BD111: 72829.4 | BE111: 70423.2 | BN111: 73329.4 | BP111: 74000 | BR111: 70123.2 | BT111: 70423.2 | BU111: 74000
B112: 12 | C112: KIT PISTON MORDAZA DELANTERA | D112: 1 | E112: 125100 | F112: 123900 | G112: 126900 | H112: 132300 | I112: 129300 | J112: 129300 | K112: 129300 | L112: 129300 | N112: 126900 | O112: 129300 | P112: 129300 | Q112: 129300 | T112: 129300 | V112: 122300 | W112: 122300 | X112: 126000 | Y112: 113900 | Z112: 119300 | AA112: 126000 | AB112: 113900 | AC112: 116300 | AD112: 126000 | AE112: 113900 | AF112: 116300 | AG112: 116300 | AI112: 116300 | AO112: 113900 | AQ112: 122300 | AW112: 121100 | AX112: 118100 | AY112: 115100 | AZ112: 115100 | BB112: 112700 | BC112: 115100 | BD112: 121100 | BE112: 115100 | BN112: 124700 | BP112: 115100 | BR112: 112700 | BT112: 115100 | BU112: 115100
... B127: 27 | C127: PORTA BANDA | D127: 1 | E127: 188300 | F127: 203200 | G127: 206500 | H127: 186700 | I127: 130300 | J127: 130300 | K127: 130300 | L127: 130300 | N127: 129500 | O127: 130300 | P127: 130300 | Q127: 130300 | T127: 188400 | V127: 198800 | W127: 185800 | X127: 185800 | Y127: 175400 | Z127: 175400 | AA127: 119800 | AB127: 175400 | AC127: 188800 | AD127: 173700 | AE127: 184900 | AF127: 153200 | AG127: 188800 | AI127: 188800 | AO127: 187900 | AQ127: 191600 | AW127: 118400 | AX127: 117600 | AY127: 200100 | AZ127: 116900 | BB127: 200100 | BC127: 200100 | BD127: 118400 | BE127: 116900 | BN127: 119400 | BP127: 200100 | BR127: 200100 | BT127: 200100 | BU127: 200100
B128: ITEM | C128: SISTEMA ELÉCTRICO | D128: CANTIDAD
B129: 1 | C129: AUTOMATICO ARRANQUE | D129: 1 | E129: 238000 | F129: 306412.6 | G129: 165250 | H129: 330064.1 | I129: 158370.9 | J129: 158370.9 | K129: 158370.9 | L129: 158370.9 | N129: 155970.9 | O129: 158370.9 | P129: 161452.1 | Q129: 189900 | T129: 189900 | V129: 377200 | W129: 377200 | X129: 377200 | Y129: 187500 | Z129: 192900 | AA129: 200100 | AB129: 187500 | AC129: 309350 | AD129: 374000 | AE129: 165250 | AF129: 175592.2 | AG129: 309350 | AI129: 309350 | AO129: 165250 | AQ129: 360600 | AW129: 285300 | AX129: 191700 | AY129: 342100 | AZ129: 188700 | BB129: 342100 | BC129: 342100 | BD129: 321500 | BE129: 231250 | BN129: 304164.1 | BP129: 319850 | BR129: 319850 | BT129: 322100 | BU129: 322100
B130: 2 | C130: BATERIA | D130: 1 | E130: 202500 | F130: 211010.7 | G130: 224959.4 | H130: 242359.4 | I130: 229010.7 | J130: 229010.7 | K130: 229010.7 | L130: 233959.4 | N130: 219410.7 | O130: 233959.4 | P130: 233959.4 | Q130: 233959.4 | T130: 233959.4 | V130: 253759.4 | W130: 253759.4 | X130: 265459.4 | Y130: 224359.4 | Z130: 242959.4 | AA130: 265459.4 | AB130: 224359.4 | AC130: 223100 | AD130: 265459.4 | AE130: 224359.4 | AF130: 233959.4 | AG130: 223100 | AI130: 233959.4 | AO130: 217500 | AQ130: 246900 | AW130: 248359.4 | AX130: 238159.4 | AY130: 229159.4 | AZ130: 229159.4 | BB130: 220159.4 | BC130: 229159.4 | BD130: 248359.4 | BE130: 229159.4 | BN130: 260959.4 | BP130: 229159.4 | BR130: 220159.4 | BT130: 236300 | BU130: 236300
B131: 3 | C131: BOBINA PULSORA | D131: 1 | E131: 383800 | F131: 378600 | G131: 381600 | H131: 387000 | I131: 384000 | J131: 384000 | K131: 384000 | L131: 384000 | N131: 381600 | O131: 384000 | P131: 384000 | Q131: 384000 | T131: 384000 | V131: 390000 | W131: 395000 | X131: 399200 | Y131: 386600 | Z131: 392000 | AA131: 399200 | AB131: 386600 | AC131: 389000 | AD131: 399200 | AE131: 386600 | AF131: 389000 | AG131: 389000 | AI131: 389000 | AO131: 386600 | AQ131: 395000 | AW131: 393800 | AX131: 390800 | AY131: 387800 | AZ131: 387800 | BB131: 385400 | BC131: 387800 | BD131: 393800 | BE131: 387800 | BN131: 397400 | BP131: 387800 | BR131: 385400 | BT131: 384800 | BU131: 384800
B132: 4 | C132: BOBINA DE ALTA | D132: 1 | E132: 473900 | F132: 473700 | G132: 385500 | H132: 392700 | I132: 389100 | J132: 389100 | K132: 389100 | L132: 389100 | N132: 385500 | O132: 389100 | P132: 389100 | Q132: 389100 | T132: 484900 | V132: 504600 | W132: 506200 | X132: 506200 | Y132: 486500 | Z132: 486500 | AA132: 403900 | AB132: 486500 | AC132: 470200 | AD132: 403900 | AE132: 485100 | AF132: 516600 | AG132: 470200 | AI132: 470200 | AO132: 485100 | AQ132: 399100 | AW132: 396700 | AX132: 392500 | AY132: 388900 | AZ132: 388900 | BB132: 385300 | BC132: 388900 | BD132: 396700 | BE132: 388900 | BN132: 401500 | BP132: 388900 | BR132: 385300 | BT132: 388900 | BU132: 388900
B133: 5 | C133: BOMBILLO STOP | D133: 1 | E133: 9800 | F133: 10172.9 | G133: 10172.9 | H133: 10372.9 | I133: 10472.9 | J133: 10472.9 | K133: 10472.9 | L133: 10472.9 | N133: 10472.9 | O133: 10472.9 | P133: 10472.9 | Q133: 10472.9 | T133: 10672.9 | V133: 10572.9 | W133: 10572.9 | X133: 10572.9 | Y133: 10672.9 | Z133: 10672.9 | AA133: 10672.9 | AB133: 10672.9 | AC133: 10272.9 | AD133: 11272.9 | AE133: 10772.9 | AF133: 10372.9 | AG133: 10272.9 | AI133: 10272.9 | AO133: 10772.9 | AQ133: 11172.9 | AW133: 11572.9 | AX133: 10872.9 | AY133: 10172.9 | AZ133: 10772.9 | BB133: 10172.9 | BC133: 10172.9 | BD133: 11972.9 | BE133: 10672.9 | BN133: 11972.9 | BP133: 10172.9 | BR133: 10172.9 | BT133: 10172.9 | BU133: 10472.9
B134: 6 | C134: BOMBILLO DIRECCIONAL | D134: 1 | E134: 10000 | F134: 10772.9 | G134: 10372.9 | H134: 10672.9 | I134: 10372.9 | J134: 10372.9 | K134: 10372.9 | L134: 10372.9 | N134: 10372.9 | O134: 10372.9 | P134: 10372.9 | Q134: 10372.9 | T134: 10372.9 | V134: 10272.9 | W134: 10272.9 | X134: 10272.9 | Y134: 10372.9 | Z134: 10372.9 | AA134: 10472.9 | AB134: 10372.9 | AC134: 10472.9 | AD134: 11772.9 | AE134: 10872.9 | AF134: 10472.9 | AG134: 10472.9 | AI134: 10472.9 | AO134: 10872.9 | AQ134: 11672.9 | AW134: 10972.9 | AX134: 10472.9 | AY134: 10772.9 | AZ134: 10072.9 | BB134: 10772.9 | BC134: 10772.9 | BD134: 8872.9 | BE134: 10272.9 | BN134: 8972.9 | BP134: 10772.9 | BR134: 10772.9 | BT134: 10772.9 | BU134: 10572.9
B135: 7 | C135: BOMBILLO FAROLA | D135: 1 | E135: 29400 | F135: 31542.2 | G135: 32842.2 | H135: 33842.2 | I135: 34642.2 | J135: 34642.2 | K135: 34642.2 | L135: 34642.2 | N135: 34642.2 | O135: 34642.2 | P135: 34642.2 | Q135: 34642.2 | T135: 34042.2 | V135: 32642.2 | W135: 32642.2 | X135: 32642.2 | Y135: 34042.2 | Z135: 34042.2 | AA135: 30742.2 | AB135: 34042.2 | AC135: 30542.2 | AD135: 31442.2 | AE135: 28042.2 | AF135: 33142.2 | AG135: 30542.2 | AI135: 30542.2 | AO135: 28042.2 | AQ135: 30542.2 | AW135: 38042.2 | AX135: 31642.2 | AY135: 32842.2 | AZ135: 31742.2 | BB135: 32842.2 | BC135: 32842.2 | BD135: 31442.2 | BE135: 33742.2 | BN135: 31442.2 | BP135: 32842.2 | BR135: 32842.2 | BT135: 32842.2 | BU135: 32242.2
B136: 8 | C136: BOMBILLO TABLERO | D136: 1 | E136: 11200 | F136: 11400 | G136: 11400 | H136: 11700 | I136: 11500 | J136: 11500 | K136: 11500 | L136: 11500 | N136: 11500 | O136: 11500 | P136: 11500 | Q136: 11500 | T136: 12000 | V136: 12100 | W136: 11900 | X136: 11900 | Y136: 11800 | Z136: 11800 | AA136: 11900 | AB136: 11800 | AC136: 11500 | AD136: 12300 | AE136: 11500 | AF136: 11300 | AG136: 11500 | AI136: 11500 | AO136: 11500 | AQ136: 12500 | AW136: 8800 | AX136: 11800 | AY136: 11400 | AZ136: 11600 | BB136: 11400 | BC136: 11400 | BD136: 12300 | BE136: 8200 | BN136: 12300 | BP136: 11400 | BR136: 11400 | BT136: 11400 | BU136: 11600
B137: 9 | C137: BOMBILLO VIGIA | D137: 1 | E137: 11400 | F137: 11400 | G137: 12000 | H137: 12600 | I137: 12000 | J137: 12000 | K137: 12000 | L137: 12000 | N137: 12000 | O137: 12000 | P137: 12000 | Q137: 12000 | T137: 12000 | V137: 12600 | W137: 12700 | X137: 13300 | Y137: 12100 | Z137: 12700 | AA137: 13300 | AB137: 12100 | AC137: 12100 | AD137: 13300 | AE137: 12100 | AF137: 12100 | AG137: 12100 | AI137: 12100 | AO137: 12100 | AQ137: 12700 | AW137: 12700 | AX137: 12700 | AY137: 12100 | AZ137: 12100 | BB137: 12100 | BC137: 12100 | BD137: 12700 | BE137: 12100 | BN137: 13300 | BP137: 12100 | BR137: 12100 | BT137: 12100 | BU137: 12100
B138: 10 | C138: CDI | D138: 1 | E138: 717900 | F138: 757574.8 | G138: 768300.8 | H138: 655800.5 | I138: 916800 | J138: 916800 | K138: 916800 | L138: 916800 | N138: 916800 | O138: 916800 | P138: 916800 | Q138: 916800 | T138: 754000 | V138: 977000 | W138: 857600.5 | X138: 857600.5 | Y138: 616300.8 | Z138: 775300 | AA138: 952000 | AB138: 772700 | AC138: 726000 | AD138: 1036200 | AE138: 705064.4 | AF138: 713987.8 | AG138: 706364.4 | AI138: 714000 | AO138: 717700 | AQ138: 928200 | AW138: 696000 | AX138: 706964.4 | AY138: 870764.4 | AZ138: 705764.4 | BB138: 870764.4 | BC138: 958400 | BD138: 989200 | BE138: 617000.8 | BN138: 908564.4 | BP138: 870764.4 | BR138: 870764.4 | BT138: 870764.4 | BU138: 870764.4
...

Sheet REPUESTOS COMUNES
B2: PROPUESTA | D2: =+'MOTOCICLETAS - 2026'!E2 -> REPUESTOS AUTOMOTORES MULTIMARCA (REPUESTOS) MANTENIMIENTO CORRECTIVO *** Incluye Costos Directos e Indirectos
E4: VALOR TOTAL INCLUIDO IVA
B5: ITEM | C5: DESCRIPCION | D5: PRESENTACION | E5: VALOR PROPUESTA (Los Aceites no tienen IVA)
B6: 1 | C6: ACEITE 10W30 SINTETICO | D6: CUARTO | E6: 56200
B7: 2 | C7: ACEITE 15W40 SINTETICO | D7: CUARTO | E7: 64070
B8: 3 | C8: ACEITE CAJA 80W90 | D8: CUARTO | E8: 51350
B9: 4 | C9: ACEITE 20W50 | D9: CUARTO | E9: 49350
B10: 5 | C10: ACEITE HIDRAULICO SINTETICO | D10: CUARTO | E10: 59860
B11: 6 | C11: ACEITE MOTOR 15W40 MINERAL | D11: CUARTO | E11: 45140
B12: 7 | C12: ACEITE MOTOR 15W40 SINTETICO | D12: CUARTO | E12: 56070
B13: 8 | C13: ACEITE MOTOR 5W30 SINTETICO | D13: CUARTO | E13: 59500
B14: 9 | C14: ABRAZADERA METALICA GRANDE | D14: UNIDAD | E14: 7300
B15: 10 | C15: ABRAZADERA METALICA MEDIANA | D15: UNIDAD | E15: 7750
B16: 11 | C16: ABRAZADERA METALICA PEQUEÑA | D16: UNIDAD | E16: 7450
B17: 12 | C17: ABRAZADERA PLASTICA | D17: UNIDAD | E17: 1950
... B57: 52 | C57: PERNOS DE SEGURIDAD | D57: UNIDAD | E57: 91000
B59: TOTAL PROPUESTA PORTAFOLIO (REPUESTOS COMUNES) | E59: =SUM(E6:E57) -> 3987140

Sheet TEMPARIO AUTOM - HH
B1: TEMPARIO PARA ACTIVIDADES DE MANTENIMIENTO AUTOMOTORES
B2: VALOR HORA HOMBRE | D2: 103125
B3: IVA | D3: 19593.75
B4: VALOR TOTAL HORA HOMBRE | D4: 122718.75
B5: ITEM | C5: ACTIVIDAD | D5: CAMIONETAS CAMPERO CAMIÓNES | E5: VALOR TOTAL INCLUIDO IVA | F5: AUTOMOVILES | G5: VALOR TOTAL INCLUIDO IVA
B6: 1 | C6: REVISIONES PERIODICAS | D6: HH | F6: HH
B7: 1.1 | C7: REVISION 5,000/15,000/25,000/35,000/ 45,000 KM (INCLUYE CAMBIO DE: FILTRO DE AIRE, FILTRO DE ACEITE, ACEITE DE MOTOR, EMPAQUE TAPON CARTER Y GRASA), REVISION GENERAL DE FRENOS Y LLANTAS. (LAS DEMAS OPERACIONES RECOMENDADAS POR EL FABRICANTE) | D7: 1 | E7: 122100 | F7: 1 | G7: 117100
B8: 1.2 | C8: REVISION 10,000/30,000/50,000/70,000/90,00 KM (INCLUYE CAMBIO DE: FILTRO DE AIRE, FILTRO DE AIRE ACONDICIONADO, FILTRO DE ACEITE, FILTRO DE COMBUSTIBLE, ACEITE DE MOTOR, EMPAQUE TAPON CARTER Y GRASA), REVISION GENERAL DE FRENOS, ROTACION DE LLANTAS, ALINEACION Y BALANCEO. (LAS DEMAS OPERACIONES RECOMENDADAS POR EL FABRICANTE) | D8: 4 | E8: 488400 | F8: 4 | G8: 468400
B9: 1.3 | C9: REVISION 20,000/40,000/60,000/80,000/100,000/120,000 KM (INCLUYE CAMBIO DE: FILTRO DE AIRE, FILTRO DE AIRE ACONDICIONADO, FILTRO DE ACEITE, FILTRO DE COMBUSTIBLE, ACEITE DE MOTOR, EMPAQUE TAPON CARTER Y GRASA), REVISION GENERAL DE FRENOS, ROTACION DE LLANTAS, ALINEACION Y BALANCEO. LIMPIEZA DE INYECTORES (LAS DEMAS OPERACIONES RECOMENDADAS POR EL FABRICANTE) | D9: 5 | E9: 610500 | F9: 5 | G9: 585500
B10: 1.4 | C10: SINCRONIZACION (INCLUYE CAMBIO DE: FILTRO DE COMBUSTIBLE, FILTRO DE AIRE, BUJIAS, INSTALACION DE ALTA -SI APLICA, REVISION ELECTRICA GENERAL Y ESCANEO) | D10: N/A | E10: N/A | F10: 3 | G10: 351300
B11: 1.5 | C11: CAMBIO CORREAS | D11: 1 | E11: 122100 | F11: 1 | G11: 117100
B12: 1.6 | C12: CAMBIO KIT REPARTICION (INCLUYE CAMBIO DE BOMBA DE AGUA) | D12: 4.5 | E12: 549450 | F12: 3.5 | G12: 407350
B13: 1.7 | C13: CAMBIO EMBRAGUE | D13: 9 | E13: 1098900 | F13: 6 | G13: 702600
B14: 1.8 | C14: ALINEACION | D14: 0.5 | E14: 61050 | F14: 0.5 | G14: 58550
B15: 1.9 | C15: BALANCEO POR RUEDA | D15: 0.2 | E15: 24420 | F15: 0.1 | G15: 11710
B16: 2 | C16: SISTEMA DE FRENOS | D16: HH | F16: HH
B17: 2.1 | C17: REVISION GENERAL DE FRENOS (SIN CAMBIO DE ELEMENTOS) | D17: 0.5 | E17: 61050 | F17: 0.5 | G17: 58550
B18: 2.2 | C18: CAMBIO DE PASTILLAS DELANTERAS | D18: 1 | E18: 122718.75 | F18: 1 | G18: 117100
B19: 2.3 | C19: CAMBIO DE MORDAZA (UNIDAD) | D19: 0.5 | E19: 61050 | F19: 0.5 | G19: 58550
B20: 2.4 | C20: CAMBIO EMPAQUETADURA MORDAZA | D20: 1.4 | E20: 170940 | F20: 1 | G20: 117100
B21: 2.5 | C21: CAMBIO JUEGO PASADORES MORDAZA | D21: 1 | E21: 122100 | F21: 1 | G21: 117100
B22: 2.6 | C22: CAMBIO PISTONES MORDAZA | D22: 1 | E22: 122100 | F22: 1 | G22: 117100
B23: 2.7 | C23: CAMBIO PASTILLAS TRASERAS | D23: 1 | E23: 122100 | F23: 1 | G23: 117100
B24: 2.8 | C24: CAMBIO DE BANDAS TRASERAS | D24: 1.5 | E24: 183150 | F24: 1.5 | G24: 175650
B25: 2.9 | C25: CAMBIO DE DISCOS DELANTEROS | D25: 1.5 | E25: 183150 | F25: 1.5 | G25: 175650
B26: 2.10 | C26: CAMBIO DE DISCOS TRASEROS | D26: 1.5 | E26: 183150 | F26: 1.5 | G26: 175650
B27: 2.11 | C27: CAMBIO RESORTES Y PUNTILLAS TRASERAS | D27: 1.5 | E27: 183150 | F27: 1.5 | G27: 175650
B28: 2.12 | C28: CAMBIO BOMBA DE FRENOS PRINCIPAL | D28: 2.5 | E28: 305250 | F28: 2.5 | G28: 292750
... B36: 2.20 | C36: CAMBIO LIMITADOR FRENO | D36: 2 | E36: 244200 | F36: 2 | G36: 234200
B37: 3 | C37: SISTEMA DE SUSPENSION | D37: HH | F37: HH
B38: 3.1 | C38: CAMBIO JUEGO AMORTIGUADORES DELANTEROS | D38: 1.5 | E38: 183150 | F38: 1.5 | G38: 175650
B39: 3.2 | C39: CAMBIO JUEGO AMORTIGUADORES TRASEROS | D39: 1.5 | E39: 183150 | F39: 1.5 | G39: 175650
B40: 3.3 | C40: CAMBIO SOPORTE SUPERIOR AMORTIGUADOR | D40: 1.5 | E40: 183150 | F40: 1.5 | G40: 175650
B41: 3.4 | C41: CAMBIO DE TIJERA SUPERIOR DELANTERA | D41: 2 | E41: 244200 | F41: 2 | G41: 234200
B42: 3.5 | C42: CAMBIO DE TIJERA INFERIOR DELANTERA | D42: 2 | E42: 244200 | F42: 2 | G42: 234200
B43: 3.6 | C43: CAMBIO BUJES TIJERAS SUPERIOR O INFERIOR | D43: 2 | E43: 244200 | F43: 2 | G43: 234200
B44: 3.7 | C44: CAMBIO DE BARRA ESTABILIZADORA O TRASERA | D44: 1.5 | E44: 183150 | F44: 1.5 | G44: 175650
B45: 3.8 | C45: CAMBIO DE ROTULA SUPERIOR O INFERIOR. | D45: 2 | E45: 244200 | F45: 2 | G45: 234200
B46: 3.9 | C46: CAMBIO BUJES BARRA ESTABILIZADORA DELANTERA | D46: 0.5 | E46: 61050 | F46: 0.5 | G46: 58550
B47: 3.10 | C47: CAMBIO MUÑECOS ESTABILIZADORA DELANTERA | D47: 1 | E47: 122100 | F47: 1 | G47: 117100
B48: 3.11 | C48: CAMBIO RODAMIENTOS DELANTEROS | D48: 2.5 | E48: 305250 | F48: 2 | G48: 234200
B49: 3.12 | C49: AJUSTE Y ENGRASE RODAMIENTOS DELANTEROS | D49: 2 | E49: 244200 | F49: 2 | G49: 234200
... B59: 3.22 | C59: CAMBIO DE PORTA MANGUETAS DELANTERAS | D59: 1 | E59: 122100 | F59: 1 | G59: 117100
B60: 4 | C60: SISTEMA DE DIRECCION | D60: HH | F60: HH
B61: 4.1 | C61: CAMBIO CAJA DE DIRECCION. | D61: 2.5 | E61: 305250 | F61: 2.5 | G61: 292750
B62: 4.2 | C62: CAMBIO TERMINAL DIRECCION | D62: 0.5 | E62: 61050 | F62: 0.5 | G62: 58550
B63: 4.3 | C63: CAMBIO BOMBA DIRECCION HIDRAULICO | D63: 2 | E63: 244200 | F63: 2 | G63: 234200
B64: 4.4 | C64: CAMBIO AXIAL POR RUEDA | D64: 1 | E64: 122100 | F64: 1 | G64: 117100
B65: 4.5 | C65: CAMBIO MANGUERAS BOMBA DIRECCION HIDRAULICO | D65: 0.5 | E65: 61050 | F65: 0.5 | G65: 58550
B66: 5 | C66: SISTEMA DE TRANSMISION | D66: HH | F66: HH
B67: 5.1 | C67: CAMBIO RETENEDORES CAJA DE VELOCIDADES | D67: 2.5 | E67: 305250 | F67: 2 | G67: 234200
B68: 5.2 | C68: CAMBIO PALANCA SELECTORA. | D68: 0.5 | E68: 61050 | F68: 0.5 | G68: 58550
B69: 5.3 | C69: CAMBIO DE BUJES Y EMPAQUETADURA DE LA PALANCA SELECTORA. | D69: 0.5 | E69: 61050 | F69: 0.5 | G69: 58550
B70: 5.4 | C70: CAMBIO DE CARDAN TRASERO | D70: 1 | E70: 122100 | F70: 1 | G70: 122718.75
B71: 5.5 | C71: CAMBIO DE CARDAN DELANTERO | D71: 1 | E71: 122100 | F71: 1 | G71: 122718.75
B72: 5.6 | C72: CAMBIO CRUCETAS CARDAN. | D72: 1 | E72: 122100 | F72: 1 | G72: 122718.75
B73: 5.7 | C73: CAMBIO SENSOR VELOCIDAD | D73: 0.5 | E73: 61050 | F73: 0.5 | G73: 58550
B74: 5.8 | C74: CAMBIO SOPORTES CAJA VELOCIDADES | D74: 1 | E74: 122100 | F74: 1 | G74: 117100
