Workbook

Sheet SDC
B2: República de Colombia Instituto Colombiano de Bienestar Familiar Cecilia de la Fuente de Lleras Dirección de Gestión Humana | H2: CLASIFICACIÓN DE LA INFORMACIÓN PÚBLICA
B4: SOLICITUD DE COTIZACIÓN - DEL SERVICIO LAVADO DE TANQUES
B5: Objeto | C5: PRESTAR EL SERVICIO DE FUMIGACIÓN, JARDINERÍA Y LAVADO DE TANQUES DE ALMACENAMIENTO DE AGUA POTABLE DE LOS INMUEBLES DE PROPIEDAD Y DONDE FUNCIONA EL INSTITUTO COLOMBIANO DE BIENESTAR FAMILIAR REGIONAL META EN EL MUNICIPIO DE VILLAVICENCIO, DE CONFORMIDAD CON LAS ESPECIFICACIONES TÉCNICAS REQUERIDAS.
B7: EMPRESA: | D7: NIT: | F7: FECHA:
B8: CONTACTO: | D8: CARGO: | F8: TEL. CELULAR:
B9: E-MAIL: | D9: DIRECCIÓN: | F9: TELEFONO FIJO:
B11: Instrucciones para el diligenciamiento del formato de cotización
B12: • Por favor diligenciar solo las celdas en AMARILLO. • Revisar todos los requerimientos que se exponen en el documento "Ficha de Condiciones Técnicas Escenciales para la Prestación del Servicio y/o Entrega del Bien" (FCT) y Anexos; y formular su cotización en concordancia con este, garantizando que los bienes y/o servicios ofrecidos cumplan en su totalidad con las especificaciones técnicas descritas en la FCT. • El precio de la cotización deber ser expresado en PESOS COLOMBIANOS. • Los precios deberán aproximarse por exceso o por defecto al entero más cercano así: (i) si es igual o superior a 50 centavos, se aproxima al entero siguiente; (ii) si es inferior a 50 centavos se baja al entero anterior. • No modificar, agregar o quitar ningún ítem o sub-ítem.
B13: (1) Tener en cuenta para cotizar que el plazo de ejecución es estimado y podrá ser inferior. Los precios cotizados se deberán mantener. (2) Asignar precio sin incluir el IVA en las celdas de la columna "Precio unitario antes de IVA" y asignar la tarifa de IVA que corresponda en la casilla "Tarifa IVA%". (3) El costo de cada actividad deberá incluir todos los costos directos e indirectos asociados al desarrollo de las mismas, conforme a lo establecido en el documento de "Ficha de Condiciones Técnicas" (FCT). (4) El costo de cada una de las actividades debe incluir los costos de los equipos, sustancias químicas y/o elemento que se requeira para el desarrollo de estas, conforme a lo establecido en el documento de"Ficha de Condiciones Técnicas" (FCT). (5) En caso de remitir su cotización mediante el módulo Solicitud de Información a Proveedores del SECOP II; el Precio Total para el periodo de ejecución estimado (IVA incluido) celda H30 debe ser diligenciado en la pregunta 1 del "Cuestionario".
B15: Tiempo de Ejecución 2026 | F15: Tarifa IVA (nota 2) | G15: 0
B16: Plazo estimado de ejecución (en días calendario) (nota 1) | D16: 2 MESES
B18: TIPO DE SERVICIO | C18: UBICACIÓN SEDE | D18: M2 | E18: CANTIDAD TOTAL | F18: Precio unitario antes de IVA (notas 2,3 y 4) | G18: Precio unitario IVA incluido | H18: Precio total IVA inlcuido
B20: FUMIGACIÓN con nebulización en archivos y Control de roedores | C20: CENTRO ZONAL N°1 Villavicencio | D20: 290 Metros2 | E20: 2 | H20: =+F20*E20 -> 0
C21: CENTRO ZONAL N°2 Villavicencio SEDE REGIONAL ADMINISTRATIVA | D21: 2.084 Metros2 | E21: 2 | H21: =+F21*E21 -> 0
C22: INMUEBLE POPULAR Villavicencio | D22: 261 Metros2 | E22: 2 | H22: =+F22*E22 -> 0
C23: YARI – edificio oficinas | D23: 800 Metros2 | E23: 1 | H23: =+F23*E23 -> 0
C24: Casa Atrapa sueños Popular | D24: 300 Metros2 | E24: 2 | H24: =+F24*E24 -> 0
C25: CDI Popular | D25: 300 Metros2 | E25: 1 | H25: =+F25*E25 -> 0
C26: CDI Comuneros | D26: 350 Metros2 | E26: 1 | H26: =+F26*E26 -> 0
C27: CDI La Madrid | D27: 500 Metros2 | E27: 1 | H27: =+F27*E27 -> 0
C28: Subtotal 1 | E28: =SUM(E20:E27) -> 12 | H28: =+SUM(H20:H26) -> 0
B29: JARDINERIA | C29: INMUEBLE POPULAR Villavicencio | D29: 261 Metros2 | E29: 2 | H29: =+ROUND(G29*E29,0) -> 0
C30: YARI – edificio oficinas | D30: 200 Metros2 | E30: 1 | H30: =+ROUND(G30*E30,0) -> 0
C31: Lote Villajulia | D31: 150 Metros2 | E31: 1 | H31: =+ROUND(G31*E32,0) -> 0
C32: Casa Atrapa sueños Popular | D32: 100 Metros2 | E32: 2 | H32: =+ROUND(G32*E33,0) -> 0
C33: CDI Popular | D33: 200 Metros2 | E33: 1 | H33: =+ROUND(G33*E34,0) -> 0
C34: CDI Comuneros | D34: 30 Metros2 | E34: 1 | H34: =+ROUND(G34*E35,0) -> 0
C35: CDI La Madrid | D35: 60 Metros2 | E35: 1 | H35: =+ROUND(G35*E36,0) -> 0
C36: Subtotal 1 | E36: =SUM(E29:E35) -> 9 | H36: =+SUM(H29:H35) -> 0
B37: LAVADO DE TANQUES | C37: CENTRO ZONAL N°1 Villavicencio | D37: 1 tanque elevado de 500 lts | E37: 1 | H37: =+ROUND(G37*E37,0) -> 0
C38: CENTRO ZONAL N°2 Villavicencio SEDE REGIONAL ADMINISTRATIVA Villavicencio | D38: 3 tanques elevados de 2000 lts | E38: 1 | H38: =+ROUND(G38*E38,0) -> 0
D39: 1 subterraneo de 7.6 m3
C40: INMUEBLE POPULAR Villavicencio | D40: 1 elevadode 2000 lts | E40: 1 | H40: =+ROUND(G40*E40,0) -> 0
C41: Casa Atrapasueños Popular | D41: 1 tanque elevado de 1000 lts / 1 subterraneo | E41: 1 | H41: =+ROUND(G41*E41,0) -> 0
C42: CDI Popular | D42: 2 tanques elevados 2000 lts | E42: 1 | H42: =+ROUND(G42*E42,0) -> 0
C43: CDI Comuneros | D43: 2 tanques elevados 1000 lts | E43: 1 | H43: =+ROUND(G43*E43,0) -> 0
C44: Subtotal 1 | E44: =SUM(E37:E43) -> 6 | H44: =+SUM(H37:H43) -> 0
B45: TOTAL ( subtotal 1) (nota 5) | H45: =+H44+H36+H28 -> 0
B47: La presente cotización:
B48: • Incluye todos los costos y gastos directos e indirectos en que debe incurrir el contratista durante la ejecución del contrato de acuerdo con las especificaciones de la Ficha de Condiciones Técnicas, las obligaciones tributarias de acuerdo con las normas aplicables para el tipo de servicio y contrato correspondiente, y los costos de las pólizas. • Incluye todos los impuestos, tasas y contribuciones establecidos por las diferentes autoridades nacionales, departamentales o municipales y dentro de estos mismos niveles territoriales, los impuestos, tasas y contribuciones establecidos por las diferentes autoridades ambientales, que afecten el contrato y las actividades que de él se deriven. • Se remite como parte del estudio de sector, previo a la contratación, y no implica ninguna obligación de contratar. • Tiene una vigencia de 90 días a partir de la fecha de diligenciamiento.
...

Sheet SDC STANDAR
B2: República de Colombia Instituto Colombiano de Bienestar Familiar Cecilia de la Fuente de Lleras Dirección de Gestión Humana | H2: CLASIFICACIÓN DE LA INFORMACIÓN PÚBLICA
B4: SOLICITUD DE COTIZACIÓN - DEL SERVICIO LAVADO DE TANQUES
B5: Objeto | C5: PRESTAR EL SERVICIO DE FUMIGACIÓN, JARDINERÍA Y LAVADO DE TANQUES DE ALMACENAMIENTO DE AGUA POTABLE DE LOS INMUEBLES DE PROPIEDAD Y DONDE FUNCIONA EL INSTITUTO COLOMBIANO DE BIENESTAR FAMILIAR REGIONAL META EN EL MUNICIPIO DE VILLAVICENCIO, DE CONFORMIDAD CON LAS ESPECIFICACIONES TÉCNICAS REQUERIDAS.
B7: EMPRESA: | C7: GRUPO STANDARD | D7: NIT: | E7: 901799930 | F7: FECHA: | G7: 46276
B8: CONTACTO: | C8: ZULMA DELGADO | D8: CARGO: | E8: REPRESENTANTE LEGAL | F8: TEL. CELULAR:
B9: E-MAIL: | C9: grupostandarp@hotmail.com | D9: DIRECCIÓN: | E9: CARRERA 33 n 24B 34 SAN MARCOS | F9: TELEFONO FIJO:
B11: Instrucciones para el diligenciamiento del formato de cotización
B12: • Por favor diligenciar solo las celdas en AMARILLO. • Revisar todos los requerimientos que se exponen en el documento "Ficha de Condiciones Técnicas Escenciales para la Prestación del Servicio y/o Entrega del Bien" (FCT) y Anexos; y formular su cotización en concordancia con este, garantizando que los bienes y/o servicios ofrecidos cumplan en su totalidad con las especificaciones técnicas descritas en la FCT. • El precio de la cotización deber ser expresado en PESOS COLOMBIANOS. • Los precios deberán aproximarse por exceso o por defecto al entero más cercano así: (i) si es igual o superior a 50 centavos, se aproxima al entero siguiente; (ii) si es inferior a 50 centavos se baja al entero anterior. • No modificar, agregar o quitar ningún ítem o sub-ítem.
B13: (1) Tener en cuenta para cotizar que el plazo de ejecución es estimado y podrá ser inferior. Los precios cotizados se deberán mantener. (2) Asignar precio sin incluir el IVA en las celdas de la columna "Precio unitario antes de IVA" y asignar la tarifa de IVA que corresponda en la casilla "Tarifa IVA%". (3) El costo de cada actividad deberá incluir todos los costos directos e indirectos asociados al desarrollo de las mismas, conforme a lo establecido en el documento de "Ficha de Condiciones Técnicas" (FCT). (4) El costo de cada una de las actividades debe incluir los costos de los equipos, sustancias químicas y/o elemento que se requeira para el desarrollo de estas, conforme a lo establecido en el documento de"Ficha de Condiciones Técnicas" (FCT). (5) En caso de remitir su cotización mediante el módulo Solicitud de Información a Proveedores del SECOP II; el Precio Total para el periodo de ejecución estimado (IVA incluido) celda H30 debe ser diligenciado en la pregunta 1 del "Cuestionario".
B15: Tiempo de Ejecución 2026 | F15: Tarifa IVA (nota 2) | G15: 0
B16: Plazo estimado de ejecución (en días calendario) (nota 1) | D16: 2 MESES
B18: TIPO DE SERVICIO | C18: UBICACIÓN SEDE | D18: M2 | E18: CANTIDAD TOTAL | F18: Precio unitario antes de IVA (notas 2,3 y 4) | G18: Precio unitario IVA incluido | H18: Precio total IVA inlcuido
B20: FUMIGACIÓN con nebulización en archivos y Control de roedores | C20: =+SDC!C20 -> CENTRO ZONAL N°1 Villavicencio | D20: =+SDC!D20 -> 290 Metros2 | E20: =+SDC!E20 -> 2 | G20: 720000 | H20: =+E20*G20 -> 1440000
C21: =+SDC!C21 -> CENTRO ZONAL N°2 Villavicencio SEDE REGIONAL ADMINISTRATIVA | D21: =+SDC!D21 -> 2.084 Metros2 | E21: =+SDC!E21 -> 2 | G21: 1800000 | H21: =+E21*G21 -> 3600000
C22: =+SDC!C22 -> INMUEBLE POPULAR Villavicencio | D22: =+SDC!D22 -> 261 Metros2 | E22: =+SDC!E22 -> 2 | G22: 600000 | H22: =+E22*G22 -> 1200000
C23: =+SDC!C23 -> YARI – edificio oficinas | D23: =+SDC!D23 -> 800 Metros2 | E23: =+SDC!E23 -> 1 | G23: 960000 | H23: =+E23*G23 -> 960000
C24: =+SDC!C24 -> Casa Atrapa sueños Popular | D24: =+SDC!D24 -> 300 Metros2 | E24: =+SDC!E24 -> 2 | G24: 1080000 | H24: =+E24*G24 -> 2160000
C25: =+SDC!C25 -> CDI Popular | D25: =+SDC!D25 -> 300 Metros2 | E25: =+SDC!E25 -> 1 | G25: 1080000 | H25: =+E25*G25 -> 1080000
C26: =+SDC!C26 -> CDI Comuneros | D26: =+SDC!D26 -> 350 Metros2 | E26: =+SDC!E26 -> 1 | G26: 1080000 | H26: =+E26*G26 -> 1080000
C27: =+SDC!C27 -> CDI La Madrid | D27: =+SDC!D27 -> 500 Metros2 | E27: =+SDC!E27 -> 1 | G27: 1080000 | H27: =+E27*G27 -> 1080000
C28: Subtotal 1 | E28: =SUM(E20:E27) -> 12 | H28: =+SUM(H20:H27) -> 12600000
B29: JARDINERIA | C29: =+SDC!C29 -> INMUEBLE POPULAR Villavicencio | D29: =+SDC!D29 -> 261 Metros2 | E29: =+SDC!E29 -> 2 | G29: 1800000 | H29: =+G29*E29 -> 3600000
C30: =+SDC!C30 -> YARI – edificio oficinas | D30: =+SDC!D30 -> 200 Metros2 | E30: =+SDC!E30 -> 1 | G30: 960000 | H30: =+G30*E30 -> 960000
C31: =+SDC!C31 -> Lote Villajulia | D31: =+SDC!D31 -> 150 Metros2 | E31: =+SDC!E31 -> 1 | G31: 660000 | H31: =+G31*E31 -> 660000
C32: =+SDC!C32 -> Casa Atrapa sueños Popular | D32: =+SDC!D32 -> 100 Metros2 | E32: =+SDC!E32 -> 2 | G32: 360000 | H32: =+G32*E32 -> 720000
C33: =+SDC!C33 -> CDI Popular | D33: =+SDC!D33 -> 200 Metros2 | E33: =+SDC!E33 -> 1 | G33: 720000 | H33: =+G33*E33 -> 720000
C34: =+SDC!C34 -> CDI Comuneros | D34: =+SDC!D34 -> 30 Metros2 | E34: =+SDC!E34 -> 1 | G34: 240000 | H34: =+G34*E34 -> 240000
C35: =+SDC!C35 -> CDI La Madrid | D35: =+SDC!D35 -> 60 Metros2 | E35: =+SDC!E35 -> 1 | G35: 240000 | H35: =+G35*E35 -> 240000
C36: Subtotal 1 | E36: =SUM(E29:E35) -> 9 | H36: =+SUM(H29:H35) -> 7140000
B37: LAVADO DE TANQUES | C37: =+SDC!C37 -> CENTRO ZONAL N°1 Villavicencio | D37: =+SDC!D37 -> 1 tanque elevado de 500 lts | E37: =+SDC!E37 -> 1 | G37: 600000 | H37: =+G37*E37 -> 600000
C38: =+SDC!C38 -> CENTRO ZONAL N°2 Villavicencio SEDE REGIONAL ADMINISTRATIVA Villavicencio | D38: =+SDC!D38 -> 3 tanques elevados de 2000 lts | E38: =+SDC!E38 -> 1 | G38: =228000+3600000 -> 3828000 | H38: =+G38*E38 -> 3828000
D39: =+SDC!D39 -> 1 subterraneo de 7.6 m3
C40: =+SDC!C40 -> INMUEBLE POPULAR Villavicencio | D40: =+SDC!D40 -> 1 elevadode 2000 lts | E40: =+SDC!E40 -> 1 | G40: 1080000 | H40: =+G40*E40 -> 1080000
C41: =+SDC!C41 -> Casa Atrapasueños Popular | D41: =+SDC!D41 -> 1 tanque elevado de 1000 lts / 1 subterraneo | E41: =+SDC!E41 -> 1 | G41: 960000 | H41: =+G41*E41 -> 960000
C42: =+SDC!C42 -> CDI Popular | D42: =+SDC!D42 -> 2 tanques elevados 2000 lts | E42: =+SDC!E42 -> 1 | G42: 1080000 | H42: =+G42*E42 -> 1080000
C43: =+SDC!C43 -> CDI Comuneros | D43: =+SDC!D43 -> 2 tanques elevados 1000 lts | E43: =+SDC!E43 -> 1 | G43: 900000 | H43: =+G43*E43 -> 900000
C44: Subtotal 1 | E44: =SUM(E37:E43) -> 6 | H44: =+SUM(H37:H43) -> 8448000
B45: TOTAL ( subtotal 1) (nota 5) | H45: =+H44+H36+H28 -> 28188000
B47: La presente cotización:
B48: • Incluye todos los costos y gastos directos e indirectos en que debe incurrir el contratista durante la ejecución del contrato de acuerdo con las especificaciones de la Ficha de Condiciones Técnicas, las obligaciones tributarias de acuerdo con las normas aplicables para el tipo de servicio y contrato correspondiente, y los costos de las pólizas. • Incluye todos los impuestos, tasas y contribuciones establecidos por las diferentes autoridades nacionales, departamentales o municipales y dentro de estos mismos niveles territoriales, los impuestos, tasas y contribuciones establecidos por las diferentes autoridades ambientales, que afecten el contrato y las actividades que de él se deriven. • Se remite como parte del estudio de sector, previo a la contratación, y no implica ninguna obligación de contratar. • Tiene una vigencia de 90 días a partir de la fecha de diligenciamiento.
...

Sheet SDC FAIBER
B2: República de Colombia Instituto Colombiano de Bienestar Familiar Cecilia de la Fuente de Lleras Dirección de Gestión Humana | H2: CLASIFICACIÓN DE LA INFORMACIÓN PÚBLICA
B4: SOLICITUD DE COTIZACIÓN - DEL SERVICIO LAVADO DE TANQUES
B5: Objeto | C5: PRESTAR EL SERVICIO DE FUMIGACIÓN, JARDINERÍA Y LAVADO DE TANQUES DE ALMACENAMIENTO DE AGUA POTABLE DE LOS INMUEBLES DE PROPIEDAD Y DONDE FUNCIONA EL INSTITUTO COLOMBIANO DE BIENESTAR FAMILIAR REGIONAL META EN EL MUNICIPIO DE VILLAVICENCIO, DE CONFORMIDAD CON LAS ESPECIFICACIONES TÉCNICAS REQUERIDAS.
B7: EMPRESA: | C7: FUMIGACIONES ALTA POTENCIA | D7: NIT: | E7: 86045945 | F7: FECHA: | G7: 46084
B8: CONTACTO: | C8: JHON FAIBER CORTES RODRIGUEZ | D8: CARGO: | E8: propietario | F8: TEL. CELULAR: | G8: 3124685666
B9: E-MAIL: | C9: altapotenciafumigaciones.2023@outlook.com | D9: DIRECCIÓN: | E9: SM 6 MZ 4 CS 71 | F9: TELEFONO FIJO: | G9: n/a
B11: Instrucciones para el diligenciamiento del formato de cotización
B12: • Por favor diligenciar solo las celdas en AMARILLO. • Revisar todos los requerimientos que se exponen en el documento "Ficha de Condiciones Técnicas Escenciales para la Prestación del Servicio y/o Entrega del Bien" (FCT) y Anexos; y formular su cotización en concordancia con este, garantizando que los bienes y/o servicios ofrecidos cumplan en su totalidad con las especificaciones técnicas descritas en la FCT. • El precio de la cotización deber ser expresado en PESOS COLOMBIANOS. • Los precios deberán aproximarse por exceso o por defecto al entero más cercano así: (i) si es igual o superior a 50 centavos, se aproxima al entero siguiente; (ii) si es inferior a 50 centavos se baja al entero anterior. • No modificar, agregar o quitar ningún ítem o sub-ítem.
B13: (1) Tener en cuenta para cotizar que el plazo de ejecución es estimado y podrá ser inferior. Los precios cotizados se deberán mantener. (2) Asignar precio sin incluir el IVA en las celdas de la columna "Precio unitario antes de IVA" y asignar la tarifa de IVA que corresponda en la casilla "Tarifa IVA%". (3) El costo de cada actividad deberá incluir todos los costos directos e indirectos asociados al desarrollo de las mismas, conforme a lo establecido en el documento de "Ficha de Condiciones Técnicas" (FCT). (4) El costo de cada una de las actividades debe incluir los costos de los equipos, sustancias químicas y/o elemento que se requeira para el desarrollo de estas, conforme a lo establecido en el documento de"Ficha de Condiciones Técnicas" (FCT). (5) En caso de remitir su cotización mediante el módulo Solicitud de Información a Proveedores del SECOP II; el Precio Total para el periodo de ejecución estimado (IVA incluido) celda H30 debe ser diligenciado en la pregunta 1 del "Cuestionario".
B15: Tiempo de Ejecución 2026 | F15: Tarifa IVA (nota 2) | G15: 0
B16: Plazo estimado de ejecución (en días calendario) (nota 1) | D16: 2 MESES
B18: TIPO DE SERVICIO | C18: UBICACIÓN SEDE | D18: M2 | E18: CANTIDAD TOTAL | F18: Precio unitario antes de IVA (notas 2,3 y 4) | G18: Precio unitario IVA incluido | H18: Precio total IVA inlcuido
B20: FUMIGACIÓN con nebulización en archivos y Control de roedores | C20: =+SDC!C20 -> CENTRO ZONAL N°1 Villavicencio | D20: =+SDC!D20 -> 290 Metros2 | E20: =+SDC!E20 -> 2 | G20: 595000 | H20: =+G20*E20 -> 1190000
C21: =+SDC!C21 -> CENTRO ZONAL N°2 Villavicencio SEDE REGIONAL ADMINISTRATIVA | D21: =+SDC!D21 -> 2.084 Metros2 | E21: =+SDC!E21 -> 2 | G21: 1428000 | H21: =+G21*E21 -> 2856000
C22: =+SDC!C22 -> INMUEBLE POPULAR Villavicencio | D22: =+SDC!D22 -> 261 Metros2 | E22: =+SDC!E22 -> 2 | G22: 833000 | H22: =+G22*E22 -> 1666000
C23: =+SDC!C23 -> YARI – edificio oficinas | D23: =+SDC!D23 -> 800 Metros2 | E23: =+SDC!E23 -> 1 | G23: 833000 | H23: =+G23*E23 -> 833000
C24: =+SDC!C24 -> Casa Atrapa sueños Popular | D24: =+SDC!D24 -> 300 Metros2 | E24: =+SDC!E24 -> 2 | G24: 833000 | H24: =+G24*E24 -> 1666000
C25: =+SDC!C25 -> CDI Popular | D25: =+SDC!D25 -> 300 Metros2 | E25: =+SDC!E25 -> 1 | G25: 618800 | H25: =+G25*E25 -> 618800
C26: =+SDC!C26 -> CDI Comuneros | D26: =+SDC!D26 -> 350 Metros2 | E26: =+SDC!E26 -> 1 | G26: 618800 | H26: =+G26*E26 -> 618800
C27: =+SDC!C27 -> CDI La Madrid | D27: =+SDC!D27 -> 500 Metros2 | E27: =+SDC!E27 -> 1 | G27: 618800 | H27: =+G27*E27 -> 618800
C28: Subtotal 1 | E28: =SUM(E20:E27) -> 12 | H28: =SUM(H20:H27) -> 10067400
B29: JARDINERIA | C29: =+SDC!C29 -> INMUEBLE POPULAR Villavicencio | D29: =+SDC!D29 -> 261 Metros2 | E29: =+SDC!E29 -> 2 | G29: 595000 | H29: =+G29*E29 -> 1190000
C30: =+SDC!C30 -> YARI – edificio oficinas | D30: =+SDC!D30 -> 200 Metros2 | E30: =+SDC!E30 -> 1 | G30: 595000 | H30: =+G30*E30 -> 595000
C31: =+SDC!C31 -> Lote Villajulia | D31: =+SDC!D31 -> 150 Metros2 | E31: =+SDC!E31 -> 1 | G31: 571200 | H31: =+G31*E31 -> 571200
C32: =+SDC!C32 -> Casa Atrapa sueños Popular | D32: =+SDC!D32 -> 100 Metros2 | E32: =+SDC!E32 -> 2 | G32: 571200 | H32: =+G32*E32 -> 1142400
C33: =+SDC!C33 -> CDI Popular | D33: =+SDC!D33 -> 200 Metros2 | E33: =+SDC!E33 -> 1 | G33: 595000 | H33: =+G33*E33 -> 595000
C34: =+SDC!C34 -> CDI Comuneros | D34: =+SDC!D34 -> 30 Metros2 | E34: =+SDC!E34 -> 1 | G34: 571200 | H34: =+G34*E34 -> 571200
C35: =+SDC!C35 -> CDI La Madrid | D35: =+SDC!D35 -> 60 Metros2 | E35: =+SDC!E35 -> 1 | G35: 571200 | H35: =+G35*E35 -> 571200
C36: Subtotal 1 | E36: =SUM(E29:E35) -> 9 | H36: =+SUM(H29:H35) -> 5236000
B37: LAVADO DE TANQUES | C37: =+SDC!C37 -> CENTRO ZONAL N°1 Villavicencio | D37: =+SDC!D37 -> 1 tanque elevado de 500 lts | E37: =+SDC!E37 -> 1 | G37: 476000 | H37: =+E37*G37 -> 476000
C38: =+SDC!C38 -> CENTRO ZONAL N°2 Villavicencio SEDE REGIONAL ADMINISTRATIVA Villavicencio | D38: =+SDC!D38 -> 3 tanques elevados de 2000 lts | E38: =+SDC!E38 -> 1 | G38: 1047200 | H38: =+G38*E38 -> 1047200
D39: =+SDC!D39 -> 1 subterraneo de 7.6 m3
C40: =+SDC!C40 -> INMUEBLE POPULAR Villavicencio | D40: =+SDC!D40 -> 1 elevadode 2000 lts | E40: =+SDC!E40 -> 1 | G40: 1309000 | H40: =+G40*E40 -> 1309000
C41: =+SDC!C41 -> Casa Atrapasueños Popular | D41: =+SDC!D41 -> 1 tanque elevado de 1000 lts / 1 subterraneo | E41: =+SDC!E41 -> 1 | G41: 1047200 | H41: =+G41*E41 -> 1047200
C42: =+SDC!C42 -> CDI Popular | D42: =+SDC!D42 -> 2 tanques elevados 2000 lts | E42: =+SDC!E42 -> 1 | G42: 1047200 | H42: =+G42*E42 -> 1047200
C43: =+SDC!C43 -> CDI Comuneros | D43: =+SDC!D43 -> 2 tanques elevados 1000 lts | E43: =+SDC!E43 -> 1 | G43: 1047200 | H43: =+G43*E43 -> 1047200
C44: Subtotal 1 | E44: =SUM(E37:E43) -> 6 | H44: =+SUM(H37:H43) -> 5973800
B45: TOTAL ( subtotal 1) (nota 5) | H45: =+H44+H36+H28 -> 21277200
B47: La presente cotización:
B48: • Incluye todos los costos y gastos directos e indirectos en que debe incurrir el contratista durante la ejecución del contrato de acuerdo con las especificaciones de la Ficha de Condiciones Técnicas, las obligaciones tributarias de acuerdo con las normas aplicables para el tipo de servicio y contrato correspondiente, y los costos de las pólizas. • Incluye todos los impuestos, tasas y contribuciones establecidos por las diferentes autoridades nacionales, departamentales o municipales y dentro de estos mismos niveles territoriales, los impuestos, tasas y contribuciones establecidos por las diferentes autoridades ambientales, que afecten el contrato y las actividades que de él se deriven. • Se remite como parte del estudio de sector, previo a la contratación, y no implica ninguna obligación de contratar. • Tiene una vigencia de 90 días a partir de la fecha de diligenciamiento.
...

Sheet SDC ibed
B2: República de Colombia Instituto Colombiano de Bienestar Familiar Cecilia de la Fuente de Lleras Dirección de Gestión Humana | H2: CLASIFICACIÓN DE LA INFORMACIÓN PÚBLICA
B4: SOLICITUD DE COTIZACIÓN - DEL SERVICIO LAVADO DE TANQUES
B5: Objeto | C5: PRESTAR EL SERVICIO DE FUMIGACIÓN, JARDINERÍA Y LAVADO DE TANQUES DE ALMACENAMIENTO DE AGUA POTABLE DE LOS INMUEBLES DE PROPIEDAD Y DONDE FUNCIONA EL INSTITUTO COLOMBIANO DE BIENESTAR FAMILIAR REGIONAL META EN EL MUNICIPIO DE VILLAVICENCIO, DE CONFORMIDAD CON LAS ESPECIFICACIONES TÉCNICAS REQUERIDAS.
B7: EMPRESA: | C7: fumiexpress del llano | D7: NIT: | E7: 53003603 | F7: FECHA: | G7: 46279
B8: CONTACTO: | C8: Diana Ibed Rojas Barreto | D8: CARGO: | F8: TEL. CELULAR:
B9: E-MAIL: | C9: fumiexpressdelllano@gmail.com | D9: DIRECCIÓN: | E9: mz 36 cs 15 Villavicencio | F9: TELEFONO FIJO:
B11: Instrucciones para el diligenciamiento del formato de cotización
B12: • Por favor diligenciar solo las celdas en AMARILLO. • Revisar todos los requerimientos que se exponen en el documento "Ficha de Condiciones Técnicas Escenciales para la Prestación del Servicio y/o Entrega del Bien" (FCT) y Anexos; y formular su cotización en concordancia con este, garantizando que los bienes y/o servicios ofrecidos cumplan en su totalidad con las especificaciones técnicas descritas en la FCT. • El precio de la cotización deber ser expresado en PESOS COLOMBIANOS. • Los precios deberán aproximarse por exceso o por defecto al entero más cercano así: (i) si es igual o superior a 50 centavos, se aproxima al entero siguiente; (ii) si es inferior a 50 centavos se baja al entero anterior. • No modificar, agregar o quitar ningún ítem o sub-ítem.
B13: (1) Tener en cuenta para cotizar que el plazo de ejecución es estimado y podrá ser inferior. Los precios cotizados se deberán mantener. (2) Asignar precio sin incluir el IVA en las celdas de la columna "Precio unitario antes de IVA" y asignar la tarifa de IVA que corresponda en la casilla "Tarifa IVA%". (3) El costo de cada actividad deberá incluir todos los costos directos e indirectos asociados al desarrollo de las mismas, conforme a lo establecido en el documento de "Ficha de Condiciones Técnicas" (FCT). (4) El costo de cada una de las actividades debe incluir los costos de los equipos, sustancias químicas y/o elemento que se requeira para el desarrollo de estas, conforme a lo establecido en el documento de"Ficha de Condiciones Técnicas" (FCT). (5) En caso de remitir su cotización mediante el módulo Solicitud de Información a Proveedores del SECOP II; el Precio Total para el periodo de ejecución estimado (IVA incluido) celda H30 debe ser diligenciado en la pregunta 1 del "Cuestionario".
B15: Tiempo de Ejecución 2026 | F15: Tarifa IVA (nota 2) | G15: 0
B16: Plazo estimado de ejecución (en días calendario) (nota 1) | D16: 2 MESES
B18: TIPO DE SERVICIO | C18: UBICACIÓN SEDE | D18: M2 | E18: CANTIDAD TOTAL | F18: Precio unitario antes de IVA (notas 2,3 y 4) | G18: Precio unitario IVA incluido | H18: Precio total IVA inlcuido
B20: FUMIGACIÓN con nebulización en archivos y Control de roedores | C20: =+SDC!C20 -> CENTRO ZONAL N°1 Villavicencio | D20: =+SDC!D20 -> 290 Metros2 | E20: =+SDC!E20 -> 2 | G20: 700000 | H20: =+E20*G20 -> 1400000
C21: =+SDC!C21 -> CENTRO ZONAL N°2 Villavicencio SEDE REGIONAL ADMINISTRATIVA | D21: =+SDC!D21 -> 2.084 Metros2 | E21: =+SDC!E21 -> 2 | G21: 1200000 | H21: =+E21*G21 -> 2400000
C22: =+SDC!C22 -> INMUEBLE POPULAR Villavicencio | D22: =+SDC!D22 -> 261 Metros2 | E22: =+SDC!E22 -> 2 | G22: 680000 | H22: =+E22*G22 -> 1360000
C23: =+SDC!C23 -> YARI – edificio oficinas | D23: =+SDC!D23 -> 800 Metros2 | E23: =+SDC!E23 -> 1 | G23: 1000000 | H23: =+E23*G23 -> 1000000
C24: =+SDC!C24 -> Casa Atrapa sueños Popular | D24: =+SDC!D24 -> 300 Metros2 | E24: =+SDC!E24 -> 2 | G24: 700000 | H24: =+E24*G24 -> 1400000
C25: =+SDC!C25 -> CDI Popular | D25: =+SDC!D25 -> 300 Metros2 | E25: =+SDC!E25 -> 1 | G25: 700000 | H25: =+E25*G25 -> 700000
C26: =+SDC!C26 -> CDI Comuneros | D26: =+SDC!D26 -> 350 Metros2 | E26: =+SDC!E26 -> 1 | G26: 700000 | H26: =+E26*G26 -> 700000
C27: =+SDC!C27 -> CDI La Madrid | D27: =+SDC!D27 -> 500 Metros2 | E27: =+SDC!E27 -> 1 | G27: 80000 | H27: =+E27*G27 -> 80000
C28: Subtotal 1 | E28: =SUM(E20:E27) -> 12 | H28: =+SUM(H20:H27) -> 9040000
B29: JARDINERIA | C29: =+SDC!C29 -> INMUEBLE POPULAR Villavicencio | D29: =+SDC!D29 -> 261 Metros2 | E29: =+SDC!E29 -> 2 | G29: 500000 | H29: =+E29*G29 -> 1000000
C30: =+SDC!C30 -> YARI – edificio oficinas | D30: =+SDC!D30 -> 200 Metros2 | E30: =+SDC!E30 -> 1 | G30: 500000 | H30: =+E30*G30 -> 500000
C31: =+SDC!C31 -> Lote Villajulia | D31: =+SDC!D31 -> 150 Metros2 | E31: =+SDC!E31 -> 1 | G31: 480000 | H31: =+E31*G31 -> 480000
C32: =+SDC!C32 -> Casa Atrapa sueños Popular | D32: =+SDC!D32 -> 100 Metros2 | E32: =+SDC!E32 -> 2 | G32: 480000 | H32: =+E32*G32 -> 960000
C33: =+SDC!C33 -> CDI Popular | D33: =+SDC!D33 -> 200 Metros2 | E33: =+SDC!E33 -> 1 | G33: 500000 | H33: =+E33*G33 -> 500000
C34: =+SDC!C34 -> CDI Comuneros | D34: =+SDC!D34 -> 30 Metros2 | E34: =+SDC!E34 -> 1 | G34: 480000 | H34: =+E34*G34 -> 480000
C35: =+SDC!C35 -> CDI La Madrid | D35: =+SDC!D35 -> 60 Metros2 | E35: =+SDC!E35 -> 1 | G35: 480000 | H35: =+E35*G35 -> 480000
C36: Subtotal 1 | E36: =SUM(E29:E35) -> 9 | H36: =+SUM(H29:H35) -> 4400000
B37: LAVADO DE TANQUES | C37: =+SDC!C37 -> CENTRO ZONAL N°1 Villavicencio | D37: =+SDC!D37 -> 1 tanque elevado de 500 lts | E37: =+SDC!E37 -> 1 | G37: 400000 | H37: =+E37*G37 -> 400000
C38: =+SDC!C38 -> CENTRO ZONAL N°2 Villavicencio SEDE REGIONAL ADMINISTRATIVA Villavicencio | D38: =+SDC!D38 -> 3 tanques elevados de 2000 lts | E38: =+SDC!E38 -> 1 | G38: 1100000 | H38: =+E38*G38 -> 1100000
D39: =+SDC!D39 -> 1 subterraneo de 7.6 m3
C40: =+SDC!C40 -> INMUEBLE POPULAR Villavicencio | D40: =+SDC!D40 -> 1 elevadode 2000 lts | E40: =+SDC!E40 -> 1 | G40: 1100000 | H40: =+E40*G40 -> 1100000
C41: =+SDC!C41 -> Casa Atrapasueños Popular | D41: =+SDC!D41 -> 1 tanque elevado de 1000 lts / 1 subterraneo | E41: =+SDC!E41 -> 1 | G41: 880000 | H41: =+E41*G41 -> 880000
C42: =+SDC!C42 -> CDI Popular | D42: =+SDC!D42 -> 2 tanques elevados 2000 lts | E42: =+SDC!E42 -> 1 | G42: 140000 | H42: =+E42*G42 -> 140000
C43: =+SDC!C43 -> CDI Comuneros | D43: =+SDC!D43 -> 2 tanques elevados 1000 lts | E43: =+SDC!E43 -> 1 | G43: 1000000 | H43: =+E43*G43 -> 1000000
C44: Subtotal 1 | E44: =SUM(E37:E43) -> 6 | H44: =+SUM(H37:H43) -> 4620000
B45: TOTAL ( subtotal 1) (nota 5) | H45: =+H44+H36+H28 -> 18060000 | K45: =+[1]SDC!$H$63 -> 44140000
K46: =+(H45+K45)/2 -> 31100000
B47: La presente cotización:
...

Sheet CONSOLIDADO
B2: República de Colombia Instituto Colombiano de Bienestar Familiar Cecilia de la Fuente de Lleras Dirección de Gestión Humana | M2: CLASIFICACIÓN DE LA INFORMACIÓN PÚBLICA
F3: ESTÁNDAR | H3: JHON FAIBER | J3: FUMIGABIEN | L3: CONSOLIDADO
B4: TIPO DE SERVICIO | C4: UBICACIÓN SEDE | D4: M2 | E4: CANTIDAD TOTAL | F4: Precio unitario IVA incluido | G4: Precio total IVA inlcuido | H4: Precio unitario IVA incluido | I4: Precio total IVA inlcuido | J4: Precio unitario IVA incluido | K4: Precio total IVA inlcuido | L4: Precio unitario IVA incluido | M4: Precio total IVA inlcuido
B6: FUMIGACIÓN con nebulización en archivos y Control de roedores | C6: =+SDC!C20 -> CENTRO ZONAL N°1 Villavicencio | D6: =+SDC!D20 -> 290 Metros2 | E6: =+SDC!E20 -> 2 | F6: =+'SDC STANDAR'!G20 -> 720000 | G6: =+F6*E6 -> 1440000 | H6: =+'SDC FAIBER'!G20 -> 595000 | I6: =+H6*E6 -> 1190000 | J6: =+'SDC ibed'!G20 -> 700000 | K6: =+J6*E6 -> 1400000 | L6: =+(F6+H6+J6)/3 -> 671666.67 | M6: =+(G6+I6+K6)/3 -> 1343333.3
C7: =+SDC!C21 -> CENTRO ZONAL N°2 Villavicencio SEDE REGIONAL ADMINISTRATIVA | D7: =+SDC!D21 -> 2.084 Metros2 | E7: =+SDC!E21 -> 2 | F7: =+'SDC STANDAR'!G21 -> 1800000 | G7: =+F7*E7 -> 3600000 | H7: =+'SDC FAIBER'!G21 -> 1428000 | I7: =+H7*E7 -> 2856000 | J7: =+'SDC ibed'!G21 -> 1200000 | K7: =+J7*E7 -> 2400000 | L7: =+(F7+H7+J7)/3 -> 1476000 | M7: =+(G7+I7+K7)/3 -> 2952000
C8: =+SDC!C22 -> INMUEBLE POPULAR Villavicencio | D8: =+SDC!D22 -> 261 Metros2 | E8: =+SDC!E22 -> 2 | F8: =+'SDC STANDAR'!G22 -> 600000 | G8: =+F8*E8 -> 1200000 | H8: =+'SDC FAIBER'!G22 -> 833000 | I8: =+H8*E8 -> 1666000 | J8: =+'SDC ibed'!G22 -> 680000 | K8: =+J8*E8 -> 1360000 | L8: =+(F8+H8+J8)/3 -> 704333.33 | M8: =+(G8+I8+K8)/3 -> 1408666.7
C9: =+SDC!C23 -> YARI – edificio oficinas | D9: =+SDC!D23 -> 800 Metros2 | E9: =+SDC!E23 -> 1 | F9: =+'SDC STANDAR'!G23 -> 960000 | G9: =+F9*E9 -> 960000 | H9: =+'SDC FAIBER'!G23 -> 833000 | I9: =+H9*E9 -> 833000 | J9: =+'SDC ibed'!G23 -> 1000000 | K9: =+J9*E9 -> 1000000 | L9: =+(F9+H9+J9)/3 -> 931000 | M9: =+(G9+I9+K9)/3 -> 931000
C10: =+SDC!C24 -> Casa Atrapa sueños Popular | D10: =+SDC!D24 -> 300 Metros2 | E10: =+SDC!E24 -> 2 | F10: =+'SDC STANDAR'!G24 -> 1080000 | G10: =+F10*E10 -> 2160000 | H10: =+'SDC FAIBER'!G24 -> 833000 | I10: =+H10*E10 -> 1666000 | J10: =+'SDC ibed'!G24 -> 700000 | K10: =+J10*E10 -> 1400000 | L10: =+(F10+H10+J10)/3 -> 871000 | M10: =+(G10+I10+K10)/3 -> 1742000
C11: =+SDC!C25 -> CDI Popular | D11: =+SDC!D25 -> 300 Metros2 | E11: =+SDC!E25 -> 1 | F11: =+'SDC STANDAR'!G25 -> 1080000 | G11: =+F11*E11 -> 1080000 | H11: =+'SDC FAIBER'!G25 -> 618800 | I11: =+H11*E11 -> 618800 | J11: =+'SDC ibed'!G25 -> 700000 | K11: =+J11*E11 -> 700000 | L11: =+(F11+H11+J11)/3 -> 799600 | M11: =+(G11+I11+K11)/3 -> 799600
C12: =+SDC!C26 -> CDI Comuneros | D12: =+SDC!D26 -> 350 Metros2 | E12: =+SDC!E26 -> 1 | F12: =+'SDC STANDAR'!G26 -> 1080000 | G12: =+F12*E12 -> 1080000 | H12: =+'SDC FAIBER'!G26 -> 618800 | I12: =+H12*E12 -> 618800 | J12: =+'SDC ibed'!G26 -> 700000 | K12: =+J12*E12 -> 700000 | L12: =+(F12+H12+J12)/3 -> 799600 | M12: =+(G12+I12+K12)/3 -> 799600
C13: =+SDC!C27 -> CDI La Madrid | D13: =+SDC!D27 -> 500 Metros2 | E13: =+SDC!E27 -> 1 | F13: =+'SDC STANDAR'!G27 -> 1080000 | G13: =+F13*E13 -> 1080000 | H13: =+'SDC FAIBER'!G27 -> 618800 | I13: =+H13*E13 -> 618800 | J13: =+'SDC ibed'!G27 -> 80000 | K13: =+J13*E13 -> 80000 | L13: =+(F13+H13+J13)/3 -> 592933.33 | M13: =+(G13+I13+K13)/3 -> 592933.33
C14: Subtotal 1 | E14: =SUM(E6:E13) -> 12 | F14: =SUM(F6:F13) -> 8400000 | G14: =SUM(G6:G13) -> 12600000 | H14: =SUM(H6:H13) -> 6378400 | I14: =SUM(I6:I13) -> 10067400 | J14: =SUM(J6:J13) -> 5760000 | K14: =SUM(K6:K13) -> 9040000 | L14: =SUM(L6:L13) -> 6846133.3 | M14: =+SUM(M6:M13) -> 10569133 | V14: =SUM(Q14:U14) -> 0
B15: JARDINERIA | C15: =+SDC!C29 -> INMUEBLE POPULAR Villavicencio | D15: =+SDC!D29 -> 261 Metros2 | E15: =+SDC!E29 -> 2 | F15: =+'SDC STANDAR'!G29 -> 1800000 | G15: =+F15*E15 -> 3600000 | H15: =+'SDC FAIBER'!G29 -> 595000 | I15: =+H15*E15 -> 1190000 | J15: =+'SDC ibed'!G29 -> 500000 | K15: =+J15*E15 -> 1000000 | L15: =+(F15+H15+J15)/3 -> 965000 | M15: =+(G15+I15+K15)/3 -> 1930000
C16: =+SDC!C30 -> YARI – edificio oficinas | D16: =+SDC!D30 -> 200 Metros2 | E16: =+SDC!E30 -> 1 | F16: =+'SDC STANDAR'!G30 -> 960000 | G16: =+F16*E16 -> 960000 | H16: =+'SDC FAIBER'!G30 -> 595000 | I16: =+H16*E16 -> 595000 | J16: =+'SDC ibed'!G30 -> 500000 | K16: =+J16*E16 -> 500000 | L16: =+(F16+H16+J16)/3 -> 685000 | M16: =+(G16+I16+K16)/3 -> 685000
C17: =+SDC!C31 -> Lote Villajulia | D17: =+SDC!D31 -> 150 Metros2 | E17: =+SDC!E31 -> 1 | F17: =+'SDC STANDAR'!G31 -> 660000 | G17: =+F17*E17 -> 660000 | H17: =+'SDC FAIBER'!G31 -> 571200 | I17: =+H17*E17 -> 571200 | J17: =+'SDC ibed'!G31 -> 480000 | K17: =+J17*E17 -> 480000 | L17: =+(F17+H17+J17)/3 -> 570400 | M17: =+(G17+I17+K17)/3 -> 570400
C18: =+SDC!C32 -> Casa Atrapa sueños Popular | D18: =+SDC!D32 -> 100 Metros2 | E18: =+SDC!E32 -> 2 | F18: =+'SDC STANDAR'!G32 -> 360000 | G18: =+F18*E18 -> 720000 | H18: =+'SDC FAIBER'!G32 -> 571200 | I18: =+H18*E18 -> 1142400 | J18: =+'SDC ibed'!G32 -> 480000 | K18: =+J18*E18 -> 960000 | L18: =+(F18+H18+J18)/3 -> 470400 | M18: =+(G18+I18+K18)/3 -> 940800
C19: =+SDC!C33 -> CDI Popular | D19: =+SDC!D33 -> 200 Metros2 | E19: =+SDC!E33 -> 1 | F19: =+'SDC STANDAR'!G33 -> 720000 | G19: =+F19*E19 -> 720000 | H19: =+'SDC FAIBER'!G33 -> 595000 | I19: =+H19*E19 -> 595000 | J19: =+'SDC ibed'!G33 -> 500000 | K19: =+J19*E19 -> 500000 | L19: =+(F19+H19+J19)/3 -> 605000 | M19: =+(G19+I19+K19)/3 -> 605000
C20: =+SDC!C34 -> CDI Comuneros | D20: =+SDC!D34 -> 30 Metros2 | E20: =+SDC!E34 -> 1 | F20: =+'SDC STANDAR'!G34 -> 240000 | G20: =+F20*E20 -> 240000 | H20: =+'SDC FAIBER'!G34 -> 571200 | I20: =+H20*E20 -> 571200 | J20: =+'SDC ibed'!G34 -> 480000 | K20: =+J20*E20 -> 480000 | L20: =+(F20+H20+J20)/3 -> 430400 | M20: =+(G20+I20+K20)/3 -> 430400
C21: =+SDC!C35 -> CDI La Madrid | D21: =+SDC!D35 -> 60 Metros2 | E21: =+SDC!E35 -> 1 | F21: =+'SDC STANDAR'!G35 -> 240000 | G21: =+F21*E21 -> 240000 | H21: =+'SDC FAIBER'!G35 -> 571200 | I21: =+H21*E21 -> 571200 | J21: =+'SDC ibed'!G35 -> 480000 | K21: =+J21*E21 -> 480000 | L21: =+(F21+H21+J21)/3 -> 430400 | M21: =+(G21+I21+K21)/3 -> 430400
C22: Subtotal 1 | E22: =SUM(E15:E21) -> 9 | F22: =SUM(F15:F21) -> 4980000 | G22: =SUM(G15:G21) -> 7140000 | H22: =SUM(H15:H21) -> 4069800 | I22: =SUM(I15:I21) -> 5236000 | J22: =SUM(J15:J21) -> 3420000 | K22: =SUM(K15:K21) -> 4400000 | L22: =SUM(L15:L21) -> 4156600 | M22: =+SUM(M15:M21) -> 5592000
B23: LAVADO DE TANQUES | C23: =+SDC!C37 -> CENTRO ZONAL N°1 Villavicencio | D23: =+SDC!D37 -> 1 tanque elevado de 500 lts | E23: =+SDC!E37 -> 1 | F23: =+'SDC STANDAR'!G37 -> 600000 | G23: =+F23*E23 -> 600000 | H23: =+'SDC FAIBER'!G37 -> 476000 | I23: =+H23*E23 -> 476000 | J23: =+'SDC ibed'!G37 -> 400000 | K23: =+J23*E23 -> 400000 | L23: =+(F23+H23+J23)/3 -> 492000 | M23: =+(G23+I23+K23)/3 -> 492000
C24: =+SDC!C38 -> CENTRO ZONAL N°2 Villavicencio SEDE REGIONAL ADMINISTRATIVA Villavicencio | D24: =+SDC!D38 -> 3 tanques elevados de 2000 lts | E24: =+SDC!E38 -> 1 | F24: =+'SDC STANDAR'!G38 -> 3828000 | G24: =+F24*E24 -> 3828000 | H24: 1047200 | I24: =+H24*E24 -> 1047200 | J24: 1100000 | K24: =+J24*E24 -> 1100000 | L24: =+(F24+H24+J24)/3 -> 1991733.3 | M24: =+(G24+I24+K24)/3 -> 1991733.3
D25: =+SDC!D39 -> 1 subterraneo de 7.6 m3
C26: =+SDC!C40 -> INMUEBLE POPULAR Villavicencio | D26: =+SDC!D40 -> 1 elevadode 2000 lts | E26: =+SDC!E40 -> 1 | F26: =+'SDC STANDAR'!G40 -> 1080000 | G26: =+F26*E26 -> 1080000 | H26: =+'SDC FAIBER'!G40 -> 1309000 | I26: =+H26*E26 -> 1309000 | J26: =+'SDC ibed'!G40 -> 1100000 | K26: =+J26*E26 -> 1100000 | L26: =+(F26+H26+J26)/3 -> 1163000 | M26: =+(G26+I26+K26)/3 -> 1163000
C27: =+SDC!C41 -> Casa Atrapasueños Popular | D27: =+SDC!D41 -> 1 tanque elevado de 1000 lts / 1 subterraneo | E27: =+SDC!E41 -> 1 | F27: =+'SDC STANDAR'!G41 -> 960000 | G27: =+F27*E27 -> 960000 | H27: =+'SDC FAIBER'!G41 -> 1047200 | I27: =+H27*E27 -> 1047200 | J27: =+'SDC ibed'!G41 -> 880000 | K27: =+J27*E27 -> 880000 | L27: =+(F27+H27+J27)/3 -> 962400 | M27: =+(G27+I27+K27)/3 -> 962400
C28: =+SDC!C42 -> CDI Popular | D28: =+SDC!D42 -> 2 tanques elevados 2000 lts | E28: =+SDC!E42 -> 1 | F28: =+'SDC STANDAR'!G42 -> 1080000 | G28: =+F28*E28 -> 1080000 | H28: =+'SDC FAIBER'!G42 -> 1047200 | I28: =+H28*E28 -> 1047200 | J28: =+'SDC ibed'!G42 -> 140000 | K28: =+J28*E28 -> 140000 | L28: =+(F28+H28+J28)/3 -> 755733.33 | M28: =+(G28+I28+K28)/3 -> 755733.33
C29: =+SDC!C43 -> CDI Comuneros | D29: =+SDC!D43 -> 2 tanques elevados 1000 lts | E29: =+SDC!E43 -> 1 | F29: =+'SDC STANDAR'!G43 -> 900000 | G29: =+F29*E29 -> 900000 | H29: =+'SDC FAIBER'!G43 -> 1047200 | I29: =+H29*E29 -> 1047200 | J29: =+'SDC ibed'!G43 -> 1000000 | K29: =+J29*E29 -> 1000000 | L29: =+(F29+H29+J29)/3 -> 982400 | M29: =+(G29+I29+K29)/3 -> 982400
C30: Subtotal 3 | E30: =SUM(E23:E29) -> 6 | F30: =+SUM(F23:F29) -> 8448000 | G30: =+SUM(G23:G29) -> 8448000 | H30: =+SUM(H23:H29) -> 5973800 | I30: =+SUM(I23:I29) -> 5973800 | J30: =+SUM(J23:J29) -> 4620000 | K30: =+SUM(K23:K29) -> 4620000 | L30: =+SUM(L23:L29) -> 6347266.7 | M30: =+SUM(M23:M29) -> 6347266.7
B31: TOTAL ( subtotal 1) (nota 5) | F31: =+F30+F22+F14 -> 21828000 | G31: =+G30+G22+G14 -> 28188000 | H31: =+H30+H22+H14 -> 16422000 | I31: =+I30+I22+I14 -> 21277200 | J31: =+J30+J22+J14 -> 13800000 | K31: =+K30+K22+K14 -> 18060000 | L31: =+L30+L22+L14 -> 17350000 | M31: =+M30+M22+M14 -> 22508400
H34: TOTAL ADMINISTRATIVA | L34: FUMIGACION | M34: =+M6+M7+M8+M9 -> 6635000
L35: JARDINERIA | M35: =+M15+M16+M17 -> 3185400
L36: LAVADO TKS | M36: =+M23+M24+M25+M26 -> 3646733.3
L37: TOTAL | M37: =SUM(M34:M36) -> 13467133
H38: TOTAL DESARROLLO INTEGRAL | L38: FUMIGACION | M38: =+M10 -> 1742000
L39: JARDINERIA | M39: =+M18 -> 940800
L40: LAVADO TKS | M40: =+M27 -> 962400
L41: TOTAL | M41: =SUM(M38:M40) -> 3645200
H42: TOTAL PRIMERA INFANCIA | L42: FUMIGACION | M42: =+M11+M12+M13 -> 2192133.3
L43: JARDINERIA | M43: =+M19+M20+M21 -> 1465800
L44: LAVADO TKS | M44: =+M28+M29 -> 1738133.3
...
