Workbook
Name _00: #N/A
Name _0000_03: [1]CAPROVIG!#REF!
Name _0000_03: [1]CAPROVIG!#REF!
Name _0000_08: #N/A
Name _1000_01: #N/A
Name _1130_02: [1]CAPROVIG!#REF!
Name _1130_02: [1]CAPROVIG!#REF!
Name _133_19: [1]CAPROVIG!#REF!
Name _133_19: [1]CAPROVIG!#REF!
Name _2110_02: [1]CAPROVIG!#REF!
Name _2110_02: [1]CAPROVIG!#REF!
Name _2110_06: [1]CAPROVIG!#REF!
Name _2110_06: [1]CAPROVIG!#REF!
Name _230_01: #N/A
Name _230_03: #N/A
Name _230_05: #N/A
Name _3000_08: [1]CAPROVIG!#REF!
Name _3000_19: [1]CAPROVIG!#REF!
Name _3110_11: [1]CAPROVIG!#REF!
Name _3130_02: [1]CAPROVIG!#REF!
Name _888_22: [1]CAPROVIG!#REF!
Name _888_29: [1]CAPROVIG!#REF!
Name _888_34: [1]CAPROVIG!#REF!
Name _888_35: [1]CAPROVIG!#REF!
Name _888_43: #N/A
Name _888_44: #N/A
Name _Toc134838815_7: #N/A
Name _Toc134838819_6: #N/A
Name _Toc134838824_7: #N/A
Name a: [1]CAPROVIG!#REF!
Name AFPs: [2]AFP!$D$2:$D$17
Name Confirmacion: #REF!
Name Confirmacion: #REF!
Name Confirmacion: [3]Listas!$E$2:$E$3
Name EPSs: [2]EPS!$E$2:$E$79
Name ExportarAExcel: #REF!
Name ExportarAExcel: #REF!
Name ExportarAExcel: #REF!
Name ggggggggggggggg: [1]CAPROVIG!#REF!
Name ggggggggggggggg: [1]CAPROVIG!#REF!
Name HUK: [1]CAPROVIG!#REF!
Name MN: [1]CAPROVIG!#REF!
Name sexo: [2]OTROS!$E$6:$E$7

Sheet ESTUDIO DE MERCADO
A1: ESTUDIO DE MERCADO SERVICIO DE VIGILANCIA PRIVADA DIRECCION SECCIONAL DE ADMINISTRACION JUDICIAL CARTAGENA NOVIEMBRE DE 2026 A OCTUBRE DE 2027
D2: Seguridad Privada A1S Group | J2: SEGURIDAD TREBOL LTDA | P2: STARCOOP | V2: PROMEDIO
A3: TIPO DE SERVICIOS | B3: UBICACION DEL SERVICIO | C3: TIPO SERVICIO | D3: VALOR SERVICIO MES VIGENCIA 2026 SEGUN CIRCULAR EXTERNA 20251300000115CS SUPERVIGILANCIA | E3: VALOR SEGURO DE VIDA COLECTIVO QUE AMPARA AL PERSONAL OPERATIVO POR TIPO DE SERVICIO | F3: VALOR SERVICIO + SEGURO DE VIDA COLECTIVO QUE AMPARA AL PERSONAL OPERATIVO ANTES DE AYS E IVA | G3: Valor A Y S Unitario | H3: IVA | I3: VALOR UNITARIO MENSUAL POR SERVICIO VIGENCIA 2026 | J3: VALOR SERVICIO MES VIGENCIA 2026 SEGUN CIRCULAR EXTERNA 20251300000115CS SUPERVIGILANCIA | K3: VALOR SEGURO DE VIDA COLECTIVO QUE AMPARA AL PERSONAL OPERATIVO POR TIPO DE SERVICIO | L3: VALOR SERVICIO + SEGURO DE VIDA COLECTIVO QUE AMPARA AL PERSONAL OPERATIVO ANTES DE AYS E IVA | M3: Valor A Y S Unitario | N3: IVA | O3: VALOR UNITARIO MENSUAL POR SERVICIO VIGENCIA 2026 | P3: VALOR SERVICIO MES VIGENCIA 2026 SEGUN CIRCULAR EXTERNA 20251300000115CS SUPERVIGILANCIA | Q3: VALOR SEGURO DE VIDA COLECTIVO QUE AMPARA AL PERSONAL OPERATIVO POR TIPO DE SERVICIO | R3: VALOR SERVICIO + SEGURO DE VIDA COLECTIVO QUE AMPARA AL PERSONAL OPERATIVO ANTES DE AYS E IVA | S3: Valor A Y S Unitario | T3: IVA | U3: VALOR UNITARIO MENSUAL POR SERVICIO VIGENCIA 2025 | V3: VALOR SERVICIO MES VIGENCIA 2026 SEGUN CIRCULAR EXTERNA 20251300000115CS SUPERVIGILANCIA | W3: VALOR SEGURO DE VIDA COLECTIVO QUE AMPARA AL PERSONAL OPERATIVO POR TIPO DE SERVICIO | X3: VALOR SERVICIO + SEGURO DE VIDA COLECTIVO QUE AMPARA AL PERSONAL OPERATIVO ANTES DE AYS E IVA | Y3: Valor A Y S Unitario | Z3: IVA | AA3: VALOR UNITARIO MENSUAL POR SERVICIO VIGENCIA 2026
A4: A | B4: CARTAGENA Y MUNICIPIOS DE BOLIVAR | C4: Servicio de vigilancia física con medio humano, sin arma, sin canino, con jornada de 12 horas (7:00 a.m. a 7:00 p.m.) de lunes a viernes laborales. | D4: 5235409.6 | E4: 2500 | F4: =+D4+E4 -> 5237909.6 | G4: =+F4*8% -> 419032.77 | H4: =(F4+G4)*0.1*0.19 -> 107481.9 | I4: =+F4+G4+H4 -> 5764424.3 | J4: =+'[5]PROYECCION VIG.FUT'!B8 -> 5235409.6 | K4: 1666 | L4: =+J4+K4 -> 5237075.6 | M4: =+L4*8% -> 418966.05 | N4: =(L4+M4)*0.1*0.19 -> 107464.79 | O4: =+L4+M4+N4 -> 5763506.4 | P4: =+J4 -> 5235409.6 | Q4: 1538 | R4: =+P4+Q4 -> 5236947.6 | S4: =+R4*8% -> 418955.81 | T4: =(R4+S4)*0.1*0.19 -> 107462.16 | U4: =+R4+S4+T4 -> 5763365.6 | V4: =(D4+J4+P4)/3 -> 5235409.6 | W4: =(E4+K4+Q4)/3 -> 1901.3333 | X4: =+V4+W4 -> 5237310.9 | Y4: =+X4*8% -> 418984.87 | Z4: =(X4+Y4)*0.1*0.19 -> 107469.62 | AA4: =ROUND((X4+Y4+Z4),0) -> 5763765
A5: B | B5: CARTAGENA Y MUNICIPIOS DE BOLIVAR | C5: Servicio de vigilancia física con medio humano, sin arma, sin canino, con jornada de 12 horas (7:00 a.m. a 7:00 p.m.) de lunes a viernes laborales. Y jornada de 6 horas (7:00 am a 1:00 pm) los sábados | D5: 5758950.6 | E5: 2500 | F5: =+D5+E5 -> 5761450.6 | G5: =+F5*8% -> 460916.04 | H5: =(F5+G5)*0.1*0.19 -> 118224.97 | I5: =+F5+G5+H5 -> 6340591.6 | J5: =+'[5]PROYECCION VIG.FUT'!B9 -> 5758950.6 | K5: 1666 | L5: =+J5+K5 -> 5760616.6 | M5: =+L5*8% -> 460849.32 | N5: =(L5+M5)*0.1*0.19 -> 118207.85 | O5: =+L5+M5+N5 -> 6339673.7 | P5: =+J5 -> 5758950.6 | Q5: 1691 | R5: =+P5+Q5 -> 5760641.6 | S5: =+R5*8% -> 460851.32 | T5: =(R5+S5)*0.1*0.19 -> 118208.36 | U5: =+R5+S5+T5 -> 6339701.2 | V5: =(D5+J5+P5)/3 -> 5758950.6 | W5: =(E5+K5+Q5)/3 -> 1952.3333 | X5: =+V5+W5 -> 5760902.9 | Y5: =+X5*8% -> 460872.23 | Z5: =(X5+Y5)*0.1*0.19 -> 118213.73 | AA5: =ROUND((X5+Y5+Z5),0) -> 6339989
A6: C | B6: SAN ANDRES ISLAS | C6: Servicio de vigilancia física con medio humano, sin arma, sin canino, con jornada de 12 horas (7:00 a.m. a 7:00 p.m.) de lunes a viernes laborales. Y jornada de 6 horas (7:00 am a 1:00 pm) los sábados | D6: 5758950.6 | E6: 2500 | F6: =+D6+E6 -> 5761450.6 | G6: =+F6*8% -> 460916.04 | H6: N.A. | I6: =+F6+G6 -> 6222366.6 | J6: =+'[5]PROYECCION VIG.FUT'!B10 -> 5758950.6 | K6: 1666 | L6: =+J6+K6 -> 5760616.6 | M6: =+L6*8% -> 460849.32 | N6: N.A. | O6: =+L6+M6 -> 6221465.9 | P6: =+J6 -> 5758950.6 | Q6: 1691 | R6: =+P6+Q6 -> 5760641.6 | S6: =+R6*8% -> 460851.32 | T6: N.A. | U6: =+R6+S6 -> 6221492.9 | V6: =(D6+J6+P6)/3 -> 5758950.6 | W6: =(E6+K6+Q6)/3 -> 1952.3333 | X6: =+V6+W6 -> 5760902.9 | Y6: =+X6*8% -> 460872.23 | Z6: N.A. | AA6: =ROUND((X6+Y6),0) -> 6221775
A7: D | B7: CARTAGENA Y MUNICIPIOS DE BOLIVAR | C7: Servicio de vigilancia física con medio humano, con arma, sin canino, con jornada labora mes /24 horas | D7: 17876740 | E7: 5000 | F7: =+D7+E7 -> 17881740 | G7: =+F7*10% -> 1788174 | H7: =(F7+G7)*0.1*0.19 -> 373728.37 | I7: =+F7+G7+H7 -> 20043642 | J7: =+'[5]PROYECCION VIG.FUT'!B5 -> 17876740 | K7: 2499 | L7: =+J7+K7 -> 17879239 | M7: =+L7*10% -> 1787923.9 | N7: =(L7+M7)*0.1*0.19 -> 373676.1 | O7: =+L7+M7+N7 -> 20040839 | P7: =+J7 -> 17876740 | Q7: 5250 | R7: =+P7+Q7 -> 17881990 | S7: =+R7*10% -> 1788199 | T7: =(R7+S7)*0.1*0.19 -> 373733.59 | U7: =+R7+S7+T7 -> 20043923 | V7: =(D7+J7+P7)/3 -> 17876740 | W7: =(E7+K7+Q7)/3 -> 4249.6667 | X7: =+V7+W7 -> 17880990 | Y7: =+X7*10% -> 1788099 | Z7: =(X7+Y7)*0.1*0.19 -> 373712.69 | AA7: =ROUND((X7+Y7+Z7),0) -> 20042801
A8: E | B8: CARTAGENA Y MUNICIPIOS DE BOLIVAR | C8: Servicio de vigilancia física con medio humano, Sin arma, sin canino, con jornada labora mes /24 horas | D8: 17876740 | E8: 5000 | F8: =+D8+E8 -> 17881740 | G8: =+F8*8% -> 1430539.2 | H8: =(F8+G8)*0.1*0.19 -> 366933.31 | I8: =+F8+G8+H8 -> 19679213 | J8: =+'[5]PROYECCION VIG.FUT'!B7 -> 17876740 | K8: 2499 | L8: =+J8+K8 -> 17879239 | M8: =+L8*8% -> 1430339.1 | N8: =(L8+M8)*0.1*0.19 -> 366881.99 | O8: =+L8+M8+N8 -> 19676460 | P8: =+J8 -> 17876740 | Q8: 5250 | R8: =+P8+Q8 -> 17881990 | S8: =+R8*8% -> 1430559.2 | T8: =(R8+S8)*0.1*0.19 -> 366938.44 | U8: =+R8+S8+T8 -> 19679488 | V8: =(D8+J8+P8)/3 -> 17876740 | W8: =(E8+K8+Q8)/3 -> 4249.6667 | X8: =+V8+W8 -> 17880990 | Y8: =+X8*8% -> 1430479.2 | Z8: =(X8+Y8)*0.1*0.19 -> 366917.91 | AA8: =ROUND((X8+Y8+Z8),0) -> 19678387
A9: F | B9: SAN ANDRES ISLAS | C9: Servicio de vigilancia física con medio humano, con arma, sin canino, con jornada labora mes /24 horas | D9: 17876740 | E9: 5000 | F9: =+D9+E9 -> 17881740 | G9: =+F9*10% -> 1788174 | H9: N.A. | I9: =+F9+G9 -> 19669914 | J9: =+'[5]PROYECCION VIG.FUT'!B6 -> 17876740 | K9: 2499 | L9: =+J9+K9 -> 17879239 | M9: =+L9*10% -> 1787923.9 | N9: N.A. | O9: =+L9+M9 -> 19667163 | P9: =+J9 -> 17876740 | Q9: 5250 | R9: =+P9+Q9 -> 17881990 | S9: =+R9*10% -> 1788199 | T9: N.A. | U9: =+R9+S9 -> 19670189 | V9: =(D9+J9+P9)/3 -> 17876740 | W9: =(E9+K9+Q9)/3 -> 4249.6667 | X9: =+V9+W9 -> 17880990 | Y9: =+X9*10% -> 1788099 | Z9: N.A. | AA9: =ROUND((X9+Y9),0) -> 19669089
A10: G | B10: CARTAGENA Y MUNICIPIOS DE BOLIVAR | C10: Servicio de vigilancia física con medio humano, sin arma, sin canino, con jornada de 15 horas (7:00 a.m. a 10:00 p.m.) de lunes a viernes laborales. Y jornada de 6 horas (7:00 am a 1:00 pm) los sábados | D10: 7462441.4 | E10: 2500 | F10: =+D10+E10 -> 7464941.4 | G10: =+F10*8% -> 597195.31 | H10: =(F10+G10)*0.1*0.19 -> 153180.6 | I10: =+F10+G10+H10 -> 8215317.3 | J10: =+'[5]PROYECCION VIG.FUT'!B11 -> 7462441.4 | K10: 1666 | L10: =+J10+K10 -> 7464107.4 | M10: =+L10*8% -> 597128.59 | N10: =(L10+M10)*0.1*0.19 -> 153163.48 | O10: =+L10+M10+N10 -> 8214399.4 | P10: =+J10 -> 7462441.4 | Q10: 2153 | R10: =+P10+Q10 -> 7464594.4 | S10: =+R10*8% -> 597167.55 | T10: =(R10+S10)*0.1*0.19 -> 153173.48 | U10: =+R10+S10+T10 -> 8214935.4 | V10: =(D10+J10+P10)/3 -> 7462441.4 | W10: =(E10+K10+Q10)/3 -> 2106.3333 | X10: =+V10+W10 -> 7464547.7 | Y10: =+X10*8% -> 597163.82 | Z10: =(X10+Y10)*0.1*0.19 -> 153172.52 | AA10: =ROUND((X10+Y10+Z10),0) -> 8214884
A11: TOTALES | D11: =SUM(D4:D10) -> 77845972 | E11: =SUM(E4:E10) -> 25000 | F11: =SUM(F4:F10) -> 77870972 | G11: =SUM(G4:G10) -> 6944947.4 | H11: =SUM(H4:H10) -> 1119549.1 | I11: =SUM(I4:I10) -> 85935469 | J11: =SUM(J4:J10) -> 77845972 | K11: =SUM(K4:K10) -> 14161 | ... AA11: =SUM(AA4:AA10) -> 85930690
A13: VALOR VIGENCIA 2026 | I13: VALOR SERVICIO DE VIGILANCIA VIGENCIA 2027
A14: TIPO DE SERVICIOS | B14: UBICACION DEL SERVICIO | C14: TIPO SERVICIO | D14: VALOR UNITARIO SERVICIO MENSUAL AÑO 2026 | E14: NUMERO DE SERVICIOS A CONTRATAR | F14: VALOR MES DE DICIEMBRE DE 2026 | G14: VALOR TOTAL VIGENCIA 2026 | H14: TARIFA MINIMA DEL 1 NOVIEMBRE DE 2026 AL 30 DE JUNIO DE 2027 | I14: TARIFA MINIMA APARTIR DEL 01 DE JULIO DE 2027 AL 31 DE DICIEMBRE DE 2027 | J14: % INCREMENTO VIGENCIA 2027 | K14: VALOR UNITARIO SERVICIO MENSUAL AÑO 2027(ENERO A JUNIO DE 2027 | L14: VALOR UNITARIO SERVICIO MENSUAL AÑO 2027(JULIO A DICIEMBRE DE 2027 | M14: NUMERO DE SERVICIOS A CONTRATAR | N14: VALOR ENERO | O14: FEBRERO | P14: MARZO | Q14: ABRIL | R14: MAYO | S14: JUNIO | T14: JULIO | U14: AGOSTO | V14: SEPTIEMBRE | W14: OCTUBRE | X14: NOVIEMBRE | Y14: DICIEMBRE | Z14: VALOR TOTAL VIGENCIA 2027
A15: =+A4 -> A | B15: CARTAGENA Y MUNICIPIOS DE BOLIVAR | C15: Servicio de vigilancia física con medio humano, sin arma, sin canino, con jornada de 12 horas (7:00 a.m. a 7:00 p.m.) de lunes a viernes laborales. | D15: =+AA4 -> 5763765 | E15: 3 | F15: =+'[5]DICIEMBRE 2026'!G2+'[5]DICIEMBRE 2026'!G3+'[5]DICIEMBRE 2026'!G4 -> 15273943 | G15: =F15 -> 15273943 | H15: 10,21 SMMLV | I15: 10,38 SMMLV | J15: 0.048 | K15: =ROUND((D15*1.048),0) -> 6040426 | L15: =+'[5]DETALLE VR MES 2027(JULIO-DIC)'!G2 -> 6140965 | M15: 3 | N15: =+'[5]ENERO 2027'!G2+'[5]ENERO 2027'!G3+'[5]ENERO 2027'!G4 -> 16309004 | O15: =+K15*M15 -> 18121278 | P15: =+'[5]MARZO 2027'!G2+'[5]MARZO 2027'!G3+'[5]MARZO 2027'!G4 -> 16912608 | Q15: =+O15 -> 18121278 | R15: =+Q15 -> 18121278 | S15: =+R15 -> 18121278 | T15: =+L15*M15 -> 18422895 | U15: =+T15 -> 18422895 | V15: =+U15 -> 18422895 | W15: =+V15 -> 18422895 | X15: =+W15 -> 18422895 | Y15: =+'[5]DICIEMBRE 2027'!G2+'[5]DICIEMBRE 2027'!G3+'[5]DICIEMBRE 2027'!G4 -> 15966582 | Z15: =SUM(N15:Y15) -> 213787781
A16: =+A5 -> B | B16: CARTAGENA Y MUNICIPIOS DE BOLIVAR | C16: Servicio de vigilancia física con medio humano, sin arma, sin canino, con jornada de 12 horas (7:00 a.m. a 7:00 p.m.) de lunes a viernes laborales. Y jornada de 6 horas (7:00 am a 1:00 pm) los sábados | D16: =+AA5 -> 6339989 | E16: 8 | F16: =+'[5]DICIEMBRE 2026'!G5+'[5]DICIEMBRE 2026'!G6+'[5]DICIEMBRE 2026'!G7+'[5]DICIEMBRE 2026'!G8+'[5]DICIEMBRE 2026'!G9+'[5]DICIEMBRE 2026'!G10+'[5]DICIEMBRE 2026'!G12+'[5]DICIEMBRE 2026'!G16 -> 42074252 | G16: =F16 -> 42074252 | H16: 10,21 SMMLV | I16: 10,38 SMMLV | J16: 0.048 | K16: =ROUND((D16*1.048),0) -> 6644308 | L16: =+'[5]DETALLE VR MES 2027(JULIO-DIC)'!G5 -> 6754901 | M16: 8 | N16: =+'[5]ENERO 2027'!G5+'[5]ENERO 2027'!G6+'[5]ENERO 2027'!G7+'[5]ENERO 2027'!G8+'[5]ENERO 2027'!G9+'[5]ENERO 2027'!G10+'[5]ENERO 2027'!G12+'[5]ENERO 2027'!G16 -> 45301460 | O16: =+K16*M16 -> 53154464 | P16: =+'[5]MARZO 2027'!G5+'[5]MARZO 2027'!G6+'[5]MARZO 2027'!G7+'[5]MARZO 2027'!G8+'[5]MARZO 2027'!G9+'[5]MARZO 2027'!G10+'[5]MARZO 2027'!G12+'[5]MARZO 2027'!G16 -> 48622640 | Q16: =+O16 -> 53154464 | R16: =+Q16 -> 53154464 | S16: =+R16 -> 53154464 | T16: =+L16*M16 -> 54039208 | U16: =+T16 -> 54039208 | V16: =+U16 -> 54039208 | W16: =+V16 -> 54039208 | X16: =+W16 -> 54039208 | Y16: =+'[5]DICIEMBRE 2027'!G5+'[5]DICIEMBRE 2027'!G6+'[5]DICIEMBRE 2027'!G7+'[5]DICIEMBRE 2027'!G8+'[5]DICIEMBRE 2027'!G9+'[5]DICIEMBRE 2027'!G10+'[5]DICIEMBRE 2027'!G12+'[5]DICIEMBRE 2027'!G16 -> 43599992 | Z16: =SUM(N16:Y16) -> 620337988
A17: =+A6 -> C | B17: SAN ANDRES ISLAS | C17: Servicio de vigilancia física con medio humano, sin arma, sin canino, con jornada de 12 horas (7:00 a.m. a 7:00 p.m.) de lunes a viernes laborales. Y jornada de 6 horas (7:00 am a 1:00 pm) los sábados | D17: =+AA6 -> 6221775 | E17: 1 | F17: =+'[5]DICIEMBRE 2026'!G19 -> 6221775 | G17: =F17 -> 6221775 | H17: 10,21 SMMLV | I17: 10,38 SMMLV | J17: 0.048 | K17: =ROUND((D17*1.048),0) -> 6520420 | L17: =+'[5]DETALLE VR MES 2027(JULIO-DIC)'!G19 -> 6628951 | M17: 1 | N17: =+'[5]ENERO 2027'!G19 -> 6520420 | O17: =+K17*M17 -> 6520420 | P17: =+'[5]MARZO 2027'!G19 -> 6520420 | Q17: =+O17 -> 6520420 | R17: =+Q17 -> 6520420 | S17: =+R17 -> 6520420 | T17: =+L17*M17 -> 6628951 | U17: =+T17 -> 6628951 | V17: =+U17 -> 6628951 | W17: =+V17 -> 6628951 | X17: =+W17 -> 6628951 | Y17: =+L17*M17 -> 6628951 | Z17: =SUM(N17:Y17) -> 78896226
A18: =+A7 -> D | B18: CARTAGENA Y MUNICIPIOS DE BOLIVAR | C18: Servicio de vigilancia física con medio humano, con arma, sin canino, con jornada labora mes /24 horas | D18: =+AA7+0.2 -> 20042801 | E18: 4 | F18: =+'[5]DICIEMBRE 2026'!G11+'[5]DICIEMBRE 2026'!G15+'[5]DICIEMBRE 2026'!G17+'[5]DICIEMBRE 2026'!G18 -> 80171204 | G18: =F18 -> 80171204 | H18: 10,21 SMMLV | I18: 10,38 SMMLV | J18: 0.048 | K18: =ROUND((D18*1.048),0) -> 21004856 | L18: =+'[5]DETALLE VR MES 2027(JULIO-DIC)'!G18 -> 21354511 | M18: 4 | N18: =+'[5]ENERO 2027'!G18+'[5]ENERO 2027'!G17+'[5]ENERO 2027'!G15+'[5]ENERO 2027'!G11 -> 84019424 | O18: =+K18*M18 -> 84019424 | P18: =+'[5]MARZO 2027'!G11+'[5]MARZO 2027'!G15+'[5]MARZO 2027'!G17+'[5]MARZO 2027'!G18 -> 84019424 | Q18: =+O18 -> 84019424 | R18: =+Q18 -> 84019424 | S18: =+R18 -> 84019424 | T18: =+L18*M18 -> 85418044 | U18: =+T18 -> 85418044 | V18: =+U18 -> 85418044 | W18: =+V18 -> 85418044 | X18: =+W18 -> 85418044 | Y18: =+L18*M18 -> 85418044 | Z18: =SUM(N18:Y18) -> 1016624808
A19: =+A8 -> E | B19: CARTAGENA Y MUNICIPIOS DE BOLIVAR | C19: Servicio de vigilancia física con medio humano, Sin arma, sin canino, con jornada labora mes /24 horas | D19: =+AA8 -> 19678387 | E19: 1 | F19: =+'[5]DICIEMBRE 2026'!G14 -> 19678387 | G19: =F19 -> 19678387 | H19: 10,21 SMMLV | I19: 10,38 SMMLV | J19: 0.048 | K19: =ROUND((D19*1.048),0) -> 20622950 | L19: =+'[5]DETALLE VR MES 2027(JULIO-DIC)'!G14 -> 20966247 | M19: 1 | N19: =ROUND((K19*E19),0) -> 20622950 | O19: =+K19*M19 -> 20622950 | P19: =+'[5]MARZO 2027'!G14 -> 20622950 | Q19: =+O19 -> 20622950 | R19: =+Q19 -> 20622950 | S19: =+R19 -> 20622950 | T19: =+L19*M19 -> 20966247 | U19: =+T19 -> 20966247 | V19: =+U19 -> 20966247 | W19: =+V19 -> 20966247 | X19: =+W19 -> 20966247 | Y19: =+L19*M19 -> 20966247 | Z19: =SUM(N19:Y19) -> 249535182
A20: =+A9 -> F | B20: SAN ANDRES ISLAS | C20: Servicio de vigilancia física con medio humano, con arma, sin canino, con jornada labora mes /24 horas | D20: =+AA9 -> 19669089 | E20: 1 | F20: =+'[5]DICIEMBRE 2026'!G20 -> 19669089 | G20: =F20 -> 19669089 | H20: 10,21 SMMLV | I20: 10,38 SMMLV | J20: 0.048 | K20: =ROUND((D20*1.048),0) -> 20613205 | L20: =+'[5]DETALLE VR MES 2027(JULIO-DIC)'!G20 -> 20956340 | M20: 1 | N20: =ROUND((K20*E20),0) -> 20613205 | O20: =+K20*M20 -> 20613205 | P20: =+'[5]MARZO 2027'!G20 -> 20613205 | Q20: =+O20 -> 20613205 | R20: =+Q20 -> 20613205 | S20: =+R20 -> 20613205 | T20: =+L20*M20 -> 20956340 | U20: =+T20 -> 20956340 | V20: =+U20 -> 20956340 | W20: =+V20 -> 20956340 | X20: =+W20 -> 20956340 | Y20: =+L20*M20 -> 20956340 | Z20: =SUM(N20:Y20) -> 249417270
A21: =+A10 -> G | B21: CARTAGENA Y MUNICIPIOS DE BOLIVAR | C21: Servicio de vigilancia física con medio humano, sin arma, sin canino, con jornada de 15 horas (7:00 a.m. a 10:00 p.m.) de lunes a viernes laborales. Y jornada de 6 horas (7:00 am a 1:00 pm) los sábados | D21: =+AA10 -> 8214884 | E21: 1 | F21: =+'[5]DICIEMBRE 2026'!G13 -> 8214884 | G21: =F21 -> 8214884 | H21: 10,21 SMMLV | I21: 10,38 SMMLV | J21: 0.048 | K21: =ROUND((D21*1.048),0) -> 8609198 | L21: =+'[5]DETALLE VR MES 2027(JULIO-DIC)'!G13 -> 8752504 | M21: 1 | N21: =+K21*E21 -> 8609198 | O21: =+K21*M21 -> 8609198 | P21: =+'[5]MARZO 2027'!G13 -> 8609198 | Q21: =+O21 -> 8609198 | R21: =+Q21 -> 8609198 | S21: =+R21 -> 8609198 | T21: =+L21*M21 -> 8752504 | U21: =+T21 -> 8752504 | V21: =+U21 -> 8752504 | W21: =+V21 -> 8752504 | X21: =+W21 -> 8752504 | Y21: =+L21*M21 -> 8752504 | Z21: =SUM(N21:Y21) -> 104170212
A22: TOTALES | D22: =SUM(D15:D21) -> 85930690 | E22: =SUM(E15:E21) -> 19 | F22: =SUM(F15:F21) -> 191303534 | G22: =SUM(G15:G21) -> 191303534 | K22: =SUM(K15:K21) -> 90055363 | L22: =SUM(L15:L21) -> 91554419 | M22: =SUM(M15:M21) -> 19 | N22: =SUM(N15:N21) -> 201995661 | O22: =SUM(O15:O21) -> 211660939 | P22: =SUM(P15:P21) -> 205920445 | Q22: =SUM(Q15:Q21) -> 211660939 | R22: =SUM(R15:R21) -> 211660939 | ... Z22: =SUM(Z15:Z21) -> 2532769467
A24: VALOR VIGENCIA 2028 | T24: VALOR TOTAL VIGENCIA 2028
A25: TIPO DE SERVICIOS | B25: UBICACION DEL SERVICIO | C25: TIPO SERVICIO | D25: TARIFA MINIMA APARTIR DEL 01 DE ENERO DE 2028 AL 31 DE DICIEMBRE DE 2028 | E25: % INCREMENTO VIGENCIA 2028 | F25: VALOR UNITARIO SERVICIO MENSUAL AÑO 2028 | G25: NUMERO DE SERVICIOS A CONTRATAR | H25: ENERO | I25: FEBRERO | J25: MARZO | K25: ABRIL | L25: MAYO | M25: JUNIO | N25: JULIO | O25: AGOSTO | P25: SEPTIEMBRE | Q25: OCTUBRE | R25: NOVIEMBRE | S25: DICIEMBRE
A26: =+A15 -> A | B26: CARTAGENA Y MUNICIPIOS DE BOLIVAR | C26: Servicio de vigilancia física con medio humano, sin arma, sin canino, con jornada de 12 horas (7:00 a.m. a 7:00 p.m.) de lunes a viernes laborales. | D26: 10,38 SMMLV | E26: 0.048 | F26: =ROUND((L15*1.048),0) -> 6435731 | G26: 3 | H26: =+'[5]ENERO 2028'!G2+'[5]ENERO 2028'!G3+'[5]ENERO 2028'!G4 -> 17698069 | I26: =+F26*G26 -> 19307193 | J26: =+I26 -> 19307193 | K26: =+'[5]ABRIL 2028 '!G2+'[5]ABRIL 2028 '!G3+'[5]ABRIL 2028 '!G4 -> 16089405 | L26: =+J26 -> 19307193 | M26: =+L26 -> 19307193 | N26: =+M26 -> 19307193 | O26: =+N26 -> 19307193 | P26: =+O26 -> 19307193 | Q26: =+P26 -> 19307193 | R26: =+Q26 -> 19307193 | S26: =+'[5]DICIEMBRE 2028'!G2+'[5]DICIEMBRE 2028'!G3+'[5]DICIEMBRE 2028'!G4 -> 16732977 | T26: =SUM(H26:S26) -> 224285188
A27: =+A16 -> B | B27: CARTAGENA Y MUNICIPIOS DE BOLIVAR | C27: Servicio de vigilancia física con medio humano, sin arma, sin canino, con jornada de 12 horas (7:00 a.m. a 7:00 p.m.) de lunes a viernes laborales. Y jornada de 6 horas (7:00 am a 1:00 pm) los sábados | D27: 10,38 SMMLV | E27: 0.048 | F27: =ROUND((L16*1.048),0) -> 7079136 | G27: 8 | H27: =+'[5]ENERO 2028'!G5+'[5]ENERO 2028'!G6+'[5]ENERO 2028'!G7+'[5]ENERO 2028'!G8+'[5]ENERO 2028'!G9+'[5]ENERO 2028'!G10+'[5]ENERO 2028'!G12+'[5]ENERO 2028'!G16 -> 49552852 | I27: =+F27*G27 -> 56633088 | J27: =+I27 -> 56633088 | K27: =+'[5]ABRIL 2028 '!G5+'[5]ABRIL 2028 '!G6+'[5]ABRIL 2028 '!G7+'[5]ABRIL 2028 '!G8+'[5]ABRIL 2028 '!G9+'[5]ABRIL 2028 '!G10+'[5]ABRIL 2028 '!G12+'[5]ABRIL 2028 '!G16 -> 46979634 | L27: =+J27 -> 56633088 | M27: =+L27 -> 56633088 | N27: =+M27 -> 56633088 | O27: =+N27 -> 56633088 | P27: =+O27 -> 56633088 | Q27: =+P27 -> 56633088 | R27: =+Q27 -> 56633088 | S27: =+'[5]DICIEMBRE 2028'!G5+'[5]DICIEMBRE 2028'!G6+'[5]DICIEMBRE 2028'!G7+'[5]DICIEMBRE 2028'!G8+'[5]DICIEMBRE 2028'!G9+'[5]DICIEMBRE 2028'!G10+'[5]DICIEMBRE 2028'!G12+'[5]DICIEMBRE 2028'!G16 -> 45692792 | T27: =SUM(H27:S27) -> 651923070
A28: =+A17 -> C | B28: SAN ANDRES ISLAS | C28: Servicio de vigilancia física con medio humano, sin arma, sin canino, con jornada de 12 horas (7:00 a.m. a 7:00 p.m.) de lunes a viernes laborales. Y jornada de 6 horas (7:00 am a 1:00 pm) los sábados | D28: 10,38 SMMLV | E28: 0.048 | F28: =ROUND((L17*1.048),0)-1 -> 6947140 | G28: 1 | H28: =+F28*G28 -> 6947140 | I28: =+F28*G28 -> 6947140 | J28: =+I28 -> 6947140 | K28: =+F28*G28 -> 6947140 | L28: =+J28 -> 6947140 | M28: =+L28 -> 6947140 | N28: =+M28 -> 6947140 | O28: =+N28 -> 6947140 | P28: =+O28 -> 6947140 | Q28: =+P28 -> 6947140 | R28: =+Q28 -> 6947140 | S28: =+F28*G28 -> 6947140 | T28: =SUM(H28:S28) -> 83365680
A29: =+A18 -> D | B29: CARTAGENA Y MUNICIPIOS DE BOLIVAR | C29: Servicio de vigilancia física con medio humano, con arma, sin canino, con jornada labora mes /24 horas | D29: 10,38 SMMLV | E29: 0.048 | F29: =ROUND((L18*1.048),0)-1 -> 22379527 | G29: 4 | H29: =+F29*G29 -> 89518108 | I29: =+F29*G29 -> 89518108 | J29: =+I29 -> 89518108 | K29: =+F29*G29 -> 89518108 | L29: =+J29 -> 89518108 | M29: =+L29 -> 89518108 | N29: =+M29 -> 89518108 | O29: =+N29 -> 89518108 | P29: =+O29 -> 89518108 | Q29: =+P29 -> 89518108 | R29: =+Q29 -> 89518108 | S29: =+F29*G29 -> 89518108 | T29: =SUM(H29:S29) -> 1074217296
A30: =+A19 -> E | B30: CARTAGENA Y MUNICIPIOS DE BOLIVAR | C30: Servicio de vigilancia física con medio humano, Sin arma, sin canino, con jornada labora mes /24 horas | D30: 10,38 SMMLV | E30: 0.048 | F30: =ROUND((L19*1.048),0) -> 21972627 | G30: 1 | H30: =+F30*G30 -> 21972627 | I30: =+F30*G30 -> 21972627 | J30: =+I30 -> 21972627 | K30: =+F30*G30 -> 21972627 | L30: =+J30 -> 21972627 | M30: =+L30 -> 21972627 | N30: =+M30 -> 21972627 | O30: =+N30 -> 21972627 | P30: =+O30 -> 21972627 | Q30: =+P30 -> 21972627 | R30: =+Q30 -> 21972627 | S30: =+F30*G30 -> 21972627 | T30: =SUM(H30:S30) -> 263671524
A31: =+A20 -> F | B31: SAN ANDRES ISLAS | C31: Servicio de vigilancia física con medio humano, con arma, sin canino, con jornada labora mes /24 horas | D31: 10,38 SMMLV | E31: 0.048 | F31: =ROUND((L20*1.048),0)+1 -> 21962245 | G31: 1 | H31: =+F31*G31 -> 21962245 | I31: =+F31*G31 -> 21962245 | J31: =+I31 -> 21962245 | K31: =+F31*G31 -> 21962245 | L31: =+J31 -> 21962245 | M31: =+L31 -> 21962245 | N31: =+M31 -> 21962245 | O31: =+N31 -> 21962245 | P31: =+O31 -> 21962245 | Q31: =+P31 -> 21962245 | R31: =+Q31 -> 21962245 | S31: =+F31*G31 -> 21962245 | T31: =SUM(H31:S31) -> 263546940
A32: =+A21 -> G | B32: CARTAGENA Y MUNICIPIOS DE BOLIVAR | C32: Servicio de vigilancia física con medio humano, sin arma, sin canino, con jornada de 15 horas (7:00 a.m. a 10:00 p.m.) de lunes a viernes laborales. Y jornada de 6 horas (7:00 am a 1:00 pm) los sábados | D32: 10,38 SMMLV | E32: 0.048 | F32: =ROUND((L21*1.048),0) -> 9172624 | G32: 1 | H32: =+F32*G32 -> 9172624 | I32: =+F32*G32 -> 9172624 | J32: =+I32 -> 9172624 | K32: =+F32*G32 -> 9172624 | L32: =+J32 -> 9172624 | M32: =+L32 -> 9172624 | N32: =+M32 -> 9172624 | O32: =+N32 -> 9172624 | P32: =+O32 -> 9172624 | Q32: =+P32 -> 9172624 | R32: =+Q32 -> 9172624 | S32: =+F32*G32 -> 9172624 | T32: =SUM(H32:S32) -> 110071488
A33: TOTALES | F33: =SUM(F26:F32) -> 95949030 | G33: =SUM(G26:G32) -> 19 | H33: =SUM(H26:H32) -> 216823665 | I33: =SUM(I26:I32) -> 225513025 | J33: =SUM(J26:J32) -> 225513025 | K33: =SUM(K26:K32) -> 212641783 | L33: =SUM(L26:L32) -> 225513025 | M33: =SUM(M26:M32) -> 225513025 | ... T33: =SUM(T26:T32) -> 2671081186
A35: VALOR VIGENCIA 2029 | T35: VALOR TOTAL VIGENCIA 2029
A36: TIPO DE SERVICIOS | B36: UBICACION DEL SERVICIO | C36: TIPO SERVICIO | D36: TARIFA MINIMA APARTIR DEL 01 DE ENERO DE 2029 AL 31 DE DICIEMBRE DE 2029 | E36: % INCREMENTO VIGENCIA 2029 | F36: VALOR UNITARIO SERVICIO MENSUAL AÑO 2029 | G36: NUMERO DE SERVICIOS A CONTRATAR | H36: ENERO | I36: FEBRERO | J36: MARZO | K36: ABRIL | L36: MAYO | M36: JUNIO | N36: JULIO | O36: AGOSTO | P36: SEPTIEMBRE | Q36: OCTUBRE | R36: NOVIEMBRE | S36: DICIEMBRE
A37: =+A26 -> A | B37: CARTAGENA Y MUNICIPIOS DE BOLIVAR | C37: Servicio de vigilancia física con medio humano, sin arma, sin canino, con jornada de 12 horas (7:00 a.m. a 7:00 p.m.) de lunes a viernes laborales. | D37: 10,38 SMMLV | E37: 0.048 | F37: =ROUND((F26*1.048),0) -> 6744646 | G37: 3 | H37: =+'[5]ENERO 2029'!G2+'[5]ENERO 2029'!G3+'[5]ENERO 2029'!G4 -> 18547576 | I37: =+F37*G37 -> 20233938 | J37: =+'[5]MARZO 2029'!G2+'[5]MARZO 2029'!G3+'[5]MARZO 2029'!G4 -> 17536240 | K37: =+I37 -> 20233938 | L37: =+K37 -> 20233938 | M37: =+L37 -> 20233938 | N37: =+M37 -> 20233938 | O37: =+N37 -> 20233938 | P37: =+O37 -> 20233938 | Q37: =+P37 -> 20233938 | R37: =+Q37 -> 20233938 | S37: =+'[5]DICIEMBRE 2029'!G2+'[5]DICIEMBRE 2029'!G3+'[5]DICIEMBRE 2029'!G4 -> 17873272 | T37: =SUM(H37:S37) -> 236062530
A38: =+A27 -> B | B38: CARTAGENA Y MUNICIPIOS DE BOLIVAR | C38: Servicio de vigilancia física con medio humano, sin arma, sin canino, con jornada de 12 horas (7:00 a.m. a 7:00 p.m.) de lunes a viernes laborales. Y jornada de 6 horas (7:00 am a 1:00 pm) los sábados | D38: 10,38 SMMLV | E38: 0.048 | F38: =ROUND((F27*1.048),0) -> 7418935 | G38: 8 | H38: =+'[5]ENERO 2029'!G5+'[5]ENERO 2029'!G6+'[5]ENERO 2029'!G7+'[5]ENERO 2029'!G8+'[5]ENERO 2029'!G9+'[5]ENERO 2029'!G10+'[5]ENERO 2029'!G12+'[5]ENERO 2029'!G16 -> 51931720 | I38: =+F38*G38 -> 59351480 | J38: =+'[5]MARZO 2029'!G5+'[5]MARZO 2029'!G6+'[5]MARZO 2029'!G7+'[5]MARZO 2029'!G8+'[5]MARZO 2029'!G9+'[5]MARZO 2029'!G10+'[5]MARZO 2029'!G12+'[5]MARZO 2029'!G16 -> 51258320 | K38: =+I38 -> 59351480 | L38: =+K38 -> 59351480 | M38: =+L38 -> 59351480 | N38: =+M38 -> 59351480 | O38: =+N38 -> 59351480 | P38: =+O38 -> 59351480 | Q38: =+P38 -> 59351480 | R38: =+Q38 -> 59351480 | S38: =+'[5]DICIEMBRE 2029'!G5+'[5]DICIEMBRE 2029'!G6+'[5]DICIEMBRE 2029'!G7+'[5]DICIEMBRE 2029'!G8+'[5]DICIEMBRE 2029'!G9+'[5]DICIEMBRE 2029'!G10+'[5]DICIEMBRE 2029'!G12+'[5]DICIEMBRE 2029'!G16 -> 49234496 | T38: =SUM(H38:S38) -> 686587856
A39: =+A28 -> C | B39: SAN ANDRES ISLAS | C39: Servicio de vigilancia física con medio humano, sin arma, sin canino, con jornada de 12 horas (7:00 a.m. a 7:00 p.m.) de lunes a viernes laborales. Y jornada de 6 horas (7:00 am a 1:00 pm) los sábados | D39: 10,38 SMMLV | E39: 0.048 | F39: =ROUND((F28*1.048),0) -> 7280603 | G39: 1 | H39: =+F39*G39 -> 7280603 | I39: =+F39*G39 -> 7280603 | J39: =+F39*G39 -> 7280603 | K39: =+I39 -> 7280603 | L39: =+K39 -> 7280603 | M39: =+L39 -> 7280603 | N39: =+M39 -> 7280603 | O39: =+N39 -> 7280603 | P39: =+O39 -> 7280603 | Q39: =+P39 -> 7280603 | R39: =+Q39 -> 7280603 | S39: =+R39 -> 7280603 | T39: =SUM(H39:S39) -> 87367236
A40: =+A29 -> D | B40: CARTAGENA Y MUNICIPIOS DE BOLIVAR | C40: Servicio de vigilancia física con medio humano, con arma, sin canino, con jornada labora mes /24 horas | D40: 10,38 SMMLV | E40: 0.048 | F40: =ROUND((F29*1.048),0)+1 -> 23453745 | G40: 4 | H40: =+F40*G40 -> 93814980 | I40: =+F40*G40 -> 93814980 | J40: =+F40*G40 -> 93814980 | K40: =+I40 -> 93814980 | L40: =+K40 -> 93814980 | M40: =+L40 -> 93814980 | N40: =+M40 -> 93814980 | O40: =+N40 -> 93814980 | P40: =+O40 -> 93814980 | Q40: =+P40 -> 93814980 | R40: =+Q40 -> 93814980 | S40: =+R40 -> 93814980 | T40: =SUM(H40:S40) -> 1125779760
A41: =+A30 -> E | B41: CARTAGENA Y MUNICIPIOS DE BOLIVAR | C41: Servicio de vigilancia física con medio humano, Sin arma, sin canino, con jornada labora mes /24 horas | D41: 10,38 SMMLV | E41: 0.048 | F41: =ROUND((F30*1.048),0) -> 23027313 | G41: 1 | H41: =+F41*G41 -> 23027313 | I41: =+F41*G41 -> 23027313 | J41: =+F41*G41 -> 23027313 | K41: =+I41 -> 23027313 | L41: =+K41 -> 23027313 | M41: =+L41 -> 23027313 | N41: =+M41 -> 23027313 | O41: =+N41 -> 23027313 | P41: =+O41 -> 23027313 | Q41: =+P41 -> 23027313 | R41: =+Q41 -> 23027313 | S41: =+R41 -> 23027313 | T41: =SUM(H41:S41) -> 276327756
A42: =+A31 -> F | B42: SAN ANDRES ISLAS | C42: Servicio de vigilancia física con medio humano, con arma, sin canino, con jornada labora mes /24 horas | D42: 10,38 SMMLV | E42: 0.048 | F42: =ROUND((F31*1.048),0)-1 -> 23016432 | G42: 1 | H42: =+F42*G42 -> 23016432 | I42: =+F42*G42 -> 23016432 | J42: =+F42*G42 -> 23016432 | K42: =+I42 -> 23016432 | L42: =+K42 -> 23016432 | M42: =+L42 -> 23016432 | N42: =+M42 -> 23016432 | O42: =+N42 -> 23016432 | P42: =+O42 -> 23016432 | Q42: =+P42 -> 23016432 | R42: =+Q42 -> 23016432 | S42: =+R42 -> 23016432 | T42: =SUM(H42:S42) -> 276197184
A43: =+A32 -> G | B43: CARTAGENA Y MUNICIPIOS DE BOLIVAR | C43: Servicio de vigilancia física con medio humano, sin arma, sin canino, con jornada de 15 horas (7:00 a.m. a 10:00 p.m.) de lunes a viernes laborales. Y jornada de 6 horas (7:00 am a 1:00 pm) los sábados | D43: 10,38 SMMLV | E43: 0.048 | F43: =ROUND((F32*1.048),0) -> 9612910 | G43: 1 | H43: =+F43*G43 -> 9612910 | I43: =+F43*G43 -> 9612910 | J43: =+F43*G43 -> 9612910 | K43: =+I43 -> 9612910 | L43: =+K43 -> 9612910 | M43: =+L43 -> 9612910 | N43: =+M43 -> 9612910 | O43: =+N43 -> 9612910 | P43: =+O43 -> 9612910 | Q43: =+P43 -> 9612910 | R43: =+Q43 -> 9612910 | S43: =+R43 -> 9612910 | T43: =SUM(H43:S43) -> 115354920 | V43: =+T44+T33+Z22 -> 8007527895
A44: TOTALES | F44: =SUM(F37:F43) -> 100554584 | G44: =SUM(G37:G43) -> 19 | H44: =SUM(H37:H43) -> 227231534 | I44: =SUM(I37:I43) -> 236337656 | J44: =SUM(J37:J43) -> 225546798 | K44: =SUM(K37:K43) -> 236337656 | L44: =SUM(L37:L43) -> 236337656 | M44: =SUM(M37:M43) -> 236337656 | ... T44: =SUM(T37:T43) -> 2803677242
A46: VALOR VIGENCIA 2030 | O46: VALOR TOTAL VIGENCIA 2030
A47: TIPO DE SERVICIOS | B47: UBICACION DEL SERVICIO | C47: TIPO SERVICIO | D47: TARIFA MINIMA APARTIR DEL 01 DE ENERO DE 2030 AL 31 DE JULIO DE 2030 | E47: % INCREMENTO VIGENCIA 2030 | F47: VALOR UNITARIO SERVICIO MENSUAL AÑO 2030 | G47: NUMERO DE SERVICIOS A CONTRATAR | H47: ENERO | I47: FEBRERO | J47: MARZO | K47: ABRIL | L47: MAYO | M47: JUNIO | N47: JULIO
A48: =+A37 -> A | B48: CARTAGENA Y MUNICIPIOS DE BOLIVAR | C48: Servicio de vigilancia física con medio humano, sin arma, sin canino, con jornada de 12 horas (7:00 a.m. a 7:00 p.m.) de lunes a viernes laborales. | D48: 10,38 SMMLV | E48: 0.048 | F48: =ROUND((F37*1.048),0) -> 7068389 | G48: 3 | H48: =+'[5]ENERO DE 2030'!G2+'[5]ENERO DE 2030'!G3+'[5]ENERO DE 2030'!G4 -> 19437860 | I48: =+G48*F48 -> 21205167 | J48: =+I48 -> 21205167 | K48: =+'[5]ABRIL 2030'!G2+'[5]ABRIL 2030'!G3+'[5]ABRIL 2030'!G4 -> 19084231 | L48: =+J48 -> 21205167 | M48: =+L48 -> 21205167 | N48: =+M48 -> 21205167 | O48: =SUM(H48:N48) -> 144547926
A49: =+A38 -> B | B49: CARTAGENA Y MUNICIPIOS DE BOLIVAR | C49: Servicio de vigilancia física con medio humano, sin arma, sin canino, con jornada de 12 horas (7:00 a.m. a 7:00 p.m.) de lunes a viernes laborales. Y jornada de 6 horas (7:00 am a 1:00 pm) los sábados | D49: 10,38 SMMLV | E49: 0.048 | F49: =ROUND((F38*1.048),0)-1 -> 7775043 | G49: 8 | H49: =+'[5]ENERO DE 2030'!G5+'[5]ENERO DE 2030'!G6+'[5]ENERO DE 2030'!G7+'[5]ENERO DE 2030'!G8+'[5]ENERO DE 2030'!G9+'[5]ENERO DE 2030'!G10+'[5]ENERO DE 2030'!G12+'[5]ENERO DE 2030'!G16 -> 54424440 | I49: =+G49*F49 -> 62200344 | J49: =+I49 -> 62200344 | K49: =+'[5]ABRIL 2030'!G5+'[5]ABRIL 2030'!G6+'[5]ABRIL 2030'!G7+'[5]ABRIL 2030'!G8+'[5]ABRIL 2030'!G9+'[5]ABRIL 2030'!G10+'[5]ABRIL 2030'!G12+'[5]ABRIL 2030'!G16 -> 54777558 | L49: =+J49 -> 62200344 | M49: =+L49 -> 62200344 | N49: =+M49 -> 62200344 | O49: =SUM(H49:N49) -> 420203718
A50: =+A39 -> C | B50: SAN ANDRES ISLAS | C50: Servicio de vigilancia física con medio humano, sin arma, sin canino, con jornada de 12 horas (7:00 a.m. a 7:00 p.m.) de lunes a viernes laborales. Y jornada de 6 horas (7:00 am a 1:00 pm) los sábados | D50: 10,38 SMMLV | E50: 0.048 | F50: =ROUND((F39*1.048),0) -> 7630072 | G50: 1 | H50: =+F50*G50 -> 7630072 | I50: =+G50*F50 -> 7630072 | J50: =+I50 -> 7630072 | K50: =+J50 -> 7630072 | L50: =+J50 -> 7630072 | M50: =+L50 -> 7630072 | N50: =+M50 -> 7630072 | O50: =SUM(H50:N50) -> 53410504
A51: =+A40 -> D | B51: CARTAGENA Y MUNICIPIOS DE BOLIVAR | C51: Servicio de vigilancia física con medio humano, con arma, sin canino, con jornada labora mes /24 horas | D51: 10,38 SMMLV | E51: 0.048 | F51: =ROUND((F40*1.048),0)-1 -> 24579524 | G51: 4 | H51: =+F51*G51 -> 98318096 | I51: =+G51*F51 -> 98318096 | J51: =+I51 -> 98318096 | K51: =+J51 -> 98318096 | L51: =+J51 -> 98318096 | M51: =+L51 -> 98318096 | N51: =+M51 -> 98318096 | O51: =SUM(H51:N51) -> 688226672
A52: =+A41 -> E | B52: CARTAGENA Y MUNICIPIOS DE BOLIVAR | C52: Servicio de vigilancia física con medio humano, Sin arma, sin canino, con jornada labora mes /24 horas | D52: 10,38 SMMLV | E52: 0.048 | F52: =ROUND((F41*1.048),0) -> 24132624 | G52: 1 | H52: =+F52*G52 -> 24132624 | I52: =+G52*F52 -> 24132624 | J52: =+I52 -> 24132624 | K52: =+J52 -> 24132624 | L52: =+J52 -> 24132624 | M52: =+L52 -> 24132624 | N52: =+M52 -> 24132624 | O52: =SUM(H52:N52) -> 168928368
A53: =+A42 -> F | B53: SAN ANDRES ISLAS | C53: Servicio de vigilancia física con medio humano, con arma, sin canino, con jornada labora mes /24 horas | D53: 10,38 SMMLV | E53: 0.048 | F53: =ROUND((F42*1.048),0) -> 24121221 | G53: 1 | H53: =+F53*G53 -> 24121221 | I53: =+G53*F53 -> 24121221 | J53: =+I53 -> 24121221 | K53: =+J53 -> 24121221 | L53: =+J53 -> 24121221 | M53: =+L53 -> 24121221 | N53: =+M53 -> 24121221 | O53: =SUM(H53:N53) -> 168848547
A54: =+A43 -> G | B54: CARTAGENA Y MUNICIPIOS DE BOLIVAR | C54: Servicio de vigilancia física con medio humano, sin arma, sin canino, con jornada de 15 horas (7:00 a.m. a 10:00 p.m.) de lunes a viernes laborales. Y jornada de 6 horas (7:00 am a 1:00 pm) los sábados | D54: 10,38 SMMLV | E54: 0.048 | F54: =ROUND((F43*1.048),0) -> 10074330 | G54: 1 | H54: =+F54*G54 -> 10074330 | I54: =+G54*F54 -> 10074330 | J54: =+I54 -> 10074330 | K54: =+J54 -> 10074330 | L54: =+J54 -> 10074330 | M54: =+L54 -> 10074330 | N54: =+M54 -> 10074330 | O54: =SUM(H54:N54) -> 70520310
A55: TOTALES | F55: =SUM(F48:F54) -> 105381203 | G55: =SUM(G48:G54) -> 19 | H55: =SUM(H48:H54) -> 238138643 | I55: =SUM(I48:I54) -> 247681854 | J55: =SUM(J48:J54) -> 247681854 | K55: =SUM(K48:K54) -> 238138132 | L55: =SUM(L48:L54) -> 247681854 | M55: =SUM(M48:M54) -> 247681854 | ... O55: =SUM(O48:O54) -> 1714686045
A63: TKOTAL VIGENCIAS 2026-2030 | B63: VALOR POR VIGENCIA | C63: NUMERO DE MESES
A64: VIGENCIA 2026 | B64: =+G22 -> 191303534 | C64: 1
A65: VIGENCIA 2027 | B65: =+Z22 -> 2532769467 | C65: 12
A66: VIGENCIA 2028 | B66: =+T33 -> 2671081186 | C66: 12
A67: VIGENCIA 2029 | B67: =+T44 -> 2803677242 | C67: 12
A68: VIGENCIA 2030 | B68: =+O55 -> 1714686045 | C68: 7
A69: TOTALES | B69: =SUM(B64:B68) -> 9913517474 | C69: =SUM(C64:C68) -> 44

Sheet ANEXO 6 OE
D1: ANEXO Nª6 OFERTA ECONOMICA
D2: Consejo Superior de la Judicatura Dirección Ejecutiva Seccional de Administración Judicial Cartagena-Bolivar
A7: Variables | J7: No. Meses
A8: Periodo a contratar | J8: DEL 01 DE DICIEMBRE DE 2026 AL 31 DE JULIO DE 2030
A9: Meses del año 2026 | J9: 1
A10: Meses del año 2027 | J10: 12 | P10: Celdas que deben ser diligenciadas por el proponente
A11: Meses del año 2028 | J11: 12
A12: Meses del año 2029 | J12: 12
A13: Meses del año 2030 | J13: 7
A14: Porcentaje Valor IVA Unitario mensual | J14: 0.19
A15: Incremento Proyectado para el año 2027,2028,2029 Y 2030 (4,8%) | J15: 0.048 | K15: Incremento proyectado por el Ministerio de Hacienda.
J16: VALOR MENSUAL Año 2026(DEL 01 DE DICIEMBRE DE 2026 AL 31 DE DICIEMBRE DE 2026) | Q16: VALOR MENSUAL Año 2027 A 2030 | V16: VIGENCIA 2026 | W16: VIGENCIA 2027 | AC16: VIGENCIA 2028 | AH16: VIGENCIA 2029 | AM16: VIGENCIA 2030 | AQ16: VALOR TOTAL VIGENCIAS 2026-2030 | AV16: Valor total del Vigencias 2026-2030
A17: Ítem | B17: Tipo de Servicio | C17: TIPO DE SERVICIO | D17: No. Servicios 2026 | E17: No. Servicios 2027 | F17: No. Servicios 2028 | G17: No. Servicios 2029 | H17: No. Servicios 2030 | I17: % AYS | J17: Valor Unitario Mensual tarifa año 2026(Tarifa actual Diciembre de 2026) | K17: VALOR POLIZA DE SEGURO COLECTIVO DE VIDA MENSUAL | L17: VALOR UNITARIO TARIFA MAS POLIZA DE SEGURO DE VIDA COLECTIVO MENSUAL | M17: VALOR UNITARIO MENSUAL ADMINISTRACION Y SUPERVISION(AYS) | N17: Valor AIU Unitario Mensual | O17: Valor IVA Unitario Mensual | P17: Valor Total Unitario Mensual año 2026(DICIEMBRE DE 2026) | Q17: VALOR TARIFA MENSUAL AÑO 2027( ENERO DE 2027 A JUNIO DE 2027 ) CON INCREMENTO PROYECTADO | R17: Valor Total Unitario Mensual año 2027(DE JULIO DE 2027 A DICIEMBRE DE 2027) (incremento Proyectado) | S17: Valor Total Unitario Mensual año 2028(DE ENERO DE 2028 A DICIEMBRE DE 2028) (incremento Proyectado) | T17: Valor Total Unitario Mensual año 2029(DE ENERO DE 2029 A DICIEMBRE DE 2029) (incremento Proyectado) | U17: Valor Total Unitario Mensual año 2030(DE ENERO DE 2030 A JULIO DE 2030) (incremento Proyectado) | V17: Valor mes de Diciembre 2026 | W17: VALOR MES DE ENERO DE 2027 | X17: VALOR MES DE FEBRERO DE 2027 | Y17: VALOR MES DE MARZO DE 2027 | Z17: VALOR TOTAL DE LOS MESES DE ABRIL DE 2027 A JUNIO DE 2027 | AA17: VALOR TOTAL DE LOS MESES DE JULIO DE 2027 A NOVIEMBRE DE 2027 | AB17: VALOR MES DE DICIEMBRE DE 2027 | AC17: VALOR MES DE ENERO DE 2028 | AD17: VALOR TOTAL DE LOS MESES DE FEBRERO DE 2028 A MARZO DE 2028 | AE17: VALOR ABRIL DE 2028 | AF17: VALOR TOTAL DE LOS MESES DE MAYO DE 2028 A NOVIEMBRE DE 2028 | AG17: VALOR DICIEMBRE DE 2028 | AH17: VALOR MES DE ENERO DE 2029 | AI17: VALOR MES DE FEBRERO DE 2029 | AJ17: VALOR MARZO DE 2029 | AK17: VALOR TOTAL DE LOS MESES DE ABRIL DE 2029 A NOVIEMBRE DE 2029 | AL17: VALOR DICIEMBRE DE 2029 | AM17: VALOR MES DE ENERO DE 2030 | AN17: VALOR TOTAL DE LOS MESES DE FEBRERO DE 2030 A MARZO DE 2030 | AO17: VALOR ABRIL DE 2030 | AP17: VALOR TOTAL DE LOS MESES DE MAYO DE 2030 A JULIO DE 2030 | AQ17: Valor total Vigencia 2026 | AR17: Valor total Vigencia 2027 | AS17: Valor total Vigencia 2028 | AT17: Valor total Vigencia 2029 | AU17: Valor total Vigencia 2030
A18: Servicios del Archipielago San andres islas (Excluidos de I.V.A.)
A19: 1 | B19: F | C19: Servicio de vigilancia física con medio humano, con arma, sin canino, con jornada labora mes /24 horas | D19: 1 | E19: 1 | F19: 1 | G19: 1 | H19: 1 | I19: 0.1 | J19: =1750905*10.21 -> 17876740 | K19: =+'ESTUDIO DE MERCADO'!W7 -> 4249.6667 | L19: =+J19+K19 -> 17880990 | M19: =+L19*I19 -> 1788099 | N19: N.A | O19: N.A | P19: =ROUND((L19+M19),0) -> 19669089 | Q19: =+P19*1.048 -> 20613205 | R19: =+Q19*1.01664635477463 -> 20956340 | S19: =ROUND((R19*1.04800001),0) -> 21962245 | T19: =ROUND((S19*1.04799995),0) -> 23016432 | U19: =ROUND((T19*1.048),0) -> 24121221 | V19: =+D19*P19 -> 19669089 | W19: =ROUND((Q19*E19),0) -> 20613205 | X19: =ROUND((Q19*E19),0) -> 20613205 | Y19: =ROUND((Q19*E19),0) -> 20613205 | Z19: =ROUND((Q19*E19),0)*3 -> 61839615 | AA19: =ROUND((R19*E19),0)*5 -> 104781700 | AB19: =ROUND((R19*E19),0) -> 20956340 | AC19: =ROUND((S19*F19),0) -> 21962245 | AD19: =ROUND((S19*F19),0)*2 -> 43924490 | AE19: =ROUND((S19*F19),0)*1 -> 21962245 | AF19: =ROUND((S19*F19),0)*7 -> 153735715 | AG19: =ROUND((S19*F19),0)*1 -> 21962245 | AH19: =ROUND((T19*G19),0)*1 -> 23016432 | AI19: =ROUND((T19*G19),0)*1 -> 23016432 | AJ19: =ROUND((T19*G19),0)*1 -> 23016432 | AK19: =ROUND((T19*G19),0)*8 -> 184131456 | AL19: =ROUND((T19*G19),0) -> 23016432 | AM19: =ROUND((U19*H19),0) -> 24121221 | AN19: =ROUND((U19*H19),0)*2 -> 48242442 | AO19: =ROUND((U19*H19),0) -> 24121221 | AP19: =ROUND((U19*H19),0)*3 -> 72363663 | AQ19: =+V19 -> 19669089 | AR19: =ROUND((SUM(W19:AB19)),0) -> 249417270 | AS19: =SUM(AC19:AG19) -> 263546940 | AT19: =SUM(AH19:AL19) -> 276197184 | AU19: =SUM(AM19:AP19) -> 168848547 | AV19: =+AR19+AQ19+AS19+AT19+AU19 -> 977679030
A20: 3 | B20: C | C20: Servicio de vigilancia física con medio humano, sin arma, sin canino, con jornada de 12 horas (7:00 a.m. a 7:00 p.m.) de lunes a viernes laborales. Y jornada de 6 horas (7:00 am a 1:00 pm) los sábados | D20: 1 | E20: 1 | F20: 1 | G20: 1 | H20: 1 | I20: 0.08 | J20: =((((((1750905*10.21)*47.59%)/30)*20)/13)*12)+((((((1750905*10.21)*47.59%)/30)*4)/13)*6) -> 5758950.6 | K20: =+'ESTUDIO DE MERCADO'!W6 -> 1952.3333 | L20: =+J20+K20 -> 5760902.9 | M20: =+L20*I20 -> 460872.23 | N20: N.A | O20: N.A | P20: =ROUND((L20+M20),0) -> 6221775 | Q20: =+P20*1.048 -> 6520420.2 | R20: =+Q20*1.01664474560819 -> 6628950.9 | S20: =ROUND((R20*1.0479999),0) -> 6947140 | T20: =ROUND((S20*1.048),0) -> 7280603 | U20: =ROUND((T20*1.048),0) -> 7630072 | V20: =+D20*P20 -> 6221775 | W20: =ROUND((Q20*E20),0) -> 6520420 | X20: =ROUND((Q20*E20),0) -> 6520420 | Y20: =ROUND((Q20*E20),0) -> 6520420 | Z20: =ROUND((Q20*E20),0)*3 -> 19561260 | AA20: =ROUND((R20*E20),0)*5 -> 33144755 | AB20: =ROUND((R20*E20),0) -> 6628951 | AC20: =ROUND((S20*F20),0) -> 6947140 | AD20: =ROUND((S20*F20),0)*2 -> 13894280 | AE20: =ROUND((S20*F20),0)*1 -> 6947140 | AF20: =ROUND((S20*F20),0)*7 -> 48629980 | AG20: =ROUND((S20*F20),0)*1 -> 6947140 | AH20: =ROUND((T20*G20),0)*1 -> 7280603 | AI20: =ROUND((T20*G20),0)*1 -> 7280603 | AJ20: =ROUND((T20*G20),0)*1 -> 7280603 | AK20: =ROUND((T20*G20),0)*8 -> 58244824 | AL20: =ROUND((T20*G20),0) -> 7280603 | AM20: =ROUND((U20*H20),0) -> 7630072 | AN20: =ROUND((U20*H20),0)*2 -> 15260144 | AO20: =ROUND((U20*H20),0) -> 7630072 | AP20: =ROUND((U20*H20),0)*3 -> 22890216 | AQ20: =+V20 -> 6221775 | AR20: =ROUND((SUM(W20:AB20)),0) -> 78896226 | AS20: =SUM(AC20:AG20) -> 83365680 | AT20: =SUM(AH20:AL20) -> 87367236 | AU20: =SUM(AM20:AP20) -> 53410504 | AV20: =+AR20+AQ20+AS20+AT20+AU20 -> 309261421
A21: Servicios de Cartagena y Municipios de Bolivar | AM21: =ROUND((U21*H21),0) -> 0 | AN21: =ROUND((U21*H21),0)*2 -> 0 | AO21: =ROUND((U21*H21),0) -> 0 | AP21: =ROUND((U21*H21),0)*3 -> 0 | AQ21: =+V21 -> 0 | AS21: =SUM(AC21:AG21) -> 0 | AT21: =SUM(AH21:AL21) -> 0 | AU21: =SUM(AM21:AP21) -> 0 | AV21: =+AR21+AQ21+AS21+AT21+AU21 -> 0
A22: 2 | B22: =+[4]ESTUDIO!A5 -> A | C22: Servicio de vigilancia física con medio humano, sin arma, sin canino, con jornada de 12 horas (7:00 a.m. a 7:00 p.m.) de lunes a viernes laborales. | D22: =+[4]ESTUDIO!E14 -> 3 | E22: 3 | F22: 3 | G22: 3 | H22: 3 | I22: 0.08 | J22: =((((((1750905*10.21)*47.59%)/30)*20)/13)*12) -> 5235409.6 | K22: =+'ESTUDIO DE MERCADO'!W4 -> 1901.3333 | L22: =+J22+K22 -> 5237310.9 | M22: =+L22*I22 -> 418984.87 | N22: =(L22+M22)*10% -> 565629.58 | O22: =N22*$J$14 -> 107469.62 | P22: =ROUND((L22+M22+O22),0) -> 5763765 | Q22: =ROUND((P22*1.048),0) -> 6040426 | R22: =+Q22*1.01664435587821 -> 6140965 | S22: =ROUND((R22*1.048),0) -> 6435731 | T22: =ROUND((S22*1.048),0) -> 6744646 | U22: =ROUND((T22*1.048),0) -> 7068389 | V22: =+P22*2.6499940577036 -> 15273943 | W22: =ROUND((Q22*2.69997579629995),0) -> 16309004 | X22: =ROUND((Q22*E22),0) -> 18121278 | Y22: =ROUND((Q22*2.79990318563625),0) -> 16912608 | Z22: =ROUND((Q22*E22),0)*3 -> 54363834 | AA22: =ROUND((R22*E22),0)*5 -> 92114475 | AB22: =ROUND((R22*2.60001188738252),0) -> 15966582 | AC22: =ROUND((S22*2.74997028309605),0) -> 17698069 | AD22: =ROUND((S22*F22),0)*2 -> 38614386 | AE22: =ROUND((S22*2.50001204214409),0)*1 -> 16089405 | AF22: =ROUND((S22*F22),0)*7 -> 135150351 | AG22: =ROUND((S22*2.60001187122333),0) -> 16732977 | AH22: =ROUND((T22*2.74997027271706),0)*1 -> 18547576 | AI22: =ROUND((T22*G22),0)*1 -> 20233938 | AJ22: =ROUND((T22*2.60002378182636),0)*1 -> 17536240 | AK22: =ROUND((T22*G22),0)*8 -> 161871504 | AL22: =ROUND((T22*2.64999408419656),0) -> 17873272 | AM22: =ROUND((U22*2.74997032562865),0) -> 19437860 | AN22: =ROUND((U22*H22),0)*2 -> 42410334 | AO22: =ROUND((U22*2.6999406795523),0) -> 19084231 | AP22: =ROUND((U22*H22),0)*3 -> 63615501 | AQ22: =+V22 -> 15273943 | AR22: =ROUND((SUM(W22:AB22)),0) -> 213787781 | AS22: =SUM(AC22:AG22) -> 224285188 | AT22: =SUM(AH22:AL22) -> 236062530 | AU22: =SUM(AM22:AP22) -> 144547926 | AV22: =+AR22+AQ22+AS22+AT22+AU22 -> 833957368
A23: 3 | B23: =+[4]ESTUDIO!A6 -> B | C23: Servicio de vigilancia física con medio humano, sin arma, sin canino, con jornada de 12 horas (7:00 a.m. a 7:00 p.m.) de lunes a viernes laborales. Y jornada de 6 horas (7:00 am a 1:00 pm) los sábados | D23: 8 | E23: 8 | F23: 8 | G23: 8 | H23: 8 | I23: 0.08 | J23: =((((((1750905*10.21)*47.59%)/30)*20)/13)*12)+((((((1750905*10.21)*47.59%)/30)*4)/13)*6) -> 5758950.6 | K23: =+'ESTUDIO DE MERCADO'!W5 -> 1952.3333 | L23: =+J23+K23 -> 5760902.9 | M23: =+L23*I23 -> 460872.23 | N23: =(L23+M23)*10% -> 622177.51 | O23: =N23*$J$14 -> 118213.73 | P23: =ROUND((L23+M23+O23),0) -> 6339989 | Q23: =ROUND((P23*1.048),0) -> 6644308 | R23: =+Q23*1.01664477324049 -> 6754901 | S23: =ROUND((R23*1.048),0) -> 7079136 | T23: =ROUND((S23*1.048),0) -> 7418935 | U23: =ROUND((T23*1.0479999),0) -> 7775043 | V23: =+P23*6.63632886429298 -> 42074252 | W23: =ROUND((Q23*6.8180855),0) -> 45301460 | X23: =ROUND((Q23*E23),0) -> 53154464 | Y23: =ROUND((Q23*7.31793890349454),0) -> 48622640 | Z23: =ROUND((Q23*E23),0)*3 -> 159463392 | AA23: =ROUND((R23*E23),0)*5 -> 270196040 | AB23: =ROUND((R23*6.45457157699276),0) -> 43599992 | AC23: =ROUND((S23*6.99984461380598),0) -> 49552852 | AD23: =ROUND((S23*F23),0)*2 -> 113266176 | AE23: =ROUND((S23*6.63635138525379),0)*1 -> 46979634 | AF23: =ROUND((S23*F23),0)*7 -> 396431616 | AG23: =ROUND((S23*6.4545718573566),0) -> 45692792 | AH23: =ROUND((T23*6.99988879805525),0)*1 -> 51931720 | AI23: =ROUND((T23*G23),0)*1 -> 59351480 | AJ23: =ROUND((T23*6.90912105308916),0) -> 51258320 | AK23: =ROUND((T23*G23),0)*8 -> 474811840 | AL23: =ROUND((T23*6.63632933837539),0) -> 49234496 | AM23: =ROUND((U23*6.99988926106261),0) -> 54424440 | AN23: =ROUND((U23*H23),0)*2 -> 124400688 | AO23: =ROUND((U23*7.0453061159919),0) -> 54777558 | AP23: =ROUND((U23*H23),0)*3 -> 186601032 | AQ23: =+V23 -> 42074252 | AR23: =ROUND((SUM(W23:AB23)),0) -> 620337988 | AS23: =SUM(AC23:AG23) -> 651923070 | AT23: =SUM(AH23:AL23) -> 686587856 | AU23: =SUM(AM23:AP23) -> 420203718 | AV23: =+AR23+AQ23+AS23+AT23+AU23 -> 2421126884
A24: 4 | B24: D | C24: Servicio de vigilancia física con medio humano, con arma, sin canino, con jornada labora mes /24 horas | D24: 4 | E24: 4 | F24: 4 | G24: 4 | H24: 4 | I24: 0.1 | J24: =+J19 -> 17876740 | K24: =+K19 -> 4249.6667 | L24: =+J24+K24 -> 17880990 | M24: =+(J24+K24)*I24 -> 1788099 | N24: =(L24+M24)*10% -> 1966908.9 | O24: =N24*$J$14 -> 373712.69 | P24: =ROUND((L24+M24+O24),0) -> 20042801 | Q24: =ROUND((P24*1.04800001),0) -> 21004856 | R24: =+Q24*1.01664638881599 -> 21354511 | S24: =ROUND((R24*1.04799999),0) -> 22379527 | T24: =ROUND((S24*1.04800001),0) -> 23453745 | U24: =ROUND((T24*1.04799998),0) -> 24579524 | V24: =+P24*D24 -> 80171204 | W24: =ROUND((Q24*E24),0) -> 84019424 | X24: =ROUND((Q24*E24),0) -> 84019424 | Y24: =Q24*E24 -> 84019424 | Z24: =ROUND((Q24*E24),0)*3 -> 252058272 | AA24: =ROUND((R24*E24),0)*5 -> 427090220 | AB24: =ROUND((R24*E24),0) -> 85418044 | AC24: =ROUND((S24*F24),0) -> 89518108 | AD24: =ROUND((S24*F24),0)*2 -> 179036216 | AE24: =ROUND((S24*F24),0)*1 -> 89518108 | AF24: =ROUND((S24*F24),0)*7 -> 626626756 | AG24: =ROUND((S24*F24),0)*1 -> 89518108 | AH24: =ROUND((T24*G24),0)*1 -> 93814980 | AI24: =ROUND((T24*G24),0)*1 -> 93814980 | AJ24: =ROUND((T24*G24),0)*1 -> 93814980 | AK24: =ROUND((T24*G24),0)*8 -> 750519840 | AL24: =ROUND((T24*G24),0) -> 93814980 | AM24: =ROUND((U24*H24),0) -> 98318096 | AN24: =ROUND((U24*H24),0)*2 -> 196636192 | AO24: =ROUND((U24*H24),0) -> 98318096 | AP24: =ROUND((U24*H24),0)*3 -> 294954288 | AQ24: =+V24 -> 80171204 | AR24: =ROUND((SUM(W24:AB24)),0) -> 1016624808 | AS24: =SUM(AC24:AG24) -> 1074217296 | AT24: =SUM(AH24:AL24) -> 1125779760 | AU24: =SUM(AM24:AP24) -> 688226672 | AV24: =+AR24+AQ24+AS24+AT24+AU24 -> 3985019740
A25: 5 | B25: E | C25: Servicio de vigilancia física con medio humano, Sin arma, sin canino, con jornada labora mes /24 horas | D25: 1 | E25: 1 | F25: 1 | G25: 1 | H25: 1 | I25: 0.08 | J25: =+J19 -> 17876740 | K25: =+K24 -> 4249.6667 | L25: =+J25+K25 -> 17880990 | M25: =+(J25+K25)*I25 -> 1430479.2 | N25: =(L25+M25)*10% -> 1931146.9 | O25: =N25*$J$14 -> 366917.91 | P25: =ROUND((L25+M25+O25),0) -> 19678387 | Q25: =+P25*1.048 -> 20622950 | R25: =+Q25*1.01664637847922 -> 20966247 | S25: =ROUND((R25*1.048),0) -> 21972627 | T25: =ROUND((S25*1.048),0) -> 23027313 | U25: =ROUND((T25*1.048),0) -> 24132624 | V25: =+P25*D25 -> 19678387 | W25: =ROUND((Q25*E25),0) -> 20622950 | X25: =ROUND((Q25*E25),0) -> 20622950 | Y25: =Q25*E25 -> 20622950 | Z25: =ROUND((Q25*E25),0)*3 -> 61868850 | AA25: =ROUND((R25*E25),0)*5 -> 104831235 | AB25: =ROUND((R25*E25),0) -> 20966247 | AC25: =ROUND((S25*F25),0) -> 21972627 | AD25: =ROUND((S25*F25),0)*2 -> 43945254 | AE25: =ROUND((S25*F25),0)*1 -> 21972627 | AF25: =ROUND((S25*F25),0)*7 -> 153808389 | AG25: =ROUND((S25*F25),0)*1 -> 21972627 | AH25: =ROUND((T25*G25),0)*1 -> 23027313 | AI25: =ROUND((T25*G25),0)*1 -> 23027313 | AJ25: =ROUND((T25*G25),0)*1 -> 23027313 | AK25: =ROUND((T25*G25),0)*8 -> 184218504 | AL25: =ROUND((T25*G25),0) -> 23027313 | AM25: =ROUND((U25*H25),0) -> 24132624 | AN25: =ROUND((U25*H25),0)*2 -> 48265248 | AO25: =ROUND((U25*H25),0) -> 24132624 | AP25: =ROUND((U25*H25),0)*3 -> 72397872 | AQ25: =+V25 -> 19678387 | AR25: =ROUND((SUM(W25:AB25)),0) -> 249535182 | AS25: =SUM(AC25:AG25) -> 263671524 | AT25: =SUM(AH25:AL25) -> 276327756 | AU25: =SUM(AM25:AP25) -> 168928368 | AV25: =+AR25+AQ25+AS25+AT25+AU25 -> 978141217
A26: 6 | B26: G | C26: Servicio de vigilancia física con medio humano, sin arma, sin canino, con jornada de 15 horas (7:00 a.m. a 10:00 p.m.) de lunes a viernes laborales. Y jornada de 6 horas (7:00 am a 1:00 pm) los sábados | D26: 1 | E26: 1 | F26: 1 | G26: 1 | H26: 1 | I26: 0.08 | J26: =+((((((1750905*10.21))*47.59%)/30)*20)/13)*12+((((((1750905*10.21))*52.41%)/30)*20)/11)*3+((((((1750905*10.21))*47.59%)/30)*4)/13)*6 -> 7462441.4 | K26: =+'ESTUDIO DE MERCADO'!W10 -> 2106.3333 | L26: =+J26+K26 -> 7464547.7 | M26: =+(J26+K26)*I26 -> 597163.82 | N26: =(L26+M26)*10% -> 806171.15 | O26: =N26*$J$14 -> 153172.52 | P26: =ROUND((L26+M26+O26),0) -> 8214884 | Q26: =+P26*1.048 -> 8609198.4 | R26: =+Q26*1.01664563421692 -> 8752504 | S26: =ROUND((R26*1.048),0) -> 9172624 | T26: =ROUND((S26*1.048),0) -> 9612910 | U26: =ROUND((T26*1.048),0) -> 10074330 | V26: =+P26*D26 -> 8214884 | W26: =ROUND((Q26*E26),0) -> 8609198 | X26: =ROUND((Q26*E26),0) -> 8609198 | Y26: =Q26*E26 -> 8609198.4 | Z26: =ROUND((Q26*E26),0)*3 -> 25827594 | AA26: =ROUND((R26*E26),0)*5 -> 43762520 | AB26: =ROUND((R26*E26),0) -> 8752504 | AC26: =ROUND((S26*F26),0) -> 9172624 | AD26: =ROUND((S26*F26),0)*2 -> 18345248 | AE26: =ROUND((S26*F26),0)*1 -> 9172624 | AF26: =ROUND((S26*F26),0)*7 -> 64208368 | AG26: =ROUND((S26*F26),0)*1 -> 9172624 | AH26: =ROUND((T26*G26),0)*1 -> 9612910 | AI26: =ROUND((T26*G26),0)*1 -> 9612910 | AJ26: =ROUND((T26*G26),0)*1 -> 9612910 | AK26: =ROUND((T26*G26),0)*8 -> 76903280 | AL26: =ROUND((T26*G26),0) -> 9612910 | AM26: =ROUND((U26*H26),0) -> 10074330 | AN26: =ROUND((U26*H26),0)*2 -> 20148660 | AO26: =ROUND((U26*H26),0) -> 10074330 | AP26: =ROUND((U26*H26),0)*3 -> 30222990 | AQ26: =+V26 -> 8214884 | AR26: =ROUND((SUM(W26:AB26)),0) -> 104170212 | AS26: =SUM(AC26:AG26) -> 110071488 | AT26: =SUM(AH26:AL26) -> 115354920 | AU26: =SUM(AM26:AP26) -> 70520310 | AV26: =+AR26+AQ26+AS26+AT26+AU26 -> 408331814
B27: Total | D27: =SUM(D19:D26) -> 19 | E27: =SUM(E19:E26) -> 19 | F27: =SUM(F19:F26) -> 19 | G27: =SUM(G19:G26) -> 19 | H27: =SUM(H19:H26) -> 19 | P27: =SUM(P19:P26) -> 85930690 | Q27: =SUM(Q19:Q26) -> 90055363 | R27: =SUM(R19:R26) -> 91554419 | S27: =SUM(S19:S26) -> 95949030 | T27: =SUM(T19:T26) -> 100554584 | U27: =SUM(U19:U26) -> 105381203 | V27: =SUM(V19:V26) -> 1.9130353e+08 | W27: =SUM(W19:W26) -> 201995661 | ... AV27: =SUM(AV19:AV26) -> 9913517474
A32: Nota 1: | B32: Los Servicios de Vigilancia a contratar en el archipielago de San andres islas estan excluidos del Impuesto a las ventas según lo establecido en el ART.22 Ley 47 de 1993
A33: Nota 2: | B33: del 20 al 31 de diciembre de 2026 , se suspende un (01) Servicio de vigilancia física con medio humano, sin arma, sin canino, con jornada de 12 horas (7:00 a.m. a 7:00 p.m.) de lunes a viernes laborales.
A34: Nota 3: | B34: del 20 al 31 de diciembre de 2026 , se suspende cuatro (04) Servicio de vigilancia física con medio humano, sin arma, sin canino, con jornada de 12 horas (7:00 a.m. a 7:00 p.m.) de lunes a viernes laborales. Y jornada de 6 horas (7:00 am a 1:00 pm) los sábados
A35: Nota 4: | B35: del 01 al 12 de enero de 2027, se suspende un (01) Servicio de vigilancia física con medio humano, sin arma, sin canino, con jornada de 12 horas (7:00 a.m. a 7:00 p.m.) de lunes a viernes laborales.
A36: Nota 5: | B36: del 01 al 12 de enero de 2027 , se suspende cuatro (04) Servicio de vigilancia física con medio humano, sin arma, sin canino, con jornada de 12 horas (7:00 a.m. a 7:00 p.m.) de lunes a viernes laborales. Y jornada de 6 horas (7:00 am a 1:00 pm) los sábados
A37: Nota 6: | B37: del 22 de Marzo de 2027 al 28 de Marzo de 2027, se suspende dos (02) Servicio de vigilancia física con medio humano, sin arma, sin canino, con jornada de 12 horas (7:00 a.m. a 7:00 p.m.) de lunes a viernes laborales.
A38: Nota 7: | B38: del 22 de Marzo de 2027 al 28 de Marzo de 2027 , se suspende cinco (05) Servicio de vigilancia física con medio humano, sin arma, sin canino, con jornada de 12 horas (7:00 a.m. a 7:00 p.m.) de lunes a viernes laborales. Y jornada de 6 horas (7:00 am a 1:00 pm) los sábados
A39: Nota 8: | B39: del 20 al 31 de diciembre de 2027 , se suspende un (01) Servicio de vigilancia física con medio humano, sin arma, sin canino, con jornada de 12 horas (7:00 a.m. a 7:00 p.m.) de lunes a viernes laborales.
A40: Nota 9: | B40: del 20 al 31 de diciembre de 2027 , se suspende cuatro (04) Servicio de vigilancia física con medio humano, sin arma, sin canino, con jornada de 12 horas (7:00 a.m. a 7:00 p.m.) de lunes a viernes laborales. Y jornada de 6 horas (7:00 am a 1:00 pm) los sábados
A41: Nota 10: | B41: del 01 al 10 de enero de 2028, se suspende un (01) Servicio de vigilancia física con medio humano, sin arma, sin canino, con jornada de 12 horas (7:00 a.m. a 7:00 p.m.) de lunes a viernes laborales.
A42: Nota 11: | B42: del 01 al 10 de enero de 2028 , se suspende cuatro (04) Servicio de vigilancia física con medio humano, sin arma, sin canino, con jornada de 12 horas (7:00 a.m. a 7:00 p.m.) de lunes a viernes laborales. Y jornada de 6 horas (7:00 am a 1:00 pm) los sábados
A43: Nota 12: | B43: del 10 de Abril de 2028 al 16 de abril de 2027, se suspende dos (02) Servicio de vigilancia física con medio humano, sin arma, sin canino, con jornada de 12 horas (7:00 a.m. a 7:00 p.m.) de lunes a viernes laborales.
... A56: Nota 25: | B56: del 15 de Abril de 2030 al 21 de abril de 2030 , se suspende cinco (05) Servicio de vigilancia física con medio humano, sin arma, sin canino, con jornada de 12 horas (7:00 a.m. a 7:00 p.m.) de lunes a viernes laborales. Y jornada de 6 horas (7:00 am a 1:00 pm) los sábados
