Workbook
Name \0: #REF!
Name \00: #REF!
Name \a: #REF!
Name \a: #REF!
Name \AA: #REF!
Name \b: #REF!
Name \bb: #REF!
Name \E: #REF!
Name \EE: #REF!
Name \G: #REF!
Name \k: #REF!
Name \l: #REF!
Name \M: #REF!
Name \ñ: #REF!
Name \P: #REF!
Name \R: #REF!
Name \s: #REF!
Name \s: #REF!
Name \V: #REF!
Name \X: 'APU CAP #'!ERR
Name \X: [0]!ERR
Name \Z: 'APU CAP #'!ERR
Name \Z: [0]!ERR
Name _________AFC1: #REF!
Name _________AFC3: #REF!
Name _________AFC5: #REF!
Name _________BGC1: #REF!
Name _________BGC3: #REF!
Name _________BGC5: #REF!
Name _________CAC1: #REF!
Name _________CAC3: #REF!
Name _________CAC5: #REF!
Name _________PJ50: #REF!
Name _________PJ50: #REF!
Name _________SBC1: #REF!
Name _________SBC3: #REF!
Name _________SBC5: #REF!
Name ________AFC1: #REF!
Name ________AFC3: #REF!
Name ________AFC5: #REF!
Name ________BGC1: #REF!
Name ________BGC3: #REF!
Name ________BGC5: #REF!
Name ________CAC1: #REF!
Name ________CAC3: #REF!
Name ________CAC5: #REF!
Name ________MA2: #REF!
Name ________MA2: #REF!
Name ________PJ50: #REF!
Name ________PJ50: #REF!
Name ________SBC1: #REF!
Name ________SBC3: #REF!
Name ________SBC5: #REF!
Name _______AFC1: #REF!
Name _______AFC3: #REF!
Name _______AFC5: #REF!
Name _______BGC1: #REF!
Name _______BGC3: #REF!
Name _______BGC5: #REF!
Name _______CAC1: #REF!

Sheet PRESUPUESTO CAM y CAD
C3: Formulario 1 - Propuesta económica - Licitación de obra pública de infraestructura social
D4: Version 2 del 21 de agosto de 2025
C6: FORMULARIO 1
C7: PROPUESTA ECONÓMICA
C8: [La Entidad puede utilizar este Formulario de presentación de Propuesta Económica de forma detallada, sin perjuicio que la Entidad pueda modificarlo o establecer la presentación de la oferta económica con un Formulario distinto al indicado.] [Los Proponentes emplearán el Formulario establecido por la Entidad para determinar su propuesta económica conforme al Formulario 1 - Presupuesto Oficial publicado por la Entidad] [En caso de modificar el formulario, es importante tener en cuenta que no se deben incluir causales de rechazo, reglas o parámetros contrarios a los definidos en el documento base. Los términos el proceso solo se encuentran en el Documento Base, por lo que la Entidad no deberá incluir ningún tipo de notas que se configuren en reglas contrarias a las definidas en dicho documento, las notas únicamente pueden ser aclaratorias para efectos del diligenciamiento del formato]
C10: Cuando el Proceso de Contratación es estructurado por Precios Unitarios, la Entidad debe aplicar las notas 1, 2 y 3 del presente formato y las casillas de "Descripción", "Porcentaje" de la Administración, Imprevisto, Utilidad y total A.I.U. resaltadas en color amarillo.
C12: Nº | D12: ÍTEM DE PAGO | E12: ESPECIFICACIONES | G12: DESCRIPCIÓN | H12: UND | I12: CANTIDAD | J12: VALOR UNITARIO | K12: VALOR TOTAL | N12: VALOR UNITARIO CON AIU O CON IVA | O12: VALOR UNITARIO CON AIU O CON IVA (CORREGIDO) | P12: VALOR TOTAL | Q12: VALOR TOTAL (CORREGIDO) | R12: VERIFICACIÓN
E13: GENERAL | F13: ICCU
C14: CONSTRUCCIÓN DE LA AMPLIACIÓN DEL CENTRO DEL ADULTO MAYOR DEL MUNICIPIO DE MOSQUERA, CUNDINAMARCA
C15: 1- PRELIMINARES, DEMOLICIONES Y DESMONTE
C16: 1.01 | D16: =IFERROR(VLOOKUP(G16,'LISTA ICCU 2026'!$D$6:$G$1065,4,FALSE),"APU - "&INT(C16)&"."&TEXT(ROUND((C16-INT(C16))*100,0),"00")) -> 1,1 - C | E16: =C16 -> 1.01 | F16: =IF(D16="APU - "&INT(C16)&"."&TEXT(ROUND((C16-INT(C16))*100,0),"00"),"N/A",IFERROR(VLOOKUP(G16,'LISTA ICCU 2026'!$D$6:$G$1065,4,FALSE),"N/A")) -> 1,1 - C | G16: CAMPAMENTO 18M2 EN TABLA, TEJA DE ETERNIT, INC. TRANS, MATERIALES | H16: =IFERROR(VLOOKUP(G16,'LISTA ICCU 2026'!$D$6:$H$1065,2,FALSE),"NO ") -> UN | I16: 1 | J16: =ROUNDUP(IFERROR(VLOOKUP(G16,'LISTA ICCU 2026'!$D$6:$H$1065,3,FALSE),"NO ")*1.3,0) -> 4188197 | K16: =J16*I16 -> 4188197 | O16: =+ROUND(N16,2) -> 0 | P16: =+N16*I16 -> 0 | Q16: =ROUND(O16*I16,2) -> 0 | R16: =IF(OR(O16<=0,O16>J16,Q16<=0,Q16>K16,$R$777="NO CUMPLE"),"NO CUMPLE","CUMPLE") -> NO CUMPLE
C17: =C16+0.01 -> 1.02 | D17: =IFERROR(VLOOKUP(G17,'LISTA ICCU 2026'!$D$6:$G$1065,4,FALSE),"APU - "&INT(C17)&"."&TEXT(ROUND((C17-INT(C17))*100,0),"00")) -> 1,8 - C | E17: =C17 -> 1.02 | F17: =IF(D17="APU - "&INT(C17)&"."&TEXT(ROUND((C17-INT(C17))*100,0),"00"),"N/A",IFERROR(VLOOKUP(G17,'LISTA ICCU 2026'!$D$6:$G$1065,4,FALSE),"N/A")) -> 1,8 - C | G17: CERCA EN TELA VERDE H = 2.10 M | H17: =IFERROR(VLOOKUP(G17,'LISTA ICCU 2026'!$D$6:$H$1065,2,FALSE),"NO ") -> ML | I17: 145.98 | J17: =ROUNDUP(IFERROR(VLOOKUP(G17,'LISTA ICCU 2026'!$D$6:$H$1065,3,FALSE),"NO ")*1.3,0) -> 44867 | K17: =J17*I17 -> 6549684.7 | O17: =+ROUND(N17,2) -> 0 | P17: =+N17*I17 -> 0 | Q17: =ROUND(O17*I17,2) -> 0 | R17: =IF(OR(O17<=0,O17>J17,Q17<=0,Q17>K17,$R$777="NO CUMPLE"),"NO CUMPLE","CUMPLE") -> NO CUMPLE
C18: =C17+0.01 -> 1.03 | D18: =IFERROR(VLOOKUP(G18,'LISTA ICCU 2026'!$D$6:$G$1065,4,FALSE),"APU - "&INT(C18)&"."&TEXT(ROUND((C18-INT(C18))*100,0),"00")) -> 1,31 - C | E18: =C18 -> 1.03 | F18: =IF(D18="APU - "&INT(C18)&"."&TEXT(ROUND((C18-INT(C18))*100,0),"00"),"N/A",IFERROR(VLOOKUP(G18,'LISTA ICCU 2026'!$D$6:$G$1065,4,FALSE),"N/A")) -> 1,31 - C | G18: DESCAPOTE MANUAL Y RETIRO E= 0.20 M APILE A 15 M | H18: =IFERROR(VLOOKUP(G18,'LISTA ICCU 2026'!$D$6:$H$1065,2,FALSE),"NO ") -> M2 | I18: 1190.55 | J18: =ROUNDUP(IFERROR(VLOOKUP(G18,'LISTA ICCU 2026'!$D$6:$H$1065,3,FALSE),"NO ")*1.3,0) -> 15407 | K18: =J18*I18 -> 18342804 | O18: =+ROUND(N18,2) -> 0 | P18: =+N18*I18 -> 0 | Q18: =ROUND(O18*I18,2) -> 0 | R18: =IF(OR(O18<=0,O18>J18,Q18<=0,Q18>K18,$R$777="NO CUMPLE"),"NO CUMPLE","CUMPLE") -> NO CUMPLE
C19: =C18+0.01 -> 1.04 | D19: =IFERROR(VLOOKUP(G19,'LISTA ICCU 2026'!$D$6:$G$1065,4,FALSE),"APU - "&INT(C19)&"."&TEXT(ROUND((C19-INT(C19))*100,0),"00")) -> 1,41 - C | E19: =C19 -> 1.04 | F19: =IF(D19="APU - "&INT(C19)&"."&TEXT(ROUND((C19-INT(C19))*100,0),"00"),"N/A",IFERROR(VLOOKUP(G19,'LISTA ICCU 2026'!$D$6:$G$1065,4,FALSE),"N/A")) -> 1,41 - C | G19: LOCALIZACIÓN Y REPLANTEO DE CIMIENTOS CON ELEMENTOS DE PRESICIÓN | H19: =IFERROR(VLOOKUP(G19,'LISTA ICCU 2026'!$D$6:$H$1065,2,FALSE),"NO ") -> M2 | I19: 789.89 | J19: =ROUNDUP(IFERROR(VLOOKUP(G19,'LISTA ICCU 2026'!$D$6:$H$1065,3,FALSE),"NO ")*1.3,0) -> 8660 | K19: =J19*I19 -> 6840447.4 | O19: =+ROUND(N19,2) -> 0 | P19: =+N19*I19 -> 0 | Q19: =ROUND(O19*I19,2) -> 0 | R19: =IF(OR(O19<=0,O19>J19,Q19<=0,Q19>K19,$R$777="NO CUMPLE"),"NO CUMPLE","CUMPLE") -> NO CUMPLE
C20: =C19+0.01 -> 1.05 | D20: =IFERROR(VLOOKUP(G20,'LISTA ICCU 2026'!$D$6:$G$1065,4,FALSE),"APU - "&INT(C20)&"."&TEXT(ROUND((C20-INT(C20))*100,0),"00")) -> 1,42 - C | E20: =C20 -> 1.05 | F20: =IF(D20="APU - "&INT(C20)&"."&TEXT(ROUND((C20-INT(C20))*100,0),"00"),"N/A",IFERROR(VLOOKUP(G20,'LISTA ICCU 2026'!$D$6:$G$1065,4,FALSE),"N/A")) -> 1,42 - C | G20: REPLANTEO MANUAL DE CIMIENTOS | H20: =IFERROR(VLOOKUP(G20,'LISTA ICCU 2026'!$D$6:$H$1065,2,FALSE),"NO ") -> M2 | I20: 789.89 | J20: =ROUNDUP(IFERROR(VLOOKUP(G20,'LISTA ICCU 2026'!$D$6:$H$1065,3,FALSE),"NO ")*1.3,0) -> 6404 | K20: =J20*I20 -> 5058455.6 | O20: =+ROUND(N20,2) -> 0 | P20: =+N20*I20 -> 0 | Q20: =ROUND(O20*I20,2) -> 0 | R20: =IF(OR(O20<=0,O20>J20,Q20<=0,Q20>K20,$R$777="NO CUMPLE"),"NO CUMPLE","CUMPLE") -> NO CUMPLE
C21: =C20+0.01 -> 1.06 | D21: =IFERROR(VLOOKUP(G21,'LISTA ICCU 2026'!$D$6:$G$1065,4,FALSE),"APU - "&INT(C21)&"."&TEXT(ROUND((C21-INT(C21))*100,0),"00")) -> 1,43 - C | E21: =C21 -> 1.06 | F21: =IF(D21="APU - "&INT(C21)&"."&TEXT(ROUND((C21-INT(C21))*100,0),"00"),"N/A",IFERROR(VLOOKUP(G21,'LISTA ICCU 2026'!$D$6:$G$1065,4,FALSE),"N/A")) -> 1,43 - C | G21: RED ELÉCTRICA PROVISIONAL L=50M | H21: =IFERROR(VLOOKUP(G21,'LISTA ICCU 2026'!$D$6:$H$1065,2,FALSE),"NO ") -> UN | I21: 1 | J21: =ROUNDUP(IFERROR(VLOOKUP(G21,'LISTA ICCU 2026'!$D$6:$H$1065,3,FALSE),"NO ")*1.3,0) -> 5555043 | K21: =J21*I21 -> 5555043 | O21: =+ROUND(N21,2) -> 0 | P21: =+N21*I21 -> 0 | Q21: =ROUND(O21*I21,2) -> 0 | R21: =IF(OR(O21<=0,O21>J21,Q21<=0,Q21>K21,$R$777="NO CUMPLE"),"NO CUMPLE","CUMPLE") -> NO CUMPLE
C22: =C21+0.01 -> 1.07 | D22: =IFERROR(VLOOKUP(G22,'LISTA ICCU 2026'!$D$6:$G$1065,4,FALSE),"APU - "&INT(C22)&"."&TEXT(ROUND((C22-INT(C22))*100,0),"00")) -> 11,1 - C | E22: =C22 -> 1.07 | F22: =IF(D22="APU - "&INT(C22)&"."&TEXT(ROUND((C22-INT(C22))*100,0),"00"),"N/A",IFERROR(VLOOKUP(G22,'LISTA ICCU 2026'!$D$6:$G$1065,4,FALSE),"N/A")) -> 11,1 - C | G22: ACOMETIDA EN PVC 1/2" 5M. INC CHEQUE , REGISTRO, ACCESORIOS | H22: =IFERROR(VLOOKUP(G22,'LISTA ICCU 2026'!$D$6:$H$1065,2,FALSE),"NO ") -> UN | I22: 1 | J22: =ROUNDUP(IFERROR(VLOOKUP(G22,'LISTA ICCU 2026'!$D$6:$H$1065,3,FALSE),"NO ")*1.3,0) -> 494247 | K22: =J22*I22 -> 494247 | O22: =+ROUND(N22,2) -> 0 | P22: =+N22*I22 -> 0 | Q22: =ROUND(O22*I22,2) -> 0 | R22: =IF(OR(O22<=0,O22>J22,Q22<=0,Q22>K22,$R$777="NO CUMPLE"),"NO CUMPLE","CUMPLE") -> NO CUMPLE
K23: =SUM(K16:K22) -> 47028878 | Q23: =+SUM(Q16:Q22) -> 0
C24: 2- EXCAVACIONES Y RELLENOS
C25: 2.01 | D25: =IFERROR(VLOOKUP(G25,'LISTA ICCU 2026'!$D$6:$G$1065,4,FALSE),"APU - "&INT(C25)&"."&TEXT(ROUND((C25-INT(C25))*100,0),"00")) -> 16,2 - C | E25: =C25 -> 2.01 | F25: =IF(D25="APU - "&INT(C25)&"."&TEXT(ROUND((C25-INT(C25))*100,0),"00"),"N/A",IFERROR(VLOOKUP(G25,'LISTA ICCU 2026'!$D$6:$G$1065,4,FALSE),"N/A")) -> 16,2 - C | G25: EXCAVACIONES VARIAS A MÁQUINA SIN CLASIFICAR (INCLUYE RETIRO DE SOBRANTES A UNA DISTANCIA MENOR DE 5 KM) | H25: =IFERROR(VLOOKUP(G25,'LISTA ICCU 2026'!$D$6:$H$1065,2,FALSE),"NO ") -> M3 | I25: 631.92 | J25: =ROUNDUP(IFERROR(VLOOKUP(G25,'LISTA ICCU 2026'!$D$6:$H$1065,3,FALSE),"NO ")*1.3,0) -> 28465 | K25: =J25*I25 -> 17987603 | O25: =+ROUND(N25,2) -> 0 | P25: =+N25*I25 -> 0 | Q25: =ROUND(O25*I25,2) -> 0 | R25: =IF(OR(O25<=0,O25>J25,Q25<=0,Q25>K25,$R$777="NO CUMPLE"),"NO CUMPLE","CUMPLE") -> NO CUMPLE
C26: =C25+0.01 -> 2.02 | D26: =IFERROR(VLOOKUP(G26,'LISTA ICCU 2026'!$D$6:$G$1065,4,FALSE),"APU - "&INT(C26)&"."&TEXT(ROUND((C26-INT(C26))*100,0),"00")) -> 16,5 - C | E26: =C26 -> 2.02 | F26: =IF(D26="APU - "&INT(C26)&"."&TEXT(ROUND((C26-INT(C26))*100,0),"00"),"N/A",IFERROR(VLOOKUP(G26,'LISTA ICCU 2026'!$D$6:$G$1065,4,FALSE),"N/A")) -> 16,5 - C | G26: EXCAVACIÓN MANUAL EN CONGLOMERADO H=0.0-2.0 M (INCLUYE RETIRO DE SOBRANTES A UNA DISTANCIA MENOR DE 5 KM) | H26: =IFERROR(VLOOKUP(G26,'LISTA ICCU 2026'!$D$6:$H$1065,2,FALSE),"NO ") -> M3 | I26: 136.73 | J26: =ROUNDUP(IFERROR(VLOOKUP(G26,'LISTA ICCU 2026'!$D$6:$H$1065,3,FALSE),"NO ")*1.3,0) -> 105882 | K26: =J26*I26 -> 14477246 | O26: =+ROUND(N26,2) -> 0 | P26: =+N26*I26 -> 0 | Q26: =ROUND(O26*I26,2) -> 0 | R26: =IF(OR(O26<=0,O26>J26,Q26<=0,Q26>K26,$R$777="NO CUMPLE"),"NO CUMPLE","CUMPLE") -> NO CUMPLE
C27: =C26+0.01 -> 2.03 | D27: =IFERROR(VLOOKUP(G27,'LISTA ICCU 2026'!$D$6:$G$1065,4,FALSE),"APU - "&INT(C27)&"."&TEXT(ROUND((C27-INT(C27))*100,0),"00")) -> 16,8 - C | E27: =C27 -> 2.03 | F27: =IF(D27="APU - "&INT(C27)&"."&TEXT(ROUND((C27-INT(C27))*100,0),"00"),"N/A",IFERROR(VLOOKUP(G27,'LISTA ICCU 2026'!$D$6:$G$1065,4,FALSE),"N/A")) -> 16,8 - C | G27: RELLENO EN RECEBO COMÚN COMPACTADO MECÁNICAMENTE | H27: =IFERROR(VLOOKUP(G27,'LISTA ICCU 2026'!$D$6:$H$1065,2,FALSE),"NO ") -> M3 | I27: 159.22 | J27: =ROUNDUP(IFERROR(VLOOKUP(G27,'LISTA ICCU 2026'!$D$6:$H$1065,3,FALSE),"NO ")*1.3,0) -> 123844 | K27: =J27*I27 -> 19718442 | O27: =+ROUND(N27,2) -> 0 | P27: =+N27*I27 -> 0 | Q27: =ROUND(O27*I27,2) -> 0 | R27: =IF(OR(O27<=0,O27>J27,Q27<=0,Q27>K27,$R$777="NO CUMPLE"),"NO CUMPLE","CUMPLE") -> NO CUMPLE
C28: =C27+0.01 -> 2.04 | D28: =IFERROR(VLOOKUP(G28,'LISTA ICCU 2026'!$D$6:$G$1065,4,FALSE),"APU - "&INT(C28)&"."&TEXT(ROUND((C28-INT(C28))*100,0),"00")) -> 1,6 - V | E28: =C28 -> 2.04 | F28: =IF(D28="APU - "&INT(C28)&"."&TEXT(ROUND((C28-INT(C28))*100,0),"00"),"N/A",IFERROR(VLOOKUP(G28,'LISTA ICCU 2026'!$D$6:$G$1065,4,FALSE),"N/A")) -> 1,6 - V | G28: TRANSPORTE DE MATERIALES PROV. DE EXPLANACIÓN, CANALES, PRESTAMOS, SOBREACARREOS Y DERRUMBES | H28: =IFERROR(VLOOKUP(G28,'LISTA ICCU 2026'!$D$6:$H$1065,2,FALSE),"NO ") -> M3-KM | I28: 7686.48 | J28: =ROUNDUP(IFERROR(VLOOKUP(G28,'LISTA ICCU 2026'!$D$6:$H$1065,3,FALSE),"NO ")*1.3,0) -> 2370 | K28: =J28*I28 -> 18216958 | O28: =+ROUND(N28,2) -> 0 | P28: =+N28*I28 -> 0 | Q28: =ROUND(O28*I28,2) -> 0 | R28: =IF(OR(O28<=0,O28>J28,Q28<=0,Q28>K28,$R$777="NO CUMPLE"),"NO CUMPLE","CUMPLE") -> NO CUMPLE
C29: Subtotal | K29: =SUM(K25:K28) -> 70400248 | Q29: =+SUM(Q25:Q28) -> 0
C30: 3- CIMENTACIONES EN CONCRETO
C31: 3.01 | D31: =IFERROR(VLOOKUP(G31,'LISTA ICCU 2026'!$D$6:$G$1065,4,FALSE),"APU - "&INT(C31)&"."&TEXT(ROUND((C31-INT(C31))*100,0),"00")) -> 4,29 - C | E31: =C31 -> 3.01 | F31: =IF(D31="APU - "&INT(C31)&"."&TEXT(ROUND((C31-INT(C31))*100,0),"00"),"N/A",IFERROR(VLOOKUP(G31,'LISTA ICCU 2026'!$D$6:$G$1065,4,FALSE),"N/A")) -> 4,29 - C | G31: BASE EN CONCRETO POBRE 1500 PSI | H31: =IFERROR(VLOOKUP(G31,'LISTA ICCU 2026'!$D$6:$H$1065,2,FALSE),"NO ") -> M3 | I31: 12.87 | J31: =ROUNDUP(IFERROR(VLOOKUP(G31,'LISTA ICCU 2026'!$D$6:$H$1065,3,FALSE),"NO ")*1.3,0) -> 671943 | K31: =J31*I31 -> 8647906.4 | O31: =+ROUND(N31,2) -> 0 | P31: =+N31*I31 -> 0 | Q31: =ROUND(O31*I31,2) -> 0 | R31: =IF(OR(O31<=0,O31>J31,Q31<=0,Q31>K31,$R$777="NO CUMPLE"),"NO CUMPLE","CUMPLE") -> NO CUMPLE
C32: =C31+0.01 -> 3.02 | D32: =IFERROR(VLOOKUP(G32,'LISTA ICCU 2026'!$D$6:$G$1065,4,FALSE),"APU - "&INT(C32)&"."&TEXT(ROUND((C32-INT(C32))*100,0),"00")) -> APU - 3.02 | E32: =C32 -> 3.02 | F32: =IF(D32="APU - "&INT(C32)&"."&TEXT(ROUND((C32-INT(C32))*100,0),"00"),"N/A",IFERROR(VLOOKUP(G32,'LISTA ICCU 2026'!$D$6:$G$1065,4,FALSE),"N/A")) -> N/A | G32: SUMINISTRO Y TENDIDA DE POLIETILENO NEGRO CALIBRE 7, INCLUYE CORTE, TRASLAPE, FIJACIÓN | H32: M2 | I32: 777.82 | J32: 13263 | K32: =J32*I32 -> 10316227 | O32: =+ROUND(N32,2) -> 0 | P32: =+N32*I32 -> 0 | Q32: =ROUND(O32*I32,2) -> 0 | R32: =IF(OR(O32<=0,O32>J32,Q32<=0,Q32>K32,$R$777="NO CUMPLE"),"NO CUMPLE","CUMPLE") -> NO CUMPLE
C33: =C32+0.01 -> 3.03 | D33: =IFERROR(VLOOKUP(G33,'LISTA ICCU 2026'!$D$6:$G$1065,4,FALSE),"APU - "&INT(C33)&"."&TEXT(ROUND((C33-INT(C33))*100,0),"00")) -> 2,7 - C | E33: =C33 -> 3.03 | F33: =IF(D33="APU - "&INT(C33)&"."&TEXT(ROUND((C33-INT(C33))*100,0),"00"),"N/A",IFERROR(VLOOKUP(G33,'LISTA ICCU 2026'!$D$6:$G$1065,4,FALSE),"N/A")) -> 2,7 - C | G33: VIGA DE AMARRE EN CONCRETO 3500 PSI | H33: =IFERROR(VLOOKUP(G33,'LISTA ICCU 2026'!$D$6:$H$1065,2,FALSE),"NO ") -> M3 | I33: 44.92 | J33: =ROUNDUP(IFERROR(VLOOKUP(G33,'LISTA ICCU 2026'!$D$6:$H$1065,3,FALSE),"NO ")*1.3,0) -> 1355488 | K33: =J33*I33 -> 60888521 | O33: =+ROUND(N33,2) -> 0 | P33: =+N33*I33 -> 0 | Q33: =ROUND(O33*I33,2) -> 0 | R33: =IF(OR(O33<=0,O33>J33,Q33<=0,Q33>K33,$R$777="NO CUMPLE"),"NO CUMPLE","CUMPLE") -> NO CUMPLE
C34: =C33+0.01 -> 3.04 | D34: =IFERROR(VLOOKUP(G34,'LISTA ICCU 2026'!$D$6:$G$1065,4,FALSE),"APU - "&INT(C34)&"."&TEXT(ROUND((C34-INT(C34))*100,0),"00")) -> 2,8 - C | E34: =C34 -> 3.04 | F34: =IF(D34="APU - "&INT(C34)&"."&TEXT(ROUND((C34-INT(C34))*100,0),"00"),"N/A",IFERROR(VLOOKUP(G34,'LISTA ICCU 2026'!$D$6:$G$1065,4,FALSE),"N/A")) -> 2,8 - C | G34: ZAPATAS EN CONCRETO 3500 PSI | H34: =IFERROR(VLOOKUP(G34,'LISTA ICCU 2026'!$D$6:$H$1065,2,FALSE),"NO ") -> M3 | I34: 66.75 | J34: =ROUNDUP(IFERROR(VLOOKUP(G34,'LISTA ICCU 2026'!$D$6:$H$1065,3,FALSE),"NO ")*1.3,0) -> 1234681 | K34: =J34*I34 -> 82414957 | O34: =+ROUND(N34,2) -> 0 | P34: =+N34*I34 -> 0 | Q34: =ROUND(O34*I34,2) -> 0 | R34: =IF(OR(O34<=0,O34>J34,Q34<=0,Q34>K34,$R$777="NO CUMPLE"),"NO CUMPLE","CUMPLE") -> NO CUMPLE
C35: =C34+0.01 -> 3.05 | D35: =IFERROR(VLOOKUP(G35,'LISTA ICCU 2026'!$D$6:$G$1065,4,FALSE),"APU - "&INT(C35)&"."&TEXT(ROUND((C35-INT(C35))*100,0),"00")) -> 2,16 - C | E35: =C35 -> 3.05 | F35: =IF(D35="APU - "&INT(C35)&"."&TEXT(ROUND((C35-INT(C35))*100,0),"00"),"N/A",IFERROR(VLOOKUP(G35,'LISTA ICCU 2026'!$D$6:$G$1065,4,FALSE),"N/A")) -> 2,16 - C | G35: DADOS EN CONCRETO 3500PSI | H35: =IFERROR(VLOOKUP(G35,'LISTA ICCU 2026'!$D$6:$H$1065,2,FALSE),"NO ") -> M3 | I35: 5.5 | J35: =ROUNDUP(IFERROR(VLOOKUP(G35,'LISTA ICCU 2026'!$D$6:$H$1065,3,FALSE),"NO ")*1.3,0) -> 1234681 | K35: =J35*I35 -> 6790745.5 | O35: =+ROUND(N35,2) -> 0 | P35: =+N35*I35 -> 0 | Q35: =ROUND(O35*I35,2) -> 0 | R35: =IF(OR(O35<=0,O35>J35,Q35<=0,Q35>K35,$R$777="NO CUMPLE"),"NO CUMPLE","CUMPLE") -> NO CUMPLE
C36: =C35+0.01 -> 3.06 | D36: =IFERROR(VLOOKUP(G36,'LISTA ICCU 2026'!$D$6:$G$1065,4,FALSE),"APU - "&INT(C36)&"."&TEXT(ROUND((C36-INT(C36))*100,0),"00")) -> 4,22 - C | E36: =C36 -> 3.06 | F36: =IF(D36="APU - "&INT(C36)&"."&TEXT(ROUND((C36-INT(C36))*100,0),"00"),"N/A",IFERROR(VLOOKUP(G36,'LISTA ICCU 2026'!$D$6:$G$1065,4,FALSE),"N/A")) -> 4,22 - C | G36: ACERO FIGURADO 60000 PSI | H36: =IFERROR(VLOOKUP(G36,'LISTA ICCU 2026'!$D$6:$H$1065,2,FALSE),"NO ") -> KG | I36: 13312.29 | J36: =ROUNDUP(IFERROR(VLOOKUP(G36,'LISTA ICCU 2026'!$D$6:$H$1065,3,FALSE),"NO ")*1.3,0) -> 10989 | K36: =J36*I36 -> 1.4628875e+08 | O36: =+ROUND(N36,2) -> 0 | P36: =+N36*I36 -> 0 | Q36: =ROUND(O36*I36,2) -> 0 | R36: =IF(OR(O36<=0,O36>J36,Q36<=0,Q36>K36,$R$777="NO CUMPLE"),"NO CUMPLE","CUMPLE") -> NO CUMPLE
C37: =C36+0.01 -> 3.07 | D37: =IFERROR(VLOOKUP(G37,'LISTA ICCU 2026'!$D$6:$G$1065,4,FALSE),"APU - "&INT(C37)&"."&TEXT(ROUND((C37-INT(C37))*100,0),"00")) -> 4,23 - C | E37: =C37 -> 3.07 | F37: =IF(D37="APU - "&INT(C37)&"."&TEXT(ROUND((C37-INT(C37))*100,0),"00"),"N/A",IFERROR(VLOOKUP(G37,'LISTA ICCU 2026'!$D$6:$G$1065,4,FALSE),"N/A")) -> 4,23 - C | G37: REFUERZO MALLA ELECTROSOLDADA | H37: =IFERROR(VLOOKUP(G37,'LISTA ICCU 2026'!$D$6:$H$1065,2,FALSE),"NO ") -> KG | I37: 3002.39 | J37: =ROUNDUP(IFERROR(VLOOKUP(G37,'LISTA ICCU 2026'!$D$6:$H$1065,3,FALSE),"NO ")*1.3,0) -> 14412 | K37: =J37*I37 -> 43270445 | O37: =+ROUND(N37,2) -> 0 | P37: =+N37*I37 -> 0 | Q37: =ROUND(O37*I37,2) -> 0 | R37: =IF(OR(O37<=0,O37>J37,Q37<=0,Q37>K37,$R$777="NO CUMPLE"),"NO CUMPLE","CUMPLE") -> NO CUMPLE
C38: =C37+0.01 -> 3.08 | D38: =IFERROR(VLOOKUP(G38,'LISTA ICCU 2026'!$D$6:$G$1065,4,FALSE),"APU - "&INT(C38)&"."&TEXT(ROUND((C38-INT(C38))*100,0),"00")) -> 13,14 - C | E38: =C38 -> 3.08 | F38: =IF(D38="APU - "&INT(C38)&"."&TEXT(ROUND((C38-INT(C38))*100,0),"00"),"N/A",IFERROR(VLOOKUP(G38,'LISTA ICCU 2026'!$D$6:$G$1065,4,FALSE),"N/A")) -> 13,14 - C | G38: PLACA BASE CONCRETO 0.15 2500 PSI | H38: =IFERROR(VLOOKUP(G38,'LISTA ICCU 2026'!$D$6:$H$1065,2,FALSE),"NO ") -> M2 | I38: 777.82 | J38: =ROUNDUP(IFERROR(VLOOKUP(G38,'LISTA ICCU 2026'!$D$6:$H$1065,3,FALSE),"NO ")*1.3,0) -> 149412 | K38: =J38*I38 -> 1.1621564e+08 | O38: =+ROUND(N38,2) -> 0 | P38: =+N38*I38 -> 0 | Q38: =ROUND(O38*I38,2) -> 0 | R38: =IF(OR(O38<=0,O38>J38,Q38<=0,Q38>K38,$R$777="NO CUMPLE"),"NO CUMPLE","CUMPLE") -> NO CUMPLE
C39: =C38+0.01 -> 3.09 | D39: =IFERROR(VLOOKUP(G39,'LISTA ICCU 2026'!$D$6:$G$1065,4,FALSE),"APU - "&INT(C39)&"."&TEXT(ROUND((C39-INT(C39))*100,0),"00")) -> APU - 3.09 | E39: =C39 -> 3.09 | F39: =IF(D39="APU - "&INT(C39)&"."&TEXT(ROUND((C39-INT(C39))*100,0),"00"),"N/A",IFERROR(VLOOKUP(G39,'LISTA ICCU 2026'!$D$6:$G$1065,4,FALSE),"N/A")) -> N/A | G39: TANQUE EN CONCRETO 4000PSI | H39: M3 | I39: 20.53 | J39: 1829832 | K39: =J39*I39 -> 37566451 | O39: =+ROUND(N39,2) -> 0 | P39: =+N39*I39 -> 0 | Q39: =ROUND(O39*I39,2) -> 0 | R39: =IF(OR(O39<=0,O39>J39,Q39<=0,Q39>K39,$R$777="NO CUMPLE"),"NO CUMPLE","CUMPLE") -> NO CUMPLE
C40: =C39+0.01 -> 3.1 | D40: =IFERROR(VLOOKUP(G40,'LISTA ICCU 2026'!$D$6:$G$1065,4,FALSE),"APU - "&INT(C40)&"."&TEXT(ROUND((C40-INT(C40))*100,0),"00")) -> APU - 3.10 | E40: =C40 -> 3.1 | F40: =IF(D40="APU - "&INT(C40)&"."&TEXT(ROUND((C40-INT(C40))*100,0),"00"),"N/A",IFERROR(VLOOKUP(G40,'LISTA ICCU 2026'!$D$6:$G$1065,4,FALSE),"N/A")) -> N/A | G40: BOMBEO DE CONCRETO PREMEZCLADO | H40: M3 | I40: 267.24 | J40: 88813 | K40: =J40*I40 -> 23734386 | O40: =+ROUND(N40,2) -> 0 | P40: =+N40*I40 -> 0 | Q40: =ROUND(O40*I40,2) -> 0 | R40: =IF(OR(O40<=0,O40>J40,Q40<=0,Q40>K40,$R$777="NO CUMPLE"),"NO CUMPLE","CUMPLE") -> NO CUMPLE
C41: Subtotal | K41: =SUM(K31:K40) -> 5.3613403e+08 | Q41: =+SUM(Q31:Q40) -> 0
C42: 4- ESTRUCTURA
C43: 4.01 | D43: =IFERROR(VLOOKUP(G43,'LISTA ICCU 2026'!$D$6:$G$1065,4,FALSE),"APU - "&INT(C43)&"."&TEXT(ROUND((C43-INT(C43))*100,0),"00")) -> 4,3 - C | E43: =C43 -> 4.01 | F43: =IF(D43="APU - "&INT(C43)&"."&TEXT(ROUND((C43-INT(C43))*100,0),"00"),"N/A",IFERROR(VLOOKUP(G43,'LISTA ICCU 2026'!$D$6:$G$1065,4,FALSE),"N/A")) -> 4,3 - C | G43: COLUMNAS 3500 PSI | H43: =IFERROR(VLOOKUP(G43,'LISTA ICCU 2026'!$D$6:$H$1065,2,FALSE),"NO ") -> M3 | I43: 18.89 | J43: =ROUNDUP(IFERROR(VLOOKUP(G43,'LISTA ICCU 2026'!$D$6:$H$1065,3,FALSE),"NO ")*1.3,0) -> 1663291 | K43: =J43*I43 -> 31419567 | O43: =+ROUND(N43,2) -> 0 | P43: =+N43*I43 -> 0 | Q43: =ROUND(O43*I43,2) -> 0 | R43: =IF(OR(O43<=0,O43>J43,Q43<=0,Q43>K43,$R$777="NO CUMPLE"),"NO CUMPLE","CUMPLE") -> NO CUMPLE
C44: =C43+0.01 -> 4.02 | D44: =IFERROR(VLOOKUP(G44,'LISTA ICCU 2026'!$D$6:$G$1065,4,FALSE),"APU - "&INT(C44)&"."&TEXT(ROUND((C44-INT(C44))*100,0),"00")) -> APU - 4.02 | E44: =C44 -> 4.02 | F44: =IF(D44="APU - "&INT(C44)&"."&TEXT(ROUND((C44-INT(C44))*100,0),"00"),"N/A",IFERROR(VLOOKUP(G44,'LISTA ICCU 2026'!$D$6:$G$1065,4,FALSE),"N/A")) -> N/A | G44: MURO PANTALLA EN CONCRETO 3500 PSI E= 15CM | H44: M3 | I44: 15.12 | J44: 1573241 | K44: =J44*I44 -> 23787404 | O44: =+ROUND(N44,2) -> 0 | P44: =+N44*I44 -> 0 | Q44: =ROUND(O44*I44,2) -> 0 | R44: =IF(OR(O44<=0,O44>J44,Q44<=0,Q44>K44,$R$777="NO CUMPLE"),"NO CUMPLE","CUMPLE") -> NO CUMPLE
C45: =C44+0.01 -> 4.03 | D45: =IFERROR(VLOOKUP(G45,'LISTA ICCU 2026'!$D$6:$G$1065,4,FALSE),"APU - "&INT(C45)&"."&TEXT(ROUND((C45-INT(C45))*100,0),"00")) -> 4,27 - C | E45: =C45 -> 4.03 | F45: =IF(D45="APU - "&INT(C45)&"."&TEXT(ROUND((C45-INT(C45))*100,0),"00"),"N/A",IFERROR(VLOOKUP(G45,'LISTA ICCU 2026'!$D$6:$G$1065,4,FALSE),"N/A")) -> 4,27 - C | G45: VIGA CINTA 3500 PSI | H45: =IFERROR(VLOOKUP(G45,'LISTA ICCU 2026'!$D$6:$H$1065,2,FALSE),"NO ") -> M3 | I45: 48.28 | J45: =ROUNDUP(IFERROR(VLOOKUP(G45,'LISTA ICCU 2026'!$D$6:$H$1065,3,FALSE),"NO ")*1.3,0) -> 1748130 | K45: =J45*I45 -> 84399716 | O45: =+ROUND(N45,2) -> 0 | P45: =+N45*I45 -> 0 | Q45: =ROUND(O45*I45,2) -> 0 | R45: =IF(OR(O45<=0,O45>J45,Q45<=0,Q45>K45,$R$777="NO CUMPLE"),"NO CUMPLE","CUMPLE") -> NO CUMPLE
...

Sheet APU CAP #
C2: Formulario 1 - Propuesta económica - Licitación de obra pública de infraestructura social
C3: Código | D3: CCE-EICP-FM-116 | E3: Versión | F3: 1
C5: [La Entidad podrá utilizar este Formato para la presentación de los análisis de Precios Unitarios del Contratista en la oportunidad prevista en el numeral 8.1. del Documento Base]
C7: #VALUE!
D8: =#REF! -> #REF!
L9: VERSIÓN
L10: PÁGINA | M10: 1 | N10: DE | O10: 1
D11: ALCALDÍA DE MUNICIPAL DE MOSQUERA
L14: FECHA | M14: DD | N14: MM | O14: AA
C15: ESTUDIOS, DISEÑOS A DETALLE, PERMISOS Y LICENCIAMIENTO DE LOS DIFERENTES EQUIPAMIENTOS PÚBLICOS PARA EL MUNICIPIO DE MOSQUERA CUNDINAMARCA
C18: DATOS ESPECÍFICOS
C19: ÍTEM | D19: DESCRIPCIÓN | M19: UNIDAD | O19: CANTIDAD
D20: =IFERROR(VLOOKUP(C20,#REF!,5,FALSE)," ") | M20: =IFERROR(VLOOKUP(C20,#REF!,6,FALSE)," ") | O20: =IFERROR(VLOOKUP(C20,#REF!,7,FALSE)," ")
C24: DESCRIPCIÓN | H24: MARCA | J24: TIPO | L24: TARIFA/HORA | M24: RENDIMIENTO | O24: Vr. UNITARIO
J25: =IFERROR(VLOOKUP(C25,EQUIPOS!$C$13:$G$80,2,FALSE)," ") | L25: =O63 -> 0 | O25: =IFERROR(M25*L25,0) -> 0
J26: =IFERROR(VLOOKUP(C26,EQUIPOS!$C$13:$G$80,2,FALSE)," ") | L26: =IFERROR(VLOOKUP(C26,EQUIPOS!$C$13:$G$80,5,FALSE)," ") | O26: =IFERROR(L26/M26,0) -> 0
J27: =IFERROR(VLOOKUP(C27,EQUIPOS!$C$13:$G$80,2,FALSE)," ") | L27: =IFERROR(VLOOKUP(C27,EQUIPOS!$C$13:$G$80,5,FALSE)," ") | O27: =IFERROR(L27/M27,0) -> 0
J28: =IFERROR(VLOOKUP(C28,EQUIPOS!$C$13:$G$80,2,FALSE)," ") | L28: =IFERROR(VLOOKUP(C28,EQUIPOS!$C$13:$G$80,5,FALSE)," ") | O28: =IFERROR(L28/M28,0) -> 0
J29: =IFERROR(VLOOKUP(C29,EQUIPOS!$C$13:$G$80,2,FALSE)," ") | L29: =IFERROR(VLOOKUP(C29,EQUIPOS!$C$13:$G$80,5,FALSE)," ") | O29: =IFERROR(L29/M29,0) -> 0
C30: SUBTOTAL | O30: =SUM(O25:O29) -> 0
C31: II. MATERIALES
C34: DESCRIPCIÓN | K34: UNIDAD | L34: CANTIDAD | M34: PRECIO UNIT. | O34: Vr. UNITARIO
K35: =IFERROR(VLOOKUP(C35,MATERIALES!$C$13:$G$2240,2,FALSE)," ") | M35: =IFERROR(VLOOKUP(C35,MATERIALES!$C$13:$G$2240,5,FALSE)," ") | O35: =IFERROR(M35*L35,0) -> 0
K36: =IFERROR(VLOOKUP(C36,MATERIALES!$C$13:$G$2240,2,FALSE)," ") | M36: =IFERROR(VLOOKUP(C36,MATERIALES!$C$13:$G$2240,5,FALSE)," ") | O36: =IFERROR(M36*L36,0) -> 0
K37: =IFERROR(VLOOKUP(C37,MATERIALES!$C$13:$G$2240,2,FALSE)," ") | M37: =IFERROR(VLOOKUP(C37,MATERIALES!$C$13:$G$2240,5,FALSE)," ") | O37: =IFERROR(M37*L37,0) -> 0
K38: =IFERROR(VLOOKUP(C38,MATERIALES!$C$13:$G$2240,2,FALSE)," ") | M38: =IFERROR(VLOOKUP(C38,MATERIALES!$C$13:$G$2240,5,FALSE)," ") | O38: =IFERROR(M38*L38,0) -> 0
K39: =IFERROR(VLOOKUP(C39,MATERIALES!$C$13:$G$2240,2,FALSE)," ") | M39: =IFERROR(VLOOKUP(C39,MATERIALES!$C$13:$G$2240,5,FALSE)," ") | O39: =IFERROR(M39*L39,0) -> 0
K40: =IFERROR(VLOOKUP(C40,MATERIALES!$C$13:$G$2240,2,FALSE)," ") | M40: =IFERROR(VLOOKUP(C40,MATERIALES!$C$13:$G$2240,5,FALSE)," ") | O40: =IFERROR(M40*L40,0) -> 0
K41: =IFERROR(VLOOKUP(C41,MATERIALES!$C$13:$G$2240,2,FALSE)," ") | M41: =IFERROR(VLOOKUP(C41,MATERIALES!$C$13:$G$2240,5,FALSE)," ") | O41: =IFERROR(M41*L41,0) -> 0
K42: =IFERROR(VLOOKUP(C42,MATERIALES!$C$13:$G$2240,2,FALSE)," ") | M42: =IFERROR(VLOOKUP(C42,MATERIALES!$C$13:$G$2240,5,FALSE)," ") | O42: =IFERROR(M42*L42,0) -> 0
K43: =IFERROR(VLOOKUP(C43,MATERIALES!$C$13:$G$2240,2,FALSE)," ") | M43: =IFERROR(VLOOKUP(C43,MATERIALES!$C$13:$G$2240,5,FALSE)," ") | O43: =IFERROR(M43*L43,0) -> 0
K44: =IFERROR(VLOOKUP(C44,MATERIALES!$C$13:$G$2240,2,FALSE)," ") | M44: =IFERROR(VLOOKUP(C44,MATERIALES!$C$13:$G$2240,5,FALSE)," ") | O44: =IFERROR(M44*L44,0) -> 0
K45: =IFERROR(VLOOKUP(C45,MATERIALES!$C$13:$G$2240,2,FALSE)," ") | M45: =IFERROR(VLOOKUP(C45,MATERIALES!$C$13:$G$2240,5,FALSE)," ") | O45: =IFERROR(M45*L45,0) -> 0
K46: =IFERROR(VLOOKUP(C46,MATERIALES!$C$13:$G$2240,2,FALSE)," ") | M46: =IFERROR(VLOOKUP(C46,MATERIALES!$C$13:$G$2240,5,FALSE)," ") | O46: =IFERROR(M46*L46,0) -> 0
C47: SUBTOTAL | O47: =SUM(O35:O46) -> 0
C48: III. TRANSPORTES
C51: MATERIAL | J51: VOL. o PESO | K51: DISTANCIA | L51: M3 o Ton/Km | M51: TARIFA | O51: Vr. UNITARIO
K52: 25.1 | L52: =K52*J52 -> 0 | M52: =IFERROR(VLOOKUP(C52,TRANSPORTE!$C$14:$G$28,5,FALSE)," ") | O52: =IFERROR(M52*L52,0) -> 0
O53: =IFERROR(M53*L53,0) -> 0
C54: SUBTOTAL | O54: =+SUM(O52:O53) -> 0
...

Sheet EQUIPOS
B2: #VALUE! | C2: =#REF! -> #REF!
C5: ALCALDÍA DE MUNICIPAL DE MOSQUERA
B8: ANÁLISIS DE PRECIOS UNITARIOS
B10: LISTADO DE EQUIPOS
B12: EQUIPOS
B13: No. | C13: EQUIPO | D13: UNIDAD | E13: VALOR | F13: IPC | G13: VALOR FINAL | H13: OBSERVACION
B14: 1 | C14: ALQUILER BOMBA PARA CONCRETO | D14: M3 | E14: 64321 | G14: =E14*(F14+1) -> 64321 | H14: ICCU 2026
B15: =B14+1 -> 2 | C15: BARREDORA MECÁNICA DE CEPILLO | D15: H | E15: 100068 | G15: =E15*(1+F15) -> 100068 | H15: ICCU 2026
B16: =B15+1 -> 3 | C16: BOBCAT | D16: H | E16: 87506 | G16: =E16*(1+F16) -> 87506 | H16: ICCU 2026
B17: =B16+1 -> 4 | C17: BOMBA DE INYECCIÓN | D17: H | E17: 34656 | G17: =E17*(1+F17) -> 34656 | H17: ICCU 2026
B18: =B17+1 -> 5 | C18: BOMBA GATO TENSIONAMIENTO | D18: H | E18: 69311 | G18: =E18*(1+F18) -> 69311 | H18: ICCU 2026
B19: =B18+1 -> 6 | C19: BULLDOZER D-6 | D19: H | E19: 196983 | G19: =E19*(1+F19) -> 196983 | H19: ICCU 2026
B20: =B19+1 -> 7 | C20: CAMIONETA | D20: D | E20: 514637 | G20: =E20*(1+F20) -> 514637 | H20: ICCU 2026
B21: =B20+1 -> 8 | C21: CAMISA PARA PILOTES | D21: ML | E21: 67733 | G21: =E21*(1+F21) -> 67733 | H21: ICCU 2026
B22: =B21+1 -> 9 | C22: CARROTANQUE DE AGUA 10000 LITROS | D22: H | E22: 149084 | G22: =E22*(1+F22) -> 149084 | H22: ICCU 2026
B23: =B22+1 -> 10 | C23: COMPACTADOR LLANTAS | D23: H | E23: 170527 | G23: =E23*(1+F23) -> 170527 | H23: ICCU 2026
B24: =B23+1 -> 11 | C24: COMPRESOR DE 250 CPM | D24: H | E24: 155951 | G24: =E24*(1+F24) -> 155951 | H24: ICCU 2026
B25: =B24+1 -> 12 | C25: COMPRESOR PINTURA | D25: D | E25: 86639 | G25: =E25*(1+F25) -> 86639 | H25: ICCU 2026
B26: =B25+1 -> 13 | C26: CORTADORA DE LADRILLO 6.6 HP | D26: D | E26: 81298 | G26: =E26*(1+F26) -> 81298 | H26: ICCU 2026
... B46: =B45+1 -> 33 | C46: GUADAÑADORA | D46: H | E46: 7824 | G46: =E46*(1+F46) -> 7824 | H46: ICCU 2026
B47: =B46+1 -> 34 | C47: HERRAMIENTA MENOR | D47: % | G47: =E47*(1+F47) -> 0 | H47: ICCU 2026
B48: =B47+1 -> 35 | C48: IRRIGADOR DE ASFÁLTO | D48: H | E48: 131562 | G48: =E48*(1+F48) -> 131562 | H48: ICCU 2026
B49: =B48+1 -> 36 | C49: MÁQUINA PEGATACHAS | D49: D | E49: 59223 | G49: =E49*(1+F49) -> 59223 | H49: ICCU 2026
B50: =B49+1 -> 37 | C50: MÁQUINA PILOTEADORA R-15 | D50: H | E50: 859677 | G50: =E50*(1+F50) -> 859677 | H50: ICCU 2026
B51: =B50+1 -> 38 | C51: MARTILLO DEMOLEDOR 60 LB | D51: H | E51: 17588 | G51: =E51*(1+F51) -> 17588 | H51: ICCU 2026
B52: =B51+1 -> 39 | C52: MEZCLADORA 1 1/2 BULTO | D52: D | E52: 103967 | G52: =E52*(1+F52) -> 103967 | H52: ICCU 2026
B53: =B52+1 -> 40 | C53: MOTOBOMBA | D53: D | E53: 95303 | G53: =E53*(1+F53) -> 95303 | H53: ICCU 2026
B54: =B53+1 -> 41 | C54: MOTONIVELADORA 120 HP | D54: H | E54: 207934 | G54: =E54*(1+F54) -> 207934 | H54: ICCU 2026
B55: =B54+1 -> 42 | C55: MOTOSIERRA | D55: H | E55: 15101 | G55: =E55*(1+F55) -> 15101 | H55: ICCU 2026
B56: =B55+1 -> 43 | C56: PALA AUXILIAR 535 | D56: H | E56: 467852 | G56: =E56*(1+F56) -> 467852 | H56: ICCU 2026
B57: =B56+1 -> 44 | C57: PISTOLA PINTURA | D57: D | E57: 20014 | G57: =E57*(1+F57) -> 20014 | H57: ICCU 2026
B58: =B57+1 -> 45 | C58: PULIDA Y DESTRONQUE MARMOL FUNDIDO ENSITIO | D58: M2 | E58: 30289 | G58: =E58*(1+F58) -> 30289 | H58: ICCU 2026
B59: =B58+1 -> 46 | C59: PULIDA Y DESTRONQUE MARMOL N.5 | D59: M2 | E59: 26201 | G59: =E59*(1+F59) -> 26201 | H59: ICCU 2026
... B75: =B74+1 -> 62 | C75: VOLQUETA M3 | D75: H | E75: 83867 | G75: =E75*(1+F75) -> 83867 | H75: ICCU 2026
B76: =B75+1 -> 63
B77: =B76+1 -> 64
B78: =B77+1 -> 65
B79: =B78+1 -> 66
B80: =B79+1 -> 67

Sheet MATERIALES
B2: #VALUE! | C2: =#REF! -> #REF!
C5: ALCALDÍA DE MUNICIPAL DE MOSQUERA
B8: ANÁLISIS DE PRECIOS UNITARIOS
B10: LISTADO DE MATERIALES
B12: MATERIALES
B13: No. | C13: MATERIAL | D13: UNIDAD | E13: VALOR | F13: IPC | G13: VALOR FINAL | H13: OBSERVACION
B14: 1 | C14: ABRAZADERA 1" | D14: UN | E14: 557 | G14: =E14*(F14+1) -> 557 | H14: ICCU 2026
B15: =B14+1 -> 2 | C15: ABRAZADERA 1/2" | D15: UN | E15: 372 | G15: =E15*(1+F15) -> 372 | H15: ICCU 2026
B16: =B15+1 -> 3 | C16: ABRAZADERA 3/4" | D16: UN | E16: 372 | G16: =E16*(1+F16) -> 372 | H16: ICCU 2026
B17: =B16+1 -> 4 | C17: ABRAZADERA AJUSTABLE AMARRE | D17: UN | E17: 7368 | G17: =E17*(1+F17) -> 7368 | H17: ICCU 2026
B18: =B17+1 -> 5 | C18: ABRAZADERA METALICA Y TORNILLO DE SEGURIDAD | D18: UN | E18: 10973 | G18: =E18*(1+F18) -> 10973 | H18: ICCU 2026
B19: =B18+1 -> 6 | C19: ACCESORIO T BANDEJA PORTACABLE | D19: UN | E19: 70241 | G19: =E19*(1+F19) -> 70241 | H19: ICCU 2026
B20: =B19+1 -> 7 | C20: ACCESORIOS DE INSTALACION | D20: UN | E20: 10000 | G20: =E20*(1+F20) -> 10000 | H20: ICCU 2026
B21: =B20+1 -> 8 | C21: ACERO A-36 | D21: KG | E21: 9261 | G21: =E21*(1+F21) -> 9261 | H21: ICCU 2026
B22: =B21+1 -> 9 | C22: ACERO A-588 GRADO B | D22: KG | E22: 12475 | G22: =E22*(1+F22) -> 12475 | H22: ICCU 2026
B23: =B22+1 -> 10 | C23: ACERO DE REFUERZO 37000 PSI | D23: KG | E23: 6132 | G23: =E23*(1+F23) -> 6132 | H23: ICCU 2026
B24: =B23+1 -> 11 | C24: ACERO DE REFUERZO 60000 PSI | D24: KG | E24: 6180 | G24: =E24*(1+F24) -> 6180 | H24: ICCU 2026
B25: =B24+1 -> 12 | C25: ACERO DE REFUERZO FIGURADO 60000 PSI | D25: KG | E25: 8453 | G25: =E25*(1+F25) -> 8453 | H25: ICCU 2026
B26: =B25+1 -> 13 | C26: ACERO DE REFUERZO FIGURADO 60000 PSI INCLUYE AMARRE A VIGA | D26: KG | E26: 8453 | G26: =E26*(1+F26) -> 8453 | H26: ICCU 2026
... B1054: =B1053+1 -> 1041 | C1054: ÁNGULO HIERRO 3/4" X 1/8" | D1054: ML | E1054: 4404 | G1054: =E1054*(1+F1054) -> 4404 | H1054: ICCU 2026
B1055: =B1054+1 -> 1042 | C1055: CAMPAMENTO 18M2 EN TABLA, TEJA DE ETERNIT, INC. TRANS, MATERIALES | D1055: =IFERROR(VLOOKUP(C1055,'LISTA ICCU 2026'!D9:F1065,2,FALSE),"NO ") -> UN | E1055: =IFERROR(VLOOKUP(C1055,'LISTA ICCU 2026'!D9:F1065,3,FALSE),"NO ") -> 3221690 | G1055: =E1055*(1+F1055) -> 3221690 | H1055: ICCU 2026
B1056: =B1055+1 -> 1043 | C1056: CAMPAMENTO 9 M2 CAMPAMENTO 9M2 EN TABLA, TEJA DE ETERNIT, INC. TRANS, MATERIALES | D1056: =IFERROR(VLOOKUP(C1056,'LISTA ICCU 2026'!D10:F1066,2,FALSE),"NO ") -> UN | E1056: =IFERROR(VLOOKUP(C1056,'LISTA ICCU 2026'!D10:F1066,3,FALSE),"NO ") -> 1791322 | G1056: =E1056*(1+F1056) -> 1791322 | H1056: ICCU 2026
B1057: =B1056+1 -> 1044 | C1057: CERCA EN ALAMBRE DE PUA 4 HILOS, INC. POSTE DE MADERA | D1057: =IFERROR(VLOOKUP(C1057,'LISTA ICCU 2026'!D11:F1067,2,FALSE),"NO ") -> ML | E1057: =IFERROR(VLOOKUP(C1057,'LISTA ICCU 2026'!D11:F1067,3,FALSE),"NO ") -> 19160 | G1057: =E1057*(1+F1057) -> 19160 | H1057: ICCU 2026
B1058: =B1057+1 -> 1045 | C1058: CERCA EN ALAMBRE DE PUA 5 HILOS, INC. POSTE DE MADERA | D1058: =IFERROR(VLOOKUP(C1058,'LISTA ICCU 2026'!D12:F1068,2,FALSE),"NO ") -> ML | E1058: =IFERROR(VLOOKUP(C1058,'LISTA ICCU 2026'!D12:F1068,3,FALSE),"NO ") -> 22090 | G1058: =E1058*(1+F1058) -> 22090 | H1058: ICCU 2026
B1059: =B1058+1 -> 1046 | C1059: CERCA EN ALAMBRE DE PUA 6 HILOS, INC. POSTE DE MADERA | D1059: =IFERROR(VLOOKUP(C1059,'LISTA ICCU 2026'!D13:F1069,2,FALSE),"NO ") -> ML | E1059: =IFERROR(VLOOKUP(C1059,'LISTA ICCU 2026'!D13:F1069,3,FALSE),"NO ") -> 25532 | G1059: =E1059*(1+F1059) -> 25532 | H1059: ICCU 2026
B1060: =B1059+1 -> 1047 | C1060: CERCA EN TABLA H=2.30 M | D1060: =IFERROR(VLOOKUP(C1060,'LISTA ICCU 2026'!D14:F1070,2,FALSE),"NO ") -> ML | E1060: =IFERROR(VLOOKUP(C1060,'LISTA ICCU 2026'!D14:F1070,3,FALSE),"NO ") -> 100808 | G1060: =E1060*(1+F1060) -> 100808 | H1060: ICCU 2026
B1061: =B1060+1 -> 1048 | C1061: CERCA EN TEJA DE ZINC H=1.80 M | D1061: =IFERROR(VLOOKUP(C1061,'LISTA ICCU 2026'!D15:F1071,2,FALSE),"NO ") -> ML | E1061: =IFERROR(VLOOKUP(C1061,'LISTA ICCU 2026'!D15:F1071,3,FALSE),"NO ") -> 71324 | G1061: =E1061*(1+F1061) -> 71324 | H1061: ICCU 2026
B1062: =B1061+1 -> 1049 | C1062: CERCA EN TELA VERDE H = 2.10 M | D1062: =IFERROR(VLOOKUP(C1062,'LISTA ICCU 2026'!D16:F1072,2,FALSE),"NO ") -> ML | E1062: =IFERROR(VLOOKUP(C1062,'LISTA ICCU 2026'!D16:F1072,3,FALSE),"NO ") -> 34513 | G1062: =E1062*(1+F1062) -> 34513 | H1062: ICCU 2026
B1063: =B1062+1 -> 1050 | C1063: DEMOLICIÓN ESCALERAS EN CONCRETO, INC RETIRO | D1063: =IFERROR(VLOOKUP(C1063,'LISTA ICCU 2026'!D17:F1073,2,FALSE),"NO ") -> M2 | E1063: =IFERROR(VLOOKUP(C1063,'LISTA ICCU 2026'!D17:F1073,3,FALSE),"NO ") -> 101530 | G1063: =E1063*(1+F1063) -> 101530 | H1063: ICCU 2026
B1064: =B1063+1 -> 1051 | C1064: DEMOLICIÓN BALDOSA DE PISO H=0.02 M, INC RETIRO | D1064: =IFERROR(VLOOKUP(C1064,'LISTA ICCU 2026'!D18:F1074,2,FALSE),"NO ") -> M2 | E1064: =IFERROR(VLOOKUP(C1064,'LISTA ICCU 2026'!D18:F1074,3,FALSE),"NO ") -> 13166 | G1064: =E1064*(1+F1064) -> 13166 | H1064: ICCU 2026
B1065: =B1064+1 -> 1052 | C1065: DEMOLICIÓN BALDOSA DE PISO H=0.04 M, INC RETIRO | D1065: =IFERROR(VLOOKUP(C1065,'LISTA ICCU 2026'!D19:F1075,2,FALSE),"NO ") -> M2 | E1065: =IFERROR(VLOOKUP(C1065,'LISTA ICCU 2026'!D19:F1075,3,FALSE),"NO ") -> 18542 | G1065: =E1065*(1+F1065) -> 18542 | H1065: ICCU 2026
B1066: =B1065+1 -> 1053 | C1066: DEMOLICIÓN ENCHAPE MURO, INC RETIRO | D1066: =IFERROR(VLOOKUP(C1066,'LISTA ICCU 2026'!D20:F1076,2,FALSE),"NO ") -> M2 | E1066: =IFERROR(VLOOKUP(C1066,'LISTA ICCU 2026'!D20:F1076,3,FALSE),"NO ") -> 14116 | G1066: =E1066*(1+F1066) -> 14116 | H1066: ICCU 2026
... B1138: =B1137+1 -> 1125 | C1138: FILTRO FRANCES SECCION 0,40X0,60 (INCLUYE MATERIAL FILTRANTE, GEOTEXTILY TUBERIA DRENAJE 4"). NO INCLUYE EXCAVACION, RELLENO | D1138: =IFERROR(VLOOKUP(C1138,'LISTA ICCU 2026'!D92:F1148,2,FALSE),"NO ") -> ML | E1138: =IFERROR(VLOOKUP(C1138,'LISTA ICCU 2026'!D92:F1148,3,FALSE),"NO ") -> 108261 | G1138: =E1138*(1+F1138) -> 108261 | H1138: ICCU 2026
B1139: =B1138+1 -> 1126 | C1139: CASETÓN DE LONA 0.8 X 0.35 | D1139: =IFERROR(VLOOKUP(C1139,'LISTA ICCU 2026'!D94:F1150,2,FALSE),"NO ") -> M2 | E1139: =IFERROR(VLOOKUP(C1139,'LISTA ICCU 2026'!D94:F1150,3,FALSE),"NO ") -> 46920 | G1139: =E1139*(1+F1139) -> 46920 | H1139: ICCU 2026
B1140: =B1139+1 -> 1127 | C1140: CASETÓN DE LONA 0.80X0.70 | D1140: =IFERROR(VLOOKUP(C1140,'LISTA ICCU 2026'!D95:F1151,2,FALSE),"NO ") -> M2 | E1140: =IFERROR(VLOOKUP(C1140,'LISTA ICCU 2026'!D95:F1151,3,FALSE),"NO ") -> 85105 | G1140: =E1140*(1+F1140) -> 85105 | H1140: ICCU 2026
B1141: =B1140+1 -> 1128 | C1141: COLUMNAS 3500 PSI | D1141: =IFERROR(VLOOKUP(C1141,'LISTA ICCU 2026'!D96:F1152,2,FALSE),"NO ") -> M3 | E1141: =IFERROR(VLOOKUP(C1141,'LISTA ICCU 2026'!D96:F1152,3,FALSE),"NO ") -> 1279454 | G1141: =E1141*(1+F1141) -> 1279454 | H1141: ICCU 2026
B1142: =B1141+1 -> 1129 | C1142: CONCRETO CICLÓPEO 2000 PSI, 40% RAJÓN | D1142: =IFERROR(VLOOKUP(C1142,'LISTA ICCU 2026'!D97:F1153,2,FALSE),"NO ") -> M3 | E1142: =IFERROR(VLOOKUP(C1142,'LISTA ICCU 2026'!D97:F1153,3,FALSE),"NO ") -> 402877 | G1142: =E1142*(1+F1142) -> 402877 | H1142: ICCU 2026
B1143: =B1142+1 -> 1130 | C1143: ENTREPISO LÁMINA COLABORANTE 2", CAL 22, H=10 CM,INCL. MALLA DE REFUERZO, CONCRETO DE 3500 PSI | D1143: =IFERROR(VLOOKUP(C1143,'LISTA ICCU 2026'!D98:F1154,2,FALSE),"NO ") -> M2 | E1143: =IFERROR(VLOOKUP(C1143,'LISTA ICCU 2026'!D98:F1154,3,FALSE),"NO ") -> 192593 | G1143: =E1143*(1+F1143) -> 192593 | H1143: ICCU 2026
B1144: =B1143+1 -> 1131 | C1144: ENTREPISO LÁMINA COLABORANTE 3", CAL 22, H=12 CM,INCL. MALLA DE REFUERZO, CONCRETO DE 3500 PSI | D1144: =IFERROR(VLOOKUP(C1144,'LISTA ICCU 2026'!D99:F1155,2,FALSE),"NO ") -> M2 | E1144: =IFERROR(VLOOKUP(C1144,'LISTA ICCU 2026'!D99:F1155,3,FALSE),"NO ") -> 260603 | G1144: =E1144*(1+F1144) -> 260603 | H1144: ICCU 2026
B1145: =B1144+1 -> 1132 | C1145: ENTREPISOS CASETÓN CON VIGAS, 3500 PSI H=0.30 m (SIN REFUERZO) | D1145: =IFERROR(VLOOKUP(C1145,'LISTA ICCU 2026'!D100:F1156,2,FALSE),"NO ") -> M2 | E1145: =IFERROR(VLOOKUP(C1145,'LISTA ICCU 2026'!D100:F1156,3,FALSE),"NO ") -> 209964 | G1145: =E1145*(1+F1145) -> 209964 | H1145: ICCU 2026
...

Sheet MANO DE OBRA
B2: #VALUE! | C2: =#REF! -> #REF!
C5: ALCALDÍA DE MUNICIPAL DE MOSQUERA
B8: ANÁLISIS DE PRECIOS UNITARIOS
B10: LISTADO DE CUADRILLAS
B12: MANO DE OBRA
B13: No. | C13: CUADRILLA | D13: UNIDAD | E13: V. JORNAL | G13: IPC | H13: V. JORNAL FINAL | I13: PRESTACIONES | J13: CON PRESTACIONES%
B14: 1 | C14: AA- 1 OFICIAL + 1 AYUDANTE ALBAÑILERÍA | D14: JR | E14: 190265 | H14: =E14*(G14+1) -> 190265 | I14: 2 | J14: =IFERROR(ROUND(H14*I14,0),0) -> 380530
B15: 2 | C15: 1 AYUDANTE ALBAÑILERÍA | D15: JR | E15: 75872.5 | H15: =E15*(G15+1) -> 75872.5 | I15: 2 | J15: =IFERROR(ROUND(H15*I15,0),0) -> 151745
B16: 3 | C16: 2 AYUDANTE ALBAÑILERÍA | D16: JR | E16: 151745 | H16: =E16*(G16+1) -> 151745 | I16: 2 | J16: =IFERROR(ROUND(H16*I16,0),0) -> 303490
B17: 4 | C17: FF - 1 OFICIAL + AYUDANTE ELECTRICIDAD | D17: JR | E17: 212968.89 | H17: =E17*(G17+1) -> 212968.89 | I17: 2 | J17: =IFERROR(ROUND(H17*I17,0),0) -> 425938
B18: 5 | C18: FF - 1 OFICIAL + AYUDANTE CABLEADO ESTRUC. | D18: JR | E18: 248532.5 | H18: =E18*(G18+1) -> 248532.5 | I18: 2 | J18: =IFERROR(ROUND(H18*I18,0),0) -> 497065
B19: 6 | C19: 1 OFICIAL DE ELECTRICIDAD | D19: JR | E19: 95295.52 | H19: =E19*(G19+1) -> 95295.52 | I19: 2 | J19: =IFERROR(ROUND(H19*I19,0),0) -> 190591
B20: 7 | C20: 1 OFICIAL + AYUDANTE HyS | D20: JR | E20: 208071.7 | H20: =E20*(G20+1) -> 208071.7 | I20: 2 | J20: =IFERROR(ROUND(H20*I20,0),0) -> 416143
B21: 8 | C21: 1 OFICIAL HyS | D21: JR | E21: 95295.52 | H21: =E21*(G21+1) -> 95295.52 | I21: 2 | J21: =IFERROR(ROUND(H21*I21,0),0) -> 190591
B22: 9 | C22: 1 OFICIAL + AYUDANTE RED CONTRA INCENDIO | D22: JR | E22: 161506.9 | H22: =E22*(G22+1) -> 161506.9 | I22: 2 | J22: =IFERROR(ROUND(H22*I22,0),0) -> 323014
B23: 10 | C23: 1 OFICIAL + AYUDANTE AIRE ACONDICIONADO | D23: JR | E23: 161320.97 | H23: =E23*(G23+1) -> 161320.97 | I23: 2 | J23: =IFERROR(ROUND(H23*I23,0),0) -> 322642
B24: 11 | C24: CUADRILLA INSTALACIÓN | D24: JR | E24: 161320.97 | H24: =E24*(G24+1) -> 161320.97 | I24: 2 | J24: =IFERROR(ROUND(H24*I24,0),0) -> 322642
B25: 12 | C25: 1 OFICIAL + AYUDANTE DE PINTURA | D25: JR | E25: 227348.28 | H25: =E25*(G25+1) -> 227348.28 | I25: 2 | J25: =IFERROR(ROUND(H25*I25,0),0) -> 454697
... B33: 20 | C33: COORDINADOR BIM | D33: JR | E33: 150000 | H33: =E33*(G33+1) -> 150000 | I33: 2 | J33: =IFERROR(ROUND(H33*I33,0),0) -> 300000
B162: MATERIALES
B163: No. | C163: MATERIAL | H163: UNIDAD | I163: VALOR | J163: OBSERVACION

Sheet TRANSPORTE
B2: #VALUE! | C2: =#REF! -> #REF!
C5: ALCALDÍA DE MUNICIPAL DE MOSQUERA
B8: ANÁLISIS DE PRECIOS UNITARIOS
B10: LISTADO DE TRANSPORTE
B12: TRANSPORTE
B13: No. | C13: TRANSPORTE | D13: UNIDAD | E13: VALOR | F13: IPC | G13: VALOR FINAL | H13: OBSERVACION
B14: 1 | C14: CAMIONETA | D14: D | E14: 514637 | G14: =E14*(1+F14) -> 514637 | H14: ICCU 2026
B15: 2 | C15: CARROTANQUE DE AGUA 10.000 LITROS | D15: H | E15: 149084 | G15: =E15*(1+F15) -> 149084 | H15: ICCU 2026
B16: 3 | C16: VOLQUETA | D16: H | E16: 83867 | G16: =E16*(1+F16) -> 83867 | H16: ICCU 2026
B17: 4 | C17: GRÚA EXTENSIÓN PARA POSTES — CONDICIONAL | D17: H | E17: 116097 | G17: =E17*(1+F17) -> 116097 | H17: ICCU 2026
B18: 5 | C18: GRÚA PH 20 TON — CONDICIONAL | D18: D | E18: 1746646 | G18: =E18*(1+F18) -> 1746646 | H18: ICCU 2026
B19: 6 | C19: VEHÍCULO DELINEADOR — CONDICIONAL | D19: H | E19: 162383 | G19: =E19*(1+F19) -> 162383 | H19: ICCU 2026
B20: =B19+1 -> 7
B21: =B20+1 -> 8
B22: =B21+1 -> 9
B23: =B22+1 -> 10
B24: =B23+1 -> 11
B25: =B24+1 -> 12
B26: =B25+1 -> 13
B27: =B26+1 -> 14
B28: =B27+1 -> 15

Sheet LISTA ICCU 2026
B2: GOBERNACIÓN DE CUNDINAMARCA LISTA DE PRECIOS CONSTRUCCIÓN, URBANISMO Y VÍAS (2026)
C3: PROVINCIA: SABANA OCCIDENTE
B4: ESTOS PRECIOS CONTEMPLAN SUMINISTRO, INSTALACIÓN Y TRANSPORTE
B6: ÍTEM | D6: DESCRIPCIÓN | E6: UNIDAD | F6: Mosquera
B7: CONSTRUCCIÓN
B8: 1 | D8: PRELIMINARES
B9: 1.1 | D9: CAMPAMENTO 18M2 EN TABLA, TEJA DE ETERNIT, INC. TRANS, MATERIALES | E9: UN | F9: 3221690 | G9: =H9&" - C" -> 1,1 - C | H9: =ROUND(B9,2) -> 1.1
B10: 1.2 | D10: CAMPAMENTO 9 M2 CAMPAMENTO 9M2 EN TABLA, TEJA DE ETERNIT, INC. TRANS, MATERIALES | E10: UN | F10: 1791322 | G10: =H10&" - C" -> 1,2 - C | H10: =ROUND(B10,2) -> 1.2
B11: 1.3 | D11: CERCA EN ALAMBRE DE PUA 4 HILOS, INC. POSTE DE MADERA | E11: ML | F11: 19160 | G11: =H11&" - C" -> 1,3 - C | H11: =ROUND(B11,2) -> 1.3
B12: 1.4 | D12: CERCA EN ALAMBRE DE PUA 5 HILOS, INC. POSTE DE MADERA | E12: ML | F12: 22090 | G12: =H12&" - C" -> 1,4 - C | H12: =ROUND(B12,2) -> 1.4
B13: 1.5 | D13: CERCA EN ALAMBRE DE PUA 6 HILOS, INC. POSTE DE MADERA | E13: ML | F13: 25532 | G13: =H13&" - C" -> 1,5 - C | H13: =ROUND(B13,2) -> 1.5
B14: 1.6 | D14: CERCA EN TABLA H=2.30 M | E14: ML | F14: 100808 | G14: =H14&" - C" -> 1,6 - C | H14: =ROUND(B14,2) -> 1.6
B15: 1.7 | D15: CERCA EN TEJA DE ZINC H=1.80 M | E15: ML | F15: 71324 | G15: =H15&" - C" -> 1,7 - C | H15: =ROUND(B15,2) -> 1.7
B16: 1.8 | D16: CERCA EN TELA VERDE H = 2.10 M | E16: ML | F16: 34513 | G16: =H16&" - C" -> 1,8 - C | H16: =ROUND(B16,2) -> 1.8
B17: 1.9 | D17: DEMOLICIÓN ESCALERAS EN CONCRETO, INC RETIRO | E17: M2 | F17: 101530 | G17: =H17&" - C" -> 1,9 - C | H17: =ROUND(B17,2) -> 1.9
B18: 1.1 | D18: DEMOLICIÓN BALDOSA DE PISO H=0.02 M, INC RETIRO | E18: M2 | F18: 13166 | G18: =SUBSTITUTE(TEXT(B18,"0,00"),",",".")&" - C" -> 1.10 - C | H18: =ROUND(B18,3) -> 1.1
B19: 1.11 | D19: DEMOLICIÓN BALDOSA DE PISO H=0.04 M, INC RETIRO | E19: M2 | F19: 18542 | G19: =H19&" - C" -> 1,11 - C | H19: =ROUND(B19,2) -> 1.11
B20: 1.12 | D20: DEMOLICIÓN ENCHAPE MURO, INC RETIRO | E20: M2 | F20: 14116 | G20: =H20&" - C" -> 1,12 - C | H20: =ROUND(B20,2) -> 1.12
B21: 1.13 | D21: DEMOLICIÓN PAÑETE MURO, INC RETIRO | E21: M2 | F21: 14955 | G21: =H21&" - C" -> 1,13 - C | H21: =ROUND(B21,2) -> 1.13
B22: 1.14 | D22: DEMOLICIÓN CIELO RASO FALSO, INC RETIRO | E22: M2 | F22: 19555 | G22: =H22&" - C" -> 1,14 - C | H22: =ROUND(B22,2) -> 1.14
B23: 1.15 | D23: DEMOLICIÓN ADOQUÍN SOBRE ARENA, H=0.15 m, INC RETIRO | E23: M2 | F23: 16736 | G23: =H23&" - C" -> 1,15 - C | H23: =ROUND(B23,2) -> 1.15
B24: 1.16 | D24: DEMOLICIÓN MUROS EN MAMPOSTERÍA 0.15 M, INC RETIRO | E24: M2 | F24: 26178 | G24: =H24&" - C" -> 1,16 - C | H24: =ROUND(B24,2) -> 1.16
B25: 1.17 | D25: DEMOLICIÓN MUROS EN MAMAPOSTERÍA 0.25 M, INC RETIRO | E25: M2 | F25: 34942 | G25: =H25&" - C" -> 1,17 - C | H25: =ROUND(B25,2) -> 1.17
B26: 1.18 | D26: DEMOLICIÓN PLACA ALIGERADA 0.30 M, INC RETIRO | E26: M2 | F26: 52972 | G26: =H26&" - C" -> 1,18 - C | H26: =ROUND(B26,2) -> 1.18
B27: 1.19 | D27: DEMOLICIÓN PLACA ALIGERADA 0.40 M, INC RETIRO | E27: M2 | F27: 71917 | G27: =H27&" - C" -> 1,19 - C | H27: =ROUND(B27,2) -> 1.19
B28: 1.2 | D28: DEMOLICIÓN PLACA ALIGERADA 0.50 M, INC RETIRO | E28: M2 | F28: 87588 | G28: =SUBSTITUTE(TEXT(B28,"0,00"),",",".")&" - C" -> 1.20 - C | H28: =ROUND(B28,3) -> 1.2
B29: 1.21 | D29: DEMOLICIÓN PLACA MACIZA 0.15 M, INC RETIRO | E29: M2 | F29: 47422 | G29: =H29&" - C" -> 1,21 - C | H29: =ROUND(B29,2) -> 1.21
B30: 1.22 | D30: DEMOLICIÓN PLACA MACIZA 0.20 M, INC RETIRO | E30: M2 | F30: 64928 | G30: =H30&" - C" -> 1,22 - C | H30: =ROUND(B30,2) -> 1.22
B31: 1.23 | D31: DEMOLICIÓN PLACA MACIZA 0.25 M, INC RETIRO | E31: M2 | F31: 88053 | G31: =H31&" - C" -> 1,23 - C | H31: =ROUND(B31,2) -> 1.23
B32: 1.24 | D32: DEMOLICIÓN PLACA MACIZA 0.30 M, INC RETIRO | E32: M2 | F32: 101530 | G32: =H32&" - C" -> 1,24 - C | H32: =ROUND(B32,2) -> 1.24
B33: 1.25 | D33: DEMOLICIÓN PLACA PISO 0.05 M, INC RETIRO | E33: M2 | F33: 17681 | G33: =H33&" - C" -> 1,25 - C | H33: =ROUND(B33,2) -> 1.25
B34: 1.26 | D34: DEMOLICIÓN PLACA PISO 0.10 M, INC RETIRO | E34: M2 | F34: 29615 | G34: =H34&" - C" -> 1,26 - C | H34: =ROUND(B34,2) -> 1.26
B35: 1.27 | D35: DEMOLICIÓN PLACA PISO 0.15 M, INC RETIRO | E35: M2 | F35: 42423 | G35: =H35&" - C" -> 1,27 - C | H35: =ROUND(B35,2) -> 1.27
B36: 1.28 | D36: DEMOLICIÓN PLACA PISO 0.20 M, INC RETIRO | E36: M2 | F36: 60100 | G36: =H36&" - C" -> 1,28 - C | H36: =ROUND(B36,2) -> 1.28
B37: 1.29 | D37: DEMOLICIÓN VIGAS Y COLUMNAS, INC RETIRO | E37: M3 | F37: 324368 | G37: =H37&" - C" -> 1,29 - C | H37: =ROUND(B37,2) -> 1.29
B38: 1.3 | D38: DESCAPOTE A MAQUINA E=0.20 M, INC RETIRO | E38: M2 | F38: 2142 | G38: =SUBSTITUTE(TEXT(B38,"0,00"),",",".")&" - C" -> 1.30 - C | H38: =ROUND(B38,2) -> 1.3
B39: 1.31 | D39: DESCAPOTE MANUAL Y RETIRO E= 0.20 M APILE A 15 M | E39: M2 | F39: 11851 | G39: =H39&" - C" -> 1,31 - C | H39: =ROUND(B39,2) -> 1.31
B40: 1.32 | D40: DESMONTE APARATOS SANITARIOS, INC RETIRO | E40: UN | F40: 40253 | G40: =H40&" - C" -> 1,32 - C | H40: =ROUND(B40,2) -> 1.32
B41: 1.33 | D41: DESMONTE DE CUBIERTAS (TEJA DE BARRO), INC RETIRO | E41: M2 | F41: 23049 | G41: =H41&" - C" -> 1,33 - C | H41: =ROUND(B41,2) -> 1.33
B42: 1.34 | D42: DESMONTE DE CUBIERTAS (ASBESTO CEMENTO), INC RETIRO | E42: M2 | F42: 21651 | G42: =H42&" - C" -> 1,34 - C | H42: =ROUND(B42,2) -> 1.34
...
