Workbook
Name \0: #REF!
Name \0: #REF!
Name \00: #REF!
Name \00: #REF!
Name \a: #REF!
Name \a: #REF!
Name \AA: [1]LIQUIDACION!#REF!
Name \b: #REF!
Name \b: [2]STRSUMM0!#REF!
Name \bb: [2]STRSUMM0!#REF!
Name \c: #REF!
Name \E: #REF!
Name \EE: #REF!
Name \eliminar: [3]RESUM96!#REF!
Name \eliminar1: [3]RESUM96!#REF!
Name \G: #REF!
Name \k: '[4]7422CW00'!#REF!
Name \l: #REF!
Name \l: [5]STRSUMM0!#REF!
Name \M: #REF!
Name \ñ: '[6]7422CW00'!#REF!
Name \P: #REF!
Name \q: #REF!
Name \R: #REF!
Name \s: #REF!
Name \V: #REF!
Name \X: FP!ERR
Name \X: [0]!ERR
Name \Z: FP!ERR
Name \Z: [0]!ERR
Name _________AFC1: [7]INV!$A$25:$D$28
Name _________AFC1: [8]INV!$A$25:$D$28
Name _________AFC3: [7]INV!$F$25:$I$28
Name _________AFC3: [8]INV!$F$25:$I$28
Name _________AFC5: [7]INV!$K$25:$N$28
Name _________AFC5: [8]INV!$K$25:$N$28
Name _________BGC1: [7]INV!$A$5:$D$8
Name _________BGC1: [8]INV!$A$5:$D$8
Name _________BGC3: [7]INV!$F$5:$I$8
Name _________BGC3: [8]INV!$F$5:$I$8
Name _________BGC5: [7]INV!$K$5:$N$8
Name _________BGC5: [8]INV!$K$5:$N$8
Name _________CAC1: [7]INV!$A$19:$D$22
Name _________CAC1: [8]INV!$A$19:$D$22
Name _________CAC3: [7]INV!$F$19:$I$22
Name _________CAC3: [8]INV!$F$19:$I$22
Name _________CAC5: [7]INV!$K$19:$N$22
Name _________CAC5: [8]INV!$K$19:$N$22
Name _________PJ50: #REF!
Name _________SBC1: [7]INV!$A$12:$D$15
Name _________SBC1: [8]INV!$A$12:$D$15
Name _________SBC3: [7]INV!$F$12:$I$15
Name _________SBC3: [8]INV!$F$12:$I$15
Name _________SBC5: [7]INV!$K$12:$N$15
Name _________SBC5: [8]INV!$K$12:$N$15
Name ________AFC1: [7]INV!$A$25:$D$28
Name ________AFC1: [8]INV!$A$25:$D$28
Name ________AFC3: [7]INV!$F$25:$I$28
Name ________AFC3: [8]INV!$F$25:$I$28
Name ________AFC5: [7]INV!$K$25:$N$28

Sheet A,I,U
D2: FONDO DE DESARROLLO LOCAL DE USAQUÉN
D3: OFICINA DE INFRAESTRUCTURA
D4: COORDINACIÓN DE PROYECTOS
B5: OBJETO DE LA LICITACIÓN: | D5: CONTRATAR A PRECIOS UNITARIOS FIJOS, A MONTO AGOTABLE, EL DIAGNÓSTICO, MEJORAMIENTO, MANTENIMIENTO Y/O DOTACIÓN DE LOS PARQUES DE PROXIMIDAD DE LA LOCALIDAD DE USAQUÉN EN BOGOTÁ D.C
B7: COSTO DIRECTO DE OBRA (CD) | E7: 1678047974 | I7: FECHA: | J7: MARZO 2026
B8: TERMINO ESTIMADO DE EJECUCIÓN DE OBRA | E8: 5 | F8: MESES
B9: COSTO ESTIMADO DE OBRA | E9: 2181462366
B10: PRESUPUESTO OFICIAL | E10: 2309121700
B11: AJUSTES POR CAMBIO DE VIGENCIA | E11: 0
B13: ÍTEM | C13: A. ADMINISTRACIÓN
C14: 1. COSTOS MENSUALES DE PERSONAL
C15: CARGO | E15: CANTIDAD | F15: CATEGORÍA | G15: DEDICACIÓN MES | I15: TOPE SALARIO (MES) | J15: FACTOR PRESTACIONAL | K15: N. MESES | L15: SALARIO + PRESTACIONES
E16: A | G16: B | I16: C | J16: D | K16: E | L16: F=A*B*C*D*E
B17: 1.1 | C17: PERSONAL PROFESIONAL (Ingenieros y Otros)
B18: 1.101 | C18: DIRECTOR DE OBRA | E18: 1 | F18: 4 | G18: 0.4 | I18: 6843850 | J18: 1.4526 | K18: 5 | L18: =E18*G18*I18*J18*K18 -> 19882753
B19: 1.102 | C19: ESPECIALISTA EN URBANISMO | E19: 1 | F19: 6 | G19: 0.3 | I19: 5546677.2 | J19: 1.4526 | K19: 5 | L19: =E19*G19*I19*J19*K19 -> 12085655
B20: 1.103 | C20: RESIDENTE DE OBRA | E20: 1 | F20: 6 | G20: 1 | I20: 5546677.2 | J20: 1.4526 | K20: 5 | L20: =E20*G20*I20*J20*K20 -> 40285517
B21: 1.2 | C21: PERSONAL ADMINISTRATIVO, TECNICO, AUXILIAR Y TOPOGRAFÍA
B22: 1.203 | C22: TARIFA MES - PERSONAL TÉCNICO - INSPECTOR 1 (NO INCLUYE FACTOR DE PRESTACIONES) | E22: 1 | F22: N/A | G22: 1 | I22: 2588028.2 | J22: 1.4526 | K22: 5 | L22: =E22*G22*I22*J22*K22 -> 18796849
B23: 1.204 | C23: TARIFA MES - PERSONAL TÉCNICO - TOPÓGRAFO INSPECTOR (NO INCLUYE FACTOR DE PRESTACIONES) | E23: 1 | F23: N/A | G23: 0.3 | I23: 2588028.2 | J23: 1.4526 | K23: 4.3 | L23: =E23*G23*I23*J23*K23 -> 4849587
B24: 1.205 | C24: TARIFA MES - PERSONAL AUXILIAR TÉCNICO - CADENERO 2 (NO INCLUYE FACTOR DE PRESTACIONES) | E24: 1 | F24: N/A | G24: 0.3 | I24: 1921542.5 | J24: 1.4526 | K24: 4.3 | L24: =E24*G24*I24*J24*K24 -> 3600690.1
B25: 1.206 | C25: TARIFA MES - PERSONAL AUXILIAR TÉCNICO - CONDUCTOR O MOTORISTA (NO INCLUYE FACTOR DE PRESTACIONES) | E25: 1 | F25: N/A | G25: 1 | I25: 1750905 | J25: 1.4526 | K25: 5 | L25: =E25*G25*I25*J25*K25 -> 12716823
B26: 1.207 | C26: TARIFA MES - PERSONAL TÉCNICO - CELADOR ARMADO (24 horas por 30 dias dividos en 3 turnos de 8 horas diarias. Incluye prestaciones de ley, Administraciòn y servicios). | E26: 2 | F26: N/A | G26: 0.3 | I26: 12427345 | J26: 1 | K26: 4.3 | L26: =E26*G26*I26*J26*K26 -> 32062551
C27: SUBTOTAL COSTOS MENSUALES DE PERSONAL | L27: =SUM(L18:L26) -> 1.4428042e+08
B29: ÍTEM | C29: 2. GASTOS OPERACIONALES MENSUALES | E29: CANT. | F29: AREA (M2) | G29: DEDICACIÓN | I29: DEDICACIÓN X ÁREA (M2) | J29: COSTO ($/M2.MES) | K29: N. MESES | L29: VALOR ($)
B30: 2.1 | C30: TARIFA MES - ARRIENDO OFICINA INCL. ADMINISTRACIÓN, SERVICIOS PÚBLICOS, COMUNICACIONES | E30: 1 | F30: 28.735 | G30: 1 | I30: =+F30*G30 -> 28.735 | J30: 51148.83 | K30: 5 | L30: =E30*F30*J30*K30 -> 7348808.2
B31: 2.2 | C31: TARIFA MES - ALQUILER CAMPAMENTOS INCL. SERVICIOS PÚBLICOS PROVISIONALES | E31: 2 | F31: 12 | G31: 1 | I31: =+F31*G31 -> 12 | J31: 34847.83 | K31: 4 | L31: =E31*F31*J31*K31 -> 3345391.7
B32: 2.3 | C32: TARIFA MES - GASTOS OFICINA (PAPELERIA, FOTOCOPIAS Y OTROS) GLOBAL - MS | E32: 1 | F32: N/A | G32: 1 | I32: N/A | J32: 1200804 | K32: 5 | L32: =E32*J32*K32*G32 -> 6004020.1
B33: 2.4 | C33: TARIFA MES - EQUIPO DE TOPOGRAFÍA. INCLUYE TRÁNSITO, NIVEL Y ELEMENTOS COMPLEMENTARIOS | E33: 1 | F33: N/A | G33: 0.3 | I33: N/A | J33: 4721203.6 | K33: 4 | L33: =E33*J33*K33*G33 -> 5665444.3
B34: 2.5 | C34: TARIFA MES - ALQUILER DE VEHICULO: CAMPERO, PICK-UP, CAMIONETA, CAMION O SIMILAR DE 1300cc A 2000cc DE CILINDRADA, MODELO 2014 A 2011. 75% DE LA TARIFA ESTABLECIDA. INCLUYE TODOS LOS COSTOS DE OPERACIÓN Y MANTENIMIENTO EXCEPTO EL SALARIO DEL CONDUCTOR | E34: 1 | F34: N/A | G34: 1 | I34: N/A | J34: 6269230 | K34: 5 | L34: =E34*J34*K34*G34 -> 31346150
C35: NOTA: EL VR. DE LA TARIFA DE LA MOVILIZACIÓN DE EQUIPOS ES VIAJE (IDA Y VUELTA)
C36: SUBTOTAL GASTOS OPERACIONALES MENSUALES | L36: =ROUND(SUM(L30:L34),4) -> 53709814
C38: TOTAL COSTOS PERSONAL + GASTOS OPERACIONALES POR EL TÉRMINO DE EJECUCIÓN | L38: =ROUND((L27+L36),4) -> 1.9799024e+08
C39: TOTAL COSTOS PERSONAL + GASTOS OPERACIONALES POR EL TÉRMINO DE EJECUCIÓN EN PORCENTAJE DEL COSTO DIRECTO | L39: =L38/E7 -> 0.11798843
B41: 3. IMPUESTOS Y GARANTÍAS
B42: 3.1 | C42: IMPUESTOS
B43: ÍTEM | C43: DESCRIPCIÓN | J43: IMPUESTO | L43: VALOR ($)
B44: =B42+0.001 -> 3.101 | C44: CONTRIBUCIÓN ESPECIAL OBRA PÚBLICA | J44: 0.05 | L44: =E10*J44 -> 115456085
B45: =B44+0.001 -> 3.102 | C45: RETEICA 7.36XMIL | J45: 0.00766 | L45: =E10*J45 -> 17687872
B46: =B45+0.001 -> 3.103 | C46: RETEFUENTE CONTRATO DE OBRA | J46: 0.02 | L46: =E10*J46 -> 46182434
...

Sheet A&SST
E3: FORMATO
E4: MATRIZ CALCULO DE COMPONENTES
E5: FONDO DE DESARROLLO LOCAL DE USAQUÉN
E6: PLANEACION - INFRAESTRUCTURA
E7: OBJETO DE LA LICITACIÓN: | H7: CONTRATAR A PRECIOS UNITARIOS FIJOS, A MONTO AGOTABLE, EL DIAGNÓSTICO, MEJORAMIENTO, MANTENIMIENTO Y/O DOTACIÓN DE LOS PARQUES DE PROXIMIDAD DE LA LOCALIDAD DE USAQUÉN EN BOGOTÁ D.C
I8: OBJETO DE LA LICITACIÓN:
E9: SISTEMA DE GESTIÓN AMBIENTAL, SEGURIDAD Y SALUD EN EL TRABAJO - A&SST
E10: COMPONENTE A - COMPONENTE AMBIENTAL Y SST
M12: EJECUCIÓN DE OBRA | AF12: 5 | AG12: MESES
E13: EJECUCIÓN DE OBRAS
E14: ÍTEMS | J14: UN. | K14: CATEGORIA | L14: CANT | M14: DEDICACIÓN MES | AD14: TOTAL DEDIC PROY | AE14: TARIFA | AF14: FACTOR PRESTACIONAL | AG14: TOTAL ACTIVIDAD
M15: 1 | N15: 2 | O15: 3 | P15: 4 | Q15: 5 | R15: 6 | S15: 7 | T15: 8 | U15: 9 | V15: 10 | W15: 11 | X15: 12
E16: 1.1 | F16: PROFESIONAL AMBIENTAL | J16: MES | K16: 8 | L16: 1 | M16: 0.4 | N16: 0.1 | O16: 0.1 | P16: 0.1 | Q16: 0.1 | AD16: =SUM(M16:AC16) -> 0.8 | AE16: 5204485 | AF16: 1.4526 | AG16: =L16*AD16*AE16*AF16 -> 6048027.9
E17: 1.2 | F17: PROFESIONAL SST | J17: MES | K17: 8 | L17: 1 | M17: 0 | N17: 1 | O17: 1 | P17: 1 | Q17: 1 | AD17: =SUM(M17:AC17) -> 4 | AE17: 5204485 | AF17: 1.4526 | AG17: =L17*AD17*AE17*AF17 -> 30240140
E18: 1.3 | F18: PROFESIONAL FORESTAL | J18: MES | K18: 8 | L18: 1 | M18: 0.6 | N18: 0.1 | O18: 0.1 | P18: 0.1 | Q18: 0.1 | AD18: =SUM(M18:AC18) -> 1 | AE18: 5204485 | AF18: 1.4526 | AG18: =L18*AD18*AE18*AF18 -> 7560034.9
J19: SUBTOTAL COMPONENTE A | AG19: =SUM(AG16:AG18) -> 43848202
E21: COMPONTE B. MANEJO AMBIENTAL EN LA EJECUCIÓN DE ACTIVIDADES CONSTRUCTIVAS
E22: ÍTEMS | I22: ESPECIFICACIÓN | J22: UN. | K22: CANTIDAD | M22: VALOR UNITARIO | AF22: VALOR TOTAL
E23: B1 | F23: MANEJO AMBIENTAL DE CAMPAMENTOS FIJOS Y/O TEMPORALES Y CENTROS DE ACOPIO
E24: 1.1 | F24: PUNTOS ECOLOGICOS CONFORME A LA NORMATIVA AMBIENTAL | I24: ALQUILER DE PUNTO ECOLOGICO COMPUESTO POR TRES CANECAS | J24: UN | K24: 3 | M24: 23584.96 | AF24: =K24*M24 -> 70754.88
J25: SUBTOTAL DEL PROGRAMA | AF25: =SUM(AF24:AG24) -> 70754.88
E27: B2 | F27: MANEJO DE MATERIALES DE CONSTRUCCIÓN
E28: 2.1 | F28: CADA UNA DE LAS ACTIVIDADES RELACIONADAS EN ESTE PROGRAMA, SERÁN EJECUTADAS POR LOS PROFESIONALES INCLUIDOS EN EL COMPONENTE A | AF28: 0
J29: SUBTOTAL DEL PROGRAMA | AF29: =SUM(AF28:AG28) -> 0
E31: B3 | F31: MANEJO INTEGRAL DE RESIDUOS SÓLIDOS
E32: 3.1 | F32: PUNTO DE ACOPIO DE MATERIALES | I32: PLASTICO NEGRO CALIBRE 6 | J32: M2 | K32: 380 | M32: 1741.5 | AF32: =K32*M32 -> 661770
E33: 3.2 | I33: SEÑALIZACIÓN TUBULAR COLOMBINA PLÁSTICA | J33: UN | K33: 12 | M33: 47361.55 | AF33: =K33*M33 -> 568338.6
E34: 3.3 | I34: CINTA PARA SEÑALIZACIÓN DE 500 MT X 4" PELIGRO CALIBRE 3.5 | J34: ROLLO | K34: 2 | M34: 26217.21 | AF34: =K34*M34 -> 52434.42
J35: SUBTOTAL DEL PROGRAMA | AF35: =SUM(AF32:AG34) -> 1282543
E37: B5 | F37: MANEJO INTEGRAL DE CUERPOS DE AGUA, SUMIDEROS Y OBRAS HIDRAULICAS
E38: 5.1 | F38: PROTECCIÓN DE SUMIDEROS | I38: PROTECCION A SUMIDEROS (INCLUYE SUMINISTRO Y COLOCACIÓN DE BOLSAS DE LONA Y GEOTEXTIL NT 1600 O SIMILAR). | J38: UN/MES | K38: 10 | M38: 18701.61 | AF38: =K38*M38 -> 187016.1
J39: SUBTOTAL DEL PROGRAMA | AF39: =SUM(AF38:AG38) -> 187016.1
J40: SUBTOTAL COMPONENTE B | AF40: =AF25+AF29+AF35+AF39 -> 1540314
E42: COMPONTE C. MANEJO DE LA VEGETACION, PAISAJISMO Y FAUNA SILVESTRE
E43: ÍTEMS | I43: ESPECIFICACIÓN | J43: UN. | K43: CANTIDAD | M43: VALOR UNITARIO | AF43: VALOR TOTAL
E44: C1 | F44: MANEJO DE LA VEGETACION
E45: 1.1 | F45: PROTECCION DE ARBOLADO (BARRERA DE AISLAMIENTO) | I45: TELA VERDE PARA CERRAMIENTO 2.10 METRO DE ANCHO DE 60GR | J45: ML | K45: 50 | M45: 2947 | AF45: =ROUND(K45*M45,0) -> 147350
E46: 1.2 | F46: SOPORTE MALLA | I46: VARA CORREDOR D=8CM (L=3M) | J46: UN | K46: 15 | M46: 7589.3 | AF46: =K46*M46 -> 113839.5
J47: SUBTOTAL DEL PROGRAMA | AF47: =SUM(AF45:AG46) -> 261189.5
E49: C2 | F49: MANEJO DE FAUNA SILVESTRE
...

Sheet AIU A&SST
C3: FONDO DE DESARROLLO LOCAL DE USAQUÉN
C4: PLANEACION - INFRAESTRUCTURA
C5: FONDO DE DESARROLLO LOCAL DE USAQUÉN
C6: INFRAESTRUCTURA
E7: CONTRATAR A PRECIOS UNITARIOS FIJOS, A MONTO AGOTABLE, EL DIAGNÓSTICO, MEJORAMIENTO, MANTENIMIENTO Y/O DOTACIÓN DE LOS PARQUES DE PROXIMIDAD DE LA LOCALIDAD DE USAQUÉN EN BOGOTÁ D.C
C9: MATRIZ PARA CÁLCULO DE AIU- SISTEMA DE GESTIÓN AMBIENTAL, SEGURIDAD Y SALUD EN EL TRABAJO - A&SST
C10: SUBTOTAL COMPONENTES A+C+D+E (CD) | F10: ='A&SST'!AF87 -> 63028784 | J10: FECHA: | K10: MARZO 2026
C11: TERMINO ESTIMADO DE EJECUCIÓN DE OBRA | F11: 5 | G11: MESES | J11: CONTRATO No. | K11: N/A
C13: 3. IMPUESTOS Y GARANTÍAS
C14: 3.1 | D14: IMPUESTOS
C15: ÍTEM | D15: DESCRIPCIÓN | K15: IMPUESTO | M15: VALOR ($)
C16: =C14+0.001 -> 3.101 | D16: Contribución Especial (Impuesto de Guerra Ley 1738 DIC18-2014 prorroga 4 años) | K16: 0.05 | M16: =K16*$F$10 -> 3151439.2
C17: =C16+0.001 -> 3.102 | D17: ICA (Ley 14 6jul1983, Res 219 25feb2004) | K17: 0.00736 | M17: =K17*$F$10 -> 463891.85
C18: =C17+0.001 -> 3.103 | D18: Retefuente obra | K18: 0.02 | M18: =K18*$F$10 -> 1260575.7
C19: =C18+0.001 -> 3.104 | D19: Estampilla Unipedagógica (Dec 584 de 19 dic 2014) | K19: 0.005 | M19: =K19*$F$10 -> 315143.92
D20: SUBTOTAL IMPUESTOS | M20: =SUM(M16:M19) -> 5191050.7
C22: =C14+0.1 -> 3.2 | D22: GARANTIAS
C23: ÍTEM | D23: DESCRIPCIÓN | F23: VR. BASE | H23: % ASEGURADO | J23: VIGENCIA AMPARO (MESES) | K23: TASA ASEGURADORA | M23: VALOR ($)
C24: =C22+0.001 -> 3.201 | D24: Cumplimiento General | E24: GARANTIA DE CUMPLIMIENTO | F24: =+'A&SST'!AF89 -> 72457890 | H24: 0.1 | J24: 5 | K24: ='A,I,U'!J52 -> 0.003 | M24: =ROUND((((((F24*H24)*K24)/12)*J24)+2500)*1.19,4) -> 13753.111
C25: =C24+0.001 -> 3.202 | D25: Pago de Salarios, Prestaciones Sociales Legales e Indemnizaciones | F25: =$F$24 -> 72457890 | H25: 0.05 | J25: ='A,I,U'!I53 -> 41 | K25: ='A,I,U'!J53 -> 0.003 | M25: =ROUND((((((F25*H25)*K25)/12)*J25)+2500)*1.19,4) -> 47165.256
C26: =C25+0.001 -> 3.203 | D26: Estabilidad y Calidad de la Obras | F26: =F24 -> 72457890 | H26: 0.3 | J26: ='A,I,U'!I55 -> 5 | K26: ='A,I,U'!J55 -> 0.003 | M26: =ROUND((((((F26*H26)*K26)/12)*J26)+2500)*1.19,4) -> 35309.334
D28: SUBTOTAL GARANTÍAS | M28: =SUM(M24:M26) -> 96227.7
D30: TOTAL IMPUESTOS Y GARANTÍAS | M30: =M20+M28 -> 5287278.4
D31: TOTAL IMPUESTOS Y GARANTÍAS EN PORCENTAJE DEL COSTO DIRECTO | M31: =ROUND(M30/F10,4) -> 0.0839
D33: A. ADMINISTRACIÓN (1 + 2 + 3) | M33: =M31 -> 0.0839
D34: I. IMPREVISTOS | M34: 0.01
D35: U. UTILIDAD | M35: 0.05
D37: A.I.U. (ADMINISTRACIÓN, IMPREVISTOS Y UTILIDAD) | M37: =SUM(M33:M35) -> 0.1439

Sheet PGS
K4: FORMATO | M4: CÓDIGO | N4: PROCESO | P4: VERSIÓN
N5: Proyectos
K6: FONDO DE DESARROLLO LOCAL DE USAQUÉN
K7: PLANEACION - INFRAESTRUCTURA
K9: COMPONENTE SOCIAL
K10: OBJETO DE LA LICITACIÓN: | M10: CONTRATAR A PRECIOS UNITARIOS FIJOS, A MONTO AGOTABLE, EL DIAGNÓSTICO, MEJORAMIENTO, MANTENIMIENTO Y/O DOTACIÓN DE LOS PARQUES DE PROXIMIDAD DE LA LOCALIDAD DE USAQUÉN EN BOGOTÁ D.C
K12: CONTROL DE INVERSIÓN GESTION SOCIAL PARA OBRAS DEL FDLUSA
K13: COMPONENTE | M13: UN. | N13: VR. UNITARIO | O13: FACTOR PRESTACIONAL | P13: CANTIDAD | Q13: DEDICACIÓN H / MES | AH13: TOTAL DEDIC PROY | AI13: SUBTOTAL
Q14: 1 | R14: 2 | S14: 3 | T14: 4 | U14: 5 | V14: 6 | W14: 7 | X14: 8 | Y14: 9 | Z14: 10 | AA14: 11 | AB14: 12
K15: OBJETO DE LA LICITACIÓN:
K16: A.1 | L16: PROFESIONAL SOCIAL (CATEGORIA 5) | M16: MES | N16: 5563824.2 | O16: 1.4526 | P16: 1 | Q16: 1 | R16: 0.4 | S16: 0.4 | T16: 0.4 | U16: 0.4 | AH16: =SUM(Q16:AG16) -> 2.6 | AI16: =N16*O16*P16*AH16 -> 21013229
AI17: =SUM(AI16:AI16) -> 21013229
K19: COMPONENTE B. PLAN DE GESTIÓN SOCIAL
K20: COMPONENTE | M20: UN. | N20: VR. UNITARIO | Q20: CANTIDAD / MES | AH20: TOTAL DEDIC PROY | AI20: SUBTOTAL
Q21: 1 | R21: 2 | S21: 3 | T21: 4 | U21: 5 | V21: 6 | W21: 7 | X21: 8 | Y21: 9 | Z21: 10 | AA21: 11 | AB21: 12
K22: B.1 | L22: PROGRAMA DE INFORMACIÓN
K23: B.1.1 | L23: VÍDEO BEAM - ALQUILER POR DIA | M23: DIA | N23: 100236.08 | R23: 2 | S23: 2 | T23: 2 | U23: 2 | AH23: =SUM(Q23:AG23) -> 8 | AI23: =N23*AH23 -> 801888.64
K24: B.1.2 | L24: VALLA MÓVIL DE 1,20 M * 1,20 M EN LAMINA GALVANIZADA CALIBRE 20, ANGULO EN HIERRO DE 2*1 - 1/8" IMPRESO CON VINILO ADHESIVO. INCLUYE SUMINISTRO E INSTALACIÓN. IMPRESIÓN 720 DPI; TINTAS PARA EXTERIORES. AVISO DE CONTEO REGRESIVO EN CUMPLIMIENTO DE ACUERDO N0.787 DEL 2020 | M24: UND | N24: 1105102.8 | R24: 3 | AH24: =SUM(Q24:AG24) -> 3 | AI24: =N24*AH24 -> 3315308.3
K25: SUBTOTAL PROGRAMA DE INFORMACIÓN | AI25: =SUM(AI23:AI24) -> 4117197
K26: B.2 | L26: PROGRAMA DE DIVULGACIÓN AL CIUDADANO
K27: B.2.1 | L27: AFICHE TAMAÑO MEDIO PLIEGO A 4X0 TINTAS EN PROPALCOTE DE 115 GR. | M27: UN | N27: 1378.2461 | R27: 20 | S27: 20 | T27: 20 | U27: 20 | AH27: =SUM(Q27:AG27) -> 80 | AI27: =N27*AH27 -> 110259.69
K28: B.2.3 | L28: IMPRESIÓN HOJA CARTA, A 1X0 TINTAS EN PAPEL BOND DE 75 GR. | M28: UN | N28: 125.2951 | R28: 190.99655 | S28: 190 | T28: 190 | U28: 190 | AH28: =SUM(Q28:AG28) -> 760.99655 | AI28: =N28*AH28 -> 95349.138
K29: SUBTOTAL PROGRAMA DE DIVULGACIÓN AL CIUDADANO | AI29: =SUM(AI27:AI28) -> 205608.83
K31: B.3 | L31: PROGRAMA DE ATENCIÓN AL CIUDADANO
K32: COMPONENTE | M32: UN. | N32: VR. UNITARIO | Q32: CANTIDAD / MES | AH32: TOTAL DEDIC PROY | AI32: SUBTOTAL
Q33: 1 | R33: 2 | S33: 3 | T33: 4 | U33: 5 | V33: 6 | W33: 7 | X33: 8 | Y33: 9 | Z33: 10 | AA33: 11 | AB33: 12
K34: B.3.1 | L34: ADECUACIÓN DEL PUNTO PAC - ATENCIÓN AL CIUDADANO
K35: B.3.1.1 | L35: ALQUILER DE SILLA PARA ESCRITORIO PARA PUESTO DE TRABAJO | M35: UN/MES | N35: 10454.244 | R35: 0.26666667 | S35: 0.26666667 | T35: 0.26666667 | U35: 0.26666667 | AH35: =SUM(Q35:AG35) -> 1.0666667 | AI35: =N35*AH35*12 -> 133814.32
K36: B.3.1.2 | L36: ALQUILER DE PUESTO DE TRABAJO - ESCRITORIO 75x120x50cm | M36: UN/MES | N36: 11565.054 | R36: 0.26666667 | S36: 0.26666667 | T36: 0.26666667 | U36: 0.26666667 | AH36: =SUM(Q36:AG36) -> 1.0666667 | AI36: =N36*AH36*12 -> 148032.69
K37: B.3.1.3 | L37: ALQUILER DE SILLA PLÁSTICA SIN BRAZOS | M37: UN/MES | N37: 3050.2513 | R37: 1 | S37: 1 | T37: 1 | U37: 1 | AH37: =SUM(Q37:AG37) -> 4 | AI37: =N37*AH37*AH37 -> 48804.021
K38: B.3.1.4 | L38: AVISO PUNTO CREA 1.50m x 0.90m EN LÁMINA GALVANIZADA CAL. 24. INCLUYE SUMINISTRO E INSTALACIÓN | M38: UN | N38: 841983.07 | R38: 1 | S38: 0 | T38: 0 | U38: 0 | AH38: =SUM(Q38:AG38) -> 1 | AI38: =N38*AH38 -> 841983.07
K39: SUBTOTAL PROGRAMA DE ATENCION AL CIUDADANO | AI39: =SUM(AI35:AI38) -> 1172634.1
L41: SUBTOTAL COSTO DE PERSONAL PARA EL PLAN DE GESTION SOCIAL | AI41: =AI17 -> 21013229
L42: SUBTOTAL COSTOS DE SUBPROGRAMAS DE PLAN DE GESTION SOCIAL | AI42: =AI25+AI29+AI39 -> 5495439.9
L44: SUBTOTAL COSTO DEL PLAN DE GESTION SOCIAL | AI44: =+AI41+AI42 -> 26508668
L46: AIU | AH46: 0.1497 | AI46: =ROUND(AI44*AH46,2) -> 3968347.7
L48: TOTAL COSTO DEL PLAN DE GESTION SOCIAL | AI48: =ROUND(AI44+AI46,2) -> 30477016

Sheet AIU PGS
C3: FONDO DE DESARROLLO LOCAL DE USAQUÉN
C4: PLANEACION - INFRAESTRUCTURA
C5: FONDO DE DESARROLLO LOCAL DE USAQUÉN
C6: INFRAESTRUCTURA
C7: OBJETO DE LA LICITACIÓN: | E7: CONTRATAR A PRECIOS UNITARIOS FIJOS, A MONTO AGOTABLE, EL DIAGNÓSTICO, MEJORAMIENTO, MANTENIMIENTO Y/O DOTACIÓN DE LOS PARQUES DE PROXIMIDAD DE LA LOCALIDAD DE USAQUÉN EN BOGOTÁ D.C
C9: MATRIZ PARA CÁLCULO DE AIU- COMPONENTE SOCIAL (PGS)
C10: COSTO DIRECTO ESTIMADO PGS (CD) | F10: =PGS!AI44 -> 26508668 | J10: FECHA: | K10: MARZO 2026
C11: TERMINO ESTIMADO DE EJECUCIÓN DE OBRA | F11: 5 | G11: MESES | J11: CONTRATO No. | K11: N/A
C13: 3. IMPUESTOS Y GARANTÍAS
C14: 3.1 | D14: IMPUESTOS
C15: ÍTEM | D15: DESCRIPCIÓN | K15: IMPUESTO | M15: VALOR ($)
C16: =C14+0.001 -> 3.101 | D16: Contribución Especial de Obra Pública (Impuesto de Guerra Ley 1738 DIC 18-2014 prorroga 4 años) | K16: 0.05 | M16: =K16*$F$10 -> 1325433.4 | O16: =F10*K16 -> 1325433.4
C17: =C16+0.001 -> 3.102 | D17: Reteica ICA (Ley 14 6 jul1983, Res 219 25 feb 2004) | K17: 0.00736 | M17: =K17*$F$10 -> 195103.8
C18: =C17+0.001 -> 3.103 | D18: Retefuente Contrato de Obra | K18: 0.02 | M18: =K18*$F$10 -> 530173.37
C19: =C18+0.001 -> 3.104 | D19: Estampilla Unipedagógica Nacional (Decreto 584 de 19 dic 2014) | K19: 0.005 | M19: =K19*$F$10 -> 132543.34
D20: SUBTOTAL IMPUESTOS | M20: =SUM(M16:M19) -> 2183253.9
C22: =C14+0.1 -> 3.2 | D22: GARANTIAS
C23: ÍTEM | D23: DESCRIPCIÓN | F23: VR. BASE | H23: % ASEGURADO | J23: VIGENCIA AMPARO (MESES) | K23: TASA ASEGURADORA | M23: VALOR ($)
C24: =C22+0.001 -> 3.201 | D24: Cumplimiento General | E24: GARANTIA DE CUMPLIMIENTO | F24: =+PGS!AI48 -> 30477016 | H24: ='AIU A&SST'!H24:I24 -> 0.1 | J24: 5 | K24: ='AIU A&SST'!K24:L24 -> 0.003 | M24: =ROUND((((((F24*H24)*K24)/12)*J24)+2500)*1.19,0) -> 7508
C25: =C24+0.001 -> 3.202 | D25: Pago de Salarios, Prestaciones Sociales Legales e Indemnizaciones | F25: =$F$24 -> 30477016 | H25: ='AIU A&SST'!H25:I25 -> 0.05 | J25: ='A,I,U'!I53 -> 41 | K25: ='AIU A&SST'!K25:L25 -> 0.003 | M25: =ROUND((((((F25*H25)*K25)/12)*J25)+2500)*1.19,0) -> 21562
C26: =C25+0.001 -> 3.203 | D26: Estabilidad y Calidad de la Obras | F26: =F24 -> 30477016 | H26: ='AIU A&SST'!H26:I26 -> 0.3 | J26: ='A,I,U'!I55 -> 5 | K26: ='AIU A&SST'!K26:L26 -> 0.003 | M26: =ROUND((((((F26*H26)*K26)/12)*J26)+2500)*1.19,0) -> 16575
D27: SUBTOTAL GARANTÍAS | M27: =ROUND(SUM(M24:M26),0) -> 45645
D29: TOTAL IMPUESTOS Y GARANTÍAS | M29: =ROUND(M20+M27,0) -> 2228899
D30: TOTAL IMPUESTOS Y GARANTÍAS EN PORCENTAJE DEL COSTO DIRECTO | M30: =+M29/F10 -> 0.084081892
D32: A. ADMINISTRACIÓN (1 + 2 + 3) | M32: =M30 -> 0.084081892
D33: I. IMPREVISTOS | M33: 0.01
D34: U. UTILIDAD | M34: 0.05
D36: A.I.U. (ADMINISTRACIÓN, IMPREVISTOS Y UTILIDAD) | M36: =SUM(M32:M34) -> 0.14408189

Sheet PMT
E3: FONDO DE DESARROLLO LOCAL DE USAQUÉN
E4: PLANEACION - INFRAESTRUCTURA
E7: OBJETO DE LA LICITACIÓN: | G7: CONTRATAR A PRECIOS UNITARIOS FIJOS, A MONTO AGOTABLE, EL DIAGNÓSTICO, MEJORAMIENTO, MANTENIMIENTO Y/O DOTACIÓN DE LOS PARQUES DE PROXIMIDAD DE LA LOCALIDAD DE USAQUÉN EN BOGOTÁ D.C
E9: CONTROL DE INVERSIÓN PLAN DE MANEJO DE TRÁFICO
G11: PLAZO: | I11: 5 | J11: MESES
E13: No. | F13: DESCRIPCIÓN | G13: TIEMPO | I13: CAT | J13: VALOR UNITARIO (MENSUAL) | K13: F.P. | L13: CONSTRUCCION | AD13: CANT TOTAL | AE13: VR TOTAL
G14: UND | H14: Cant | L14: 1 | M14: 2 | N14: 3 | O14: 4 | P14: 5 | Q14: 6 | R14: 7 | S14: 8 | T14: 9 | U14: 10 | V14: 11 | W14: 12
E15: 1 | F15: PERSONAL
F16: PERSONAL PROFESIONAL
E17: 1.1 | F17: ESPECIALISTA EN TRÁNSITO Y TRANSPORTE | G17: UN/MES | H17: 1 | I17: 5 | J17: 6843850 | K17: 1.4526 | L17: 0.2 | M17: 0.2 | N17: 0.2 | O17: 0.2 | P17: 0.2 | AD17: =H17*(SUM(L17:AC17)) -> 1 | AE17: =AD17*J17*K17 -> 9941376.5
F18: AFORADOR
E19: 1.2 | F19: TARIFA MES - PERSONAL DE OBRA - AYUDANTE (NO INCLUYE FACTOR DE PRESTACIONES) | G19: UN/MES | H19: 1 | I19: NA | J19: 1750905 | K19: 1.4526 | M19: 0.5 | N19: 0 | O19: 0 | P19: 0 | AD19: =H19*(SUM(L19:AC19)) -> 0.5 | AE19: =AD19*J19*K19 -> 1271682.3
F20: PALETERO
E21: 1.2 | F21: TARIFA MES - PERSONAL DE OBRA - AYUDANTE (NO INCLUYE FACTOR DE PRESTACIONES) | G21: UN/MES | H21: 2 | I21: NA | J21: 1750905 | K21: 1.4526 | M21: 0.3 | N21: 0.3 | O21: 0.3 | P21: 0.3 | AD21: =H21*(SUM(L21:AC21)) -> 2.4 | AE21: =AD21*J21*K21 -> 6104075
F22: SUBTOTAL COSTOS PERSONAL | AE22: =SUM(AE17:AE21) -> 17317134
E23: 2 | F23: OTROS
E24: 2.1 | F24: ALQUILER DE PORTATIL. CARACTERÍSTICAS: Procesador intel, Core i3 4005U, celeron o similar, Memoria RAM de 4 GB ( 2 x 2048 MB)Disco duro de 500gb a 7200 rpmPantalla LED HP BrightView widescreen de alta definición con 35,6 cm (14") o similar, HD INTEL GRAPHIC HD4400UNIDAD DE DVD QUEMADORBLUETOOTH | G24: UN/MES | H24: 1 | J24: 124042.15 | L24: 1 | M24: 1 | N24: 1 | O24: 1 | P24: 1 | AD24: =H24*(SUM(L24:AC24)) -> 5 | AE24: =AD24*J24 -> 620210.74
F25: SEÑALIZACION TEMPORAL
E26: 2.2 | F26: CANALIZACIÓN DE TRÁFICO (INSTALACIÓN, MANTENIMIENTO Y DESINSTALACIÓN MENSUAL) CON SEÑALIZADORES TUBULARES COLOMBINA PLÁSTICA Y TRIPLE CINTA DE SEÑALIZACIÓN (INCLUYE ALQUILER DE SEÑALIZADORES TUBULARES). LONGITUD 3 METROS. | G26: UN/MES | H26: 1 | J26: 9117.0611 | L26: 0 | M26: 0 | N26: 1 | O26: 1 | P26: 1 | AD26: =H26*(SUM(L26:AC26)) -> 3 | AE26: =AD26*J26 -> 27351.183
E27: 2.3 | F27: ALQUILER SEÑAL VERTICAL GRUPO I (75x75cm) (Incluye Suministro e Instalación) | G27: UN/MES | H27: 30 | J27: 24553.628 | L27: 0 | M27: 0 | N27: 1 | O27: 1 | P27: 1 | AD27: =H27*(SUM(L27:AC27)) -> 90 | AE27: =AD27*J27 -> 2209826.5
E28: 2.4 | F28: ALQUILER BARRERA RELLENABLE (2.00x0.55x1.00m) | G28: UN/MES | H28: 8 | J28: 20049.322 | L28: 0 | M28: 0 | N28: 1 | O28: 1 | P28: 1 | AD28: =H28*(SUM(L28:AC28)) -> 24 | AE28: =AD28*J28 -> 481183.72
E29: 2.5 | F29: ALQUILER DE SEÑAL LUMINOSA BIDIRECCIONAL 1.50m x 0.50m (INCLUYE INSTALACIÓN, MANTENIMIENTO Y DESINSTALACIÓN). | G29: UN/MES | H29: 1 | J29: 159385.9 | L29: 0 | M29: 0 | N29: 1 | O29: 0 | P29: 0 | AD29: =H29*(SUM(L29:AC29)) -> 1 | AE29: =AD29*J29 -> 159385.9
E30: 2.6 | F30: PASACALLE IMPRESO EN LONA BANNER (7.00m x 1.00m) INCLUYE PALOS A LOS EXTREMOS | G30: UN | H30: 1 | J30: 561322.05 | L30: 0 | M30: 0 | N30: 1 | O30: 0 | P30: 0 | AD30: =H30*(SUM(L30:AC30)) -> 1 | AE30: =AD30*J30 -> 561322.05
E31: 2.7 | F31: CINTA DE SEÑALIZACION CAL 4 (ROLLO 500mx0.10m) | G31: UN | H31: 1 | J31: 39155.245 | L31: 0 | M31: 0 | N31: 1 | O31: 1 | P31: 1 | AD31: =H31*(SUM(L31:AC31)) -> 3 | AE31: =AD31*J31 -> 117465.74
E32: 2.8 | F32: ALQUILER DE PALETA PARE-SIGA EN POLIETILENO. | G32: UN/MES | H32: 3 | J32: 2600.663 | L32: =L21 -> 0 | M32: =M21 -> 0.3 | N32: =N21 -> 0.3 | O32: =O21 -> 0.3 | P32: =P21 -> 0.3 | AD32: =H32*(SUM(L32:AC32)) -> 3.6 | AE32: =AD32*J32 -> 9362.3868
AD33: SUBTOTAL OTROS COSTOS DIRECTOS | AE33: =SUM(AE24:AE32) -> 4186108.2
J35: SUB TOTAL | AE35: =AE33+AE22 -> 21503242
J36: A.I.U | AD36: 0.1498 | AE36: =AE35*AD36 -> 3221185.7
J37: VALOR TOTAL | AE37: =ROUND(AE36+AE35,2) -> 24724428

Sheet AIU PMT
C3: FONDO DE DESARROLLO LOCAL DE USAQUÉN
C4: PLANEACION - INFRAESTRUCTURA
C5: FONDO DE DESARROLLO LOCAL DE USAQUÉN
C6: INFRAESTRUCTURA
E7: CONTRATAR A PRECIOS UNITARIOS FIJOS, A MONTO AGOTABLE, EL DIAGNÓSTICO, MEJORAMIENTO, MANTENIMIENTO Y/O DOTACIÓN DE LOS PARQUES DE PROXIMIDAD DE LA LOCALIDAD DE USAQUÉN EN BOGOTÁ D.C
C9: MATRIZ PARA CÁLCULO DE AIU- TRANSITO (PMT)
C10: COSTOS PERSONAL + OTROS COSTOS ESTIMADOS PMT | F10: =PMT!AE35 -> 21503242 | J10: FECHA: | K10: MARZO-2026
C11: TERMINO ESTIMADO DE EJECUCIÓN DE OBRA | F11: 5 | G11: MESES | J11: CONTRATO No. | K11: N/A
C13: 3. IMPUESTOS Y GARANTÍAS
C14: 3.1 | D14: IMPUESTOS
C15: ÍTEM | D15: DESCRIPCIÓN | K15: IMPUESTO | M15: VALOR ($)
C16: =C14+0.001 -> 3.101 | D16: Contribución Especial de Obra Pública (Impuesto de Guerra Ley 1738 DIC 18-2014 prorroga 4 años) | K16: 0.05 | M16: =K16*$F$10 -> 1075162.1
C17: =C16+0.001 -> 3.102 | D17: Reteica ICA (Ley 14 6 jul1983, Res 219 25 feb 2004) | K17: 0.00736 | M17: =K17*$F$10 -> 158263.86
C18: =C17+0.001 -> 3.103 | D18: Retefuente Contrato de Obra | K18: 0.02 | M18: =K18*$F$10 -> 430064.84
C19: =C18+0.001 -> 3.104 | D19: Estampilla Unipedagógica Nacional (Decreto 584 de 19 dic 2014) | K19: 0.005 | M19: =K19*$F$10 -> 107516.21
D20: SUBTOTAL IMPUESTOS | M20: =SUM(M16:M19) -> 1771007
C22: =C14+0.1 -> 3.2 | D22: GARANTIAS
C23: ÍTEM | D23: DESCRIPCIÓN | F23: VR. BASE | H23: % ASEGURADO | J23: VIGENCIA AMPARO (MESES) | K23: TASA ASEGURADORA | M23: VALOR ($)
C24: =C22+0.001 -> 3.201 | D24: Cumplimiento General | E24: GARANTIA DE CUMPLIMIENTO | F24: =+PMT!AE37 -> 24724428 | H24: 0.1 | J24: ='A,I,U'!I52 -> 5 | K24: ='AIU A&SST'!K24 -> 0.003 | M24: =ROUND((((((F24*H24)*K24)/12)*J24)+2500)*1.19,4) -> 6652.7586
C25: =C24+0.001 -> 3.202 | D25: Pago de Salarios, Prestaciones Sociales Legales e Indemnizaciones | F25: =$F$24 -> 24724428 | H25: ='AIU A&SST'!H25 -> 0.05 | J25: ='A,I,U'!I53 -> 41 | K25: ='AIU A&SST'!K25 -> 0.003 | M25: =ROUND((((((F25*H25)*K25)/12)*J25)+2500)*1.19,4) -> 18053.81
C26: =C25+0.001 -> 3.203 | D26: Estabilidad y Calidad de la Obras | F26: =F24 -> 24724428 | H26: ='AIU A&SST'!H26 -> 0.3 | J26: ='A,I,U'!I55 -> 5 | K26: ='AIU A&SST'!K26 -> 0.003 | M26: =ROUND((((((F26*H26)*K26)/12)*J26)+2500)*1.19,4) -> 14008.276
D28: SUBTOTAL GARANTÍAS | M28: =ROUND(SUM(M24:M26),0) -> 38715
D30: TOTAL IMPUESTOS Y GARANTÍAS | M30: =ROUND(M20+M28,0) -> 1809722
D31: TOTAL IMPUESTOS Y GARANTÍAS EN PORCENTAJE DEL COSTO DIRECTO | M31: =ROUND(M30/F10,4) -> 0.0842
D33: A. ADMINISTRACIÓN (1 + 2 + 3) | M33: =M31 -> 0.0842
D34: I. IMPREVISTOS | M34: 0.01
D35: U. UTILIDAD | M35: ='AIU PGS'!$M$34 -> 0.05
D37: A.I.U. (ADMINISTRACIÓN, IMPREVISTOS Y UTILIDAD) | M37: =SUM(M33:M35) -> 0.1442

Sheet FP
B3: CÁLCULO DEL FACTOR PRESTACIONAL - PERSONAL PROFESIONAL DE OBRA
B5: ITEM | C5: DESCRIPCION | D5: PORCENTAJE | E5: ACUMULADO
B6: SALARIOS | D6: 1
B8: 1 | C8: PRESTACIONES SOCIALES | E8: =SUM(D9:D14) -> 0.22303333
C9: Subsidio de transporte
C10: Cesantías | D10: =1/12 -> 0.083333333
C11: Intereses de Cesantías | D11: 0.01
C12: Prima de servicio | D12: =1/12 -> 0.083333333
C13: Vacaciones | D13: =0.5/12 -> 0.041666667
C14: Otros(Dotación - Examenes M) | D14: 0.0047
B15: 2 | C15: SEGURIDAD SOCIAL | E15: =SUM(D16:D18) -> 0.1896
C16: Pensión | D16: 0.12
C17: Salud
C18: A.R.L. | D18: 0.0696
B20: 3 | C20: PARAFISCALES | E20: =SUM(D21:D23) -> 0.04
C21: Caja de Compensación | D21: 0.04
C22: I.C.B.F.
C23: Sena
C25: TOTAL | E25: =SUM(E6:E24) -> 0.45263333
C26: FACTOR MULTIPLICADOR DEFINIDO | E26: =E25+1 -> 1.4526333
B45: De acuerdo con el Estatuto Tributario articulo 114-1. Estarán exoneradas del pago de los aportes parafiscales a favor del Servicio Nacional del Aprendizaje (SENA), del Instituto Colombiano de Bienestar Familiar (ICBF) y las cotizaciones al Régimen Contributivo de Salud, las sociedades y personas jurídicas y asimiladas contribuyentes declarantes del impuesto sobre la renta y complementarios, correspondientes a los trabajadores que devenguen, individualmente considerados, menos de diez (10) salarios mínimos mensuales legales vigentes.
