Workbook
Name _: #REF!
Name _: #REF!
Name _: #REF!
Name A_impresión_IM: #REF!
Name A_impresión_IM: #REF!
Name A_impresión_IM: #REF!
Name Adm: #REF!
Name Adm: #REF!
Name Adm: #REF!
Name BASE: #REF!
Name BASE: #REF!
Name BASE: #REF!
Name cadenero: MO!$B$10
Name CDCT: #REF!
Name CDCT: #REF!
Name CDCT: #REF!
Name CeldCanti: #REF!
Name CeldCanti: #REF!
Name CeldCanti: #REF!
Name CELDVRUNIT1: #REF!
Name CELDVRUNIT1: #REF!
Name CELDVRUNIT1: #REF!
Name CIndPresup: #REF!
Name CIndPresup: #REF!
Name CIndPresup: #REF!
Name concreto2500: #REF!
Name concreto3000: #REF!
Name COSTIND: #REF!
Name COSTIND: #REF!
Name COSTIND: #REF!
Name CU_BB: [1]CUADRILLAS!$E$37
Name DescripPpto: #REF!
Name DescripPpto: #REF!
Name DescripPpto: #REF!
Name fecha: '1. APU INST LA BALSA'!#REF!
Name fecha: '2. APU INST INDAPAZ 24 NOV'!#REF!
Name fecha: '3. APU INST INDAPAZ PRINCIPAL'!#REF!
Name fecha: '4. APU INST SN PRINCIPAL'!#REF!
Name fecha: '5. APU INST SN LAS MARGARITAS'!#REF!
Name fecha: '6. APU INST SN M. AUXILIADORA'!#REF!
Name fecha: '7. APU INST LUIFERGO'!#REF!
Name fecha: APU!#REF!
Name fecha: #REF!
Name FinPpto: #REF!
Name FinPpto: #REF!
Name FinPpto: #REF!
Name FinPpto2: #REF!
Name FinPpto2: #REF!
Name FinPpto2: #REF!
Name FormLinPresup: #REF!
Name FormLinPresup: #REF!
Name FormLinPresup: #REF!
Name gvgg: #REF!
Name gvgg: #REF!
Name gvgg: #REF!
Name hrtfxtfhxg: #REF!
Name hrtfxtfhxg: #REF!
Name hrtfxtfhxg: #REF!
Name Imprev: #REF!
Name Imprev: #REF!

Sheet PRESUPUESTO  UBS
A2: OBJETO : CONSTRUCCIÓN DE UNIDADES BÁSICAS SANITARIAS DE ALCANTARILLADO ALTERNO EN LOS CORREGIMIENTOS DE LA DORADA, BOCAS DE URÉ Y PUEBLO FLECHAS EN EL MUNICIPIO DE SAN JOSÉ DE URÉ DEPARTAMENTO DE CÓRDOBA.
A4: PRESUPUESTO DE OBRA
A6: 1 | B6: CASETA
A7: ITEM | B7: DESCRIPCION | C7: UND | D7: CANTIDAD | E7: VR. UNITARIO | F7: VALOR
A8: 1.1 | B8: Localización, nivelación y replanteo (Incluye equipo topografico) | C8: m2 | D8: 2.8 | E8: =+#REF! -> #REF! | F8: =+D8*E8 -> #REF!
A9: =+A8+0.1 -> 1.2 | B9: Excavación manual para viga de amarre inferior 0,30*0,30 | C9: ML | D9: 6.6 | E9: =+#REF! -> #REF! | F9: =+D9*E9 -> #REF!
A10: =+A9+0.1 -> 1.3 | B10: Viga cimiento de 0,20*0,20 con 4Ø3/8" y estribos de Ø1/4" c/0,20 mts, concreto de 3000 PSI | C10: ML | D10: 8.5 | E10: =+#REF! -> #REF! | F10: =+D10*E10 -> #REF!
A11: =+A10+0.1 -> 1.4 | B11: Sobrenivelación en bloque macizo acostado No. 10 (3 hiladas) | C11: ML | D11: 6.6 | E11: =+#REF! -> #REF! | F11: =+D11*E11 -> #REF!
A12: =+A11+0.1 -> 1.5 | B12: Levante de muros en bloque hueco No. 10 | C12: M2 | D12: 15.5 | E12: =+#REF! -> #REF! | F12: =+D12*E12 -> #REF!
A13: =+A12+0.1 -> 1.6 | B13: Levante de calados | C13: M2 | D13: 0.2 | E13: =+#REF! -> #REF! | F13: =+D13*E13 -> #REF!
A14: =+A13+0.1 -> 1.7 | B14: Revoque para muros en mortero 1:5 ambas caras, e= 0,03 mts | C14: M2 | D14: 32.5 | E14: =+#REF! -> #REF! | F14: =+D14*E14 -> #REF!
A15: =+A14+0.1 -> 1.8 | B15: Viga de amarre superior de 0,10*0,20 concreto de 3000 PSI con 4Ø38/" y estribos de Ø1/4" c(0,20 mts | C15: ML | D15: 6.6 | E15: =+#REF! -> #REF! | F15: =+D15*E15 -> #REF!
A16: =+A15+0.1 -> 1.9 | B16: Plantilla para piso pulido de e= 0,07 mts concreto de 3000 PSI | C16: M2 | D16: 2.8 | E16: =+#REF! -> #REF! | F16: =+D16*E16 -> #REF!
A17: =+A16+0.1 -> 2 | B17: Relleno en material seleccionado compactado al 95% de P.M. | C17: M3 | D17: 1.8 | E17: =+[3]APU!$M$621 -> 84864.01 | F17: =+D17*E17 -> 152755.22
A18: =+A17+0.1 -> 2.1 | B18: Cubierta en Asbesto cemento, incluye estructura en madera y amarres | C18: M2 | D18: 3.5 | E18: =+[3]APU!$M$679 -> 49720.329 | F18: =+D18*E18 -> 174021.15
A19: =+A18+0.1 -> 2.2 | B19: Suministro e instalación de sanitario blanco | C19: UN | D19: 1 | E19: =+[3]APU!$M$736 -> 324480.09 | F19: =+D19*E19 -> 324480.09
A20: =+A19+0.1 -> 2.3 | B20: Suministro instalación de lavamanos blanco | C20: UN | D20: 1 | E20: =+[3]APU!$M$794 -> 224640 | F20: =+D20*E20 -> 224640
A21: =+A20+0.1 -> 2.4 | B21: Suministro e instalación de puerta en lamina de 0,70*2,00 mts con marco metalico | C21: UN | D21: 1 | E21: =+[3]APU!$M$853 -> 224640 | F21: =+D21*E21 -> 224640
A22: =+A21+0.1 -> 2.5 | B22: Pintura tipo 1 para muros interiores y exteriores (Tres manos) | C22: M2 | D22: 32.5 | E22: =+[3]APU!$M$910 -> 18215.997 | F22: =+D22*E22 -> 592019.89
A23: =+A22+0.1 -> 2.6 | B23: Instalaciones hidraulicas internas | C23: GL | D23: 1 | E23: =+[3]APU!$M$970 -> 249600 | F23: =+D23*E23 -> 249600
A24: =+A23+0.1 -> 2.7 | B24: Instalaciones eléctricas internas | C24: GL | D24: 1 | E24: =+[3]APU!$M$1029 -> 224640 | F24: =+D24*E24 -> 224640
E25: Sub-total | F25: =+SUM(F8:F8) -> #REF!
A26: 2 | B26: EXCAVACIONES
A27: ITEM | B27: DESCRIPCION | C27: UND | D27: CANTIDAD | E27: VR. UNITARIO | F27: VALOR
A28: =+A26+0.1 -> 2.1 | B28: Excavación manual en material común menor de 3 mts | C28: m3 | D28: =+[4]RESUMEN!$C$16+[4]RESUMEN!$C$20+[4]RESUMEN!$C$22+[4]RESUMEN!$C$23+[5]RESUMEN!$C$16+[5]RESUMEN!$C$20+[5]RESUMEN!$C$22+[5]RESUMEN!$C$23 -> 4425.0357 | E28: =+#REF! -> #REF! | F28: =+D28*E28 -> #REF!
A29: =A28+0.1 -> 2.2 | B29: Excavación mecánico en material común mayor de 3 mts | C29: =+C28 -> m3 | D29: =+[5]RESUMEN!$C$25+[5]RESUMEN!$C$26 -> 538.03823 | E29: =+#REF! -> #REF! | F29: =+D29*E29 -> #REF! | G29: 26013.512
E30: Sub-total | F30: =SUM(F28:F29) -> #REF!
A31: 3 | B31: MOVIMIENTOS DE TIERRA Y ENTIBADO
A32: ITEM | B32: DESCRIPCION | C32: UND | D32: CANTIDAD | E32: VR. UNITARIO | F32: VALOR
A33: =+A31+0.1 -> 3.1 | B33: Relleno con material seleccionado proveniente de excavación compactado con vibrocompactador | C33: =+#REF! -> #REF! | D33: =+[5]RESUMEN!$C$40+[4]RESUMEN!$C$40 -> 2264.8355 | E33: =+#REF! -> #REF! | F33: =+D33*E33 -> #REF! | G33: 15532.108
A34: =+A33+0.1 -> 3.2 | B34: Relleno con material seleccionado debidamente compactado al 95% del proctor modificado, e=0.3 mts (acarreo libre de 5 km) | C34: =+#REF! -> #REF! | D34: =+[5]RESUMEN!$C$28+[5]RESUMEN!$C$32+[4]RESUMEN!$C$28+[4]RESUMEN!$C$32 -> 1849.6049 | E34: =+#REF! -> #REF! | F34: =+D34*E34 -> #REF! | G34: 90511.367
A35: =+A34+0.1 -> 3.3 | B35: Relleno con arena, incluye materiales y mano de obra | C35: =+#REF! -> #REF! | D35: =+[5]RESUMEN!$C$34+[5]RESUMEN!$C$38+[4]RESUMEN!$C$34+[4]RESUMEN!$C$38 -> 472.03559 | E35: =+#REF! -> #REF! | F35: =+D35*E35 -> #REF! | G35: 46744.486
A36: =+A35+0.1 -> 3.4 | B36: Cargue, retiro y disposición de material sobrante de excavación a 5 Km | C36: =+#REF! -> #REF! | D36: =+[5]RESUMEN!$C$45+[5]RESUMEN!$C$49+[4]RESUMEN!$C$45+[4]RESUMEN!$C$49 -> 2698.2385 | E36: =+#REF! -> #REF! | F36: =+D36*E36 -> #REF! | G36: 25324.978
A37: =+A36+0.1 -> 3.5 | B37: Entibado temporal, debe incluir suministro,transporte, colocación de la madera, los tablones y los puntales; el costo de los equipos, herramientas, materiales, mano de obra y todo los costo directos | C37: m2 | D37: =+[5]RESUMEN!$C$50+[4]RESUMEN!$C$50 -> 3255.6968 | E37: =+#REF! -> #REF! | F37: =+D37*E37 -> #REF! | G37: 31598.126
E38: Sub-total | F38: =+SUM(F33:F37) -> #REF!
A39: 4 | B39: SUMINISTRO DE TUBERÍA ALCANTARILLADO SANITARIO
A40: ITEM | B40: DESCRIPCION | C40: UND | D40: CANTIDAD | E40: VR. UNITARIO | F40: VALOR
A41: 4.1 | B41: Suministro e instalación de Tubería PVC U.M. PVC D=200mm (8") | C41: ml | D41: =+[5]RESUMEN!$C$7 -> 2011.46 | E41: =+#REF! -> #REF! | F41: =D41*E41 -> #REF! | G41: 69964.623
A42: 4.2 | B42: Suministro e instalación de Tubería PVC U.M. PVC D=150mm (6") para manijas | C42: ml | D42: =+[4]RESUMEN!$C$7 -> 59.28 | E42: =+#REF! -> #REF! | F42: =D42*E42 -> #REF!
E43: Sub-total | F43: =+SUM(F41:F41) -> #REF!
...

Sheet PRESUPUESTO
B1: MANTENIMIENTO Y ADECUACIÓN DE INSTITUCIONES EDUCATIVAS OFICIALES, DEL MUNICIPIO DE LA APARTADA CORDOBA.
B3: ITEM | C3: DESCRIPCIÓN | D3: UND | E3: CANT. | F3: V. UNITARO | G3: V. PARCIAL
B4: 1 | C4: INSTITUCIÓN ADUCATIVA LA BALSA SEDE PRINCIPAL
B5: 1.1 | C5: DESMONTE DE PUERTA GALVANIZADA DE ACCCESO A UNIDAD SANITARIA, 1.0 MTS X 2.40 MTS, INLCUYE DESMONTE DE MARCO | D5: UND | E5: 2 | F5: =+'1. APU INST LA BALSA'!H40 -> 153098.67 | G5: =+E5*F5 -> 306197.33
B6: 1.2 | C6: DESMONTE DE PUERTA DE BAÑO DE UNIDAD SANITARIA EN MAL ESTADO. 0.68 MTS X 1.80 MTS, INCLUYE DESMONTE DE MARCO | D6: UND | E6: 6 | F6: =+'1. APU INST LA BALSA'!H89 -> 122478.93 | G6: =+E6*F6 -> 734873.6
B7: 1.3 | C7: DESMONTE DE PUERTAS DE ACCESO EN MAL ESTADO DE CUARTO DE ALMACEN, 0.70 MTS X 2.40 MTS, INLUYE DESMONTE DE MARCOS. | D7: UND | E7: 4 | F7: =+'1. APU INST LA BALSA'!H141 -> 153098.67 | G7: =+E7*F7 -> 612394.67
B8: 1.4 | C8: S/I DE PUERTA GALVANIZADA CALIBRE 20, EN MARCO DE TUBOS DE 1.0 MTS X 2.40 MTS, PARA ACCESO UNIDAD SANITARIA Y CUARTO DE ALMACEN | D8: UND | E8: 3 | F8: =+'1. APU INST LA BALSA'!H191 -> 1456003.1 | G8: =+E8*F8 -> 4368009.3
B9: 1.5 | C9: S/I DE PUERTA GALVANIZADA CALIBRE 20, EN MARCO DE TUBOS DE 0.70 MTS X 1.80 MTS | D9: UND | E9: 6 | F9: =+'1. APU INST LA BALSA'!H244 -> 941870.92 | G9: =+E9*F9 -> 5651225.5
B10: 1.6 | C10: SELLADO DE PUERTAS GALAVANIZADAS DE 0.70 MTS X 2.10 MTS, CON MANPOSTERIA EN BLOQUE 0.10 X 0.20 X 0.40. | D10: M2 | E10: =2*0.7*2.1 -> 2.94 | F10: =+'1. APU INST LA BALSA'!H298 -> 60764.944 | G10: =+E10*F10 -> 178648.94
B11: 1.7 | C11: DESMONTE DE SANITARIOS EN MAL ESTADO. | D11: UND | E11: 6 | F11: =+'1. APU INST LA BALSA'!H348 -> 105991.38 | G11: =+E11*F11 -> 635948.31
B12: 1.8 | C12: S/I DE SANITARIOS CERÁMICO BLANCO, INCLUYE TODOS SUS ACCESORIOS, HASTA SU CORRECTO FUNCIONAMINETO. | D12: UND | E12: 6 | F12: =+'1. APU INST LA BALSA'!H401 -> 597617.4 | G12: =+E12*F12 -> 3585704.4
B13: 1.9 | C13: S/I DE GRIFERIA PARA LAVAMANOS CERÁMICO BLANCO, INCLUYE TODOS SUS ACCESORIOS, HASTA SU CORRECTO FUNCIONAMIENTO. | D13: UND | E13: 2 | F13: =+'1. APU INST LA BALSA'!H451 -> 234288.05 | G13: =+E13*F13 -> 468576.1
B14: 1.10 | C14: S/I DE ORINALES CERÁMICO BLANCO, INLCUYE TODOS SUS ACCESORIOS, HASTA SU CORRECTO FUNCIONAMIENTO. | D14: UND | E14: 2 | F14: =+'1. APU INST LA BALSA'!H504 -> 521841.4 | G14: =+E14*F14 -> 1043682.8
B15: 1.11 | C15: S/I DE LAMPARAS LED DE LAMPARAS LEED DE 0,60 X 0,60 LUZ BLANCA. | D15: UND | E15: 4 | F15: =+'1. APU INST LA BALSA'!H555 -> 153498.7 | G15: =+E15*F15 -> 613994.8
B16: 1.12 | C16: PINTURA PARA MUROS INTERIORES LAVABLE | D16: M2 | E16: 76.69 | F16: =+'1. APU INST LA BALSA'!H608 -> 11261.973 | G16: =+E16*F16 -> 863680.73
B17: 1.13 | C17: PINTURA PAR MURO EXTERIOR TIPO KORAZA | D17: M2 | E17: 112.58 | F17: =+'1. APU INST LA BALSA'!H662 -> 27598.371 | G17: =+E17*F17 -> 3107024.6
B18: 1.14 | C18: S/I DE CIELO RASO EN LAMINA PVC, EN UNIDAD SANITARIA | D18: M2 | E18: 30.655 | F18: =+'1. APU INST LA BALSA'!H720 -> 74044.538 | G18: =+E18*F18 -> 2269835.3
C19: SUB-TOTAL | G19: =+SUM(G5:G18) -> 24439796
B20: 2 | C20: INSTITUCIÓN EDUCATIVA INDAPAZ SEDE 24 DE NOVIEMBRE
B21: 2.1 | C21: DESMONTE DE PUERTAS DE ACCCESO A UNIDAD SANITARIA, 1.0 MTS X 2.40 MTS, INLCUYE DESMONTE DE MARCO | D21: UND | E21: 2 | F21: =+'2. APU INST INDAPAZ 24 NOV'!H40 -> 153098.67 | G21: =+E21*F21 -> 306197.33
B22: 2.2 | C22: DESMONTE DE PUERTA DE BAÑO DE UNIDAD SANITARIA EN MAL ESTADO. 0.68 MTS X 1.80 MTS, INCLUYE DESMONTE DE MARCO | D22: UND | E22: 6 | F22: =+'2. APU INST INDAPAZ 24 NOV'!H91 -> 122478.93 | G22: =+E22*F22 -> 734873.6
B23: 2.3 | C23: S/I DE PUERTAS GALVANIZADAS CALIBRE 20, EN MARCO DE TUBOS DE 1.0 MTS X 2.40 MTS, PARA ACCESO UNIDAD SANITARIA. | D23: UND | E23: 2 | F23: =+'2. APU INST INDAPAZ 24 NOV'!H145 -> 1441863.1 | G23: =+E23*F23 -> 2883726.2
B24: 2.4 | C24: S/I DE PUERTA GALVANIZADA CALIBRE 20, EN MARCO DE TUBOS DE 0.70 MTS X 1.80 MTS | D24: UND | E24: 6 | F24: =+'2. APU INST INDAPAZ 24 NOV'!H197 -> 927730.92 | G24: =+E24*F24 -> 5566385.5
B25: 2.5 | C25: DESMONTE DE SANITARIOS EN MAL ESTADO. | D25: UND | E25: 6 | F25: =+'2. APU INST INDAPAZ 24 NOV'!H247 -> 105991.38 | G25: =+E25*F25 -> 635948.31
B26: 2.6 | C26: S/I DE SANITARIOS CERÁMICO BLANCO, INCLUYE TODOS SUS ACCESORIOS, HASTA SU CORRECTO FUNCIONAMINETO. | D26: UND | E26: 6 | F26: =+'2. APU INST INDAPAZ 24 NOV'!H300 -> 582017.4 | G26: =+E26*F26 -> 3492104.4
B27: 2.7 | C27: S/I DE GRIFERIA PARA LAVAMANOS CERÁMICO BLANCO, INCLUYE TODOS SUS ACCESORIOS, HASTA SU CORRECTO FUNCIONAMIENTO. | D27: UND | E27: 2 | F27: =+'2. APU INST INDAPAZ 24 NOV'!H350 -> 234288.05 | G27: =+E27*F27 -> 468576.1
C28: SUB-TOTAL | G28: =+SUM(G21:G27) -> 14087812
B29: 3 | C29: INSTITUCIÓN EDUCATIVA INADAPAZ SEDE PRINCIPAL
B30: 3.1 | C30: DESMONTE DE CIELO RASO EN LAMINA DE DRYWALL, EN MAL ESTADO. | D30: M2 | E30: =+E31 -> 364.5 | F30: =+'7. APU INST LUIFERGO'!H101 -> 12113.301 | G30: =+F30*E30 -> 4415298.2
B31: 3.2 | C31: S/I DE CIELO RASO EN LAMINA PVC, PARA AULAS ESCOLARES | D31: M2 | E31: =7.5*8.1*6 -> 364.5 | F31: =+'3. APU INST INDAPAZ PRINCIPAL'!H48 -> 71355.737 | G31: =+E31*F31 -> 26009166
C32: SUB-TOTAL | G32: =+SUM(G31+G30) -> 30424464
B33: 4 | C33: INSTITUCIÓN EDUCATIVA SITIO NUEVO SEDE PRINCIPAL
B34: 4.1 | C34: DESMONTE DE CUBIERTA EN TEJA DE ETENIT EN MAL ESTADO, PARA COMEDOR. | D34: M2 | E34: =8.6*9.46 -> 81.356 | F34: =+'4. APU INST SN PRINCIPAL'!H40 -> 13672.893 | G34: =+E34*F34 -> 1112371.9
B35: 4.2 | C35: S/I DE TEJA ARQUITECTONICA TJ AZUL 1,01M X 6 M CAL 31 0,25MM, INCLUYE TODOS SUS ACCESORIOS PARA SU DEBIDA INSTALACIÓN. | D35: M2 | E35: =+E34 -> 81.356 | F35: =+'4. APU INST SN PRINCIPAL'!H96 -> 77639.527 | G35: =+E35*F35 -> 6316441.3
B36: 4.3 | C36: S/I DE CABALLETE AZUL 0,40X0,107M KLAR U PVC | D36: ML | E36: 9.46 | F36: =+'4. APU INST SN PRINCIPAL'!H151 -> 92584.867 | G36: =+E36*F36 -> 875852.84
B37: 4.4 | C37: S/I DE CIELO RASO EN LAMINA PVC, EN COMEDOR Y AULAS | D37: M2 | E37: =52.992+65.92 -> 118.912 | F37: =+'4. APU INST SN PRINCIPAL'!H209 -> 77044.538 | G37: =+E37*F37 -> 9161520.1
B38: 4.5 | C38: PINTURA PARA MUROS INTERIORES LAVABLE | D38: M2 | E38: =230.76-71.784 -> 158.976 | F38: =+'4. APU INST SN PRINCIPAL'!H254 -> 11261.973 | G38: =+E38*F38 -> 1790383.5
B39: 4.6 | C39: PINTURA PARA MUROS EXTERIORES TIPO KORAZA | D39: M2 | E39: 243.528 | F39: =+'4. APU INST SN PRINCIPAL'!H308 -> 27598.371 | G39: =+E39*F39 -> 6720976
B40: 4.7 | C40: S/I DE SANITARIOS CERÁMICO BLANCO, INCLUYE TODOS SUS ACCESORIOS, HASTA SU CORRECTO FUNCIONAMINETO. | D40: UND | E40: 2 | F40: =+'4. APU INST SN PRINCIPAL'!H360 -> 612017.4 | G40: =+E40*F40 -> 1224034.8
B41: 4.8 | C41: S/I DE GRIFERIA PARA LAVAMANOS CERÁMICO BLANCO, INCLUYE TODOS SUS ACCESORIOS, HASTA SU CORRECTO FUNCIONAMIENTO. | D41: UND | E41: 5 | F41: =+'4. APU INST SN PRINCIPAL'!H410 -> 251953.28 | G41: =+E41*F41 -> 1259766.4
...

Sheet 1. APU INST LA BALSA
B8: ANALISIS DE PRECIOS UNITARIOS A.P.U.
B9: =+PRESUPUESTO!B1 -> MANTENIMIENTO Y ADECUACIÓN DE INSTITUCIONES EDUCATIVAS OFICIALES, DEL MUNICIPIO DE LA APARTADA CORDOBA.
B12: =+PRESUPUESTO!C5 -> DESMONTE DE PUERTA GALVANIZADA DE ACCCESO A UNIDAD SANITARIA, 1.0 MTS X 2.40 MTS, INLCUYE DESMONTE DE MARCO | G12: UND: und
B15: ITEM | C15: =+PRESUPUESTO!B5 -> 1.1
B16: I. EQUIPO
B17: Descripción | D17: Tipo | E17: Tarifa/Hora | F17: Rendimiento | G17: Valor-Unit. | H17: Valor Total
B18: Herramienta menor | F18: 0.1 | G18: =+H38 -> 139180.61 | H18: =+F18*G18 -> 13918.061
G21: Sub-Total | H21: =SUM(H18:H20) -> 13918.061
B22: II. MATERIALES EN OBRA
B23: Descripción | D23: Unidad | E23: Cantidad | F23: Precio unitario | G23: Valor-unit | H23: Valor Total
G27: Sub-Total | H27: =SUM(H24:H26) -> 0
B28: III. TRANSPORTES
B29: Descripción | D29: Tipo | E29: Distancia | F29: Tarifa | G29: Valor-Unit. | H29: Valor Total
G30: =+E30*F30 -> 0 | H30: =+G30 -> 0
G32: Sub-Total | H32: =+H30 -> 0
B33: IV. MANO DE OBRA
B34: Trabajador | C34: Cantidad | D34: Jornal | E34: Prestaciones | F34: Jornal Total | G34: Rendimiento | H34: Valor-Unit.
B35: Oficial | C35: 1 | D35: 93381.6 | E35: 1.8344 | F35: =+D35*C35*E35 -> 171299.21 | G35: 2 | H35: =F35/G35 -> 85649.604
B36: ayudante | C36: 1 | D36: 58363.5 | E36: 1.8344 | F36: =+D36*C36*E36 -> 107062 | G36: 2 | H36: =+F36/G36 -> 53531.002
G38: Sub-Total | H38: =+SUM(H35:H37) -> 139180.61
C40: Aprobó: | G40: Total Costo Directo | H40: =+H21+H27+H32+H38 -> 153098.67
C43: OMAR ANTONIO ROMÁN HERRERA
C44: Secretario de Planeación, Obras Públicas y Medio Ambiente
C45: Municipio de La Apartada Córdoba (E)
C46: Mediante Resolución N°. 286 de 08 de septiembre de 2026
B57: ANALISIS DE PRECIOS UNITARIOS A.P.U.
B58: =+PRESUPUESTO!B1 -> MANTENIMIENTO Y ADECUACIÓN DE INSTITUCIONES EDUCATIVAS OFICIALES, DEL MUNICIPIO DE LA APARTADA CORDOBA.
B61: =+PRESUPUESTO!C6 -> DESMONTE DE PUERTA DE BAÑO DE UNIDAD SANITARIA EN MAL ESTADO. 0.68 MTS X 1.80 MTS, INCLUYE DESMONTE DE MARCO | G61: UND:
B64: ITEM | C64: =+PRESUPUESTO!B6 -> 1.2
B65: I. EQUIPO
B66: Descripción | D66: Tipo | E66: Tarifa/Hora | F66: Rendimiento | G66: Valor-Unit. | H66: Valor Total
B67: Herramienta menor | F67: 0.1 | G67: =+H87 -> 111344.48 | H67: =+F67*G67 -> 11134.448
G70: Sub-Total | H70: =SUM(H67:H69) -> 11134.448
B71: II. MATERIALES EN OBRA
B72: Descripción | D72: Unidad | E72: Cantidad | F72: Precio unitario | G72: Valor-unit | H72: Valor Total
G76: Sub-Total | H76: =SUM(H73:H75) -> 0
B77: III. TRANSPORTES
B78: Descripción | D78: Tipo | E78: Distancia | F78: Tarifa | G78: Valor-Unit. | H78: Valor Total
G79: =+E79*F79 -> 0 | H79: =+G79 -> 0
G81: Sub-Total | H81: =+H79 -> 0
...

Sheet 2. APU INST INDAPAZ 24 NOV
B8: ANALISIS DE PRECIOS UNITARIOS A.P.U.
B9: =+PRESUPUESTO!B1 -> MANTENIMIENTO Y ADECUACIÓN DE INSTITUCIONES EDUCATIVAS OFICIALES, DEL MUNICIPIO DE LA APARTADA CORDOBA.
B12: =+PRESUPUESTO!C5 -> DESMONTE DE PUERTA GALVANIZADA DE ACCCESO A UNIDAD SANITARIA, 1.0 MTS X 2.40 MTS, INLCUYE DESMONTE DE MARCO | G12: UND: und
B15: ITEM | C15: =+PRESUPUESTO!B21 -> 2.1
B16: I. EQUIPO
B17: Descripción | D17: Tipo | E17: Tarifa/Hora | F17: Rendimiento | G17: Valor-Unit. | H17: Valor Total
B18: Herramienta menor | F18: 0.1 | G18: =+H38 -> 139180.61 | H18: =+F18*G18 -> 13918.061
G21: Sub-Total | H21: =SUM(H18:H20) -> 13918.061
B22: II. MATERIALES EN OBRA
B23: Descripción | D23: Unidad | E23: Cantidad | F23: Precio unitario | G23: Valor-unit | H23: Valor Total
G27: Sub-Total | H27: =SUM(H24:H26) -> 0
B28: III. TRANSPORTES
B29: Descripción | D29: Tipo | E29: Distancia | F29: Tarifa | G29: Valor-Unit. | H29: Valor Total
G30: =+E30*F30 -> 0 | H30: =+G30 -> 0
G32: Sub-Total | H32: =+H30 -> 0
B33: IV. MANO DE OBRA
B34: Trabajador | C34: Cantidad | D34: Jornal | E34: Prestaciones | F34: Jornal Total | G34: Rendimiento | H34: Valor-Unit.
B35: Oficial | C35: 1 | D35: 93381.6 | E35: 1.8344 | F35: =+D35*C35*E35 -> 171299.21 | G35: 2 | H35: =F35/G35 -> 85649.604
B36: ayudante | C36: 1 | D36: 58363.5 | E36: 1.8344 | F36: =+D36*C36*E36 -> 107062 | G36: 2 | H36: =+F36/G36 -> 53531.002
G38: Sub-Total | H38: =+SUM(H35:H37) -> 139180.61
C40: Aprobó: | G40: Total Costo Directo | H40: =+H21+H27+H32+H38 -> 153098.67
C43: OMAR ANTONIO ROMÁN HERRERA
C44: Secretario de Planeación, Obras Públicas y Medio Ambiente
C45: Municipio de La Apartada Córdoba (E)
C46: Mediante Resolución N°. 286 de 08 de septiembre de 2026
B59: ANALISIS DE PRECIOS UNITARIOS A.P.U.
B60: =+PRESUPUESTO!B1 -> MANTENIMIENTO Y ADECUACIÓN DE INSTITUCIONES EDUCATIVAS OFICIALES, DEL MUNICIPIO DE LA APARTADA CORDOBA.
B63: =+PRESUPUESTO!C22 -> DESMONTE DE PUERTA DE BAÑO DE UNIDAD SANITARIA EN MAL ESTADO. 0.68 MTS X 1.80 MTS, INCLUYE DESMONTE DE MARCO | G63: UND: und
B66: ITEM | C66: =+PRESUPUESTO!B22 -> 2.2
B67: I. EQUIPO
B68: Descripción | D68: Tipo | E68: Tarifa/Hora | F68: Rendimiento | G68: Valor-Unit. | H68: Valor Total
B69: Herramienta menor | F69: 0.1 | G69: =+H89 -> 111344.48 | H69: =+F69*G69 -> 11134.448
G72: Sub-Total | H72: =SUM(H69:H71) -> 11134.448
B73: II. MATERIALES EN OBRA
B74: Descripción | D74: Unidad | E74: Cantidad | F74: Precio unitario | G74: Valor-unit | H74: Valor Total
G78: Sub-Total | H78: =SUM(H75:H77) -> 0
B79: III. TRANSPORTES
B80: Descripción | D80: Tipo | E80: Distancia | F80: Tarifa | G80: Valor-Unit. | H80: Valor Total
G81: =+E81*F81 -> 0 | H81: =+G81 -> 0
G83: Sub-Total | H83: =+H81 -> 0
...

Sheet 3. APU INST INDAPAZ PRINCIPAL
B8: ANALISIS DE PRECIOS UNITARIOS A.P.U.
B9: =+PRESUPUESTO!B1 -> MANTENIMIENTO Y ADECUACIÓN DE INSTITUCIONES EDUCATIVAS OFICIALES, DEL MUNICIPIO DE LA APARTADA CORDOBA.
B12: =+PRESUPUESTO!C31 -> S/I DE CIELO RASO EN LAMINA PVC, PARA AULAS ESCOLARES | G12: UND: M2
B15: ITEM | C15: =+PRESUPUESTO!B30 -> 3.1
B16: I. EQUIPO
B17: Descripción | D17: Tipo | E17: Tarifa/Hora | F17: Rendimiento | G17: Valor-Unit. | H17: Valor Total
B18: Herramienta menor | F18: 0.1 | G18: =+H46 -> 18833.365 | H18: =+F18*G18 -> 1883.3365
B19: Andamios tijera 1.50,*30 mts | E19: 4200 | F19: 5 | G19: =+E19/F19 -> 840 | H19: =+G19 -> 840
B20: Plataforma Met para andamios | E20: 4600 | F20: 5 | G20: =+E20/F20 -> 920 | H20: =+G20 -> 920
G21: Sub-Total | H21: =SUM(H18:H20) -> 3643.3365
B22: II. MATERIALES EN OBRA
B23: Descripción | D23: Unidad | E23: Precio-Unit. | F23: Cantidad | G23: Valor-Unit. | H23: Valor Total
D24: =+IF(B24=0,"",(VLOOKUP(B24,[7]MATERIALES!$B$6:$D$149,3,FALSE))) | G24: =E24*F24 -> 0 | H24: =G24 -> 0
B25: ANGULO 30 X 20 MM CAL 26 | D25: UND | E25: 3650 | F25: 0.35 | G25: =E25*F25 -> 1277.5 | H25: =G25 -> 1277.5
B26: CHAZOS | D26: UND | E26: 500 | F26: 5 | G26: =E26*F26 -> 2500 | H26: =G26 -> 2500
B27: OMEGA CON REBORDE CAL 26 X 2.44 | D27: UND | E27: 5200 | F27: 1.8 | G27: =E27*F27 -> 9360 | H27: =G27 -> 9360
B28: ALAMBRE GALVANIZADO | D28: KG | E28: 15600 | F28: 0.07 | G28: =E28*F28 -> 1092 | H28: =G28 -> 1092
B29: PERFIL TIPO J 2.90 m | D29: UND | E29: 7900 | F29: 0.35 | G29: =E29*F29 -> 2765 | H29: =G29 -> 2765
B30: LAMINA PVC 2.90m X 0.30m E7mm | D30: UND | E30: =(79692)/4 -> 19923 | F30: 1.2 | G30: =E30*F30 -> 23907.6 | H30: =G30 -> 23907.6
B31: TORNILLO AUTO PERFORANTES | D31: UND | E31: 200 | F31: 20 | G31: =E31*F31 -> 4000 | H31: =G31 -> 4000
B33: Desperdicio | D33: % | E33: =+SUM(G25:G32) -> 44902.1 | F33: 0.05 | G33: =E33*F33 -> 2245.105 | H33: =G33 -> 2245.105
G35: Sub-Total | H35: =SUM(H24:H34) -> 47147.205
B36: III. TRANSPORTES
B37: Descripción | D37: Tipo | E37: Distancia | F37: Tarifa/M2 | G37: Valor-Unit. | H37: Valor Total
B38: camion turbo | D38: C2P | E38: 1 | F38: 1731.83 | G38: =+E38*F38 -> 1731.83 | H38: =+G38 -> 1731.83
G40: Sub-Total | H40: =SUM(H38:H39) -> 1731.83
B41: IV. MANO DE OBRA
B42: Trabajador | C42: Cantidad | D42: Jornal | E42: Prestaciones | F42: Jornal Total | G42: Rendimiento | H42: Valor-Unit.
B43: Oficial | C43: 1 | D43: =+'2. APU INST INDAPAZ 24 NOV'!D552 -> 93381.6 | E43: 1.8344 | F43: =+D43*C43*E43 -> 171299.21 | G43: 14.780216 | H43: =F43/G43 -> 11589.763
B44: ayudante | C44: 1 | D44: =+'2. APU INST INDAPAZ 24 NOV'!D553 -> 58363.5 | E44: 1.8344 | F44: =+D44*C44*E44 -> 107062 | G44: =+G43 -> 14.780216 | H44: =+F44/G44 -> 7243.6021
G46: Sub-Total | H46: =+SUM(H43:H45) -> 18833.365
C48: Aprobó: | G48: Total Costo Directo | H48: =+H21+H35+H40+H46 -> 71355.737
C51: OMAR ANTONIO ROMÁN HERRERA
C52: Secretario de Planeación, Obras Públicas y Medio Ambiente
C53: Municipio de La Apartada Córdoba (E)
C54: Mediante Resolución N°. 286 de 08 de septiembre de 2026
B65: ANALISIS DE PRECIOS UNITARIOS A.P.U.
B66: =+PRESUPUESTO!B1 -> MANTENIMIENTO Y ADECUACIÓN DE INSTITUCIONES EDUCATIVAS OFICIALES, DEL MUNICIPIO DE LA APARTADA CORDOBA.
B69: =+PRESUPUESTO!C30 -> DESMONTE DE CIELO RASO EN LAMINA DE DRYWALL, EN MAL ESTADO. | G69: UND:
B72: ITEM | C72: =+PRESUPUESTO!B31 -> 3.2
...

Sheet 4. APU INST SN PRINCIPAL
B8: ANALISIS DE PRECIOS UNITARIOS A.P.U.
B9: =+PRESUPUESTO!B1 -> MANTENIMIENTO Y ADECUACIÓN DE INSTITUCIONES EDUCATIVAS OFICIALES, DEL MUNICIPIO DE LA APARTADA CORDOBA.
B12: =+PRESUPUESTO!C34 -> DESMONTE DE CUBIERTA EN TEJA DE ETENIT EN MAL ESTADO, PARA COMEDOR. | G12: UND: M2
B15: ITEM | C15: =+PRESUPUESTO!B34 -> 4.1
B16: I. EQUIPO
B17: Descripción | D17: Tipo | E17: Tarifa/Hora | F17: Rendimiento | G17: Valor-Unit. | H17: Valor Total
B18: Herramienta menor | F18: 0.1 | G18: =+H38 -> 11134.448 | H18: =+F18*G18 -> 1113.4448
B19: Andamios tubulares | E19: 2850 | F19: 0.5 | G19: =+E19*F19 -> 1425 | H19: =+G19 -> 1425
G21: Sub-Total | H21: =SUM(H18:H20) -> 2538.4448
B22: II. MATERIALES EN OBRA
B23: Descripción | D23: Unidad | E23: Precio-Unit. | F23: Cantidad | G23: Valor-Unit. | H23: Valor Total
D24: =+IF(B24=0,"",(VLOOKUP(B24,[7]MATERIALES!$B$6:$D$149,3,FALSE))) | G24: =E24*F24 -> 0 | H24: =G24 -> 0
D25: =+IF(B25=0,"",(VLOOKUP(B25,[7]MATERIALES!$B$6:$D$149,3,FALSE))) | G25: =E25*F25 -> 0 | H25: =G25 -> 0
G27: Sub-Total | H27: =SUM(H24:H26) -> 0
B28: III. TRANSPORTES
B29: Descripción | D29: Tipo | E29: Distancia | F29: Tarifa | G29: Valor-Unit. | H29: Valor Total
G32: Sub-Total | H32: =SUM(H30:H31) -> 0
B33: IV. MANO DE OBRA
B34: Trabajador | C34: Cantidad | D34: Jornal | E34: Prestaciones | F34: Jornal Total | G34: Rendimiento | H34: Valor-Unit.
B35: Oficial | C35: 1 | D35: =+'2. APU INST INDAPAZ 24 NOV'!D552 -> 93381.6 | E35: 1.8344 | F35: =+D35*C35*E35 -> 171299.21 | G35: 25 | H35: =F35/G35 -> 6851.9683
B36: ayudante | C36: 1 | D36: =+'2. APU INST INDAPAZ 24 NOV'!D553 -> 58363.5 | E36: 1.8344 | F36: =+D36*C36*E36 -> 107062 | G36: 25 | H36: =+F36/G36 -> 4282.4802
G38: Sub-Total | H38: =+SUM(H35:H37) -> 11134.448
D40: Total Costo Directo | H40: =+H21+H27+H32+H38 -> 13672.893
C43: OMAR ANTONIO ROMÁN HERRERA
C44: Secretario de Planeación, Obras Públicas y Medio Ambiente
C45: Municipio de La Apartada Córdoba (E)
C46: Mediante Resolución N°. 286 de 08 de septiembre de 2026
B59: ANALISIS DE PRECIOS UNITARIOS A.P.U.
B60: =+PRESUPUESTO!B1 -> MANTENIMIENTO Y ADECUACIÓN DE INSTITUCIONES EDUCATIVAS OFICIALES, DEL MUNICIPIO DE LA APARTADA CORDOBA.
B63: =+PRESUPUESTO!C35 -> S/I DE TEJA ARQUITECTONICA TJ AZUL 1,01M X 6 M CAL 31 0,25MM, INCLUYE TODOS SUS ACCESORIOS PARA SU DEBIDA INSTALACIÓN. | G63: UND: M2
B66: ITEM | C66: =+PRESUPUESTO!B35 -> 4.2
B67: I. EQUIPO
B68: Descripción | D68: Tipo | E68: Tarifa/Hora | F68: Rendimiento | G68: Valor-Unit. | H68: Valor Total
B69: Herramienta menor | F69: 0.1 | G69: =+H94 -> 19271.161 | H69: =+F69*G69 -> 1927.1161
G72: Sub-Total | H72: =SUM(H69:H71) -> 1927.1161
B73: II. MATERIALES EN OBRA
B74: Descripción | D74: Unidad | E74: Precio-Unit. | F74: Cantidad | G74: Valor-Unit. | H74: Valor Total
B75: teja arquitectonica TJ Azul 1,01m x 6 m Cal 31 0,25mm | D75: m2 | E75: 22350 | F75: 1 | G75: =E75*F75 -> 22350 | H75: =G75 -> 22350
B76: Tornillo autoperforante con arandela | D76: und | E76: 1750 | F76: 6 | G76: =E76*F76 -> 10500 | H76: =G76 -> 10500
B77: Cinta butilica impermeabilizante | D77: ml | E77: 3500 | F77: 2 | G77: =E77*F77 -> 7000 | H77: =G77 -> 7000
...

Sheet 5. APU INST SN LAS MARGARITAS
B8: ANALISIS DE PRECIOS UNITARIOS A.P.U.
B9: =+PRESUPUESTO!B1 -> MANTENIMIENTO Y ADECUACIÓN DE INSTITUCIONES EDUCATIVAS OFICIALES, DEL MUNICIPIO DE LA APARTADA CORDOBA.
B12: =+PRESUPUESTO!C46 -> S/I DE CIELO RASO EN LAMINA PVC, COMEDOR | G12: UND: M2
B15: ITEM | C15: =+PRESUPUESTO!B46 -> 5.1
B16: I. EQUIPO
B17: Descripción | D17: Tipo | E17: Tarifa/Hora | F17: Rendimiento | G17: Valor-Unit. | H17: Valor Total
B18: Herramienta menor | F18: 0.1 | G18: =+H46 -> 17397.576 | H18: =+F18*G18 -> 1739.7576
B19: Andamios tijera 1.50,*30 mts | E19: 4200 | F19: 5 | G19: =+E19/F19 -> 840 | H19: =+G19 -> 840
B20: Plataforma Met para andamios | E20: 4600 | F20: 5 | G20: =+E20/F20 -> 920 | H20: =+G20 -> 920
G21: Sub-Total | H21: =SUM(H18:H20) -> 3499.7576
B22: II. MATERIALES EN OBRA
B23: Descripción | D23: Unidad | E23: Precio-Unit. | F23: Cantidad | G23: Valor-Unit. | H23: Valor Total
D24: =+IF(B24=0,"",(VLOOKUP(B24,[7]MATERIALES!$B$6:$D$149,3,FALSE))) | G24: =E24*F24 -> 0 | H24: =G24 -> 0
B25: ANGULO 30 X 20 MM CAL 26 | D25: UND | E25: 3650 | F25: 0.35 | G25: =E25*F25 -> 1277.5 | H25: =G25 -> 1277.5
B26: CHAZOS | D26: UND | E26: 500 | F26: 5 | G26: =E26*F26 -> 2500 | H26: =G26 -> 2500
B27: OMEGA CON REBORDE CAL 26 X 2.44 | D27: UND | E27: 5200 | F27: 1.8 | G27: =E27*F27 -> 9360 | H27: =G27 -> 9360
B28: ALAMBRE GALVANIZADO | D28: KG | E28: 15600 | F28: 0.07 | G28: =E28*F28 -> 1092 | H28: =G28 -> 1092
B29: PERFIL TIPO J 2.90 m | D29: UND | E29: 7900 | F29: 0.35 | G29: =E29*F29 -> 2765 | H29: =G29 -> 2765
B30: LAMINA PVC 2.90m X 0.30m E7mm | D30: UND | E30: =(79692)/4 -> 19923 | F30: 1.2 | G30: =E30*F30 -> 23907.6 | H30: =G30 -> 23907.6
B31: TORNILLO AUTO PERFORANTES | D31: UND | E31: 200 | F31: 20 | G31: =E31*F31 -> 4000 | H31: =G31 -> 4000
B33: Desperdicio | D33: % | E33: =+SUM(G25:G32) -> 44902.1 | F33: 0.05 | G33: =E33*F33 -> 2245.105 | H33: =G33 -> 2245.105
G35: Sub-Total | H35: =SUM(H24:H34) -> 47147.205
B36: III. TRANSPORTES
B37: Descripción | D37: Tipo | E37: Distancia | F37: Tarifa/M2 | G37: Valor-Unit. | H37: Valor Total
B38: camion turbo | D38: C2P | E38: 12 | F38: 1500 | G38: =+E38*F38 -> 18000 | H38: =+G38 -> 18000
G40: Sub-Total | H40: =SUM(H38:H39) -> 18000
B41: IV. MANO DE OBRA
B42: Trabajador | C42: Cantidad | D42: Jornal | E42: Prestaciones | F42: Jornal Total | G42: Rendimiento | H42: Valor-Unit.
B43: Oficial | C43: 1 | D43: =+'4. APU INST SN PRINCIPAL'!D204 -> 93381.6 | E43: 1.8344 | F43: =+D43*C43*E43 -> 171299.21 | G43: 16 | H43: =F43/G43 -> 10706.2
B44: ayudante | C44: 1 | D44: =+'4. APU INST SN PRINCIPAL'!D205 -> 58363.5 | E44: 1.8344 | F44: =+D44*C44*E44 -> 107062 | G44: 16 | H44: =+F44/G44 -> 6691.3753
G46: Sub-Total | H46: =+SUM(H43:H45) -> 17397.576
C48: Aprobó: | G48: Total Costo Directo | H48: =+H21+H35+H40+H46 -> 86044.538
C51: OMAR ANTONIO ROMÁN HERRERA
C52: Secretario de Planeación, Obras Públicas y Medio Ambiente
C53: Municipio de La Apartada Córdoba (E)
C54: Mediante Resolución N°. 286 de 08 de septiembre de 2026
B61: ANALISIS DE PRECIOS UNITARIOS A.P.U.
B62: =+PRESUPUESTO!B1 -> MANTENIMIENTO Y ADECUACIÓN DE INSTITUCIONES EDUCATIVAS OFICIALES, DEL MUNICIPIO DE LA APARTADA CORDOBA.
B65: =+PRESUPUESTO!#REF! -> #REF! | G65: UND: M2
B68: ITEM
...

Sheet 6. APU INST SN M. AUXILIADORA
B8: ANALISIS DE PRECIOS UNITARIOS A.P.U.
B9: =+PRESUPUESTO!B1 -> MANTENIMIENTO Y ADECUACIÓN DE INSTITUCIONES EDUCATIVAS OFICIALES, DEL MUNICIPIO DE LA APARTADA CORDOBA.
B12: =+PRESUPUESTO!C51 -> EXCAVACIÓN MANUAL DE ZAPATA AISLADA (1.80 X MTS X 1.80 MTS X 1.50 MTS ) | G12: UND: M3
B15: ITEM | C15: =+PRESUPUESTO!B51 -> 6.1
B16: I. EQUIPO
B17: Descripción | D17: Tipo | E17: Tarifa/Hora | F17: Rendimiento | G17: Valor-Unit. | H17: Valor Total
B18: Herramienta menor | F18: 0.1 | G18: =+H38 -> 128474.41 | H18: =+F18*G18 -> 12847.441
G21: Sub-Total | H21: =SUM(H18:H20) -> 12847.441
B22: II. MATERIALES EN OBRA
B23: Descripción | D23: Unidad | E23: Cantidad | F23: Precio unitario | G23: Valor-unit | H23: Valor Total
G27: Sub-Total | H27: =SUM(H24:H26) -> 0
B28: III. TRANSPORTES
B29: Descripción | D29: Tipo | E29: Distancia | F29: Tarifa | G29: Valor-Unit. | H29: Valor Total
G30: =+E30*F30 -> 0 | H30: =+G30 -> 0
G32: Sub-Total | H32: =+H30 -> 0
B33: IV. MANO DE OBRA
B34: Trabajador | C34: Cantidad | D34: Jornal | E34: Prestaciones | F34: Jornal Total | G34: Rendimiento | H34: Valor-Unit.
B35: Oficial | C35: 1 | D35: 93381.6 | E35: 1.8344 | F35: =+D35*C35*E35 -> 171299.21 | G35: 3 | H35: =F35/G35 -> 57099.736
B36: ayudante | C36: 2 | D36: 58363.5 | E36: 1.8344 | F36: =+D36*C36*E36 -> 214124.01 | G36: 3 | H36: =+F36/G36 -> 71374.67
G38: Sub-Total | H38: =+SUM(H35:H37) -> 128474.41
C40: Aprobó: | G40: Total Costo Directo | H40: =+H21+H27+H32+H38 -> 141321.85
C43: OMAR ANTONIO ROMÁN HERRERA
C44: Secretario de Planeación, Obras Públicas y Medio Ambiente
C45: Municipio de La Apartada Córdoba (E)
C46: Mediante Resolución N°. 286 de 08 de septiembre de 2026
B60: ANALISIS DE PRECIOS UNITARIOS A.P.U.
B61: =+PRESUPUESTO!B1 -> MANTENIMIENTO Y ADECUACIÓN DE INSTITUCIONES EDUCATIVAS OFICIALES, DEL MUNICIPIO DE LA APARTADA CORDOBA.
B64: =+PRESUPUESTO!C52 -> CONSTRUCCION ZAPATA AISLADA DE (1.80 MTS X 1.80 MTS X 0.40 MTS) EN CONCRETO DE 3500 PSI, INCLUYE ACERO DE REFUERZO #4@0.15M EN AMBOS SENTIDOS, DESPLANTADA A 1,50 MTS. | G64: UND: UND
B67: ITEM | C67: =+PRESUPUESTO!B52 -> 6.2
B68: I. EQUIPO
B69: Descripción | D69: Tipo | E69: Tarifa/Hora | F69: Rendimiento | G69: Valor-Unit. | H69: Valor Total
B70: Herramienta menor | F70: 0.1 | G70: =+H96 -> 256948.81 | H70: =+F70*G70 -> 25694.881
B71: vibrador de concreto motor 2hp | E71: 10000 | F71: 3 | G71: =+E71/F71 -> 3333.3333 | H71: =+G71 -> 3333.3333
G73: Sub-Total | H73: =SUM(H70:H72) -> 29028.214
B74: II. MATERIALES EN OBRA
B75: Descripción | D75: Unidad | E75: Precio-Unit. | F75: Cantidad | G75: Valor-Unit. | H75: Valor Total | J75: =(1.8/0.15)*1.75*2 -> 42
B76: Acero de refuerzo 1/2" | D76: kg | E76: =(24300)/(1*6) -> 4050 | F76: =0.56*1*J75 -> 23.52 | G76: =+E76*F76 -> 95256 | H76: =+G76 -> 95256
B77: china | D77: m3 | E77: 90000 | F77: =+J80*0.67 -> 0.86832 | G77: =+E77*F77 -> 78148.8 | H77: =+G77 -> 78148.8
B78: arena | D78: m3 | E78: 55000 | F78: =+J80*0.67 -> 0.86832 | G78: =+E78*F78 -> 47757.6 | H78: =+G78 -> 47757.6
B79: cemento | D79: und | E79: 32000 | F79: =+(J80*420)/50 -> 10.8864 | G79: =+E79*F79 -> 348364.8 | H79: =+G79 -> 348364.8
...

Sheet 7. APU INST LUIFERGO
B8: ANALISIS DE PRECIOS UNITARIOS A.P.U.
B9: =+PRESUPUESTO!B1 -> MANTENIMIENTO Y ADECUACIÓN DE INSTITUCIONES EDUCATIVAS OFICIALES, DEL MUNICIPIO DE LA APARTADA CORDOBA.
B12: =+PRESUPUESTO!C58 -> S/I DE CONEXIONES ELECTRICAS PARA EQUIPOS DE COMPUTO, INCLUYE TODOS LOS MATERIALES NECESARIOS PARA SU CORRECTA INSTALACIÓN Y FUNCIONAMIENTO. | G12: UND: und
B15: ITEM | C15: =+PRESUPUESTO!B58 -> 7.1
B16: I. EQUIPO
B17: Descripción | D17: Tipo | E17: Tarifa/Hora | F17: Rendimiento | G17: Valor-Unit. | H17: Valor Total
B18: Herramienta menor | F18: 0.1 | G18: =+H50 -> 72625.501 | H18: =+F18*G18 -> 7262.5501
G21: Sub-Total | H21: =SUM(H18:H20) -> 7262.5501
B22: II. MATERIALES EN OBRA
B23: Descripción | D23: Unidad | E23: Cantidad | F23: Precio unitario | G23: Valor-unit | H23: Valor Total
B24: Tablero De 12 Circuitos | D24: und | E24: =12/20 -> 0.6 | F24: 134000 | G24: =+E24*F24 -> 80400 | H24: =+G24 -> 80400
B25: Interruptor automático termomagnético de 12 A | D25: und | E25: =12/20 -> 0.6 | F25: 20000 | G25: =+E25*F25 -> 12000 | H25: =+G25 -> 12000
B26: Rollo Cable eléctrico de cobre THHN/THWN-2 calibre No. 12, color Rojo | D26: und | E26: =2/20 -> 0.1 | F26: 280000 | G26: =+E26*F26 -> 28000 | H26: =+G26 -> 28000
B27: Rollo Cable eléctrico de cobre THHN/THWN-2 calibre No. 12, color Verde | D27: und | E27: =1/20 -> 0.05 | F27: 280000 | G27: =+E27*F27 -> 14000 | H27: =+G27 -> 14000
B28: Rollo Cable eléctrico de cobre THHN/THWN-2 calibre No. 12, color Blanco | D28: und | E28: =2/20 -> 0.1 | F28: 280000 | G28: =+E28*F28 -> 28000 | H28: =+G28 -> 28000
B29: Rollo Cable eléctrico de cobre THHN/THWN-2 calibre No. 14, color Amarillo | D29: und | E29: =1/20 -> 0.05 | F29: 195000 | G29: =+E29*F29 -> 9750 | H29: =+G29 -> 9750
B30: Tubería metálica tipo EMT de 3/4" | D30: und | E30: =12/20 -> 0.6 | F30: 19900 | G30: =+E30*F30 -> 11940 | H30: =+G30 -> 11940
B31: Grapas EMT 3/4" | D31: und | E31: =30/20 -> 1.5 | F31: 1800 | G31: =+E31*F31 -> 2700 | H31: =+G31 -> 2700
B32: Toma Corriente Para Caja Levantón | D32: und | E32: 1 | F32: 12000 | G32: =+E32*F32 -> 12000 | H32: =+G32 -> 12000
B33: Toma Corriente mirada China | D33: und | E33: =3/20 -> 0.15 | F33: 9000 | G33: =+E33*F33 -> 1350 | H33: =+G33 -> 1350
B34: Cajas MT Para Tomacorrientes | D34: und | E34: =22/20 -> 1.1 | F34: 6000 | G34: =+E34*F34 -> 6600 | H34: =+G34 -> 6600
B35: Adaptadores 3/4" | D35: und | E35: =35/20 -> 1.75 | F35: 2200 | G35: =+E35*F35 -> 3850 | H35: =+G35 -> 3850
B36: Curvas 3/4" | D36: und | E36: =25/20 -> 1.25 | F36: 8000 | G36: =+E36*F36 -> 10000 | H36: =+G36 -> 10000
B37: Caja de Tornillos de Ensamble de 1 1/2" | D37: und | E37: =0.5/20 -> 0.025 | F37: 350 | G37: =+E37*F37 -> 8.75 | H37: =+G37 -> 8.75
G39: Sub-Total | H39: =SUM(H24:H38) -> 220598.75
B40: III. TRANSPORTES
B41: Descripción | D41: Tipo | E41: Distancia | F41: Tarifa | G41: Valor-Unit. | H41: Valor Total
G42: =+E42*F42 -> 0 | H42: =+G42 -> 0
G44: Sub-Total | H44: =+H42 -> 0
B45: IV. MANO DE OBRA
B46: Trabajador | C46: Cantidad | D46: Jornal | E46: Prestaciones | F46: Jornal Total | G46: Rendimiento | H46: Valor-Unit.
B47: Tecnico Electricista | C47: 1 | D47: 100000 | E47: 1.8344 | F47: =+D47*C47*E47 -> 183440 | G47: 4 | H47: =F47/G47 -> 45860
B48: ayudante | C48: 1 | D48: 58363.5 | E48: 1.8344 | F48: =+D48*C48*E48 -> 107062 | G48: 4 | H48: =+F48/G48 -> 26765.501
G50: Sub-Total | H50: =+SUM(H47:H49) -> 72625.501
C52: Aprobó: | G52: Total Costo Directo | H52: =+H21+H39+H44+H50 -> 300486.8
C55: OMAR ANTONIO ROMÁN HERRERA
C56: Secretario de Planeación, Obras Públicas y Medio Ambiente
C57: Municipio de La Apartada Córdoba (E)
C58: Mediante Resolución N°. 286 de 08 de septiembre de 2026
B69: ANALISIS DE PRECIOS UNITARIOS A.P.U.
...

Sheet MEMORIAS DE CANTIDADES  
A1: MEMORIA DE CANTIDADES DE OBRA | K1: ALCALDIA DE LA APARTADA
A3: OBJETO: | D3: =+PRESUPUESTO!B1 -> MANTENIMIENTO Y ADECUACIÓN DE INSTITUCIONES EDUCATIVAS OFICIALES, DEL MUNICIPIO DE LA APARTADA CORDOBA.
A5: ILUMINARIAS | G5: FECHA DE ELABORACION: | H5: 46273 | K5: UNIDAD : | M5: ML
A6: ACTIVIDAD | C6: =+PRESUPUESTO!C6 -> DESMONTE DE PUERTA DE BAÑO DE UNIDAD SANITARIA EN MAL ESTADO. 0.68 MTS X 1.80 MTS, INCLUYE DESMONTE DE MARCO | K6: CANTIDAD: | M6: =+M19 -> 0
A7: ITEM | C7: 1.2 | H7: DIMENSIONES | L7: Frecuencia | M7: Medida total
J9: N | K9: LONG
M12: =+J12*K12 -> 0
G19: TOTAL | M19: =SUM(M10:M18) -> 0
A20: OBSERVACIONES:
A25: =PRESUPUESTO!C73 -> OMAR ANTONIO ROMAN HERRERA
A26: =PRESUPUESTO!C74 -> Secretario de Planeación, Obras Públicas y Medio Ambiente
A27: =PRESUPUESTO!C75 -> Municipio de La Apartada Córdoba (E)

Sheet APU
B8: ANALISIS DE PRECIOS UNITARIOS A.P.U.
B9: =+PRESUPUESTO!B1 -> MANTENIMIENTO Y ADECUACIÓN DE INSTITUCIONES EDUCATIVAS OFICIALES, DEL MUNICIPIO DE LA APARTADA CORDOBA.
B12: =+PRESUPUESTO!C5 -> DESMONTE DE PUERTA GALVANIZADA DE ACCCESO A UNIDAD SANITARIA, 1.0 MTS X 2.40 MTS, INLCUYE DESMONTE DE MARCO | G12: UND: ml
B16: I. EQUIPO
B17: Descripción | D17: Tipo | E17: Tarifa/Hora | F17: Rendimiento | G17: Valor-Unit. | H17: Valor Total
B18: Herramienta menor | F18: 0.1 | G18: =+H38 -> 3976.5887 | H18: =+F18*G18 -> 397.65887
G21: Sub-Total | H21: =SUM(H18:H20) -> 397.65887
B22: II. MATERIALES EN OBRA
B23: Descripción | D23: Unidad | E23: Precio-Unit. | F23: Cantidad | G23: Valor-Unit. | H23: Valor Total
B24: acero de refuerzo 3/8" corrugado | D24: kg | E24: 5144.04 | F24: 1 | G24: =E24*F24 -> 5144.04 | H24: =G24 -> 5144.04
B25: alambre negro | D25: kg | E25: 11200 | F25: 0.05 | G25: =E25*F25 -> 560 | H25: =G25 -> 560
B26: desperdicio | D26: % | E26: =+SUM(G24:G25) -> 5704.04 | F26: 0.05 | G26: =+E26*F26 -> 285.202 | H26: =+G26 -> 285.202
G27: Sub-Total | H27: =SUM(H24:H26) -> 5989.242
B28: III. TRANSPORTES
B29: Descripción | D29: Tipo | E29: Distancia | F29: Tarifa | G29: Valor-Unit. | H29: Valor Total
G30: =+E30*F30 -> 0 | H30: =+G30 -> 0
G32: Sub-Total | H32: =+H30 -> 0
B33: IV. MANO DE OBRA
B34: Trabajador | C34: Cantidad | D34: Jornal | E34: Prestaciones | F34: Jornal Total | G34: Rendimiento | H34: Valor-Unit.
B35: Oficial | C35: 1 | D35: 93381.6 | E35: 1.8344 | F35: =+D35*C35*E35 -> 171299.21 | G35: 70 | H35: =F35/G35 -> 2447.1315
B36: ayudante | C36: 1 | D36: 58363.5 | E36: 1.8344 | F36: =+D36*C36*E36 -> 107062 | G36: 70 | H36: =+F36/G36 -> 1529.4572
G37: 4
G38: Sub-Total | H38: =+SUM(H35:H37) -> 3976.5887
D40: Total Costo Directo | H40: =+H21+H27+H32+H38 -> 10363.49
B44: =+PRESUPUESTO!C73 -> OMAR ANTONIO ROMAN HERRERA
B45: =PRESUPUESTO!C74 -> Secretario de Planeación, Obras Públicas y Medio Ambiente
B46: =PRESUPUESTO!C75 -> Municipio de La Apartada Córdoba (E)
B57: ANALISIS DE PRECIOS UNITARIOS A.P.U.
B58: =+PRESUPUESTO!B1 -> MANTENIMIENTO Y ADECUACIÓN DE INSTITUCIONES EDUCATIVAS OFICIALES, DEL MUNICIPIO DE LA APARTADA CORDOBA.
B61: =+PRESUPUESTO!C6 -> DESMONTE DE PUERTA DE BAÑO DE UNIDAD SANITARIA EN MAL ESTADO. 0.68 MTS X 1.80 MTS, INCLUYE DESMONTE DE MARCO | G61: UND: Ml
J63: vol de concreto | L63: =0.054*1 -> 0.054
B65: I. EQUIPO
B66: Descripción | D66: Tipo | E66: Tarifa/Hora | F66: Rendimiento | G66: Valor-Unit. | H66: Valor Total
B67: Herramienta menor | F67: 0.1 | G67: =+H95 -> 19271.161 | H67: =+F67*G67 -> 1927.1161
G70: Sub-Total | H70: =SUM(H67:H69) -> 1927.1161
B71: II. MATERIALES EN OBRA
B72: Descripción | D72: Unidad | E72: Precio-Unit. | F72: Cantidad | G72: Valor-Unit. | H72: Valor Total
B73: Grava | D73: m3 | E73: 90000 | F73: =+(L63*0.67) -> 0.03618 | G73: =+E73*F73 -> 3256.2 | H73: =+G73 -> 3256.2
B74: Arena | D74: m3 | E74: 55000 | F74: =+L63*0.67 -> 0.03618 | G74: =+E74*F74 -> 1989.9 | H74: =+G74 -> 1989.9
B75: cemento | D75: und | E75: 32000 | F75: =+(L63*420)/50 -> 0.4536 | G75: =+E75*F75 -> 14515.2 | H75: =+G75 -> 14515.2
...

Sheet SUMA
B3: =+SUM('MEMORIAS DE CANTIDADES '!M19+'MEMORIAS DE CANTIDADES '!#REF!+'MEMORIAS DE CANTIDADES '!#REF!+'MEMORIAS DE CANTIDADES '!#REF!+'MEMORIAS DE CANTIDADES '!#REF!+'MEMORIAS DE CANTIDADES '!#REF!+'MEMORIAS DE CANTIDADES '!#REF!+'MEMORIAS DE CANTIDADES '!#REF!+'MEMORIAS DE CANTIDADES '!#REF!+'MEMORIAS DE CANTIDADES '!#REF!+'MEMORIAS DE CANTIDADES '!#REF!+'MEMORIAS DE CANTIDADES '!#REF!+'MEMORIAS DE CANTIDADES '!#REF!+'MEMORIAS DE CANTIDADES '!#REF!+'MEMORIAS DE CANTIDADES '!#REF!) -> #REF!

Sheet MO
A1: LISTA DE COSTOS DE MANO DE OBRA
A2: SALARIO MES SMMLV (2025) | B2: 1423500
A3: DESCRIPCIÓN | B3: VALOR/JORNAL $
A5: Maestro | B5: =+B8*4 -> 133333.33
A6: Soldador | B6: =+B8*2.5 -> 83333.333
A7: Oficial | B7: =+B8*2 -> 66666.667
A8: Ayudante | B8: =1000000/30 -> 33333.333
A9: Topógrafo | B9: 136478
A10: Cadenero | B10: =+B8*1.5 -> 50000
A11: Trochero | B11: =+B10 -> 50000
A12: Machinero | B12: =+B7 -> 66666.667
A13: Operador | B13: =+B5 -> 133333.33
A14: Oficial especializado | B14: =+B7*1.5 -> 100000

Sheet MATERIALES
B1: LISTA DE PRECIOS DE MATERIALES
B3: DESCRIPCIÓN | C3: VALOR $ | D3: UNIDAD
B5: desperdicio | C5: 120 | D5: lt
B6: Lavaplatos para Empotrar Doble Tanque 84x56 cm Acero Inoxidable | C6: 5253.08 | D6: un
B7: Grifería de lavaplatos | C7: 79900 | D7: und
B8: Sifón PVC/flexible | C8: 99900 | D8: und
B9: Silicona sellante | C9: 33.9 | D9: und
B10: Canastilla desagüe | C10: 3500 | D10: un
B11: mangueras flaxibles | C11: 9400 | D11: kg
B12: Adaptadores PVC metalicos | C12: 32250 | D12: Gln
B13: Tuvo PVC sanitario | C13: 4500 | D13: un
B14: Silicona sanitaria | C14: =3700*1.4 -> 5180 | D14: un
B15: Cintas Teflón | C15: 5900 | D15: kg
B16: ANGULO 1 1/2"x1 1/2"x1/8" | C16: 14420 | D16: M
B17: ANGULO DE 1-1/2´´ x 1/4´´ (cerramiento en malla) | C17: 12384.54 | D17: m
B18: Angulo galvanizado de 0.2 X 0.25 Cal. 26 x 2.44 m | C18: 1300 | D18: und
B19: Arbol frutal de la región. H= 1,50 - 2,00 m. | C19: 50000 | D19: un
B20: Arena lavada | C20: 60000 | D20: m3
B21: Arena Silice (20kgxm2) | C21: 1020 | D21: kg
B22: Bancas con espaldar tipo tipo IDU según diseño | C22: 838000 | D22: Und
B23: Barraje monofásico para 500 A | C23: 742000 | D23: und
B24: Barraje monofásico para 500 A | C24: 742000 | D24: und
B25: BLOQUE N° 5. e= 0,10 m. | C25: =1100*1.4 -> 1540 | D25: un
B26: BLOQUE N° 5. e= 0,15 m. | C26: =1400*1.4 -> 1960 | D26: un
B27: Bordillo prefabricado en concreto de sección 15CM x 45CM X 80CM | C27: 56738 | D27: UN
B28: Braker totalizador 3x350 A LG | C28: 754000 | D28: und
B29: Braker totalizador 3x350 A LG | C29: 754000 | D29: und
B30: Breaker 3x70 A LG | C30: 90498 | D30: und
B31: Breaker 3x70 A LG | C31: 90498 | D31: und
B32: Breaker10/15/20 Amp. | C32: =13900*1.5 -> 20850 | D32: un
B33: Caballete - limatesa teja Arquitectónica. | C33: 53060 | D33: un
B34: Cable de Acero Galvanizado de 1/4 Pulgada | C34: =4900*1.4 -> 6860 | D34: m
B35: Cable de Cobre Aislado THHN No. 12 | C35: 2300 | D35: m
B36: Cable de Cobre Aislado THHN No. 14 | C36: 1800 | D36: m
B37: Cable Encauchetado 3x12 XMt Cst-P Awg Cu 600v 75c | C37: 16814.6 | D37: m
B38: Cable Encauchetado 3x14 XMt Cst-P Awg Cu 600v 75c | C38: =7500*1.5 -> 11250 | D38: m
B39: Caucho Molido (10kgxm2) | C39: 2640 | D39: kg
B40: Cemento Gris | C40: 690 | D40: kg
B41: Cerradura puerta oficina doble seguridad. | C41: 42000 | D41: un
B42: CESPED PARA EMPRADIZACION X BULTO | C42: 22500 | D42: UN
...

Sheet CANT
B2: =+objeto -> MANTENIMIENTO Y ADECUACIÓN DE INSTITUCIONES EDUCATIVAS OFICIALES, DEL MUNICIPIO DE LA APARTADA CORDOBA.
B7: RESUMEN DE CANTIDADES DE OBRA
B8: No. ITEM | C8: DESCRIPCION | D8: UND | E8: COMISARIA | F8: TRANSITO | G8: PERSONERIA | H8: POLICIA | I8: SEDE EL ORIENTE | J8: OFIC DE INTEGRACION SOCIAL | K8: ALCALDIA | L8: TOTAL CANT.
B9: 1 | C9: DESMONTE DE CUBIERTA EN ASBESTO - CEMENTO, INCLUYE RETIRO DE SOBRANTES. | D9: =+PRESUPUESTO!#REF! -> #REF! | E9: =+E15 -> 316.72 | F9: =+F15 -> 209.81 | L9: =SUM(E9:F9) -> 526.53
B10: 2 | C10: DEMOLICION DE VIGA CORONA. | D10: =+PRESUPUESTO!#REF! -> #REF! | E10: =+(7*6*2)+12+2.4 -> 98.4 | F10: =5.9+(6.35*2*3)+(6.9*2)+0.8+3 -> 61.6 | L10: =SUM(E10:F10) -> 160
B11: 3 | C11: VIGA CORONA DE 0,10 X 0,20 M. EN CONCRETO REFORZADO, INCLUYE PLATINA PARA FIJACIÓN DE CORREAS METALICAS. | D11: =+PRESUPUESTO!#REF! -> #REF! | E11: =+(7*6*2)+12+2.4 -> 98.4 | F11: =5.9+(6.35*2*3)+(6.9*2)+0.8+3 -> 61.6 | L11: =SUM(E11:F11) -> 160
B12: 4 | C12: Cielo raso plano placa panel yeso 12mm. | D12: =+PRESUPUESTO!#REF! -> #REF! | E12: =47.8+113.8+14+17.9+23.4+18+17+17.3+22.7+17.2 -> 309.1 | F12: =23.7+117.8+15.2+15.5+16.4+19.8 -> 208.4 | L12: =SUM(E12:F12) -> 517.5
B13: 5 | C13: =+PRESUPUESTO!#REF! -> #REF! | D13: =+PRESUPUESTO!#REF! -> #REF! | E13: =+#REF!*1.1 -> #REF! | F13: =+#REF!*1.1 -> #REF! | L13: =SUM(E13:F13) -> #REF!
B14: 6 | C14: =+PRESUPUESTO!#REF! -> #REF! | D14: =+PRESUPUESTO!#REF! -> #REF! | E14: =+#REF! -> #REF! | F14: =+#REF! -> #REF! | L14: =SUM(E14:F14) -> #REF!
B15: 7 | C15: =+PRESUPUESTO!#REF! -> #REF! | D15: =+PRESUPUESTO!#REF! -> #REF! | E15: 316.72 | F15: 209.81 | L15: =SUM(E15:F15) -> 526.53
B16: 8 | C16: =+PRESUPUESTO!#REF! -> #REF! | D16: =+PRESUPUESTO!#REF! -> #REF! | E16: =1.2*27.9*2 -> 66.96 | F16: =1.2*(19.4+15.6) -> 42 | L16: =SUM(E16:F16) -> 108.96
B17: 9 | C17: =+PRESUPUESTO!#REF! -> #REF! | D17: =+PRESUPUESTO!#REF! -> #REF! | L17: 1
B18: 1 | C18: =+PRESUPUESTO!#REF! -> #REF! | D18: =+PRESUPUESTO!#REF! -> #REF! | E18: 2 | F18: 1 | G18: 1 | H18: 1 | J18: 3 | K18: =1+1+1+1+1+1+1+3+1+1+3+1+3+1+1 -> 21 | L18: =SUM(E18+F18+G18+H18+I18+J18+K18) -> 29
B19: 2 | C19: =PRESUPUESTO!#REF! -> #REF! | D19: UND | K19: =2+2 -> 4 | L19: =SUM(E19+F19+G19+H19+I19+J19+K19) -> 4
C20: =PRESUPUESTO!#REF! -> #REF! | D20: UND | E20: 8 | F20: 2 | H20: 4 | K20: =2+1+1+1+2+2+2+2 -> 13 | L20: =SUM(E20+F20+G20+H20+I20+J20+K20) -> 27
C21: =PRESUPUESTO!#REF! -> #REF! | D21: UND | H21: 4 | I21: 8 | J21: 2 | K21: =2+2+2+1+6 -> 13 | L21: =SUM(E21+F21+G21+H21+I21+J21+K21) -> 27

Sheet EQUIPOS
B2: LISTA DE COSTOS DE EQUIPOS
B4: DESCRIPCIÓN | C4: VALOR/HORA $
B6: Herramienta menor | C6: 5000
B7: pulidora | C7: 600
B8: Pinza voltiamperimetrica | C8: 56000
B9: Escalera de tijera 2.4 | C9: 24000
B10: Taladro percutor | C10: 68000
B11: BARRETON CALIMA | C11: 33019.41
B12: CARRETA BOOGY | C12: 4720
B13: PALA REDONDA CALIMA | C13: 14108.29
B14: PALADRAGA GRANDE | C14: 67539.71
B15: Equipo de chorro de aire a presión. | C15: 1000
B16: Equipo de chorro de agua a presión, con adaptador para lanza de agua. | C16: 1325
B17: Guadañadora de cintura. | C17: 3862
... B25: Equipo soldadura | C25: 7500

Sheet 6.2
A1: ANALISIS DE PRECIOS UNITARIOS A.P.U.
B4: ITEM: | C4: 6.20 INSTALACIÓN DE TUBERIA PVC U.M. PVC D=250MM (10")
A6: =+#REF! -> #REF! | F6: MUNICIPIO: | G6: Ayapel
F7: DPTO: | G7: Córdoba
F8: FECHA:
F9: UNIDAD: | G9: ML
A10: I. EQUIPO
A11: Descripción | C11: Tipo | D11: Tarifa/Hora | E11: Rendimiento | F11: Valor-Unit.
A12: Herramienta menor | D12: =+VLOOKUP(A12,EQUIPOS!$B$6:$C$25,2,) -> 5000 | E12: 25 | F12: =+D12/E12 -> 200
F18: Sub-Total | G18: =+SUM(F12:F17) -> 200
A19: II. MATERIALES EN OBRA
A20: Descripción | C20: Unidad | D20: Precio-Unit. | E20: Cantidad | F20: Valor-Unit.
A21: Limpiador removedor PVC | C21: =+VLOOKUP(A21,MATERIALES!$B$5:$D$729,2,) -> #N/A | D21: =+VLOOKUP(A21,MATERIALES!$B$5:$D$729,3,) -> #N/A | E21: 0.03 | F21: =+D21*E21 -> #N/A
A22: Soldadura PVC líquida | C22: =+VLOOKUP(A22,MATERIALES!$B$5:$D$729,2,) -> #N/A | D22: =+VLOOKUP(A22,MATERIALES!$B$5:$D$729,3,) -> #N/A | E22: 0.03 | F22: =+D22*E22 -> #N/A
F28: Sub-Total | G28: =+SUM(F21:F27) -> #N/A
A29: III. TRANSPORTES
A30: Descripción | C30: Tipo | D30: Porcentaje | E30: Tarifa | F30: Valor-Unit.
A31: Transporte de materiales | D31: 0.03 | E31: =+G28 -> #N/A | F31: =+D31*E31 -> #N/A
F35: Sub-Total | G35: =+SUM(F31:F34) -> #N/A
A36: IV. MANO DE OBRA
A37: Trabajador | B37: Cantidad | C37: Jornal | D37: Prestaciones | E37: Jornal Total | F37: Rendimiento | G37: Valor-Unit.
A38: Oficial | B38: 1 | C38: =+VLOOKUP(A38,MO!$1:$1048576,2,FALSE) -> 66666.667 | D38: 0.75 | E38: =+C38*(1+D38) -> 116666.67 | F38: 58 | G38: =+B38*(E38/F38) -> 2011.4943
A39: Ayudante | B39: 1 | C39: =+VLOOKUP(A39,MO!$1:$1048576,2,FALSE) -> 33333.333 | D39: 0.75 | E39: =+C39*(1+D39) -> 58333.333 | F39: 58 | G39: =+B39*(E39/F39) -> 1005.7471
F45: Sub-Total | G45: =+SUM(G38:G44) -> 3017.2414
C47: Total Costo Directo | G47: =+G18+G28+G35+G45 -> #N/A

Sheet 6.3
A1: ANALISIS DE PRECIOS UNITARIOS A.P.U. ACUEDUCTO
B4: ITEM: | C4: 6.3 INSTALACIÓN DE TUBERIA PVC U.M. PVC D=500MM (20")
A6: =+#REF! -> #REF! | F6: MUNICIPIO: | G6: Ayapel
F7: DPTO: | G7: Córdoba
F8: FECHA:
F9: UNIDAD: | G9: ml
A10: I. EQUIPO
A11: Descripción | C11: Tipo | D11: Tarifa/Hora | E11: Rendimiento | F11: Valor-Unit.
A12: Herramienta menor | D12: =+VLOOKUP(A12,EQUIPOS!$B$6:$C$25,2,) -> 5000 | E12: 25 | F12: =+D12/E12 -> 200
F18: Sub-Total | G18: =+SUM(F12:F17) -> 200
A19: II. MATERIALES EN OBRA
A20: Descripción | C20: Unidad | D20: Precio-Unit. | E20: Cantidad | F20: Valor-Unit.
A21: Limpiador removedor PVC | C21: =+VLOOKUP(A21,MATERIALES!$B$5:$D$729,2,) -> #N/A | D21: =+VLOOKUP(A21,MATERIALES!$B$5:$D$729,3,) -> #N/A | E21: 0.03 | F21: =+D21*E21 -> #N/A
A22: Soldadura PVC líquida | C22: =+VLOOKUP(A22,MATERIALES!$B$5:$D$729,2,) -> #N/A | D22: =+VLOOKUP(A22,MATERIALES!$B$5:$D$729,3,) -> #N/A | E22: 0.03 | F22: =+D22*E22 -> #N/A
F28: Sub-Total | G28: =+SUM(F21:F27) -> #N/A
A29: III. TRANSPORTES
A30: Descripción | C30: Tipo | D30: Porcentaje | E30: Tarifa | F30: Valor-Unit.
A31: Transporte de materiales | D31: 0.03 | E31: =+G28 -> #N/A | F31: =+D31*E31 -> #N/A
F35: Sub-Total | G35: =+SUM(F31:F34) -> #N/A
A36: IV. MANO DE OBRA
A37: Trabajador | B37: Cantidad | C37: Jornal | D37: Prestaciones | E37: Jornal Total | F37: Rendimiento | G37: Valor-Unit.
A38: Oficial | B38: 1 | C38: =+VLOOKUP(A38,MO!$1:$1048576,2,FALSE) -> 66666.667 | D38: 0.75 | E38: =+C38*(1+D38) -> 116666.67 | F38: 40 | G38: =+B38*(E38/F38) -> 2916.6667
A39: Ayudante | B39: 1 | C39: =+VLOOKUP(A39,MO!$1:$1048576,2,FALSE) -> 33333.333 | D39: 0.75 | E39: =+C39*(1+D39) -> 58333.333 | F39: 40 | G39: =+B39*(E39/F39) -> 1458.3333
F45: Sub-Total | G45: =+SUM(G38:G44) -> 4375
C47: Total Costo Directo | G47: =+G18+G28+G35+G45 -> #N/A

Sheet 8.2
A1: ANALISIS DE PRECIOS UNITARIOS A.P.U. ACUEDUCTO
B4: ITEM: | C4: 8.2 ACOMETIDA DOMICILIARIA PVC NUEVA 160X250 MM, INCLYE TUBERÍA Y ACCESORIOS
A6: =+#REF! -> #REF! | F6: MUNICIPIO: | G6: Purísima
F7: DPTO: | G7: Córdoba
F8: FECHA:
F9: UNIDAD: | G9: Und
A10: I. EQUIPO
A11: Descripción | C11: Tipo | D11: Tarifa/Hora | E11: Rendimiento | F11: Valor-Unit.
A12: Herramienta menor | D12: =+VLOOKUP(A12,EQUIPOS!$B$6:$C$25,2,) -> 5000 | E12: 1 | F12: =+D12/E12 -> 5000
F18: Sub-Total | G18: =+SUM(F12:F17) -> 5000
A19: II. MATERIALES EN OBRA
A20: Descripción | C20: Unidad | D20: Precio-Unit. | E20: Cantidad | F20: Valor-Unit.
A21: Silla yee 160X315 mm | C21: und | D21: 85000 | E21: 1 | F21: =+E21*D21 -> 85000
A22: tubería pvc 6 pulgadas | C22: ml | D22: 35000 | E22: 5 | F22: =+E22*D22 -> 175000
A23: Caja cilindrica en concreto incluye tapa y conexión | C23: und | D23: 120000 | E23: 1 | F23: =+E23*D23 -> 120000
F30: Sub-Total | G30: =+SUM(F21:F29) -> 380000
A31: III. TRANSPORTES
A32: Descripción | C32: Tipo | D32: Porcentaje | E32: Tarifa | F32: Valor-Unit.
A33: Transporte de materiales | D33: 0.03 | E33: =+G30 -> 380000 | F33: =+D33*E33 -> 11400
F37: Sub-Total | G37: =+SUM(F33:F36) -> 11400
A38: IV. MANO DE OBRA
A39: Trabajador | B39: Cantidad | C39: Jornal | D39: Prestaciones | E39: Jornal Total | F39: Rendimiento | G39: Valor-Unit.
A40: Oficial | B40: 1 | C40: =+VLOOKUP(A40,MO!$1:$1048576,2,FALSE) -> 66666.667 | D40: 0.75 | E40: =+C40*(1+D40) -> 116666.67 | F40: 6 | G40: =+B40*(E40/F40) -> 19444.444
A41: Ayudante | B41: 2 | C41: =+VLOOKUP(A41,MO!$1:$1048576,2,FALSE) -> 33333.333 | D41: 0.75 | E41: =+C41*(1+D41) -> 58333.333 | F41: 16 | G41: =+B41*(E41/F41) -> 7291.6667
F47: Sub-Total | G47: =+SUM(G40:G46) -> 26736.111
C49: Total Costo Directo | G49: =+G18+G30+G37+G47 -> 423136.11

Sheet 8.3
A1: ANALISIS DE PRECIOS UNITARIOS A.P.U. ACUEDUCTO
B4: ITEM: | C4: 8.3 ACOMETIDA DOMICILIARIA PVC NUEVA 160X300 MM, INCLYE TUBERÍA Y ACCESORIOS
A6: =+'8.2'!A6:D9 -> #REF! | F6: MUNICIPIO: | G6: Ayapel
F7: DPTO: | G7: Córdoba
F8: FECHA:
F9: UNIDAD: | G9: Und
A10: I. EQUIPO
A11: Descripción | C11: Tipo | D11: Tarifa/Hora | E11: Rendimiento | F11: Valor-Unit.
A12: Herramienta menor | D12: =+VLOOKUP(A12,EQUIPOS!$B$6:$C$25,2,) -> 5000 | E12: 1 | F12: =+D12/E12 -> 5000
F18: Sub-Total | G18: =+SUM(F12:F17) -> 5000
A19: II. MATERIALES EN OBRA
A20: Descripción | C20: Unidad | D20: Precio-Unit. | E20: Cantidad | F20: Valor-Unit.
A21: Silla yee 160X400 mm | C21: und | D21: 139000 | E21: 1 | F21: =+E21*D21 -> 139000
A22: tubería pvc 6 pulgadas | C22: ml | D22: 35000 | E22: 5 | F22: =+E22*D22 -> 175000
A23: Caja cilindrica en concreto incluye tapa y conexión | C23: und | D23: 120000 | E23: 1 | F23: =+E23*D23 -> 120000
F30: Sub-Total | G30: =+SUM(F21:F29) -> 434000
A31: III. TRANSPORTES
A32: Descripción | C32: Tipo | D32: Porcentaje | E32: Tarifa | F32: Valor-Unit.
A33: Transporte de materiales | D33: 0.03 | E33: =+G30 -> 434000 | F33: =+D33*E33 -> 13020
F37: Sub-Total | G37: =+SUM(F33:F36) -> 13020
A38: IV. MANO DE OBRA
A39: Trabajador | B39: Cantidad | C39: Jornal | D39: Prestaciones | E39: Jornal Total | F39: Rendimiento | G39: Valor-Unit.
A40: Oficial | B40: 1 | C40: =+VLOOKUP(A40,MO!$1:$1048576,2,FALSE) -> 66666.667 | D40: 0.75 | E40: =+C40*(1+D40) -> 116666.67 | F40: 6 | G40: =+B40*(E40/F40) -> 19444.444
A41: Ayudante | B41: 2 | C41: =+VLOOKUP(A41,MO!$1:$1048576,2,FALSE) -> 33333.333 | D41: 0.75 | E41: =+C41*(1+D41) -> 58333.333 | F41: 16 | G41: =+B41*(E41/F41) -> 7291.6667
F47: Sub-Total | G47: =+SUM(G40:G46) -> 26736.111
C49: Total Costo Directo | G49: =+G18+G30+G37+G47 -> 478756.11
