Workbook
Name \0: #REF!
Name \a: #REF!
Name \b: #REF!
Name \b: #N/A
Name \c: #REF!
Name \c: #N/A
Name \e: #REF!
Name \e: #N/A
Name \f: #REF!
Name \i: #REF!
Name \i: #N/A
Name \L: #REF!
Name \m: #REF!
Name \m: #N/A
Name \P: #REF!
Name \r: #REF!
Name \r: #N/A
Name \s: #REF!
Name \t: #REF!
Name \t: #N/A
Name \x: #REF!
Name \x: #N/A
Name \z: #REF!
Name \z: #N/A
Name _: #REF!
Name _________\a: #REF!
Name _________\s: #REF!
Name _________\X: #N/A
Name _________\Z: #N/A
Name __________________________________________________i1: #REF!
Name _________________________________________________AFC1: #REF!
Name _________________________________________________AFC3: #REF!
Name _________________________________________________AFC5: #REF!
Name _________________________________________________BGC1: #REF!
Name _________________________________________________BGC3: #REF!
Name _________________________________________________BGC5: #REF!
Name _________________________________________________CAC1: #REF!
Name _________________________________________________CAC3: #REF!
Name _________________________________________________CAC5: #REF!
Name _________________________________________________i1: #REF!
Name _________________________________________________SBC1: #REF!
Name _________________________________________________SBC3: #REF!
Name _________________________________________________SBC5: #REF!
Name ________________________________________________AFC1: #REF!
Name ________________________________________________AFC3: #REF!
Name ________________________________________________AFC5: #REF!
Name ________________________________________________BGC1: #REF!
Name ________________________________________________BGC3: #REF!
Name ________________________________________________BGC5: #REF!
Name ________________________________________________CAC1: #REF!
Name ________________________________________________CAC3: #REF!
Name ________________________________________________CAC5: #REF!
Name ________________________________________________i1: #REF!
Name ________________________________________________SBC1: #REF!
Name ________________________________________________SBC3: #REF!
Name ________________________________________________SBC5: #REF!
Name _______________________________________________AFC1: #REF!
Name _______________________________________________AFC3: #REF!
Name _______________________________________________AFC5: #REF!
Name _______________________________________________BGC1: #REF!

Sheet PRESUPUESTO
A1: PRESUPUESTO DE OBRA
A2: CERRAMIENTO MALLA ESLABONADA - INSTITUCIÓN EDUCATIVA MARCO TOBÓN MEJÍA
A3: Municipio de Santa Rosa de Osos - Antioquia | Longitud de intervención: 50 m | Año 2026
A5: ÍTEM | B5: DESCRIPCIÓN | C5: UNIDAD | D5: CANTIDAD | E5: VALOR UNITARIO | F5: VALOR PARCIAL
A6: CAPÍTULO 1. OBRAS PRELIMINARES
A7: 1.1 | B7: Localización y replanteo topográfico del área de intervención | C7: ='MEMORIA DE CANTIDADES'!I34 -> m2 | D7: ='MEMORIA DE CANTIDADES'!H34 -> 476.12739 | E7: =APUs!$H$26 -> 1965.5313 | F7: =D7*E7 -> 935843.3
A8: 1.2 | B8: Cerramiento provisional en polisombra | C8: ='MEMORIA DE CANTIDADES'!I35 -> m | D8: ='MEMORIA DE CANTIDADES'!H35 -> 52.903043 | E8: =APUs!$H$51 -> 18113.31 | F8: =D8*E8 -> 958249.22
A9: 1.3 | B9: Roce, limpieza y desmonte | C9: ='MEMORIA DE CANTIDADES'!I36 -> m2 | D9: ='MEMORIA DE CANTIDADES'!H36 -> 317.41826 | E9: =APUs!$H$75 -> 4150.9866 | F9: =D9*E9 -> 1317598.9
A10: 1.4 | B10: Tala y poda controlada | C10: ='MEMORIA DE CANTIDADES'!I37 -> un | D10: ='MEMORIA DE CANTIDADES'!H37 -> 15 | E10: =APUs!$H$101 -> 175466.13
A11: SUBTOTAL CAPÍTULO 1 | F11: =SUM(F7:F10) -> 3211691.5
A13: CAPÍTULO 2. MOVIMIENTO DE TIERRAS
A14: 2.1 | B14: Demolición de cerramiento existente | C14: ='MEMORIA DE CANTIDADES'!I38 -> m | D14: ='MEMORIA DE CANTIDADES'!H38 -> 52.903043 | E14: =APUs!$H$125 -> 12878.31 | F14: =D14*E14 -> 681301.79
A15: 2.2 | B15: Excavación manual (perfilación y retiro de material inestable) | C15: ='MEMORIA DE CANTIDADES'!I39 -> m3 | D15: ='MEMORIA DE CANTIDADES'!H39 -> 95.225478 | E15: =APUs!$H$148 -> 74939.731 | F15: =D15*E15 -> 7136171.7
A16: 2.3 | B16: Cargue manual | C16: ='MEMORIA DE CANTIDADES'!I40 -> m3 | D16: ='MEMORIA DE CANTIDADES'!H40 -> 144.42531 | E16: =APUs!$H$171 -> 37469.866 | F16: =D16*E16 -> 5411596.9
A17: 2.4 | B17: Retiro y disposición final de material sobrante | C17: ='MEMORIA DE CANTIDADES'!I41 -> m3 | D17: ='MEMORIA DE CANTIDADES'!H41 -> 144.42531 | E17: =APUs!$H$195 -> 30519.946 | F17: =D17*E17 -> 4407852.6
A18: 2.5 | B18: Retiro de escombros | C18: ='MEMORIA DE CANTIDADES'!I42 -> m3 | D18: ='MEMORIA DE CANTIDADES'!H42 -> 31.741826 | E18: =APUs!$H$218 -> 56204.798 | F18: =D18*E18 -> 1784042.9
A19: 2.6 | B19: Conformación inicial del terreno | C19: ='MEMORIA DE CANTIDADES'!I43 -> m2 | D19: ='MEMORIA DE CANTIDADES'!H43 -> 317.41826 | E19: =APUs!$H$242 -> 3716.1625 | F19: =D19*E19 -> 1179577.8
A20: SUBTOTAL CAPÍTULO 2 | F20: =SUM(F14:F19) -> 20600544
A22: CAPÍTULO 4. PERFILACIÓN Y ESTABILIZACIÓN
A23: 4.1 | B23: Lleno con material seleccionado | C23: ='MEMORIA DE CANTIDADES'!I44 -> m3 | D23: ='MEMORIA DE CANTIDADES'!H44 -> 31.654557 | E23: =APUs!$H$267 -> 122049.58 | F23: =D23*E23 -> 3863425.4
A24: 4.2 | B24: STI de filtro longitudinal contiguo al muro (geotextil, triturado y tubería perforada Ø4") | C24: ='MEMORIA DE CANTIDADES'!I45 -> ml | D24: ='MEMORIA DE CANTIDADES'!H45 -> 52.903043 | E24: =APUs!$H$292 -> 129384.93 | F24: =D24*E24 -> 6844856.6
A25: SUBTOTAL CAPÍTULO 4 | F25: =SUM(F23:F24) -> 10708282
A27: CAPÍTULO 5. CERRAMIENTO
A28: 5.1 | B28: Excavación para cimentación | C28: ='MEMORIA DE CANTIDADES'!I50 -> m3 | D28: ='MEMORIA DE CANTIDADES'!H50 -> 6.3483652 | E28: =APUs!$H$315 -> 89927.677 | F28: =D28*E28 -> 570893.74
A29: 5.2 | B29: Concreto de limpieza | C29: ='MEMORIA DE CANTIDADES'!I51 -> m3 | D29: ='MEMORIA DE CANTIDADES'!H51 -> 0.79354565 | E29: =APUs!$H$339 -> 630845.21 | F29: =D29*E29 -> 500604.47
A30: 5.3 | B30: Viga de fundación en concreto reforzado | C30: ='MEMORIA DE CANTIDADES'!I52 -> m3 | D30: ='MEMORIA DE CANTIDADES'!H52 -> 4.7612739 | E30: =APUs!$H$368 -> 1392753.9 | F30: =D30*E30 -> 6631282.7
A31: 5.4 | B31: Muro en bloque estructural (zócalo) | C31: ='MEMORIA DE CANTIDADES'!I53 -> m2 | D31: ='MEMORIA DE CANTIDADES'!H53 -> 31.741826 | E31: =APUs!$H$392 -> 158960.78 | F31: =D31*E31 -> 5045705.5
A32: 5.5 | B32: Columnetas | C32: ='MEMORIA DE CANTIDADES'!I54 -> un | D32: ='MEMORIA DE CANTIDADES'!H54 -> 19 | E32: =APUs!$H$421 -> 123951.22 | F32: =D32*E32 -> 2355073.1
A33: 5.6 | B33: STI de malla eslabonada galvanizada | C33: ='MEMORIA DE CANTIDADES'!I55 -> m2 | D33: ='MEMORIA DE CANTIDADES'!H55 -> 84.644869 | E33: =APUs!$H$446 -> 60368.726 | F33: =D33*E33 -> 5109902.9
A34: 5.7 | B34: STI de postes metálicos galvanizados | C34: ='MEMORIA DE CANTIDADES'!I56 -> un | D34: ='MEMORIA DE CANTIDADES'!H56 -> 19 | E34: =APUs!$H$471 -> 163481.09 | F34: =D34*E34 -> 3106140.7
A35: 5.8 | B35: Pisamalla en concreto sobre muro | C35: ='MEMORIA DE CANTIDADES'!I57 -> ml | D35: ='MEMORIA DE CANTIDADES'!H57 -> 52.903043 | E35: =APUs!$H$500 -> 37082.278 | F35: =D35*E35 -> 1961765.4
A36: 5.9 | B36: STI de alambre de púas | C36: ='MEMORIA DE CANTIDADES'!I58 -> ml | D36: ='MEMORIA DE CANTIDADES'!H58 -> 105.80609 | E36: =APUs!$H$523 -> 6147.8392 | F36: =D36*E36 -> 650478.81
A37: 5.10 | B37: STI de pintura anticorrosiva | C37: ='MEMORIA DE CANTIDADES'!I59 -> m2 | D37: ='MEMORIA DE CANTIDADES'!H59 -> 8.36 | E37: =APUs!$H$546 -> 25760.981 | F37: =D37*E37 -> 215361.8
A38: 5.11 | B38: Limpieza final | C38: ='MEMORIA DE CANTIDADES'!I60 -> glb | D38: ='MEMORIA DE CANTIDADES'!H60 -> 1 | E38: =APUs!$H$569 -> 449852.4 | F38: =D38*E38 -> 449852.4
A39: SUBTOTAL CAPÍTULO 5 | F39: =SUM(F28:F38) -> 26597062
A41: TOTAL COSTO DIRECTO | F41: =F11+F20+F25+F39 -> 61117579
A42: ADMINISTRACION | E42: =+AU!K42 -> 0.27479642 | F42: =+F41*E42 -> 16794892
A43: UTILIDAD | E43: 0.05 | F43: =+F41*E43 -> 3055878.9
A44: SUB - TOTAL VALOR OBRA | F44: =+F41+F42+F43 -> 80968350
A45: TOTAL VALOR OBRA | F45: =+F44 -> 80968350

Sheet AU
B2: DISCRIMINACION DE LA ADMINISTRACION Y LA UTILIDAD
D3: Unidad | E3: Cant | F3: % | G3: VALOR EN $ | H3: Cantidad | I3: FP | J3: SUBTOTALES ($) | K3: PORCENTAJE (%)
C5: COSTO DIRECTO DEL PROYECTO | G5: =+PRESUPUESTO!F41 -> 61117579
C6: COSTO TOTAL DEL PROYECTO | G6: =+PRESUPUESTO!F45 -> 80968350
B8: 1. | C8: IMPUESTOS MUNICIPALES
B9: 1.1 | C9: Impuestos Municipales. De acuerdo al estatuto tributario de la entidad | J9: =SUM(J10:J16) -> 12563049 | K9: =SUM(K10:K16) -> 0.15516
C10: Estampilla pro adulto mayor | D10: % | H10: 0.04 | J10: =$G$6*H10 -> 3238734 | K10: =+J10/$G$6 -> 0.04
C11: Estampilla procultura | D11: % | H11: 0.02 | J11: =$G$6*H11 -> 1619367 | K11: =+J11/$G$6 -> 0.02
C12: Estampilla pro Hospital | D12: % | H12: 0.01 | J12: =$G$6*H12 -> 809683.5 | K12: =+J12/$G$6 -> 0.01
C13: Estampilla para la Justicia Familiar | D13: % | H13: 0.02 | J13: =$G$6*H13 -> 1619367 | K13: =+J13/$G$6 -> 0.02
C14: Fondo de seguridad | D14: % | H14: 0.05 | J14: =$G$6*H14 -> 4048417.5 | K14: =+J14/$G$6 -> 0.05
C15: Sobretasa Bomberil (Sobre el resultado rete ICA) | D15: % | H15: =2%*0.8% -> 0.00016 | J15: =$G$6*H15 -> 12954.936 | K15: =+J15/$G$6 -> 0.00016
C16: Tasa pro deportes. | D16: % | H16: 0.015 | J16: =$G$6*H16 -> 1214525.2 | K16: =+J16/$G$6 -> 0.015
B17: 1.2 | C17: Costos de legalización | J17: =+J18 -> 809683.5 | K17: =K18 -> 0.01
B18: 1.2.2 | C18: Pólizas de Cumplimiento y RCE | D18: 1 | G18: =+G6*H18 -> 809683.5 | H18: 0.01 | J18: =+G18*D18 -> 809683.5 | K18: =J18/G6 -> 0.01
B20: 1.3 | C20: Costos del personal de administración del contrato | J20: =+SUM(J21:J23) -> 5700712.5 | K20: =SUM(K21:K23) -> 0.093274515
B21: 1.3.2 | C21: Ingeniero Civil Residente | D21: Mes | E21: 1 | F21: 0.75 | G21: 4000000 | H21: 1 | I21: 1.4478 | J21: =E21*F21*G21*H21*I21 -> 4343400 | K21: =J21/G5 -> 0.071066297
B22: 1.3.3 | C22: Tecnologo SISO | D22: Mes | E22: 1 | F22: 0.375 | G22: 2500000 | H22: 1 | I22: 1.4478 | J22: =+H22*G22*F22*I22*E22 -> 1357312.5 | K22: =+J22/G5 -> 0.022208218
B25: 1.4 | C25: Otros costos | J25: =+SUM(J26:J30) -> 1000000 | K25: =SUM(K26:K30) -> 0.016361905
B26: 1.4.1 | C26: Arrendamientos, bodegas, servicios Públicos, gastos de papelería, equipos (alquiler), gastos bancarios, caja menor | D26: Und | G26: 200000 | J26: =+H26*G26 -> 0 | K26: =+J26/$G$5 -> 0
B27: 1.4.2 | C27: Ensayos de laboratorio de concretos y densidades, se cancela contra factura y resultado | D27: Und | G27: 0 | H27: 1 | J27: =+H27*G27 -> 0 | K27: =+J27/$G$5 -> 0
B28: 1.4.4 | C28: Señalética durante el tiempo de la obra y cerramiento en Sarán | D28: GL | G28: 150000 | J28: =+H28*G28 -> 0 | K28: =+J28/$G$5 -> 0
B29: 1.4.5 | C29: Vallas de Información con estructura metálica | D29: GL | G29: 659084.28 | H29: 0 | J29: =+H29*G29 -> 0 | K29: =+J29/$G$5 -> 0
B30: 1.4.6 | C30: Alojamiento y alimentación personal | D30: mes | G30: 1000000 | H30: 1 | J30: =+H30*G30 -> 1000000 | K30: =+J30/$G$5 -> 0.016361905
B32: 1.5 | C32: Oficina Central | J32: =+SUM(J33:J40) -> 0 | K32: =SUM(K33:K40) -> 0
B33: 1.5.1 | C33: Gerencia | D33: Und | F33: 0 | G33: 11495000 | H33: 4 | I33: 1.4478 | J33: =+G33*F33*H33*I33 -> 0 | K33: =+J33/$G$5 -> 0
B34: 1.5.2 | C34: Jefe de Talento Humano | D34: Und | F34: 0 | G34: 3024000 | H34: 4 | I34: 1.4478 | J34: =+G34*F34*H34*I34 -> 0 | K34: =+J34/$G$5 -> 0
B35: 1.5.3 | C35: Auxiliar contabilidad | D35: Und | F35: 0 | G35: 2350000 | H35: 4 | I35: 1.4478 | J35: =+G35*F35*H35*I35 -> 0 | K35: =+J35/$G$5 -> 0
B36: 1.5.4 | C36: Jefe de Compras | D36: Und | F36: 0 | G36: 3472000 | H36: 4 | I36: 1.4478 | J36: =+G36*F36*H36*I36 -> 0 | K36: =+J36/$G$5 -> 0
B37: 1.5.5 | C37: Mensajería | D37: Und | F37: 0 | G37: 1924903 | H37: 4 | I37: 1.4478 | J37: =+G37*F37*H37*I37 -> 0 | K37: =+J37/$G$5 -> 0
B38: 1.5.6 | C38: Contadora | D38: Und | F38: 0 | G38: 4815000 | H38: 4 | I38: 1.4478 | J38: =+G38*F38*H38*I38 -> 0 | K38: =+J38/$G$5 -> 0
B39: 1.5.7 | C39: Facturación | D39: Und | F39: 0 | G39: 2770000 | H39: 4 | I39: 1.4478 | J39: =+G39*F39*H39*I39 -> 0 | K39: =+J39/$G$5 -> 0
B40: 1.5.8 | C40: Locativos | D40: Und | F40: 0 | G40: 4370000 | H40: 4 | I40: 1.4478 | J40: =+G40*F40*H40*I40 -> 0 | K40: =+J40/$G$5 -> 0
C42: TOTAL ADMINISTRACIÓN | J42: =ROUND(+J25+J20+J17+J9+J32,0) -> 20073445 | K42: =+K9+K17+K20+K25+K32 -> 0.27479642
C44: UTILIDAD | D44: % | H44: 0.05 | J44: =ROUND(+H44*G5,0) -> 3055879 | K44: =+J44/$G$5 -> 0.050000001
C46: TOTAL AU (%) | J46: =+J42+J44 -> 23129324 | K46: =+K42+K44 -> 0.32479642

Sheet APUs
A1: ANÁLISIS DE PRECIOS UNITARIOS (APU)
A2: Estabilización de ladera posterior I.E. Marco Tobón Mejía - Santa Rosa de Osos (Antioquia) - 2026
A4: ÍTEM | C4: 1.1
A5: DESCRIPCIÓN | C5: Localización y replanteo topográfico del área de intervención (talud y cerramiento), incluye trazado, estacado, nivelación de referencia y control durante la ejecución de la obra.
A6: UNIDAD | C6: m2 | D6: CANTIDAD (Presupuesto) | F6: ='MEMORIA DE CANTIDADES'!H34 -> 476.12739
A8: Código | B8: Descripción | C8: Unidad | D8: Cantidad | E8: % Desp. | F8: Cant. Total | G8: Precio Unit. | H8: Parcial
A9: M28 | B9: =VLOOKUP($A$9,MATERIALES!$A$5:$E$34,2,0) -> Estacas de madera y trompos | C9: =VLOOKUP($A$9,MATERIALES!$A$5:$E$34,3,0) -> un | D9: 0.05 | E9: 0.05 | F9: =D9*(1+E9) -> 0.0525 | G9: =VLOOKUP($A$9,MATERIALES!$A$5:$E$34,4,0) -> 2500 | H9: =F9*G9 -> 131.25
A10: M29 | B10: =VLOOKUP($A$10,MATERIALES!$A$5:$E$34,2,0) -> Pintura de trazo / marcador topográfico | C10: =VLOOKUP($A$10,MATERIALES!$A$5:$E$34,3,0) -> gl | D10: 0.002 | E10: 0.05 | F10: =D10*(1+E10) -> 0.0021 | G10: =VLOOKUP($A$10,MATERIALES!$A$5:$E$34,4,0) -> 45000 | H10: =F10*G10 -> 94.5
A11: SUBTOTAL MATERIALES | H11: =SUM(H9:H10) -> 225.75
A13: Código | B13: Cuadrilla | C13: Rend. (unid/día) | D13: Cantidad (día) | G13: Vr. Cuadrilla/Día | H13: Parcial
A14: CU1 | B14: =VLOOKUP($A$14,CUADRILLAS!$A$5:$M$12,2,0) -> Cuadrilla Topografía | C14: 250 | D14: =1/C14 -> 0.004 | G14: =VLOOKUP($A$14,CUADRILLAS!$A$5:$M$12,12,0) -> 304069.06 | H14: =D14*G14 -> 1216.2762
A15: SUBTOTAL MANO DE OBRA | H15: =SUM(H14:H14) -> 1216.2762
A17: Código | B17: Equipo | C17: Rend. (unid/hora) | D17: Horas | G17: Tarifa/Hora | H17: Parcial
A18: E11 | B18: =VLOOKUP($A$18,EQUIPOS!$A$5:$H$17,2,0) -> Equipo topográfico (estación total / nivel) | C18: 31.25 | D18: =1/C18 -> 0.032 | G18: =VLOOKUP($A$18,EQUIPOS!$A$5:$H$17,3,0) -> 14000 | H18: =D18*G18 -> 448
A19: E12 | B19: =VLOOKUP($A$19,EQUIPOS!$A$5:$H$17,2,0) -> Herramienta menor (general) | G19: 0.05 | H19: =H15*G19 -> 60.813812
A20: SUBTOTAL EQUIPO Y HERRAMIENTA | H20: =SUM(H18:H19) -> 508.81381
B22: Transporte interno de materiales dentro de la obra | G22: % s/Mat.+Equipo | H22: Parcial
G23: 0.02 | H23: =(H11+H20)*G23 -> 14.691276
A24: Valor por desperdicios de materiales (incluido en Subtotal Materiales) | H24: =SUMPRODUCT((F9:F10-D9:D10)*G9:G10) -> 10.75
A26: COSTO DIRECTO UNITARIO - ÍTEM 1.1 ($/m2) | H26: =H11+H15+H20+H23 -> 1965.5313
A29: ÍTEM | C29: 1.2
A30: DESCRIPCIÓN | C30: Cerramiento provisional en polisombra sobre parales de madera rolliza, incluye suministro, instalación, mantenimiento y retiro al final de la obra.
A31: UNIDAD | C31: m | D31: CANTIDAD (Presupuesto) | F31: ='MEMORIA DE CANTIDADES'!H35 -> 52.903043
A33: Código | B33: Descripción | C33: Unidad | D33: Cantidad | E33: % Desp. | F33: Cant. Total | G33: Precio Unit. | H33: Parcial
A34: M20 | B34: =VLOOKUP($A$34,MATERIALES!$A$5:$E$34,2,0) -> Polisombra / tela verde (cerramiento provisional) | C34: =VLOOKUP($A$34,MATERIALES!$A$5:$E$34,3,0) -> m2 | D34: 1.2 | E34: 0.1 | F34: =D34*(1+E34) -> 1.32 | G34: =VLOOKUP($A$34,MATERIALES!$A$5:$E$34,4,0) -> 5200 | H34: =F34*G34 -> 6864
A35: M21 | B35: =VLOOKUP($A$35,MATERIALES!$A$5:$E$34,2,0) -> Guadua / parales en madera rolliza | C35: =VLOOKUP($A$35,MATERIALES!$A$5:$E$34,3,0) -> un | D35: 0.5 | E35: 0.05 | F35: =D35*(1+E35) -> 0.525 | G35: =VLOOKUP($A$35,MATERIALES!$A$5:$E$34,4,0) -> 9500 | H35: =F35*G35 -> 4987.5
A36: M22 | B36: =VLOOKUP($A$36,MATERIALES!$A$5:$E$34,2,0) -> Puntillas y accesorios varios | C36: =VLOOKUP($A$36,MATERIALES!$A$5:$E$34,3,0) -> kg | D36: 0.05 | E36: 0.05 | F36: =D36*(1+E36) -> 0.0525 | G36: =VLOOKUP($A$36,MATERIALES!$A$5:$E$34,4,0) -> 7500 | H36: =F36*G36 -> 393.75
A37: SUBTOTAL MATERIALES | H37: =SUM(H34:H36) -> 12245.25
A39: Código | B39: Cuadrilla | C39: Rend. (unid/día) | D39: Cantidad (día) | G39: Vr. Cuadrilla/Día | H39: Parcial
A40: CU2 | B40: =VLOOKUP($A$40,CUADRILLAS!$A$5:$M$12,2,0) -> Cuadrilla Preliminares / Roce y Desmonte | C40: 80 | D40: =1/C40 -> 0.0125 | G40: =VLOOKUP($A$40,CUADRILLAS!$A$5:$M$12,12,0) -> 428023.21 | H40: =D40*G40 -> 5350.2902
A41: SUBTOTAL MANO DE OBRA | H41: =SUM(H40:H40) -> 5350.2902
A43: Código | B43: Equipo | C43: Rend. (unid/hora) | D43: Horas | G43: Tarifa/Hora | H43: Parcial
A44: E12 | B44: =VLOOKUP($A$44,EQUIPOS!$A$5:$H$17,2,0) -> Herramienta menor (general) | G44: 0.05 | H44: =H41*G44 -> 267.51451
A45: SUBTOTAL EQUIPO Y HERRAMIENTA | H45: =SUM(H44:H44) -> 267.51451
B47: Transporte interno de materiales dentro de la obra | G47: % s/Mat.+Equipo | H47: Parcial
G48: 0.02 | H48: =(H37+H45)*G48 -> 250.25529
A49: Valor por desperdicios de materiales (incluido en Subtotal Materiales) | H49: =SUMPRODUCT((F34:F36-D34:D36)*G34:G36) -> 880.25
A51: COSTO DIRECTO UNITARIO - ÍTEM 1.2 ($/m) | H51: =H37+H41+H45+H48 -> 18113.31
A54: ÍTEM | C54: 1.3
A55: DESCRIPCIÓN | C55: Roce, limpieza y desmonte manual y mecánico de la superficie del talud, incluye retiro de material vegetal liviano.
...

Sheet MATERIALES
A1: BASE DE DATOS DE MATERIALES
A2: Precios de referencia mercado Norte de Antioquia - Santa Rosa de Osos (2026)
A4: Código | B4: Material | C4: Unidad | D4: Precio Unitario | E4: Proveedor de Referencia
A5: M01 | B5: Cemento gris tipo I x 50 kg | C5: bulto | D5: 42000 | E5: Cementos Argos / Ferretería local Sta. Rosa de Osos
A6: M02 | B6: Arena gruesa lavada | C6: m3 | D6: 220800 | E6: Cantera Norte de Antioquia
A7: M03 | B7: Recebo compactable / material seleccionado | C7: m3 | D7: 55000 | E7: Cantera Norte de Antioquia
A8: M04 | B8: Triturado / gravilla 3/4" | C8: m3 | D8: 207000 | E8: Cantera Norte de Antioquia
A9: M05 | B9: Concreto 3000 PSI (21 MPa) elaborado en obra | C9: m3 | D9: ='CONCRETOS Y MORTEROS'!$E$13 -> 576227 | E9: Materiales locales (cemento, arena, triturado)
A10: M06 | B10: Concreto 2000 PSI (14 MPa) elaborado en obra (limpieza) | C10: m3 | D10: ='CONCRETOS Y MORTEROS'!$G$13 -> 509680 | E10: Materiales locales (cemento, arena, triturado)
A11: M07 | B11: Acero de refuerzo Fy=420 MPa (varilla corrugada) | C11: kg | D11: 4500 | E11: Gerdau Diaco / Ferretería industrial
A12: M08 | B12: Alambre negro No. 18 (amarre) | C12: kg | D12: 4800 | E12: Ferretería local
A13: M09 | B13: Agua para mezcla y curado de concretos y morteros | C13: m3 | D13: 6500 | E13: Acueducto municipal Santa Rosa de Osos / carrotanque
A14: M10 | B14: Flete de acero de refuerzo hasta la obra | C14: kg | D14: 350 | E14: Transportador local / siderúrgica
A15: M12 | B15: Bloque de concreto estructural 40x20x20 cm | C15: un | D15: 6900 | E15: Bloquera local Santa Rosa de Osos
A16: M13 | B16: Malla eslabonada galvanizada cal. 12 H=1.60 m | C16: m2 | D16: 33672 | E16: Ferretería industrial de Antioquia
A17: M14 | B17: Poste metálico galvanizado Ø2" (2.80 m incl. base) | C17: un | D17: 68000 | E17: Ferretería industrial de Antioquia
A18: M15 | B18: Alambre galvanizado cal. 12 para amarre de malla | C18: kg | D18: 11000 | E18: Ferretería local
A19: M16 | B19: Alambre de púas galvanizado | C19: ml | D19: 1450 | E19: Ferretería local
A20: M17 | B20: Pintura anticorrosiva (base + esmalte) | C20: gl | D20: 136900 | E20: Pintuco / Sika
A21: M18 | B21: Cespedón / grama en rollo (empradización) | C21: m2 | D21: 6500 | E21: Vivero local Norte de Antioquia
A22: M19 | B22: Biomanta / geomanta control de erosión | C22: m2 | D22: 14500 | E22: Geosistemas
... A28: M25 | B28: Semilla de pasto (complemento empradización) | C28: kg | D28: 28000 | E28: Vivero / agroinsumos
A29: M26 | B29: Mortero de pega 1:4 (preparado en obra) | C29: m3 | D29: ='CONCRETOS Y MORTEROS'!$H$13 -> 517570 | E29: Elaborado en obra (cemento+arena)
A30: M27 | B30: gasolina/ ACPM (combustible equipos) | C30: gal | D30: 16500 | E30: EDS Santa Rosa de Osos
A31: M28 | B31: Estacas de madera y trompos | C31: un | D31: 2500 | E31: Depósito de madera local
A32: M29 | B32: Pintura de trazo / marcador topográfico | C32: gl | D32: 45000 | E32: Ferretería local
A33: M30 | B33: Templador / grampa para tensor | C33: un | D33: 1800 | E33: Ferretería local
A34: M31 | B34: Anclaje menor para poste (concreto/químico) | C34: un | D34: 12000 | E34: Ferretería local
A35: M32 | B35: Geotextil no tejido NT 1600 (filtros) | C35: m2 | D35: 6200 | E35: Distribuidor geosintéticos Antioquia
A36: M33 | B36: Tubería PVC perforada para drenaje Ø4" (100 mm) | C36: ml | D36: 19500 | E36: Distribuidor tubería de drenaje Antioquia

Sheet CUADRILLAS
A1: CUADRILLAS DE TRABAJO OPTIMIZADAS
A2: Composición, costo por hora/día y rendimiento estimado por actividad
A4: Código | B4: Cuadrilla | C4: Composición | D4: Ayudantes | E4: Oficiales | F4: Maestros | G4: Topógrafo | H4: Cadenero | I4: Soldador | J4: Operador Eq. | K4: Costo/Hora ($) | L4: Costo/Día ($, 8h) | M4: Observaciones
A5: CU1 | B5: Cuadrilla Topografía | C5: 1 Topógrafo + 1 Cadenero | D5: 0 | E5: 0 | F5: 0 | G5: 1 | H5: 1 | I5: 0 | J5: 0 | K5: =D5*'FACTOR PRESTACIONAL'!$U$22+E5*'FACTOR PRESTACIONAL'!$U$23+F5*'FACTOR PRESTACIONAL'!$U$24+G5*'FACTOR PRESTACIONAL'!$U$25+H5*'FACTOR PRESTACIONAL'!$U$26+I5*'FACTOR PRESTACIONAL'!$U$27+J5*'FACTOR PRESTACIONAL'!$U$28 -> 38008.632 | L5: =K5*8 -> 304069.06 | M5: Localización, replanteo y control topográfico
A6: CU2 | B6: Cuadrilla Preliminares / Roce y Desmonte | C6: 1 Oficial + 2 Ayudantes | D6: 2 | E6: 1 | F6: 0 | G6: 0 | H6: 0 | I6: 0 | J6: 0 | K6: =D6*'FACTOR PRESTACIONAL'!$U$22+E6*'FACTOR PRESTACIONAL'!$U$23+F6*'FACTOR PRESTACIONAL'!$U$24+G6*'FACTOR PRESTACIONAL'!$U$25+H6*'FACTOR PRESTACIONAL'!$U$26+I6*'FACTOR PRESTACIONAL'!$U$27+J6*'FACTOR PRESTACIONAL'!$U$28 -> 53502.902 | L6: =K6*8 -> 428023.21 | M6: Roce, limpieza, desmonte, tala/poda, cerramiento provisional, limpieza final
A7: CU3 | B7: Cuadrilla Excavación Manual y Movimiento de Tierras | C7: 1 Oficial + 2 Ayudantes | D7: 2 | E7: 1 | F7: 0 | G7: 0 | H7: 0 | I7: 0 | J7: 0 | K7: =D7*'FACTOR PRESTACIONAL'!$U$22+E7*'FACTOR PRESTACIONAL'!$U$23+F7*'FACTOR PRESTACIONAL'!$U$24+G7*'FACTOR PRESTACIONAL'!$U$25+H7*'FACTOR PRESTACIONAL'!$U$26+I7*'FACTOR PRESTACIONAL'!$U$27+J7*'FACTOR PRESTACIONAL'!$U$28 -> 53502.902 | L7: =K7*8 -> 428023.21 | M7: Excavaciones, cargue manual, conformación, llenos y perfilación
A8: CU4 | B8: Cuadrilla Concreto y Estructuras | C8: 1 Oficial + 2 Ayudantes | D8: 2 | E8: 1 | F8: 0 | G8: 0 | H8: 0 | I8: 0 | J8: 0 | K8: =D8*'FACTOR PRESTACIONAL'!$U$22+E8*'FACTOR PRESTACIONAL'!$U$23+F8*'FACTOR PRESTACIONAL'!$U$24+G8*'FACTOR PRESTACIONAL'!$U$25+H8*'FACTOR PRESTACIONAL'!$U$26+I8*'FACTOR PRESTACIONAL'!$U$27+J8*'FACTOR PRESTACIONAL'!$U$28 -> 53502.902 | L8: =K8*8 -> 428023.21 | M8: Vigas de fundación, columnetas, cajas de inspección, concreto de limpieza
A9: CU5 | B9: Cuadrilla Mampostería (Bloque) | C9: 1 Oficial + 1 Ayudante | D9: 1 | E9: 1 | F9: 0 | G9: 0 | H9: 0 | I9: 0 | J9: 0 | K9: =D9*'FACTOR PRESTACIONAL'!$U$22+E9*'FACTOR PRESTACIONAL'!$U$23+F9*'FACTOR PRESTACIONAL'!$U$24+G9*'FACTOR PRESTACIONAL'!$U$25+H9*'FACTOR PRESTACIONAL'!$U$26+I9*'FACTOR PRESTACIONAL'!$U$27+J9*'FACTOR PRESTACIONAL'!$U$28 -> 38008.632 | L9: =K9*8 -> 304069.06 | M9: Muro en bloque estructural (zócalo de cerramiento)
A10: CU6 | B10: Cuadrilla Cerramiento (Malla y Postes) | C10: 1 Oficial + 2 Ayudantes + 1 Soldador | D10: 2 | E10: 1 | F10: 0 | G10: 0 | H10: 0 | I10: 1 | J10: 0 | K10: =D10*'FACTOR PRESTACIONAL'!$U$22+E10*'FACTOR PRESTACIONAL'!$U$23+F10*'FACTOR PRESTACIONAL'!$U$24+G10*'FACTOR PRESTACIONAL'!$U$25+H10*'FACTOR PRESTACIONAL'!$U$26+I10*'FACTOR PRESTACIONAL'!$U$27+J10*'FACTOR PRESTACIONAL'!$U$28 -> 80229.32 | L10: =K10*8 -> 641834.56 | M10: Postes, malla eslabonada, tensores, alambre de púas
A11: CU8 | B11: Cuadrilla Empradización y Paisajismo | C11: 2 Jardineros (Ayudante especializado) | D11: 2 | E11: 0 | F11: 0 | G11: 0 | H11: 0 | I11: 0 | J11: 0 | K11: =D11*'FACTOR PRESTACIONAL'!$U$22+E11*'FACTOR PRESTACIONAL'!$U$23+F11*'FACTOR PRESTACIONAL'!$U$24+G11*'FACTOR PRESTACIONAL'!$U$25+H11*'FACTOR PRESTACIONAL'!$U$26+I11*'FACTOR PRESTACIONAL'!$U$27+J11*'FACTOR PRESTACIONAL'!$U$28 -> 30988.539 | L11: =K11*8 -> 247908.31 | M11: Empradización y protección contra erosión (biomanta)
A12: CU9 | B12: Cuadrilla Pintura y Acabados Metálicos | C12: 1 Oficial Pintor + 1 Ayudante | D12: 1 | E12: 1 | F12: 0 | G12: 0 | H12: 0 | I12: 0 | J12: 0 | K12: =D12*'FACTOR PRESTACIONAL'!$U$22+E12*'FACTOR PRESTACIONAL'!$U$23+F12*'FACTOR PRESTACIONAL'!$U$24+G12*'FACTOR PRESTACIONAL'!$U$25+H12*'FACTOR PRESTACIONAL'!$U$26+I12*'FACTOR PRESTACIONAL'!$U$27+J12*'FACTOR PRESTACIONAL'!$U$28 -> 38008.632 | L12: =K12*8 -> 304069.06 | M12: Pintura anticorrosiva de elementos metálicos
A14: Nota: la cuadrilla CU8 (jardineros) utiliza como base el valor hora de la categoría 'Ayudante/Peón' de la hoja FACTOR PRESTACIONAL, por tratarse de personal no calificado con destreza operativa similar.

Sheet FACTOR PRESTACIONAL
A1: FACTOR PRESTACIONAL DE MANO DE OBRA
A2: Normatividad laboral colombiana vigente 2026 - Metodología APU de obra pública (IDU/INVIAS)
A4: PARÁMETROS BASE 2026
A5: Salario Mínimo Legal Mensual Vigente (SMLMV) | C5: 1750905 | D5: Decretos 1469 y 1470 del 29-dic-2025
A6: Auxilio de Transporte 2026 | C6: 249095 | D6: Aplica a quienes devenguen hasta 2 SMLMV (Ley 15 de 1959 y decreto anual)
A7: Cesantías (%) | C7: 0.08333 | D7: 1 salario por año trabajado (CST Art. 249)
A8: Intereses sobre cesantías (%, sobre cesantías del mes) | C8: 0.01 | D8: 12% anual prorrateado mensualmente (Ley 52/1975)
A9: Prima de servicios (%) | C9: 0.08333 | D9: 1 salario por año, pago semestral (CST Art. 306, Ley 1788/2016)
A10: Vacaciones (%) | C10: 0.04167 | D10: 15 días hábiles por año sobre salario básico (CST Art. 186)
A11: Caja de Compensación Familiar (%) | C11: 0.04 | D11: Aporte parafiscal (Ley 21/1982)
A12: ICBF (%) | C12: 0.03 | D12: Aporte parafiscal (Ley 89/1988)
A13: SENA (%) | C13: 0.02 | D13: Aporte parafiscal
A14: ARL Clase V - construcción (%) | C14: 0.0696 | D14: Decreto 1607/2002, actividad de riesgo máximo
A15: EPS - Salud (%) | C15: 0.085 | D15: Aporte a cargo del empleador (8.5%)
A16: Pensión (%) | C16: 0.12 | D16: Aporte a cargo del empleador (12%)
... A19: Horas por jornada laboral | C19: 8 | D19: Jornada diaria estándar de obra
A21: Categoría | B21: Factor SMLMV | C21: Salario Básico | D21: ¿Aux. Transporte? | E21: Auxilio Transporte | F21: Base Prestaciones (Salario+Aux.) | G21: Cesantías | H21: Int. Cesantías | I21: Prima | J21: Vacaciones | K21: Caja Comp. | L21: ICBF | M21: SENA | N21: ARL V | O21: EPS | P21: Pensión | Q21: Dotación | R21: Total Carga Prestacional | S21: Costo Total Mensual | T21: Factor Multiplicador | U21: Valor Hora (APU)
A22: Ayudante / Peón | B22: 1 | C22: =B22*$C$5 -> 1750905 | D22: =IF(C22<=2*$C$5,"Sí","No") -> Sí | E22: =IF(C22<=2*$C$5,$C$6,0) -> 249095 | F22: =C22+E22 -> 2000000 | G22: =F22*$C$7 -> 166660 | H22: =G22*$C$8 -> 1666.6 | I22: =F22*$C$9 -> 166660 | J22: =C22*$C$10 -> 72960.211 | K22: =C22*$C$11 -> 70036.2 | L22: =C22*$C$12 -> 52527.15 | M22: =C22*$C$13 -> 35018.1 | N22: =C22*$C$14 -> 121862.99 | O22: =C22*$C$15 -> 148826.93 | P22: =C22*$C$16 -> 210108.6 | Q22: =C22*$C$17 -> 52527.15 | R22: =SUM(G22:Q22) -> 1098853.9 | S22: =C22+E22+R22 -> 3098853.9 | T22: =S22/C22 -> 1.7698584 | U22: =S22/($C$18*$C$19) -> 15494.27
A23: Oficial de Construcción | B23: 1.5 | C23: =B23*$C$5 -> 2626357.5 | D23: =IF(C23<=2*$C$5,"Sí","No") -> Sí | E23: =IF(C23<=2*$C$5,$C$6,0) -> 249095 | F23: =C23+E23 -> 2875452.5 | G23: =F23*$C$7 -> 239611.46 | H23: =G23*$C$8 -> 2396.1146 | I23: =F23*$C$9 -> 239611.46 | J23: =C23*$C$10 -> 109440.32 | K23: =C23*$C$11 -> 105054.3 | L23: =C23*$C$12 -> 78790.725 | M23: =C23*$C$13 -> 52527.15 | N23: =C23*$C$14 -> 182794.48 | O23: =C23*$C$15 -> 223240.39 | P23: =C23*$C$16 -> 315162.9 | Q23: =C23*$C$17 -> 78790.725 | R23: =SUM(G23:Q23) -> 1627420 | S23: =C23+E23+R23 -> 4502872.5 | T23: =S23/C23 -> 1.7144934 | U23: =S23/($C$18*$C$19) -> 22514.363
A24: Maestro de Obra | B24: 2 | C24: =B24*$C$5 -> 3501810 | D24: =IF(C24<=2*$C$5,"Sí","No") -> Sí | E24: =IF(C24<=2*$C$5,$C$6,0) -> 249095 | F24: =C24+E24 -> 3750905 | G24: =F24*$C$7 -> 312562.91 | H24: =G24*$C$8 -> 3125.6291 | I24: =F24*$C$9 -> 312562.91 | J24: =C24*$C$10 -> 145920.42 | K24: =C24*$C$11 -> 140072.4 | L24: =C24*$C$12 -> 105054.3 | M24: =C24*$C$13 -> 70036.2 | N24: =C24*$C$14 -> 243725.98 | O24: =C24*$C$15 -> 297653.85 | P24: =C24*$C$16 -> 420217.2 | Q24: =C24*$C$17 -> 105054.3 | R24: =SUM(G24:Q24) -> 2155986.1 | S24: =C24+E24+R24 -> 5906891.1 | T24: =S24/C24 -> 1.6868109 | U24: =S24/($C$18*$C$19) -> 29534.456
A25: Topógrafo | B25: 1.4 | C25: =B25*$C$5 -> 2451267 | D25: =IF(C25<=2*$C$5,"Sí","No") -> Sí | E25: =IF(C25<=2*$C$5,$C$6,0) -> 249095 | F25: =C25+E25 -> 2700362 | G25: =F25*$C$7 -> 225021.17 | H25: =G25*$C$8 -> 2250.2117 | I25: =F25*$C$9 -> 225021.17 | J25: =C25*$C$10 -> 102144.3 | K25: =C25*$C$11 -> 98050.68 | L25: =C25*$C$12 -> 73538.01 | M25: =C25*$C$13 -> 49025.34 | N25: =C25*$C$14 -> 170608.18 | O25: =C25*$C$15 -> 208357.7 | P25: =C25*$C$16 -> 294152.04 | Q25: =C25*$C$17 -> 73538.01 | R25: =SUM(G25:Q25) -> 1521706.8 | S25: =C25+E25+R25 -> 4222068.8 | T25: =S25/C25 -> 1.7224027 | U25: =S25/($C$18*$C$19) -> 21110.344
A26: Cadenero / Auxiliar Topografía | B26: 1.1 | C26: =B26*$C$5 -> 1925995.5 | D26: =IF(C26<=2*$C$5,"Sí","No") -> Sí | E26: =IF(C26<=2*$C$5,$C$6,0) -> 249095 | F26: =C26+E26 -> 2175090.5 | G26: =F26*$C$7 -> 181250.29 | H26: =G26*$C$8 -> 1812.5029 | I26: =F26*$C$9 -> 181250.29 | J26: =C26*$C$10 -> 80256.232 | K26: =C26*$C$11 -> 77039.82 | L26: =C26*$C$12 -> 57779.865 | M26: =C26*$C$13 -> 38519.91 | N26: =C26*$C$14 -> 134049.29 | O26: =C26*$C$15 -> 163709.62 | P26: =C26*$C$16 -> 231119.46 | Q26: =C26*$C$17 -> 57779.865 | R26: =SUM(G26:Q26) -> 1204567.1 | S26: =C26+E26+R26 -> 3379657.6 | T26: =S26/C26 -> 1.7547588 | U26: =S26/($C$18*$C$19) -> 16898.288
A27: Soldador / Cerrajero | B27: 1.8 | C27: =B27*$C$5 -> 3151629 | D27: =IF(C27<=2*$C$5,"Sí","No") -> Sí | E27: =IF(C27<=2*$C$5,$C$6,0) -> 249095 | F27: =C27+E27 -> 3400724 | G27: =F27*$C$7 -> 283382.33 | H27: =G27*$C$8 -> 2833.8233 | I27: =F27*$C$9 -> 283382.33 | J27: =C27*$C$10 -> 131328.38 | K27: =C27*$C$11 -> 126065.16 | L27: =C27*$C$12 -> 94548.87 | M27: =C27*$C$13 -> 63032.58 | N27: =C27*$C$14 -> 219353.38 | O27: =C27*$C$15 -> 267888.47 | P27: =C27*$C$16 -> 378195.48 | Q27: =C27*$C$17 -> 94548.87 | R27: =SUM(G27:Q27) -> 1944559.7 | S27: =C27+E27+R27 -> 5345283.7 | T27: =S27/C27 -> 1.6960384 | U27: =S27/($C$18*$C$19) -> 26726.418
A28: Operador de Equipo Pesado | B28: 2.2 | C28: =B28*$C$5 -> 3851991 | D28: =IF(C28<=2*$C$5,"Sí","No") -> No | E28: =IF(C28<=2*$C$5,$C$6,0) -> 0 | F28: =C28+E28 -> 3851991 | G28: =F28*$C$7 -> 320986.41 | H28: =G28*$C$8 -> 3209.8641 | I28: =F28*$C$9 -> 320986.41 | J28: =C28*$C$10 -> 160512.46 | K28: =C28*$C$11 -> 154079.64 | L28: =C28*$C$12 -> 115559.73 | M28: =C28*$C$13 -> 77039.82 | N28: =C28*$C$14 -> 268098.57 | O28: =C28*$C$15 -> 327419.24 | P28: =C28*$C$16 -> 462238.92 | Q28: =C28*$C$17 -> 115559.73 | R28: =SUM(G28:Q28) -> 2325690.8 | S28: =C28+E28+R28 -> 6177681.8 | T28: =S28/C28 -> 1.6037633 | U28: =S28/($C$18*$C$19) -> 30888.409
A29: Jardinero / Operario Paisajismo | B29: 1.05 | C29: =B29*$C$5 -> 1838450.2 | D29: =IF(C29<=2*$C$5,"Sí","No") -> Sí | E29: =IF(C29<=2*$C$5,$C$6,0) -> 249095 | F29: =C29+E29 -> 2087545.2 | G29: =F29*$C$7 -> 173955.15 | H29: =G29*$C$8 -> 1739.5515 | I29: =F29*$C$9 -> 173955.15 | J29: =C29*$C$10 -> 76608.222 | K29: =C29*$C$11 -> 73538.01 | L29: =C29*$C$12 -> 55153.507 | M29: =C29*$C$13 -> 36769.005 | N29: =C29*$C$14 -> 127956.14 | O29: =C29*$C$15 -> 156268.27 | P29: =C29*$C$16 -> 220614.03 | Q29: =C29*$C$17 -> 55153.507 | R29: =SUM(G29:Q29) -> 1151710.5 | S29: =C29+E29+R29 -> 3239255.8 | T29: =S29/C29 -> 1.7619491 | U29: =S29/($C$18*$C$19) -> 16196.279

Sheet EQUIPOS
A1: BASE DE DATOS DE EQUIPOS Y HERRAMIENTA
A2: Tarifas de alquiler / operación - mercado Norte de Antioquia (2026)
A4: Código | B4: Equipo | C4: Tarifa Hora ($) | D4: Rendimiento de Referencia | E4: Costo Diario (8 h) | F4: Operador | G4: Combustible | H4: Observaciones
A5: E01 | B5: Retroexcavadora sobre oruga/llanta 62-88 HP | C5: 150000 | D5: 10-15 m3/h excavación | E5: =C5*8 -> 1200000 | F5: Incluido en tarifa | G5: Incluido en tarifa | H5: Alquiler con operador y combustible incluidos
A6: E02 | B6: Compactador tipo rana (vibrocompactador manual) | C6: 18000 | D6: 12-18 m3/h | E6: =C6*8 -> 144000 | F6: Operario de cuadrilla | G6: 6000 | H6: Combustible ACPM/gasolina aparte
A7: E03 | B7: Placa vibratoria | C7: 15000 | D7: 20-30 m2/h | E7: =C7*8 -> 120000 | F7: Operario de cuadrilla | G7: 5000
A8: E04 | B8: Vibrocompactador tipo rodillo pequeño | C8: 45000 | D8: 25-35 m3/h | E8: =C8*8 -> 360000 | F8: Incluido en tarifa | G8: Incluido en tarifa
A9: E05 | B9: Camión doble troque (transporte materiales) | C9: 110000 | D9: 14 m3/viaje | E9: =C9*8 -> 880000 | F9: Incluido en tarifa | G9: Incluido en tarifa | H9: Tarifa por hora efectiva de transporte
A10: E06 | B10: Volqueta sencilla 7 m3 (retiro de escombros) | C10: 90000 | D10: 7 m3/viaje | E10: =C10*8 -> 720000 | F10: Incluido en tarifa | G10: Incluido en tarifa | H10: Disposición en escombrera autorizada
A11: E07 | B11: Mezcladora de concreto 1 saco (trompo) | C11: 12000 | D11: 0.5-0.7 m3/h | E11: =C11*8 -> 96000 | F11: Operario de cuadrilla | G11: 4000
A12: E08 | B12: Cortadora de disco (pulidora) | C12: 8000 | D12: Corte de malla/perfiles | E12: =C12*8 -> 64000 | F12: Operario de cuadrilla | G12: 2500
A13: E09 | B13: Motosierra | C13: 9500 | D13: 3-4 un/día tala controlada | E13: =C13*8 -> 76000 | F13: Operario de cuadrilla | G13: 3500
A14: E10 | B14: Guadaña | C14: 6000 | D14: 100-150 m2/h | E14: =C14*8 -> 48000 | F14: Operario de cuadrilla | G14: 3000
A15: E11 | B15: Equipo topográfico (estación total / nivel) | C15: 14000 | D15: Según levantamiento | E15: =C15*8 -> 112000 | F15: Topógrafo | G15: N/A | H15: Incluye trípode, prisma y accesorios
A16: E13 | B16: Vibrador de concreto a gasolina (aguja Ø1 1/2") | C16: 15000 | D16: 3-5 m3/h | E16: 120000 | F16: Operario de cuadrilla | G16: 4000 | H16: Compactación de concreto en obra
A17: E12 | B17: Herramienta menor (general) | C17: 0 | D17: 5% sobre mano de obra | E17: =C17*8 -> 0 | F17: N/A | G17: N/A | H17: Se calcula como porcentaje de la mano de obra en cada APU

Sheet CONCRETOS Y MORTEROS
A1: CONCRETOS Y MORTEROS ELABORADOS EN OBRA
A3: Código mezcla | E3: CM-01 | F3: CM-02 | G3: CM-03 | H3: CM-04 | I3: CM-05
A4: Mezcla | E4: Concreto 3000 PSI (21 MPa) | F4: Concreto 2500 PSI (17.5 MPa) | G4: Concreto 2000 PSI (14 MPa) - limpieza | H4: Mortero de pega 1:4 | I4: Mortero de pañete 1:3
A5: Dosificación (c:a:g) | E5: 1 : 2 : 3 | F5: 1 : 2 : 4 | G5: 1 : 3 : 4 | H5: 1 : 4 | I5: 1 : 3
A7: Código | B7: Insumo | C7: Unidad | D7: Precio unit. ($) | E7: Cantidad / m3 | F7: Cantidad / m3 | G7: Cantidad / m3 | H7: Cantidad / m3 | I7: Cantidad / m3
A8: M01 | B8: =VLOOKUP($A8,MATERIALES!$A$5:$E$34,2,0) -> Cemento gris tipo I x 50 kg | C8: =VLOOKUP($A8,MATERIALES!$A$5:$E$34,3,0) -> bulto | D8: =VLOOKUP($A8,MATERIALES!$A$5:$E$34,4,0) -> 42000 | E8: 7.5 | F8: 6.5 | G8: 5.5 | H8: 6.5 | I8: 8.5
A9: M02 | B9: =VLOOKUP($A9,MATERIALES!$A$5:$E$34,2,0) -> Arena gruesa lavada | C9: =VLOOKUP($A9,MATERIALES!$A$5:$E$34,3,0) -> m3 | D9: =VLOOKUP($A9,MATERIALES!$A$5:$E$34,4,0) -> 220800 | E9: 0.54 | F9: 0.56 | G9: 0.6 | H9: 1.1 | I9: 1.05
A10: M04 | B10: =VLOOKUP($A10,MATERIALES!$A$5:$E$34,2,0) -> Triturado / gravilla 3/4" | C10: =VLOOKUP($A10,MATERIALES!$A$5:$E$34,3,0) -> m3 | D10: =VLOOKUP($A10,MATERIALES!$A$5:$E$34,4,0) -> 207000 | E10: 0.68 | F10: 0.7 | G10: 0.7 | H10: 0 | I10: 0
A11: M09 | B11: =VLOOKUP($A11,MATERIALES!$A$5:$E$34,2,0) -> Agua para mezcla y curado de concretos y morteros | C11: =VLOOKUP($A11,MATERIALES!$A$5:$E$34,3,0) -> m3 | D11: =VLOOKUP($A11,MATERIALES!$A$5:$E$34,4,0) -> 6500 | E11: 0.19 | F11: 0.195 | G11: 0.2 | H11: 0.26 | I11: 0.28
A13: COSTO DE MATERIALES ($/m3) | E13: =SUMPRODUCT($D$8:$D$11,E8:E11) -> 576227 | F13: =SUMPRODUCT($D$8:$D$11,F8:F11) -> 542815.5 | G13: =SUMPRODUCT($D$8:$D$11,G8:G11) -> 509680 | H13: =SUMPRODUCT($D$8:$D$11,H8:H11) -> 517570 | I13: =SUMPRODUCT($D$8:$D$11,I8:I11) -> 590660

Sheet MEMORIA DE CANTIDADES
A1: MEMORIA DE CANTIDADES DE OBRA
A2: Estabilización de ladera posterior I.E. Marco Tobón Mejía - Santa Rosa de Osos (Antioquia)
A4: 1. PARÁMETROS DE DISEÑO Y SUPUESTOS TÉCNICOS PRELIMINARES
A5: El Informe Técnico No. 47 (Gestión del Riesgo, 15/05/2026) es de carácter diagnóstico y no incluye un diseño geotécnico/estructural detallado (perfiles, sondeos, cálculo de estabilidad). Por lo anterior, las dimensiones de excavación, drenaje y cerramiento se asumen con criterios técnicos usuales para taludes urbanos de baja-media altura, y deben validarse con el diseño geotécnico y estructural detallado antes de la ejecución. Todas las celdas de esta sección son editables y recalculan automáticamente las cantidades de todo el presupuesto.
A7: Parámetro | G7: Valor | H7: Unidad | I7: Observación / Justificación
A8: Longitud total de intervención (L) | G8: 52.903043 | H8: m | I8: Dato del proyecto (perímetro posterior de la I.E.)
A9: Altura promedio del talud a estabilizar (H) | G9: 4 | H9: m | I9: Supuesto preliminar según registro fotográfico del informe; validar con topografía/geotecnia
A10: Ancho promedio de franja de intervención (Af) | G10: 10 | H10: m | I10: Corredor de trabajo: talud + zona de maniobra + cerramiento
A11: Desarrollo (ancho) de la superficie del talud (At) | G11: 6 | H11: m | I11: Longitud de la línea de máxima pendiente del talud a tratar
A12: Espesor de retiro de material inestable / perfilación (e1) | G12: 0.3 | H12: m | I12: Descapote y retiro de material suelto/orgánico superficial
A13: Espesor de lleno con material seleccionado (e2) | G13: 0.2 | H13: m | I13: Reconformación del talud tras perfilación
A14: Ancho de escombros/material suelto en corona a retirar | G14: 2 | H14: m | I14: Franja superior con escombros y llenos antrópicos (según informe)
A15: Espesor de escombros/material suelto en corona | G15: 0.3 | H15: m | I15: Estimado según hallazgos del informe
A16: Altura total del cerramiento nuevo | G16: 2.2 | H16: m | I16: Muro (zócalo) en bloque + pisamalla en concreto + malla eslabonada
A17: Altura de zócalo en bloque estructural | G17: 0.6 | H17: m
A18: Altura de malla eslabonada | G18: 1.6 | H18: m | I18: Complementa la altura total del cerramiento
A19: Ancho de viga de fundación | G19: 0.3 | H19: m
A20: Altura (profundidad) de viga de fundación | G20: 0.4 | H20: m
A21: Espesor de concreto de limpieza | G21: 0.05 | H21: m
A22: Separación entre postes metálicos | G22: 3 | H22: m | I22: Criterio usual NTC para cerramiento en malla eslabonada
A23: Número de líneas de pisamalla en concreto | G23: 1 | H23: un | I23: Cinta cortagoteras en concreto sobre la última hilada del muro en bloque (reemplaza los tensores)
A24: Número de líneas de alambre de púas | G24: 2 | H24: un | I24: Remate superior del cerramiento
A25: Número estimado de árboles para tala/poda controlada | G25: 15 | H25: un | I25: Estimado según cobertura vegetal observada; sujeto a inventario forestal y permiso de Corantioquia
A26: Desarrollo de pintura anticorrosiva por poste (altura x perímetro) | G26: 0.44 | H26: m2/poste | I26: 2.20 m altura visible x 0.20 m desarrollo de perímetro del perfil
A27: Ancho de zanja del filtro | G27: 0.4 | H27: m | I27: Ancho de la zanja para el filtro longitudinal
A28: Variables derivadas (calculadas automáticamente)
A29: Variable | G29: Valor | H29: Unidad | I29: Fórmula
A30: Número de postes metálicos / columnetas (Npostes) | G30: =ROUNDUP($G$8/$G$22,0)+1 -> 19 | H30: un | I30: ROUNDUP(L / separación entre postes, 0) + 1
A31: Profundidad del filtro (= profundidad de la fundación del cerramiento) | G31: =$G$20+$G$21 -> 0.45 | H31: m | I31: Altura de viga de fundación + espesor de concreto de limpieza
A32: 2. MEMORIA DE CANTIDADES POR ÍTEM DE OBRA
A33: Ítem | B33: Descripción | C33: Fórmula de Cálculo | D33: Longitud (m) | E33: Ancho (m) | F33: Altura/Prof. (m) | G33: Espesor (-) | H33: Cantidad | I33: Unidad | J33: Observaciones
A34: 1.1 | B34: Localización y replanteo | C34: L x Ancho de franja | D34: =$G$8 -> 52.903043 | E34: 9 | H34: =+PRODUCT(D34:G34) -> 476.12739 | I34: m2 | J34: Incluye franja de talud, corredor de trabajo y trazado del cerramiento
A35: 1.2 | B35: Cerramiento provisional | C35: L | D35: =$G$8 -> 52.903043 | H35: =+PRODUCT(D35:G35) -> 52.903043 | I35: m | J35: Cerramiento perimetral de protección durante la ejecución de la obra
A36: 1.3 | B36: Roce, limpieza y desmonte | C36: L x Desarrollo del talud | D36: =$G$8 -> 52.903043 | E36: =$G$11 -> 6 | H36: =+PRODUCT(D36:G36) -> 317.41826 | I36: m2 | J36: Área total de la superficie del talud a intervenir
A37: 1.4 | B37: Tala y poda controlada | C37: Cantidad estimada de árboles | D37: =$G$25 -> 15 | H37: =+PRODUCT(D37:G37) -> 15 | I37: un | J37: Estimado según cobertura vegetal observada; requiere permiso de aprovechamiento forestal ante Corantioquia
A38: 2.1 | B38: Demolición de cerramiento existente | C38: L | D38: =$G$8 -> 52.903043 | H38: =+PRODUCT(D38:G38) -> 52.903043 | I38: m | J38: Demolición del cerramiento metálico deteriorado descrito en el informe
A39: 2.2 | B39: Excavación manual (perfilación y retiro de material inestable) | C39: L x Desarrollo talud x espesor de retiro | D39: =$G$8 -> 52.903043 | E39: =$G$11 -> 6 | F39: =$G$12 -> 0.3 | H39: =+PRODUCT(D39:G39) -> 95.225478 | I39: m3 | J39: Retiro de material suelto/orgánico superficial del talud
A40: 2.3 | B40: Cargue manual | C40: Suma de volúmenes de excavación, demolición, escombros y excavación del filtro | H40: =H39+H42+H50+(H38*0.03)+H45*$G$27*$G$31 -> 144.42531 | I40: m3 | J40: Ver fórmula detallada en columna C; agrupa ítems 2.2, 2.5, 4.2 (excavación del filtro), 5.1 y demolición de cerramiento
A41: 2.4 | B41: Retiro y disposición final de material sobrante | C41: Cantidad de Cargue manual (ítem 2.3) | H41: =H40 -> 144.42531 | I41: m3 | J41: Transporte a escombrera autorizada por la autoridad ambiental municipal
A42: 2.5 | B42: Retiro de escombros | C42: L x Ancho de escombros x Espesor de escombros | D42: =$G$8 -> 52.903043 | E42: =$G$14 -> 2 | F42: =$G$15 -> 0.3 | H42: =+PRODUCT(D42:G42) -> 31.741826 | I42: m3 | J42: Material de relleno antrópico y escombros identificados en la corona del talud
...
