Workbook
Name AnticipoM1: #REF!
Name AnticipoM1: #REF!
Name AnticipoM2: #REF!
Name AnticipoM2: #REF!
Name AnticipoM3: #REF!
Name AnticipoM3: #REF!
Name AnticipoM4: #REF!
Name AnticipoM4: #REF!
Name CapFinanciera1: #REF!
Name CapFinanciera1: #REF!
Name CapFinanciera2: #REF!
Name CapFinanciera2: #REF!
Name CapFinanciera3: #REF!
Name CapFinanciera3: #REF!
Name CapFinanciera4: #REF!
Name CapFinanciera4: #REF!
Name CapTecnica1: #REF!
Name CapTecnica1: #REF!
Name CapTecnica2: #REF!
Name CapTecnica2: #REF!
Name cep: #REF!
Name Experiencia1: #REF!
Name Experiencia1: #REF!
Name Experiencia2: #REF!
Name Experiencia2: #REF!
Name Experiencia3: #REF!
Name Experiencia3: #REF!
Name gh: #REF!
Name PlazoM1: #REF!
Name PlazoM1: #REF!
Name PlazoM2: #REF!
Name PlazoM2: #REF!
Name PlazoM3: #REF!
Name PlazoM3: #REF!
Name PlazoM4: #REF!
Name PlazoM4: #REF!
Name prueba: #REF!
Name prueba: #REF!
Name SALACTUAL: #REF!
Name SALACTUAL: #REF!

Sheet 5A EXPERIENCIA
B1: Anexo 5A
B3: Certificación de Contratos para Acreditación de Experiencia
B4: (Proponente o Integrante Nacional o Extranjero con Sucursal en Colombia)
B6: Nombre Proponente:
B8: Contrato No. | C8: Contratos Relacionados con la Actividad de la Construcción – Seg. 72 Clasif. UNSPSC del RUP (EN SMMLV) | D8: Participación Porcentual del Proponente o Integrante del Oferente Plural | E8: Valor del SMMLV Vigente | F8: Valor de los Contratos Ejecutados (Valor del Contrato Ponderado por la Participación)
C9: (A) | D9: (B) | E9: (C) | F9: (A*B*C)
F10: =+C10*D10*E10 -> 0
F11: =+C11*D11*E11 -> 0
F12: =+C12*D12*E12 -> 0
F13: =+C13*D13*E13 -> 0
F14: =+C14*D14*E14 -> 0
F15: =+C15*D15*E15 -> 0
F16: =+C16*D16*E16 -> 0
F17: =+C17*D17*E17 -> 0
F18: =+C18*D18*E18 -> 0
F19: =+C19*D19*E19 -> 0
F20: =+C20*D20*E20 -> 0
F21: =+C21*D21*E21 -> 0
... F61: =+C61*D61*E61 -> 0
E62: TOTAL | F62: =SUM(F10:F61) -> 0
B64: En constancia de lo anterior firmo este documento a los xx días del mes de xxxx de 2026
B67: Nombre:
B68: Documento de Identidad:
B70: Firma Contador Pub. y/o Revisor Fiscal:
B71: Nombre:
B72: Cargo: Contador Publico
B73: tarjeta profesional:

Sheet 5B FACTOR TECNICO
A1: Anexo 5B
A2: Certificación de Capacidad Tècnica
B4: =+'5A EXPERIENCIA'!B6 -> Nombre Proponente:
B6: Nombre del Socio y/o Profesional de la Arquitectura, Ingenieria o Geologìa | C6: Profesion | D6: No. de Matrìcula Profesional | E6: Nùmero y Año del Contrato Laboral o de Prestaciòn de Servicios | F6: Vigencia del Contrato
B9: ='5A EXPERIENCIA'!B64 -> En constancia de lo anterior firmo este documento a los xx días del mes de xxxx de 2026
B11: =+'5A EXPERIENCIA'!B67:C67 -> Nombre:
B12: =+'5A EXPERIENCIA'!B68 -> Documento de Identidad:
B15: Firma Contador Pub. y/o Revisor Fiscal:
B16: =+'5A EXPERIENCIA'!B71:C71 -> Nombre:
B17: =+'5A EXPERIENCIA'!B72:C72 -> Cargo: Contador Publico
B18: =+'5A EXPERIENCIA'!B73:C73 -> tarjeta profesional:

Sheet  5C CONTRATOS EN EJECUC
I4: ANEXO 5C
I5: SALDO CONTRATOS EN EJECUCION (SCE)
B9: Con el fin de acreditar la Capacidad Residual para la Contratación de Obras (CR) (Decreto 791 de Abril 14 de 2014, Artìculo 72 de la Ley 1682 de 2013), a continuación nos permitimos relacionar los contratos en ejecución que afectan mi capacidad, en los siguientes términos:
B11: Contrato de Orden No. | C11: Objeto | D11: Plazo del Contrato en Meses (B) | E11: Valor del Contrato (incluido IVA y adiciones) (A) | F11: Si el Contrato està Suspendido colocar Saldo Pendiente por Ejecutar (Nota 4) (G) | G11: Fecha de Inicio o Reinicio del Contrato (dd/mm/aa) (H) | H11: Porcentaje de participación (C) | I11: Fecha de Cierre de Presentacion de la Oferta Objeto del Presente Proceso de Contrataciòn (dd/mm/aa) | J11: Dìas Ejecutados del Contrato | K11: Dias por Ejecutar del Contrato a Partir de la Fecha de Presentaciòn de la Oferta Objeto del Proceso de Contrataciòn (D) | L11: Saldo Diario del Contrato en Ejecuciòn A/(Bx30 dìas)= (E) | M11: Saldo del Contrato en Ejecuciòn (E)x(D)x(C)=(F)
E12: (Pesos $) | F12: (Pesos $) | H12: (%)
B18: SUMATORIA COLUMNA (F) | M18: =+SUM(M13:M17) -> 0
B19: (Se debe diligenciar únicamente las columnas sombreadas)
B20: Nota 1: La información aquí presentada, es veraz y se presenta bajo la gravedad de juramento, que se entiende prestada con la suscripción del mismo.
B21: Nota 2: El formulario debe ser diligenciado por el proponente o por cada uno de los integrantes del consorcio o unión temporal cuando el proponente sea plural.
B22: Nota 3: En la columna (D) si los dìas por ejecutar son mayor a un año, se debe reflejar automaticamente 360 dìas.
B23: Nota 4: Si un contrato se encuentra suspendido, el càlculo del Saldo del Contrato en Ejecuciòn (columna F del formato), debe hacerse asumiendo que lo que falta por ejecutar empezarà a partir de la Fecha de Cierre de la Presentaciòn de la Oferta Objeto del Presente Proceso de Contratación. Para esto el proponente o integrante, debe informar el Saldo que tiene Pendiente por Ejecutar, digitar ese valor en la columna (G) del formato y en la Formula de la columna (E) del formato "Saldo Diario del Contrato en Ejecuciòn", se debe modificar la fòrmula cambiando la letra D (Columna valor del contrato) por la E (Columna si el contrato esta suspendido) y en la columna H del formato (Fecha de inicio o reinicio del contrato) digitar la Fecha de Cierre de Presentaciòn de la Oferta Objeto del Presente Proceso de Contratacion.
B26: =+'5B FACTOR TECNICO'!B11:C11 -> Nombre: | H26: Firma Contador Pub. y/o Revisor Fiscal:
B27: =+'5B FACTOR TECNICO'!B12:C12 -> Documento de Identidad: | H27: =+'5B FACTOR TECNICO'!B16 -> Nombre:
B28: Cargo: rep legal | H28: Cargo: Contador Publico
H29: =+'5B FACTOR TECNICO'!B18 -> tarjeta profesional:
