Workbook

Sheet Estudio de Mercado
D1: ESTUDIO DE MERCADO SERVICIO DE MANTENIMIENTO PREVENTIVO Y CORRECTIVO DE EQUIPOS DE CÓMPUTO, IMPRESIÓN, COMUNICACIONES, DE REDES DE DATOS, CENTROS DE CABLEADO, SWITCHES, SERVIDORES Y EQUIPO DEL CENTRO DE DATOS DEL INSTITUTO DISTRITAL DE PATRIMONIO CULTURAL, INCLUYENDO BOLSA DE REPUESTOS
D2: Instituto Distrital de Patrimonio Cultural — Modalidad de mínima cuantía — Vigencia 2026
D3: IPC Bogotá D.C. (vigencia 2025) DANE → | G3: 0.0541
A5: PARÁMETROS
A6: Presupuesto oficial (CDP No. 367 del 24/02/2026) | D6: 34883000
A7: IPC Bogotá D.C. · variación anual a diciembre de 2025 (DANE) | D7: 0.0541
A8: Fecha de elaboración | D8: 46275
A9: ÍTEM | B9: UNSPSC | C9: PRODUCTO O SERVICIO | D9: CARACTERÍSTICA (ESPECIFICACIÓN) | E9: UNIDAD | F9: CANT. | G9: COLSOF S.A.S. NIT 800.015.583-1 | H9: MAKROSYSTEM COLOMBIA S.A.S. NIT 900.421.971-8 | I9: TECHNOLOGY WORLD GROUP S.A.S. NIT 900.171.311-3 | J9: T&S COMP TEC. Y SERVICIOS S.A.S. NIT 830.080.498-7 | K9: CPS-408-2025 (valor contratado) | L9: CPS-408-2025 INDEXADO IPC | M9: PRECIO DE REFERENCIA UNITARIO (mediana) | N9: COEF. DE VARIACIÓN | O9: VALOR DEL PARQUE A PRECIO DE REFERENCIA
A10: Componente 1. Mantenimiento de videoproyectores, lector de código de barras y tabletas
A11: 1.1 | B11: 81111812; 81101707; 81112306; 72154065 | C11: Mantenimiento de videoproyectores, lector de código de barras y tabletas | D11: VIDEO PROYECTOR EPSON — 1945W-V1 / POWERLITE | E11: UNIDAD | F11: 1 | G11: 316183 | H11: 226100 | I11: 142800 | J11: 169064 | K11: 74858 | L11: =K11*(1+$D$7) -> 78907.818 | M11: =MEDIAN(G11:J11,L11) -> 169064 | N11: =STDEV(G11:J11,L11)/AVERAGE(G11:J11,L11) -> 0.48061344 | O11: =M11*F11 -> 169064
A12: 1.2 | B12: 81111812; 81101707; 81112306; 72154065 | C12: Mantenimiento de videoproyectores, lector de código de barras y tabletas | D12: VIDEO PROYECTOR PANASONIC — LX 2 / PT-L | E12: UNIDAD | F12: 1 | G12: 316183 | H12: 190400 | I12: 142800 | J12: 171652 | K12: 75974 | L12: =K12*(1+$D$7) -> 80084.193 | M12: =MEDIAN(G12:J12,L12) -> 171652 | N12: =STDEV(G12:J12,L12)/AVERAGE(G12:J12,L12) -> 0.48125125 | O12: =M12*F12 -> 171652
A13: 1.3 | B13: 81111812; 81101707; 81112306; 72154065 | C13: Mantenimiento de videoproyectores, lector de código de barras y tabletas | D13: VIDEO PROYECTOR BENQ — MH750 | E13: UNIDAD | F13: 1 | G13: 316183 | H13: 190400 | I13: 130900 | J13: 170789 | K13: 75592 | L13: =K13*(1+$D$7) -> 79681.527 | M13: =MEDIAN(G13:J13,L13) -> 170789 | N13: =STDEV(G13:J13,L13)/AVERAGE(G13:J13,L13) -> 0.49718547 | O13: =M13*F13 -> 170789
A14: 1.4 | B14: 81111812; 81101707; 81112306; 72154065 | C14: Mantenimiento de videoproyectores, lector de código de barras y tabletas | D14: LECTOR CODIGO DE BARRAS — SYMBOL / SAT | E14: UNIDAD | F14: 1 | G14: 355691 | H14: 95200 | I14: 53550 | J14: 154400 | K14: 68338 | L14: =K14*(1+$D$7) -> 72035.086 | M14: =MEDIAN(G14:J14,L14) -> 95200 | N14: =STDEV(G14:J14,L14)/AVERAGE(G14:J14,L14) -> 0.84231181 | O14: =M14*F14 -> 95200
A15: 1.5 | B15: 81111812; 81101707; 81112306; 72154065 | C15: Mantenimiento de videoproyectores, lector de código de barras y tabletas | D15: TABLET SAMSUNG — SM-X200 | E15: UNIDAD | F15: 1 | G15: 118524 | H15: 107100 | I15: 166600 | J15: 322993 | K15: 142959 | L15: =K15*(1+$D$7) -> 150693.08 | M15: =ROUND(MEDIAN(G15:J15,L15),0) -> 150693 | N15: =STDEV(G15:J15,L15)/AVERAGE(G15:J15,L15) -> 0.50294815 | O15: =M15*F15 -> 150693
A16: 1.6 | B16: 81111812; 81101707; 81112306; 72154065 | C16: Mantenimiento de videoproyectores, lector de código de barras y tabletas | D16: TABLET LENOVO — PRO 12 | E16: UNIDAD | F16: 1 | G16: 118524 | H16: 136850 | I16: 166600 | J16: 321624 | K16: 142353 | L16: =K16*(1+$D$7) -> 150054.3 | M16: =ROUND(MEDIAN(G16:J16,L16),0) -> 150054 | N16: =STDEV(G16:J16,L16)/AVERAGE(G16:J16,L16) -> 0.45768835 | O16: =M16*F16 -> 150054
A17: Subtotal Componente 1. Mantenimiento de videoproyectores, lector de código de barras y tabletas | M17: =SUM(M11:M16) -> 907452 | O17: =SUM(O11:O16) -> 907452
A19: Componente 2. Mantenimiento de centros de cableado
A20: 2.1 | B20: 81111812; 81101707; 81112306; 72154065 | C20: Mantenimiento de centros de cableado | D20: CENTROS DE CABLEADO CATEGORIA 5E Y 6A — N/A | E20: UNIDAD | F20: 7 | G20: 5826121 | H20: 963900 | I20: 297500 | J20: 132836 | K20: 58795 | L20: =K20*(1+$D$7) -> 61975.81 | M20: =MEDIAN(G20:J20,L20) -> 297500 | N20: =STDEV(G20:J20,L20)/AVERAGE(G20:J20,L20) -> 1.6949366 | O20: =M20*F20 -> 2082500
A21: Subtotal Componente 2. Mantenimiento de centros de cableado | M21: =SUM(M20:M20) -> 297500 | O21: =SUM(O20:O20) -> 2082500
A23: Componente 3. Mantenimiento de sistemas de alimentación ininterrumpida
A24: 3.1 | B24: 81111812; 81101707; 81112306; 72154065 | C24: Mantenimiento de sistemas de alimentación ininterrumpida (UPS) | D24: POWER SUN — PW S15K | E24: UNIDAD | F24: 2 | G24: 513723 | H24: 714000 | I24: 357000 | J24: 280336 | K24: 124079 | L24: =K24*(1+$D$7) -> 130791.67 | M24: =MEDIAN(G24:J24,L24) -> 357000 | N24: =STDEV(G24:J24,L24)/AVERAGE(G24:J24,L24) -> 0.56041311 | O24: =M24*F24 -> 714000
A25: 3.2 | B25: 81111812; 81101707; 81112306; 72154065 | C25: Mantenimiento de sistemas de alimentación ininterrumpida (UPS) | D25: POWER SUN — PW S20K | E25: UNIDAD | F25: 1 | G25: 711382 | H25: 868700 | I25: 416500 | J25: 280336 | K25: 124079 | L25: =K25*(1+$D$7) -> 130791.67 | M25: =MEDIAN(G25:J25,L25) -> 416500 | N25: =STDEV(G25:J25,L25)/AVERAGE(G25:J25,L25) -> 0.63198285 | O25: =M25*F25 -> 416500
A26: 3.3 | B26: 81111812; 81101707; 81112306; 72154065 | C26: Mantenimiento de sistemas de alimentación ininterrumpida (UPS) | D26: POWEST — EA9915 | E26: UNIDAD | F26: 1 | G26: 513723 | H26: 714000 | I26: 380800 | J26: 280336 | K26: 124079 | L26: =K26*(1+$D$7) -> 130791.67 | M26: =MEDIAN(G26:J26,L26) -> 380800 | N26: =STDEV(G26:J26,L26)/AVERAGE(G26:J26,L26) -> 0.55165493 | O26: =M26*F26 -> 380800
A27: 3.4 | B27: 81111812; 81101707; 81112306; 72154065 | C27: Mantenimiento de sistemas de alimentación ininterrumpida (UPS) | D27: POWEST — EA991O | E27: UNIDAD | F27: 1 | G27: 513723 | H27: 595000 | I27: 404600 | J27: 280336 | K27: 124079 | L27: =K27*(1+$D$7) -> 130791.67 | M27: =MEDIAN(G27:J27,L27) -> 404600 | N27: =STDEV(G27:J27,L27)/AVERAGE(G27:J27,L27) -> 0.48018266 | O27: =M27*F27 -> 404600
A28: Subtotal Componente 3. Mantenimiento de sistemas de alimentación ininterrumpida | M28: =SUM(M24:M27) -> 1558900 | O28: =SUM(O24:O27) -> 1915900
A30: Componente 4. Mantenimiento de computadores de escritorio y portátiles
A31: 4.1 | B31: 81111812; 81101707; 81112306; 72154065 | C31: Mantenimiento de computadores de escritorio y portátiles | D31: COMPUMAX — Aio UNNO Max Series | E31: UNIDAD | F31: 34 | G31: 118524 | H31: 142800 | I31: 83300 | J31: 280336 | K31: 124079 | L31: =K31*(1+$D$7) -> 130791.67 | M31: =ROUND(MEDIAN(G31:J31,L31),0) -> 130792 | N31: =STDEV(G31:J31,L31)/AVERAGE(G31:J31,L31) -> 0.49994376 | O31: =M31*F31 -> 4446928
A32: 4.2 | B32: 81111812; 81101707; 81112306; 72154065 | C32: Mantenimiento de computadores de escritorio y portátiles | D32: DELL — D11S / D10U / D06D | E32: UNIDAD | F32: 34 | G32: 118524 | H32: 142800 | I32: 107100 | J32: 280336 | K32: 124079 | L32: =K32*(1+$D$7) -> 130791.67 | M32: =ROUND(MEDIAN(G32:J32,L32),0) -> 130792 | N32: =STDEV(G32:J32,L32)/AVERAGE(G32:J32,L32) -> 0.45426795 | O32: =M32*F32 -> 4446928
A33: 4.3 | B33: 81111812; 81101707; 81112306; 72154065 | C33: Mantenimiento de computadores de escritorio y portátiles | D33: HEWLETT PACKARD — PROBOOK 400 G6 SFF / PRODESK 600 G1 SFF / COMPAQ PRO 6300 MT / DX2200 / ELITEDESK 800 G3 / PRODESK 400 G6 | E33: UNIDAD | F33: 34 | G33: 118524 | H33: 142800 | I33: 107100 | J33: 173486 | K33: 76786 | L33: =K33*(1+$D$7) -> 80940.123 | M33: =MEDIAN(G33:J33,L33) -> 118524 | N33: =STDEV(G33:J33,L33)/AVERAGE(G33:J33,L33) -> 0.28297847 | O33: =M33*F33 -> 4029816
A34: 4.4 | B34: 81111812; 81101707; 81112306; 72154065 | C34: Mantenimiento de computadores de escritorio y portátiles | D34: JANUS — N/A | E34: UNIDAD | F34: 34 | G34: 118524 | H34: 142800 | I34: 83300 | J34: 195516 | K34: 86536 | L34: =K34*(1+$D$7) -> 91217.598 | M34: =MEDIAN(G34:J34,L34) -> 118524 | N34: =STDEV(G34:J34,L34)/AVERAGE(G34:J34,L34) -> 0.35864105 | O34: =M34*F34 -> 4029816
A35: 4.5 | B35: 81111812; 81101707; 81112306; 72154065 | C35: Mantenimiento de computadores de escritorio y portátiles | D35: LENOVO — THINCENTRE S500 / V520S | E35: UNIDAD | F35: 34 | G35: 118524 | H35: 142800 | I35: 107100 | J35: 195516 | K35: 86536 | L35: =K35*(1+$D$7) -> 91217.598 | M35: =MEDIAN(G35:J35,L35) -> 118524 | N35: =STDEV(G35:J35,L35)/AVERAGE(G35:J35,L35) -> 0.3102626 | O35: =M35*F35 -> 4029816
A36: 4.6 | B36: 81111812; 81101707; 81112306; 72154065 | C36: Mantenimiento de computadores de escritorio y portátiles | D36: IMAC — IMAC 18,3 | E36: UNIDAD | F36: 34 | G36: 237167 | H36: 142800 | I36: 130900 | J36: 241520 | K36: 106899 | L36: =K36*(1+$D$7) -> 112682.24 | M36: =MEDIAN(G36:J36,L36) -> 142800 | N36: =STDEV(G36:J36,L36)/AVERAGE(G36:J36,L36) -> 0.35553425 | O36: =M36*F36 -> 4855200
A37: 4.7 | B37: 81111812; 81101707; 81112306; 72154065 | C37: Mantenimiento de computadores de escritorio y portátiles | D37: PC SMART — N/A | E37: UNIDAD | F37: 34 | G37: 118524 | H37: 142800 | I37: 83300 | J37: 195516 | K37: 86536 | L37: =K37*(1+$D$7) -> 91217.598 | M37: =MEDIAN(G37:J37,L37) -> 118524 | N37: =STDEV(G37:J37,L37)/AVERAGE(G37:J37,L37) -> 0.35864105 | O37: =M37*F37 -> 4029816
A38: 4.8 | B38: 81111812; 81101707; 81112306; 72154065 | C38: Mantenimiento de computadores de escritorio y portátiles | D38: PORTATIL DELL — LATITUDE E5450 | E38: UNIDAD | F38: 8 | G38: 118524 | H38: 142800 | I38: 107100 | J38: 195516 | K38: 86536 | L38: =K38*(1+$D$7) -> 91217.598 | M38: =MEDIAN(G38:J38,L38) -> 118524 | N38: =STDEV(G38:J38,L38)/AVERAGE(G38:J38,L38) -> 0.3102626 | O38: =M38*F38 -> 948192
A39: 4.9 | B39: 81111812; 81101707; 81112306; 72154065 | C39: Mantenimiento de computadores de escritorio y portátiles | D39: PORTATIL HEWLETT PACKARD — LAPTOP 15-DA0015LA | E39: UNIDAD | F39: 7 | G39: 118524 | H39: 142800 | I39: 107100 | J39: 195516 | K39: 86536 | L39: =K39*(1+$D$7) -> 91217.598 | M39: =MEDIAN(G39:J39,L39) -> 118524 | N39: =STDEV(G39:J39,L39)/AVERAGE(G39:J39,L39) -> 0.3102626 | O39: =M39*F39 -> 829668
A40: 4.10 | B40: 81111812; 81101707; 81112306; 72154065 | C40: Mantenimiento de computadores de escritorio y portátiles | D40: PORTATIL LENOVO — Z50-70 / THINKPAD R61I | E40: UNIDAD | F40: 7 | G40: 118524 | H40: 142800 | I40: 107100 | J40: 195516 | K40: 86536 | L40: =K40*(1+$D$7) -> 91217.598 | M40: =MEDIAN(G40:J40,L40) -> 118524 | N40: =STDEV(G40:J40,L40)/AVERAGE(G40:J40,L40) -> 0.3102626 | O40: =M40*F40 -> 829668
A41: Subtotal Componente 4. Mantenimiento de computadores de escritorio y portátiles | M41: =SUM(M31:M40) -> 1234052 | O41: =SUM(O31:O40) -> 32475848
A43: Componente 5. Mantenimiento de servidores y sistema de almacenamiento
A44: 5.1 | B44: 81111812; 81101707; 81112306; 72154065 | C44: Mantenimiento de servidores y sistema de almacenamiento | D44: DELL — POWER EDGE R440 | E44: UNIDAD | F44: 1 | G44: 829906 | H44: 476000 | I44: 297500 | J44: 163889 | K44: 72538 | L44: =K44*(1+$D$7) -> 76462.306 | M44: =MEDIAN(G44:J44,L44) -> 297500 | N44: =STDEV(G44:J44,L44)/AVERAGE(G44:J44,L44) -> 0.80975527 | O44: =M44*F44 -> 297500
A45: 5.2 | B45: 81111812; 81101707; 81112306; 72154065 | C45: Mantenimiento de servidores y sistema de almacenamiento | D45: DELL — POWER EDGE L440 | E45: UNIDAD | F45: 1 | G45: 790398 | H45: 476000 | I45: 321300 | J45: 163889 | K45: 72538 | L45: =K45*(1+$D$7) -> 76462.306 | M45: =MEDIAN(G45:J45,L45) -> 321300 | N45: =STDEV(G45:J45,L45)/AVERAGE(G45:J45,L45) -> 0.77227836 | O45: =M45*F45 -> 321300
...

Sheet Gráfico
B2: No. | C2: COMPONENTE | D2: COLSOF | E2: MakroSystem | F2: TW Grupo | G2: T&S Comp | H2: CPS-408-2025 (indexado)
B3: 1 | C3: Mantenimiento de videoproyectores, lector de código de barras y tabletas | D3: ='Estudio de Mercado'!G11+'Estudio de Mercado'!G12+'Estudio de Mercado'!G13+'Estudio de Mercado'!G14+'Estudio de Mercado'!G15+'Estudio de Mercado'!G16 -> 1541288 | E3: ='Estudio de Mercado'!H11+'Estudio de Mercado'!H12+'Estudio de Mercado'!H13+'Estudio de Mercado'!H14+'Estudio de Mercado'!H15+'Estudio de Mercado'!H16 -> 946050 | F3: ='Estudio de Mercado'!I11+'Estudio de Mercado'!I12+'Estudio de Mercado'!I13+'Estudio de Mercado'!I14+'Estudio de Mercado'!I15+'Estudio de Mercado'!I16 -> 803250 | G3: ='Estudio de Mercado'!J11+'Estudio de Mercado'!J12+'Estudio de Mercado'!J13+'Estudio de Mercado'!J14+'Estudio de Mercado'!J15+'Estudio de Mercado'!J16 -> 1310522 | H3: ='Estudio de Mercado'!L11+'Estudio de Mercado'!L12+'Estudio de Mercado'!L13+'Estudio de Mercado'!L14+'Estudio de Mercado'!L15+'Estudio de Mercado'!L16 -> 611456
B4: 2 | C4: Mantenimiento de centros de cableado | D4: ='Estudio de Mercado'!G20 -> 5826121 | E4: ='Estudio de Mercado'!H20 -> 963900 | F4: ='Estudio de Mercado'!I20 -> 297500 | G4: ='Estudio de Mercado'!J20 -> 132836 | H4: ='Estudio de Mercado'!L20 -> 61975.81
B5: 3 | C5: Mantenimiento de sistemas de alimentación ininterrumpida | D5: ='Estudio de Mercado'!G24+'Estudio de Mercado'!G25+'Estudio de Mercado'!#REF!+'Estudio de Mercado'!G26+'Estudio de Mercado'!G27 -> #REF! | E5: ='Estudio de Mercado'!H24+'Estudio de Mercado'!H25+'Estudio de Mercado'!#REF!+'Estudio de Mercado'!H26+'Estudio de Mercado'!H27 -> #REF! | F5: ='Estudio de Mercado'!I24+'Estudio de Mercado'!I25+'Estudio de Mercado'!#REF!+'Estudio de Mercado'!I26+'Estudio de Mercado'!I27 -> #REF! | G5: ='Estudio de Mercado'!J24+'Estudio de Mercado'!J25+'Estudio de Mercado'!#REF!+'Estudio de Mercado'!J26+'Estudio de Mercado'!J27 -> #REF! | H5: ='Estudio de Mercado'!L24+'Estudio de Mercado'!L25+'Estudio de Mercado'!#REF!+'Estudio de Mercado'!L26+'Estudio de Mercado'!L27 -> #REF!
B6: 4 | C6: Mantenimiento de computadores de escritorio y portátiles | D6: ='Estudio de Mercado'!G31+'Estudio de Mercado'!G32+'Estudio de Mercado'!G33+'Estudio de Mercado'!G34+'Estudio de Mercado'!G35+'Estudio de Mercado'!G36+'Estudio de Mercado'!G37+'Estudio de Mercado'!G38+'Estudio de Mercado'!G39+'Estudio de Mercado'!G40 -> 1303883 | E6: ='Estudio de Mercado'!H31+'Estudio de Mercado'!H32+'Estudio de Mercado'!H33+'Estudio de Mercado'!H34+'Estudio de Mercado'!H35+'Estudio de Mercado'!H36+'Estudio de Mercado'!H37+'Estudio de Mercado'!H38+'Estudio de Mercado'!H39+'Estudio de Mercado'!H40 -> 1428000 | F6: ='Estudio de Mercado'!I31+'Estudio de Mercado'!I32+'Estudio de Mercado'!I33+'Estudio de Mercado'!I34+'Estudio de Mercado'!I35+'Estudio de Mercado'!I36+'Estudio de Mercado'!I37+'Estudio de Mercado'!I38+'Estudio de Mercado'!I39+'Estudio de Mercado'!I40 -> 1023400 | G6: ='Estudio de Mercado'!J31+'Estudio de Mercado'!J32+'Estudio de Mercado'!J33+'Estudio de Mercado'!J34+'Estudio de Mercado'!J35+'Estudio de Mercado'!J36+'Estudio de Mercado'!J37+'Estudio de Mercado'!J38+'Estudio de Mercado'!J39+'Estudio de Mercado'!J40 -> 2148774 | H6: ='Estudio de Mercado'!L31+'Estudio de Mercado'!L32+'Estudio de Mercado'!L33+'Estudio de Mercado'!L34+'Estudio de Mercado'!L35+'Estudio de Mercado'!L36+'Estudio de Mercado'!L37+'Estudio de Mercado'!L38+'Estudio de Mercado'!L39+'Estudio de Mercado'!L40 -> 1002511.3
B7: 5 | C7: Mantenimiento de servidores y sistema de almacenamiento | D7: ='Estudio de Mercado'!G44+'Estudio de Mercado'!G45+'Estudio de Mercado'!G46+'Estudio de Mercado'!G47 -> 3240608 | E7: ='Estudio de Mercado'!H44+'Estudio de Mercado'!H45+'Estudio de Mercado'!H46+'Estudio de Mercado'!H47 -> 2284800 | F7: ='Estudio de Mercado'!I44+'Estudio de Mercado'!I45+'Estudio de Mercado'!I46+'Estudio de Mercado'!I47 -> 1309000 | G7: ='Estudio de Mercado'!J44+'Estudio de Mercado'!J45+'Estudio de Mercado'!J46+'Estudio de Mercado'!J47 -> 655556 | H7: ='Estudio de Mercado'!L44+'Estudio de Mercado'!L45+'Estudio de Mercado'!L46+'Estudio de Mercado'!L47 -> 305849.22
B8: 6 | C8: Mantenimiento de impresoras, escáneres y plóter | D8: ='Estudio de Mercado'!G51+'Estudio de Mercado'!G52+'Estudio de Mercado'!G53+'Estudio de Mercado'!G54+'Estudio de Mercado'!G55+'Estudio de Mercado'!G57 -> 1541169 | E8: ='Estudio de Mercado'!H51+'Estudio de Mercado'!H52+'Estudio de Mercado'!H53+'Estudio de Mercado'!H54+'Estudio de Mercado'!H55+'Estudio de Mercado'!H57 -> 1416100 | F8: ='Estudio de Mercado'!I51+'Estudio de Mercado'!I52+'Estudio de Mercado'!I53+'Estudio de Mercado'!I54+'Estudio de Mercado'!I55+'Estudio de Mercado'!I57 -> 1190000 | G8: ='Estudio de Mercado'!J51+'Estudio de Mercado'!J52+'Estudio de Mercado'!J53+'Estudio de Mercado'!J54+'Estudio de Mercado'!J55+'Estudio de Mercado'!J57 -> 983334 | H8: ='Estudio de Mercado'!L51+'Estudio de Mercado'!L52+'Estudio de Mercado'!L53+'Estudio de Mercado'!L54+'Estudio de Mercado'!L55+'Estudio de Mercado'!L57 -> 458773.83
B9: 7 | C9: Bolsa de repuestos | D9: ='Estudio de Mercado'!G65+'Estudio de Mercado'!G67+'Estudio de Mercado'!G68+'Estudio de Mercado'!G69+'Estudio de Mercado'!G70+'Estudio de Mercado'!G71+'Estudio de Mercado'!G72+'Estudio de Mercado'!G73+'Estudio de Mercado'!G74+'Estudio de Mercado'!G75+'Estudio de Mercado'!G76+'Estudio de Mercado'!G77+'Estudio de Mercado'!G78 -> 4363849 | E9: ='Estudio de Mercado'!H65+'Estudio de Mercado'!H67+'Estudio de Mercado'!H68+'Estudio de Mercado'!H69+'Estudio de Mercado'!H70+'Estudio de Mercado'!H71+'Estudio de Mercado'!H72+'Estudio de Mercado'!H73+'Estudio de Mercado'!H74+'Estudio de Mercado'!H75+'Estudio de Mercado'!H76+'Estudio de Mercado'!H77+'Estudio de Mercado'!H78 -> 4391100 | F9: ='Estudio de Mercado'!I65+'Estudio de Mercado'!I67+'Estudio de Mercado'!I68+'Estudio de Mercado'!I69+'Estudio de Mercado'!I70+'Estudio de Mercado'!I71+'Estudio de Mercado'!I72+'Estudio de Mercado'!I73+'Estudio de Mercado'!I74+'Estudio de Mercado'!I75+'Estudio de Mercado'!I76+'Estudio de Mercado'!I77+'Estudio de Mercado'!I78 -> 3641400 | G9: ='Estudio de Mercado'!J65+'Estudio de Mercado'!J67+'Estudio de Mercado'!J68+'Estudio de Mercado'!J69+'Estudio de Mercado'!J70+'Estudio de Mercado'!J71+'Estudio de Mercado'!J72+'Estudio de Mercado'!J73+'Estudio de Mercado'!J74+'Estudio de Mercado'!J75+'Estudio de Mercado'!J76+'Estudio de Mercado'!J77+'Estudio de Mercado'!J78 -> 7317676 | H9: ='Estudio de Mercado'!L65+'Estudio de Mercado'!L67+'Estudio de Mercado'!L68+'Estudio de Mercado'!L69+'Estudio de Mercado'!L70+'Estudio de Mercado'!L71+'Estudio de Mercado'!L72+'Estudio de Mercado'!L73+'Estudio de Mercado'!L74+'Estudio de Mercado'!L75+'Estudio de Mercado'!L76+'Estudio de Mercado'!L77+'Estudio de Mercado'!L78 -> 3984328.3
