Workbook

Sheet ANALISIS DE COTIZACCIONES
A2: LOTE A
A4: KITS DE BIENESTAR, UTILES, ASEO PERSONAL, APOYO ALIMENTARIO, DESECHABLES | G4: BLUES SOLUCIONES | H4: CI5 LOGISTICA | I4: TALENTO | J4: LICCONT | K4: MEDIDAS DE TENDENCIA CENTRAL
A5: ÍTEM | B5: CÓDIGO UNSPSC | C5: ELEMENTO | D5: DESCRIPCIÓN | E5: ESPECIFICACIONES TÉCNICAS | F5: UNIDAD DE MEDIA | G5: VALOR TOTAL | H5: VALOR TOTAL | I5: VALOR TOTAL | J5: VALOR TOTAL | K5: DESVIACIÓN ESTÁNDAR | L5: MEDIA ARITMÉTICA | M5: MEDIA GEOMÉTRICA | N5: MEDIANA | O5: MEDIA ARMÓNICA | P5: PRECIO MÍNIMO | Q5: PRECIO MÁXIMO
A6: 1 | B6: 53131600 | C6: KIT DE ASEO BÁSICO HOMBRE | D6: Cepillo de dientes | E6: Cepillo dental para adulto con cerdas suaves, mango ergonómico de plástico, empaque individual sellado. | F6: Unidad | G6: 2210 | H6: 5500 | I6: 10505.32 | J6: 4750 | K6: =IF(COUNT(G6:J6)>=2,_xlfn.STDEV.P(G6:J6),"") -> 3008.6071 | L6: =AVERAGE(G6:J6) -> 5741.33 | M6: =GEOMEAN(G6:J6) -> 4962.6593 | N6: =MEDIAN(G6:J6) -> 5125 | O6: =HARMEAN(G6:J6) -> 4255.2148 | P6: =MIN(G6:J6) -> 2210 | Q6: =MAX(G6:J6) -> 10505.32
A7: 2 | D7: Crema dental | E7: Crema de dientes con flúor, presentación mínima de 60 ml, empaque original sellado. | F7: Unidad | G7: 8670 | H7: 10463 | I7: 6944.84 | J7: 10450 | K7: =IF(COUNT(G7:J7)>=2,_xlfn.STDEV.P(G7:J7),"") -> 1458.2351 | L7: =AVERAGE(G7:J7) -> 9131.96 | M7: =GEOMEAN(G7:J7) -> 9007.6907 | N7: =MEDIAN(G7:J7) -> 9560 | O7: =HARMEAN(G7:J7) -> 8877.0387 | P7: =MIN(G7:J7) -> 6944.84 | Q7: =MAX(G7:J7) -> 10463
A8: 3 | D8: Desodorante | E8: Desodorante para hombre en crema tipo sachet o tubo, presentación mínima de 30 g. | F8: Unidad | G8: 4666.5 | H8: 5139 | I8: 6944.84 | J8: 9500 | K8: =IF(COUNT(G8:J8)>=2,_xlfn.STDEV.P(G8:J8),"") -> 1897.1201 | L8: =AVERAGE(G8:J8) -> 6562.585 | M8: =GEOMEAN(G8:J8) -> 6306.8708 | N8: =MEDIAN(G8:J8) -> 6041.92 | O8: =HARMEAN(G8:J8) -> 6077.7461 | P8: =MIN(G8:J8) -> 4666.5 | Q8: =MAX(G8:J8) -> 9500
A9: 4 | D9: Shampoo | E9: Shampoo para higiene capilar, presentación en bolsa flexible resellable (doypack) de 90 ml a 120 ml, apto para uso diario, empaque original sellado. | F9: Unidad | G9: 2499 | H9: 14245 | I9: 7300.65 | J9: 7600 | K9: =IF(COUNT(G9:J9)>=2,_xlfn.STDEV.P(G9:J9),"") -> 4179.6695 | L9: =AVERAGE(G9:J9) -> 7911.1625 | M9: =GEOMEAN(G9:J9) -> 6666.5472 | N9: =MEDIAN(G9:J9) -> 7450.325 | O9: =HARMEAN(G9:J9) -> 5413.3558 | P9: =MIN(G9:J9) -> 2499 | Q9: =MAX(G9:J9) -> 14245
A10: 5 | D10: Jabón de baño | E10: Jabón de tocador en barra para higiene corporal, peso mínimo de 90 g | F10: Unidad | G10: 3595.5 | H10: 6249 | I10: 5163.41 | J10: 6650 | K10: =IF(COUNT(G10:J10)>=2,_xlfn.STDEV.P(G10:J10),"") -> 1182.6514 | L10: =AVERAGE(G10:J10) -> 5414.4775 | M10: =GEOMEAN(G10:J10) -> 5270.2597 | N10: =MEDIAN(G10:J10) -> 5706.205 | O10: =HARMEAN(G10:J10) -> 5113.7984 | P10: =MIN(G10:J10) -> 3595.5 | Q10: =MAX(G10:J10) -> 6650
A11: 6 | D11: Jabón para lavar ropa | E11: Jabón en barra para lavado de prendas, peso mínimo de 200 g. | F11: Unidad | G11: 4100 | H11: 2215 | I11: 3383.17 | J11: 5700 | K11: =IF(COUNT(G11:J11)>=2,_xlfn.STDEV.P(G11:J11),"") -> 1262.5524 | L11: =AVERAGE(G11:J11) -> 3849.5425 | M11: =GEOMEAN(G11:J11) -> 3637.8021 | N11: =MEDIAN(G11:J11) -> 3741.585 | O11: =HARMEAN(G11:J11) -> 3429.3874 | P11: =MIN(G11:J11) -> 2215 | Q11: =MAX(G11:J11) -> 5700
A12: 7 | D12: Máquina de afeitar | E12: Máquina de afeitar desechable de una o más hojas, empaque individual sellado. | F12: Unidad | G12: 5785.627 | H12: 6490 | I12: 3918.67 | J12: 5700 | K12: =IF(COUNT(G12:J12)>=2,_xlfn.STDEV.P(G12:J12),"") -> 948.61663 | L12: =AVERAGE(G12:J12) -> 5473.5742 | M12: =GEOMEAN(G12:J12) -> 5381.4854 | N12: =MEDIAN(G12:J12) -> 5742.8135 | O12: =HARMEAN(G12:J12) -> 5280.1618 | P12: =MIN(G12:J12) -> 3918.67 | Q12: =MAX(G12:J12) -> 6490
A13: 8 | D13: Papel higiénico | E13: Papel higiénico triple hoja, color blanco, presentación de 4 rollos, empaque sellado | F13: Unidad | G13: 12495 | H13: 15400 | I13: 12286.75 | J13: 15200 | K13: =IF(COUNT(G13:J13)>=2,_xlfn.STDEV.P(G13:J13),"") -> 1458.1403 | L13: =AVERAGE(G13:J13) -> 13845.438 | M13: =GEOMEAN(G13:J13) -> 13768.429 | N13: =MEDIAN(G13:J13) -> 13847.5 | O13: =HARMEAN(G13:J13) -> 13691.829 | P13: =MIN(G13:J13) -> 12286.75 | Q13: =MAX(G13:J13) -> 15400
A14: 9 | B14: 53131600 | C14: KIT DE ASEO BÁSICO MUJER | D14: Cepillo de dientes | E14: Cepillo dental para adulto con cerdas suaves, mango ergonómico de plástico, empaque individual sellado. | F14: Unidad | G14: 2210 | H14: 5500 | I14: 10505.32 | J14: 4750 | K14: =IF(COUNT(G14:J14)>=2,_xlfn.STDEV.P(G14:J14),"") -> 3008.6071 | L14: =AVERAGE(G14:J14) -> 5741.33 | M14: =GEOMEAN(G14:J14) -> 4962.6593 | N14: =MEDIAN(G14:J14) -> 5125 | O14: =HARMEAN(G14:J14) -> 4255.2148 | P14: =MIN(G14:J14) -> 2210 | Q14: =MAX(G14:J14) -> 10505.32
A15: 10 | D15: Crema dental | E15: Crema de dientes con flúor, presentación mínima de 60 ml, empaque original sellado. | F15: Unidad | G15: 8670 | H15: 10463 | I15: 6944.84 | J15: 10450 | K15: =IF(COUNT(G15:J15)>=2,_xlfn.STDEV.P(G15:J15),"") -> 1458.2351 | L15: =AVERAGE(G15:J15) -> 9131.96 | M15: =GEOMEAN(G15:J15) -> 9007.6907 | N15: =MEDIAN(G15:J15) -> 9560 | O15: =HARMEAN(G15:J15) -> 8877.0387 | P15: =MIN(G15:J15) -> 6944.84 | Q15: =MAX(G15:J15) -> 10463
A16: 11 | D16: Desodorante | E16: Desodorante para mujer en crema tipo sachet o tubo, presentación mínima de 30 g. | F16: Unidad | G16: 4666.5 | H16: 5390 | I16: 6944.84 | J16: 9500 | K16: =IF(COUNT(G16:J16)>=2,_xlfn.STDEV.P(G16:J16),"") -> 1852.6245 | L16: =AVERAGE(G16:J16) -> 6625.335 | M16: =GEOMEAN(G16:J16) -> 6382.5095 | N16: =MEDIAN(G16:J16) -> 6167.42 | O16: =HARMEAN(G16:J16) -> 6162.5963 | P16: =MIN(G16:J16) -> 4666.5 | Q16: =MAX(G16:J16) -> 9500
A17: 12 | D17: Shampoo | E17: Shampoo para higiene capilar, presentación en bolsa flexible resellable (doypack) de 90 ml a 120 ml, apto para uso diario, empaque original sellado. | F17: Unidad | G17: 2499 | H17: 14245 | I17: 7300.65 | J17: 7600 | K17: =IF(COUNT(G17:J17)>=2,_xlfn.STDEV.P(G17:J17),"") -> 4179.6695 | L17: =AVERAGE(G17:J17) -> 7911.1625 | M17: =GEOMEAN(G17:J17) -> 6666.5472 | N17: =MEDIAN(G17:J17) -> 7450.325 | O17: =HARMEAN(G17:J17) -> 5413.3558 | P17: =MIN(G17:J17) -> 2499 | Q17: =MAX(G17:J17) -> 14245
A18: 13 | D18: Jabón de baño | E18: Jabón de tocador en barra para higiene corporal, peso mínimo de 90 g | F18: Unidad | G18: 3595.5 | H18: 2215 | I18: 5163.41 | J18: 6650 | K18: =IF(COUNT(G18:J18)>=2,_xlfn.STDEV.P(G18:J18),"") -> 1663.3248 | L18: =AVERAGE(G18:J18) -> 4405.9775 | M18: =GEOMEAN(G18:J18) -> 4066.5191 | N18: =MEDIAN(G18:J18) -> 4379.455 | O18: =HARMEAN(G18:J18) -> 3725.6467 | P18: =MIN(G18:J18) -> 2215 | Q18: =MAX(G18:J18) -> 6650
A19: 14 | D19: Jabón para lavar ropa | E19: Jabón en barra para lavado de prendas, peso mínimo de 200 g. | F19: Unidad | G19: 4100 | H19: 2215 | I19: 3383.17 | J19: 5700 | K19: =IF(COUNT(G19:J19)>=2,_xlfn.STDEV.P(G19:J19),"") -> 1262.5524 | L19: =AVERAGE(G19:J19) -> 3849.5425 | M19: =GEOMEAN(G19:J19) -> 3637.8021 | N19: =MEDIAN(G19:J19) -> 3741.585 | O19: =HARMEAN(G19:J19) -> 3429.3874 | P19: =MIN(G19:J19) -> 2215 | Q19: =MAX(G19:J19) -> 5700
A20: 15 | D20: Máquina de afeitar | E20: Máquina de afeitar desechable de una o más hojas, empaque individual sellado. | F20: Unidad | G20: 5785.627 | H20: 6545 | I20: 3918.67 | J20: 5700 | K20: =IF(COUNT(G20:J20)>=2,_xlfn.STDEV.P(G20:J20),"") -> 963.53122 | L20: =AVERAGE(G20:J20) -> 5487.3242 | M20: =GEOMEAN(G20:J20) -> 5392.8508 | N20: =MEDIAN(G20:J20) -> 5742.8135 | O20: =HARMEAN(G20:J20) -> 5289.2022 | P20: =MIN(G20:J20) -> 3918.67 | Q20: =MAX(G20:J20) -> 6545
A21: 16 | D21: Papel higiénico | E21: Papel higiénico triple hoja, color blanco, presentación de 4 rollos, empaque sellado | F21: Unidad | G21: 12495 | H21: 15400 | I21: 12286.75 | J21: 15200 | K21: =IF(COUNT(G21:J21)>=2,_xlfn.STDEV.P(G21:J21),"") -> 1458.1403 | L21: =AVERAGE(G21:J21) -> 13845.438 | M21: =GEOMEAN(G21:J21) -> 13768.429 | N21: =MEDIAN(G21:J21) -> 13847.5 | O21: =HARMEAN(G21:J21) -> 13691.829 | P21: =MIN(G21:J21) -> 12286.75 | Q21: =MAX(G21:J21) -> 15400
A22: 17 | D22: Toallas higiénicas | E22: Toallas higiénicas desechables para flujo regular, paquete por 10 unidades como mínimo. | F22: Unidad | G22: 4233 | H22: 5445 | I22: 10507 | J22: 8550 | K22: =IF(COUNT(G22:J22)>=2,_xlfn.STDEV.P(G22:J22),"") -> 2481.9754 | L22: =AVERAGE(G22:J22) -> 7183.75 | M22: =GEOMEAN(G22:J22) -> 6745.6336 | N22: =MEDIAN(G22:J22) -> 6997.5 | O22: =HARMEAN(G22:J22) -> 6328.8384 | P22: =MIN(G22:J22) -> 4233 | Q22: =MAX(G22:J22) -> 10507
A23: 18 | B23: 53131600 | C23: KIT DE ASEO INFANTIL | D23: Cepillo dental infantil | E23: Cepillo dental para niño con cerdas suaves, cabezal pequeño y mango ergonómico, empaque individual sellado. | F23: Unidad | G23: 2635 | H23: 3449 | I23: 6944.84 | J23: 4750 | K23: =IF(COUNT(G23:J23)>=2,_xlfn.STDEV.P(G23:J23),"") -> 1628.6759 | L23: =AVERAGE(G23:J23) -> 4444.71 | M23: =GEOMEAN(G23:J23) -> 4161.0929 | N23: =MEDIAN(G23:J23) -> 4099.5 | O23: =HARMEAN(G23:J23) -> 3906.3878 | P23: =MIN(G23:J23) -> 2635 | Q23: =MAX(G23:J23) -> 6944.84
A24: 19 | D24: Crema dental infantil | E24: Crema dental para niños con flúor, presentación mínima de 50 ml, apta para uso infantil y con registro sanitario vigente | F24: Unidad | G24: 9180 | H24: 4675 | I24: 14068.18 | J24: 11400 | K24: =IF(COUNT(G24:J24)>=2,_xlfn.STDEV.P(G24:J24),"") -> 3443.2395 | L24: =AVERAGE(G24:J24) -> 9830.795 | M24: =GEOMEAN(G24:J24) -> 9108.3931 | N24: =MEDIAN(G24:J24) -> 10290 | O24: =HARMEAN(G24:J24) -> 8304.9942 | P24: =MIN(G24:J24) -> 4675 | Q24: =MAX(G24:J24) -> 14068.18
A25: 20 | D25: Jabón de baño infantil | E25: Jabón de baño neutro para niño, hipoalergénico, dermatológicamente probado, peso mínimo de 90 g. | F25: Unidad | G25: 3595.5 | H25: 15400 | I25: 27888.84 | J25: 6650 | K25: =IF(COUNT(G25:J25)>=2,_xlfn.STDEV.P(G25:J25),"") -> 9428.8935 | L25: =AVERAGE(G25:J25) -> 13383.585 | M25: =GEOMEAN(G25:J25) -> 10066.605 | N25: =MEDIAN(G25:J25) -> 11025 | O25: =HARMEAN(G25:J25) -> 7557.2498 | P25: =MIN(G25:J25) -> 3595.5 | Q25: =MAX(G25:J25) -> 27888.84
A26: 21 | D26: Jabón para lavar ropa | E26: Jabón en barra para lavado de prendas, peso mínimo de 200 g. | F26: Unidad | G26: 4100 | H26: 3575 | I26: 3383.17 | J26: 8550 | K26: =IF(COUNT(G26:J26)>=2,_xlfn.STDEV.P(G26:J26),"") -> 2122.4327 | L26: =AVERAGE(G26:J26) -> 4902.0425 | M26: =GEOMEAN(G26:J26) -> 4537.7175 | N26: =MEDIAN(G26:J26) -> 3837.5 | O26: =HARMEAN(G26:J26) -> 4272.7622 | P26: =MIN(G26:J26) -> 3383.17 | Q26: =MAX(G26:J26) -> 8550
A27: 22 | D27: Pañitos húmedos | E27: Paquete de pañitos húmedos para bebé o uso infantil, libres de alcohol, con tapa resellable, contenido mínimo de 100 unidades. | F27: Unidad | G27: 24327 | H27: 15565 | I27: 24754.38 | J27: 24700 | K27: =IF(COUNT(G27:J27)>=2,_xlfn.STDEV.P(G27:J27),"") -> 3913.0416 | L27: =AVERAGE(G27:J27) -> 22336.595 | M27: =GEOMEAN(G27:J27) -> 21935.456 | N27: =MEDIAN(G27:J27) -> 24513.5 | O27: =HARMEAN(G27:J27) -> 21478.122 | P27: =MIN(G27:J27) -> 15565 | Q27: =MAX(G27:J27) -> 24754.38
A28: 23 | B28: 52121500 | C28: TOALLA DE CUERPO | D28: Toalla 70x120 cm | E28: Toalla para uso personal elaborada en algodón o mezcla de algodón con alta capacidad de absorción, dimensiones mínimas de 70 cm x 120 cm, color sólido, nueva y empacada individualmente. | F28: Unidad | G28: 61200 | H28: 27500 | I28: 33162.92 | J28: 66500 | K28: =IF(COUNT(G28:J28)>=2,_xlfn.STDEV.P(G28:J28),"") -> 16982.137 | L28: =AVERAGE(G28:J28) -> 47090.73 | M28: =GEOMEAN(G28:J28) -> 43892.431 | N28: =MEDIAN(G28:J28) -> 47181.46 | O28: =HARMEAN(G28:J28) -> 40859.997 | P28: =MIN(G28:J28) -> 27500 | Q28: =MAX(G28:J28) -> 66500
A29: 24 | B29: 52121500 | C29: COBIJA TÉRMICA | D29: Cobija 150x200 cm | E29: Cobija para uso personal elaborada en poliéster, microfibra, fleece o material de características similares, suave al tacto, térmica, resistente al lavado y de secado rápido. Dimensiones mínimas de 150 cm x 200 cm, nueva y empacada individualmente. | F29: Unidad | G29: 57800 | H29: 41800 | I29: 115919.09 | J29: 66500 | K29: =IF(COUNT(G29:J29)>=2,_xlfn.STDEV.P(G29:J29),"") -> 27676.134 | L29: =AVERAGE(G29:J29) -> 70504.772 | M29: =GEOMEAN(G29:J29) -> 65693.164 | N29: =MEDIAN(G29:J29) -> 62150 | O29: =HARMEAN(G29:J29) -> 61643.935 | P29: =MIN(G29:J29) -> 41800 | Q29: =MAX(G29:J29) -> 115919.09
A30: 25 | B30: 53102300 | C30: PAÑALES ADULTO MAYOR | D30: Pañales para adulto | E30: Paquete de pañales desechables para adulto, talla M, L o XL según requerimiento, con barreras antifugas, núcleo absorbente de alta capacidad, cintas ajustables o sistema de ajuste anatómico, cubierta suave e hipoalergénica. Presentación mínima de 20 unidades por paquete. | F30: Unidad | G30: 115000 | H30: 53790 | I30: 97766.83 | J30: 133000 | K30: =IF(COUNT(G30:J30)>=2,_xlfn.STDEV.P(G30:J30),"") -> 29386.655 | L30: =AVERAGE(G30:J30) -> 99889.208 | M30: =GEOMEAN(G30:J30) -> 94702.325 | N30: =MEDIAN(G30:J30) -> 106383.42 | O30: =HARMEAN(G30:J30) -> 88822.404 | P30: =MIN(G30:J30) -> 53790 | Q30: =MAX(G30:J30) -> 133000
A31: 26 | B31: 53131500 | C31: PAÑALES BEBÉ | D31: Etapa 2 | E31: Paquete de pañales desechables para bebé, etapa 2 según requerimiento, con núcleo absorbente de alta capacidad, barreras antifugas, cubierta suave e hipoalergénica y sistema de ajuste anatómico. Presentación mínima de 30 unidades por paquete. | F31: Unidad | G31: 38943.6 | H31: 47731 | I31: 97766.83 | J31: 51300 | K31: =IF(COUNT(G31:J31)>=2,_xlfn.STDEV.P(G31:J31),"") -> 22865.858 | L31: =AVERAGE(G31:J31) -> 58935.357 | M31: =GEOMEAN(G31:J31) -> 55256.883 | N31: =MEDIAN(G31:J31) -> 49515.5 | O31: =HARMEAN(G31:J31) -> 52389.964 | P31: =MIN(G31:J31) -> 38943.6 | Q31: =MAX(G31:J31) -> 97766.83
A32: 27 | D32: Etapa 3 | E32: Paquete de pañales desechables para bebé, etapa 3 según requerimiento, con núcleo absorbente de alta capacidad, barreras antifugas, cubierta suave e hipoalergénica y sistema de ajuste anatómico. Presentación mínima de 30 unidades por paquete. | F32: Unidad | G32: 50503.6 | H32: 50349 | I32: 74616.57 | J32: 62700 | K32: =IF(COUNT(G32:J32)>=2,_xlfn.STDEV.P(G32:J32),"") -> 10042.653 | L32: =AVERAGE(G32:J32) -> 59542.293 | M32: =GEOMEAN(G32:J32) -> 58729.189 | N32: =MEDIAN(G32:J32) -> 56601.8 | O32: =HARMEAN(G32:J32) -> 57960.306 | P32: =MIN(G32:J32) -> 50349 | Q32: =MAX(G32:J32) -> 74616.57
A33: 28 | D33: Etapa 4 | E33: Paquete de pañales desechables para bebé, etapa 4, según requerimiento, con núcleo absorbente de alta capacidad, barreras antifugas, cubierta suave e hipoalergénica y sistema de ajuste anatómico. Presentación mínima de 30 unidades por paquete. | F33: Unidad | G33: 57728.6 | H33: 72603 | I33: 90642.3 | J33: 76000 | K33: =IF(COUNT(G33:J33)>=2,_xlfn.STDEV.P(G33:J33),"") -> 11698.708 | L33: =AVERAGE(G33:J33) -> 74243.475 | M33: =GEOMEAN(G33:J33) -> 73303.131 | N33: =MEDIAN(G33:J33) -> 74301.5 | O33: =HARMEAN(G33:J33) -> 72350.729 | P33: =MIN(G33:J33) -> 57728.6 | Q33: =MAX(G33:J33) -> 90642.3
A34: 29 | B34: 50193000 | C34: KIT DE MERCADO BÁSICO | D34: Aceite vegetal | E34: Aceite comestible vegetal refinado, presentación botella PET de 1 litro, apto para consumo humano, con registro sanitario vigente. | F34: Unidad | G34: 14450 | H34: 10945 | I34: 33465.18 | J34: 20710 | K34: =IF(COUNT(G34:J34)>=2,_xlfn.STDEV.P(G34:J34),"") -> 8581.4409 | L34: =AVERAGE(G34:J34) -> 19892.545 | M34: =GEOMEAN(G34:J34) -> 18195.509 | N34: =MEDIAN(G34:J34) -> 17580 | O34: =HARMEAN(G34:J34) -> 16754.788 | P34: =MIN(G34:J34) -> 10945 | Q34: =MAX(G34:J34) -> 33465.18
A35: 30 | D35: Arroz | E35: Arroz blanco de primera calidad, empacado en bolsa sellada de 1 kg, libre de impurezas y humedad excesiva. | F35: Unidad | G35: 3570 | H35: 7700 | I35: 3662 | J35: 3420 | K35: =IF(COUNT(G35:J35)>=2,_xlfn.STDEV.P(G35:J35),"") -> 1798.789 | L35: =AVERAGE(G35:J35) -> 4588 | M35: =GEOMEAN(G35:J35) -> 4307.5056 | N35: =MEDIAN(G35:J35) -> 3616 | O35: =HARMEAN(G35:J35) -> 4100.6519 | P35: =MIN(G35:J35) -> 3420 | Q35: =MAX(G35:J35) -> 7700
A36: 31 | D36: Azúcar | E36: Azúcar blanca refinada, presentación de 500 g, empaque sellado y en buen estado. | F36: Unidad | G36: 5270 | H36: 3061 | I36: 8148 | J36: 3800 | K36: =IF(COUNT(G36:J36)>=2,_xlfn.STDEV.P(G36:J36),"") -> 1946.989 | L36: =AVERAGE(G36:J36) -> 5069.75 | M36: =GEOMEAN(G36:J36) -> 4727.4521 | N36: =MEDIAN(G36:J36) -> 4535 | O36: =HARMEAN(G36:J36) -> 4432.9614 | P36: =MIN(G36:J36) -> 3061 | Q36: =MAX(G36:J36) -> 8148
A37: 32 | D37: Café | E37: Café molido tostado, presentación de 500 g, empacado herméticamente. | F37: Unidad | G37: 26630 | H37: 13750 | I37: 19679.1 | J37: 43700 | K37: =IF(COUNT(G37:J37)>=2,_xlfn.STDEV.P(G37:J37),"") -> 11221.505 | L37: =AVERAGE(G37:J37) -> 25939.775 | M37: =GEOMEAN(G37:J37) -> 23688.64 | N37: =MEDIAN(G37:J37) -> 23154.55 | O37: =HARMEAN(G37:J37) -> 21741.785 | P37: =MIN(G37:J37) -> 13750 | Q37: =MAX(G37:J37) -> 43700
A38: 33 | D38: Salchicha enlatada | E38: Salchicha tipo Viena enlatada, presentación aproximada de 150 g con 7 unidades, lista para consumo, con sistema abre fácil. | F38: Unidad | G38: 10200 | H38: 5170 | I38: 6887.72 | J38: 13680 | K38: =IF(COUNT(G38:J38)>=2,_xlfn.STDEV.P(G38:J38),"") -> 3258.5295 | L38: =AVERAGE(G38:J38) -> 8984.43 | M38: =GEOMEAN(G38:J38) -> 8395.8191 | N38: =MEDIAN(G38:J38) -> 8543.86 | O38: =HARMEAN(G38:J38) -> 7847.0122 | P38: =MIN(G38:J38) -> 5170 | Q38: =MAX(G38:J38) -> 13680
A39: 34 | D39: Maíz pira | E39: Maíz para crispetas de primera calidad, presentación de 500 g, empacado y sellado. | F39: Unidad | G39: 3145 | H39: 5665 | I39: 4032.91 | J39: 5700 | K39: =IF(COUNT(G39:J39)>=2,_xlfn.STDEV.P(G39:J39),"") -> 1092.9016 | L39: =AVERAGE(G39:J39) -> 4635.7275 | M39: =GEOMEAN(G39:J39) -> 4498.6115 | N39: =MEDIAN(G39:J39) -> 4848.955 | O39: =HARMEAN(G39:J39) -> 4357.8395 | P39: =MIN(G39:J39) -> 3145 | Q39: =MAX(G39:J39) -> 5700
A40: 35 | D40: Chocolate | E40: Chocolate de mesa en pastilla, presentación de 500 g, apto para preparación de bebidas calientes. | F40: Unidad | G40: 18445 | H40: 18548 | I40: 10534.65 | J40: 24700 | K40: =IF(COUNT(G40:J40)>=2,_xlfn.STDEV.P(G40:J40),"") -> 5027.5944 | L40: =AVERAGE(G40:J40) -> 18056.912 | M40: =GEOMEAN(G40:J40) -> 17273.216 | N40: =MEDIAN(G40:J40) -> 18496.5 | O40: =HARMEAN(G40:J40) -> 16424.402 | P40: =MIN(G40:J40) -> 10534.65 | Q40: =MAX(G40:J40) -> 24700
A41: 36 | D41: Fríjol | E41: Frijol bola roja seco, limpio y seleccionado, presentación de 500 g en bolsa sellada. | F41: Unidad | G41: 7973 | H41: 10945 | I41: 9240 | J41: 11780 | K41: =IF(COUNT(G41:J41)>=2,_xlfn.STDEV.P(G41:J41),"") -> 1478.7489 | L41: =AVERAGE(G41:J41) -> 9984.5 | M41: =GEOMEAN(G41:J41) -> 9872.1944 | N41: =MEDIAN(G41:J41) -> 10092.5 | O41: =HARMEAN(G41:J41) -> 9758.383 | P41: =MIN(G41:J41) -> 7973 | Q41: =MAX(G41:J41) -> 11780
A42: 37 | D42: Lenteja | E42: Lenteja seca seleccionada, libre de impurezas, presentación de 500 g en bolsa sellada. | F42: Unidad | G42: 3570 | H42: 3839 | I42: 4082 | J42: 4750 | K42: =IF(COUNT(G42:J42)>=2,_xlfn.STDEV.P(G42:J42),"") -> 437.47136 | L42: =AVERAGE(G42:J42) -> 4060.25 | M42: =GEOMEAN(G42:J42) -> 4037.5065 | N42: =MEDIAN(G42:J42) -> 3960.5 | O42: =HARMEAN(G42:J42) -> 4015.6578 | P42: =MIN(G42:J42) -> 3570 | Q42: =MAX(G42:J42) -> 4750
...

Sheet VARIACION DE PRECIOS
A1: ANÁLISIS DE DISPERSIÓN DE PRECIOS POR LOTES
A2: Desviación estándar, media aritmética y variación porcentual por producto
A4: LOTE A
A5: ITEM | B5: PRODUCTO / DESCRIPCIÓN | C5: DESVIACIÓN ESTÁNDAR | D5: MEDIA ARITMÉTICA | E5: VARIACIÓN %
A6: 1 | B6: Cepillo de dientes | C6: =_xlfn.STDEV.P('ANALISIS DE COTIZACCIONES'!G6:J6) -> 3008.6071 | D6: =AVERAGE('ANALISIS DE COTIZACCIONES'!G6:J6) -> 5741.33 | E6: =C6/D6 -> 0.52402616
A7: 2 | B7: Crema dental | C7: =_xlfn.STDEV.P('ANALISIS DE COTIZACCIONES'!G7:J7) -> 1458.2351 | D7: =AVERAGE('ANALISIS DE COTIZACCIONES'!G7:J7) -> 9131.96 | E7: =C7/D7 -> 0.15968478
A8: 3 | B8: Desodorante | C8: =_xlfn.STDEV.P('ANALISIS DE COTIZACCIONES'!G8:J8) -> 1897.1201 | D8: =AVERAGE('ANALISIS DE COTIZACCIONES'!G8:J8) -> 6562.585 | E8: =C8/D8 -> 0.28908122
A9: 4 | B9: Shampoo | C9: =_xlfn.STDEV.P('ANALISIS DE COTIZACCIONES'!G9:J9) -> 4179.6695 | D9: =AVERAGE('ANALISIS DE COTIZACCIONES'!G9:J9) -> 7911.1625 | E9: =C9/D9 -> 0.52832558
A10: 5 | B10: Jabón de baño | C10: =_xlfn.STDEV.P('ANALISIS DE COTIZACCIONES'!G10:J10) -> 1182.6514 | D10: =AVERAGE('ANALISIS DE COTIZACCIONES'!G10:J10) -> 5414.4775 | E10: =C10/D10 -> 0.21842393
A11: 6 | B11: Jabón para lavar ropa | C11: =_xlfn.STDEV.P('ANALISIS DE COTIZACCIONES'!G11:J11) -> 1262.5524 | D11: =AVERAGE('ANALISIS DE COTIZACCIONES'!G11:J11) -> 3849.5425 | E11: =C11/D11 -> 0.32797467
A12: 7 | B12: Máquina de afeitar | C12: =_xlfn.STDEV.P('ANALISIS DE COTIZACCIONES'!G12:J12) -> 948.61663 | D12: =AVERAGE('ANALISIS DE COTIZACCIONES'!G12:J12) -> 5473.5742 | E12: =C12/D12 -> 0.17330844
A13: 8 | B13: Papel higiénico | C13: =_xlfn.STDEV.P('ANALISIS DE COTIZACCIONES'!G13:J13) -> 1458.1403 | D13: =AVERAGE('ANALISIS DE COTIZACCIONES'!G13:J13) -> 13845.438 | E13: =C13/D13 -> 0.10531558
A14: 9 | B14: Cepillo de dientes | C14: =_xlfn.STDEV.P('ANALISIS DE COTIZACCIONES'!G14:J14) -> 3008.6071 | D14: =AVERAGE('ANALISIS DE COTIZACCIONES'!G14:J14) -> 5741.33 | E14: =C14/D14 -> 0.52402616
A15: 10 | B15: Crema dental | C15: =_xlfn.STDEV.P('ANALISIS DE COTIZACCIONES'!G15:J15) -> 1458.2351 | D15: =AVERAGE('ANALISIS DE COTIZACCIONES'!G15:J15) -> 9131.96 | E15: =C15/D15 -> 0.15968478
A16: 11 | B16: Desodorante | C16: =_xlfn.STDEV.P('ANALISIS DE COTIZACCIONES'!G16:J16) -> 1852.6245 | D16: =AVERAGE('ANALISIS DE COTIZACCIONES'!G16:J16) -> 6625.335 | E16: =C16/D16 -> 0.27962729
A17: 12 | B17: Shampoo | C17: =_xlfn.STDEV.P('ANALISIS DE COTIZACCIONES'!G17:J17) -> 4179.6695 | D17: =AVERAGE('ANALISIS DE COTIZACCIONES'!G17:J17) -> 7911.1625 | E17: =C17/D17 -> 0.52832558
... A60: 55 | B60: Servilletas | C60: =_xlfn.STDEV.P('ANALISIS DE COTIZACCIONES'!G60:J60) -> 1087.8065 | D60: =AVERAGE('ANALISIS DE COTIZACCIONES'!G60:J60) -> 4935.89 | E60: =C60/D60 -> 0.22038709
A62: LOTE B
A63: ITEM | B63: PRODUCTO / DESCRIPCIÓN | C63: DESVIACIÓN ESTÁNDAR | D63: MEDIA ARITMÉTICA | E63: VARIACIÓN %
A64: 56 | B64: Silla plastica tipo rimax sin brazos | C64: =_xlfn.STDEV.P('ANALISIS DE COTIZACCIONES'!G68:J68) -> 28991.139 | D64: =AVERAGE('ANALISIS DE COTIZACCIONES'!G68:J68) -> 79433.67 | E64: =C64/D64 -> 0.36497292
A65: 57 | B65: Mesa plastica cuadrada tipo rimax 72x72 cm | C65: =_xlfn.STDEV.P('ANALISIS DE COTIZACCIONES'!G69:J69) -> 71485.818 | D65: =AVERAGE('ANALISIS DE COTIZACCIONES'!G69:J69) -> 199049.42 | E65: =C65/D65 -> 0.35913603
A66: 58 | B66: Mesa Plegable Tipo Portafolio Plástica 180 cm x 75 cm | C66: =_xlfn.STDEV.P('ANALISIS DE COTIZACCIONES'!G70:J70) -> 143438.46 | D66: =AVERAGE('ANALISIS DE COTIZACCIONES'!G70:J70) -> 391866.52 | E66: =C66/D66 -> 0.36603907
A67: 59 | B67: Silla plastica infantil | C67: =_xlfn.STDEV.P('ANALISIS DE COTIZACCIONES'!G71:J71) -> 78901.789 | D67: =AVERAGE('ANALISIS DE COTIZACCIONES'!G71:J71) -> 97636.6 | E67: =C67/D67 -> 0.80811692
A68: 60 | B68: Mesa tipo rimax para niños | C68: =_xlfn.STDEV.P('ANALISIS DE COTIZACCIONES'!G72:J72) -> 28777.583 | D68: =AVERAGE('ANALISIS DE COTIZACCIONES'!G72:J72) -> 120559.8 | E68: =C68/D68 -> 0.23869966
A69: 61 | B69: Caja plastica organizadora | C69: =_xlfn.STDEV.P('ANALISIS DE COTIZACCIONES'!G73:J73) -> 68556.641 | D69: =AVERAGE('ANALISIS DE COTIZACCIONES'!G73:J73) -> 239455.67 | E69: =C69/D69 -> 0.28630201
A70: 62 | B70: Estanteria metalica | C70: =_xlfn.STDEV.P('ANALISIS DE COTIZACCIONES'!G74:J74) -> 343000.96 | D70: =AVERAGE('ANALISIS DE COTIZACCIONES'!G74:J74) -> 669417.89 | E70: =C70/D70 -> 0.5123869
A71: 63 | B71: Archivador metalico 3 gavetas tipo oficio | C71: =_xlfn.STDEV.P('ANALISIS DE COTIZACCIONES'!G75:J75) -> 276594.65 | D71: =AVERAGE('ANALISIS DE COTIZACCIONES'!G75:J75) -> 1186068.7 | E71: =C71/D71 -> 0.23320288
A72: 64 | B72: Escritorio en L 150 x 150 cm | C72: =_xlfn.STDEV.P('ANALISIS DE COTIZACCIONES'!G76:J76) -> 1300907.4 | D72: =AVERAGE('ANALISIS DE COTIZACCIONES'!G76:J76) -> 2025502.3 | E72: =C72/D72 -> 0.64226411
A73: 65 | B73: Silla ergonómica con soporte lumbar y ajuste de altura | C73: =_xlfn.STDEV.P('ANALISIS DE COTIZACCIONES'!G77:J77) -> 265568.23 | D73: =AVERAGE('ANALISIS DE COTIZACCIONES'!G77:J77) -> 520715.08 | E73: =C73/D73 -> 0.5100068
A74: 66 | B74: Punto ecologico industrial 3 puestos (aprovechables, no aprovechables y orgánicos) | C74: =_xlfn.STDEV.P('ANALISIS DE COTIZACCIONES'!G78:J78) -> 350773.1 | D74: =AVERAGE('ANALISIS DE COTIZACCIONES'!G78:J78) -> 848497.59 | E74: =C74/D74 -> 0.41340495
A75: 67 | B75: Tablero acrílico blanco 120 x 140 cm | C75: =_xlfn.STDEV.P('ANALISIS DE COTIZACCIONES'!G79:J79) -> 329700.74 | D75: =AVERAGE('ANALISIS DE COTIZACCIONES'!G79:J79) -> 773639.5 | E75: =C75/D75 -> 0.42616844
A76: 68 | B76: Carpa plegable impermeable tipo acordeón para exteriores 3x3 m | C76: =_xlfn.STDEV.P('ANALISIS DE COTIZACCIONES'!G80:J80) -> 1035191.4 | D76: =AVERAGE('ANALISIS DE COTIZACCIONES'!G80:J80) -> 1337952.5 | E76: =C76/D76 -> 0.77371315
A78: LOTE C
A79: ITEM | B79: PRODUCTO / DESCRIPCIÓN | C79: DESVIACIÓN ESTÁNDAR | D79: MEDIA ARITMÉTICA | E79: VARIACIÓN %
A80: 69 | B80: Cemento bulto x 50 kg | C80: =_xlfn.STDEV.P('ANALISIS DE COTIZACCIONES'!G86:J86) -> 6596.1507 | D80: =AVERAGE('ANALISIS DE COTIZACCIONES'!G86:J86) -> 48584.48 | E80: =C80/D80 -> 0.13576662
A81: 70 | B81: Mixto metro cúbico (m³) | C81: =_xlfn.STDEV.P('ANALISIS DE COTIZACCIONES'!G87:J87) -> 38525.406 | D81: =AVERAGE('ANALISIS DE COTIZACCIONES'!G87:J87) -> 261733.47 | E81: =C81/D81 -> 0.14719327
A82: 71 | B82: Caja de baldosas para piso 60x60 cm | C82: =_xlfn.STDEV.P('ANALISIS DE COTIZACCIONES'!G88:J88) -> 30298.96 | D82: =AVERAGE('ANALISIS DE COTIZACCIONES'!G88:J88) -> 106353.71 | E82: =C82/D82 -> 0.28488859
A83: 72 | B83: Arena metro cúbico (m³) | C83: =_xlfn.STDEV.P('ANALISIS DE COTIZACCIONES'!G89:J89) -> 62306.491 | D83: =AVERAGE('ANALISIS DE COTIZACCIONES'!G89:J89) -> 191962.67 | E83: =C83/D83 -> 0.32457608
A84: 73 | B84: Varilla ½ pulgada barra de 6 metros | C84: =_xlfn.STDEV.P('ANALISIS DE COTIZACCIONES'!G90:J90) -> 3210.5173 | D84: =AVERAGE('ANALISIS DE COTIZACCIONES'!G90:J90) -> 38631.72 | E84: =C84/D84 -> 0.08310573
A85: 74 | B85: Varilla ⅜ pulgada barra de 6 metros | C85: =_xlfn.STDEV.P('ANALISIS DE COTIZACCIONES'!G91:J91) -> 4062.4906 | D85: =AVERAGE('ANALISIS DE COTIZACCIONES'!G91:J91) -> 21802.76 | E85: =C85/D85 -> 0.18632919
...

Sheet CRITERIOS DE SELECCION
A1: CRITERIOS DE SELECCIÓN RAZONABLE DE PRECIOS
A2: Medida estadística aplicable según el porcentaje de variación de las cotizaciones
A4: DESDE | B4: HASTA | C4: MEDIDA APLICABLE | D4: CRITERIO
A5: 0 | B5: 0.25 | C5: Media geométrica | D5: Variación baja (0%–25%): representa adecuadamente diferencias proporcionales entre precios homogéneos.
A6: 0.25 | B6: 0.5 | C6: Media aritmética | D6: Variación moderada (>25%–50%): conserva el promedio general de las cotizaciones observadas.
A7: 0.5 | B7: 0.75 | C7: Mediana | D7: Variación alta (>50%–75%): reduce el efecto de precios alejados del centro.
A8: 0.75 | C8: Media armónica | D8: Variación muy alta (>75%): reduce la influencia de cotizaciones elevadas.
D11: MEDIA GEOMETRICA | E11: MEDIA ARIMTETICA | F11: MEDIANA | G11: MEDIA ARMONICA
A12: LOTE | B12: ÍTEM | C12: PRODUCTO / DESCRIPCIÓN | D12: (APLICABLE A VARIACION ES DE DATOS ENTRE EL(0%–25%): | E12: (APLICABLE A VARIACIONES DE DATOS ENTRE EL (>25%–50%): | F12: (APLICABLE A VARIACIONES DE DATOS ENTRE EL (>50%–75%): | G12: (APLICABLE A VARIACIONES MAYORES >75%) | H12: VARIACIÓN % | I12: MEDIDA APLICABLE | J12: PRECIO DE REFERENCIA
A13: LOTE A | B13: 1 | C13: Cepillo de dientes | D13: =+'ANALISIS DE COTIZACCIONES'!M6 -> 4962.6593 | E13: =+'ANALISIS DE COTIZACCIONES'!L6 -> 5741.33 | F13: =+'ANALISIS DE COTIZACCIONES'!N6 -> 5125 | G13: =+'ANALISIS DE COTIZACCIONES'!O6 -> 4255.2148 | H13: ='ANALISIS DE COTIZACCIONES'!K6/'ANALISIS DE COTIZACCIONES'!L6 -> 0.52402616 | I13: =IF(H13<=25%,"Media geométrica",IF(H13<=50%,"Media aritmética",IF(H13<=75%,"Mediana","Media armónica"))) -> Mediana | J13: =IF(H13<=25%,'ANALISIS DE COTIZACCIONES'!M6,IF(H13<=50%,'ANALISIS DE COTIZACCIONES'!L6,IF(H13<=75%,'ANALISIS DE COTIZACCIONES'!N6,'ANALISIS DE COTIZACCIONES'!O6))) -> 5125
A14: LOTE A | B14: 2 | C14: Crema dental | D14: =+'ANALISIS DE COTIZACCIONES'!M7 -> 9007.6907 | E14: =+'ANALISIS DE COTIZACCIONES'!L7 -> 9131.96 | F14: =+'ANALISIS DE COTIZACCIONES'!N7 -> 9560 | G14: =+'ANALISIS DE COTIZACCIONES'!O7 -> 8877.0387 | H14: ='ANALISIS DE COTIZACCIONES'!K7/'ANALISIS DE COTIZACCIONES'!L7 -> 0.15968478 | I14: =IF(H14<=25%,"Media geométrica",IF(H14<=50%,"Media aritmética",IF(H14<=75%,"Mediana","Media armónica"))) -> Media geométrica | J14: =IF(H14<=25%,'ANALISIS DE COTIZACCIONES'!M7,IF(H14<=50%,'ANALISIS DE COTIZACCIONES'!L7,IF(H14<=75%,'ANALISIS DE COTIZACCIONES'!N7,'ANALISIS DE COTIZACCIONES'!O7))) -> 9007.6907
A15: LOTE A | B15: 3 | C15: Desodorante | D15: =+'ANALISIS DE COTIZACCIONES'!M8 -> 6306.8708 | E15: =+'ANALISIS DE COTIZACCIONES'!L8 -> 6562.585 | F15: =+'ANALISIS DE COTIZACCIONES'!N8 -> 6041.92 | G15: =+'ANALISIS DE COTIZACCIONES'!O8 -> 6077.7461 | H15: ='ANALISIS DE COTIZACCIONES'!K8/'ANALISIS DE COTIZACCIONES'!L8 -> 0.28908122 | I15: =IF(H15<=25%,"Media geométrica",IF(H15<=50%,"Media aritmética",IF(H15<=75%,"Mediana","Media armónica"))) -> Media aritmética | J15: =IF(H15<=25%,'ANALISIS DE COTIZACCIONES'!M8,IF(H15<=50%,'ANALISIS DE COTIZACCIONES'!L8,IF(H15<=75%,'ANALISIS DE COTIZACCIONES'!N8,'ANALISIS DE COTIZACCIONES'!O8))) -> 6562.585
A16: LOTE A | B16: 4 | C16: Shampoo | D16: =+'ANALISIS DE COTIZACCIONES'!M9 -> 6666.5472 | E16: =+'ANALISIS DE COTIZACCIONES'!L9 -> 7911.1625 | F16: =+'ANALISIS DE COTIZACCIONES'!N9 -> 7450.325 | G16: =+'ANALISIS DE COTIZACCIONES'!O9 -> 5413.3558 | H16: ='ANALISIS DE COTIZACCIONES'!K9/'ANALISIS DE COTIZACCIONES'!L9 -> 0.52832558 | I16: =IF(H16<=25%,"Media geométrica",IF(H16<=50%,"Media aritmética",IF(H16<=75%,"Mediana","Media armónica"))) -> Mediana | J16: =IF(H16<=25%,'ANALISIS DE COTIZACCIONES'!M9,IF(H16<=50%,'ANALISIS DE COTIZACCIONES'!L9,IF(H16<=75%,'ANALISIS DE COTIZACCIONES'!N9,'ANALISIS DE COTIZACCIONES'!O9))) -> 7450.325
A17: LOTE A | B17: 5 | C17: Jabón de baño | D17: =+'ANALISIS DE COTIZACCIONES'!M10 -> 5270.2597 | E17: =+'ANALISIS DE COTIZACCIONES'!L10 -> 5414.4775 | F17: =+'ANALISIS DE COTIZACCIONES'!N10 -> 5706.205 | G17: =+'ANALISIS DE COTIZACCIONES'!O10 -> 5113.7984 | H17: ='ANALISIS DE COTIZACCIONES'!K10/'ANALISIS DE COTIZACCIONES'!L10 -> 0.21842393 | I17: =IF(H17<=25%,"Media geométrica",IF(H17<=50%,"Media aritmética",IF(H17<=75%,"Mediana","Media armónica"))) -> Media geométrica | J17: =IF(H17<=25%,'ANALISIS DE COTIZACCIONES'!M10,IF(H17<=50%,'ANALISIS DE COTIZACCIONES'!L10,IF(H17<=75%,'ANALISIS DE COTIZACCIONES'!N10,'ANALISIS DE COTIZACCIONES'!O10))) -> 5270.2597
A18: LOTE A | B18: 6 | C18: Jabón para lavar ropa | D18: =+'ANALISIS DE COTIZACCIONES'!M11 -> 3637.8021 | E18: =+'ANALISIS DE COTIZACCIONES'!L11 -> 3849.5425 | F18: =+'ANALISIS DE COTIZACCIONES'!N11 -> 3741.585 | G18: =+'ANALISIS DE COTIZACCIONES'!O11 -> 3429.3874 | H18: ='ANALISIS DE COTIZACCIONES'!K11/'ANALISIS DE COTIZACCIONES'!L11 -> 0.32797467 | I18: =IF(H18<=25%,"Media geométrica",IF(H18<=50%,"Media aritmética",IF(H18<=75%,"Mediana","Media armónica"))) -> Media aritmética | J18: =IF(H18<=25%,'ANALISIS DE COTIZACCIONES'!M11,IF(H18<=50%,'ANALISIS DE COTIZACCIONES'!L11,IF(H18<=75%,'ANALISIS DE COTIZACCIONES'!N11,'ANALISIS DE COTIZACCIONES'!O11))) -> 3849.5425
A19: LOTE A | B19: 7 | C19: Máquina de afeitar | D19: =+'ANALISIS DE COTIZACCIONES'!M12 -> 5381.4854 | E19: =+'ANALISIS DE COTIZACCIONES'!L12 -> 5473.5742 | F19: =+'ANALISIS DE COTIZACCIONES'!N12 -> 5742.8135 | G19: =+'ANALISIS DE COTIZACCIONES'!O12 -> 5280.1618 | H19: ='ANALISIS DE COTIZACCIONES'!K12/'ANALISIS DE COTIZACCIONES'!L12 -> 0.17330844 | I19: =IF(H19<=25%,"Media geométrica",IF(H19<=50%,"Media aritmética",IF(H19<=75%,"Mediana","Media armónica"))) -> Media geométrica | J19: =IF(H19<=25%,'ANALISIS DE COTIZACCIONES'!M12,IF(H19<=50%,'ANALISIS DE COTIZACCIONES'!L12,IF(H19<=75%,'ANALISIS DE COTIZACCIONES'!N12,'ANALISIS DE COTIZACCIONES'!O12))) -> 5381.4854
A20: LOTE A | B20: 8 | C20: Papel higiénico | D20: =+'ANALISIS DE COTIZACCIONES'!M13 -> 13768.429 | E20: =+'ANALISIS DE COTIZACCIONES'!L13 -> 13845.438 | F20: =+'ANALISIS DE COTIZACCIONES'!N13 -> 13847.5 | G20: =+'ANALISIS DE COTIZACCIONES'!O13 -> 13691.829 | H20: ='ANALISIS DE COTIZACCIONES'!K13/'ANALISIS DE COTIZACCIONES'!L13 -> 0.10531558 | I20: =IF(H20<=25%,"Media geométrica",IF(H20<=50%,"Media aritmética",IF(H20<=75%,"Mediana","Media armónica"))) -> Media geométrica | J20: =IF(H20<=25%,'ANALISIS DE COTIZACCIONES'!M13,IF(H20<=50%,'ANALISIS DE COTIZACCIONES'!L13,IF(H20<=75%,'ANALISIS DE COTIZACCIONES'!N13,'ANALISIS DE COTIZACCIONES'!O13))) -> 13768.429
A21: LOTE A | B21: 9 | C21: Cepillo de dientes | D21: =+'ANALISIS DE COTIZACCIONES'!M14 -> 4962.6593 | E21: =+'ANALISIS DE COTIZACCIONES'!L14 -> 5741.33 | F21: =+'ANALISIS DE COTIZACCIONES'!N14 -> 5125 | G21: =+'ANALISIS DE COTIZACCIONES'!O14 -> 4255.2148 | H21: ='ANALISIS DE COTIZACCIONES'!K14/'ANALISIS DE COTIZACCIONES'!L14 -> 0.52402616 | I21: =IF(H21<=25%,"Media geométrica",IF(H21<=50%,"Media aritmética",IF(H21<=75%,"Mediana","Media armónica"))) -> Mediana | J21: =IF(H21<=25%,'ANALISIS DE COTIZACCIONES'!M14,IF(H21<=50%,'ANALISIS DE COTIZACCIONES'!L14,IF(H21<=75%,'ANALISIS DE COTIZACCIONES'!N14,'ANALISIS DE COTIZACCIONES'!O14))) -> 5125
A22: LOTE A | B22: 10 | C22: Crema dental | D22: =+'ANALISIS DE COTIZACCIONES'!M15 -> 9007.6907 | E22: =+'ANALISIS DE COTIZACCIONES'!L15 -> 9131.96 | F22: =+'ANALISIS DE COTIZACCIONES'!N15 -> 9560 | G22: =+'ANALISIS DE COTIZACCIONES'!O15 -> 8877.0387 | H22: ='ANALISIS DE COTIZACCIONES'!K15/'ANALISIS DE COTIZACCIONES'!L15 -> 0.15968478 | I22: =IF(H22<=25%,"Media geométrica",IF(H22<=50%,"Media aritmética",IF(H22<=75%,"Mediana","Media armónica"))) -> Media geométrica | J22: =IF(H22<=25%,'ANALISIS DE COTIZACCIONES'!M15,IF(H22<=50%,'ANALISIS DE COTIZACCIONES'!L15,IF(H22<=75%,'ANALISIS DE COTIZACCIONES'!N15,'ANALISIS DE COTIZACCIONES'!O15))) -> 9007.6907
A23: LOTE A | B23: 11 | C23: Desodorante | D23: =+'ANALISIS DE COTIZACCIONES'!M16 -> 6382.5095 | E23: =+'ANALISIS DE COTIZACCIONES'!L16 -> 6625.335 | F23: =+'ANALISIS DE COTIZACCIONES'!N16 -> 6167.42 | G23: =+'ANALISIS DE COTIZACCIONES'!O16 -> 6162.5963 | H23: ='ANALISIS DE COTIZACCIONES'!K16/'ANALISIS DE COTIZACCIONES'!L16 -> 0.27962729 | I23: =IF(H23<=25%,"Media geométrica",IF(H23<=50%,"Media aritmética",IF(H23<=75%,"Mediana","Media armónica"))) -> Media aritmética | J23: =IF(H23<=25%,'ANALISIS DE COTIZACCIONES'!M16,IF(H23<=50%,'ANALISIS DE COTIZACCIONES'!L16,IF(H23<=75%,'ANALISIS DE COTIZACCIONES'!N16,'ANALISIS DE COTIZACCIONES'!O16))) -> 6625.335
A24: LOTE A | B24: 12 | C24: Shampoo | D24: =+'ANALISIS DE COTIZACCIONES'!M17 -> 6666.5472 | E24: =+'ANALISIS DE COTIZACCIONES'!L17 -> 7911.1625 | F24: =+'ANALISIS DE COTIZACCIONES'!N17 -> 7450.325 | G24: =+'ANALISIS DE COTIZACCIONES'!O17 -> 5413.3558 | H24: ='ANALISIS DE COTIZACCIONES'!K17/'ANALISIS DE COTIZACCIONES'!L17 -> 0.52832558 | I24: =IF(H24<=25%,"Media geométrica",IF(H24<=50%,"Media aritmética",IF(H24<=75%,"Mediana","Media armónica"))) -> Mediana | J24: =IF(H24<=25%,'ANALISIS DE COTIZACCIONES'!M17,IF(H24<=50%,'ANALISIS DE COTIZACCIONES'!L17,IF(H24<=75%,'ANALISIS DE COTIZACCIONES'!N17,'ANALISIS DE COTIZACCIONES'!O17))) -> 7450.325
... A67: LOTE A | B67: 55 | C67: Servilletas | D67: =+'ANALISIS DE COTIZACCIONES'!M60 -> 4821.4615 | E67: =+'ANALISIS DE COTIZACCIONES'!L60 -> 4935.89 | F67: =+'ANALISIS DE COTIZACCIONES'!N60 -> 4731.78 | G67: =+'ANALISIS DE COTIZACCIONES'!O60 -> 4713.6859 | H67: ='ANALISIS DE COTIZACCIONES'!K60/'ANALISIS DE COTIZACCIONES'!L60 -> 0.22038709 | I67: =IF(H67<=25%,"Media geométrica",IF(H67<=50%,"Media aritmética",IF(H67<=75%,"Mediana","Media armónica"))) -> Media geométrica | J67: =IF(H67<=25%,'ANALISIS DE COTIZACCIONES'!M60,IF(H67<=50%,'ANALISIS DE COTIZACCIONES'!L60,IF(H67<=75%,'ANALISIS DE COTIZACCIONES'!N60,'ANALISIS DE COTIZACCIONES'!O60))) -> 4821.4615
A68: LOTE B | B68: 56 | C68: Silla plastica tipo rimax sin brazos | D68: =+'ANALISIS DE COTIZACCIONES'!M68 -> 74490.455 | E68: =+'ANALISIS DE COTIZACCIONES'!L68 -> 79433.67 | F68: =+'ANALISIS DE COTIZACCIONES'!N68 -> 72900 | G68: =+'ANALISIS DE COTIZACCIONES'!O68 -> 70044.851 | H68: ='ANALISIS DE COTIZACCIONES'!K68/'ANALISIS DE COTIZACCIONES'!L68 -> 0.36497292 | I68: =IF(H68<=25%,"Media geométrica",IF(H68<=50%,"Media aritmética",IF(H68<=75%,"Mediana","Media armónica"))) -> Media aritmética | J68: =IF(H68<=25%,'ANALISIS DE COTIZACCIONES'!M68,IF(H68<=50%,'ANALISIS DE COTIZACCIONES'!L68,IF(H68<=75%,'ANALISIS DE COTIZACCIONES'!N68,'ANALISIS DE COTIZACCIONES'!O68))) -> 79433.67
A69: LOTE B | B69: 57 | C69: Mesa plastica cuadrada tipo rimax 72x72 cm | D69: =+'ANALISIS DE COTIZACCIONES'!M69 -> 186135.56 | E69: =+'ANALISIS DE COTIZACCIONES'!L69 -> 199049.42 | F69: =+'ANALISIS DE COTIZACCIONES'!N69 -> 190315 | G69: =+'ANALISIS DE COTIZACCIONES'!O69 -> 173740.44 | H69: ='ANALISIS DE COTIZACCIONES'!K69/'ANALISIS DE COTIZACCIONES'!L69 -> 0.35913603 | I69: =IF(H69<=25%,"Media geométrica",IF(H69<=50%,"Media aritmética",IF(H69<=75%,"Mediana","Media armónica"))) -> Media aritmética | J69: =IF(H69<=25%,'ANALISIS DE COTIZACCIONES'!M69,IF(H69<=50%,'ANALISIS DE COTIZACCIONES'!L69,IF(H69<=75%,'ANALISIS DE COTIZACCIONES'!N69,'ANALISIS DE COTIZACCIONES'!O69))) -> 199049.42
A70: LOTE B | B70: 58 | C70: Mesa Plegable Tipo Portafolio Plástica 180 cm x 75 cm | D70: =+'ANALISIS DE COTIZACCIONES'!M70 -> 362493.05 | E70: =+'ANALISIS DE COTIZACCIONES'!L70 -> 391866.52 | F70: =+'ANALISIS DE COTIZACCIONES'!N70 -> 405000 | G70: =+'ANALISIS DE COTIZACCIONES'!O70 -> 332358.84 | H70: ='ANALISIS DE COTIZACCIONES'!K70/'ANALISIS DE COTIZACCIONES'!L70 -> 0.36603907 | I70: =IF(H70<=25%,"Media geométrica",IF(H70<=50%,"Media aritmética",IF(H70<=75%,"Mediana","Media armónica"))) -> Media aritmética | J70: =IF(H70<=25%,'ANALISIS DE COTIZACCIONES'!M70,IF(H70<=50%,'ANALISIS DE COTIZACCIONES'!L70,IF(H70<=75%,'ANALISIS DE COTIZACCIONES'!N70,'ANALISIS DE COTIZACCIONES'!O70))) -> 391866.52
A71: LOTE B | B71: 59 | C71: Silla plastica infantil | D71: =+'ANALISIS DE COTIZACCIONES'!M71 -> 75484.438 | E71: =+'ANALISIS DE COTIZACCIONES'!L71 -> 97636.6 | F71: =+'ANALISIS DE COTIZACCIONES'!N71 -> 55550 | G71: =+'ANALISIS DE COTIZACCIONES'!O71 -> 63810.331 | H71: ='ANALISIS DE COTIZACCIONES'!K71/'ANALISIS DE COTIZACCIONES'!L71 -> 0.80811692 | I71: =IF(H71<=25%,"Media geométrica",IF(H71<=50%,"Media aritmética",IF(H71<=75%,"Mediana","Media armónica"))) -> Media armónica | J71: =IF(H71<=25%,'ANALISIS DE COTIZACCIONES'!M71,IF(H71<=50%,'ANALISIS DE COTIZACCIONES'!L71,IF(H71<=75%,'ANALISIS DE COTIZACCIONES'!N71,'ANALISIS DE COTIZACCIONES'!O71))) -> 63810.331
A72: LOTE B | B72: 60 | C72: Mesa tipo rimax para niños | D72: =+'ANALISIS DE COTIZACCIONES'!M72 -> 116500.5 | E72: =+'ANALISIS DE COTIZACCIONES'!L72 -> 120559.8 | F72: =+'ANALISIS DE COTIZACCIONES'!N72 -> 128355 | G72: =+'ANALISIS DE COTIZACCIONES'!O72 -> 111880.98 | H72: ='ANALISIS DE COTIZACCIONES'!K72/'ANALISIS DE COTIZACCIONES'!L72 -> 0.23869966 | I72: =IF(H72<=25%,"Media geométrica",IF(H72<=50%,"Media aritmética",IF(H72<=75%,"Mediana","Media armónica"))) -> Media geométrica | J72: =IF(H72<=25%,'ANALISIS DE COTIZACCIONES'!M72,IF(H72<=50%,'ANALISIS DE COTIZACCIONES'!L72,IF(H72<=75%,'ANALISIS DE COTIZACCIONES'!N72,'ANALISIS DE COTIZACCIONES'!O72))) -> 116500.5
A73: LOTE B | B73: 61 | C73: Caja plastica organizadora | D73: =+'ANALISIS DE COTIZACCIONES'!M73 -> 230773.11 | E73: =+'ANALISIS DE COTIZACCIONES'!L73 -> 239455.67 | F73: =+'ANALISIS DE COTIZACCIONES'!N73 -> 213495 | G73: =+'ANALISIS DE COTIZACCIONES'!O73 -> 223365.93 | H73: ='ANALISIS DE COTIZACCIONES'!K73/'ANALISIS DE COTIZACCIONES'!L73 -> 0.28630201 | I73: =IF(H73<=25%,"Media geométrica",IF(H73<=50%,"Media aritmética",IF(H73<=75%,"Mediana","Media armónica"))) -> Media aritmética | J73: =IF(H73<=25%,'ANALISIS DE COTIZACCIONES'!M73,IF(H73<=50%,'ANALISIS DE COTIZACCIONES'!L73,IF(H73<=75%,'ANALISIS DE COTIZACCIONES'!N73,'ANALISIS DE COTIZACCIONES'!O73))) -> 239455.67
A74: LOTE B | B74: 62 | C74: Estanteria metalica | D74: =+'ANALISIS DE COTIZACCIONES'!M74 -> 577982.6 | E74: =+'ANALISIS DE COTIZACCIONES'!L74 -> 669417.89 | F74: =+'ANALISIS DE COTIZACCIONES'!N74 -> 620385.78 | G74: =+'ANALISIS DE COTIZACCIONES'!O74 -> 500345.11 | H74: ='ANALISIS DE COTIZACCIONES'!K74/'ANALISIS DE COTIZACCIONES'!L74 -> 0.5123869 | I74: =IF(H74<=25%,"Media geométrica",IF(H74<=50%,"Media aritmética",IF(H74<=75%,"Mediana","Media armónica"))) -> Mediana | J74: =IF(H74<=25%,'ANALISIS DE COTIZACCIONES'!M74,IF(H74<=50%,'ANALISIS DE COTIZACCIONES'!L74,IF(H74<=75%,'ANALISIS DE COTIZACCIONES'!N74,'ANALISIS DE COTIZACCIONES'!O74))) -> 620385.78
A75: LOTE B | B75: 63 | C75: Archivador metalico 3 gavetas tipo oficio | D75: =+'ANALISIS DE COTIZACCIONES'!M75 -> 1153085.8 | E75: =+'ANALISIS DE COTIZACCIONES'!L75 -> 1186068.7 | F75: =+'ANALISIS DE COTIZACCIONES'!N75 -> 1187945 | G75: =+'ANALISIS DE COTIZACCIONES'!O75 -> 1120524.1 | H75: ='ANALISIS DE COTIZACCIONES'!K75/'ANALISIS DE COTIZACCIONES'!L75 -> 0.23320288 | I75: =IF(H75<=25%,"Media geométrica",IF(H75<=50%,"Media aritmética",IF(H75<=75%,"Mediana","Media armónica"))) -> Media geométrica | J75: =IF(H75<=25%,'ANALISIS DE COTIZACCIONES'!M75,IF(H75<=50%,'ANALISIS DE COTIZACCIONES'!L75,IF(H75<=75%,'ANALISIS DE COTIZACCIONES'!N75,'ANALISIS DE COTIZACCIONES'!O75))) -> 1153085.8
A76: LOTE B | B76: 64 | C76: Escritorio en L 150 x 150 cm | D76: =+'ANALISIS DE COTIZACCIONES'!M76 -> 1605379.7 | E76: =+'ANALISIS DE COTIZACCIONES'!L76 -> 2025502.3 | F76: =+'ANALISIS DE COTIZACCIONES'!N76 -> 1735559.6 | G76: =+'ANALISIS DE COTIZACCIONES'!O76 -> 1277362.9 | H76: ='ANALISIS DE COTIZACCIONES'!K76/'ANALISIS DE COTIZACCIONES'!L76 -> 0.64226411 | I76: =IF(H76<=25%,"Media geométrica",IF(H76<=50%,"Media aritmética",IF(H76<=75%,"Mediana","Media armónica"))) -> Mediana | J76: =IF(H76<=25%,'ANALISIS DE COTIZACCIONES'!M76,IF(H76<=50%,'ANALISIS DE COTIZACCIONES'!L76,IF(H76<=75%,'ANALISIS DE COTIZACCIONES'!N76,'ANALISIS DE COTIZACCIONES'!O76))) -> 1735559.6
A77: LOTE B | B77: 65 | C77: Silla ergonómica con soporte lumbar y ajuste de altura | D77: =+'ANALISIS DE COTIZACCIONES'!M77 -> 445478.45 | E77: =+'ANALISIS DE COTIZACCIONES'!L77 -> 520715.08 | F77: =+'ANALISIS DE COTIZACCIONES'!N77 -> 500985.16 | G77: =+'ANALISIS DE COTIZACCIONES'!O77 -> 373130.2 | H77: ='ANALISIS DE COTIZACCIONES'!K77/'ANALISIS DE COTIZACCIONES'!L77 -> 0.5100068 | I77: =IF(H77<=25%,"Media geométrica",IF(H77<=50%,"Media aritmética",IF(H77<=75%,"Mediana","Media armónica"))) -> Mediana | J77: =IF(H77<=25%,'ANALISIS DE COTIZACCIONES'!M77,IF(H77<=50%,'ANALISIS DE COTIZACCIONES'!L77,IF(H77<=75%,'ANALISIS DE COTIZACCIONES'!N77,'ANALISIS DE COTIZACCIONES'!O77))) -> 500985.16
A78: LOTE B | B78: 66 | C78: Punto ecologico industrial 3 puestos (aprovechables, no aprovechables y orgánicos) | D78: =+'ANALISIS DE COTIZACCIONES'!M78 -> 772941.58 | E78: =+'ANALISIS DE COTIZACCIONES'!L78 -> 848497.59 | F78: =+'ANALISIS DE COTIZACCIONES'!N78 -> 809400 | G78: =+'ANALISIS DE COTIZACCIONES'!O78 -> 698201.84 | H78: ='ANALISIS DE COTIZACCIONES'!K78/'ANALISIS DE COTIZACCIONES'!L78 -> 0.41340495 | I78: =IF(H78<=25%,"Media geométrica",IF(H78<=50%,"Media aritmética",IF(H78<=75%,"Mediana","Media armónica"))) -> Media aritmética | J78: =IF(H78<=25%,'ANALISIS DE COTIZACCIONES'!M78,IF(H78<=50%,'ANALISIS DE COTIZACCIONES'!L78,IF(H78<=75%,'ANALISIS DE COTIZACCIONES'!N78,'ANALISIS DE COTIZACCIONES'!O78))) -> 848497.59
A79: LOTE B | B79: 67 | C79: Tablero acrílico blanco 120 x 140 cm | D79: =+'ANALISIS DE COTIZACCIONES'!M79 -> 717224.29 | E79: =+'ANALISIS DE COTIZACCIONES'!L79 -> 773639.5 | F79: =+'ANALISIS DE COTIZACCIONES'!N79 -> 619884 | G79: =+'ANALISIS DE COTIZACCIONES'!O79 -> 675439.84 | H79: ='ANALISIS DE COTIZACCIONES'!K79/'ANALISIS DE COTIZACCIONES'!L79 -> 0.42616844 | I79: =IF(H79<=25%,"Media geométrica",IF(H79<=50%,"Media aritmética",IF(H79<=75%,"Mediana","Media armónica"))) -> Media aritmética | J79: =IF(H79<=25%,'ANALISIS DE COTIZACCIONES'!M79,IF(H79<=50%,'ANALISIS DE COTIZACCIONES'!L79,IF(H79<=75%,'ANALISIS DE COTIZACCIONES'!N79,'ANALISIS DE COTIZACCIONES'!O79))) -> 773639.5
A80: LOTE B | B80: 68 | C80: Carpa plegable impermeable tipo acordeón para exteriores 3x3 m | D80: =+'ANALISIS DE COTIZACCIONES'!M80 -> 876935.29 | E80: =+'ANALISIS DE COTIZACCIONES'!L80 -> 1337952.5 | F80: =+'ANALISIS DE COTIZACCIONES'!N80 -> 1178000 | G80: =+'ANALISIS DE COTIZACCIONES'!O80 -> 577119.49 | H80: ='ANALISIS DE COTIZACCIONES'!K80/'ANALISIS DE COTIZACCIONES'!L80 -> 0.77371315 | I80: =IF(H80<=25%,"Media geométrica",IF(H80<=50%,"Media aritmética",IF(H80<=75%,"Mediana","Media armónica"))) -> Media armónica | J80: =IF(H80<=25%,'ANALISIS DE COTIZACCIONES'!M80,IF(H80<=50%,'ANALISIS DE COTIZACCIONES'!L80,IF(H80<=75%,'ANALISIS DE COTIZACCIONES'!N80,'ANALISIS DE COTIZACCIONES'!O80))) -> 577119.49
A81: LOTE C | B81: 69 | C81: Cemento bulto x 50 kg | D81: =+'ANALISIS DE COTIZACCIONES'!M86 -> 48112.531 | E81: =+'ANALISIS DE COTIZACCIONES'!L86 -> 48584.48 | F81: =+'ANALISIS DE COTIZACCIONES'!N86 -> 50903.44 | G81: =+'ANALISIS DE COTIZACCIONES'!O86 -> 47621.232 | H81: ='ANALISIS DE COTIZACCIONES'!K86/'ANALISIS DE COTIZACCIONES'!L86 -> 0.13576662 | I81: =IF(H81<=25%,"Media geométrica",IF(H81<=50%,"Media aritmética",IF(H81<=75%,"Mediana","Media armónica"))) -> Media geométrica | J81: =IF(H81<=25%,'ANALISIS DE COTIZACCIONES'!M86,IF(H81<=50%,'ANALISIS DE COTIZACCIONES'!L86,IF(H81<=75%,'ANALISIS DE COTIZACCIONES'!N86,'ANALISIS DE COTIZACCIONES'!O86))) -> 48112.531
A82: LOTE C | B82: 70 | C82: Mixto metro cúbico (m³) | D82: =+'ANALISIS DE COTIZACCIONES'!M87 -> 258750.99 | E82: =+'ANALISIS DE COTIZACCIONES'!L87 -> 261733.47 | F82: =+'ANALISIS DE COTIZACCIONES'!N87 -> 272800 | G82: =+'ANALISIS DE COTIZACCIONES'!O87 -> 255657.1 | H82: ='ANALISIS DE COTIZACCIONES'!K87/'ANALISIS DE COTIZACCIONES'!L87 -> 0.14719327 | I82: =IF(H82<=25%,"Media geométrica",IF(H82<=50%,"Media aritmética",IF(H82<=75%,"Mediana","Media armónica"))) -> Media geométrica | J82: =IF(H82<=25%,'ANALISIS DE COTIZACCIONES'!M87,IF(H82<=50%,'ANALISIS DE COTIZACCIONES'!L87,IF(H82<=75%,'ANALISIS DE COTIZACCIONES'!N87,'ANALISIS DE COTIZACCIONES'!O87))) -> 258750.99
A83: LOTE C | B83: 71 | C83: Caja de baldosas para piso 60x60 cm | D83: =+'ANALISIS DE COTIZACCIONES'!M88 -> 102089.43 | E83: =+'ANALISIS DE COTIZACCIONES'!L88 -> 106353.71 | F83: =+'ANALISIS DE COTIZACCIONES'!N88 -> 100800.14 | G83: =+'ANALISIS DE COTIZACCIONES'!O88 -> 98045.701 | H83: ='ANALISIS DE COTIZACCIONES'!K88/'ANALISIS DE COTIZACCIONES'!L88 -> 0.28488859 | I83: =IF(H83<=25%,"Media geométrica",IF(H83<=50%,"Media aritmética",IF(H83<=75%,"Mediana","Media armónica"))) -> Media aritmética | J83: =IF(H83<=25%,'ANALISIS DE COTIZACCIONES'!M88,IF(H83<=50%,'ANALISIS DE COTIZACCIONES'!L88,IF(H83<=75%,'ANALISIS DE COTIZACCIONES'!N88,'ANALISIS DE COTIZACCIONES'!O88))) -> 106353.71
A84: LOTE C | B84: 72 | C84: Arena metro cúbico (m³) | D84: =+'ANALISIS DE COTIZACCIONES'!M89 -> 182952.04 | E84: =+'ANALISIS DE COTIZACCIONES'!L89 -> 191962.67 | F84: =+'ANALISIS DE COTIZACCIONES'!N89 -> 153000 | G84: =+'ANALISIS DE COTIZACCIONES'!O89 -> 175420 | H84: ='ANALISIS DE COTIZACCIONES'!K89/'ANALISIS DE COTIZACCIONES'!L89 -> 0.32457608 | I84: =IF(H84<=25%,"Media geométrica",IF(H84<=50%,"Media aritmética",IF(H84<=75%,"Mediana","Media armónica"))) -> Media aritmética | J84: =IF(H84<=25%,'ANALISIS DE COTIZACCIONES'!M89,IF(H84<=50%,'ANALISIS DE COTIZACCIONES'!L89,IF(H84<=75%,'ANALISIS DE COTIZACCIONES'!N89,'ANALISIS DE COTIZACCIONES'!O89))) -> 191962.67
A85: LOTE C | B85: 73 | C85: Varilla ½ pulgada barra de 6 metros | D85: =+'ANALISIS DE COTIZACCIONES'!M90 -> 38492.677 | E85: =+'ANALISIS DE COTIZACCIONES'!L90 -> 38631.72 | F85: =+'ANALISIS DE COTIZACCIONES'!N90 -> 40655.16 | G85: =+'ANALISIS DE COTIZACCIONES'!O90 -> 38348.518 | H85: ='ANALISIS DE COTIZACCIONES'!K90/'ANALISIS DE COTIZACCIONES'!L90 -> 0.08310573 | I85: =IF(H85<=25%,"Media geométrica",IF(H85<=50%,"Media aritmética",IF(H85<=75%,"Mediana","Media armónica"))) -> Media geométrica | J85: =IF(H85<=25%,'ANALISIS DE COTIZACCIONES'!M90,IF(H85<=50%,'ANALISIS DE COTIZACCIONES'!L90,IF(H85<=75%,'ANALISIS DE COTIZACCIONES'!N90,'ANALISIS DE COTIZACCIONES'!O90))) -> 38492.677
...

Sheet PRECIOS DE REFERENCIA
A1: ÍTEM | B1: PRODUCTO / DESCRIPCIÓN | C1: UNIDAD | D1: CANT | E1: PRECIO DE REFERENCIA UNITARIO INCLUIDO IVA
A2: 1 | B2: Cepillo de dientes | C2: UNIDAD | D2: 1 | E2: 5125
A3: 2 | B3: Crema dental | C3: UNIDAD | D3: 1 | E3: 9008
A4: 3 | B4: Desodorante | C4: UNIDAD | D4: 1 | E4: 6563
A5: 4 | B5: Shampoo | C5: UNIDAD | D5: 1 | E5: 7450
A6: 5 | B6: Jabón de baño | C6: UNIDAD | D6: 1 | E6: 5270
A7: 6 | B7: Jabón para lavar ropa | C7: UNIDAD | D7: 1 | E7: 3850
A8: 7 | B8: Máquina de afeitar | C8: UNIDAD | D8: 1 | E8: 5381
A9: 8 | B9: Papel higiénico | C9: UNIDAD | D9: 1 | E9: 13768
A10: 9 | B10: Cepillo de dientes | C10: UNIDAD | D10: 1 | E10: 5125
A11: 10 | B11: Crema dental | C11: UNIDAD | D11: 1 | E11: 9008
A12: 11 | B12: Desodorante | C12: UNIDAD | D12: 1 | E12: 6625
A13: 12 | B13: Shampoo | C13: UNIDAD | D13: 1 | E13: 7450
... A185: 184 | B185: Burbujeros pequeños | C185: UNIDAD | D185: 1 | E185: 10065
