Workbook

Sheet ANALISIS DE COTIZACCIONES
A2: LOTE A
A4: KITS DE BIENESTAR, UTILES, ASEO PERSONAL, APOYO ALIMENTARIO, DESECHABLES | G4: BLUES SOLUCIONES | H4: CI5 LOGISTICA | I4: TALENTO | J4: LICCONT | K4: MEDIDAS DE TENDENCIA CENTRAL
A5: ÍTEM | B5: CÓDIGO UNSPSC | C5: ELEMENTO | D5: DESCRIPCIÓN | E5: ESPECIFICACIONES TÉCNICAS | F5: UNIDAD DE MEDIA | G5: VALOR TOTAL | H5: VALOR TOTAL | I5: VALOR TOTAL | J5: VALOR TOTAL | K5: DESVIACIÓN ESTÁNDAR | L5: MEDIA ARITMÉTICA | M5: MEDIA GEOMÉTRICA | N5: MEDIANA | O5: MEDIA ARMÓNICA | P5: PRECIO MÍNIMO | Q5: PRECIO MÁXIMO
A6: 1 | B6: 53131600 | C6: KIT DE ASEO BÁSICO HOMBRE | D6: Cepillo de dientes | E6: Cepillo dental para adulto con cerdas suaves, mango ergonómico de plástico, empaque individual sellado. | F6: Unidad | G6: 2210 | H6: 5500 | I6: 10505.32 | J6: 4750 | K6: =IF(COUNT(G6:J6)>=2,_xlfn.STDEV.P(G6:J6),"") -> 3008.6071 | L6: =AVERAGE(G6:J6) -> 5741.33 | M6: =GEOMEAN(G6:J6) -> 4962.6593 | N6: =MEDIAN(G6:J6) -> 5125 | O6: =HARMEAN(G6:J6) -> 4255.2148 | P6: =MIN(G6:J6) -> 2210 | Q6: =MAX(G6:J6) -> 10505.32
A7: 2 | D7: Crema dental | E7: Crema de dientes con flúor, presentación mínima de 60 ml, empaque original sellado. | F7: Unidad | G7: 8670 | H7: 10463 | I7: 6944.84 | J7: 10450 | K7: =IF(COUNT(G7:J7)>=2,_xlfn.STDEV.P(G7:J7),"") -> 1458.2351 | L7: =AVERAGE(G7:J7) -> 9131.96 | M7: =GEOMEAN(G7:J7) -> 9007.6907 | N7: =MEDIAN(G7:J7) -> 9560 | O7: =HARMEAN(G7:J7) -> 8877.0387 | P7: =MIN(G7:J7) -> 6944.84 | Q7: =MAX(G7:J7) -> 10463
A8: 3 | D8: Desodorante | E8: Desodorante para hombre en crema tipo sachet o tubo, presentación mínima de 30 g. | F8: Unidad | G8: 4666.5 | H8: 5139 | I8: 6944.84 | J8: 9500 | K8: =IF(COUNT(G8:J8)>=2,_xlfn.STDEV.P(G8:J8),"") -> 1897.1201 | L8: =AVERAGE(G8:J8) -> 6562.585 | M8: =GEOMEAN(G8:J8) -> 6306.8708 | N8: =MEDIAN(G8:J8) -> 6041.92 | O8: =HARMEAN(G8:J8) -> 6077.7461 | P8: =MIN(G8:J8) -> 4666.5 | Q8: =MAX(G8:J8) -> 9500
A9: 4 | D9: Shampoo | E9: Shampoo para higiene capilar, presentación en bolsa flexible resellable (doypack) de 90 ml a 120 ml, apto para uso diario, empaque original sellado. | F9: Unidad | G9: 2499 | H9: 14245 | I9: 7300.65 | J9: 7600 | K9: =IF(COUNT(G9:J9)>=2,_xlfn.STDEV.P(G9:J9),"") -> 4179.6695 | L9: =AVERAGE(G9:J9) -> 7911.1625 | M9: =GEOMEAN(G9:J9) -> 6666.5472 | N9: =MEDIAN(G9:J9) -> 7450.325 | O9: =HARMEAN(G9:J9) -> 5413.3558 | P9: =MIN(G9:J9) -> 2499 | Q9: =MAX(G9:J9) -> 14245
A10: 5 | D10: Jabón de baño | E10: Jabón de tocador en barra para higiene corporal, peso mínimo de 90 g | F10: Unidad | G10: 3595.5 | H10: 6249 | I10: 5163.41 | J10: 6650 | K10: =IF(COUNT(G10:J10)>=2,_xlfn.STDEV.P(G10:J10),"") -> 1182.6514 | L10: =AVERAGE(G10:J10) -> 5414.4775 | M10: =GEOMEAN(G10:J10) -> 5270.2597 | N10: =MEDIAN(G10:J10) -> 5706.205 | O10: =HARMEAN(G10:J10) -> 5113.7984 | P10: =MIN(G10:J10) -> 3595.5 | Q10: =MAX(G10:J10) -> 6650
A11: 6 | D11: Jabón para lavar ropa | E11: Jabón en barra para lavado de prendas, peso mínimo de 200 g. | F11: Unidad | G11: 4100 | H11: 2215 | I11: 3383.17 | J11: 5700 | K11: =IF(COUNT(G11:J11)>=2,_xlfn.STDEV.P(G11:J11),"") -> 1262.5524 | L11: =AVERAGE(G11:J11) -> 3849.5425 | M11: =GEOMEAN(G11:J11) -> 3637.8021 | N11: =MEDIAN(G11:J11) -> 3741.585 | O11: =HARMEAN(G11:J11) -> 3429.3874 | P11: =MIN(G11:J11) -> 2215 | Q11: =MAX(G11:J11) -> 5700
A12: 7 | D12: Máquina de afeitar | E12: Máquina de afeitar desechable de una o más hojas, empaque individual sellado. | F12: Unidad | G12: 5785.627 | H12: 6490 | I12: 3918.67 | J12: 5700 | K12: =IF(COUNT(G12:J12)>=2,_xlfn.STDEV.P(G12:J12),"") -> 948.61663 | L12: =AVERAGE(G12:J12) -> 5473.5742 | M12: =GEOMEAN(G12:J12) -> 5381.4854 | N12: =MEDIAN(G12:J12) -> 5742.8135 | O12: =HARMEAN(G12:J12) -> 5280.1618 | P12: =MIN(G12:J12) -> 3918.67 | Q12: =MAX(G12:J12) -> 6490
A13: 8 | D13: Papel higiénico | E13: Papel higiénico triple hoja, color blanco, presentación de 4 rollos, empaque sellado | F13: Unidad | G13: 12495 | H13: 15400 | I13: 12286.75 | J13: 15200 | K13: =IF(COUNT(G13:J13)>=2,_xlfn.STDEV.P(G13:J13),"") -> 1458.1403 | L13: =AVERAGE(G13:J13) -> 13845.438 | M13: =GEOMEAN(G13:J13) -> 13768.429 | N13: =MEDIAN(G13:J13) -> 13847.5 | O13: =HARMEAN(G13:J13) -> 13691.829 | P13: =MIN(G13:J13) -> 12286.75 | Q13: =MAX(G13:J13) -> 15400
A14: 9 | B14: 53131600 | C14: KIT DE ASEO BÁSICO MUJER | D14: Cepillo de dientes | E14: Cepillo dental para adulto con cerdas suaves, mango ergonómico de plástico, empaque individual sellado. | F14: Unidad | G14: 2210 | H14: 5500 | I14: 10505.32 | J14: 4750 | K14: =IF(COUNT(G14:J14)>=2,_xlfn.STDEV.P(G14:J14),"") -> 3008.6071 | L14: =AVERAGE(G14:J14) -> 5741.33 | M14: =GEOMEAN(G14:J14) -> 4962.6593 | N14: =MEDIAN(G14:J14) -> 5125 | O14: =HARMEAN(G14:J14) -> 4255.2148 | P14: =MIN(G14:J14) -> 2210 | Q14: =MAX(G14:J14) -> 10505.32
A15: 10 | D15: Crema dental | E15: Crema de dientes con flúor, presentación mínima de 60 ml, empaque original sellado. | F15: Unidad | G15: 8670 | H15: 10463 | I15: 6944.84 | J15: 10450 | K15: =IF(COUNT(G15:J15)>=2,_xlfn.STDEV.P(G15:J15),"") -> 1458.2351 | L15: =AVERAGE(G15:J15) -> 9131.96 | M15: =GEOMEAN(G15:J15) -> 9007.6907 | N15: =MEDIAN(G15:J15) -> 9560 | O15: =HARMEAN(G15:J15) -> 8877.0387 | P15: =MIN(G15:J15) -> 6944.84 | Q15: =MAX(G15:J15) -> 10463
A16: 11 | D16: Desodorante | E16: Desodorante para mujer en crema tipo sachet o tubo, presentación mínima de 30 g. | F16: Unidad | G16: 4666.5 | H16: 5390 | I16: 6944.84 | J16: 9500 | K16: =IF(COUNT(G16:J16)>=2,_xlfn.STDEV.P(G16:J16),"") -> 1852.6245 | L16: =AVERAGE(G16:J16) -> 6625.335 | M16: =GEOMEAN(G16:J16) -> 6382.5095 | N16: =MEDIAN(G16:J16) -> 6167.42 | O16: =HARMEAN(G16:J16) -> 6162.5963 | P16: =MIN(G16:J16) -> 4666.5 | Q16: =MAX(G16:J16) -> 9500
A17: 12 | D17: Shampoo | E17: Shampoo para higiene capilar, presentación en bolsa flexible resellable (doypack) de 90 ml a 120 ml, apto para uso diario, empaque original sellado. | F17: Unidad | G17: 2499 | H17: 14245 | I17: 7300.65 | J17: 7600 | K17: =IF(COUNT(G17:J17)>=2,_xlfn.STDEV.P(G17:J17),"") -> 4179.6695 | L17: =AVERAGE(G17:J17) -> 7911.1625 | M17: =GEOMEAN(G17:J17) -> 6666.5472 | N17: =MEDIAN(G17:J17) -> 7450.325 | O17: =HARMEAN(G17:J17) -> 5413.3558 | P17: =MIN(G17:J17) -> 2499 | Q17: =MAX(G17:J17) -> 14245
A18: 13 | D18: Jabón de baño | E18: Jabón de tocador en barra para higiene corporal, peso mínimo de 90 g | F18: Unidad | G18: 3595.5 | H18: 2215 | I18: 5163.41 | J18: 6650 | K18: =IF(COUNT(G18:J18)>=2,_xlfn.STDEV.P(G18:J18),"") -> 1663.3248 | L18: =AVERAGE(G18:J18) -> 4405.9775 | M18: =GEOMEAN(G18:J18) -> 4066.5191 | N18: =MEDIAN(G18:J18) -> 4379.455 | O18: =HARMEAN(G18:J18) -> 3725.6467 | P18: =MIN(G18:J18) -> 2215 | Q18: =MAX(G18:J18) -> 6650
A19: 14 | D19: Jabón para lavar ropa | E19: Jabón en barra para lavado de prendas, peso mínimo de 200 g. | F19: Unidad | G19: 4100 | H19: 2215 | I19: 3383.17 | J19: 5700 | K19: =IF(COUNT(G19:J19)>=2,_xlfn.STDEV.P(G19:J19),"") -> 1262.5524 | L19: =AVERAGE(G19:J19) -> 3849.5425 | M19: =GEOMEAN(G19:J19) -> 3637.8021 | N19: =MEDIAN(G19:J19) -> 3741.585 | O19: =HARMEAN(G19:J19) -> 3429.3874 | P19: =MIN(G19:J19) -> 2215 | Q19: =MAX(G19:J19) -> 5700
A20: 15 | D20: Máquina de afeitar | E20: Máquina de afeitar desechable de una o más hojas, empaque individual sellado. | F20: Unidad | G20: 5785.627 | H20: 6545 | I20: 3918.67 | J20: 5700 | K20: =IF(COUNT(G20:J20)>=2,_xlfn.STDEV.P(G20:J20),"") -> 963.53122 | L20: =AVERAGE(G20:J20) -> 5487.3242 | M20: =GEOMEAN(G20:J20) -> 5392.8508 | N20: =MEDIAN(G20:J20) -> 5742.8135 | O20: =HARMEAN(G20:J20) -> 5289.2022 | P20: =MIN(G20:J20) -> 3918.67 | Q20: =MAX(G20:J20) -> 6545
A21: 16 | D21: Papel higiénico | E21: Papel higiénico triple hoja, color blanco, presentación de 4 rollos, empaque sellado | F21: Unidad | G21: 12495 | H21: 15400 | I21: 12286.75 | J21: 15200 | K21: =IF(COUNT(G21:J21)>=2,_xlfn.STDEV.P(G21:J21),"") -> 1458.1403 | L21: =AVERAGE(G21:J21) -> 13845.438 | M21: =GEOMEAN(G21:J21) -> 13768.429 | N21: =MEDIAN(G21:J21) -> 13847.5 | O21: =HARMEAN(G21:J21) -> 13691.829 | P21: =MIN(G21:J21) -> 12286.75 | Q21: =MAX(G21:J21) -> 15400
A22: 17 | D22: Toallas higiénicas | E22: Toallas higiénicas desechables para flujo regular, paquete por 10 unidades como mínimo. | F22: Unidad | G22: 4233 | H22: 5445 | I22: 10507 | J22: 8550 | K22: =IF(COUNT(G22:J22)>=2,_xlfn.STDEV.P(G22:J22),"") -> 2481.9754 | L22: =AVERAGE(G22:J22) -> 7183.75 | M22: =GEOMEAN(G22:J22) -> 6745.6336 | N22: =MEDIAN(G22:J22) -> 6997.5 | O22: =HARMEAN(G22:J22) -> 6328.8384 | P22: =MIN(G22:J22) -> 4233 | Q22: =MAX(G22:J22) -> 10507
A23: 18 | B23: 53131600 | C23: KIT DE ASEO INFANTIL | D23: Cepillo dental infantil | E23: Cepillo dental para niño con cerdas suaves, cabezal pequeño y mango ergonómico, empaque individual sellado. | F23: Unidad | G23: 2635 | H23: 3449 | I23: 6944.84 | J23: 4750 | K23: =IF(COUNT(G23:J23)>=2,_xlfn.STDEV.P(G23:J23),"") -> 1628.6759 | L23: =AVERAGE(G23:J23) -> 4444.71 | M23: =GEOMEAN(G23:J23) -> 4161.0929 | N23: =MEDIAN(G23:J23) -> 4099.5 | O23: =HARMEAN(G23:J23) -> 3906.3878 | P23: =MIN(G23:J23) -> 2635 | Q23: =MAX(G23:J23) -> 6944.84
A24: 19 | D24: Crema dental infantil | E24: Crema dental para niños con flúor, presentación mínima de 50 ml, apta para uso infantil y con registro sanitario vigente | F24: Unidad | G24: 9180 | H24: 4675 | I24: 14068.18 | J24: 11400 | K24: =IF(COUNT(G24:J24)>=2,_xlfn.STDEV.P(G24:J24),"") -> 3443.2395 | L24: =AVERAGE(G24:J24) -> 9830.795 | M24: =GEOMEAN(G24:J24) -> 9108.3931 | N24: =MEDIAN(G24:J24) -> 10290 | O24: =HARMEAN(G24:J24) -> 8304.9942 | P24: =MIN(G24:J24) -> 4675 | Q24: =MAX(G24:J24) -> 14068.18
A25: 20 | D25: Jabón de baño infantil | E25: Jabón de baño neutro para niño, hipoalergénico, dermatológicamente probado, peso mínimo de 90 g. | F25: Unidad | G25: 3595.5 | H25: 15400 | I25: 27888.84 | J25: 6650 | K25: =IF(COUNT(G25:J25)>=2,_xlfn.STDEV.P(G25:J25),"") -> 9428.8935 | L25: =AVERAGE(G25:J25) -> 13383.585 | M25: =GEOMEAN(G25:J25) -> 10066.605 | N25: =MEDIAN(G25:J25) -> 11025 | O25: =HARMEAN(G25:J25) -> 7557.2498 | P25: =MIN(G25:J25) -> 3595.5 | Q25: =MAX(G25:J25) -> 27888.84
A26: 21 | D26: Jabón para lavar ropa | E26: Jabón en barra para lavado de prendas, peso mínimo de 200 g. | F26: Unidad | G26: 4100 | H26: 3575 | I26: 3383.17 | J26: 8550 | K26: =IF(COUNT(G26:J26)>=2,_xlfn.STDEV.P(G26:J26),"") -> 2122.4327 | L26: =AVERAGE(G26:J26) -> 4902.0425 | M26: =GEOMEAN(G26:J26) -> 4537.7175 | N26: =MEDIAN(G26:J26) -> 3837.5 | O26: =HARMEAN(G26:J26) -> 4272.7622 | P26: =MIN(G26:J26) -> 3383.17 | Q26: =MAX(G26:J26) -> 8550
A27: 22 | D27: Pañitos húmedos | E27: Paquete de pañitos húmedos para bebé o uso infantil, libres de alcohol, con tapa resellable, contenido mínimo de 100 unidades. | F27: Unidad | G27: 24327 | H27: 15565 | I27: 24754.38 | J27: 24700 | K27: =IF(COUNT(G27:J27)>=2,_xlfn.STDEV.P(G27:J27),"") -> 3913.0416 | L27: =AVERAGE(G27:J27) -> 22336.595 | M27: =GEOMEAN(G27:J27) -> 21935.456 | N27: =MEDIAN(G27:J27) -> 24513.5 | O27: =HARMEAN(G27:J27) -> 21478.122 | P27: =MIN(G27:J27) -> 15565 | Q27: =MAX(G27:J27) -> 24754.38
A28: 23 | B28: 52121500 | C28: TOALLA DE CUERPO | D28: Toalla 70x120 cm | E28: Toalla para uso personal elaborada en algodón o mezcla de algodón con alta capacidad de absorción, dimensiones mínimas de 70 cm x 120 cm, color sólido, nueva y empacada individualmente. | F28: Unidad | G28: 61200 | H28: 27500 | I28: 33162.92 | J28: 66500 | K28: =IF(COUNT(G28:J28)>=2,_xlfn.STDEV.P(G28:J28),"") -> 16982.137 | L28: =AVERAGE(G28:J28) -> 47090.73 | M28: =GEOMEAN(G28:J28) -> 43892.431 | N28: =MEDIAN(G28:J28) -> 47181.46 | O28: =HARMEAN(G28:J28) -> 40859.997 | P28: =MIN(G28:J28) -> 27500 | Q28: =MAX(G28:J28) -> 66500
A29: 24 | B29: 52121500 | C29: COBIJA TÉRMICA | D29: Cobija 150x200 cm | E29: Cobija para uso personal elaborada en poliéster, microfibra, fleece o material de características similares, suave al tacto, térmica, resistente al lavado y de secado rápido. Dimensiones mínimas de 150 cm x 200 cm, nueva y empacada individualmente. | F29: Unidad | G29: 57800 | H29: 41800 | I29: 115919.09 | J29: 66500 | K29: =IF(COUNT(G29:J29)>=2,_xlfn.STDEV.P(G29:J29),"") -> 27676.134 | L29: =AVERAGE(G29:J29) -> 70504.772 | M29: =GEOMEAN(G29:J29) -> 65693.164 | N29: =MEDIAN(G29:J29) -> 62150 | O29: =HARMEAN(G29:J29) -> 61643.935 | P29: =MIN(G29:J29) -> 41800 | Q29: =MAX(G29:J29) -> 115919.09
A30: 25 | B30: 53102300 | C30: PAÑALES ADULTO MAYOR | D30: Pañales para adulto | E30: Paquete de pañales desechables para adulto, talla M, L o XL según requerimiento, con barreras antifugas, núcleo absorbente de alta capacidad, cintas ajustables o sistema de ajuste anatómico, cubierta suave e hipoalergénica. Presentación mínima de 20 unidades por paquete. | F30: Unidad | G30: 115000 | H30: 53790 | I30: 97766.83 | J30: 133000 | K30: =IF(COUNT(G30:J30)>=2,_xlfn.STDEV.P(G30:J30),"") -> 29386.655 | L30: =AVERAGE(G30:J30) -> 99889.208 | M30: =GEOMEAN(G30:J30) -> 94702.325 | N30: =MEDIAN(G30:J30) -> 106383.42 | O30: =HARMEAN(G30:J30) -> 88822.404 | P30: =MIN(G30:J30) -> 53790 | Q30: =MAX(G30:J30) -> 133000
A31: 26 | B31: 53131500 | C31: PAÑALES BEBÉ | D31: Etapa 2 | E31: Paquete de pañales desechables para bebé, etapa 2 según requerimiento, con núcleo absorbente de alta capacidad, barreras antifugas, cubierta suave e hipoalergénica y sistema de ajuste anatómico. Presentación mínima de 30 unidades por paquete. | F31: Unidad | G31: 38943.6 | H31: 47731 | I31: 97766.83 | J31: 51300 | K31: =IF(COUNT(G31:J31)>=2,_xlfn.STDEV.P(G31:J31),"") -> 22865.858 | L31: =AVERAGE(G31:J31) -> 58935.357 | M31: =GEOMEAN(G31:J31) -> 55256.883 | N31: =MEDIAN(G31:J31) -> 49515.5 | O31: =HARMEAN(G31:J31) -> 52389.964 | P31: =MIN(G31:J31) -> 38943.6 | Q31: =MAX(G31:J31) -> 97766.83
A32: 27 | D32: Etapa 3 | E32: Paquete de pañales desechables para bebé, etapa 3 según requerimiento, con núcleo absorbente de alta capacidad, barreras antifugas, cubierta suave e hipoalergénica y sistema de ajuste anatómico. Presentación mínima de 30 unidades por paquete. | F32: Unidad | G32: 50503.6 | H32: 50349 | I32: 74616.57 | J32: 62700 | K32: =IF(COUNT(G32:J32)>=2,_xlfn.STDEV.P(G32:J32),"") -> 10042.653 | L32: =AVERAGE(G32:J32) -> 59542.293 | M32: =GEOMEAN(G32:J32) -> 58729.189 | N32: =MEDIAN(G32:J32) -> 56601.8 | O32: =HARMEAN(G32:J32) -> 57960.306 | P32: =MIN(G32:J32) -> 50349 | Q32: =MAX(G32:J32) -> 74616.57
A33: 28 | D33: Etapa 4 | E33: Paquete de pañales desechables para bebé, etapa 4, según requerimiento, con núcleo absorbente de alta capacidad, barreras antifugas, cubierta suave e hipoalergénica y sistema de ajuste anatómico. Presentación mínima de 30 unidades por paquete. | F33: Unidad | G33: 57728.6 | H33: 72603 | I33: 90642.3 | J33: 76000 | K33: =IF(COUNT(G33:J33)>=2,_xlfn.STDEV.P(G33:J33),"") -> 11698.708 | L33: =AVERAGE(G33:J33) -> 74243.475 | M33: =GEOMEAN(G33:J33) -> 73303.131 | N33: =MEDIAN(G33:J33) -> 74301.5 | O33: =HARMEAN(G33:J33) -> 72350.729 | P33: =MIN(G33:J33) -> 57728.6 | Q33: =MAX(G33:J33) -> 90642.3
A34: 29 | B34: 50193000 | C34: KIT DE MERCADO BÁSICO | D34: Aceite vegetal | E34: Aceite comestible vegetal refinado, presentación botella PET de 1 litro, apto para consumo humano, con registro sanitario vigente. | F34: Unidad | G34: 14450 | H34: 10945 | I34: 33465.18 | J34: 20710 | K34: =IF(COUNT(G34:J34)>=2,_xlfn.STDEV.P(G34:J34),"") -> 8581.4409 | L34: =AVERAGE(G34:J34) -> 19892.545 | M34: =GEOMEAN(G34:J34) -> 18195.509 | N34: =MEDIAN(G34:J34) -> 17580 | O34: =HARMEAN(G34:J34) -> 16754.788 | P34: =MIN(G34:J34) -> 10945 | Q34: =MAX(G34:J34) -> 33465.18
A35: 30 | D35: Arroz | E35: Arroz blanco de primera calidad, empacado en bolsa sellada de 1 kg, libre de impurezas y humedad excesiva. | F35: Unidad | G35: 3570 | H35: 7700 | I35: 3662 | J35: 3420 | K35: =IF(COUNT(G35:J35)>=2,_xlfn.STDEV.P(G35:J35),"") -> 1798.789 | L35: =AVERAGE(G35:J35) -> 4588 | M35: =GEOMEAN(G35:J35) -> 4307.5056 | N35: =MEDIAN(G35:J35) -> 3616 | O35: =HARMEAN(G35:J35) -> 4100.6519 | P35: =MIN(G35:J35) -> 3420 | Q35: =MAX(G35:J35) -> 7700
A36: 31 | D36: Azúcar | E36: Azúcar blanca refinada, presentación de 500 g, empaque sellado y en buen estado. | F36: Unidad | G36: 5270 | H36: 3061 | I36: 8148 | J36: 3800 | K36: =IF(COUNT(G36:J36)>=2,_xlfn.STDEV.P(G36:J36),"") -> 1946.989 | L36: =AVERAGE(G36:J36) -> 5069.75 | M36: =GEOMEAN(G36:J36) -> 4727.4521 | N36: =MEDIAN(G36:J36) -> 4535 | O36: =HARMEAN(G36:J36) -> 4432.9614 | P36: =MIN(G36:J36) -> 3061 | Q36: =MAX(G36:J36) -> 8148
A37: 32 | D37: Café | E37: Café molido tostado, presentación de 500 g, empacado herméticamente. | F37: Unidad | G37: 26630 | H37: 13750 | I37: 19679.1 | J37: 43700 | K37: =IF(COUNT(G37:J37)>=2,_xlfn.STDEV.P(G37:J37),"") -> 11221.505 | L37: =AVERAGE(G37:J37) -> 25939.775 | M37: =GEOMEAN(G37:J37) -> 23688.64 | N37: =MEDIAN(G37:J37) -> 23154.55 | O37: =HARMEAN(G37:J37) -> 21741.785 | P37: =MIN(G37:J37) -> 13750 | Q37: =MAX(G37:J37) -> 43700
A38: 33 | D38: Salchicha enlatada | E38: Salchicha tipo Viena enlatada, presentación aproximada de 150 g con 7 unidades, lista para consumo, con sistema abre fácil. | F38: Unidad | G38: 10200 | H38: 5170 | I38: 6887.72 | J38: 13680 | K38: =IF(COUNT(G38:J38)>=2,_xlfn.STDEV.P(G38:J38),"") -> 3258.5295 | L38: =AVERAGE(G38:J38) -> 8984.43 | M38: =GEOMEAN(G38:J38) -> 8395.8191 | N38: =MEDIAN(G38:J38) -> 8543.86 | O38: =HARMEAN(G38:J38) -> 7847.0122 | P38: =MIN(G38:J38) -> 5170 | Q38: =MAX(G38:J38) -> 13680
A39: 34 | D39: Maíz pira | E39: Maíz para crispetas de primera calidad, presentación de 500 g, empacado y sellado. | F39: Unidad | G39: 3145 | H39: 5665 | I39: 4032.91 | J39: 5700 | K39: =IF(COUNT(G39:J39)>=2,_xlfn.STDEV.P(G39:J39),"") -> 1092.9016 | L39: =AVERAGE(G39:J39) -> 4635.7275 | M39: =GEOMEAN(G39:J39) -> 4498.6115 | N39: =MEDIAN(G39:J39) -> 4848.955 | O39: =HARMEAN(G39:J39) -> 4357.8395 | P39: =MIN(G39:J39) -> 3145 | Q39: =MAX(G39:J39) -> 5700
A40: 35 | D40: Chocolate | E40: Chocolate de mesa en pastilla, presentación de 500 g, apto para preparación de bebidas calientes. | F40: Unidad | G40: 18445 | H40: 18548 | I40: 10534.65 | J40: 24700 | K40: =IF(COUNT(G40:J40)>=2,_xlfn.STDEV.P(G40:J40),"") -> 5027.5944 | L40: =AVERAGE(G40:J40) -> 18056.912 | M40: =GEOMEAN(G40:J40) -> 17273.216 | N40: =MEDIAN(G40:J40) -> 18496.5 | O40: =HARMEAN(G40:J40) -> 16424.402 | P40: =MIN(G40:J40) -> 10534.65 | Q40: =MAX(G40:J40) -> 24700
A41: 36 | D41: Fríjol | E41: Frijol bola roja seco, limpio y seleccionado, presentación de 500 g en bolsa sellada. | F41: Unidad | G41: 7973 | H41: 10945 | I41: 9240 | J41: 11780 | K41: =IF(COUNT(G41:J41)>=2,_xlfn.STDEV.P(G41:J41),"") -> 1478.7489 | L41: =AVERAGE(G41:J41) -> 9984.5 | M41: =GEOMEAN(G41:J41) -> 9872.1944 | N41: =MEDIAN(G41:J41) -> 10092.5 | O41: =HARMEAN(G41:J41) -> 9758.383 | P41: =MIN(G41:J41) -> 7973 | Q41: =MAX(G41:J41) -> 11780
A42: 37 | D42: Lenteja | E42: Lenteja seca seleccionada, libre de impurezas, presentación de 500 g en bolsa sellada. | F42: Unidad | G42: 3570 | H42: 3839 | I42: 4082 | J42: 4750 | K42: =IF(COUNT(G42:J42)>=2,_xlfn.STDEV.P(G42:J42),"") -> 437.47136 | L42: =AVERAGE(G42:J42) -> 4060.25 | M42: =GEOMEAN(G42:J42) -> 4037.5065 | N42: =MEDIAN(G42:J42) -> 3960.5 | O42: =HARMEAN(G42:J42) -> 4015.6578 | P42: =MIN(G42:J42) -> 3570 | Q42: =MAX(G42:J42) -> 4750
A43: 38 | D43: Harina de maíz | E43: Harina precocida de maíz para consumo humano, presentación de 500 g. | F43: Unidad | G43: 4590 | H43: 2959 | I43: 2822.4 | J43: 2850 | K43: =IF(COUNT(G43:J43)>=2,_xlfn.STDEV.P(G43:J43),"") -> 743.44944 | L43: =AVERAGE(G43:J43) -> 3305.35 | M43: =GEOMEAN(G43:J43) -> 3232.9968 | N43: =MEDIAN(G43:J43) -> 2904.5 | O43: =HARMEAN(G43:J43) -> 3172.0793 | P43: =MIN(G43:J43) -> 2822.4 | Q43: =MAX(G43:J43) -> 4590
A44: 39 | D44: Leche en polvo | E44: Leche entera en polvo, presentación de 500 g, con registro sanitario vigente. | F44: Unidad | G44: 20910 | H44: 23980 | I44: 14952 | J44: 16150 | K44: =IF(COUNT(G44:J44)>=2,_xlfn.STDEV.P(G44:J44),"") -> 3638.5879 | L44: =AVERAGE(G44:J44) -> 18998 | M44: =GEOMEAN(G44:J44) -> 18653.862 | N44: =MEDIAN(G44:J44) -> 18530 | O44: =HARMEAN(G44:J44) -> 18321.258 | P44: =MIN(G44:J44) -> 14952 | Q44: =MAX(G44:J44) -> 23980
A45: 40 | D45: Caja de aromáticas | E45: Caja de infusiones aromáticas surtidas, mínimo 20 sobres individuales. | F45: Unidad | G45: 3950 | H45: 5005 | I45: 3662.82 | J45: 5320 | K45: =IF(COUNT(G45:J45)>=2,_xlfn.STDEV.P(G45:J45),"") -> 694.59138 | L45: =AVERAGE(G45:J45) -> 4484.455 | M45: =GEOMEAN(G45:J45) -> 4430.2894 | N45: =MEDIAN(G45:J45) -> 4477.5 | O45: =HARMEAN(G45:J45) -> 4376.6148 | P45: =MIN(G45:J45) -> 3662.82 | Q45: =MAX(G45:J45) -> 5320
A46: 41 | D46: Lomito de atún x3 | E46: Lomito de atún en agua o aceite vegetal, lata entre 80 g y 170 g | F46: Unidad | G46: 16490 | H46: 16720 | I46: 6465.27 | J46: 31350 | K46: =IF(COUNT(G46:J46)>=2,_xlfn.STDEV.P(G46:J46),"") -> 8873.4643 | L46: =AVERAGE(G46:J46) -> 17756.318 | M46: =GEOMEAN(G46:J46) -> 15375.183 | N46: =MEDIAN(G46:J46) -> 16605 | O46: =HARMEAN(G46:J46) -> 13028.385 | P46: =MIN(G46:J46) -> 6465.27 | Q46: =MAX(G46:J46) -> 31350
... A50: 45 | D50: Harina de trigo | E50: Harina de trigo fortificada para consumo humano, presentación de 500 g. | F50: Unidad | G50: 3570 | H50: 2915 | I50: 2822.4 | J50: 3800 | K50: =IF(COUNT(G50:J50)>=2,_xlfn.STDEV.P(G50:J50),"") -> 417.4575 | L50: =AVERAGE(G50:J50) -> 3276.85 | M50: =GEOMEAN(G50:J50) -> 3250.3283 | N50: =MEDIAN(G50:J50) -> 3242.5 | O50: =HARMEAN(G50:J50) -> 3224.1645 | P50: =MIN(G50:J50) -> 2822.4 | Q50: =MAX(G50:J50) -> 3800
A51: 46 | B51: 14111700 | C51: KIT DE DESECHABLES | D51: Platos desechables | E51: Platos desechables planos de uso alimentario, fabricados en cartón, bagazo, polipropileno o material equivalente apto para alimentos, diámetro mínimo de 22 cm, paquete por 20 unidades. | F51: Unidad | G51: 8840 | H51: 5005 | I51: 7173.32 | J51: 19000 | K51: =IF(COUNT(G51:J51)>=2,_xlfn.STDEV.P(G51:J51),"") -> 5368.558 | L51: =AVERAGE(G51:J51) -> 10004.58 | M51: =GEOMEAN(G51:J51) -> 8812.1633 | N51: =MEDIAN(G51:J51) -> 8006.66 | O51: =HARMEAN(G51:J51) -> 7921.4287 | P51: =MIN(G51:J51) -> 5005 | Q51: =MAX(G51:J51) -> 19000
A52: 47 | D52: Vasos desechables | E52: Vasos desechables para bebidas frías, capacidad mínima de 7 onzas (200 ml), paquete por 20 unidades. | F52: Unidad | G52: 4930 | H52: 4015 | I52: 4788.56 | J52: 5700 | K52: =IF(COUNT(G52:J52)>=2,_xlfn.STDEV.P(G52:J52),"") -> 597.83323 | L52: =AVERAGE(G52:J52) -> 4858.39 | M52: =GEOMEAN(G52:J52) -> 4821.1769 | N52: =MEDIAN(G52:J52) -> 4859.28 | O52: =HARMEAN(G52:J52) -> 4783.6853 | P52: =MIN(G52:J52) -> 4015 | Q52: =MAX(G52:J52) -> 5700
A53: 48 | D53: Vasos bebidas calientes | E53: Vasos desechables de papel para bebidas calientes, capacidad mínima de 8 onzas (240 ml), resistentes a líquidos calientes, paquete por 20 unidades. | F53: Unidad | G53: 4250 | H53: 9922 | I53: 6550.95 | J53: 7600 | K53: =IF(COUNT(G53:J53)>=2,_xlfn.STDEV.P(G53:J53),"") -> 2039.3722 | L53: =AVERAGE(G53:J53) -> 7080.7375 | M53: =GEOMEAN(G53:J53) -> 6769.0311 | N53: =MEDIAN(G53:J53) -> 7075.475 | O53: =HARMEAN(G53:J53) -> 6448.4011 | P53: =MIN(G53:J53) -> 4250 | Q53: =MAX(G53:J53) -> 9922
A54: 49 | D54: Cucharas soperas | E54: Cucharas desechables para alimentos, fabricadas en material apto para contacto con alimentos, paquete por 20 unidades. | F54: Unidad | G54: 3060 | H54: 1980 | I54: 8316.91 | J54: 6650 | K54: =IF(COUNT(G54:J54)>=2,_xlfn.STDEV.P(G54:J54),"") -> 2579.1656 | L54: =AVERAGE(G54:J54) -> 5001.7275 | M54: =GEOMEAN(G54:J54) -> 4278.5101 | N54: =MEDIAN(G54:J54) -> 4855 | O54: =HARMEAN(G54:J54) -> 3628.2469 | P54: =MIN(G54:J54) -> 1980 | Q54: =MAX(G54:J54) -> 8316.91
A55: 50 | D55: Cucharas postre | E55: Cucharas desechables para postre, fabricadas en material apto para contacto con alimentos, paquete por 20 unidades. | F55: Unidad | G55: 3060 | H55: 2915 | I55: 7896.84 | J55: 5700 | K55: =IF(COUNT(G55:J55)>=2,_xlfn.STDEV.P(G55:J55),"") -> 2058.3171 | L55: =AVERAGE(G55:J55) -> 4892.96 | M55: =GEOMEAN(G55:J55) -> 4476.3295 | N55: =MEDIAN(G55:J55) -> 4380 | O55: =HARMEAN(G55:J55) -> 4115.5562 | P55: =MIN(G55:J55) -> 2915 | Q55: =MAX(G55:J55) -> 7896.84
A56: 51 | D56: Tenedores | E56: Tenedores desechables resistentes, aptos para consumo de alimentos, paquete por 20 unidades. | F56: Unidad | G56: 3060 | H56: 4565 | I56: 7896.84 | J56: 6650 | K56: =IF(COUNT(G56:J56)>=2,_xlfn.STDEV.P(G56:J56),"") -> 1863.3159 | L56: =AVERAGE(G56:J56) -> 5542.96 | M56: =GEOMEAN(G56:J56) -> 5204.2637 | N56: =MEDIAN(G56:J56) -> 5607.5 | O56: =HARMEAN(G56:J56) -> 4861.0688 | P56: =MIN(G56:J56) -> 3060 | Q56: =MAX(G56:J56) -> 7896.84
A57: 52 | D57: Cuchillos | E57: Cuchillos desechables resistentes, aptos para consumo de alimentos, paquete por 20 unidades. | F57: Unidad | G57: 3060 | H57: 6072 | I57: 7896.84 | J57: 6650 | K57: =IF(COUNT(G57:J57)>=2,_xlfn.STDEV.P(G57:J57),"") -> 1777.885 | L57: =AVERAGE(G57:J57) -> 5919.71 | M57: =GEOMEAN(G57:J57) -> 5588.9734 | N57: =MEDIAN(G57:J57) -> 6361 | O57: =HARMEAN(G57:J57) -> 5204.9675 | P57: =MIN(G57:J57) -> 3060 | Q57: =MAX(G57:J57) -> 7896.84
A58: 53 | D58: Contenedores alimentos | E58: Recipientes desechables para alimentos preparados, con tapa o sistema de cierre, fabricados en material apto para alimentos, paquete por 20 unidades. | F58: Unidad | G58: 15000 | H58: 22930 | I58: 29064.56 | J58: 91200 | K58: =IF(COUNT(G58:J58)>=2,_xlfn.STDEV.P(G58:J58),"") -> 30234.888 | L58: =AVERAGE(G58:J58) -> 39548.64 | M58: =GEOMEAN(G58:J58) -> 30900.356 | N58: =MEDIAN(G58:J58) -> 25997.28 | O58: =HARMEAN(G58:J58) -> 25698.892 | P58: =MIN(G58:J58) -> 15000 | Q58: =MAX(G58:J58) -> 91200
A59: 54 | D59: Recipientes sopa con tapa | E59: Recipientes desechables para alimentos líquidos o sopas, capacidad mínima de 16 onzas (473 ml), incluyen tapa ajustable, paquete por 20 unidades. | F59: Unidad | G59: 17850 | H59: 8800 | I59: 25536.21 | J59: 47500 | K59: =IF(COUNT(G59:J59)>=2,_xlfn.STDEV.P(G59:J59),"") -> 14318.479 | L59: =AVERAGE(G59:J59) -> 24921.552 | M59: =GEOMEAN(G59:J59) -> 20892.612 | N59: =MEDIAN(G59:J59) -> 21693.105 | O59: =HARMEAN(G59:J59) -> 17401.028 | P59: =MIN(G59:J59) -> 8800 | Q59: =MAX(G59:J59) -> 47500
A60: 55 | D60: Servilletas | E60: Servilletas desechables de papel absorbente, color blanco o natural, paquete por 100 unidades. | F60: Unidad | G60: 4675 | H60: 3630 | I60: 4788.56 | J60: 6650 | K60: =IF(COUNT(G60:J60)>=2,_xlfn.STDEV.P(G60:J60),"") -> 1087.8065 | L60: =AVERAGE(G60:J60) -> 4935.89 | M60: =GEOMEAN(G60:J60) -> 4821.4615 | N60: =MEDIAN(G60:J60) -> 4731.78 | O60: =HARMEAN(G60:J60) -> 4713.6859 | P60: =MIN(G60:J60) -> 3630 | Q60: =MAX(G60:J60) -> 6650
K61: =IF(COUNT(G61:J61)>=2,_xlfn.STDEV.P(G61:J61),"")
K62: =IF(COUNT(G62:J62)>=2,_xlfn.STDEV.P(G62:J62),"")
K63: =IF(COUNT(G63:J63)>=2,_xlfn.STDEV.P(G63:J63),"")
A64: LOTE B | K64: =IF(COUNT(G64:J64)>=2,_xlfn.STDEV.P(G64:J64),"")
A65: MOBILIARIO INSTITUCIONAL Y DOTACIÓN COMUNITARIA | K65: =IF(COUNT(G65:J65)>=2,_xlfn.STDEV.P(G65:J65),"")
K66: =IF(COUNT(G66:J66)>=2,_xlfn.STDEV.P(G66:J66),"")
A67: ÍTEM | B67: CÓDIGO UNSPSC | C67: ELEMENTO | D67: DESCRIPCIÓN | E67: ESPECIFICACIONES TÉCNICAS | F67: UNIDAD DE MEDIA | G67: VALOR TOTAL | H67: VALOR TOTAL | I67: VALOR TOTAL | J67: VALOR TOTAL | K67: DESVIACIÓN ESTÁNDAR | L67: MEDIA ARITMÉTICA | M67: MEDIA GEOMÉTRICA | N67: MEDIANA | O67: MEDIA ARMÓNICA | P67: PRECIO MÍNIMO | Q67: PRECIO MÁXIMO
A68: 56 | B68: 56101504 | C68: Silla plastica tipo rimax sin brazos | D68: Silla plastica tipo rimax sin brazos | E68: Silla monobloque elaborada en polipropileno de alta resistencia, sin brazos, apilable, resistente a la intemperie y de fácil limpieza. Capacidad mínima de carga de 100 kg. | F68: Unidad | G68: 76500 | H68: 46185 | I68: 125749.68 | J68: 69300 | K68: =IF(COUNT(G68:J68)>=2,_xlfn.STDEV.P(G68:J68),"") -> 28991.139 | L68: =AVERAGE(G68:J68) -> 79433.67 | M68: =GEOMEAN(G68:J68) -> 74490.455 | N68: =MEDIAN(G68:J68) -> 72900 | O68: =HARMEAN(G68:J68) -> 70044.851 | P68: =MIN(G68:J68) -> 46185 | Q68: =MAX(G68:J68) -> 125749.68
A69: 57 | B69: 56101519 | C69: Mesa plastica cuadrada tipo rimax 72x72 cm | D69: Mesa plastica cuadrada tipo rimax 72x72 cm | E69: Mesa cuadrada elaborada en polipropileno de alta resistencia, dimensiones aproximadas de 72 x 72 cm, apta para uso interior y exterior, resistente a la humedad y fácil limpieza. | F69: Unidad | G69: 212330 | H69: 109890 | I69: 305677.68 | J69: 168300 | K69: =IF(COUNT(G69:J69)>=2,_xlfn.STDEV.P(G69:J69),"") -> 71485.818 | L69: =AVERAGE(G69:J69) -> 199049.42 | M69: =GEOMEAN(G69:J69) -> 186135.56 | N69: =MEDIAN(G69:J69) -> 190315 | O69: =HARMEAN(G69:J69) -> 173740.44 | P69: =MIN(G69:J69) -> 109890 | Q69: =MAX(G69:J69) -> 305677.68
A70: 58 | B70: 56101519 | C70: Mesa Plegable Tipo Portafolio Plástica 180 cm x 75 cm | D70: Mesa Plegable Tipo Portafolio Plástica 180 cm x 75 cm | E70: Mesa plegable de superficie plástica en polietileno de alta densidad y estructura metálica, dimensiones mínimas de 180 cm x 75 cm, sistema de cierre tipo portafolio y manija para transporte. | F70: Unidad | G70: 315000 | H70: 197890 | I70: 559576.08 | J70: 495000 | K70: =IF(COUNT(G70:J70)>=2,_xlfn.STDEV.P(G70:J70),"") -> 143438.46 | L70: =AVERAGE(G70:J70) -> 391866.52 | M70: =GEOMEAN(G70:J70) -> 362493.05 | N70: =MEDIAN(G70:J70) -> 405000 | O70: =HARMEAN(G70:J70) -> 332358.84 | P70: =MIN(G70:J70) -> 197890 | Q70: =MAX(G70:J70) -> 559576.08
A71: 59 | B71: 56112103 | C71: Silla plastica infantil | D71: Silla plastica infantil | E71: Silla infantil elaborada en polipropileno de alta resistencia, bordes redondeados, diseño ergonómico, resistente y de fácil limpieza. | F71: Unidad | G71: 61710 | H71: 49390 | I71: 233906.4 | J71: 45540 | K71: =IF(COUNT(G71:J71)>=2,_xlfn.STDEV.P(G71:J71),"") -> 78901.789 | L71: =AVERAGE(G71:J71) -> 97636.6 | M71: =GEOMEAN(G71:J71) -> 75484.438 | N71: =MEDIAN(G71:J71) -> 55550 | O71: =HARMEAN(G71:J71) -> 63810.331 | P71: =MIN(G71:J71) -> 45540 | Q71: =MAX(G71:J71) -> 233906.4
A72: 60 | B72: 56101519 | C72: Mesa tipo rimax para niños | D72: Mesa tipo rimax para niños | E72: Mesa infantil elaborada en polipropileno de alta resistencia, apta para actividades pedagógicas y recreativas, de fácil limpieza y resistente al uso frecuente. | F72: Unidad | G72: 128010 | H72: 73590 | I72: 151939.2 | J72: 128700 | K72: =IF(COUNT(G72:J72)>=2,_xlfn.STDEV.P(G72:J72),"") -> 28777.583 | L72: =AVERAGE(G72:J72) -> 120559.8 | M72: =GEOMEAN(G72:J72) -> 116500.5 | N72: =MEDIAN(G72:J72) -> 128355 | O72: =HARMEAN(G72:J72) -> 111880.98 | P72: =MIN(G72:J72) -> 73590 | Q72: =MAX(G72:J72) -> 151939.2
A73: 61 | B73: 24112003 | C73: Caja plastica organizadora | D73: Caja plastica organizadora | E73: Caja organizadora fabricada en polipropileno o plástico de alta resistencia, capacidad mínima de 80 litros, con tapa ajustable o de cierre seguro, resistente a impactos, humedad y uso frecuente. Diseño apilable, de fácil limpieza y apta para almacenamiento y transporte de materiales, insumos o elementos institucionales. | F73: Unidad | G73: 234600 | H73: 192390 | I73: 352632.7 | J73: 178200 | K73: =IF(COUNT(G73:J73)>=2,_xlfn.STDEV.P(G73:J73),"") -> 68556.641 | L73: =AVERAGE(G73:J73) -> 239455.67 | M73: =GEOMEAN(G73:J73) -> 230773.11 | N73: =MEDIAN(G73:J73) -> 213495 | O73: =HARMEAN(G73:J73) -> 223365.93 | P73: =MIN(G73:J73) -> 178200 | Q73: =MAX(G73:J73) -> 352632.7
A74: 62 | B74: 24102004 | C74: Estanteria metalica | D74: Estanteria metalica | E74: Estantería metálica de cinco (5) niveles, dimensiones mínimas de 90 cm x 40 cm x 180 cm, estructura en acero, capacidad de carga distribuida por nivel, pintura electrostática anticorrosiva. | F74: Unidad | G74: 328100 | H74: 340890 | I74: 899881.57 | J74: 1108800 | K74: =IF(COUNT(G74:J74)>=2,_xlfn.STDEV.P(G74:J74),"") -> 343000.96 | L74: =AVERAGE(G74:J74) -> 669417.89 | M74: =GEOMEAN(G74:J74) -> 577982.6 | N74: =MEDIAN(G74:J74) -> 620385.78 | O74: =HARMEAN(G74:J74) -> 500345.11 | P74: =MIN(G74:J74) -> 328100 | Q74: =MAX(G74:J74) -> 1108800
A75: 63 | B75: 56101702 | C75: Archivador metalico 3 gavetas tipo oficio | D75: Archivador metalico 3 gavetas tipo oficio | E75: Archivador metálico vertical de tres (3) gavetas tamaño oficio, sistema de correderas metálicas, cerradura con llave y pintura electrostática. | F75: Unidad | G75: 1521500 | H75: 989890 | I75: 846884.92 | J75: 1386000 | K75: =IF(COUNT(G75:J75)>=2,_xlfn.STDEV.P(G75:J75),"") -> 276594.65 | L75: =AVERAGE(G75:J75) -> 1186068.7 | M75: =GEOMEAN(G75:J75) -> 1153085.8 | N75: =MEDIAN(G75:J75) -> 1187945 | O75: =HARMEAN(G75:J75) -> 1120524.1 | P75: =MIN(G75:J75) -> 846884.92 | Q75: =MAX(G75:J75) -> 1521500
A76: 64 | B76: 56101703 | C76: Escritorio en L 150 x 150 cm | D76: Escritorio en L 150 x 150 cm | E76: Escritorio ejecutivo en forma de L, dimensiones mínimas de 150 cm x 150 cm, superficie en melamina o aglomerado laminado, estructura resistente y acabado de alta durabilidad. | F76: Unidad | G76: 1020000 | H76: 670890 | I76: 2451119.2 | J76: 3960000 | K76: =IF(COUNT(G76:J76)>=2,_xlfn.STDEV.P(G76:J76),"") -> 1300907.4 | L76: =AVERAGE(G76:J76) -> 2025502.3 | M76: =GEOMEAN(G76:J76) -> 1605379.7 | N76: =MEDIAN(G76:J76) -> 1735559.6 | O76: =HARMEAN(G76:J76) -> 1277362.9 | P76: =MIN(G76:J76) -> 670890 | Q76: =MAX(G76:J76) -> 3960000
A77: 65 | B77: 56112102 | C77: Silla ergonómica con soporte lumbar y ajuste de altura | D77: Silla ergonómica con soporte lumbar y ajuste de altura | E77: Silla ergonómica para oficina con soporte lumbar, ajuste de altura mediante sistema neumático, espaldar ergonómico, base de cinco apoyos con ruedas y apoyabrazos. | F77: Unidad | G77: 377400 | H77: 186890 | I77: 624570.31 | J77: 894000 | K77: =IF(COUNT(G77:J77)>=2,_xlfn.STDEV.P(G77:J77),"") -> 265568.23 | L77: =AVERAGE(G77:J77) -> 520715.08 | M77: =GEOMEAN(G77:J77) -> 445478.45 | N77: =MEDIAN(G77:J77) -> 500985.16 | O77: =HARMEAN(G77:J77) -> 373130.2 | P77: =MIN(G77:J77) -> 186890 | Q77: =MAX(G77:J77) -> 894000
A78: 66 | B78: 47121702 | C78: Punto ecologico industrial 3 puestos (aprovechables, no aprovechables y orgánicos) | D78: Punto ecologico industrial 3 puestos (aprovechables, no aprovechables y orgánicos) | E78: Punto ecológico de tres (3) puestos para separación de residuos: aprovechables, no aprovechables y orgánicos, elaborado en material resistente de fácil limpieza, con identificación visible según normatividad vigente. | F78: Unidad | G78: 822800 | H78: 1380390 | I78: 394800.35 | J78: 796000 | K78: =IF(COUNT(G78:J78)>=2,_xlfn.STDEV.P(G78:J78),"") -> 350773.1 | L78: =AVERAGE(G78:J78) -> 848497.59 | M78: =GEOMEAN(G78:J78) -> 772941.58 | N78: =MEDIAN(G78:J78) -> 809400 | O78: =HARMEAN(G78:J78) -> 698201.84 | P78: =MIN(G78:J78) -> 394800.35 | Q78: =MAX(G78:J78) -> 1380390
A79: 67 | B79: 44111905 | C79: Tablero acrílico blanco 120 x 140 cm | D79: Tablero acrílico blanco 120 x 140 cm | E79: Tablero para marcadores borrables de superficie acrílica blanca, dimensiones mínimas de 120 cm x 140 cm, con marco en aluminio y sistema de instalación a pared | F79: Unidad | G79: 1337900 | H79: 516890 | I79: 579768 | J79: 660000 | K79: =IF(COUNT(G79:J79)>=2,_xlfn.STDEV.P(G79:J79),"") -> 329700.74 | L79: =AVERAGE(G79:J79) -> 773639.5 | M79: =GEOMEAN(G79:J79) -> 717224.29 | N79: =MEDIAN(G79:J79) -> 619884 | O79: =HARMEAN(G79:J79) -> 675439.84 | P79: =MIN(G79:J79) -> 516890 | Q79: =MAX(G79:J79) -> 1337900
A80: 68 | B80: 49121503 | C80: Carpa plegable impermeable tipo acordeón para exteriores 3x3 m | D80: Carpa plegable impermeable tipo acordeón para exteriores 3x3 m | E80: Carpa plegable impermeable para exteriores, dimensiones mínimas de 3 m x 3 m, estructura metálica resistente, cubierta impermeable con protección UV y sistema plegable tipo acordeón con estuche o funda para transporte. | F80: Unidad | G80: 372000 | H80: 296890 | I80: 2698920 | J80: 1984000 | K80: =IF(COUNT(G80:J80)>=2,_xlfn.STDEV.P(G80:J80),"") -> 1035191.4 | L80: =AVERAGE(G80:J80) -> 1337952.5 | M80: =GEOMEAN(G80:J80) -> 876935.29 | N80: =MEDIAN(G80:J80) -> 1178000 | O80: =HARMEAN(G80:J80) -> 577119.49 | P80: =MIN(G80:J80) -> 296890 | Q80: =MAX(G80:J80) -> 2698920
K81: =IF(COUNT(G81:J81)>=2,_xlfn.STDEV.P(G81:J81),"")
K82: =IF(COUNT(G82:J82)>=2,_xlfn.STDEV.P(G82:J82),"")
A83: LOTE C | K83: =IF(COUNT(G83:J83)>=2,_xlfn.STDEV.P(G83:J83),"")
A84: MATERIALES PARA CONSTRUCCIÓN Y MEJORAMIENTO DE INFRAESTRUCTURA | K84: =IF(COUNT(G84:J84)>=2,_xlfn.STDEV.P(G84:J84),"")
A85: ÍTEM | B85: CÓDIGO UNSPSC | C85: ELEMENTO | D85: DESCRIPCIÓN | E85: ESPECIFICACIONES TÉCNICAS | F85: UNIDAD DE MEDIA | G85: VALOR TOTAL | H85: VALOR TOTAL | I85: VALOR TOTAL | J85: VALOR TOTAL | K85: DESVIACIÓN ESTÁNDAR | L85: MEDIA ARITMÉTICA | M85: MEDIA GEOMÉTRICA | N85: MEDIANA | O85: MEDIA ARMÓNICA | P85: PRECIO MÍNIMO | Q85: PRECIO MÁXIMO
A86: 69 | B86: 30111601 | C86: Cemento bulto x 50 kg | D86: Cemento bulto x 50 kg | E86: Cemento gris para construcción, bulto de 50 kg, conforme a normas técnicas vigentes para uso estructural y no estructural. | F86: Unidad | G86: 55250 | H86: 39600 | I86: 50903.44 | K86: =IF(COUNT(G86:J86)>=2,_xlfn.STDEV.P(G86:J86),"") -> 6596.1507 | L86: =AVERAGE(G86:J86) -> 48584.48 | M86: =GEOMEAN(G86:J86) -> 48112.531 | N86: =MEDIAN(G86:J86) -> 50903.44 | O86: =HARMEAN(G86:J86) -> 47621.232 | P86: =MIN(G86:J86) -> 39600 | Q86: =MAX(G86:J86) -> 55250
A87: 70 | B87: 30111801 | C87: Mixto metro cúbico (m³) | D87: Mixto metro cúbico (m³) | E87: Agregado mixto (arena y grava) para concreto, limpio y libre de material orgánico, unidad de medida: metro cúbico (m³). | F87: Unidad | G87: 210000 | H87: 272800 | I87: 302400.42 | K87: =IF(COUNT(G87:J87)>=2,_xlfn.STDEV.P(G87:J87),"") -> 38525.406 | L87: =AVERAGE(G87:J87) -> 261733.47 | M87: =GEOMEAN(G87:J87) -> 258750.99 | N87: =MEDIAN(G87:J87) -> 272800 | O87: =HARMEAN(G87:J87) -> 255657.1 | P87: =MIN(G87:J87) -> 210000 | Q87: =MAX(G87:J87) -> 302400.42
A88: 71 | B88: 30131704 | C88: Caja de baldosas para piso 60x60 cm | D88: Caja de baldosas para piso 60x60 cm | E88: Baldosa cerámica o porcelanato para piso, dimensiones de 60 x 60 cm, resistente al desgaste y humedad, caja según presentación comercial. | F88: Unidad | G88: 72335 | H88: 145926 | I88: 100800.14 | K88: =IF(COUNT(G88:J88)>=2,_xlfn.STDEV.P(G88:J88),"") -> 30298.96 | L88: =AVERAGE(G88:J88) -> 106353.71 | M88: =GEOMEAN(G88:J88) -> 102089.43 | N88: =MEDIAN(G88:J88) -> 100800.14 | O88: =HARMEAN(G88:J88) -> 98045.701 | P88: =MIN(G88:J88) -> 72335 | Q88: =MAX(G88:J88) -> 145926
A89: 72 | B89: 11111606 | C89: Arena metro cúbico (m³) | D89: Arena metro cúbico (m³) | E89: Arena de río o de peña para construcción, limpia, libre de materia orgánica y contaminantes, unidad de medida: metro cúbico (m³). | F89: Unidad | G89: 153000 | H89: 143000 | I89: 279888 | K89: =IF(COUNT(G89:J89)>=2,_xlfn.STDEV.P(G89:J89),"") -> 62306.491 | L89: =AVERAGE(G89:J89) -> 191962.67 | M89: =GEOMEAN(G89:J89) -> 182952.04 | N89: =MEDIAN(G89:J89) -> 153000 | O89: =HARMEAN(G89:J89) -> 175420 | P89: =MIN(G89:J89) -> 143000 | Q89: =MAX(G89:J89) -> 279888
A90: 73 | B90: 30102404 | C90: Varilla ½ pulgada barra de 6 metros | D90: Varilla ½ pulgada barra de 6 metros | E90: Varilla corrugada de acero de ½ pulgada, longitud de 6 metros, conforme a normas técnicas vigentes. | F90: Unidad | G90: 41140 | H90: 34100 | I90: 40655.16 | K90: =IF(COUNT(G90:J90)>=2,_xlfn.STDEV.P(G90:J90),"") -> 3210.5173 | L90: =AVERAGE(G90:J90) -> 38631.72 | M90: =GEOMEAN(G90:J90) -> 38492.677 | N90: =MEDIAN(G90:J90) -> 40655.16 | O90: =HARMEAN(G90:J90) -> 38348.518 | P90: =MIN(G90:J90) -> 34100 | Q90: =MAX(G90:J90) -> 41140
A91: 74 | B91: 30102404 | C91: Varilla ⅜ pulgada barra de 6 metros | D91: Varilla ⅜ pulgada barra de 6 metros | E91: Varilla corrugada de acero de ⅜ pulgada, longitud de 6 metros. | F91: Unidad | G91: 24820 | H91: 16060 | I91: 24528.28 | K91: =IF(COUNT(G91:J91)>=2,_xlfn.STDEV.P(G91:J91),"") -> 4062.4906 | L91: =AVERAGE(G91:J91) -> 21802.76 | M91: =GEOMEAN(G91:J91) -> 21383.14 | N91: =MEDIAN(G91:J91) -> 24528.28 | O91: =HARMEAN(G91:J91) -> 20931.324 | P91: =MIN(G91:J91) -> 16060 | Q91: =MAX(G91:J91) -> 24820
A92: 75 | B92: 30131502 | C92: Bloque N4 paquete x 50 unidades | D92: Bloque N4 paquete x 50 unidades | E92: Bloque de concreto para mampostería, referencia N.° 4, paquete por 50 unidades, libre de grietas y defectos. | F92: Unidad | G92: 191250 | H92: 1925 | I92: 121800 | K92: =IF(COUNT(G92:J92)>=2,_xlfn.STDEV.P(G92:J92),"") -> 78200.081 | L92: =AVERAGE(G92:J92) -> 104991.67 | M92: =GEOMEAN(G92:J92) -> 35527.105 | N92: =MEDIAN(G92:J92) -> 121800 | O92: =HARMEAN(G92:J92) -> 5629.3685 | P92: =MIN(G92:J92) -> 1925 | Q92: =MAX(G92:J92) -> 191250
A93: 76 | B93: 30131704 | C93: Caja de cerámica para pared 20x30 cm | D93: Caja de cerámica para pared 20x30 cm | E93: Cerámica para revestimiento de pared, dimensiones de 20 x 30 cm, resistente a la humedad, caja según presentación comercial. | F93: Unidad | G93: 54400 | H93: 46035 | I93: 70307.58 | K93: =IF(COUNT(G93:J93)>=2,_xlfn.STDEV.P(G93:J93),"") -> 10067.453 | L93: =AVERAGE(G93:J93) -> 56914.193 | M93: =GEOMEAN(G93:J93) -> 56048.38 | N93: =MEDIAN(G93:J93) -> 54400 | O93: =HARMEAN(G93:J93) -> 55219.969 | P93: =MIN(G93:J93) -> 46035 | Q93: =MAX(G93:J93) -> 70307.58
A94: 77 | B94: 30131704 | C94: Caja de baldosas para piso antideslizantes 30x60 cm | D94: Caja de baldosas para piso antideslizantes 30x60 cm | E94: Baldosa cerámica o porcelanato antideslizante para piso, dimensiones de 30 x 60 cm, apta para zonas húmedas, caja según presentación comercial. | F94: Unidad | G94: 134334 | H94: 135254 | I94: 67199.3 | K94: =IF(COUNT(G94:J94)>=2,_xlfn.STDEV.P(G94:J94),"") -> 31866.661 | L94: =AVERAGE(G94:J94) -> 112262.43 | M94: =GEOMEAN(G94:J94) -> 106880.94 | N94: =MEDIAN(G94:J94) -> 134334 | O94: =HARMEAN(G94:J94) -> 100946.42 | P94: =MIN(G94:J94) -> 67199.3 | Q94: =MAX(G94:J94) -> 135254
A95: 78 | B95: 30111504 | C95: Pegamento para piso bulto de 25 kg | D95: Pegamento para piso bulto de 25 kg | E95: Adhesivo cementicio para instalación de cerámica y porcelanato, bulto de 25 kg. | F95: Unidad | G95: 95030 | H95: 34870 | I95: 39984 | K95: =IF(COUNT(G95:J95)>=2,_xlfn.STDEV.P(G95:J95),"") -> 27234.457 | L95: =AVERAGE(G95:J95) -> 56628 | M95: =GEOMEAN(G95:J95) -> 50979.977 | N95: =MEDIAN(G95:J95) -> 39984 | O95: =HARMEAN(G95:J95) -> 46721.008 | P95: =MIN(G95:J95) -> 34870 | Q95: =MAX(G95:J95) -> 95030
A96: 79 | B96: 40171517 | C96: Tubo sanitario pvc 2 pulgadas tramo de 1 metro | D96: Tubo sanitario pvc 2 pulgadas tramo de 1 metro | E96: Tubo sanitario PVC de 2 pulgadas de diámetro, longitud de 1 metro, para conducción de aguas residuales. | F96: Unidad | G96: 17000 | H96: 8250 | I96: 12600.91 | K96: =IF(COUNT(G96:J96)>=2,_xlfn.STDEV.P(G96:J96),"") -> 3572.1906 | L96: =AVERAGE(G96:J96) -> 12616.97 | M96: =GEOMEAN(G96:J96) -> 12090.24 | N96: =MEDIAN(G96:J96) -> 12600.91 | O96: =HARMEAN(G96:J96) -> 11565.373 | P96: =MIN(G96:J96) -> 8250 | Q96: =MAX(G96:J96) -> 17000
A97: 80 | B97: 40172807 | C97: Codo pvc 2 pulgadas | D97: Codo pvc 2 pulgadas | E97: Accesorio tipo codo PVC sanitario de 2 pulgadas, compatible con tubería PVC sanitaria. | F97: Unidad | G97: 4930 | H97: 3410 | I97: 4200.7 | K97: =IF(COUNT(G97:J97)>=2,_xlfn.STDEV.P(G97:J97),"") -> 620.70614 | L97: =AVERAGE(G97:J97) -> 4180.2333 | M97: =GEOMEAN(G97:J97) -> 4133.4021 | N97: =MEDIAN(G97:J97) -> 4200.7 | O97: =HARMEAN(G97:J97) -> 4086.3559 | P97: =MIN(G97:J97) -> 3410 | Q97: =MAX(G97:J97) -> 4930
... A109: 92 | B109: 31211500 | C109: Espátula para pintura | D109: Espátula para pintura | E109: Espátula metálica con mango ergonómico, apta para aplicación de estuco, masillas y remoción de pintura. | F109: Unidad | G109: 17000 | H109: 97790 | I109: 3528.35 | K109: =IF(COUNT(G109:J109)>=2,_xlfn.STDEV.P(G109:J109),"") -> 41625.003 | L109: =AVERAGE(G109:J109) -> 39439.45 | M109: =GEOMEAN(G109:J109) -> 18034.537 | N109: =MEDIAN(G109:J109) -> 17000 | O109: =HARMEAN(G109:J109) -> 8511.4081 | P109: =MIN(G109:J109) -> 3528.35 | Q109: =MAX(G109:J109) -> 97790
K110: =IF(COUNT(G110:J110)>=2,_xlfn.STDEV.P(G110:J110),"")
K111: =IF(COUNT(G111:J111)>=2,_xlfn.STDEV.P(G111:J111),"")
A112: LOTE D | K112: =IF(COUNT(G112:J112)>=2,_xlfn.STDEV.P(G112:J112),"")
A113: COCINA, GASTRONOMÍA Y DOTACIÓN PARA PREPARACIÓN DE ALIMENTOS | K113: =IF(COUNT(G113:J113)>=2,_xlfn.STDEV.P(G113:J113),"")
A114: ÍTEM | B114: CÓDIGO UNSPSC | C114: ELEMENTO | D114: DESCRIPCIÓN | E114: ESPECIFICACIONES TÉCNICAS | F114: UNIDAD DE MEDIA | G114: VALOR TOTAL | H114: VALOR TOTAL | I114: VALOR TOTAL | J114: VALOR TOTAL | K114: DESVIACIÓN ESTÁNDAR | L114: MEDIA ARITMÉTICA | M114: MEDIA GEOMÉTRICA | N114: MEDIANA | O114: MEDIA ARMÓNICA | P114: PRECIO MÍNIMO | Q114: PRECIO MÁXIMO
A115: 93 | B115: 48101509 | C115: Estufa industrial 3 puestos a gas | D115: Estufa industrial 3 puestos a gas | E115: Estufa industrial de tres (3) quemadores de alta eficiencia, estructura metálica resistente, funcionamiento a gas propano o natural, parrillas de hierro fundido o material de alta resistencia. | F115: Unidad | G115: 5967000 | H115: 3218490 | I115: 5712000 | K115: =IF(COUNT(G115:J115)>=2,_xlfn.STDEV.P(G115:J115),"") -> 1239933.9 | L115: =AVERAGE(G115:J115) -> 4965830 | M115: =GEOMEAN(G115:J115) -> 4787022.5 | N115: =MEDIAN(G115:J115) -> 5712000 | O115: =HARMEAN(G115:J115) -> 4591627.3 | P115: =MIN(G115:J115) -> 3218490 | Q115: =MAX(G115:J115) -> 5967000
A116: 94 | B116: 48101509 | C116: Estufa industrial 1 puesto a gas | D116: Estufa industrial 1 puesto a gas | E116: Estufa industrial de un (1) quemador de alta potencia, estructura metálica resistente y funcionamiento a gas. | F116: Unidad | G116: 3366000 | H116: 582890 | I116: 3326401 | K116: =IF(COUNT(G116:J116)>=2,_xlfn.STDEV.P(G116:J116),"") -> 1302737.4 | L116: =AVERAGE(G116:J116) -> 2425097 | M116: =GEOMEAN(G116:J116) -> 1868781.1 | N116: =MEDIAN(G116:J116) -> 3326401 | O116: =HARMEAN(G116:J116) -> 1296846.8 | P116: =MIN(G116:J116) -> 582890 | Q116: =MAX(G116:J116) -> 3366000
...

Sheet VARIACION DE PRECIOS
A1: ANÁLISIS DE DISPERSIÓN DE PRECIOS POR LOTES
A2: Desviación estándar, media aritmética y variación porcentual por producto
A4: LOTE A
A5: ITEM | B5: PRODUCTO / DESCRIPCIÓN | C5: DESVIACIÓN ESTÁNDAR | D5: MEDIA ARITMÉTICA | E5: VARIACIÓN %
A6: 1 | B6: Cepillo de dientes | C6: =_xlfn.STDEV.P('ANALISIS DE COTIZACCIONES'!G6:J6) -> 3008.6071 | D6: =AVERAGE('ANALISIS DE COTIZACCIONES'!G6:J6) -> 5741.33 | E6: =C6/D6 -> 0.52402616
A7: 2 | B7: Crema dental | C7: =_xlfn.STDEV.P('ANALISIS DE COTIZACCIONES'!G7:J7) -> 1458.2351 | D7: =AVERAGE('ANALISIS DE COTIZACCIONES'!G7:J7) -> 9131.96 | E7: =C7/D7 -> 0.15968478
A8: 3 | B8: Desodorante | C8: =_xlfn.STDEV.P('ANALISIS DE COTIZACCIONES'!G8:J8) -> 1897.1201 | D8: =AVERAGE('ANALISIS DE COTIZACCIONES'!G8:J8) -> 6562.585 | E8: =C8/D8 -> 0.28908122
A9: 4 | B9: Shampoo | C9: =_xlfn.STDEV.P('ANALISIS DE COTIZACCIONES'!G9:J9) -> 4179.6695 | D9: =AVERAGE('ANALISIS DE COTIZACCIONES'!G9:J9) -> 7911.1625 | E9: =C9/D9 -> 0.52832558
A10: 5 | B10: Jabón de baño | C10: =_xlfn.STDEV.P('ANALISIS DE COTIZACCIONES'!G10:J10) -> 1182.6514 | D10: =AVERAGE('ANALISIS DE COTIZACCIONES'!G10:J10) -> 5414.4775 | E10: =C10/D10 -> 0.21842393
A11: 6 | B11: Jabón para lavar ropa | C11: =_xlfn.STDEV.P('ANALISIS DE COTIZACCIONES'!G11:J11) -> 1262.5524 | D11: =AVERAGE('ANALISIS DE COTIZACCIONES'!G11:J11) -> 3849.5425 | E11: =C11/D11 -> 0.32797467
A12: 7 | B12: Máquina de afeitar | C12: =_xlfn.STDEV.P('ANALISIS DE COTIZACCIONES'!G12:J12) -> 948.61663 | D12: =AVERAGE('ANALISIS DE COTIZACCIONES'!G12:J12) -> 5473.5742 | E12: =C12/D12 -> 0.17330844
A13: 8 | B13: Papel higiénico | C13: =_xlfn.STDEV.P('ANALISIS DE COTIZACCIONES'!G13:J13) -> 1458.1403 | D13: =AVERAGE('ANALISIS DE COTIZACCIONES'!G13:J13) -> 13845.438 | E13: =C13/D13 -> 0.10531558
A14: 9 | B14: Cepillo de dientes | C14: =_xlfn.STDEV.P('ANALISIS DE COTIZACCIONES'!G14:J14) -> 3008.6071 | D14: =AVERAGE('ANALISIS DE COTIZACCIONES'!G14:J14) -> 5741.33 | E14: =C14/D14 -> 0.52402616
A15: 10 | B15: Crema dental | C15: =_xlfn.STDEV.P('ANALISIS DE COTIZACCIONES'!G15:J15) -> 1458.2351 | D15: =AVERAGE('ANALISIS DE COTIZACCIONES'!G15:J15) -> 9131.96 | E15: =C15/D15 -> 0.15968478
A16: 11 | B16: Desodorante | C16: =_xlfn.STDEV.P('ANALISIS DE COTIZACCIONES'!G16:J16) -> 1852.6245 | D16: =AVERAGE('ANALISIS DE COTIZACCIONES'!G16:J16) -> 6625.335 | E16: =C16/D16 -> 0.27962729
A17: 12 | B17: Shampoo | C17: =_xlfn.STDEV.P('ANALISIS DE COTIZACCIONES'!G17:J17) -> 4179.6695 | D17: =AVERAGE('ANALISIS DE COTIZACCIONES'!G17:J17) -> 7911.1625 | E17: =C17/D17 -> 0.52832558
... A60: 55 | B60: Servilletas | C60: =_xlfn.STDEV.P('ANALISIS DE COTIZACCIONES'!G60:J60) -> 1087.8065 | D60: =AVERAGE('ANALISIS DE COTIZACCIONES'!G60:J60) -> 4935.89 | E60: =C60/D60 -> 0.22038709
A62: LOTE B
A63: ITEM | B63: PRODUCTO / DESCRIPCIÓN | C63: DESVIACIÓN ESTÁNDAR | D63: MEDIA ARITMÉTICA | E63: VARIACIÓN %
A64: 56 | B64: Silla plastica tipo rimax sin brazos | C64: =_xlfn.STDEV.P('ANALISIS DE COTIZACCIONES'!G68:J68) -> 28991.139 | D64: =AVERAGE('ANALISIS DE COTIZACCIONES'!G68:J68) -> 79433.67 | E64: =C64/D64 -> 0.36497292
A65: 57 | B65: Mesa plastica cuadrada tipo rimax 72x72 cm | C65: =_xlfn.STDEV.P('ANALISIS DE COTIZACCIONES'!G69:J69) -> 71485.818 | D65: =AVERAGE('ANALISIS DE COTIZACCIONES'!G69:J69) -> 199049.42 | E65: =C65/D65 -> 0.35913603
A66: 58 | B66: Mesa Plegable Tipo Portafolio Plástica 180 cm x 75 cm | C66: =_xlfn.STDEV.P('ANALISIS DE COTIZACCIONES'!G70:J70) -> 143438.46 | D66: =AVERAGE('ANALISIS DE COTIZACCIONES'!G70:J70) -> 391866.52 | E66: =C66/D66 -> 0.36603907
A67: 59 | B67: Silla plastica infantil | C67: =_xlfn.STDEV.P('ANALISIS DE COTIZACCIONES'!G71:J71) -> 78901.789 | D67: =AVERAGE('ANALISIS DE COTIZACCIONES'!G71:J71) -> 97636.6 | E67: =C67/D67 -> 0.80811692
A68: 60 | B68: Mesa tipo rimax para niños | C68: =_xlfn.STDEV.P('ANALISIS DE COTIZACCIONES'!G72:J72) -> 28777.583 | D68: =AVERAGE('ANALISIS DE COTIZACCIONES'!G72:J72) -> 120559.8 | E68: =C68/D68 -> 0.23869966
A69: 61 | B69: Caja plastica organizadora | C69: =_xlfn.STDEV.P('ANALISIS DE COTIZACCIONES'!G73:J73) -> 68556.641 | D69: =AVERAGE('ANALISIS DE COTIZACCIONES'!G73:J73) -> 239455.67 | E69: =C69/D69 -> 0.28630201
A70: 62 | B70: Estanteria metalica | C70: =_xlfn.STDEV.P('ANALISIS DE COTIZACCIONES'!G74:J74) -> 343000.96 | D70: =AVERAGE('ANALISIS DE COTIZACCIONES'!G74:J74) -> 669417.89 | E70: =C70/D70 -> 0.5123869
A71: 63 | B71: Archivador metalico 3 gavetas tipo oficio | C71: =_xlfn.STDEV.P('ANALISIS DE COTIZACCIONES'!G75:J75) -> 276594.65 | D71: =AVERAGE('ANALISIS DE COTIZACCIONES'!G75:J75) -> 1186068.7 | E71: =C71/D71 -> 0.23320288
A72: 64 | B72: Escritorio en L 150 x 150 cm | C72: =_xlfn.STDEV.P('ANALISIS DE COTIZACCIONES'!G76:J76) -> 1300907.4 | D72: =AVERAGE('ANALISIS DE COTIZACCIONES'!G76:J76) -> 2025502.3 | E72: =C72/D72 -> 0.64226411
A73: 65 | B73: Silla ergonómica con soporte lumbar y ajuste de altura | C73: =_xlfn.STDEV.P('ANALISIS DE COTIZACCIONES'!G77:J77) -> 265568.23 | D73: =AVERAGE('ANALISIS DE COTIZACCIONES'!G77:J77) -> 520715.08 | E73: =C73/D73 -> 0.5100068
A74: 66 | B74: Punto ecologico industrial 3 puestos (aprovechables, no aprovechables y orgánicos) | C74: =_xlfn.STDEV.P('ANALISIS DE COTIZACCIONES'!G78:J78) -> 350773.1 | D74: =AVERAGE('ANALISIS DE COTIZACCIONES'!G78:J78) -> 848497.59 | E74: =C74/D74 -> 0.41340495
A75: 67 | B75: Tablero acrílico blanco 120 x 140 cm | C75: =_xlfn.STDEV.P('ANALISIS DE COTIZACCIONES'!G79:J79) -> 329700.74 | D75: =AVERAGE('ANALISIS DE COTIZACCIONES'!G79:J79) -> 773639.5 | E75: =C75/D75 -> 0.42616844
A76: 68 | B76: Carpa plegable impermeable tipo acordeón para exteriores 3x3 m | C76: =_xlfn.STDEV.P('ANALISIS DE COTIZACCIONES'!G80:J80) -> 1035191.4 | D76: =AVERAGE('ANALISIS DE COTIZACCIONES'!G80:J80) -> 1337952.5 | E76: =C76/D76 -> 0.77371315
A78: LOTE C
A79: ITEM | B79: PRODUCTO / DESCRIPCIÓN | C79: DESVIACIÓN ESTÁNDAR | D79: MEDIA ARITMÉTICA | E79: VARIACIÓN %
A80: 69 | B80: Cemento bulto x 50 kg | C80: =_xlfn.STDEV.P('ANALISIS DE COTIZACCIONES'!G86:J86) -> 6596.1507 | D80: =AVERAGE('ANALISIS DE COTIZACCIONES'!G86:J86) -> 48584.48 | E80: =C80/D80 -> 0.13576662
A81: 70 | B81: Mixto metro cúbico (m³) | C81: =_xlfn.STDEV.P('ANALISIS DE COTIZACCIONES'!G87:J87) -> 38525.406 | D81: =AVERAGE('ANALISIS DE COTIZACCIONES'!G87:J87) -> 261733.47 | E81: =C81/D81 -> 0.14719327
A82: 71 | B82: Caja de baldosas para piso 60x60 cm | C82: =_xlfn.STDEV.P('ANALISIS DE COTIZACCIONES'!G88:J88) -> 30298.96 | D82: =AVERAGE('ANALISIS DE COTIZACCIONES'!G88:J88) -> 106353.71 | E82: =C82/D82 -> 0.28488859
A83: 72 | B83: Arena metro cúbico (m³) | C83: =_xlfn.STDEV.P('ANALISIS DE COTIZACCIONES'!G89:J89) -> 62306.491 | D83: =AVERAGE('ANALISIS DE COTIZACCIONES'!G89:J89) -> 191962.67 | E83: =C83/D83 -> 0.32457608
A84: 73 | B84: Varilla ½ pulgada barra de 6 metros | C84: =_xlfn.STDEV.P('ANALISIS DE COTIZACCIONES'!G90:J90) -> 3210.5173 | D84: =AVERAGE('ANALISIS DE COTIZACCIONES'!G90:J90) -> 38631.72 | E84: =C84/D84 -> 0.08310573
A85: 74 | B85: Varilla ⅜ pulgada barra de 6 metros | C85: =_xlfn.STDEV.P('ANALISIS DE COTIZACCIONES'!G91:J91) -> 4062.4906 | D85: =AVERAGE('ANALISIS DE COTIZACCIONES'!G91:J91) -> 21802.76 | E85: =C85/D85 -> 0.18632919
A86: 75 | B86: Bloque N4 paquete x 50 unidades | C86: =_xlfn.STDEV.P('ANALISIS DE COTIZACCIONES'!G92:J92) -> 78200.081 | D86: =AVERAGE('ANALISIS DE COTIZACCIONES'!G92:J92) -> 104991.67 | E86: =C86/D86 -> 0.74482179
A87: 76 | B87: Caja de cerámica para pared 20x30 cm | C87: =_xlfn.STDEV.P('ANALISIS DE COTIZACCIONES'!G93:J93) -> 10067.453 | D87: =AVERAGE('ANALISIS DE COTIZACCIONES'!G93:J93) -> 56914.193 | E87: =C87/D87 -> 0.17688826
A88: 77 | B88: Caja de baldosas para piso antideslizantes 30x60 cm | C88: =_xlfn.STDEV.P('ANALISIS DE COTIZACCIONES'!G94:J94) -> 31866.661 | D88: =AVERAGE('ANALISIS DE COTIZACCIONES'!G94:J94) -> 112262.43 | E88: =C88/D88 -> 0.28385863
A89: 78 | B89: Pegamento para piso bulto de 25 kg | C89: =_xlfn.STDEV.P('ANALISIS DE COTIZACCIONES'!G95:J95) -> 27234.457 | D89: =AVERAGE('ANALISIS DE COTIZACCIONES'!G95:J95) -> 56628 | E89: =C89/D89 -> 0.48093623
A90: 79 | B90: Tubo sanitario pvc 2 pulgadas tramo de 1 metro | C90: =_xlfn.STDEV.P('ANALISIS DE COTIZACCIONES'!G96:J96) -> 3572.1906 | D90: =AVERAGE('ANALISIS DE COTIZACCIONES'!G96:J96) -> 12616.97 | E90: =C90/D90 -> 0.28312587
A91: 80 | B91: Codo pvc 2 pulgadas | C91: =_xlfn.STDEV.P('ANALISIS DE COTIZACCIONES'!G97:J97) -> 620.70614 | D91: =AVERAGE('ANALISIS DE COTIZACCIONES'!G97:J97) -> 4180.2333 | E91: =C91/D91 -> 0.148486
... A103: 92 | B103: Espátula para pintura | C103: =_xlfn.STDEV.P('ANALISIS DE COTIZACCIONES'!G109:J109) -> 41625.003 | D103: =AVERAGE('ANALISIS DE COTIZACCIONES'!G109:J109) -> 39439.45 | E103: =C103/D103 -> 1.0554154
A105: LOTE D
A106: ITEM | B106: PRODUCTO / DESCRIPCIÓN | C106: DESVIACIÓN ESTÁNDAR | D106: MEDIA ARITMÉTICA | E106: VARIACIÓN %
A107: 93 | B107: Estufa industrial 3 puestos a gas | C107: =_xlfn.STDEV.P('ANALISIS DE COTIZACCIONES'!G115:J115) -> 1239933.9 | D107: =AVERAGE('ANALISIS DE COTIZACCIONES'!G115:J115) -> 4965830 | E107: =C107/D107 -> 0.24969318
A108: 94 | B108: Estufa industrial 1 puesto a gas | C108: =_xlfn.STDEV.P('ANALISIS DE COTIZACCIONES'!G116:J116) -> 1302737.4 | D108: =AVERAGE('ANALISIS DE COTIZACCIONES'!G116:J116) -> 2425097 | E108: =C108/D108 -> 0.5371898
A109: 95 | B109: Carro de cocina con ruedas | C109: =_xlfn.STDEV.P('ANALISIS DE COTIZACCIONES'!G117:J117) -> 614062.83 | D109: =AVERAGE('ANALISIS DE COTIZACCIONES'!G117:J117) -> 826214.3 | E109: =C109/D109 -> 0.74322464
A110: 96 | B110: Licuadora 1.5 litros | C110: =_xlfn.STDEV.P('ANALISIS DE COTIZACCIONES'!G118:J118) -> 91947.708 | D110: =AVERAGE('ANALISIS DE COTIZACCIONES'!G118:J118) -> 265948.67 | E110: =C110/D110 -> 0.3457348
A111: 97 | B111: Extractor de jugos | C111: =_xlfn.STDEV.P('ANALISIS DE COTIZACCIONES'!G119:J119) -> 191930.91 | D111: =AVERAGE('ANALISIS DE COTIZACCIONES'!G119:J119) -> 282454.47 | E111: =C111/D111 -> 0.67951098
A112: 98 | B112: Termo bomba 3 litros en acero inoxidable | C112: =_xlfn.STDEV.P('ANALISIS DE COTIZACCIONES'!G120:J120) -> 38648.95 | D112: =AVERAGE('ANALISIS DE COTIZACCIONES'!G120:J120) -> 207424.35 | E112: =C112/D112 -> 0.18632793
A113: 99 | B113: Air Fryer capacidad 5 litros | C113: =_xlfn.STDEV.P('ANALISIS DE COTIZACCIONES'!G121:J121) -> 205273.99 | D113: =AVERAGE('ANALISIS DE COTIZACCIONES'!G121:J121) -> 653190.27 | E113: =C113/D113 -> 0.31426371
A114: 100 | B114: Set de sartén antiadherente x3 | C114: =_xlfn.STDEV.P('ANALISIS DE COTIZACCIONES'!G122:J122) -> 88225.224 | D114: =AVERAGE('ANALISIS DE COTIZACCIONES'!G122:J122) -> 186651.22 | E114: =C114/D114 -> 0.47267425
A115: 101 | B115: Olla a presión 15 litros | C115: =_xlfn.STDEV.P('ANALISIS DE COTIZACCIONES'!G123:J123) -> 191460.64 | D115: =AVERAGE('ANALISIS DE COTIZACCIONES'!G123:J123) -> 819707.19 | E115: =C115/D115 -> 0.233572
A116: 102 | B116: Olleta chocolatera 3 litros | C116: =_xlfn.STDEV.P('ANALISIS DE COTIZACCIONES'!G124:J124) -> 14997.562 | D116: =AVERAGE('ANALISIS DE COTIZACCIONES'!G124:J124) -> 80490.62 | E116: =C116/D116 -> 0.18632683
A117: 103 | B117: Olla industrial acero inoxidable 50 litros | C117: =_xlfn.STDEV.P('ANALISIS DE COTIZACCIONES'!G125:J125) -> 2147043.3 | D117: =AVERAGE('ANALISIS DE COTIZACCIONES'!G125:J125) -> 3054569.9 | E117: =C117/D117 -> 0.70289548
A118: 104 | B118: Paila 50 cm | C118: =_xlfn.STDEV.P('ANALISIS DE COTIZACCIONES'!G126:J126) -> 1525854.2 | D118: =AVERAGE('ANALISIS DE COTIZACCIONES'!G126:J126) -> 1307006.9 | E118: =C118/D118 -> 1.1674416
... A131: 117 | B131: Set de cuchillos de cocina | C131: =_xlfn.STDEV.P('ANALISIS DE COTIZACCIONES'!G139:J139) -> 128933.11 | D131: =AVERAGE('ANALISIS DE COTIZACCIONES'!G139:J139) -> 188640.57 | E131: =C131/D131 -> 0.68348555
A133: LOTE E
A134: ITEM | B134: PRODUCTO / DESCRIPCIÓN | C134: DESVIACIÓN ESTÁNDAR | D134: MEDIA ARITMÉTICA | E134: VARIACIÓN %
A135: 118 | B135: Cámara tipo bala (bullet) para exteriores 2 MP Full HD. | C135: =_xlfn.STDEV.P('ANALISIS DE COTIZACCIONES'!G144:J144) -> 40704.621 | D135: =AVERAGE('ANALISIS DE COTIZACCIONES'!G144:J144) -> 116040.87 | E135: =C135/D135 -> 0.35077833
A136: 119 | B136: Cámara tipo domo para interiores 2 MP Full HD | C136: =_xlfn.STDEV.P('ANALISIS DE COTIZACCIONES'!G145:J145) -> 26238.787 | D136: =AVERAGE('ANALISIS DE COTIZACCIONES'!G145:J145) -> 147584.44 | E136: =C136/D136 -> 0.17778831
A137: 120 | B137: Disco Duro para video vigilancia 2 TB | C137: =_xlfn.STDEV.P('ANALISIS DE COTIZACCIONES'!G146:J146) -> 94939.969 | D137: =AVERAGE('ANALISIS DE COTIZACCIONES'!G146:J146) -> 794770.34 | E137: =C137/D137 -> 0.11945585
A138: 121 | B138: Grabador NVR si las cámaras son IP (por red) 4 u 8 canales | C138: =_xlfn.STDEV.P('ANALISIS DE COTIZACCIONES'!G147:J147) -> 171041.39 | D138: =AVERAGE('ANALISIS DE COTIZACCIONES'!G147:J147) -> 754660.15 | E138: =C138/D138 -> 0.22664691
A139: 122 | B139: Fuente de 12V para cámaras analógicas | C139: =_xlfn.STDEV.P('ANALISIS DE COTIZACCIONES'!G148:J148) -> 91292.723 | D139: =AVERAGE('ANALISIS DE COTIZACCIONES'!G148:J148) -> 149483.2 | E139: =C139/D139 -> 0.61072229
A140: 123 | B140: UPS 600VA | C140: =_xlfn.STDEV.P('ANALISIS DE COTIZACCIONES'!G149:J149) -> 15540.307 | D140: =AVERAGE('ANALISIS DE COTIZACCIONES'!G149:J149) -> 244783.49 | E140: =C140/D140 -> 0.063485929
A141: 124 | B141: Monitor 24 pulgadas full HD | C141: =_xlfn.STDEV.P('ANALISIS DE COTIZACCIONES'!G150:J150) -> 1559198.8 | D141: =AVERAGE('ANALISIS DE COTIZACCIONES'!G150:J150) -> 1706700 | E141: =C141/D141 -> 0.91357516
A142: 125 | B142: Computador portatil | C142: =_xlfn.STDEV.P('ANALISIS DE COTIZACCIONES'!G151:J151) -> 938010.13 | D142: =AVERAGE('ANALISIS DE COTIZACCIONES'!G151:J151) -> 3523442.6 | E142: =C142/D142 -> 0.26621978
A143: 126 | B143: Consola 12 canales | C143: =_xlfn.STDEV.P('ANALISIS DE COTIZACCIONES'!G152:J152) -> 318840.97 | D143: =AVERAGE('ANALISIS DE COTIZACCIONES'!G152:J152) -> 1007067 | E143: =C143/D143 -> 0.31660353
A144: 127 | B144: Televisor LED Smart TV de 50 pulgadas | C144: =_xlfn.STDEV.P('ANALISIS DE COTIZACCIONES'!G153:J153) -> 909890.77 | D144: =AVERAGE('ANALISIS DE COTIZACCIONES'!G153:J153) -> 2706463.3 | E144: =C144/D144 -> 0.3361918
A145: 128 | B145: Amplificador 300 W mínimo | C145: =_xlfn.STDEV.P('ANALISIS DE COTIZACCIONES'!G154:J154) -> 367429.14 | D145: =AVERAGE('ANALISIS DE COTIZACCIONES'!G154:J154) -> 1388366.4 | E145: =C145/D145 -> 0.26464854
A146: 129 | B146: Micrófono inalámbrico UHF | C146: =_xlfn.STDEV.P('ANALISIS DE COTIZACCIONES'!G155:J155) -> 1228549.4 | D146: =AVERAGE('ANALISIS DE COTIZACCIONES'!G155:J155) -> 1577049.4 | E146: =C146/D146 -> 0.7790177
... A155: 138 | B155: Video Beam fijo | C155: =_xlfn.STDEV.P('ANALISIS DE COTIZACCIONES'!G164:J164) -> 1981206.7 | D155: =AVERAGE('ANALISIS DE COTIZACCIONES'!G164:J164) -> 3222542.3 | E155: =C155/D155 -> 0.61479617
A157: LOTE F
A158: ITEM | B158: PRODUCTO / DESCRIPCIÓN | C158: DESVIACIÓN ESTÁNDAR | D158: MEDIA ARITMÉTICA | E158: VARIACIÓN %
A159: 139 | B159: Pandero | C159: =_xlfn.STDEV.P('ANALISIS DE COTIZACCIONES'!G169:J169) -> 90554.146 | D159: =AVERAGE('ANALISIS DE COTIZACCIONES'!G169:J169) -> 141769.17 | E159: =C159/D159 -> 0.63874357
A160: 140 | B160: Organeta 61 teclas | C160: =_xlfn.STDEV.P('ANALISIS DE COTIZACCIONES'!G170:J170) -> 669912.61 | D160: =AVERAGE('ANALISIS DE COTIZACCIONES'!G170:J170) -> 1147877.2 | E160: =C160/D160 -> 0.58360999
A161: 141 | B161: Guacharaca | C161: =_xlfn.STDEV.P('ANALISIS DE COTIZACCIONES'!G171:J171) -> 16377.029 | D161: =AVERAGE('ANALISIS DE COTIZACCIONES'!G171:J171) -> 159100.4 | E161: =C161/D161 -> 0.10293518
A162: 142 | B162: Batería acústica de 5 piezas | C162: =_xlfn.STDEV.P('ANALISIS DE COTIZACCIONES'!G172:J172) -> 460697.14 | D162: =AVERAGE('ANALISIS DE COTIZACCIONES'!G172:J172) -> 2348878.9 | E162: =C162/D162 -> 0.19613491
A163: 143 | B163: Bajo eléctrico de 4 cuerdas | C163: =_xlfn.STDEV.P('ANALISIS DE COTIZACCIONES'!G173:J173) -> 809199.41 | D163: =AVERAGE('ANALISIS DE COTIZACCIONES'!G173:J173) -> 1951600.6 | E163: =C163/D163 -> 0.41463372
A164: 144 | B164: Violín tamaño 4/4 | C164: =_xlfn.STDEV.P('ANALISIS DE COTIZACCIONES'!G174:J174) -> 91606.951 | D164: =AVERAGE('ANALISIS DE COTIZACCIONES'!G174:J174) -> 394708.37 | E164: =C164/D164 -> 0.23208768
A165: 145 | B165: Congas y Bongos | C165: =_xlfn.STDEV.P('ANALISIS DE COTIZACCIONES'!G175:J175) -> 1084557.5 | D165: =AVERAGE('ANALISIS DE COTIZACCIONES'!G175:J175) -> 1684283.1 | E165: =C165/D165 -> 0.64392826
A166: 146 | B166: Atril partitura metálico plegable | C166: =_xlfn.STDEV.P('ANALISIS DE COTIZACCIONES'!G176:J176) -> 12800.464 | D166: =AVERAGE('ANALISIS DE COTIZACCIONES'!G176:J176) -> 90909.837 | E166: =C166/D166 -> 0.14080394
A167: 147 | B167: Guitarra Eléctrica tipo Stratocaster | C167: =_xlfn.STDEV.P('ANALISIS DE COTIZACCIONES'!G177:J177) -> 3023490.7 | D167: =AVERAGE('ANALISIS DE COTIZACCIONES'!G177:J177) -> 4630504.2 | E167: =C167/D167 -> 0.65295065
A168: 148 | B168: Guitarra Acustica tamaño estándar | C168: =_xlfn.STDEV.P('ANALISIS DE COTIZACCIONES'!G178:J178) -> 533554.65 | D168: =AVERAGE('ANALISIS DE COTIZACCIONES'!G178:J178) -> 813699.42 | E168: =C168/D168 -> 0.65571468
A169: 149 | B169: Lira infantil con cargador y baquetas | C169: =_xlfn.STDEV.P('ANALISIS DE COTIZACCIONES'!G179:J179) -> 228124.31 | D169: =AVERAGE('ANALISIS DE COTIZACCIONES'!G179:J179) -> 614503.05 | E169: =C169/D169 -> 0.3712338
A170: 150 | B170: Lira adulto con cargador y baquetas | C170: =_xlfn.STDEV.P('ANALISIS DE COTIZACCIONES'!G180:J180) -> 230711.39 | D170: =AVERAGE('ANALISIS DE COTIZACCIONES'!G180:J180) -> 851066.53 | E170: =C170/D170 -> 0.27108502
... A191: 171 | B191: Block de hojas de papel blanco | C191: =_xlfn.STDEV.P('ANALISIS DE COTIZACCIONES'!G201:J201) -> 1527.9506 | D191: =AVERAGE('ANALISIS DE COTIZACCIONES'!G201:J201) -> 7408.45 | E191: =C191/D191 -> 0.2062443
A193: LOTE G
A194: ITEM | B194: PRODUCTO / DESCRIPCIÓN | C194: DESVIACIÓN ESTÁNDAR | D194: MEDIA ARITMÉTICA | E194: VARIACIÓN %
A195: 172 | B195: Paquete de pelotas para ping pong x 6 unidades | C195: =_xlfn.STDEV.P('ANALISIS DE COTIZACCIONES'!G206:J206) -> 9135.1082 | D195: =AVERAGE('ANALISIS DE COTIZACCIONES'!G206:J206) -> 26354.93 | E195: =C195/D195 -> 0.34661857
A196: 173 | B196: Petos para entrenamiento (set x 10 unidades) | C196: =_xlfn.STDEV.P('ANALISIS DE COTIZACCIONES'!G207:J207) -> 149600 | D196: =AVERAGE('ANALISIS DE COTIZACCIONES'!G207:J207) -> 221367.07 | E196: =C196/D196 -> 0.67580061
A197: 174 | B197: Balón de fútbol N.° 5 | C197: =_xlfn.STDEV.P('ANALISIS DE COTIZACCIONES'!G208:J208) -> 92699.681 | D197: =AVERAGE('ANALISIS DE COTIZACCIONES'!G208:J208) -> 138810.5 | E197: =C197/D197 -> 0.66781462
A198: 175 | B198: Escalera de coordinación 6 metros | C198: =_xlfn.STDEV.P('ANALISIS DE COTIZACCIONES'!G209:J209) -> 40750.209 | D198: =AVERAGE('ANALISIS DE COTIZACCIONES'!G209:J209) -> 152834.9 | E198: =C198/D198 -> 0.26662896
A199: 176 | B199: Malla de voleibol | C199: =_xlfn.STDEV.P('ANALISIS DE COTIZACCIONES'!G210:J210) -> 282053.1 | D199: =AVERAGE('ANALISIS DE COTIZACCIONES'!G210:J210) -> 309312.29 | E199: =C199/D199 -> 0.91187162
A200: 177 | B200: Balón de voleibol #5 | C200: =_xlfn.STDEV.P('ANALISIS DE COTIZACCIONES'!G211:J211) -> 113063.77 | D200: =AVERAGE('ANALISIS DE COTIZACCIONES'!G211:J211) -> 222299.68 | E200: =C200/D200 -> 0.50860969
...

Sheet CRITERIOS DE SELECCION
A1: CRITERIOS DE SELECCIÓN RAZONABLE DE PRECIOS
A2: Medida estadística aplicable según el porcentaje de variación de las cotizaciones
A4: DESDE | B4: HASTA | C4: MEDIDA APLICABLE | D4: CRITERIO
A5: 0 | B5: 0.25 | C5: Media geométrica | D5: Variación baja (0%–25%): representa adecuadamente diferencias proporcionales entre precios homogéneos.
A6: 0.25 | B6: 0.5 | C6: Media aritmética | D6: Variación moderada (>25%–50%): conserva el promedio general de las cotizaciones observadas.
A7: 0.5 | B7: 0.75 | C7: Mediana | D7: Variación alta (>50%–75%): reduce el efecto de precios alejados del centro.
A8: 0.75 | C8: Media armónica | D8: Variación muy alta (>75%): reduce la influencia de cotizaciones elevadas.
D11: MEDIA GEOMETRICA | E11: MEDIA ARIMTETICA | F11: MEDIANA | G11: MEDIA ARMONICA
A12: LOTE | B12: ÍTEM | C12: PRODUCTO / DESCRIPCIÓN | D12: (APLICABLE A VARIACION ES DE DATOS ENTRE EL(0%–25%): | E12: (APLICABLE A VARIACIONES DE DATOS ENTRE EL (>25%–50%): | F12: (APLICABLE A VARIACIONES DE DATOS ENTRE EL (>50%–75%): | G12: (APLICABLE A VARIACIONES MAYORES >75%) | H12: VARIACIÓN % | I12: MEDIDA APLICABLE | J12: PRECIO DE REFERENCIA
A13: LOTE A | B13: 1 | C13: Cepillo de dientes | D13: =+'ANALISIS DE COTIZACCIONES'!M6 -> 4962.6593 | E13: =+'ANALISIS DE COTIZACCIONES'!L6 -> 5741.33 | F13: =+'ANALISIS DE COTIZACCIONES'!N6 -> 5125 | G13: =+'ANALISIS DE COTIZACCIONES'!O6 -> 4255.2148 | H13: ='ANALISIS DE COTIZACCIONES'!K6/'ANALISIS DE COTIZACCIONES'!L6 -> 0.52402616 | I13: =IF(H13<=25%,"Media geométrica",IF(H13<=50%,"Media aritmética",IF(H13<=75%,"Mediana","Media armónica"))) -> Mediana | J13: =IF(H13<=25%,'ANALISIS DE COTIZACCIONES'!M6,IF(H13<=50%,'ANALISIS DE COTIZACCIONES'!L6,IF(H13<=75%,'ANALISIS DE COTIZACCIONES'!N6,'ANALISIS DE COTIZACCIONES'!O6))) -> 5125
A14: LOTE A | B14: 2 | C14: Crema dental | D14: =+'ANALISIS DE COTIZACCIONES'!M7 -> 9007.6907 | E14: =+'ANALISIS DE COTIZACCIONES'!L7 -> 9131.96 | F14: =+'ANALISIS DE COTIZACCIONES'!N7 -> 9560 | G14: =+'ANALISIS DE COTIZACCIONES'!O7 -> 8877.0387 | H14: ='ANALISIS DE COTIZACCIONES'!K7/'ANALISIS DE COTIZACCIONES'!L7 -> 0.15968478 | I14: =IF(H14<=25%,"Media geométrica",IF(H14<=50%,"Media aritmética",IF(H14<=75%,"Mediana","Media armónica"))) -> Media geométrica | J14: =IF(H14<=25%,'ANALISIS DE COTIZACCIONES'!M7,IF(H14<=50%,'ANALISIS DE COTIZACCIONES'!L7,IF(H14<=75%,'ANALISIS DE COTIZACCIONES'!N7,'ANALISIS DE COTIZACCIONES'!O7))) -> 9007.6907
A15: LOTE A | B15: 3 | C15: Desodorante | D15: =+'ANALISIS DE COTIZACCIONES'!M8 -> 6306.8708 | E15: =+'ANALISIS DE COTIZACCIONES'!L8 -> 6562.585 | F15: =+'ANALISIS DE COTIZACCIONES'!N8 -> 6041.92 | G15: =+'ANALISIS DE COTIZACCIONES'!O8 -> 6077.7461 | H15: ='ANALISIS DE COTIZACCIONES'!K8/'ANALISIS DE COTIZACCIONES'!L8 -> 0.28908122 | I15: =IF(H15<=25%,"Media geométrica",IF(H15<=50%,"Media aritmética",IF(H15<=75%,"Mediana","Media armónica"))) -> Media aritmética | J15: =IF(H15<=25%,'ANALISIS DE COTIZACCIONES'!M8,IF(H15<=50%,'ANALISIS DE COTIZACCIONES'!L8,IF(H15<=75%,'ANALISIS DE COTIZACCIONES'!N8,'ANALISIS DE COTIZACCIONES'!O8))) -> 6562.585
A16: LOTE A | B16: 4 | C16: Shampoo | D16: =+'ANALISIS DE COTIZACCIONES'!M9 -> 6666.5472 | E16: =+'ANALISIS DE COTIZACCIONES'!L9 -> 7911.1625 | F16: =+'ANALISIS DE COTIZACCIONES'!N9 -> 7450.325 | G16: =+'ANALISIS DE COTIZACCIONES'!O9 -> 5413.3558 | H16: ='ANALISIS DE COTIZACCIONES'!K9/'ANALISIS DE COTIZACCIONES'!L9 -> 0.52832558 | I16: =IF(H16<=25%,"Media geométrica",IF(H16<=50%,"Media aritmética",IF(H16<=75%,"Mediana","Media armónica"))) -> Mediana | J16: =IF(H16<=25%,'ANALISIS DE COTIZACCIONES'!M9,IF(H16<=50%,'ANALISIS DE COTIZACCIONES'!L9,IF(H16<=75%,'ANALISIS DE COTIZACCIONES'!N9,'ANALISIS DE COTIZACCIONES'!O9))) -> 7450.325
A17: LOTE A | B17: 5 | C17: Jabón de baño | D17: =+'ANALISIS DE COTIZACCIONES'!M10 -> 5270.2597 | E17: =+'ANALISIS DE COTIZACCIONES'!L10 -> 5414.4775 | F17: =+'ANALISIS DE COTIZACCIONES'!N10 -> 5706.205 | G17: =+'ANALISIS DE COTIZACCIONES'!O10 -> 5113.7984 | H17: ='ANALISIS DE COTIZACCIONES'!K10/'ANALISIS DE COTIZACCIONES'!L10 -> 0.21842393 | I17: =IF(H17<=25%,"Media geométrica",IF(H17<=50%,"Media aritmética",IF(H17<=75%,"Mediana","Media armónica"))) -> Media geométrica | J17: =IF(H17<=25%,'ANALISIS DE COTIZACCIONES'!M10,IF(H17<=50%,'ANALISIS DE COTIZACCIONES'!L10,IF(H17<=75%,'ANALISIS DE COTIZACCIONES'!N10,'ANALISIS DE COTIZACCIONES'!O10))) -> 5270.2597
A18: LOTE A | B18: 6 | C18: Jabón para lavar ropa | D18: =+'ANALISIS DE COTIZACCIONES'!M11 -> 3637.8021 | E18: =+'ANALISIS DE COTIZACCIONES'!L11 -> 3849.5425 | F18: =+'ANALISIS DE COTIZACCIONES'!N11 -> 3741.585 | G18: =+'ANALISIS DE COTIZACCIONES'!O11 -> 3429.3874 | H18: ='ANALISIS DE COTIZACCIONES'!K11/'ANALISIS DE COTIZACCIONES'!L11 -> 0.32797467 | I18: =IF(H18<=25%,"Media geométrica",IF(H18<=50%,"Media aritmética",IF(H18<=75%,"Mediana","Media armónica"))) -> Media aritmética | J18: =IF(H18<=25%,'ANALISIS DE COTIZACCIONES'!M11,IF(H18<=50%,'ANALISIS DE COTIZACCIONES'!L11,IF(H18<=75%,'ANALISIS DE COTIZACCIONES'!N11,'ANALISIS DE COTIZACCIONES'!O11))) -> 3849.5425
A19: LOTE A | B19: 7 | C19: Máquina de afeitar | D19: =+'ANALISIS DE COTIZACCIONES'!M12 -> 5381.4854 | E19: =+'ANALISIS DE COTIZACCIONES'!L12 -> 5473.5742 | F19: =+'ANALISIS DE COTIZACCIONES'!N12 -> 5742.8135 | G19: =+'ANALISIS DE COTIZACCIONES'!O12 -> 5280.1618 | H19: ='ANALISIS DE COTIZACCIONES'!K12/'ANALISIS DE COTIZACCIONES'!L12 -> 0.17330844 | I19: =IF(H19<=25%,"Media geométrica",IF(H19<=50%,"Media aritmética",IF(H19<=75%,"Mediana","Media armónica"))) -> Media geométrica | J19: =IF(H19<=25%,'ANALISIS DE COTIZACCIONES'!M12,IF(H19<=50%,'ANALISIS DE COTIZACCIONES'!L12,IF(H19<=75%,'ANALISIS DE COTIZACCIONES'!N12,'ANALISIS DE COTIZACCIONES'!O12))) -> 5381.4854
A20: LOTE A | B20: 8 | C20: Papel higiénico | D20: =+'ANALISIS DE COTIZACCIONES'!M13 -> 13768.429 | E20: =+'ANALISIS DE COTIZACCIONES'!L13 -> 13845.438 | F20: =+'ANALISIS DE COTIZACCIONES'!N13 -> 13847.5 | G20: =+'ANALISIS DE COTIZACCIONES'!O13 -> 13691.829 | H20: ='ANALISIS DE COTIZACCIONES'!K13/'ANALISIS DE COTIZACCIONES'!L13 -> 0.10531558 | I20: =IF(H20<=25%,"Media geométrica",IF(H20<=50%,"Media aritmética",IF(H20<=75%,"Mediana","Media armónica"))) -> Media geométrica | J20: =IF(H20<=25%,'ANALISIS DE COTIZACCIONES'!M13,IF(H20<=50%,'ANALISIS DE COTIZACCIONES'!L13,IF(H20<=75%,'ANALISIS DE COTIZACCIONES'!N13,'ANALISIS DE COTIZACCIONES'!O13))) -> 13768.429
A21: LOTE A | B21: 9 | C21: Cepillo de dientes | D21: =+'ANALISIS DE COTIZACCIONES'!M14 -> 4962.6593 | E21: =+'ANALISIS DE COTIZACCIONES'!L14 -> 5741.33 | F21: =+'ANALISIS DE COTIZACCIONES'!N14 -> 5125 | G21: =+'ANALISIS DE COTIZACCIONES'!O14 -> 4255.2148 | H21: ='ANALISIS DE COTIZACCIONES'!K14/'ANALISIS DE COTIZACCIONES'!L14 -> 0.52402616 | I21: =IF(H21<=25%,"Media geométrica",IF(H21<=50%,"Media aritmética",IF(H21<=75%,"Mediana","Media armónica"))) -> Mediana | J21: =IF(H21<=25%,'ANALISIS DE COTIZACCIONES'!M14,IF(H21<=50%,'ANALISIS DE COTIZACCIONES'!L14,IF(H21<=75%,'ANALISIS DE COTIZACCIONES'!N14,'ANALISIS DE COTIZACCIONES'!O14))) -> 5125
A22: LOTE A | B22: 10 | C22: Crema dental | D22: =+'ANALISIS DE COTIZACCIONES'!M15 -> 9007.6907 | E22: =+'ANALISIS DE COTIZACCIONES'!L15 -> 9131.96 | F22: =+'ANALISIS DE COTIZACCIONES'!N15 -> 9560 | G22: =+'ANALISIS DE COTIZACCIONES'!O15 -> 8877.0387 | H22: ='ANALISIS DE COTIZACCIONES'!K15/'ANALISIS DE COTIZACCIONES'!L15 -> 0.15968478 | I22: =IF(H22<=25%,"Media geométrica",IF(H22<=50%,"Media aritmética",IF(H22<=75%,"Mediana","Media armónica"))) -> Media geométrica | J22: =IF(H22<=25%,'ANALISIS DE COTIZACCIONES'!M15,IF(H22<=50%,'ANALISIS DE COTIZACCIONES'!L15,IF(H22<=75%,'ANALISIS DE COTIZACCIONES'!N15,'ANALISIS DE COTIZACCIONES'!O15))) -> 9007.6907
A23: LOTE A | B23: 11 | C23: Desodorante | D23: =+'ANALISIS DE COTIZACCIONES'!M16 -> 6382.5095 | E23: =+'ANALISIS DE COTIZACCIONES'!L16 -> 6625.335 | F23: =+'ANALISIS DE COTIZACCIONES'!N16 -> 6167.42 | G23: =+'ANALISIS DE COTIZACCIONES'!O16 -> 6162.5963 | H23: ='ANALISIS DE COTIZACCIONES'!K16/'ANALISIS DE COTIZACCIONES'!L16 -> 0.27962729 | I23: =IF(H23<=25%,"Media geométrica",IF(H23<=50%,"Media aritmética",IF(H23<=75%,"Mediana","Media armónica"))) -> Media aritmética | J23: =IF(H23<=25%,'ANALISIS DE COTIZACCIONES'!M16,IF(H23<=50%,'ANALISIS DE COTIZACCIONES'!L16,IF(H23<=75%,'ANALISIS DE COTIZACCIONES'!N16,'ANALISIS DE COTIZACCIONES'!O16))) -> 6625.335
A24: LOTE A | B24: 12 | C24: Shampoo | D24: =+'ANALISIS DE COTIZACCIONES'!M17 -> 6666.5472 | E24: =+'ANALISIS DE COTIZACCIONES'!L17 -> 7911.1625 | F24: =+'ANALISIS DE COTIZACCIONES'!N17 -> 7450.325 | G24: =+'ANALISIS DE COTIZACCIONES'!O17 -> 5413.3558 | H24: ='ANALISIS DE COTIZACCIONES'!K17/'ANALISIS DE COTIZACCIONES'!L17 -> 0.52832558 | I24: =IF(H24<=25%,"Media geométrica",IF(H24<=50%,"Media aritmética",IF(H24<=75%,"Mediana","Media armónica"))) -> Mediana | J24: =IF(H24<=25%,'ANALISIS DE COTIZACCIONES'!M17,IF(H24<=50%,'ANALISIS DE COTIZACCIONES'!L17,IF(H24<=75%,'ANALISIS DE COTIZACCIONES'!N17,'ANALISIS DE COTIZACCIONES'!O17))) -> 7450.325
... A67: LOTE A | B67: 55 | C67: Servilletas | D67: =+'ANALISIS DE COTIZACCIONES'!M60 -> 4821.4615 | E67: =+'ANALISIS DE COTIZACCIONES'!L60 -> 4935.89 | F67: =+'ANALISIS DE COTIZACCIONES'!N60 -> 4731.78 | G67: =+'ANALISIS DE COTIZACCIONES'!O60 -> 4713.6859 | H67: ='ANALISIS DE COTIZACCIONES'!K60/'ANALISIS DE COTIZACCIONES'!L60 -> 0.22038709 | I67: =IF(H67<=25%,"Media geométrica",IF(H67<=50%,"Media aritmética",IF(H67<=75%,"Mediana","Media armónica"))) -> Media geométrica | J67: =IF(H67<=25%,'ANALISIS DE COTIZACCIONES'!M60,IF(H67<=50%,'ANALISIS DE COTIZACCIONES'!L60,IF(H67<=75%,'ANALISIS DE COTIZACCIONES'!N60,'ANALISIS DE COTIZACCIONES'!O60))) -> 4821.4615
A68: LOTE B | B68: 56 | C68: Silla plastica tipo rimax sin brazos | D68: =+'ANALISIS DE COTIZACCIONES'!M68 -> 74490.455 | E68: =+'ANALISIS DE COTIZACCIONES'!L68 -> 79433.67 | F68: =+'ANALISIS DE COTIZACCIONES'!N68 -> 72900 | G68: =+'ANALISIS DE COTIZACCIONES'!O68 -> 70044.851 | H68: ='ANALISIS DE COTIZACCIONES'!K68/'ANALISIS DE COTIZACCIONES'!L68 -> 0.36497292 | I68: =IF(H68<=25%,"Media geométrica",IF(H68<=50%,"Media aritmética",IF(H68<=75%,"Mediana","Media armónica"))) -> Media aritmética | J68: =IF(H68<=25%,'ANALISIS DE COTIZACCIONES'!M68,IF(H68<=50%,'ANALISIS DE COTIZACCIONES'!L68,IF(H68<=75%,'ANALISIS DE COTIZACCIONES'!N68,'ANALISIS DE COTIZACCIONES'!O68))) -> 79433.67
A69: LOTE B | B69: 57 | C69: Mesa plastica cuadrada tipo rimax 72x72 cm | D69: =+'ANALISIS DE COTIZACCIONES'!M69 -> 186135.56 | E69: =+'ANALISIS DE COTIZACCIONES'!L69 -> 199049.42 | F69: =+'ANALISIS DE COTIZACCIONES'!N69 -> 190315 | G69: =+'ANALISIS DE COTIZACCIONES'!O69 -> 173740.44 | H69: ='ANALISIS DE COTIZACCIONES'!K69/'ANALISIS DE COTIZACCIONES'!L69 -> 0.35913603 | I69: =IF(H69<=25%,"Media geométrica",IF(H69<=50%,"Media aritmética",IF(H69<=75%,"Mediana","Media armónica"))) -> Media aritmética | J69: =IF(H69<=25%,'ANALISIS DE COTIZACCIONES'!M69,IF(H69<=50%,'ANALISIS DE COTIZACCIONES'!L69,IF(H69<=75%,'ANALISIS DE COTIZACCIONES'!N69,'ANALISIS DE COTIZACCIONES'!O69))) -> 199049.42
A70: LOTE B | B70: 58 | C70: Mesa Plegable Tipo Portafolio Plástica 180 cm x 75 cm | D70: =+'ANALISIS DE COTIZACCIONES'!M70 -> 362493.05 | E70: =+'ANALISIS DE COTIZACCIONES'!L70 -> 391866.52 | F70: =+'ANALISIS DE COTIZACCIONES'!N70 -> 405000 | G70: =+'ANALISIS DE COTIZACCIONES'!O70 -> 332358.84 | H70: ='ANALISIS DE COTIZACCIONES'!K70/'ANALISIS DE COTIZACCIONES'!L70 -> 0.36603907 | I70: =IF(H70<=25%,"Media geométrica",IF(H70<=50%,"Media aritmética",IF(H70<=75%,"Mediana","Media armónica"))) -> Media aritmética | J70: =IF(H70<=25%,'ANALISIS DE COTIZACCIONES'!M70,IF(H70<=50%,'ANALISIS DE COTIZACCIONES'!L70,IF(H70<=75%,'ANALISIS DE COTIZACCIONES'!N70,'ANALISIS DE COTIZACCIONES'!O70))) -> 391866.52
A71: LOTE B | B71: 59 | C71: Silla plastica infantil | D71: =+'ANALISIS DE COTIZACCIONES'!M71 -> 75484.438 | E71: =+'ANALISIS DE COTIZACCIONES'!L71 -> 97636.6 | F71: =+'ANALISIS DE COTIZACCIONES'!N71 -> 55550 | G71: =+'ANALISIS DE COTIZACCIONES'!O71 -> 63810.331 | H71: ='ANALISIS DE COTIZACCIONES'!K71/'ANALISIS DE COTIZACCIONES'!L71 -> 0.80811692 | I71: =IF(H71<=25%,"Media geométrica",IF(H71<=50%,"Media aritmética",IF(H71<=75%,"Mediana","Media armónica"))) -> Media armónica | J71: =IF(H71<=25%,'ANALISIS DE COTIZACCIONES'!M71,IF(H71<=50%,'ANALISIS DE COTIZACCIONES'!L71,IF(H71<=75%,'ANALISIS DE COTIZACCIONES'!N71,'ANALISIS DE COTIZACCIONES'!O71))) -> 63810.331
A72: LOTE B | B72: 60 | C72: Mesa tipo rimax para niños | D72: =+'ANALISIS DE COTIZACCIONES'!M72 -> 116500.5 | E72: =+'ANALISIS DE COTIZACCIONES'!L72 -> 120559.8 | F72: =+'ANALISIS DE COTIZACCIONES'!N72 -> 128355 | G72: =+'ANALISIS DE COTIZACCIONES'!O72 -> 111880.98 | H72: ='ANALISIS DE COTIZACCIONES'!K72/'ANALISIS DE COTIZACCIONES'!L72 -> 0.23869966 | I72: =IF(H72<=25%,"Media geométrica",IF(H72<=50%,"Media aritmética",IF(H72<=75%,"Mediana","Media armónica"))) -> Media geométrica | J72: =IF(H72<=25%,'ANALISIS DE COTIZACCIONES'!M72,IF(H72<=50%,'ANALISIS DE COTIZACCIONES'!L72,IF(H72<=75%,'ANALISIS DE COTIZACCIONES'!N72,'ANALISIS DE COTIZACCIONES'!O72))) -> 116500.5
A73: LOTE B | B73: 61 | C73: Caja plastica organizadora | D73: =+'ANALISIS DE COTIZACCIONES'!M73 -> 230773.11 | E73: =+'ANALISIS DE COTIZACCIONES'!L73 -> 239455.67 | F73: =+'ANALISIS DE COTIZACCIONES'!N73 -> 213495 | G73: =+'ANALISIS DE COTIZACCIONES'!O73 -> 223365.93 | H73: ='ANALISIS DE COTIZACCIONES'!K73/'ANALISIS DE COTIZACCIONES'!L73 -> 0.28630201 | I73: =IF(H73<=25%,"Media geométrica",IF(H73<=50%,"Media aritmética",IF(H73<=75%,"Mediana","Media armónica"))) -> Media aritmética | J73: =IF(H73<=25%,'ANALISIS DE COTIZACCIONES'!M73,IF(H73<=50%,'ANALISIS DE COTIZACCIONES'!L73,IF(H73<=75%,'ANALISIS DE COTIZACCIONES'!N73,'ANALISIS DE COTIZACCIONES'!O73))) -> 239455.67
A74: LOTE B | B74: 62 | C74: Estanteria metalica | D74: =+'ANALISIS DE COTIZACCIONES'!M74 -> 577982.6 | E74: =+'ANALISIS DE COTIZACCIONES'!L74 -> 669417.89 | F74: =+'ANALISIS DE COTIZACCIONES'!N74 -> 620385.78 | G74: =+'ANALISIS DE COTIZACCIONES'!O74 -> 500345.11 | H74: ='ANALISIS DE COTIZACCIONES'!K74/'ANALISIS DE COTIZACCIONES'!L74 -> 0.5123869 | I74: =IF(H74<=25%,"Media geométrica",IF(H74<=50%,"Media aritmética",IF(H74<=75%,"Mediana","Media armónica"))) -> Mediana | J74: =IF(H74<=25%,'ANALISIS DE COTIZACCIONES'!M74,IF(H74<=50%,'ANALISIS DE COTIZACCIONES'!L74,IF(H74<=75%,'ANALISIS DE COTIZACCIONES'!N74,'ANALISIS DE COTIZACCIONES'!O74))) -> 620385.78
A75: LOTE B | B75: 63 | C75: Archivador metalico 3 gavetas tipo oficio | D75: =+'ANALISIS DE COTIZACCIONES'!M75 -> 1153085.8 | E75: =+'ANALISIS DE COTIZACCIONES'!L75 -> 1186068.7 | F75: =+'ANALISIS DE COTIZACCIONES'!N75 -> 1187945 | G75: =+'ANALISIS DE COTIZACCIONES'!O75 -> 1120524.1 | H75: ='ANALISIS DE COTIZACCIONES'!K75/'ANALISIS DE COTIZACCIONES'!L75 -> 0.23320288 | I75: =IF(H75<=25%,"Media geométrica",IF(H75<=50%,"Media aritmética",IF(H75<=75%,"Mediana","Media armónica"))) -> Media geométrica | J75: =IF(H75<=25%,'ANALISIS DE COTIZACCIONES'!M75,IF(H75<=50%,'ANALISIS DE COTIZACCIONES'!L75,IF(H75<=75%,'ANALISIS DE COTIZACCIONES'!N75,'ANALISIS DE COTIZACCIONES'!O75))) -> 1153085.8
A76: LOTE B | B76: 64 | C76: Escritorio en L 150 x 150 cm | D76: =+'ANALISIS DE COTIZACCIONES'!M76 -> 1605379.7 | E76: =+'ANALISIS DE COTIZACCIONES'!L76 -> 2025502.3 | F76: =+'ANALISIS DE COTIZACCIONES'!N76 -> 1735559.6 | G76: =+'ANALISIS DE COTIZACCIONES'!O76 -> 1277362.9 | H76: ='ANALISIS DE COTIZACCIONES'!K76/'ANALISIS DE COTIZACCIONES'!L76 -> 0.64226411 | I76: =IF(H76<=25%,"Media geométrica",IF(H76<=50%,"Media aritmética",IF(H76<=75%,"Mediana","Media armónica"))) -> Mediana | J76: =IF(H76<=25%,'ANALISIS DE COTIZACCIONES'!M76,IF(H76<=50%,'ANALISIS DE COTIZACCIONES'!L76,IF(H76<=75%,'ANALISIS DE COTIZACCIONES'!N76,'ANALISIS DE COTIZACCIONES'!O76))) -> 1735559.6
A77: LOTE B | B77: 65 | C77: Silla ergonómica con soporte lumbar y ajuste de altura | D77: =+'ANALISIS DE COTIZACCIONES'!M77 -> 445478.45 | E77: =+'ANALISIS DE COTIZACCIONES'!L77 -> 520715.08 | F77: =+'ANALISIS DE COTIZACCIONES'!N77 -> 500985.16 | G77: =+'ANALISIS DE COTIZACCIONES'!O77 -> 373130.2 | H77: ='ANALISIS DE COTIZACCIONES'!K77/'ANALISIS DE COTIZACCIONES'!L77 -> 0.5100068 | I77: =IF(H77<=25%,"Media geométrica",IF(H77<=50%,"Media aritmética",IF(H77<=75%,"Mediana","Media armónica"))) -> Mediana | J77: =IF(H77<=25%,'ANALISIS DE COTIZACCIONES'!M77,IF(H77<=50%,'ANALISIS DE COTIZACCIONES'!L77,IF(H77<=75%,'ANALISIS DE COTIZACCIONES'!N77,'ANALISIS DE COTIZACCIONES'!O77))) -> 500985.16
A78: LOTE B | B78: 66 | C78: Punto ecologico industrial 3 puestos (aprovechables, no aprovechables y orgánicos) | D78: =+'ANALISIS DE COTIZACCIONES'!M78 -> 772941.58 | E78: =+'ANALISIS DE COTIZACCIONES'!L78 -> 848497.59 | F78: =+'ANALISIS DE COTIZACCIONES'!N78 -> 809400 | G78: =+'ANALISIS DE COTIZACCIONES'!O78 -> 698201.84 | H78: ='ANALISIS DE COTIZACCIONES'!K78/'ANALISIS DE COTIZACCIONES'!L78 -> 0.41340495 | I78: =IF(H78<=25%,"Media geométrica",IF(H78<=50%,"Media aritmética",IF(H78<=75%,"Mediana","Media armónica"))) -> Media aritmética | J78: =IF(H78<=25%,'ANALISIS DE COTIZACCIONES'!M78,IF(H78<=50%,'ANALISIS DE COTIZACCIONES'!L78,IF(H78<=75%,'ANALISIS DE COTIZACCIONES'!N78,'ANALISIS DE COTIZACCIONES'!O78))) -> 848497.59
A79: LOTE B | B79: 67 | C79: Tablero acrílico blanco 120 x 140 cm | D79: =+'ANALISIS DE COTIZACCIONES'!M79 -> 717224.29 | E79: =+'ANALISIS DE COTIZACCIONES'!L79 -> 773639.5 | F79: =+'ANALISIS DE COTIZACCIONES'!N79 -> 619884 | G79: =+'ANALISIS DE COTIZACCIONES'!O79 -> 675439.84 | H79: ='ANALISIS DE COTIZACCIONES'!K79/'ANALISIS DE COTIZACCIONES'!L79 -> 0.42616844 | I79: =IF(H79<=25%,"Media geométrica",IF(H79<=50%,"Media aritmética",IF(H79<=75%,"Mediana","Media armónica"))) -> Media aritmética | J79: =IF(H79<=25%,'ANALISIS DE COTIZACCIONES'!M79,IF(H79<=50%,'ANALISIS DE COTIZACCIONES'!L79,IF(H79<=75%,'ANALISIS DE COTIZACCIONES'!N79,'ANALISIS DE COTIZACCIONES'!O79))) -> 773639.5
A80: LOTE B | B80: 68 | C80: Carpa plegable impermeable tipo acordeón para exteriores 3x3 m | D80: =+'ANALISIS DE COTIZACCIONES'!M80 -> 876935.29 | E80: =+'ANALISIS DE COTIZACCIONES'!L80 -> 1337952.5 | F80: =+'ANALISIS DE COTIZACCIONES'!N80 -> 1178000 | G80: =+'ANALISIS DE COTIZACCIONES'!O80 -> 577119.49 | H80: ='ANALISIS DE COTIZACCIONES'!K80/'ANALISIS DE COTIZACCIONES'!L80 -> 0.77371315 | I80: =IF(H80<=25%,"Media geométrica",IF(H80<=50%,"Media aritmética",IF(H80<=75%,"Mediana","Media armónica"))) -> Media armónica | J80: =IF(H80<=25%,'ANALISIS DE COTIZACCIONES'!M80,IF(H80<=50%,'ANALISIS DE COTIZACCIONES'!L80,IF(H80<=75%,'ANALISIS DE COTIZACCIONES'!N80,'ANALISIS DE COTIZACCIONES'!O80))) -> 577119.49
A81: LOTE C | B81: 69 | C81: Cemento bulto x 50 kg | D81: =+'ANALISIS DE COTIZACCIONES'!M86 -> 48112.531 | E81: =+'ANALISIS DE COTIZACCIONES'!L86 -> 48584.48 | F81: =+'ANALISIS DE COTIZACCIONES'!N86 -> 50903.44 | G81: =+'ANALISIS DE COTIZACCIONES'!O86 -> 47621.232 | H81: ='ANALISIS DE COTIZACCIONES'!K86/'ANALISIS DE COTIZACCIONES'!L86 -> 0.13576662 | I81: =IF(H81<=25%,"Media geométrica",IF(H81<=50%,"Media aritmética",IF(H81<=75%,"Mediana","Media armónica"))) -> Media geométrica | J81: =IF(H81<=25%,'ANALISIS DE COTIZACCIONES'!M86,IF(H81<=50%,'ANALISIS DE COTIZACCIONES'!L86,IF(H81<=75%,'ANALISIS DE COTIZACCIONES'!N86,'ANALISIS DE COTIZACCIONES'!O86))) -> 48112.531
A82: LOTE C | B82: 70 | C82: Mixto metro cúbico (m³) | D82: =+'ANALISIS DE COTIZACCIONES'!M87 -> 258750.99 | E82: =+'ANALISIS DE COTIZACCIONES'!L87 -> 261733.47 | F82: =+'ANALISIS DE COTIZACCIONES'!N87 -> 272800 | G82: =+'ANALISIS DE COTIZACCIONES'!O87 -> 255657.1 | H82: ='ANALISIS DE COTIZACCIONES'!K87/'ANALISIS DE COTIZACCIONES'!L87 -> 0.14719327 | I82: =IF(H82<=25%,"Media geométrica",IF(H82<=50%,"Media aritmética",IF(H82<=75%,"Mediana","Media armónica"))) -> Media geométrica | J82: =IF(H82<=25%,'ANALISIS DE COTIZACCIONES'!M87,IF(H82<=50%,'ANALISIS DE COTIZACCIONES'!L87,IF(H82<=75%,'ANALISIS DE COTIZACCIONES'!N87,'ANALISIS DE COTIZACCIONES'!O87))) -> 258750.99
A83: LOTE C | B83: 71 | C83: Caja de baldosas para piso 60x60 cm | D83: =+'ANALISIS DE COTIZACCIONES'!M88 -> 102089.43 | E83: =+'ANALISIS DE COTIZACCIONES'!L88 -> 106353.71 | F83: =+'ANALISIS DE COTIZACCIONES'!N88 -> 100800.14 | G83: =+'ANALISIS DE COTIZACCIONES'!O88 -> 98045.701 | H83: ='ANALISIS DE COTIZACCIONES'!K88/'ANALISIS DE COTIZACCIONES'!L88 -> 0.28488859 | I83: =IF(H83<=25%,"Media geométrica",IF(H83<=50%,"Media aritmética",IF(H83<=75%,"Mediana","Media armónica"))) -> Media aritmética | J83: =IF(H83<=25%,'ANALISIS DE COTIZACCIONES'!M88,IF(H83<=50%,'ANALISIS DE COTIZACCIONES'!L88,IF(H83<=75%,'ANALISIS DE COTIZACCIONES'!N88,'ANALISIS DE COTIZACCIONES'!O88))) -> 106353.71
A84: LOTE C | B84: 72 | C84: Arena metro cúbico (m³) | D84: =+'ANALISIS DE COTIZACCIONES'!M89 -> 182952.04 | E84: =+'ANALISIS DE COTIZACCIONES'!L89 -> 191962.67 | F84: =+'ANALISIS DE COTIZACCIONES'!N89 -> 153000 | G84: =+'ANALISIS DE COTIZACCIONES'!O89 -> 175420 | H84: ='ANALISIS DE COTIZACCIONES'!K89/'ANALISIS DE COTIZACCIONES'!L89 -> 0.32457608 | I84: =IF(H84<=25%,"Media geométrica",IF(H84<=50%,"Media aritmética",IF(H84<=75%,"Mediana","Media armónica"))) -> Media aritmética | J84: =IF(H84<=25%,'ANALISIS DE COTIZACCIONES'!M89,IF(H84<=50%,'ANALISIS DE COTIZACCIONES'!L89,IF(H84<=75%,'ANALISIS DE COTIZACCIONES'!N89,'ANALISIS DE COTIZACCIONES'!O89))) -> 191962.67
A85: LOTE C | B85: 73 | C85: Varilla ½ pulgada barra de 6 metros | D85: =+'ANALISIS DE COTIZACCIONES'!M90 -> 38492.677 | E85: =+'ANALISIS DE COTIZACCIONES'!L90 -> 38631.72 | F85: =+'ANALISIS DE COTIZACCIONES'!N90 -> 40655.16 | G85: =+'ANALISIS DE COTIZACCIONES'!O90 -> 38348.518 | H85: ='ANALISIS DE COTIZACCIONES'!K90/'ANALISIS DE COTIZACCIONES'!L90 -> 0.08310573 | I85: =IF(H85<=25%,"Media geométrica",IF(H85<=50%,"Media aritmética",IF(H85<=75%,"Mediana","Media armónica"))) -> Media geométrica | J85: =IF(H85<=25%,'ANALISIS DE COTIZACCIONES'!M90,IF(H85<=50%,'ANALISIS DE COTIZACCIONES'!L90,IF(H85<=75%,'ANALISIS DE COTIZACCIONES'!N90,'ANALISIS DE COTIZACCIONES'!O90))) -> 38492.677
A86: LOTE C | B86: 74 | C86: Varilla ⅜ pulgada barra de 6 metros | D86: =+'ANALISIS DE COTIZACCIONES'!M91 -> 21383.14 | E86: =+'ANALISIS DE COTIZACCIONES'!L91 -> 21802.76 | F86: =+'ANALISIS DE COTIZACCIONES'!N91 -> 24528.28 | G86: =+'ANALISIS DE COTIZACCIONES'!O91 -> 20931.324 | H86: ='ANALISIS DE COTIZACCIONES'!K91/'ANALISIS DE COTIZACCIONES'!L91 -> 0.18632919 | I86: =IF(H86<=25%,"Media geométrica",IF(H86<=50%,"Media aritmética",IF(H86<=75%,"Mediana","Media armónica"))) -> Media geométrica | J86: =IF(H86<=25%,'ANALISIS DE COTIZACCIONES'!M91,IF(H86<=50%,'ANALISIS DE COTIZACCIONES'!L91,IF(H86<=75%,'ANALISIS DE COTIZACCIONES'!N91,'ANALISIS DE COTIZACCIONES'!O91))) -> 21383.14
A87: LOTE C | B87: 75 | C87: Bloque N4 paquete x 50 unidades | D87: =+'ANALISIS DE COTIZACCIONES'!M92 -> 35527.105 | E87: =+'ANALISIS DE COTIZACCIONES'!L92 -> 104991.67 | F87: =+'ANALISIS DE COTIZACCIONES'!N92 -> 121800 | G87: =+'ANALISIS DE COTIZACCIONES'!O92 -> 5629.3685 | H87: ='ANALISIS DE COTIZACCIONES'!K92/'ANALISIS DE COTIZACCIONES'!L92 -> 0.74482179 | I87: =IF(H87<=25%,"Media geométrica",IF(H87<=50%,"Media aritmética",IF(H87<=75%,"Mediana","Media armónica"))) -> Mediana | J87: =IF(H87<=25%,'ANALISIS DE COTIZACCIONES'!M92,IF(H87<=50%,'ANALISIS DE COTIZACCIONES'!L92,IF(H87<=75%,'ANALISIS DE COTIZACCIONES'!N92,'ANALISIS DE COTIZACCIONES'!O92))) -> 121800
A88: LOTE C | B88: 76 | C88: Caja de cerámica para pared 20x30 cm | D88: =+'ANALISIS DE COTIZACCIONES'!M93 -> 56048.38 | E88: =+'ANALISIS DE COTIZACCIONES'!L93 -> 56914.193 | F88: =+'ANALISIS DE COTIZACCIONES'!N93 -> 54400 | G88: =+'ANALISIS DE COTIZACCIONES'!O93 -> 55219.969 | H88: ='ANALISIS DE COTIZACCIONES'!K93/'ANALISIS DE COTIZACCIONES'!L93 -> 0.17688826 | I88: =IF(H88<=25%,"Media geométrica",IF(H88<=50%,"Media aritmética",IF(H88<=75%,"Mediana","Media armónica"))) -> Media geométrica | J88: =IF(H88<=25%,'ANALISIS DE COTIZACCIONES'!M93,IF(H88<=50%,'ANALISIS DE COTIZACCIONES'!L93,IF(H88<=75%,'ANALISIS DE COTIZACCIONES'!N93,'ANALISIS DE COTIZACCIONES'!O93))) -> 56048.38
A89: LOTE C | B89: 77 | C89: Caja de baldosas para piso antideslizantes 30x60 cm | D89: =+'ANALISIS DE COTIZACCIONES'!M94 -> 106880.94 | E89: =+'ANALISIS DE COTIZACCIONES'!L94 -> 112262.43 | F89: =+'ANALISIS DE COTIZACCIONES'!N94 -> 134334 | G89: =+'ANALISIS DE COTIZACCIONES'!O94 -> 100946.42 | H89: ='ANALISIS DE COTIZACCIONES'!K94/'ANALISIS DE COTIZACCIONES'!L94 -> 0.28385863 | I89: =IF(H89<=25%,"Media geométrica",IF(H89<=50%,"Media aritmética",IF(H89<=75%,"Mediana","Media armónica"))) -> Media aritmética | J89: =IF(H89<=25%,'ANALISIS DE COTIZACCIONES'!M94,IF(H89<=50%,'ANALISIS DE COTIZACCIONES'!L94,IF(H89<=75%,'ANALISIS DE COTIZACCIONES'!N94,'ANALISIS DE COTIZACCIONES'!O94))) -> 112262.43
A90: LOTE C | B90: 78 | C90: Pegamento para piso bulto de 25 kg | D90: =+'ANALISIS DE COTIZACCIONES'!M95 -> 50979.977 | E90: =+'ANALISIS DE COTIZACCIONES'!L95 -> 56628 | F90: =+'ANALISIS DE COTIZACCIONES'!N95 -> 39984 | G90: =+'ANALISIS DE COTIZACCIONES'!O95 -> 46721.008 | H90: ='ANALISIS DE COTIZACCIONES'!K95/'ANALISIS DE COTIZACCIONES'!L95 -> 0.48093623 | I90: =IF(H90<=25%,"Media geométrica",IF(H90<=50%,"Media aritmética",IF(H90<=75%,"Mediana","Media armónica"))) -> Media aritmética | J90: =IF(H90<=25%,'ANALISIS DE COTIZACCIONES'!M95,IF(H90<=50%,'ANALISIS DE COTIZACCIONES'!L95,IF(H90<=75%,'ANALISIS DE COTIZACCIONES'!N95,'ANALISIS DE COTIZACCIONES'!O95))) -> 56628
A91: LOTE C | B91: 79 | C91: Tubo sanitario pvc 2 pulgadas tramo de 1 metro | D91: =+'ANALISIS DE COTIZACCIONES'!M96 -> 12090.24 | E91: =+'ANALISIS DE COTIZACCIONES'!L96 -> 12616.97 | F91: =+'ANALISIS DE COTIZACCIONES'!N96 -> 12600.91 | G91: =+'ANALISIS DE COTIZACCIONES'!O96 -> 11565.373 | H91: ='ANALISIS DE COTIZACCIONES'!K96/'ANALISIS DE COTIZACCIONES'!L96 -> 0.28312587 | I91: =IF(H91<=25%,"Media geométrica",IF(H91<=50%,"Media aritmética",IF(H91<=75%,"Mediana","Media armónica"))) -> Media aritmética | J91: =IF(H91<=25%,'ANALISIS DE COTIZACCIONES'!M96,IF(H91<=50%,'ANALISIS DE COTIZACCIONES'!L96,IF(H91<=75%,'ANALISIS DE COTIZACCIONES'!N96,'ANALISIS DE COTIZACCIONES'!O96))) -> 12616.97
A92: LOTE C | B92: 80 | C92: Codo pvc 2 pulgadas | D92: =+'ANALISIS DE COTIZACCIONES'!M97 -> 4133.4021 | E92: =+'ANALISIS DE COTIZACCIONES'!L97 -> 4180.2333 | F92: =+'ANALISIS DE COTIZACCIONES'!N97 -> 4200.7 | G92: =+'ANALISIS DE COTIZACCIONES'!O97 -> 4086.3559 | H92: ='ANALISIS DE COTIZACCIONES'!K97/'ANALISIS DE COTIZACCIONES'!L97 -> 0.148486 | I92: =IF(H92<=25%,"Media geométrica",IF(H92<=50%,"Media aritmética",IF(H92<=75%,"Mediana","Media armónica"))) -> Media geométrica | J92: =IF(H92<=25%,'ANALISIS DE COTIZACCIONES'!M97,IF(H92<=50%,'ANALISIS DE COTIZACCIONES'!L97,IF(H92<=75%,'ANALISIS DE COTIZACCIONES'!N97,'ANALISIS DE COTIZACCIONES'!O97))) -> 4133.4021
... A104: LOTE C | B104: 92 | C104: Espátula para pintura | D104: =+'ANALISIS DE COTIZACCIONES'!M109 -> 18034.537 | E104: =+'ANALISIS DE COTIZACCIONES'!L109 -> 39439.45 | F104: =+'ANALISIS DE COTIZACCIONES'!N109 -> 17000 | G104: =+'ANALISIS DE COTIZACCIONES'!O109 -> 8511.4081 | H104: ='ANALISIS DE COTIZACCIONES'!K109/'ANALISIS DE COTIZACCIONES'!L109 -> 1.0554154 | I104: =IF(H104<=25%,"Media geométrica",IF(H104<=50%,"Media aritmética",IF(H104<=75%,"Mediana","Media armónica"))) -> Media armónica | J104: =IF(H104<=25%,'ANALISIS DE COTIZACCIONES'!M109,IF(H104<=50%,'ANALISIS DE COTIZACCIONES'!L109,IF(H104<=75%,'ANALISIS DE COTIZACCIONES'!N109,'ANALISIS DE COTIZACCIONES'!O109))) -> 8511.4081
A105: LOTE D | B105: 93 | C105: Estufa industrial 3 puestos a gas | D105: =+'ANALISIS DE COTIZACCIONES'!M115 -> 4787022.5 | E105: =+'ANALISIS DE COTIZACCIONES'!L115 -> 4965830 | F105: =+'ANALISIS DE COTIZACCIONES'!N115 -> 5712000 | G105: =+'ANALISIS DE COTIZACCIONES'!O115 -> 4591627.3 | H105: ='ANALISIS DE COTIZACCIONES'!K115/'ANALISIS DE COTIZACCIONES'!L115 -> 0.24969318 | I105: =IF(H105<=25%,"Media geométrica",IF(H105<=50%,"Media aritmética",IF(H105<=75%,"Mediana","Media armónica"))) -> Media geométrica | J105: =IF(H105<=25%,'ANALISIS DE COTIZACCIONES'!M115,IF(H105<=50%,'ANALISIS DE COTIZACCIONES'!L115,IF(H105<=75%,'ANALISIS DE COTIZACCIONES'!N115,'ANALISIS DE COTIZACCIONES'!O115))) -> 4787022.5
A106: LOTE D | B106: 94 | C106: Estufa industrial 1 puesto a gas | D106: =+'ANALISIS DE COTIZACCIONES'!M116 -> 1868781.1 | E106: =+'ANALISIS DE COTIZACCIONES'!L116 -> 2425097 | F106: =+'ANALISIS DE COTIZACCIONES'!N116 -> 3326401 | G106: =+'ANALISIS DE COTIZACCIONES'!O116 -> 1296846.8 | H106: ='ANALISIS DE COTIZACCIONES'!K116/'ANALISIS DE COTIZACCIONES'!L116 -> 0.5371898 | I106: =IF(H106<=25%,"Media geométrica",IF(H106<=50%,"Media aritmética",IF(H106<=75%,"Mediana","Media armónica"))) -> Mediana | J106: =IF(H106<=25%,'ANALISIS DE COTIZACCIONES'!M116,IF(H106<=50%,'ANALISIS DE COTIZACCIONES'!L116,IF(H106<=75%,'ANALISIS DE COTIZACCIONES'!N116,'ANALISIS DE COTIZACCIONES'!O116))) -> 3326401
A107: LOTE D | B107: 95 | C107: Carro de cocina con ruedas | D107: =+'ANALISIS DE COTIZACCIONES'!M117 -> 547495.72 | E107: =+'ANALISIS DE COTIZACCIONES'!L117 -> 826214.3 | F107: =+'ANALISIS DE COTIZACCIONES'!N117 -> 703752.91 | G107: =+'ANALISIS DE COTIZACCIONES'!O117 -> 332149.08 | H107: ='ANALISIS DE COTIZACCIONES'!K117/'ANALISIS DE COTIZACCIONES'!L117 -> 0.74322464 | I107: =IF(H107<=25%,"Media geométrica",IF(H107<=50%,"Media aritmética",IF(H107<=75%,"Mediana","Media armónica"))) -> Mediana | J107: =IF(H107<=25%,'ANALISIS DE COTIZACCIONES'!M117,IF(H107<=50%,'ANALISIS DE COTIZACCIONES'!L117,IF(H107<=75%,'ANALISIS DE COTIZACCIONES'!N117,'ANALISIS DE COTIZACCIONES'!O117))) -> 703752.91
A108: LOTE D | B108: 96 | C108: Licuadora 1.5 litros | D108: =+'ANALISIS DE COTIZACCIONES'!M118 -> 247030.42 | E108: =+'ANALISIS DE COTIZACCIONES'!L118 -> 265948.67 | F108: =+'ANALISIS DE COTIZACCIONES'!N118 -> 296890 | G108: =+'ANALISIS DE COTIZACCIONES'!O118 -> 226683.48 | H108: ='ANALISIS DE COTIZACCIONES'!K118/'ANALISIS DE COTIZACCIONES'!L118 -> 0.3457348 | I108: =IF(H108<=25%,"Media geométrica",IF(H108<=50%,"Media aritmética",IF(H108<=75%,"Mediana","Media armónica"))) -> Media aritmética | J108: =IF(H108<=25%,'ANALISIS DE COTIZACCIONES'!M118,IF(H108<=50%,'ANALISIS DE COTIZACCIONES'!L118,IF(H108<=75%,'ANALISIS DE COTIZACCIONES'!N118,'ANALISIS DE COTIZACCIONES'!O118))) -> 265948.67
A109: LOTE D | B109: 97 | C109: Extractor de jugos | D109: =+'ANALISIS DE COTIZACCIONES'!M119 -> 216438.38 | E109: =+'ANALISIS DE COTIZACCIONES'!L119 -> 282454.47 | F109: =+'ANALISIS DE COTIZACCIONES'!N119 -> 219890 | G109: =+'ANALISIS DE COTIZACCIONES'!O119 -> 165236.07 | H109: ='ANALISIS DE COTIZACCIONES'!K119/'ANALISIS DE COTIZACCIONES'!L119 -> 0.67951098 | I109: =IF(H109<=25%,"Media geométrica",IF(H109<=50%,"Media aritmética",IF(H109<=75%,"Mediana","Media armónica"))) -> Mediana | J109: =IF(H109<=25%,'ANALISIS DE COTIZACCIONES'!M119,IF(H109<=50%,'ANALISIS DE COTIZACCIONES'!L119,IF(H109<=75%,'ANALISIS DE COTIZACCIONES'!N119,'ANALISIS DE COTIZACCIONES'!O119))) -> 219890
A110: LOTE D | B110: 98 | C110: Termo bomba 3 litros en acero inoxidable | D110: =+'ANALISIS DE COTIZACCIONES'!M120 -> 203432.28 | E110: =+'ANALISIS DE COTIZACCIONES'!L120 -> 207424.35 | F110: =+'ANALISIS DE COTIZACCIONES'!N120 -> 233353.05 | G110: =+'ANALISIS DE COTIZACCIONES'!O120 -> 199133.92 | H110: ='ANALISIS DE COTIZACCIONES'!K120/'ANALISIS DE COTIZACCIONES'!L120 -> 0.18632793 | I110: =IF(H110<=25%,"Media geométrica",IF(H110<=50%,"Media aritmética",IF(H110<=75%,"Mediana","Media armónica"))) -> Media geométrica | J110: =IF(H110<=25%,'ANALISIS DE COTIZACCIONES'!M120,IF(H110<=50%,'ANALISIS DE COTIZACCIONES'!L120,IF(H110<=75%,'ANALISIS DE COTIZACCIONES'!N120,'ANALISIS DE COTIZACCIONES'!O120))) -> 203432.28
A111: LOTE D | B111: 99 | C111: Air Fryer capacidad 5 litros | D111: =+'ANALISIS DE COTIZACCIONES'!M121 -> 613833.1 | E111: =+'ANALISIS DE COTIZACCIONES'!L121 -> 653190.27 | F111: =+'ANALISIS DE COTIZACCIONES'!N121 -> 797680.8 | G111: =+'ANALISIS DE COTIZACCIONES'!O121 -> 570249.54 | H111: ='ANALISIS DE COTIZACCIONES'!K121/'ANALISIS DE COTIZACCIONES'!L121 -> 0.31426371 | I111: =IF(H111<=25%,"Media geométrica",IF(H111<=50%,"Media aritmética",IF(H111<=75%,"Mediana","Media armónica"))) -> Media aritmética | J111: =IF(H111<=25%,'ANALISIS DE COTIZACCIONES'!M121,IF(H111<=50%,'ANALISIS DE COTIZACCIONES'!L121,IF(H111<=75%,'ANALISIS DE COTIZACCIONES'!N121,'ANALISIS DE COTIZACCIONES'!O121))) -> 653190.27
A112: LOTE D | B112: 100 | C112: Set de sartén antiadherente x3 | D112: =+'ANALISIS DE COTIZACCIONES'!M122 -> 165257.92 | E112: =+'ANALISIS DE COTIZACCIONES'!L122 -> 186651.22 | F112: =+'ANALISIS DE COTIZACCIONES'!N122 -> 170000 | G112: =+'ANALISIS DE COTIZACCIONES'!O122 -> 145837.99 | H112: ='ANALISIS DE COTIZACCIONES'!K122/'ANALISIS DE COTIZACCIONES'!L122 -> 0.47267425 | I112: =IF(H112<=25%,"Media geométrica",IF(H112<=50%,"Media aritmética",IF(H112<=75%,"Mediana","Media armónica"))) -> Media aritmética | J112: =IF(H112<=25%,'ANALISIS DE COTIZACCIONES'!M122,IF(H112<=50%,'ANALISIS DE COTIZACCIONES'!L122,IF(H112<=75%,'ANALISIS DE COTIZACCIONES'!N122,'ANALISIS DE COTIZACCIONES'!O122))) -> 186651.22
A113: LOTE D | B113: 101 | C113: Olla a presión 15 litros | D113: =+'ANALISIS DE COTIZACCIONES'!M123 -> 794175.61 | E113: =+'ANALISIS DE COTIZACCIONES'!L123 -> 819707.19 | F113: =+'ANALISIS DE COTIZACCIONES'!N123 -> 935000 | G113: =+'ANALISIS DE COTIZACCIONES'!O123 -> 766378.61 | H113: ='ANALISIS DE COTIZACCIONES'!K123/'ANALISIS DE COTIZACCIONES'!L123 -> 0.233572 | I113: =IF(H113<=25%,"Media geométrica",IF(H113<=50%,"Media aritmética",IF(H113<=75%,"Mediana","Media armónica"))) -> Media geométrica | J113: =IF(H113<=25%,'ANALISIS DE COTIZACCIONES'!M123,IF(H113<=50%,'ANALISIS DE COTIZACCIONES'!L123,IF(H113<=75%,'ANALISIS DE COTIZACCIONES'!N123,'ANALISIS DE COTIZACCIONES'!O123))) -> 794175.61
A114: LOTE D | B114: 102 | C114: Olleta chocolatera 3 litros | D114: =+'ANALISIS DE COTIZACCIONES'!M124 -> 78941.524 | E114: =+'ANALISIS DE COTIZACCIONES'!L124 -> 80490.62 | F114: =+'ANALISIS DE COTIZACCIONES'!N124 -> 90551.86 | G114: =+'ANALISIS DE COTIZACCIONES'!O124 -> 77273.577 | H114: ='ANALISIS DE COTIZACCIONES'!K124/'ANALISIS DE COTIZACCIONES'!L124 -> 0.18632683 | I114: =IF(H114<=25%,"Media geométrica",IF(H114<=50%,"Media aritmética",IF(H114<=75%,"Mediana","Media armónica"))) -> Media geométrica | J114: =IF(H114<=25%,'ANALISIS DE COTIZACCIONES'!M124,IF(H114<=50%,'ANALISIS DE COTIZACCIONES'!L124,IF(H114<=75%,'ANALISIS DE COTIZACCIONES'!N124,'ANALISIS DE COTIZACCIONES'!O124))) -> 78941.524
A115: LOTE D | B115: 103 | C115: Olla industrial acero inoxidable 50 litros | D115: =+'ANALISIS DE COTIZACCIONES'!M125 -> 1664401.9 | E115: =+'ANALISIS DE COTIZACCIONES'!L125 -> 3054569.9 | F115: =+'ANALISIS DE COTIZACCIONES'!N125 -> 3464890 | G115: =+'ANALISIS DE COTIZACCIONES'!O125 -> 656292.5 | H115: ='ANALISIS DE COTIZACCIONES'!K125/'ANALISIS DE COTIZACCIONES'!L125 -> 0.70289548 | I115: =IF(H115<=25%,"Media geométrica",IF(H115<=50%,"Media aritmética",IF(H115<=75%,"Mediana","Media armónica"))) -> Mediana | J115: =IF(H115<=25%,'ANALISIS DE COTIZACCIONES'!M125,IF(H115<=50%,'ANALISIS DE COTIZACCIONES'!L125,IF(H115<=75%,'ANALISIS DE COTIZACCIONES'!N125,'ANALISIS DE COTIZACCIONES'!O125))) -> 3464890
A116: LOTE D | B116: 104 | C116: Paila 50 cm | D116: =+'ANALISIS DE COTIZACCIONES'!M126 -> 564846.34 | E116: =+'ANALISIS DE COTIZACCIONES'!L126 -> 1307006.9 | F116: =+'ANALISIS DE COTIZACCIONES'!N126 -> 229500 | G116: =+'ANALISIS DE COTIZACCIONES'!O126 -> 331185.34 | H116: ='ANALISIS DE COTIZACCIONES'!K126/'ANALISIS DE COTIZACCIONES'!L126 -> 1.1674416 | I116: =IF(H116<=25%,"Media geométrica",IF(H116<=50%,"Media aritmética",IF(H116<=75%,"Mediana","Media armónica"))) -> Media armónica | J116: =IF(H116<=25%,'ANALISIS DE COTIZACCIONES'!M126,IF(H116<=50%,'ANALISIS DE COTIZACCIONES'!L126,IF(H116<=75%,'ANALISIS DE COTIZACCIONES'!N126,'ANALISIS DE COTIZACCIONES'!O126))) -> 331185.34
... A129: LOTE D | B129: 117 | C129: Set de cuchillos de cocina | D129: =+'ANALISIS DE COTIZACCIONES'!M139 -> 141506.15 | E129: =+'ANALISIS DE COTIZACCIONES'!L139 -> 188640.57 | F129: =+'ANALISIS DE COTIZACCIONES'!N139 -> 153890 | G129: =+'ANALISIS DE COTIZACCIONES'!O139 -> 103893.11 | H129: ='ANALISIS DE COTIZACCIONES'!K139/'ANALISIS DE COTIZACCIONES'!L139 -> 0.68348555 | I129: =IF(H129<=25%,"Media geométrica",IF(H129<=50%,"Media aritmética",IF(H129<=75%,"Mediana","Media armónica"))) -> Mediana | J129: =IF(H129<=25%,'ANALISIS DE COTIZACCIONES'!M139,IF(H129<=50%,'ANALISIS DE COTIZACCIONES'!L139,IF(H129<=75%,'ANALISIS DE COTIZACCIONES'!N139,'ANALISIS DE COTIZACCIONES'!O139))) -> 153890
A130: LOTE E | B130: 118 | C130: Cámara tipo bala (bullet) para exteriores 2 MP Full HD. | D130: =+'ANALISIS DE COTIZACCIONES'!M144 -> 108795.41 | E130: =+'ANALISIS DE COTIZACCIONES'!L144 -> 116040.87 | F130: =+'ANALISIS DE COTIZACCIONES'!N144 -> 110500 | G130: =+'ANALISIS DE COTIZACCIONES'!O144 -> 101902.79 | H130: ='ANALISIS DE COTIZACCIONES'!K144/'ANALISIS DE COTIZACCIONES'!L144 -> 0.35077833 | I130: =IF(H130<=25%,"Media geométrica",IF(H130<=50%,"Media aritmética",IF(H130<=75%,"Mediana","Media armónica"))) -> Media aritmética | J130: =IF(H130<=25%,'ANALISIS DE COTIZACCIONES'!M144,IF(H130<=50%,'ANALISIS DE COTIZACCIONES'!L144,IF(H130<=75%,'ANALISIS DE COTIZACCIONES'!N144,'ANALISIS DE COTIZACCIONES'!O144))) -> 116040.87
A131: LOTE E | B131: 119 | C131: Cámara tipo domo para interiores 2 MP Full HD | D131: =+'ANALISIS DE COTIZACCIONES'!M145 -> 145013.01 | E131: =+'ANALISIS DE COTIZACCIONES'!L145 -> 147584.44 | F131: =+'ANALISIS DE COTIZACCIONES'!N145 -> 165000 | G131: =+'ANALISIS DE COTIZACCIONES'!O145 -> 142252 | H131: ='ANALISIS DE COTIZACCIONES'!K145/'ANALISIS DE COTIZACCIONES'!L145 -> 0.17778831 | I131: =IF(H131<=25%,"Media geométrica",IF(H131<=50%,"Media aritmética",IF(H131<=75%,"Mediana","Media armónica"))) -> Media geométrica | J131: =IF(H131<=25%,'ANALISIS DE COTIZACCIONES'!M145,IF(H131<=50%,'ANALISIS DE COTIZACCIONES'!L145,IF(H131<=75%,'ANALISIS DE COTIZACCIONES'!N145,'ANALISIS DE COTIZACCIONES'!O145))) -> 145013.01
A132: LOTE E | B132: 120 | C132: Disco Duro para video vigilancia 2 TB | D132: =+'ANALISIS DE COTIZACCIONES'!M146 -> 788910.25 | E132: =+'ANALISIS DE COTIZACCIONES'!L146 -> 794770.34 | F132: =+'ANALISIS DE COTIZACCIONES'!N146 -> 816000 | G132: =+'ANALISIS DE COTIZACCIONES'!O146 -> 782905.29 | H132: ='ANALISIS DE COTIZACCIONES'!K146/'ANALISIS DE COTIZACCIONES'!L146 -> 0.11945585 | I132: =IF(H132<=25%,"Media geométrica",IF(H132<=50%,"Media aritmética",IF(H132<=75%,"Mediana","Media armónica"))) -> Media geométrica | J132: =IF(H132<=25%,'ANALISIS DE COTIZACCIONES'!M146,IF(H132<=50%,'ANALISIS DE COTIZACCIONES'!L146,IF(H132<=75%,'ANALISIS DE COTIZACCIONES'!N146,'ANALISIS DE COTIZACCIONES'!O146))) -> 788910.25
A133: LOTE E | B133: 121 | C133: Grabador NVR si las cámaras son IP (por red) 4 u 8 canales | D133: =+'ANALISIS DE COTIZACCIONES'!M147 -> 733489.7 | E133: =+'ANALISIS DE COTIZACCIONES'!L147 -> 754660.15 | F133: =+'ANALISIS DE COTIZACCIONES'!N147 -> 804100 | G133: =+'ANALISIS DE COTIZACCIONES'!O147 -> 711180.07 | H133: ='ANALISIS DE COTIZACCIONES'!K147/'ANALISIS DE COTIZACCIONES'!L147 -> 0.22664691 | I133: =IF(H133<=25%,"Media geométrica",IF(H133<=50%,"Media aritmética",IF(H133<=75%,"Mediana","Media armónica"))) -> Media geométrica | J133: =IF(H133<=25%,'ANALISIS DE COTIZACCIONES'!M147,IF(H133<=50%,'ANALISIS DE COTIZACCIONES'!L147,IF(H133<=75%,'ANALISIS DE COTIZACCIONES'!N147,'ANALISIS DE COTIZACCIONES'!O147))) -> 733489.7
A134: LOTE E | B134: 122 | C134: Fuente de 12V para cámaras analógicas | D134: =+'ANALISIS DE COTIZACCIONES'!M148 -> 125104.35 | E134: =+'ANALISIS DE COTIZACCIONES'!L148 -> 149483.2 | F134: =+'ANALISIS DE COTIZACCIONES'!N148 -> 102000 | G134: =+'ANALISIS DE COTIZACCIONES'!O148 -> 107713.48 | H134: ='ANALISIS DE COTIZACCIONES'!K148/'ANALISIS DE COTIZACCIONES'!L148 -> 0.61072229 | I134: =IF(H134<=25%,"Media geométrica",IF(H134<=50%,"Media aritmética",IF(H134<=75%,"Mediana","Media armónica"))) -> Mediana | J134: =IF(H134<=25%,'ANALISIS DE COTIZACCIONES'!M148,IF(H134<=50%,'ANALISIS DE COTIZACCIONES'!L148,IF(H134<=75%,'ANALISIS DE COTIZACCIONES'!N148,'ANALISIS DE COTIZACCIONES'!O148))) -> 102000
A135: LOTE E | B135: 123 | C135: UPS 600VA | D135: =+'ANALISIS DE COTIZACCIONES'!M149 -> 244285.75 | E135: =+'ANALISIS DE COTIZACCIONES'!L149 -> 244783.49 | F135: =+'ANALISIS DE COTIZACCIONES'!N149 -> 246500 | G135: =+'ANALISIS DE COTIZACCIONES'!O149 -> 243784.59 | H135: ='ANALISIS DE COTIZACCIONES'!K149/'ANALISIS DE COTIZACCIONES'!L149 -> 0.063485929 | I135: =IF(H135<=25%,"Media geométrica",IF(H135<=50%,"Media aritmética",IF(H135<=75%,"Mediana","Media armónica"))) -> Media geométrica | J135: =IF(H135<=25%,'ANALISIS DE COTIZACCIONES'!M149,IF(H135<=50%,'ANALISIS DE COTIZACCIONES'!L149,IF(H135<=75%,'ANALISIS DE COTIZACCIONES'!N149,'ANALISIS DE COTIZACCIONES'!O149))) -> 244285.75
A136: LOTE E | B136: 124 | C136: Monitor 24 pulgadas full HD | D136: =+'ANALISIS DE COTIZACCIONES'!M150 -> 1121054.4 | E136: =+'ANALISIS DE COTIZACCIONES'!L150 -> 1706700 | F136: =+'ANALISIS DE COTIZACCIONES'!N150 -> 680900 | G136: =+'ANALISIS DE COTIZACCIONES'!O150 -> 830095.23 | H136: ='ANALISIS DE COTIZACCIONES'!K150/'ANALISIS DE COTIZACCIONES'!L150 -> 0.91357516 | I136: =IF(H136<=25%,"Media geométrica",IF(H136<=50%,"Media aritmética",IF(H136<=75%,"Mediana","Media armónica"))) -> Media armónica | J136: =IF(H136<=25%,'ANALISIS DE COTIZACCIONES'!M150,IF(H136<=50%,'ANALISIS DE COTIZACCIONES'!L150,IF(H136<=75%,'ANALISIS DE COTIZACCIONES'!N150,'ANALISIS DE COTIZACCIONES'!O150))) -> 830095.23
A137: LOTE E | B137: 125 | C137: Computador portatil | D137: =+'ANALISIS DE COTIZACCIONES'!M151 -> 3377145.2 | E137: =+'ANALISIS DE COTIZACCIONES'!L151 -> 3523442.6 | F137: =+'ANALISIS DE COTIZACCIONES'!N151 -> 4121350.8 | G137: =+'ANALISIS DE COTIZACCIONES'!O151 -> 3216503.1 | H137: ='ANALISIS DE COTIZACCIONES'!K151/'ANALISIS DE COTIZACCIONES'!L151 -> 0.26621978 | I137: =IF(H137<=25%,"Media geométrica",IF(H137<=50%,"Media aritmética",IF(H137<=75%,"Mediana","Media armónica"))) -> Media aritmética | J137: =IF(H137<=25%,'ANALISIS DE COTIZACCIONES'!M151,IF(H137<=50%,'ANALISIS DE COTIZACCIONES'!L151,IF(H137<=75%,'ANALISIS DE COTIZACCIONES'!N151,'ANALISIS DE COTIZACCIONES'!O151))) -> 3523442.6
A138: LOTE E | B138: 126 | C138: Consola 12 canales | D138: =+'ANALISIS DE COTIZACCIONES'!M152 -> 947927.67 | E138: =+'ANALISIS DE COTIZACCIONES'!L152 -> 1007067 | F138: =+'ANALISIS DE COTIZACCIONES'!N152 -> 1122000 | G138: =+'ANALISIS DE COTIZACCIONES'!O152 -> 884177.81 | H138: ='ANALISIS DE COTIZACCIONES'!K152/'ANALISIS DE COTIZACCIONES'!L152 -> 0.31660353 | I138: =IF(H138<=25%,"Media geométrica",IF(H138<=50%,"Media aritmética",IF(H138<=75%,"Mediana","Media armónica"))) -> Media aritmética | J138: =IF(H138<=25%,'ANALISIS DE COTIZACCIONES'!M152,IF(H138<=50%,'ANALISIS DE COTIZACCIONES'!L152,IF(H138<=75%,'ANALISIS DE COTIZACCIONES'!N152,'ANALISIS DE COTIZACCIONES'!O152))) -> 1007067
A139: LOTE E | B139: 127 | C139: Televisor LED Smart TV de 50 pulgadas | D139: =+'ANALISIS DE COTIZACCIONES'!M153 -> 2556697.7 | E139: =+'ANALISIS DE COTIZACCIONES'!L153 -> 2706463.3 | F139: =+'ANALISIS DE COTIZACCIONES'!N153 -> 2499000 | G139: =+'ANALISIS DE COTIZACCIONES'!O153 -> 2418230.5 | H139: ='ANALISIS DE COTIZACCIONES'!K153/'ANALISIS DE COTIZACCIONES'!L153 -> 0.3361918 | I139: =IF(H139<=25%,"Media geométrica",IF(H139<=50%,"Media aritmética",IF(H139<=75%,"Mediana","Media armónica"))) -> Media aritmética | J139: =IF(H139<=25%,'ANALISIS DE COTIZACCIONES'!M153,IF(H139<=50%,'ANALISIS DE COTIZACCIONES'!L153,IF(H139<=75%,'ANALISIS DE COTIZACCIONES'!N153,'ANALISIS DE COTIZACCIONES'!O153))) -> 2706463.3
A140: LOTE E | B140: 128 | C140: Amplificador 300 W mínimo | D140: =+'ANALISIS DE COTIZACCIONES'!M154 -> 1331527.8 | E140: =+'ANALISIS DE COTIZACCIONES'!L154 -> 1388366.4 | F140: =+'ANALISIS DE COTIZACCIONES'!N154 -> 1615000 | G140: =+'ANALISIS DE COTIZACCIONES'!O154 -> 1269182.3 | H140: ='ANALISIS DE COTIZACCIONES'!K154/'ANALISIS DE COTIZACCIONES'!L154 -> 0.26464854 | I140: =IF(H140<=25%,"Media geométrica",IF(H140<=50%,"Media aritmética",IF(H140<=75%,"Mediana","Media armónica"))) -> Media aritmética | J140: =IF(H140<=25%,'ANALISIS DE COTIZACCIONES'!M154,IF(H140<=50%,'ANALISIS DE COTIZACCIONES'!L154,IF(H140<=75%,'ANALISIS DE COTIZACCIONES'!N154,'ANALISIS DE COTIZACCIONES'!O154))) -> 1388366.4
A141: LOTE E | B141: 129 | C141: Micrófono inalámbrico UHF | D141: =+'ANALISIS DE COTIZACCIONES'!M155 -> 988813.01 | E141: =+'ANALISIS DE COTIZACCIONES'!L155 -> 1577049.4 | F141: =+'ANALISIS DE COTIZACCIONES'!N155 -> 1577049.4 | G141: =+'ANALISIS DE COTIZACCIONES'!O155 -> 619987.67 | H141: ='ANALISIS DE COTIZACCIONES'!K155/'ANALISIS DE COTIZACCIONES'!L155 -> 0.7790177 | I141: =IF(H141<=25%,"Media geométrica",IF(H141<=50%,"Media aritmética",IF(H141<=75%,"Mediana","Media armónica"))) -> Media armónica | J141: =IF(H141<=25%,'ANALISIS DE COTIZACCIONES'!M155,IF(H141<=50%,'ANALISIS DE COTIZACCIONES'!L155,IF(H141<=75%,'ANALISIS DE COTIZACCIONES'!N155,'ANALISIS DE COTIZACCIONES'!O155))) -> 619987.67
... A150: LOTE E | B150: 138 | C150: Video Beam fijo | D150: =+'ANALISIS DE COTIZACCIONES'!M164 -> 2587501.1 | E150: =+'ANALISIS DE COTIZACCIONES'!L164 -> 3222542.3 | F150: =+'ANALISIS DE COTIZACCIONES'!N164 -> 2720000 | G150: =+'ANALISIS DE COTIZACCIONES'!O164 -> 2056916.4 | H150: ='ANALISIS DE COTIZACCIONES'!K164/'ANALISIS DE COTIZACCIONES'!L164 -> 0.61479617 | I150: =IF(H150<=25%,"Media geométrica",IF(H150<=50%,"Media aritmética",IF(H150<=75%,"Mediana","Media armónica"))) -> Mediana | J150: =IF(H150<=25%,'ANALISIS DE COTIZACCIONES'!M164,IF(H150<=50%,'ANALISIS DE COTIZACCIONES'!L164,IF(H150<=75%,'ANALISIS DE COTIZACCIONES'!N164,'ANALISIS DE COTIZACCIONES'!O164))) -> 2720000
A151: LOTE F | B151: 139 | C151: Pandero | D151: =+'ANALISIS DE COTIZACCIONES'!M169 -> 117681.14 | E151: =+'ANALISIS DE COTIZACCIONES'!L169 -> 141769.17 | F151: =+'ANALISIS DE COTIZACCIONES'!N169 -> 79900 | G151: =+'ANALISIS DE COTIZACCIONES'!O169 -> 101869.02 | H151: ='ANALISIS DE COTIZACCIONES'!K169/'ANALISIS DE COTIZACCIONES'!L169 -> 0.63874357 | I151: =IF(H151<=25%,"Media geométrica",IF(H151<=50%,"Media aritmética",IF(H151<=75%,"Mediana","Media armónica"))) -> Mediana | J151: =IF(H151<=25%,'ANALISIS DE COTIZACCIONES'!M169,IF(H151<=50%,'ANALISIS DE COTIZACCIONES'!L169,IF(H151<=75%,'ANALISIS DE COTIZACCIONES'!N169,'ANALISIS DE COTIZACCIONES'!O169))) -> 79900
A152: LOTE F | B152: 140 | C152: Organeta 61 teclas | D152: =+'ANALISIS DE COTIZACCIONES'!M170 -> 936309.89 | E152: =+'ANALISIS DE COTIZACCIONES'!L170 -> 1147877.2 | F152: =+'ANALISIS DE COTIZACCIONES'!N170 -> 1024631.7 | G152: =+'ANALISIS DE COTIZACCIONES'!O170 -> 750839.37 | H152: ='ANALISIS DE COTIZACCIONES'!K170/'ANALISIS DE COTIZACCIONES'!L170 -> 0.58360999 | I152: =IF(H152<=25%,"Media geométrica",IF(H152<=50%,"Media aritmética",IF(H152<=75%,"Mediana","Media armónica"))) -> Mediana | J152: =IF(H152<=25%,'ANALISIS DE COTIZACCIONES'!M170,IF(H152<=50%,'ANALISIS DE COTIZACCIONES'!L170,IF(H152<=75%,'ANALISIS DE COTIZACCIONES'!N170,'ANALISIS DE COTIZACCIONES'!O170))) -> 1024631.7
A153: LOTE F | B153: 141 | C153: Guacharaca | D153: =+'ANALISIS DE COTIZACCIONES'!M171 -> 158282.64 | E153: =+'ANALISIS DE COTIZACCIONES'!L171 -> 159100.4 | F153: =+'ANALISIS DE COTIZACCIONES'!N171 -> 153000 | G153: =+'ANALISIS DE COTIZACCIONES'!O171 -> 157494.1 | H153: ='ANALISIS DE COTIZACCIONES'!K171/'ANALISIS DE COTIZACCIONES'!L171 -> 0.10293518 | I153: =IF(H153<=25%,"Media geométrica",IF(H153<=50%,"Media aritmética",IF(H153<=75%,"Mediana","Media armónica"))) -> Media geométrica | J153: =IF(H153<=25%,'ANALISIS DE COTIZACCIONES'!M171,IF(H153<=50%,'ANALISIS DE COTIZACCIONES'!L171,IF(H153<=75%,'ANALISIS DE COTIZACCIONES'!N171,'ANALISIS DE COTIZACCIONES'!O171))) -> 158282.64
A154: LOTE F | B154: 142 | C154: Batería acústica de 5 piezas | D154: =+'ANALISIS DE COTIZACCIONES'!M172 -> 2306645.3 | E154: =+'ANALISIS DE COTIZACCIONES'!L172 -> 2348878.9 | F154: =+'ANALISIS DE COTIZACCIONES'!N172 -> 2117646.6 | G154: =+'ANALISIS DE COTIZACCIONES'!O172 -> 2268067.7 | H154: ='ANALISIS DE COTIZACCIONES'!K172/'ANALISIS DE COTIZACCIONES'!L172 -> 0.19613491 | I154: =IF(H154<=25%,"Media geométrica",IF(H154<=50%,"Media aritmética",IF(H154<=75%,"Mediana","Media armónica"))) -> Media geométrica | J154: =IF(H154<=25%,'ANALISIS DE COTIZACCIONES'!M172,IF(H154<=50%,'ANALISIS DE COTIZACCIONES'!L172,IF(H154<=75%,'ANALISIS DE COTIZACCIONES'!N172,'ANALISIS DE COTIZACCIONES'!O172))) -> 2306645.3
A155: LOTE F | B155: 143 | C155: Bajo eléctrico de 4 cuerdas | D155: =+'ANALISIS DE COTIZACCIONES'!M173 -> 1775933.9 | E155: =+'ANALISIS DE COTIZACCIONES'!L173 -> 1951600.6 | F155: =+'ANALISIS DE COTIZACCIONES'!N173 -> 1951600.6 | G155: =+'ANALISIS DE COTIZACCIONES'!O173 -> 1616079.2 | H155: ='ANALISIS DE COTIZACCIONES'!K173/'ANALISIS DE COTIZACCIONES'!L173 -> 0.41463372 | I155: =IF(H155<=25%,"Media geométrica",IF(H155<=50%,"Media aritmética",IF(H155<=75%,"Mediana","Media armónica"))) -> Media aritmética | J155: =IF(H155<=25%,'ANALISIS DE COTIZACCIONES'!M173,IF(H155<=50%,'ANALISIS DE COTIZACCIONES'!L173,IF(H155<=75%,'ANALISIS DE COTIZACCIONES'!N173,'ANALISIS DE COTIZACCIONES'!O173))) -> 1951600.6
A156: LOTE F | B156: 144 | C156: Violín tamaño 4/4 | D156: =+'ANALISIS DE COTIZACCIONES'!M174 -> 383961.77 | E156: =+'ANALISIS DE COTIZACCIONES'!L174 -> 394708.37 | F156: =+'ANALISIS DE COTIZACCIONES'!N174 -> 388235.12 | G156: =+'ANALISIS DE COTIZACCIONES'!O174 -> 373394.78 | H156: ='ANALISIS DE COTIZACCIONES'!K174/'ANALISIS DE COTIZACCIONES'!L174 -> 0.23208768 | I156: =IF(H156<=25%,"Media geométrica",IF(H156<=50%,"Media aritmética",IF(H156<=75%,"Mediana","Media armónica"))) -> Media geométrica | J156: =IF(H156<=25%,'ANALISIS DE COTIZACCIONES'!M174,IF(H156<=50%,'ANALISIS DE COTIZACCIONES'!L174,IF(H156<=75%,'ANALISIS DE COTIZACCIONES'!N174,'ANALISIS DE COTIZACCIONES'!O174))) -> 383961.77
A157: LOTE F | B157: 145 | C157: Congas y Bongos | D157: =+'ANALISIS DE COTIZACCIONES'!M175 -> 1127068.6 | E157: =+'ANALISIS DE COTIZACCIONES'!L175 -> 1684283.1 | F157: =+'ANALISIS DE COTIZACCIONES'!N175 -> 1902450 | G157: =+'ANALISIS DE COTIZACCIONES'!O175 -> 636683.97 | H157: ='ANALISIS DE COTIZACCIONES'!K175/'ANALISIS DE COTIZACCIONES'!L175 -> 0.64392826 | I157: =IF(H157<=25%,"Media geométrica",IF(H157<=50%,"Media aritmética",IF(H157<=75%,"Mediana","Media armónica"))) -> Mediana | J157: =IF(H157<=25%,'ANALISIS DE COTIZACCIONES'!M175,IF(H157<=50%,'ANALISIS DE COTIZACCIONES'!L175,IF(H157<=75%,'ANALISIS DE COTIZACCIONES'!N175,'ANALISIS DE COTIZACCIONES'!O175))) -> 1902450
A158: LOTE F | B158: 146 | C158: Atril partitura metálico plegable | D158: =+'ANALISIS DE COTIZACCIONES'!M176 -> 90006.739 | E158: =+'ANALISIS DE COTIZACCIONES'!L176 -> 90909.837 | F158: =+'ANALISIS DE COTIZACCIONES'!N176 -> 90200 | G158: =+'ANALISIS DE COTIZACCIONES'!O176 -> 89110.713 | H158: ='ANALISIS DE COTIZACCIONES'!K176/'ANALISIS DE COTIZACCIONES'!L176 -> 0.14080394 | I158: =IF(H158<=25%,"Media geométrica",IF(H158<=50%,"Media aritmética",IF(H158<=75%,"Mediana","Media armónica"))) -> Media geométrica | J158: =IF(H158<=25%,'ANALISIS DE COTIZACCIONES'!M176,IF(H158<=50%,'ANALISIS DE COTIZACCIONES'!L176,IF(H158<=75%,'ANALISIS DE COTIZACCIONES'!N176,'ANALISIS DE COTIZACCIONES'!O176))) -> 90006.739
A159: LOTE F | B159: 147 | C159: Guitarra Eléctrica tipo Stratocaster | D159: =+'ANALISIS DE COTIZACCIONES'!M177 -> 3292562.9 | E159: =+'ANALISIS DE COTIZACCIONES'!L177 -> 4630504.2 | F159: =+'ANALISIS DE COTIZACCIONES'!N177 -> 4637512 | G159: =+'ANALISIS DE COTIZACCIONES'!O177 -> 2115758.2 | H159: ='ANALISIS DE COTIZACCIONES'!K177/'ANALISIS DE COTIZACCIONES'!L177 -> 0.65295065 | I159: =IF(H159<=25%,"Media geométrica",IF(H159<=50%,"Media aritmética",IF(H159<=75%,"Mediana","Media armónica"))) -> Mediana | J159: =IF(H159<=25%,'ANALISIS DE COTIZACCIONES'!M177,IF(H159<=50%,'ANALISIS DE COTIZACCIONES'!L177,IF(H159<=75%,'ANALISIS DE COTIZACCIONES'!N177,'ANALISIS DE COTIZACCIONES'!O177))) -> 4637512
A160: LOTE F | B160: 148 | C160: Guitarra Acustica tamaño estándar | D160: =+'ANALISIS DE COTIZACCIONES'!M178 -> 632418.81 | E160: =+'ANALISIS DE COTIZACCIONES'!L178 -> 813699.42 | F160: =+'ANALISIS DE COTIZACCIONES'!N178 -> 660990 | G160: =+'ANALISIS DE COTIZACCIONES'!O178 -> 486638.08 | H160: ='ANALISIS DE COTIZACCIONES'!K178/'ANALISIS DE COTIZACCIONES'!L178 -> 0.65571468 | I160: =IF(H160<=25%,"Media geométrica",IF(H160<=50%,"Media aritmética",IF(H160<=75%,"Mediana","Media armónica"))) -> Mediana | J160: =IF(H160<=25%,'ANALISIS DE COTIZACCIONES'!M178,IF(H160<=50%,'ANALISIS DE COTIZACCIONES'!L178,IF(H160<=75%,'ANALISIS DE COTIZACCIONES'!N178,'ANALISIS DE COTIZACCIONES'!O178))) -> 660990
A161: LOTE F | B161: 149 | C161: Lira infantil con cargador y baquetas | D161: =+'ANALISIS DE COTIZACCIONES'!M179 -> 564814.48 | E161: =+'ANALISIS DE COTIZACCIONES'!L179 -> 614503.05 | F161: =+'ANALISIS DE COTIZACCIONES'!N179 -> 666119.16 | G161: =+'ANALISIS DE COTIZACCIONES'!O179 -> 512479.43 | H161: ='ANALISIS DE COTIZACCIONES'!K179/'ANALISIS DE COTIZACCIONES'!L179 -> 0.3712338 | I161: =IF(H161<=25%,"Media geométrica",IF(H161<=50%,"Media aritmética",IF(H161<=75%,"Mediana","Media armónica"))) -> Media aritmética | J161: =IF(H161<=25%,'ANALISIS DE COTIZACCIONES'!M179,IF(H161<=50%,'ANALISIS DE COTIZACCIONES'!L179,IF(H161<=75%,'ANALISIS DE COTIZACCIONES'!N179,'ANALISIS DE COTIZACCIONES'!O179))) -> 614503.05
A162: LOTE F | B162: 150 | C162: Lira adulto con cargador y baquetas | D162: =+'ANALISIS DE COTIZACCIONES'!M180 -> 819008.97 | E162: =+'ANALISIS DE COTIZACCIONES'!L180 -> 851066.53 | F162: =+'ANALISIS DE COTIZACCIONES'!N180 -> 839999.58 | G162: =+'ANALISIS DE COTIZACCIONES'!O180 -> 787402.94 | H162: ='ANALISIS DE COTIZACCIONES'!K180/'ANALISIS DE COTIZACCIONES'!L180 -> 0.27108502 | I162: =IF(H162<=25%,"Media geométrica",IF(H162<=50%,"Media aritmética",IF(H162<=75%,"Mediana","Media armónica"))) -> Media aritmética | J162: =IF(H162<=25%,'ANALISIS DE COTIZACCIONES'!M180,IF(H162<=50%,'ANALISIS DE COTIZACCIONES'!L180,IF(H162<=75%,'ANALISIS DE COTIZACCIONES'!N180,'ANALISIS DE COTIZACCIONES'!O180))) -> 851066.53
... A183: LOTE F | B183: 171 | C183: Block de hojas de papel blanco | D183: =+'ANALISIS DE COTIZACCIONES'!M201 -> 7245.7104 | E183: =+'ANALISIS DE COTIZACCIONES'!L201 -> 7408.45 | F183: =+'ANALISIS DE COTIZACCIONES'!N201 -> 7485 | G183: =+'ANALISIS DE COTIZACCIONES'!O201 -> 7081.4889 | H183: ='ANALISIS DE COTIZACCIONES'!K201/'ANALISIS DE COTIZACCIONES'!L201 -> 0.2062443 | I183: =IF(H183<=25%,"Media geométrica",IF(H183<=50%,"Media aritmética",IF(H183<=75%,"Mediana","Media armónica"))) -> Media geométrica | J183: =IF(H183<=25%,'ANALISIS DE COTIZACCIONES'!M201,IF(H183<=50%,'ANALISIS DE COTIZACCIONES'!L201,IF(H183<=75%,'ANALISIS DE COTIZACCIONES'!N201,'ANALISIS DE COTIZACCIONES'!O201))) -> 7245.7104
A184: LOTE G | B184: 172 | C184: Paquete de pelotas para ping pong x 6 unidades | D184: =+'ANALISIS DE COTIZACCIONES'!M206 -> 24917.555 | E184: =+'ANALISIS DE COTIZACCIONES'!L206 -> 26354.93 | F184: =+'ANALISIS DE COTIZACCIONES'!N206+'ANALISIS DE COTIZACCIONES'!N206+'ANALISIS DE COTIZACCIONES'!N206 -> 71640 | G184: =+'ANALISIS DE COTIZACCIONES'!O206 -> 23662.902 | H184: ='ANALISIS DE COTIZACCIONES'!K206/'ANALISIS DE COTIZACCIONES'!L206 -> 0.34661857 | I184: =IF(H184<=25%,"Media geométrica",IF(H184<=50%,"Media aritmética",IF(H184<=75%,"Mediana","Media armónica"))) -> Media aritmética | J184: =IF(H184<=25%,'ANALISIS DE COTIZACCIONES'!M206,IF(H184<=50%,'ANALISIS DE COTIZACCIONES'!L206,IF(H184<=75%,'ANALISIS DE COTIZACCIONES'!N206,'ANALISIS DE COTIZACCIONES'!O206))) -> 26354.93
A185: LOTE G | B185: 173 | C185: Petos para entrenamiento (set x 10 unidades) | D185: =+'ANALISIS DE COTIZACCIONES'!M207 -> 142822.62 | E185: =+'ANALISIS DE COTIZACCIONES'!L207 -> 221367.07 | F185: =+'ANALISIS DE COTIZACCIONES'!N207+'ANALISIS DE COTIZACCIONES'!N207+'ANALISIS DE COTIZACCIONES'!N207 -> 643080.42 | G185: =+'ANALISIS DE COTIZACCIONES'!O207 -> 68932.689 | H185: ='ANALISIS DE COTIZACCIONES'!K207/'ANALISIS DE COTIZACCIONES'!L207 -> 0.67580061 | I185: =IF(H185<=25%,"Media geométrica",IF(H185<=50%,"Media aritmética",IF(H185<=75%,"Mediana","Media armónica"))) -> Mediana | J185: =IF(H185<=25%,'ANALISIS DE COTIZACCIONES'!M207,IF(H185<=50%,'ANALISIS DE COTIZACCIONES'!L207,IF(H185<=75%,'ANALISIS DE COTIZACCIONES'!N207,'ANALISIS DE COTIZACCIONES'!O207))) -> 214360.14
A186: LOTE G | B186: 174 | C186: Balón de fútbol N.° 5 | D186: =+'ANALISIS DE COTIZACCIONES'!M208 -> 112675.96 | E186: =+'ANALISIS DE COTIZACCIONES'!L208 -> 138810.5 | F186: =+'ANALISIS DE COTIZACCIONES'!N208+'ANALISIS DE COTIZACCIONES'!N208+'ANALISIS DE COTIZACCIONES'!N208 -> 319035 | G186: =+'ANALISIS DE COTIZACCIONES'!O208 -> 93385.283 | H186: ='ANALISIS DE COTIZACCIONES'!K208/'ANALISIS DE COTIZACCIONES'!L208 -> 0.66781462 | I186: =IF(H186<=25%,"Media geométrica",IF(H186<=50%,"Media aritmética",IF(H186<=75%,"Mediana","Media armónica"))) -> Mediana | J186: =IF(H186<=25%,'ANALISIS DE COTIZACCIONES'!M208,IF(H186<=50%,'ANALISIS DE COTIZACCIONES'!L208,IF(H186<=75%,'ANALISIS DE COTIZACCIONES'!N208,'ANALISIS DE COTIZACCIONES'!O208))) -> 106345
A187: LOTE G | B187: 175 | C187: Escalera de coordinación 6 metros | D187: =+'ANALISIS DE COTIZACCIONES'!M209 -> 148023.43 | E187: =+'ANALISIS DE COTIZACCIONES'!L209 -> 152834.9 | F187: =+'ANALISIS DE COTIZACCIONES'!N209+'ANALISIS DE COTIZACCIONES'!N209+'ANALISIS DE COTIZACCIONES'!N209 -> 411584.37 | G187: =+'ANALISIS DE COTIZACCIONES'!O209 -> 143894.95 | H187: ='ANALISIS DE COTIZACCIONES'!K209/'ANALISIS DE COTIZACCIONES'!L209 -> 0.26662896 | I187: =IF(H187<=25%,"Media geométrica",IF(H187<=50%,"Media aritmética",IF(H187<=75%,"Mediana","Media armónica"))) -> Media aritmética | J187: =IF(H187<=25%,'ANALISIS DE COTIZACCIONES'!M209,IF(H187<=50%,'ANALISIS DE COTIZACCIONES'!L209,IF(H187<=75%,'ANALISIS DE COTIZACCIONES'!N209,'ANALISIS DE COTIZACCIONES'!O209))) -> 152834.9
A188: LOTE G | B188: 176 | C188: Malla de voleibol | D188: =+'ANALISIS DE COTIZACCIONES'!M210 -> 207269.85 | E188: =+'ANALISIS DE COTIZACCIONES'!L210 -> 309312.29 | F188: =+'ANALISIS DE COTIZACCIONES'!N210+'ANALISIS DE COTIZACCIONES'!N210+'ANALISIS DE COTIZACCIONES'!N210 -> 575085 | G188: =+'ANALISIS DE COTIZACCIONES'!O210 -> 147086.96 | H188: ='ANALISIS DE COTIZACCIONES'!K210/'ANALISIS DE COTIZACCIONES'!L210 -> 0.91187162 | I188: =IF(H188<=25%,"Media geométrica",IF(H188<=50%,"Media aritmética",IF(H188<=75%,"Mediana","Media armónica"))) -> Media armónica | J188: =IF(H188<=25%,'ANALISIS DE COTIZACCIONES'!M210,IF(H188<=50%,'ANALISIS DE COTIZACCIONES'!L210,IF(H188<=75%,'ANALISIS DE COTIZACCIONES'!N210,'ANALISIS DE COTIZACCIONES'!O210))) -> 147086.96
A189: LOTE G | B189: 177 | C189: Balón de voleibol #5 | D189: =+'ANALISIS DE COTIZACCIONES'!M211 -> 191483.66 | E189: =+'ANALISIS DE COTIZACCIONES'!L211 -> 222299.68 | F189: =+'ANALISIS DE COTIZACCIONES'!N211+'ANALISIS DE COTIZACCIONES'!N211+'ANALISIS DE COTIZACCIONES'!N211 -> 642450 | G189: =+'ANALISIS DE COTIZACCIONES'!O211 -> 164043.75 | H189: ='ANALISIS DE COTIZACCIONES'!K211/'ANALISIS DE COTIZACCIONES'!L211 -> 0.50860969 | I189: =IF(H189<=25%,"Media geométrica",IF(H189<=50%,"Media aritmética",IF(H189<=75%,"Mediana","Media armónica"))) -> Mediana | J189: =IF(H189<=25%,'ANALISIS DE COTIZACCIONES'!M211,IF(H189<=50%,'ANALISIS DE COTIZACCIONES'!L211,IF(H189<=75%,'ANALISIS DE COTIZACCIONES'!N211,'ANALISIS DE COTIZACCIONES'!O211))) -> 214150
A190: LOTE G | B190: 178 | C190: Frisbee | D190: =+'ANALISIS DE COTIZACCIONES'!M212 -> 18427.054 | E190: =+'ANALISIS DE COTIZACCIONES'!L212 -> 21940.815 | F190: =+'ANALISIS DE COTIZACCIONES'!N212+'ANALISIS DE COTIZACCIONES'!N212+'ANALISIS DE COTIZACCIONES'!N212 -> 55609.89 | G190: =+'ANALISIS DE COTIZACCIONES'!O212 -> 15610.33 | H190: ='ANALISIS DE COTIZACCIONES'!K212/'ANALISIS DE COTIZACCIONES'!L212 -> 0.58391174 | I190: =IF(H190<=25%,"Media geométrica",IF(H190<=50%,"Media aritmética",IF(H190<=75%,"Mediana","Media armónica"))) -> Mediana | J190: =IF(H190<=25%,'ANALISIS DE COTIZACCIONES'!M212,IF(H190<=50%,'ANALISIS DE COTIZACCIONES'!L212,IF(H190<=75%,'ANALISIS DE COTIZACCIONES'!N212,'ANALISIS DE COTIZACCIONES'!O212))) -> 18536.63
A191: LOTE G | B191: 179 | C191: Parqués | D191: =+'ANALISIS DE COTIZACCIONES'!M213 -> 58194.691 | E191: =+'ANALISIS DE COTIZACCIONES'!L213 -> 104332.07 | F191: =+'ANALISIS DE COTIZACCIONES'!N213+'ANALISIS DE COTIZACCIONES'!N213+'ANALISIS DE COTIZACCIONES'!N213 -> 114057.42 | G191: =+'ANALISIS DE COTIZACCIONES'!O213 -> 41616.652 | H191: ='ANALISIS DE COTIZACCIONES'!K213/'ANALISIS DE COTIZACCIONES'!L213 -> 1.1678827 | I191: =IF(H191<=25%,"Media geométrica",IF(H191<=50%,"Media aritmética",IF(H191<=75%,"Mediana","Media armónica"))) -> Media armónica | J191: =IF(H191<=25%,'ANALISIS DE COTIZACCIONES'!M213,IF(H191<=50%,'ANALISIS DE COTIZACCIONES'!L213,IF(H191<=75%,'ANALISIS DE COTIZACCIONES'!N213,'ANALISIS DE COTIZACCIONES'!O213))) -> 41616.652
A192: LOTE G | B192: 180 | C192: Ajedrez | D192: =+'ANALISIS DE COTIZACCIONES'!M214 -> 63220.765 | E192: =+'ANALISIS DE COTIZACCIONES'!L214 -> 73837.342 | F192: =+'ANALISIS DE COTIZACCIONES'!N214+'ANALISIS DE COTIZACCIONES'!N214+'ANALISIS DE COTIZACCIONES'!N214 -> 171044.05 | G192: =+'ANALISIS DE COTIZACCIONES'!O214 -> 55592.738 | H192: ='ANALISIS DE COTIZACCIONES'!K214/'ANALISIS DE COTIZACCIONES'!L214 -> 0.5922311 | I192: =IF(H192<=25%,"Media geométrica",IF(H192<=50%,"Media aritmética",IF(H192<=75%,"Mediana","Media armónica"))) -> Mediana | J192: =IF(H192<=25%,'ANALISIS DE COTIZACCIONES'!M214,IF(H192<=50%,'ANALISIS DE COTIZACCIONES'!L214,IF(H192<=75%,'ANALISIS DE COTIZACCIONES'!N214,'ANALISIS DE COTIZACCIONES'!O214))) -> 57014.685
A193: LOTE G | B193: 181 | C193: Cartas Poker | D193: =+'ANALISIS DE COTIZACCIONES'!M215 -> 39924.599 | E193: =+'ANALISIS DE COTIZACCIONES'!L215 -> 48647.75 | F193: =+'ANALISIS DE COTIZACCIONES'!N215+'ANALISIS DE COTIZACCIONES'!N215+'ANALISIS DE COTIZACCIONES'!N215 -> 104398.5 | G193: =+'ANALISIS DE COTIZACCIONES'!O215 -> 34174.522 | H193: ='ANALISIS DE COTIZACCIONES'!K215/'ANALISIS DE COTIZACCIONES'!L215 -> 0.68033272 | I193: =IF(H193<=25%,"Media geométrica",IF(H193<=50%,"Media aritmética",IF(H193<=75%,"Mediana","Media armónica"))) -> Mediana | J193: =IF(H193<=25%,'ANALISIS DE COTIZACCIONES'!M215,IF(H193<=50%,'ANALISIS DE COTIZACCIONES'!L215,IF(H193<=75%,'ANALISIS DE COTIZACCIONES'!N215,'ANALISIS DE COTIZACCIONES'!O215))) -> 34799.5
A194: LOTE G | B194: 182 | C194: Juego uno | D194: =+'ANALISIS DE COTIZACCIONES'!M216 -> 26342.141 | E194: =+'ANALISIS DE COTIZACCIONES'!L216 -> 33746.75 | F194: =+'ANALISIS DE COTIZACCIONES'!N216+'ANALISIS DE COTIZACCIONES'!N216+'ANALISIS DE COTIZACCIONES'!N216 -> 60588 | G194: =+'ANALISIS DE COTIZACCIONES'!O216 -> 22326.244 | H194: ='ANALISIS DE COTIZACCIONES'!K216/'ANALISIS DE COTIZACCIONES'!L216 -> 0.79060991 | I194: =IF(H194<=25%,"Media geométrica",IF(H194<=50%,"Media aritmética",IF(H194<=75%,"Mediana","Media armónica"))) -> Media armónica | J194: =IF(H194<=25%,'ANALISIS DE COTIZACCIONES'!M216,IF(H194<=50%,'ANALISIS DE COTIZACCIONES'!L216,IF(H194<=75%,'ANALISIS DE COTIZACCIONES'!N216,'ANALISIS DE COTIZACCIONES'!O216))) -> 22326.244
A195: LOTE G | B195: 183 | C195: Torre jenga en madera | D195: =+'ANALISIS DE COTIZACCIONES'!M217 -> 79688.015 | E195: =+'ANALISIS DE COTIZACCIONES'!L217 -> 97947.395 | F195: =+'ANALISIS DE COTIZACCIONES'!N217+'ANALISIS DE COTIZACCIONES'!N217+'ANALISIS DE COTIZACCIONES'!N217 -> 270599.37 | G195: =+'ANALISIS DE COTIZACCIONES'!O217 -> 64235.457 | H195: ='ANALISIS DE COTIZACCIONES'!K217/'ANALISIS DE COTIZACCIONES'!L217 -> 0.59039143 | I195: =IF(H195<=25%,"Media geométrica",IF(H195<=50%,"Media aritmética",IF(H195<=75%,"Mediana","Media armónica"))) -> Mediana | J195: =IF(H195<=25%,'ANALISIS DE COTIZACCIONES'!M217,IF(H195<=50%,'ANALISIS DE COTIZACCIONES'!L217,IF(H195<=75%,'ANALISIS DE COTIZACCIONES'!N217,'ANALISIS DE COTIZACCIONES'!O217))) -> 90199.79
A196: LOTE G | B196: 184 | C196: Burbujeros pequeños | D196: =+'ANALISIS DE COTIZACCIONES'!M218 -> 17198.887 | E196: =+'ANALISIS DE COTIZACCIONES'!L218 -> 25704.588 | F196: =+'ANALISIS DE COTIZACCIONES'!N218+'ANALISIS DE COTIZACCIONES'!N218+'ANALISIS DE COTIZACCIONES'!N218 -> 62235 | G196: =+'ANALISIS DE COTIZACCIONES'!O218 -> 10064.843 | H196: ='ANALISIS DE COTIZACCIONES'!K218/'ANALISIS DE COTIZACCIONES'!L218 -> 0.77165439 | I196: =IF(H196<=25%,"Media geométrica",IF(H196<=50%,"Media aritmética",IF(H196<=75%,"Mediana","Media armónica"))) -> Media armónica | J196: =IF(H196<=25%,'ANALISIS DE COTIZACCIONES'!M218,IF(H196<=50%,'ANALISIS DE COTIZACCIONES'!L218,IF(H196<=75%,'ANALISIS DE COTIZACCIONES'!N218,'ANALISIS DE COTIZACCIONES'!O218))) -> 10064.843

Sheet PRECIOS DE REFERENCIA
A1: ÍTEM | B1: PRODUCTO / DESCRIPCIÓN | C1: UNIDAD | D1: CANT | E1: PRECIO DE REFERENCIA UNITARIO INCLUIDO IVA
A2: 1 | B2: Cepillo de dientes | C2: UNIDAD | D2: 1 | E2: 5125
A3: 2 | B3: Crema dental | C3: UNIDAD | D3: 1 | E3: 9008
A4: 3 | B4: Desodorante | C4: UNIDAD | D4: 1 | E4: 6563
A5: 4 | B5: Shampoo | C5: UNIDAD | D5: 1 | E5: 7450
A6: 5 | B6: Jabón de baño | C6: UNIDAD | D6: 1 | E6: 5270
A7: 6 | B7: Jabón para lavar ropa | C7: UNIDAD | D7: 1 | E7: 3850
A8: 7 | B8: Máquina de afeitar | C8: UNIDAD | D8: 1 | E8: 5381
A9: 8 | B9: Papel higiénico | C9: UNIDAD | D9: 1 | E9: 13768
A10: 9 | B10: Cepillo de dientes | C10: UNIDAD | D10: 1 | E10: 5125
A11: 10 | B11: Crema dental | C11: UNIDAD | D11: 1 | E11: 9008
A12: 11 | B12: Desodorante | C12: UNIDAD | D12: 1 | E12: 6625
A13: 12 | B13: Shampoo | C13: UNIDAD | D13: 1 | E13: 7450
... A185: 184 | B185: Burbujeros pequeños | C185: UNIDAD | D185: 1 | E185: 10065
