Workbook
Name \a: #N/A
Name \b: #REF!
Name \c: #REF!
Name \h: #REF!
Name \m: #REF!
Name \p: #REF!
Name \r: #REF!
Name \s: #REF!
Name _____DOS1: #REF!
Name _____RC: #REF!
Name _____UNO1: #REF!
Name ____DIA1: #REF!
Name ____DIA2: #REF!
Name ____DOS1: #REF!
Name ____EE1: #REF!
Name ____GT1: #REF!
Name ____GTO1: #REF!
Name ____INC1: #REF!
Name ____INI1: #REF!
Name ____MA1: #REF!
Name ____MES1: #REF!
Name ____RC: #REF!
Name ____UNO1: #REF!
Name ___DAT1: #REF!
Name ___DIA1: #REF!
Name ___DIA2: #REF!
Name ___DOS1: #REF!
Name ___EE1: #REF!
Name ___GT1: #REF!
Name ___GTO1: #REF!
Name ___INC1: #REF!
Name ___INI1: #REF!
Name ___MA1: #REF!
Name ___MES1: #REF!
Name ___RC: #REF!
Name ___UNO1: #REF!
Name ___xlnm._FilterDatabase: #REF!
Name ___xlnm._FilterDatabase_2: #REF!
Name ___xlnm.Print_Area: #REF!
Name ___xlnm.Print_Titles: #REF!
Name __1Excel_BuiltIn_Print_Area_1_1: #REF!
Name __DAT1: #REF!
Name __DIA1: #REF!
Name __DIA2: #REF!
Name __DOS1: #REF!
Name __EE1: #REF!
Name __GT1: #REF!
Name __GTO1: #REF!
Name __INC1: #REF!
Name __INI1: #REF!
Name __MA1: #REF!
Name __MES1: #REF!
Name __RC: #REF!
Name __TaI7: #REF!
Name __UNO1: #REF!
Name __xlnm._FilterDatabase: #REF!
Name __xlnm._FilterDatabase_2: #REF!
Name __xlnm.Print_Area: #REF!
Name __xlnm.Print_Titles: #REF!
Name _1: #N/A

Sheet PROPUESTA PNN(estu.mercado)
B2: GRUPO No. 1 | C2: RAMO | D2: VALOR ASEGURADO | E2: TASA ANUAL (%) | F2: SUBTOTAL PRIMA ANUAL | G2: PRIMA PERIODO (26 días) | H2: IVA 19% | I2: TOTAL | M2: GRUPO No. 2 | N2: RAMO | O2: ENTIDAD | P2: No. PROCESO CONTRACTUAL | Q2: TASAS | R2: MEDIA.ACOTADA TASA (%) MERCADO
C3: AUTOMOVILES | D3: 17942800000 | E3: =+R3 -> 2.28375 | F3: =ROUND((+D3*E3/100),0) -> 409768695 | G3: =ROUND((F3)/365*26,0) -> 29189003 | H3: =ROUND((+G3*0.19),0) -> 5545911 | I3: =+G3+H3 -> 34734914 | N3: Automóviles | O3: PARQUES NACIONALES NATURALES DE COLOMBIA | P3: SEL-ABREV-008-2025 | Q3: 2.003 | R3: =+TRIMMEAN((Q3:Q8),0) -> 2.28375
C4: REMANENTE POR AJUSTE POR CAMBIOS TARIFA FASECOLDA (NUEVAS INCLUSIONES 10%) | I4: =+I3*10% -> 3473491.4 | O4: AGENCIA LOGISTICA DE LAS FUERZA MILITARES | P4: LICITACIÓN PÚBLICA No. 002-046-2026 | Q4: 2.6
C5: TOTAL PROGRAMA DE SEGUROS GRUPO No. 1 | I5: =+I3+I4 -> 38208405 | J5: =+I5/1750905 -> 21.822089 | O5: UNIDAD ADMINISTRATIVA ESPECIAL DE AERONÁUTICA CIVIL - AEROCIVIL | P5: LICITACION PUBLICA 26001053 H3 de 2026 | Q5: 1.42
O6: CONCEJO DE BOGOTA | P6: SELECCIÓN ABREVIADA DE MENOR CUANTIA No. SDH-SAMC-0001-2026 | Q6: 3.5
H7: | | O7: MINISTERIO DEL INTERIOR | P7: SAMC-002-2026 | Q7: 1.8575
O8: SUPERINTENDENCIA DE INDUSTRIA Y COMERCIO - SIC | P8: LICITACIÓN PÚBLICA SIC 8 DE 2026 | Q8: 2.322
B9: GRUPO No. 2 | C9: RAMO | D9: VALOR ASEGURADO | E9: TASA ANUAL (%y $) respectivamente | F9: SUBTOTAL PRIMA ANUAL | G9: PRIMA PERIODO (43 días) | H9: IVA 19% | I9: TOTAL
C10: CASCO AVIACIÓN (DRONES) | D10: 824021468 | E10: 18.9 | F10: =+D10*E10/100 -> 1.5574006e+08 | G10: =ROUND((F10)/365*43,0) -> 18347459 | H10: =ROUND((+G10*0.19),0) -> 3486017 | I10: =+G10+H10 -> 21833476
C11: RCE $8,500,000,000 (POR 17 DRONES) | D11: =8500000000*17 -> 144500000000 | E11: =+T21 -> 4524555 | F11: =E11*17 -> 76917435 | G11: =ROUND((F11)/365*43,0) -> 9061506 | H11: =ROUND((+G11*0.19),0) -> 1721686 | I11: =+G11+H11 -> 10783192
C12: TOTAL PROGRAMA DE SEGUROS GRUPO No. 2 | I12: =SUM(I10:I11) -> 32616668 | J12: =+I12/1750905 -> 18.628462
C14: TOTAL PROGRAMA DE SEGUROS | I14: =+I5+I12 -> 70825073 | J14: =+I14/1750905 -> 40.450552
M18: Cuadro de Indexación de Referencias de Mercado (Grupo No. 2)
T19: =17.09%*5.2%+17.09% -> 0.1797868 | U19: 2024
M20: Parques Nacionales Naturales | N20: SEL-ABREV-027-2024 | O20: Casco Drones | P20: 17,09% (Tasa) | Q20: IPC 2024 (+5,20%) + IPC 2025 (+5,10%) | R20: 18,90% (Tasa Final) | T20: =17.98%*5.1%+17.98% -> 0.1889698 | U20: 2025
M21: Parques Nacionales Naturales | N21: SEL-ABREV-027-2025 | O21: RCE (Por Drone) | P21: $4.305.000 (Prima) | Q21: IPC 2025 (+5,10%) | R21: $4.524.555 (Prima Final) | T21: =4305000*5.1%+4305000 -> 4524555 | U21: 2025
T23: =+T21*17 -> 76917435

Sheet 1. VIGENCIA 2026
C2: PARQUES NACIONALES NATURALES DE COLOMBIA
C3: ESTUDIO DE MERCADO
C4: CALCULO VALORES APROXIMADOS DE PRIMA VIGENCIA 2026
C7: VIGENCIA | D7: GRUPO No. 1 | E7: GRUPO No. 2
C8: DESDE LAS 00:00 HORAS | D8: 46346 | E8: 46329
C9: HASTA LAS 00:00 HORAS | D9: 46372 | E9: 46372
C10: DIAS DE COBERTURA | D10: =+D9-D8 -> 26 | E10: =+E9-E8 -> 43
C11: PRESUPUESTO | D11: =+M16 -> 38208405 | E11: =+M21 -> 32616668 | F11: =+D11+E11 -> 70825073
B13: GRUPO No. 1 | C13: RAMO | D13: VALOR ASEGURADO | F13: TASA ANUAL | H13: TIPO TASA | I13: SUBTOTAL PRIMA ANUAL | K13: PRIMA PERIODO | L13: IVA | M13: TOTAL
C14: AUTOMOVILES | D14: =+'3.PARQUE AUTOMOR (31-08-26 437)'!Q439 -> 17942800000 | F14: % | G14: =+'PROPUESTA PNN(estu.mercado)'!E3 -> 2.28375 | H14: N/A | I14: =ROUND((+D14*G14/100),0) -> 409768695 | K14: =ROUND((I14+J14)/365*$D$10,0) -> 29189003 | L14: =ROUND((+K14*0.19),0) -> 5545911 | M14: =+K14+L14 -> 34734914
C15: REMANENTE POR AJUSTE POR CAMBIOS TARIFA FASECOLDA (NUEVAS INCLUSIONES) | M15: =+M14*10% -> 3473491.4
C16: TOTAL PROGRAMA DE SEGUROS GRUPO No. 1 | M16: =SUM(M14:M15) -> 38208405
B18: GRUPO No. 2 | C18: RAMO | D18: VALOR ASEGURADO | F18: TASA ANUAL | H18: TIPO TASA | I18: SUBTOTAL PRIMA ANUAL | K18: PRIMA PERIODO | L18: IVA | M18: TOTAL
C19: CASCO AVIACIÓN (DRONES) | D19: =+'4.DRONES'!I23 -> 824021468 | F19: =+'PROPUESTA PNN(estu.mercado)'!E10 -> 18.9 | H19: % | I19: =+D19*F19/100 -> 1.5574006e+08 | K19: =ROUND((I19+J19)/365*$E$10,0) -> 18347459 | L19: =ROUND((+K19*0.19),0) -> 3486017 | M19: =+K19+L19 -> 21833476
C20: RCE LÍMITE DE $14.162.616.372,42 POR DRONE) EQUIVALENTE A 33,333 GRAMOS ORO (RAC100) POR $424.882,74 | D20: =(33333*424882.74)*17 -> 2.4076448e+11 | F20: =+'2.TASAS PROMEDIO'!E21 -> 4524555 | I20: =+F20*'4.DRONES'!B22 -> 76917435 | K20: =+I20/365*E10 -> 9061506 | L20: =ROUND((+K20*0.19),0) -> 1721686 | M20: =+K20+L20 -> 10783192
C21: TOTAL PROGRAMA DE SEGUROS GRUPO No. 2 | M21: =SUM(M19:M20) -> 32616668
C23: TOTAL PROGRAMA DE SEGUROS | M23: =+M21+M16 -> 70825073

Sheet 2.TASAS PROMEDIO
B2: PARQUES NACIONALES NATURALES DE COLOMBIA
B3: ESTUDIO DE MERCADO
B4: DETERMINACION TASAS PROMEDIO
B7: GRUPO No. 1
B8: ENTIDAD | C8: No. PROCESO CONTRACTUAL | D8: RAMO | E8: TASAS | F8: PROMEDIO TASAS
F9: PROMERIO TASA MERCADO | G9: TIPO DE TASA % - %o
B10: PARQUES NACIONALES NATURALES DE COLOMBIA | C10: SEL-ABREV-008-2025 | D10: Automóviles | E10: 2.003 | F10: =+TRIMMEAN((E10:E15),0) -> 2.28375 | G10: %
B11: AGENCIA LOGISTICA DE LAS FUERZA MILITARES | C11: LICITACIÓN PÚBLICA No. 002-046-2026 | E11: 2.6
B12: UNIDAD ADMINISTRATIVA ESPECIAL DE AERONÁUTICA CIVIL - AEROCIVIL | C12: LICITACION PUBLICA 26001053 H3 de 2026 | E12: 1.42
B13: CONCEJO DE BOGOTA | C13: SELECCIÓN ABREVIADA DE MENOR CUANTIA No. SDH-SAMC-0001-2026 | E13: 3.5
B14: MINISTERIO DEL INTERIOR | C14: SAMC-002-2026 | E14: 1.8575
B15: SUPERINTENDENCIA DE INDUSTRIA Y COMERCIO - SIC | C15: LICITACIÓN PÚBLICA SIC 8 DE 2026 | E15: 2.322
B18: GRUPO No. 2
B19: PARQUES NACIONALES NATURALES DE COLOMBIA | C19: SEL-ABREV-027-2024 (Tasa Casco) | D19: Casco Drones | E19: 17.09 | G19: %
B20: PARQUES NACIONALES NATURALES DE COLOMBIA | C20: SEL-ABREV-027-2025 (RCE Prima $4,305,000 por Drone) | E20: 4305000 | F20: Prima Anual por Drone
E21: =+E20*F28+E20 -> 4524555
E22: =+E21*F29+E21 -> 4759831.9
E27: Año | F27: IPC
E28: 2025 | F28: 0.051
E29: 2024 | F29: 0.052
E30: 2023 | F30: 0.0928

Sheet 3.PARQUE AUTOMOR (31-08-26 437)
A1: No. | B1: Placa | C1: Marca | D1: CLASE | E1: TIPO | F1: Cilindraje | G1: MODELO | H1: No de motor | I1: No. De chasis | J1: No. De Póliza SOAT | K1: Fecha de Inicio (Desde las 00Horas) | L1: Fecha Vencimiento (Hasta las 24Horas) | M1: SERVICIO | N1: dirección territorial | O1: ÁREA PROTEGIDA | P1: CODIGO FASECOLDA | Q1: FASECOLDA 362
A2: 1 | B2: CIR70G | C2: YAMAHA | D2: MOTOCICLETA | F2: 149 | G2: 2023 | H2: G3E9E0137342 | I2: 9FKRG2174P2137342 | J2: 15681500018920 | K2: 46392 | L2: 46756 | M2: OFICIAL | N2: DTPA | O2: URAMBA BAHÍA MALAGA | P2: 09857072 | Q2: 9800000
A3: =+A2+1 -> 2 | B3: JYP729 | C3: CHEVROLET | D3: CAMIONETA | F3: 2776 | G3: 2023 | H3: LWNF222211105 | I3: 9BG148PK0PC418533 | J3: 15681500018930 | K3: 46392 | L3: 46756 | M3: OFICIAL | N3: DTAO | O3: TATAMA | P3: 01642042 | Q3: 142700000
A4: =+A3+1 -> 3 | B4: OKZ055 | C4: CHEVROLET | D4: CAMIONETA | F4: 2776 | G4: 2023 | H4: LWNF222371114 | I4: 9BG148MK0PC421595 | J4: 15681500018940 | K4: 46392 | L4: 46756 | M4: OFICIAL | N4: DTPA | O4: PNN FARALLONES DE CALI | P4: 01646023 | Q4: 126200000
A5: =+A4+1 -> 4 | B5: OKZ056 | C5: CHEVROLET | D5: CAMIONETA | F5: 2776 | G5: 2023 | H5: LWNF222371100 | I5: 9BG148MK0PC421447 | J5: 15681500018950 | K5: 46392 | L5: 46756 | M5: OFICIAL | N5: DTPA | O5: PNN FARALLONES DE CALI | P5: 01646023 | Q5: 126200000
A6: =+A5+1 -> 5 | B6: OKZ057 | C6: CHEVROLET | D6: CAMIONETA | F6: 2776 | G6: 2023 | H6: LWNF222371103 | I6: 9BG148MK0PC421450 | J6: 15681500018960 | K6: 46392 | L6: 46756 | M6: OFICIAL | N6: DTPA | O6: PNN FARALLONES DE CALI | P6: 01646023 | Q6: 126200000
A7: =+A6+1 -> 6 | B7: VWB65F | C7: YAMAHA | D7: MOTOCICLETA | F7: 249 | G7: 2023 | H7: G3F2E032431 | I7: 9FKDG2829P2032431 | J7: 15681500018970 | K7: 46392 | L7: 46756 | M7: OFICIAL | N7: DTAO | O7: LAS HERMOSAS | P7: 09854042 | Q7: 20500000
A8: =+A7+1 -> 7 | B8: VWB66F | C8: YAMAHA | D8: MOTOCICLETA | F8: 249 | G8: 2023 | H8: G3F2E032232 | I8: 9FKDG2823P2032232 | J8: 15681500018980 | K8: 46392 | L8: 46756 | M8: OFICIAL | N8: DTAO | O8: COMPLEJO VOLCÁNICO DOÑA JUANA | P8: 09854042 | Q8: 20500000
A9: =+A8+1 -> 8 | B9: FMU14G | C9: HONDA | D9: MOTOCICLETA | F9: 184 | G9: 2023 | H9: MD42E0P000148 | I9: 9C2MD4200PR000126 | J9: 15681500018990 | K9: 46392 | L9: 46756 | M9: OFICIAL | N9: DTPA | O9: PNN FARALLONES DE CALI | P9: 03454037 | Q9: 14300000
A10: =+A9+1 -> 9 | B10: FMU15G | C10: HONDA | D10: MOTOCICLETA | F10: 184 | G10: 2023 | H10: MD42E0P000671 | I10: 9C2MD4200PR000645 | J10: 15681500019000 | K10: 46392 | L10: 46756 | M10: OFICIAL | N10: DTPA | O10: PNN FARALLONES DE CALI | P10: 03454037 | Q10: 14300000
A11: =+A10+1 -> 10 | B11: FMU16G | C11: HONDA | D11: MOTOCICLETA | F11: 184 | G11: 2023 | H11: MD42E0P000818 | I11: 9C2MD4200PR000881 | J11: 15681500019010 | K11: 46392 | L11: 46756 | M11: OFICIAL | N11: DTPA | O11: PNN FARALLONES DE CALI | P11: 03454037 | Q11: 14300000
A12: =+A11+1 -> 11 | B12: FMU17G | C12: HONDA | D12: MOTOCICLETA | F12: 184 | G12: 2023 | H12: MD42E0P001427 | I12: 9C2MD4200PR001411 | J12: 15681500019020 | K12: 46392 | L12: 46756 | M12: OFICIAL | N12: DTPA | O12: PNN FARALLONES DE CALI | P12: 03454037 | Q12: 14300000
A13: =+A12+1 -> 12 | B13: VWB87F | C13: YAMAHA | D13: MOTOCICLETA | F13: 249 | G13: 2024 | H13: GEF2E036765 | I13: 9FKDG2848R2036765 | J13: 15681500019030 | K13: 46397 | L13: 46761.999 | M13: OFICIAL | N13: DTAO | O13: SELVAS DE FLORENCIA | P13: 09854042 | Q13: 22500000
A14: =+A13+1 -> 13 | B14: VWB88F | C14: YAMAHA | D14: MOTOCICLETA | F14: 249 | G14: 2024 | H14: GEF2E036786 | I14: 9FKDG2845R2036786 | J14: 15681500019040 | K14: 46397 | L14: 46761.999 | M14: OFICIAL | N14: DTAO | O14: LAS HERMOSAS | P14: 09854042 | Q14: 22500000
... A65: =+A64+1 -> 64 | B65: OJY112 | C65: TOYOTA | D65: CAMIONETA | F65: 2494 | G65: 2015 | H65: 2KD-U714056 | I65: 8AJFR22G8F4578661 | J65: 15681500018730 | K65: 46416 | L65: 46780.999 | M65: OFICIAL | N65: DTAM | O65: NUKAK | P65: 09042035 | Q65: 119300000
A66: =+A65+1 -> 65 | B66: OKZ216 | C66: CHEVROLET | D66: CAMIONETA | F66: 2500 | G66: 2016 | H66: NK4796 | I66: 8LBETF3W8G0383020 | J66: 15681500018740 | K66: 46416 | L66: 46780.999 | M66: OFICIAL | N66: DTAN | O66: CATATUMBO BARI | P66: 01642032 | Q66: 88400000
A67: =+A66+1 -> 66 | B67: OQE791 | C67: CHEVROLET | D67: CAMIONETA | F67: 2500 | G67: 2015 | H67: ME4269 | I67: 8LBETF3W9F0280431 | J67: 15681500019140 | K67: 46416 | L67: 46780.999 | M67: OFICIAL | N67: DTCA | O67: BAHÍA PORTETE KAURRELE | P67: 01642030 | Q67: 84500000
A68: =+A67+1 -> 67 | B68: OQE796 | C68: NISSAN | D68: CAMIONETA | F68: 2488 | G68: 2016 | H68: YD25-626427P | I68: 3N6CD33B3ZK351505 | J68: 15681500019180 | K68: 46416 | L68: 46780.999 | M68: OFICIAL | N68: DTCA | O68: CORALES DE PROFUNDIDAD | P68: 06442052 | Q68: 92400000
A69: =+A68+1 -> 68 | B69: OQQ98F | C69: YAMAHA | D69: MOTOCICLETA | F69: 124 | G69: 2021 | H69: E3Y2E052596 | I69: 9FKDE0923M2052596 | J69: 15681500019190 | K69: 46416 | L69: 46780.999 | M69: OFICIAL | N69: DTAM | O69: SERRANÍA DE CHIRIBIQUETE | P69: 09854031 | Q69: 7000000
A70: =+A69+1 -> 69 | B70: OQQ99F | C70: YAMAHA | D70: MOTOCICLETA | F70: 124 | G70: 2021 | H70: E3Y2E052545 | I70: 9FKDE0928M2052545 | J70: 15681500019220 | K70: 46416 | L70: 46780.999 | M70: OFICIAL | N70: DTAM | O70: SERRANÍA DE CHIRIBIQUETE | P70: 09854031 | Q70: 7000000
A71: =+A70+1 -> 70 | B71: PGO86F | C71: YAMAHA | D71: MOTOCICLETA | F71: 124 | G71: 2020 | H71: E3Y2E045584 | I71: 9FKDE0927L2045584 | J71: 15681500019240 | K71: 46416 | L71: 46780.999 | M71: PARTICULAR | N71: DTCA | O71: ISLA DE SALAMANCA | P71: 09854031 | Q71: 6800000
A72: =+A71+1 -> 71 | B72: SDR80E | C72: YAMAHA | D72: MOTOCICLETA | F72: 249 | G72: 2018 | H72: G3F2E007428 | I72: 9FKDG2817J2007428 | J72: 15681500019250 | K72: 46416 | L72: 46780.999 | M72: OFICIAL | N72: DTCA | O72: LOS COLORADOS | P72: 09854019 | Q72: 15400000
A73: =+A72+1 -> 72 | B73: SDR82E | C73: YAMAHA | D73: MOTOCICLETA | F73: 249 | G73: 2018 | H73: G3F2E007368 | I73: 9FKDG2814J2007368 | J73: 15681500019260 | K73: 46416 | L73: 46780.999 | M73: OFICIAL | N73: DTCA | O73: LOS COLORADOS | P73: 09854019 | Q73: 15400000
A74: =+A73+1 -> 73 | B74: SDR88E | C74: YAMAHA | D74: MOTOCICLETA | F74: 249 | G74: 2018 | H74: G3F2E007360 | I74: 9FKDG281XJ2007360 | J74: 15681500019440 | K74: 46416 | L74: 46780.999 | M74: OFICIAL | N74: DTPA | O74: LOS KATIOS | P74: 09854019 | Q74: 15400000
A75: =+A74+1 -> 74 | B75: WEA42C | C75: YAMAHA | D75: MOTOCICLETA | F75: 124 | G75: 2013 | H75: E3B4E010115 | I75: 9FK3B2110D2010115 | J75: 15681500019450 | K75: 46416 | L75: 46780.999 | M75: OFICIAL | N75: DTOR | O75: DNMI CINARUCO | P75: 09854014 | Q75: 5800000
A76: =+A75+1 -> 75 | B76: WEA43C | C76: YAMAHA | D76: MOTOCICLETA | F76: 124 | G76: 2013 | H76: E3B4E010113 | I76: 9FK3B2117D2010113 | J76: 15681500019460 | K76: 46416 | L76: 46780.999 | M76: OFICIAL | N76: DTOR | O76: EL TUPARRO | P76: 09854014 | Q76: 5800000
A77: =+A76+1 -> 76 | B77: WEA45C | C77: YAMAHA | D77: MOTOCICLETA | F77: 124 | G77: 2013 | H77: E3B4E010111 | I77: 9FK3B2113D2010111 | J77: 15681500019470 | K77: 46416 | L77: 46780.999 | M77: OFICIAL | N77: DTOR | O77: DNMI CINARUCO | P77: 09854014 | Q77: 5800000
A78: =+A77+1 -> 77 | B78: WEA46C | C78: YAMAHA | D78: MOTOCICLETA | F78: 124 | G78: 2013 | H78: E3B4E010110 | I78: 9FK3B2111D2010110 | J78: 15681500019480 | K78: 46416 | L78: 46780.999 | M78: OFICIAL | N78: DTAO | O78: LAS HERMOSAS | P78: 09854014 | Q78: 5800000
A79: =+A78+1 -> 78 | B79: WEA47C | C79: YAMAHA | D79: MOTOCICLETA | F79: 124 | G79: 2013 | H79: E3B4E010109 | I79: 9FK3B2115D2010109 | J79: 15681500019490 | K79: 46051 | L79: 46415.999 | M79: OFICIAL | N79: DTOR | O79: SUMAPAZ | P79: 09854014 | Q79: 5800000
A80: =+A79+1 -> 79 | B80: WEA48C | C80: YAMAHA | D80: MOTOCICLETA | F80: 124 | G80: 2013 | H80: E3B4E010107 | I80: 9FK3B2111D2010107 | J80: 15681500019500 | K80: 46416 | L80: 46780.999 | M80: OFICIAL | N80: DTOR | O80: SUMAPAZ | P80: 09854014 | Q80: 5800000
A81: =+A80+1 -> 80 | B81: WEA49C | C81: YAMAHA | D81: MOTOCICLETA | F81: 124 | G81: 2013 | H81: E3B4E010105 | I81: 9FK3B2118D2010105 | J81: 15681500019510 | K81: 46416 | L81: 46780.999 | M81: OFICIAL | N81: DTOR | O81: SUMAPAZ | P81: 09854014 | Q81: 5800000
A82: =+A81+1 -> 81 | B82: WEA54C | C82: YAMAHA | D82: MOTOCICLETA | F82: 124 | G82: 2013 | H82: E3B4E010139 | I82: 9FK3B2113D2010139 | J82: 15681500019520 | K82: 46416 | L82: 46780.999 | M82: OFICIAL | N82: DTOR | O82: TINIGUA | P82: 09854014 | Q82: 5800000
A83: =+A82+1 -> 82 | B83: WEA59C | C83: YAMAHA | D83: MOTOCICLETA | F83: 124 | G83: 2013 | H83: E3B4E010143 | I83: 9FK3B2115D2010143 | J83: 15681500019550 | K83: 46416 | L83: 46780.999 | M83: OFICIAL | N83: DTOR | O83: EL TUPARRO | P83: 09854014 | Q83: 5800000
A84: =+A83+1 -> 83 | B84: WEA60C | C84: YAMAHA | D84: MOTOCICLETA | F84: 124 | G84: 2013 | H84: E3B4E010145 | I84: 9FK3B2119D2010145 | J84: 15681500019560 | K84: 46416 | L84: 46780.999 | M84: OFICIAL | N84: DTOR | O84: SIERRA DE LA MACARENA | P84: 09854014 | Q84: 5800000
... A86: =+A85+1 -> 85 | B86: YCZ35D | C86: YAMAHA | D86: MOTOCICLETA | F86: 125 | G86: 2015 | H86: E3M2E104027 | I86: 9FKKE2013F2104027 | J86: 15681500019580 | K86: 46416 | L86: 46780.999 | M86: OFICIAL | N86: DTAO | O86: DIRECCION TERRITORIAL | P86: 09854019 | Q86: 12300000
A87: =+A86+1 -> 86 | B87: LIT162 | C87: TOYOTA | D87: CAMIONETA | E87: HILUX - DOBLECABINA | F87: 2393 | G87: 2023 | H87: 2GD-G424933 | I87: 8AJKB3CD7P1660431 | J87: 15681500019690 | K87: 46417 | L87: 46781.999 | M87: OFICIAL | N87: DTCA | O87: PARAMILLO | P87: 09042066 | Q87: 186400000
A88: =+A87+1 -> 87 | B88: LIT177 | C88: TOYOTA | D88: CAMIONETA | E88: HILUX - DOBLECABINA | F88: 2393 | G88: 2023 | H88: 2GD-G428377 | I88: 8AJKB3CD8P1660700 | J88: 15681500019700 | K88: 46417 | L88: 46781.999 | M88: OFICIAL | N88: DTCA | O88: PARAMILLO | P88: 09042066 | Q88: 186400000
A89: =+A88+1 -> 88 | B89: LIT178 | C89: TOYOTA | D89: CAMIONETA | E89: HILUX - DOBLECABINA | F89: 2393 | G89: 2023 | H89: 2GD-G415062 | I89: 8AJKB3CD3P1659101 | J89: 15681500019600 | K89: 46417 | L89: 46781.999 | M89: OFICIAL | N89: DTCA | O89: PARAMILLO | P89: 09042066 | Q89: 186400000
A90: =+A89+1 -> 89 | B90: ODR253 | C90: FORD | D90: CAMPERO | F90: 1999 | G90: 2014 | H90: EUA33398 | I90: 1FMCU9G91EUA33398 | J90: 15681500019610 | K90: 46417 | L90: 46781.999 | M90: OFICIAL | N90: DTAO | O90: DIRECCION TERRITORIAL | P90: 03036055 | Q90: 49500000
A91: =+A90+1 -> 90 | B91: OVE344 | C91: CHEVROLET | D91: CAMIONETA | F91: 2999 | G91: 2011 | H91: 893941 | I91: 8LBETF3E1B0056720 | J91: 15681500019620 | K91: 46417 | L91: 46781.999 | M91: OFICIAL | N91: DTAO | O91: ISLA DE LA COROTA | P91: 01642023 | Q91: 75500000
A92: =+A91+1 -> 91 | B92: OMZ152 | C92: TOYOTA | D92: CAMIONETA | F92: 2393 | G92: 2023 | H92: 2GD-G427395 | I92: 8AJKB3CD8P1661135 | J92: 15681500019630 | K92: 46419 | L92: 46783.999 | M92: OFICIAL | N92: DTAO | O92: LAS HERMOSAS | P92: 09042066 | Q92: 186400000
A93: =+A92+1 -> 92 | B93: OMZ153 | C93: TOYOTA | D93: CAMIONETA | F93: 2400 | G93: 2023 | H93: 2GD-D114588 | I93: 8AJKB3CD3P1654870 | J93: 15681500019640 | K93: 46419 | L93: 46783.999 | M93: OFICIAL | N93: DTAO | O93: CUEVA DE LOS GUACHAROS | P93: 09042066 | Q93: 186400000
A94: =+A93+1 -> 93 | B94: EZE28C | C94: YAMAHA | D94: MOTOCICLETA | F94: 124 | G94: 2013 | H94: E3B4E010155 | I94: 9FK3B2111D2010155 | J94: 7.0080043e+15 | K94: 46055 | L94: 46419.999 | M94: OFICIAL | N94: DTAM | O94: PUINAWAI | P94: 09854014 | Q94: 5800000
A95: =+A94+1 -> 94 | B95: OQF658 | C95: VOLKSWAGEN | D95: CAMPERO | F95: 1984 | G95: 2015 | H95: CCZ455660 | I95: WVGZZZ5NZFW526215 | J95: 7.0080043e+15 | K95: 46055 | L95: 46419.999 | M95: OFICIAL | N95: NC | O95: SAF/GRUPO DE PROCESOS CORPORATIVOS | P95: 09242007 | Q95: 78800000
A96: =+A95+1 -> 95 | B96: CQA56 | C96: YAMAHA | D96: MOTOCICLETA | F96: 124 | G96: 2013 | H96: E3B4E010184 | I96: 9FK3B2118D2010184 | J96: 7.0080043e+15 | K96: 46057 | L96: 46421.999 | M96: OFICIAL | N96: DTAO | O96: TATAMA | P96: 09854014 | Q96: 5800000
A97: =+A96+1 -> 96 | B97: HEU10D | C97: HONDA | D97: MOTOCICLETA | F97: 249 | G97: 2015 | H97: MD34E-E750466 | I97: 9FMMD3428FF000394 | J97: 7.0080043e+15 | K97: 46058 | L97: 46422.999 | M97: PARTICULAR | N97: DTCA | O97: LOS FLAMENCOS | P97: 03454003 | Q97: 7800000
A98: =+A97+1 -> 97 | B98: BUF85D | C98: YAMAHA | D98: MOTOCICLETA | F98: 124 | G98: 2013 | H98: E3B4E010126 | I98: 9FK3B2115D2010126 | J98: 7.0080043e+15 | K98: 46059 | L98: 46423.999 | M98: OFICIAL | N98: DTAM | O98: AMACAYACU | P98: 09854014 | Q98: 5800000
A99: =+A98+1 -> 98 | B99: BUF86D | C99: YAMAHA | D99: MOTOCICLETA | F99: 124 | G99: 2013 | H99: E3B4E010123 | I99: 9FK3B211XD2010123 | J99: 7.0080043e+15 | K99: 46059 | L99: 46423.999 | M99: OFICIAL | N99: DTAM | O99: AMACAYACU | P99: 09854014 | Q99: 5800000
A100: =+A99+1 -> 99 | B100: ZZU50C | C100: YAMAHA | D100: MOTOCICLETA | F100: 124 | G100: 2013 | H100: E3B4E010171 | I100: 9FK3B211XD2010171 | J100: 7.0080043e+15 | K100: 46059 | L100: 46423.999 | M100: OFICIAL | N100: DTAM | O100: ALTO FRAGUA | P100: 09854014 | Q100: 5800000
A101: =+A100+1 -> 100 | B101: OUC269 | C101: FORD | D101: CAMIONETA | F101: 3198 | G101: 2017 | H101: SA2PHJ468931 | I101: 8AFAR23L3HJ468931 | J101: 7.0080043e+15 | K101: 46061 | L101: 46425.999 | M101: OFICIAL | N101: DTAO | O101: PNN LOS NEVADOS | P101: 03042051 | Q101: 95600000
A102: =+A101+1 -> 101 | B102: CHG96E | C102: AKT | D102: MOTOCICLETA | F102: 181 | G102: 2017 | H102: 163FMKPQ243074 | I102: 9F2A81808H5003689 | J102: 7.0080043e+15 | K102: 46062 | L102: 46426.999 | M102: PARTICULAR | N102: DTAO | O102: PNN LOS NEVADOS | P102: 15954011 | Q102: 4400000
A103: =+A102+1 -> 102 | B103: CHG98E | C103: AKT | D103: MOTOCICLETA | F103: 181 | G103: 2017 | H103: 163FMKPQ243056 | I103: 9F2A81801H5003694 | J103: 7.0080043e+15 | K103: 46062 | L103: 46426.999 | M103: PARTICULAR | N103: DTAO | O103: NEVADO DEL HUILA | P103: 15954011 | Q103: 4400000
A104: =+A103+1 -> 103 | B104: CHG99E | C104: AKT | D104: MOTOCICLETA | F104: 181 | G104: 2017 | H104: 163FMKPQ243172 | I104: 9F2A81806H5003707 | J104: 7.0080043e+15 | K104: 46062 | L104: 46426.999 | M104: PARTICULAR | N104: DTAO | O104: TATAMA | P104: 15954011 | Q104: 4400000
A105: =+A104+1 -> 104 | B105: OKZ760 | C105: TOYOTA | D105: CAMIONETA | F105: 2393 | G105: 2017 | H105: 2GD0168084 | I105: 8AJKB8CD3H1670369 | J105: 7.0080043e+15 | K105: 46063 | L105: 46427.999 | M105: OFICIAL | N105: DTAM | O105: DIRECCIÓN TERRITORIAL | P105: 09042046 | Q105: 162200000
A106: =+A105+1 -> 105 | B106: OKZ761 | C106: TOYOTA | D106: CAMIONETA | F106: 2393 | G106: 2017 | H106: 2GD4208339 | I106: 8AJKB8CD7H1670701 | J106: 7.0080043e+15 | K106: 46063 | L106: 46427.999 | M106: OFICIAL | N106: DTAM | O106: AMACAYACU | P106: 09042046 | Q106: 162200000
A107: =+A106+1 -> 106 | B107: PGA52D | C107: YAMAHA | D107: MOTOCICLETA | F107: 124 | G107: 2017 | H107: E3L5E056917 | I107: 9FKDE091XH2056917 | J107: 7.0080043e+15 | K107: 46063 | L107: 46427.999 | M107: OFICIAL | N107: DTOR | O107: CORDILLERA DE LOS PICACHOS | P107: 09854031 | Q107: 5900000
A108: =+A107+1 -> 107 | B108: PGA53D | C108: YAMAHA | D108: MOTOCICLETA | F108: 124 | G108: 2017 | H108: E3L5E056842 | I108: 9FKDE0915H2056842 | J108: 7.0080043e+15 | K108: 46063 | L108: 46427.999 | M108: OFICIAL | N108: DTOR | O108: CORDILLERA DE LOS PICACHOS | P108: 09854031 | Q108: 5900000
A109: =+A108+1 -> 108 | B109: CHG93E | C109: AKT | D109: MOTOCICLETA | F109: 181 | G109: 2017 | H109: 163FMKPQ243157 | I109: 9F2A81805H5003696 | J109: 7.0080043e+15 | K109: 46065 | L109: 46429.999 | M109: PARTICULAR | N109: DTAO | O109: PURACE | P109: 15954011 | Q109: 4400000
A110: =+A109+1 -> 109 | B110: CHG94E | C110: AKT | D110: MOTOCICLETA | F110: 181 | G110: 2017 | H110: 163FMKPQ243122 | I110: 9F2A81806H5003691 | J110: 7.0080043e+15 | K110: 46065 | L110: 46429.999 | M110: PARTICULAR | N110: DTAO | O110: COMPLEJO VOLCÁNICO DOÑA JUANA | P110: 15954011 | Q110: 4400000
A111: =+A110+1 -> 110 | B111: CHG95E | C111: AKT | D111: MOTOCICLETA | F111: 181 | G111: 2017 | H111: 163FMKPQ243058 | I111: 9F2A81803H5003695 | J111: 7.0080043e+15 | K111: 46065 | L111: 46429.999 | M111: PARTICULAR | N111: DTAO | O111: GALERAS | P111: 15954011 | Q111: 4400000
A112: =+A111+1 -> 111 | B112: CHG97E | C112: AKT | D112: MOTOCICLETA | F112: 181 | G112: 2017 | H112: 163FMKPQ243060 | I112: 9F2A81809H5003703 | J112: 7.0080043e+15 | K112: 46065 | L112: 46429.999 | M112: PARTICULAR | N112: DTAO | O112: LAS HERMOSAS | P112: 15954011 | Q112: 4400000
A113: =+A112+1 -> 112 | B113: ZUL45C | C113: YAMAHA | D113: MOTOCICLETA | F113: 124 | G113: 2013 | H113: E3B4E010146 | I113: 9FK3B2110D2010146 | J113: 7.0080043e+15 | K113: 46066 | L113: 46430.999 | M113: OFICIAL | N113: DTAM | O113: SERRANÍA DE CHIRIBIQUETE | P113: 09854014 | Q113: 5800000
A114: =+A113+1 -> 113 | B114: ZUL47C | C114: YAMAHA | D114: MOTOCICLETA | F114: 124 | G114: 2013 | H114: E3B4E010144 | I114: 9FK3B2117D2010144 | J114: 7.0080043e+15 | K114: 46066 | L114: 46430.999 | M114: OFICIAL | N114: DTAM | O114: SERRANÍA DE CHIRIBIQUETE | P114: 09854014 | Q114: 5800000
A115: =+A114+1 -> 114 | B115: ZUL48C | C115: YAMAHA | D115: MOTOCICLETA | F115: 124 | G115: 2013 | H115: E3B4E010140 | I115: 9FK3B211XD2010140 | J115: 7.0080043e+15 | K115: 46066 | L115: 46430.999 | M115: OFICIAL | N115: DTAM | O115: NUKAK | P115: 09854014 | Q115: 5800000
A116: =+A115+1 -> 115 | B116: OKZ045 | C116: MITSUBISHI | D116: CAMIONETA | F116: 2360 | G116: 2024 | H116: C324284B12 | I116: JMYXTGF3WRZ000133 | J116: 7.0080043e+15 | K116: 46068 | L116: 46432.999 | M116: OFICIAL | N116: DTAO | O116: TATAMA | P116: 06236111 | Q116: 124300000
A117: =+A116+1 -> 116 | B117: OCI964 | C117: MITSUBISHI | D117: CAMIONETA | F117: 2477 | G117: 2018 | H117: 4D56UAL2124 | I117: MMBJYKL30JH001494 | J117: 7.0080043e+15 | K117: 46078 | L117: 46442.999 | M117: OFICIAL | N117: DTAO | O117: LAS ORQUIDEAS | P117: 06242025 | Q117: 106700000
A118: =+A117+1 -> 117 | B118: YBV01C | C118: YAMAHA | D118: MOTOCICLETA | F118: 124 | G118: 2013 | H118: E3B4E010149 | I118: 9FK3B2116D2010149 | J118: 7.0080043e+15 | K118: 46083 | L118: 46447.999 | M118: OFICIAL | N118: DTAM | O118: LA PAYA | P118: 09854014 | Q118: 5800000
A119: =+A118+1 -> 118 | B119: YBV02C | C119: YAMAHA | D119: MOTOCICLETA | F119: 124 | G119: 2013 | H119: E3B4E010151 | I119: 9FK3B2114D2010151 | J119: 7.0080043e+15 | K119: 46083 | L119: 46447.999 | M119: OFICIAL | N119: DTAM | O119: LA PAYA | P119: 09854014 | Q119: 5800000
A120: =+A119+1 -> 119 | B120: OQE807 | C120: TOYOTA | D120: CAMIONETA | F120: 2393 | G120: 2017 | H120: 2GD0188628 | I120: 8AJKB8CD0H1670541 | J120: 7.0080043e+15 | K120: 46097 | L120: 46461.999 | M120: OFICIAL | N120: DTCA | O120: PARAMILLO | P120: 09042048 | Q120: 139800000
A121: =+A120+1 -> 120 | B121: AYV79F | C121: YAMAHA | D121: MOTOCICLETA | F121: 124 | G121: 2019 | H121: E3Y2E033783 | I121: 9FKDE092XK2033783 | J121: 7.0080043e+15 | K121: 46098 | L121: 46462.999 | M121: OFICIAL | N121: DTAM | O121: SERRANÍA DE LOS CHURUMBELOS | P121: 09857042 | Q121: 6600000
A122: =+A121+1 -> 121 | B122: RPT79F | C122: YAMAHA | D122: MOTOCICLETA | F122: 149 | G122: 2022 | H122: G3L1E051508 | I122: 9FKDG3617N2051508 | J122: 7.0080043e+15 | K122: 46106 | L122: 46470.999 | M122: OFICIAL | N122: DTAN | O122: GUANENTÁ ALTO RIO FONCE | P122: 09854041 | Q122: 11500000
A123: =+A122+1 -> 122 | B123: RPT81F | C123: YAMAHA | D123: MOTOCICLETA | F123: 249 | G123: 2022 | H123: G3F2E027812 | I123: 9FKDG2820N2027812 | J123: 7.0080043e+15 | K123: 46106 | L123: 46470.999 | M123: OFICIAL | N123: DTAN | O123: IGUAQUE | P123: 09854042 | Q123: 19000000
A124: =+A123+1 -> 123 | B124: RPT82F | C124: YAMAHA | D124: MOTOCICLETA | F124: 249 | G124: 2022 | H124: G3F2E027784 | I124: 9FKDG282XN2027784 | J124: 7.0080043e+15 | K124: 46106 | L124: 46470.999 | M124: OFICIAL | N124: DTAN | O124: IGUAQUE | P124: 09854042 | Q124: 19000000
A125: =+A124+1 -> 124 | B125: RPT84F | C125: YAMAHA | D125: MOTOCICLETA | F125: 249 | G125: 2022 | H125: G3F2E027850 | I125: 9FKDG2828N2027850 | J125: 7.0080043e+15 | K125: 46106 | L125: 46470.999 | M125: OFICIAL | N125: DTAN | O125: COCUY | P125: 09854042 | Q125: 19000000
... A131: =+A130+1 -> 130 | B131: RUM44E | C131: HONDA | D131: MOTOCICLETA | F131: 149 | G131: 2018 | H131: KD07E2298123 | I131: 9FMKD072XJF011648 | J131: 7.0080043e+15 | K131: 46107 | L131: 46471.999 | M131: OFICIAL | N131: DTOR | O131: CORDILLERA DE LOS PICACHOS | P131: 03454021 | Q131: 7000000
A132: =+A131+1 -> 131 | B132: OLN167 | C132: NISSAN | D132: CAMPERO Y MANIONETA | F132: 2488 | G132: 2018 | H132: YD25673294P | I132: 3N6CD33B4ZK384903 | J132: 7.0080043e+15 | K132: 46124 | L132: 46488.999 | M132: Oficial | N132: DTPA | O132: LOS KATIOS | P132: 06442055 | Q132: 92700000
A133: =+A132+1 -> 132 | B133: BZN39E | C133: SUZUKI | D133: MOTOCICLETA | F133: 199 | G133: 2017 | H133: H402225939 | I133: 9FSSH42A4HC027519 | J133: 7.0080043e+15 | K133: 46135 | L133: 46499.999 | M133: Oficial | N133: DTAN | O133: CATATUMBO BARI | P133: 08854022 | Q133: 9300000
A134: =+A133+1 -> 133 | B134: EZT70F | C134: HONDA | D134: MOTOCICLETA | F134: 149 | G134: 2021 | H134: KD07E2483946 | I134: 9FMKD0724MF015618 | J134: 7.0080043e+15 | K134: 46135 | L134: 46499.999 | M134: Oficial | N134: DTAO | O134: PNN LOS NEVADOS | P134: 03454021 | Q134: 7800000
A135: =+A134+1 -> 134 | B135: EZT71F | C135: HONDA | D135: MOTOCICLETA | F135: 149 | G135: 2021 | H135: KD07E2483947 | I135: 9FMKD0726MF015619 | J135: 7.0080043e+15 | K135: 46135 | L135: 46499.999 | M135: Oficial | N135: DTAO | O135: PNN LOS NEVADOS | P135: 03454021 | Q135: 7800000
A136: =+A135+1 -> 135 | B136: EZT72F | C136: HONDA | D136: MOTOCICLETA | F136: 149 | G136: 2021 | H136: KD07E2483951 | I136: 9FMKD0720MF015616 | J136: 7.0080043e+15 | K136: 46135 | L136: 46499.999 | M136: Oficial | N136: DTAO | O136: PNN LOS NEVADOS | P136: 03454021 | Q136: 7800000
A137: =+A136+1 -> 136 | B137: JBW77F | C137: HONDA | D137: MOTOCICLETA | F137: 149 | G137: 2021 | H137: KD07E2483980 | I137: 9FMKD0722MF015634 | J137: 7.0080043e+15 | K137: 46136 | L137: 46500.999 | M137: Oficial | N137: DTOR | O137: SIERRA DE LA MACARENA | P137: 03454021 | Q137: 7800000
A138: =+A137+1 -> 137 | B138: JBW81F | C138: HONDA | D138: MOTOCICLETA | F138: 149 | G138: 2021 | H138: KD07E2483015 | I138: 9FMKD072XMF015462 | J138: 7.0080043e+15 | K138: 46136 | L138: 46500.999 | M138: Oficial | N138: DTOR | O138: TINIGUA | P138: 03454021 | Q138: 7800000
A139: =+A138+1 -> 138 | B139: JBW82F | C139: HONDA | D139: MOTOCICLETA | F139: 149 | G139: 2021 | H139: KD07E2483965 | I139: 9FMKD0725MF015630 | J139: 7.0080043e+15 | K139: 46136 | L139: 46500.999 | M139: Oficial | N139: DTOR | O139: CHINGAZA | P139: 03454021 | Q139: 7800000
A140: =+A139+1 -> 139 | B140: KHP81F | C140: HONDA | D140: MOTOCICLETA | F140: 149 | G140: 2021 | H140: KD07E2483984 | I140: 9FMKD0726MF015720 | J140: 7.0080043e+15 | K140: 46136 | L140: 46500.999 | M140: Oficial | N140: DTAO | O140: PURACE | P140: 03454021 | Q140: 7800000
A141: =+A140+1 -> 140 | B141: KHP82F | C141: HONDA | D141: MOTOCICLETA | F141: 149 | G141: 2021 | H141: KD07E2483967 | I141: 9FMKD0724MF015649 | J141: 7.0080043e+15 | K141: 46136 | L141: 46500.999 | M141: Oficial | N141: DTAO | O141: PURACE | P141: 03454021 | Q141: 7800000
A142: =+A141+1 -> 141 | B142: KHP83F | C142: HONDA | D142: MOTOCICLETA | F142: 149 | G142: 2021 | H142: KD07E2483974 | I142: 9FMKD0727MF015614 | J142: 7.0080043e+15 | K142: 46136 | L142: 46500.999 | M142: Oficial | N142: DTAO | O142: PURACE | P142: 03454021 | Q142: 7800000
A143: =+A142+1 -> 142 | B143: JBW78F | C143: HONDA | D143: MOTOCICLETA | F143: 149 | G143: 2021 | H143: KD07E2483964 | I143: 9FMKD0727MF015631 | J143: 7.0080043e+15 | K143: 46139 | L143: 46503.999 | M143: Oficial | N143: DTOR | O143: CHINGAZA | P143: 03454021 | Q143: 7800000
... A177: =+A176+1 -> 176 | B177: VWA90F | C177: YAMAHA | D177: MOTOCICLETA | F177: 124 | G177: 2023 | H177: E3Y2E093190 | I177: 9FKDE0929P2093190 | J177: 15681500017980 | K177: 46155 | L177: 46519 | M177: Oficial | N177: DTAO | O177: TATAMA | P177: 09854031 | Q177: 9200000
A178: =+A177+1 -> 177 | B178: OWN70G | C178: YAMAHA | D178: MOTOCICLETA | F178: 149 | G178: 2024 | H178: G3L1E108638 | I178: 9FKDG3612R2108638 | J178: 15681500017990 | K178: 46159 | L178: 46523 | M178: Oficial | N178: DTAN | O178: ESTORAQUES | P178: 09854041 | Q178: 12500000
A179: =+A178+1 -> 178 | B179: OWN71G | C179: YAMAHA | D179: MOTOCICLETA | F179: 149 | G179: 2024 | H179: G3L1E108769 | I179: 9FKDG3616R2108769 | J179: 15681500018000 | K179: 46159 | L179: 46523 | M179: Oficial | N179: DTAN | O179: ESTORAQUES | P179: 09854041 | Q179: 12500000
A180: =+A179+1 -> 179 | B180: GCX008 | C180: VOLKSWAGEN | D180: CAMPERO Y MANIONETA | F180: 1968 | G180: 2020 | H180: CSH237401 | I180: WV1ZZZ2HZLA015112 | J180: 15681500018010 | K180: 46165 | L180: 46529 | M180: Oficial | N180: DTOR | O180: DIRECCIÓN TERRITORIAL | P180: 09242022 | Q180: 122700000
A181: =+A180+1 -> 180 | B181: KXT382 | C181: CHEVROLET | D181: CAMPERO Y MANIONETA | F181: 2776 | G181: 2023 | H181: LWNF220981129 | I181: 9BG148DK0PC400786 | J181: 15681500018020 | K181: 46172 | L181: 46536 | M181: Oficial | N181: DTAM | O181: ALTO FRAGUA | P181: 01642042 | Q181: 142700000
A182: =+A181+1 -> 181 | B182: KXT384 | C182: CHEVROLET | D182: CAMPERO Y MANIONETA | F182: 2776 | G182: 2023 | H182: LWNF220881168 | I182: 9BG148DK0PC400372 | J182: 15681500018030 | K182: 46172 | L182: 46536 | M182: Oficial | N182: DTOR | O182: SERRANIA DE MANACACIAS | P182: 01646023 | Q182: 126200000
A183: =+A182+1 -> 182 | B183: KXT386 | C183: CHEVROLET | D183: CAMPERO Y MANIONETA | F183: 2776 | G183: 2023 | H183: LWNF220971153 | I183: 9BG148DK0PC400782 | J183: 15681500018040 | K183: 46172 | L183: 46536 | M183: Oficial | N183: DTAM | O183: SERRANÍA DE CHIRIBIQUETE | P183: 01642042 | Q183: 142700000
A184: =+A183+1 -> 183 | B184: KXT389 | C184: CHEVROLET | D184: CAMPERO Y MANIONETA | F184: 2776 | G184: 2023 | H184: LWNF220971108 | I184: 9BG148DK0PC400957 | J184: 15681500018050 | K184: 46172 | L184: 46536 | M184: Oficial | N184: DTAM | O184: PLANTAS MEDICINALES ORITO INGI ANDE | P184: 01642042 | Q184: 142700000
A185: =+A184+1 -> 184 | B185: KXT391 | C185: CHEVROLET | D185: CAMPERO Y MANIONETA | F185: 2776 | G185: 2023 | H185: LWNF220981138 | I185: 9BG148DK0PC400953 | J185: 15681500018060 | K185: 46172 | L185: 46536 | M185: Oficial | N185: DTAM | O185: SERRANÍA DE CHIRIBIQUETE | P185: 01642042 | Q185: 142700000
A186: =+A185+1 -> 185 | B186: KXT393 | C186: CHEVROLET | D186: CAMPERO Y MANIONETA | F186: 2776 | G186: 2023 | H186: LWNF220971134 | I186: 9BG148DK0PC400987 | J186: 15681500018070 | K186: 46172 | L186: 46536 | M186: Oficial | N186: DTOR | O186: SERRANIA DE MANACACIAS | P186: 01646023 | Q186: 126200000
A187: =+A186+1 -> 186 | B187: OAK467 | C187: NISSAN | D187: CAMIONETA | F187: 1598 | G187: 2025 | H187: HR16-003700P | I187: 3N8CP5HE5ZL629070 | J187: 15681500018080 | K187: 46172 | L187: 46536 | M187: Oficial | N187: DTAO | O187: GALERAS | P187: 06435027 | Q187: 89200000
A188: =+A187+1 -> 187 | B188: VAH63C | C188: YAMAHA | D188: MOTOCICLETA | F188: 123 | G188: 2012 | H188: 57C1018786 | I188: 9FKKE1364C2018786 | J188: 15681500018090 | K188: 46178 | L188: 46542 | M188: Particular | N188: DTAO | O188: DIRECCION TERRITORIAL | P188: 09857037 | Q188: 3400000
A189: =+A188+1 -> 188 | B189: CMQ75F | C189: HONDA | D189: MOTOCICLETA | F189: 149 | G189: 2019 | H189: KD07E2379398 | I189: 9FMKD0729KF014445 | J189: 15681500018100 | K189: 46181 | L189: 46545 | M189: Oficial | N189: DTAM | O189: ALTO FRAGUA | P189: 03454021 | Q189: 7100000
...

Sheet 4.DRONES
G2: PRIMA ANUAL17,09% | I2: =+ROUND((I4*17.09%),0) -> 140825269 | J2: =+I2/365 -> 385822.65 | K2: =ROUND((+J2*43),0) -> 16590374 | L2: =ROUND((+K2*19%+K2),0) -> 19742545
I4: =SUM(I6:I22) -> 824021468
B5: ITEM | C5: SEDE | D5: DEPENDENCIA/GRUPO/AP | E5: CATEGORIA | F5: PLACA | G5: CARACTERISTICA | H5: FECHA ADQUISICIÓN | I5: VALOR A DEPRECIAR | J5: CLASIFICACIÓN | K5: NOTA
B6: 1 | C6: DIR TERRITORIAL CARIBE PARQUES | D6: ISLA DE SALAMANCA | E6: 2007 | F6: 81311 | G6: DRON DE 4 HELICES CON CAMARA HD. DJIAIR3FLYMORERC2 | H6: 45561 | I6: 6500000 | J6: PROPIO Y EN SERVICIO | K6: ASEGURAR
B7: 2 | C7: DIR. TERRITORIAL PACÍFICO PARQUES | D7: MUNCHIQUE | E7: 2007 | F7: 75794 | G7: DRONE MARCA DJI-MAVIC 3 FLY | H7: 44957 | I7: 19412589 | J7: PROPIO Y EN SERVICIO | K7: ASEGURAR
B8: 3 | C8: DIR. TERRITORIAL ORINOQUIA PARQUES | D8: SERRANIA DE MANACACIAS | E8: 2007 | F8: 70187 | G8: Drone Mavic 2 ENTERPRISE Serial: 276DF9N 001Y51M micro SD de 128, bracket de sujeción control, landingpad maleta rígida impermeable. 6 par hélices cargador, speacker, baliza foco caja rígida cable USB tipo c. CONTROL SN: 0VNCFBW-005BAGH. IPAD SERIAL: H97DQAENQ1GC. BATERIAS 1611AFBP63603ZE 61AHAL6370255 161AHAM63701UF | H8: 44466 | I8: 15200000 | J8: PROPIO Y EN SERVICIO | K8: ASEGURAR
B9: 4 | C9: NIVEL CENTRAL PARQUES | D9: DIRECCIÓN TERRITORIAL | E9: 2007 | F9: 70189 | G9: Drone Phantom 4 pro v2 Serial: 11ush7w-r710113 DRONE 4,software MapPilot business. micro SD 64 Maleta. 8 HELICES, CARGADOR. BATERIAS SN: 1.0DQAHBF03300UG 2. 0DQAHBF03300Z2. 3. 0DQAHBF03300VH CONTROL 11RSH8H-RC201JR. IPAD: GG8DX5V6Q1GC | H9: 44466 | I9: 13500000 | J9: PROPIO Y EN SERVICIO | K9: ASEGURAR
B10: 5 | C10: DIR. TERRITORIAL ORINOQUIA SUBCUENTA-FONAM-PARQUES | D10: SIERRA DE LA MACARENA | E10: 2007 | F10: 79984 | G10: Drone Tiempo máximo de vuelo 40 minutos Alcance máximo de transmisión 9,3 millas (15 km) Resistencia máxima al viento 27 mph (12 m/s) Sensor de imagen: CMOS de 1 Lente: EFL: 28,6 mm Apertura: f / 2,8  f / 11 Batería: 7100 mAh Tiempo de carga: 90 minutos Velocidad Sistema de detección binocular MARCA Autel Robotics EVO II S/N 1748FEV2HL7824301173 RUAS-100-25-0733 | H10: 45639 | I10: 15910667 | J10: PROPIO Y EN SERVICIO | K10: ASEGURAR
B11: 6 | C11: DIR TERRITORIAL CARIBE PARQUES | D11: CIÉNAGA GRANDE DE SANTA MARTA | E11: 2007 | F11: 77437 | G11: DRONE TIPO 3, AUTEL EVO II JUEGO DE ELICES, BATERIA CARGADOR,CABLE,MALETA + ipad 9 generacion Serial KXNHF0HWTX | H11: 45289 | I11: 21025000 | J11: PROPIO Y EN SERVICIO | K11: ASEGURAR
B12: 7 | C12: DIR TERRITORIAL CARIBE PARQUES | D12: BAHÍA PORTETE KAURRELE | E12: 2007 | F12: 77438 | G12: DRONE TIPO 3, AUTEL EVO II JUEGO DE ELICES, BATERIA CARGADOR,CABLE,MALETA +ipad 9 generacion serie: KXYRVW79HR | H12: 45289 | I12: 21025000 | J12: PROPIO Y EN SERVICIO | K12: ASEGURAR
B13: 8 | C13: DIR TERRITORIAL CARIBE PARQUES | D13: LOS FLAMENCOS | E13: 2007 | F13: 77439 | G13: DRONE TIPO 3, AUTEL EVO II JUEGO DE ELICES, BATERIA CARGADOR,CABLE,MALETA +ipad 9 generacion serie: G6P7D00X4L_x000D__x0008_ | H13: 45289 | I13: 21025000 | J13: PROPIO Y EN SERVICIO | K13: ASEGURAR
B14: 9 | C14: DIR TERRITORIAL CARIBE PARQUES | D14: SIERRA NEVADA DE SANTA MARTA | E14: 2007 | F14: 77436 | G14: DRONE TIPO 3, AUTEL EVO II JUEGO DE ELICES, BATERIA CARGADOR,CABLE,MALETA +ipad de 9 generacion serie:HYFVN6490K | H14: 45289 | I14: 21025000 | J14: PROPIO Y EN SERVICIO | K14: ASEGURAR
B15: 10 | C15: DIR TERRITORIAL CARIBE PARQUES | D15: TAYRONA | E15: 2007 | F15: 80123 | G15: DRONES. distancia de trasmisión 15Km 46 min de active track 5.0, 5.1K/50fps, K/120fps,f/2.8 to f/11 + KIT 3 baterias | H15: 45428 | I15: 11960214 | J15: PROPIO Y EN SERVICIO | K15: ASEGURAR
B16: 11 | C16: DIR TERRITORIAL CARIBE PARQUES | D16: CIÉNAGA GRANDE DE SANTA MARTA | E16: 2007 | F16: 81404 | G16: DRONES. DRON DJI AIR 3 . INCLUYE CARGADOR DE BATERIA CHARGING HUB MOD: CHX233-100. | H16: 45687 | I16: 12000000 | J16: PROPIO Y EN SERVICIO | K16: ASEGURAR
B17: 12 | C17: NIVEL CENTRAL PARQUES | D17: GRUPO DE GESTIÓN DEL CONOCIMIENTO E INNOVACIÓN | E17: 2007 | F17: 70188 | G17: DRONES. Drone Phantom 4 pro v2 Serial: 11USH9F-R710015 DRONE 4,software MapPilot business. micro SD de 64 Maleta. 8 HELICES, CARGADOR COMPELTO. BATERIAS SN: 1.0DQAH9303201Z1 2.0DQAHBF03300V6 3.0DQAHBC03302QS CONTROL 11RSH9RRC204FV. IPAD: DMQF2NUEQ1GC | H17: 44466 | I17: 13500000 | J17: PROPIO Y EN SERVICIO | K17: ASEGURAR
... B21: 16 | C21: DIR TERRITORIAL CARIBE PARQUES | D21: ISLA DE SALAMANCA | E21: 2007 | F21: 73614 | G21: DRONES;AERONAVE AUTEL EVO II PRO V2; CONTROL REMOTO;BATERIA INTELIGENTE, CARGADOR, CON IPAD 9 - 64GB Y 2 MICRO SD 64GB SERIE :RWKP4YY9CT | H21: 44901 | I21: 21025000 | J21: PROPIO Y EN SERVICIO | K21: ASEGURAR
B22: 17 | C22: DIR. TERRITORIAL PACÍFICO SUBCUENTA-FARALLONES DE CALI | E22: 2007 | F22: 86694 | G22: DRONE MARCA WINGTRA MODELO 2026 NÚMERO DE SERIE 10097 | I22: 463866998
H23: TOTAL | I23: =SUM(I6:I22) -> 824021468
