Workbook
Name \a: #N/A
Name \b: #REF!
Name \c: #REF!
Name \h: #REF!
Name \m: #REF!
Name \p: #REF!
Name \r: #REF!
Name \s: #REF!
Name _____DOS1: #REF!
Name _____RC: #REF!
Name _____UNO1: #REF!
Name ____DIA1: #REF!
Name ____DIA2: #REF!
Name ____DOS1: #REF!
Name ____EE1: #REF!
Name ____GT1: #REF!
Name ____GTO1: #REF!
Name ____INC1: #REF!
Name ____INI1: #REF!
Name ____MA1: #REF!
Name ____MES1: #REF!
Name ____RC: #REF!
Name ____UNO1: #REF!
Name ___DAT1: #REF!
Name ___DIA1: #REF!
Name ___DIA2: #REF!
Name ___DOS1: #REF!
Name ___EE1: #REF!
Name ___GT1: #REF!
Name ___GTO1: #REF!
Name ___INC1: #REF!
Name ___INI1: #REF!
Name ___MA1: #REF!
Name ___MES1: #REF!
Name ___RC: #REF!
Name ___UNO1: #REF!
Name ___xlnm._FilterDatabase: #REF!
Name ___xlnm._FilterDatabase_2: #REF!
Name ___xlnm.Print_Area: #REF!
Name ___xlnm.Print_Titles: #REF!
Name __1Excel_BuiltIn_Print_Area_1_1: #REF!
Name __DAT1: #REF!
Name __DIA1: #REF!
Name __DIA2: #REF!
Name __DOS1: #REF!
Name __EE1: #REF!
Name __GT1: #REF!
Name __GTO1: #REF!
Name __INC1: #REF!
Name __INI1: #REF!
Name __MA1: #REF!
Name __MES1: #REF!
Name __RC: #REF!
Name __TaI7: #REF!
Name __UNO1: #REF!
Name __xlnm._FilterDatabase: #REF!
Name __xlnm._FilterDatabase_2: #REF!
Name __xlnm.Print_Area: #REF!
Name __xlnm.Print_Titles: #REF!
Name _1: #N/A

Sheet PROPUESTA PNN(estu.mercado)
B2: GRUPO No. 1 | C2: RAMO | D2: VALOR ASEGURADO | E2: TASA ANUAL (%) | F2: SUBTOTAL PRIMA ANUAL | G2: PRIMA PERIODO (26 días) | H2: IVA 19% | I2: TOTAL | M2: GRUPO No. 2 | N2: RAMO | O2: ENTIDAD | P2: No. PROCESO CONTRACTUAL | Q2: TASAS | R2: MEDIA.ACOTADA TASA (%) MERCADO
C3: AUTOMOVILES | D3: 17942800000 | E3: =+R3 -> 2.28375 | F3: =ROUND((+D3*E3/100),0) -> 409768695 | G3: =ROUND((F3)/365*26,0) -> 29189003 | H3: =ROUND((+G3*0.19),0) -> 5545911 | I3: =+G3+H3 -> 34734914 | N3: Automóviles | O3: PARQUES NACIONALES NATURALES DE COLOMBIA | P3: SEL-ABREV-008-2025 | Q3: 2.003 | R3: =+TRIMMEAN((Q3:Q8),0) -> 2.28375
C4: REMANENTE POR AJUSTE POR CAMBIOS TARIFA FASECOLDA (NUEVAS INCLUSIONES 10%) | I4: =+I3*10% -> 3473491.4 | O4: AGENCIA LOGISTICA DE LAS FUERZA MILITARES | P4: LICITACIÓN PÚBLICA No. 002-046-2026 | Q4: 2.6
C5: TOTAL PROGRAMA DE SEGUROS GRUPO No. 1 | I5: =+I3+I4 -> 38208405 | J5: =+I5/1750905 -> 21.822089 | O5: UNIDAD ADMINISTRATIVA ESPECIAL DE AERONÁUTICA CIVIL - AEROCIVIL | P5: LICITACION PUBLICA 26001053 H3 de 2026 | Q5: 1.42
O6: CONCEJO DE BOGOTA | P6: SELECCIÓN ABREVIADA DE MENOR CUANTIA No. SDH-SAMC-0001-2026 | Q6: 3.5
H7: | | O7: MINISTERIO DEL INTERIOR | P7: SAMC-002-2026 | Q7: 1.8575
O8: SUPERINTENDENCIA DE INDUSTRIA Y COMERCIO - SIC | P8: LICITACIÓN PÚBLICA SIC 8 DE 2026 | Q8: 2.322
B9: GRUPO No. 2 | C9: RAMO | D9: VALOR ASEGURADO | E9: TASA ANUAL (%y $) respectivamente | F9: SUBTOTAL PRIMA ANUAL | G9: PRIMA PERIODO (43 días) | H9: IVA 19% | I9: TOTAL
C10: CASCO AVIACIÓN (DRONES) | D10: 824021468 | E10: 18.9 | F10: =+D10*E10/100 -> 1.5574006e+08 | G10: =ROUND((F10)/365*43,0) -> 18347459 | H10: =ROUND((+G10*0.19),0) -> 3486017 | I10: =+G10+H10 -> 21833476
C11: RCE $8,500,000,000 (POR 17 DRONES) | D11: =8500000000*17 -> 144500000000 | E11: =+T21 -> 4524555 | F11: =E11*17 -> 76917435 | G11: =ROUND((F11)/365*43,0) -> 9061506 | H11: =ROUND((+G11*0.19),0) -> 1721686 | I11: =+G11+H11 -> 10783192
C12: TOTAL PROGRAMA DE SEGUROS GRUPO No. 2 | I12: =SUM(I10:I11) -> 32616668 | J12: =+I12/1750905 -> 18.628462
C14: TOTAL PROGRAMA DE SEGUROS | I14: =+I5+I12 -> 70825073 | J14: =+I14/1750905 -> 40.450552
M18: Cuadro de Indexación de Referencias de Mercado (Grupo No. 2)
T19: =17.09%*5.2%+17.09% -> 0.1797868 | U19: 2024
M20: Parques Nacionales Naturales | N20: SEL-ABREV-027-2024 | O20: Casco Drones | P20: 17,09% (Tasa) | Q20: IPC 2024 (+5,20%) + IPC 2025 (+5,10%) | R20: 18,90% (Tasa Final) | T20: =17.98%*5.1%+17.98% -> 0.1889698 | U20: 2025
M21: Parques Nacionales Naturales | N21: SEL-ABREV-027-2025 | O21: RCE (Por Drone) | P21: $4.305.000 (Prima) | Q21: IPC 2025 (+5,10%) | R21: $4.524.555 (Prima Final) | T21: =4305000*5.1%+4305000 -> 4524555 | U21: 2025
T23: =+T21*17 -> 76917435

Sheet 1. VIGENCIA 2026
C2: PARQUES NACIONALES NATURALES DE COLOMBIA
C3: ESTUDIO DE MERCADO
C4: CALCULO VALORES APROXIMADOS DE PRIMA VIGENCIA 2026
C7: VIGENCIA | D7: GRUPO No. 1 | E7: GRUPO No. 2
C8: DESDE LAS 00:00 HORAS | D8: 46346 | E8: 46329
C9: HASTA LAS 00:00 HORAS | D9: 46372 | E9: 46372
C10: DIAS DE COBERTURA | D10: =+D9-D8 -> 26 | E10: =+E9-E8 -> 43
C11: PRESUPUESTO | D11: =+M16 -> 38208405 | E11: =+M21 -> 32616668 | F11: =+D11+E11 -> 70825073
B13: GRUPO No. 1 | C13: RAMO | D13: VALOR ASEGURADO | F13: TASA ANUAL | H13: TIPO TASA | I13: SUBTOTAL PRIMA ANUAL | K13: PRIMA PERIODO | L13: IVA | M13: TOTAL
C14: AUTOMOVILES | D14: =+'3.PARQUE AUTOMOR (31-08-26 437)'!Q439 -> 17942800000 | F14: % | G14: =+'PROPUESTA PNN(estu.mercado)'!E3 -> 2.28375 | H14: N/A | I14: =ROUND((+D14*G14/100),0) -> 409768695 | K14: =ROUND((I14+J14)/365*$D$10,0) -> 29189003 | L14: =ROUND((+K14*0.19),0) -> 5545911 | M14: =+K14+L14 -> 34734914
C15: REMANENTE POR AJUSTE POR CAMBIOS TARIFA FASECOLDA (NUEVAS INCLUSIONES) | M15: =+M14*10% -> 3473491.4
C16: TOTAL PROGRAMA DE SEGUROS GRUPO No. 1 | M16: =SUM(M14:M15) -> 38208405
B18: GRUPO No. 2 | C18: RAMO | D18: VALOR ASEGURADO | F18: TASA ANUAL | H18: TIPO TASA | I18: SUBTOTAL PRIMA ANUAL | K18: PRIMA PERIODO | L18: IVA | M18: TOTAL
C19: CASCO AVIACIÓN (DRONES) | D19: =+'4.DRONES'!I23 -> 824021468 | F19: =+'PROPUESTA PNN(estu.mercado)'!E10 -> 18.9 | H19: % | I19: =+D19*F19/100 -> 1.5574006e+08 | K19: =ROUND((I19+J19)/365*$E$10,0) -> 18347459 | L19: =ROUND((+K19*0.19),0) -> 3486017 | M19: =+K19+L19 -> 21833476
C20: RCE LÍMITE DE $14.162.616.372,42 POR DRONE) EQUIVALENTE A 33,333 GRAMOS ORO (RAC100) POR $424.882,74 | D20: =(33333*424882.74)*17 -> 2.4076448e+11 | F20: =+'2.TASAS PROMEDIO'!E21 -> 4524555 | I20: =+F20*'4.DRONES'!B22 -> 76917435 | K20: =+I20/365*E10 -> 9061506 | L20: =ROUND((+K20*0.19),0) -> 1721686 | M20: =+K20+L20 -> 10783192
C21: TOTAL PROGRAMA DE SEGUROS GRUPO No. 2 | M21: =SUM(M19:M20) -> 32616668
C23: TOTAL PROGRAMA DE SEGUROS | M23: =+M21+M16 -> 70825073

Sheet 2.TASAS PROMEDIO
B2: PARQUES NACIONALES NATURALES DE COLOMBIA
B3: ESTUDIO DE MERCADO
B4: DETERMINACION TASAS PROMEDIO
B7: GRUPO No. 1
B8: ENTIDAD | C8: No. PROCESO CONTRACTUAL | D8: RAMO | E8: TASAS | F8: PROMEDIO TASAS
F9: PROMERIO TASA MERCADO | G9: TIPO DE TASA % - %o
B10: PARQUES NACIONALES NATURALES DE COLOMBIA | C10: SEL-ABREV-008-2025 | D10: Automóviles | E10: 2.003 | F10: =+TRIMMEAN((E10:E15),0) -> 2.28375 | G10: %
B11: AGENCIA LOGISTICA DE LAS FUERZA MILITARES | C11: LICITACIÓN PÚBLICA No. 002-046-2026 | E11: 2.6
B12: UNIDAD ADMINISTRATIVA ESPECIAL DE AERONÁUTICA CIVIL - AEROCIVIL | C12: LICITACION PUBLICA 26001053 H3 de 2026 | E12: 1.42
B13: CONCEJO DE BOGOTA | C13: SELECCIÓN ABREVIADA DE MENOR CUANTIA No. SDH-SAMC-0001-2026 | E13: 3.5
B14: MINISTERIO DEL INTERIOR | C14: SAMC-002-2026 | E14: 1.8575
B15: SUPERINTENDENCIA DE INDUSTRIA Y COMERCIO - SIC | C15: LICITACIÓN PÚBLICA SIC 8 DE 2026 | E15: 2.322
B18: GRUPO No. 2
B19: PARQUES NACIONALES NATURALES DE COLOMBIA | C19: SEL-ABREV-027-2024 (Tasa Casco) | D19: Casco Drones | E19: 17.09 | G19: %
B20: PARQUES NACIONALES NATURALES DE COLOMBIA | C20: SEL-ABREV-027-2025 (RCE Prima $4,305,000 por Drone) | E20: 4305000 | F20: Prima Anual por Drone
E21: =+E20*F28+E20 -> 4524555
E22: =+E21*F29+E21 -> 4759831.9
E27: Año | F27: IPC
E28: 2025 | F28: 0.051
E29: 2024 | F29: 0.052
E30: 2023 | F30: 0.0928

Sheet 3.PARQUE AUTOMOR (31-08-26 437)
A1: No. | B1: Placa | C1: Marca | D1: CLASE | E1: TIPO | F1: Cilindraje | G1: MODELO | H1: No de motor | I1: No. De chasis | J1: No. De Póliza SOAT | K1: Fecha de Inicio (Desde las 00Horas) | L1: Fecha Vencimiento (Hasta las 24Horas) | M1: SERVICIO | N1: dirección territorial | O1: ÁREA PROTEGIDA | P1: CODIGO FASECOLDA | Q1: FASECOLDA 362
A2: 1 | B2: CIR70G | C2: YAMAHA | D2: MOTOCICLETA | F2: 149 | G2: 2023 | H2: G3E9E0137342 | I2: 9FKRG2174P2137342 | J2: 15681500018920 | K2: 46392 | L2: 46756 | M2: OFICIAL | N2: DTPA | O2: URAMBA BAHÍA MALAGA | P2: 09857072 | Q2: 9800000
A3: =+A2+1 -> 2 | B3: JYP729 | C3: CHEVROLET | D3: CAMIONETA | F3: 2776 | G3: 2023 | H3: LWNF222211105 | I3: 9BG148PK0PC418533 | J3: 15681500018930 | K3: 46392 | L3: 46756 | M3: OFICIAL | N3: DTAO | O3: TATAMA | P3: 01642042 | Q3: 142700000
A4: =+A3+1 -> 3 | B4: OKZ055 | C4: CHEVROLET | D4: CAMIONETA | F4: 2776 | G4: 2023 | H4: LWNF222371114 | I4: 9BG148MK0PC421595 | J4: 15681500018940 | K4: 46392 | L4: 46756 | M4: OFICIAL | N4: DTPA | O4: PNN FARALLONES DE CALI | P4: 01646023 | Q4: 126200000
A5: =+A4+1 -> 4 | B5: OKZ056 | C5: CHEVROLET | D5: CAMIONETA | F5: 2776 | G5: 2023 | H5: LWNF222371100 | I5: 9BG148MK0PC421447 | J5: 15681500018950 | K5: 46392 | L5: 46756 | M5: OFICIAL | N5: DTPA | O5: PNN FARALLONES DE CALI | P5: 01646023 | Q5: 126200000
A6: =+A5+1 -> 5 | B6: OKZ057 | C6: CHEVROLET | D6: CAMIONETA | F6: 2776 | G6: 2023 | H6: LWNF222371103 | I6: 9BG148MK0PC421450 | J6: 15681500018960 | K6: 46392 | L6: 46756 | M6: OFICIAL | N6: DTPA | O6: PNN FARALLONES DE CALI | P6: 01646023 | Q6: 126200000
A7: =+A6+1 -> 6 | B7: VWB65F | C7: YAMAHA | D7: MOTOCICLETA | F7: 249 | G7: 2023 | H7: G3F2E032431 | I7: 9FKDG2829P2032431 | J7: 15681500018970 | K7: 46392 | L7: 46756 | M7: OFICIAL | N7: DTAO | O7: LAS HERMOSAS | P7: 09854042 | Q7: 20500000
A8: =+A7+1 -> 7 | B8: VWB66F | C8: YAMAHA | D8: MOTOCICLETA | F8: 249 | G8: 2023 | H8: G3F2E032232 | I8: 9FKDG2823P2032232 | J8: 15681500018980 | K8: 46392 | L8: 46756 | M8: OFICIAL | N8: DTAO | O8: COMPLEJO VOLCÁNICO DOÑA JUANA | P8: 09854042 | Q8: 20500000
A9: =+A8+1 -> 8 | B9: FMU14G | C9: HONDA | D9: MOTOCICLETA | F9: 184 | G9: 2023 | H9: MD42E0P000148 | I9: 9C2MD4200PR000126 | J9: 15681500018990 | K9: 46392 | L9: 46756 | M9: OFICIAL | N9: DTPA | O9: PNN FARALLONES DE CALI | P9: 03454037 | Q9: 14300000
A10: =+A9+1 -> 9 | B10: FMU15G | C10: HONDA | D10: MOTOCICLETA | F10: 184 | G10: 2023 | H10: MD42E0P000671 | I10: 9C2MD4200PR000645 | J10: 15681500019000 | K10: 46392 | L10: 46756 | M10: OFICIAL | N10: DTPA | O10: PNN FARALLONES DE CALI | P10: 03454037 | Q10: 14300000
A11: =+A10+1 -> 10 | B11: FMU16G | C11: HONDA | D11: MOTOCICLETA | F11: 184 | G11: 2023 | H11: MD42E0P000818 | I11: 9C2MD4200PR000881 | J11: 15681500019010 | K11: 46392 | L11: 46756 | M11: OFICIAL | N11: DTPA | O11: PNN FARALLONES DE CALI | P11: 03454037 | Q11: 14300000
A12: =+A11+1 -> 11 | B12: FMU17G | C12: HONDA | D12: MOTOCICLETA | F12: 184 | G12: 2023 | H12: MD42E0P001427 | I12: 9C2MD4200PR001411 | J12: 15681500019020 | K12: 46392 | L12: 46756 | M12: OFICIAL | N12: DTPA | O12: PNN FARALLONES DE CALI | P12: 03454037 | Q12: 14300000
A13: =+A12+1 -> 12 | B13: VWB87F | C13: YAMAHA | D13: MOTOCICLETA | F13: 249 | G13: 2024 | H13: GEF2E036765 | I13: 9FKDG2848R2036765 | J13: 15681500019030 | K13: 46397 | L13: 46761.999 | M13: OFICIAL | N13: DTAO | O13: SELVAS DE FLORENCIA | P13: 09854042 | Q13: 22500000
A14: =+A13+1 -> 13 | B14: VWB88F | C14: YAMAHA | D14: MOTOCICLETA | F14: 249 | G14: 2024 | H14: GEF2E036786 | I14: 9FKDG2845R2036786 | J14: 15681500019040 | K14: 46397 | L14: 46761.999 | M14: OFICIAL | N14: DTAO | O14: LAS HERMOSAS | P14: 09854042 | Q14: 22500000
... A65: =+A64+1 -> 64 | B65: OJY112 | C65: TOYOTA | D65: CAMIONETA | F65: 2494 | G65: 2015 | H65: 2KD-U714056 | I65: 8AJFR22G8F4578661 | J65: 15681500018730 | K65: 46416 | L65: 46780.999 | M65: OFICIAL | N65: DTAM | O65: NUKAK | P65: 09042035 | Q65: 119300000
A66: =+A65+1 -> 65 | B66: OKZ216 | C66: CHEVROLET | D66: CAMIONETA | F66: 2500 | G66: 2016 | H66: NK4796 | I66: 8LBETF3W8G0383020 | J66: 15681500018740 | K66: 46416 | L66: 46780.999 | M66: OFICIAL | N66: DTAN | O66: CATATUMBO BARI | P66: 01642032 | Q66: 88400000
A67: =+A66+1 -> 66 | B67: OQE791 | C67: CHEVROLET | D67: CAMIONETA | F67: 2500 | G67: 2015 | H67: ME4269 | I67: 8LBETF3W9F0280431 | J67: 15681500019140 | K67: 46416 | L67: 46780.999 | M67: OFICIAL | N67: DTCA | O67: BAHÍA PORTETE KAURRELE | P67: 01642030 | Q67: 84500000
A68: =+A67+1 -> 67 | B68: OQE796 | C68: NISSAN | D68: CAMIONETA | F68: 2488 | G68: 2016 | H68: YD25-626427P | I68: 3N6CD33B3ZK351505 | J68: 15681500019180 | K68: 46416 | L68: 46780.999 | M68: OFICIAL | N68: DTCA | O68: CORALES DE PROFUNDIDAD | P68: 06442052 | Q68: 92400000
A69: =+A68+1 -> 68 | B69: OQQ98F | C69: YAMAHA | D69: MOTOCICLETA | F69: 124 | G69: 2021 | H69: E3Y2E052596 | I69: 9FKDE0923M2052596 | J69: 15681500019190 | K69: 46416 | L69: 46780.999 | M69: OFICIAL | N69: DTAM | O69: SERRANÍA DE CHIRIBIQUETE | P69: 09854031 | Q69: 7000000
A70: =+A69+1 -> 69 | B70: OQQ99F | C70: YAMAHA | D70: MOTOCICLETA | F70: 124 | G70: 2021 | H70: E3Y2E052545 | I70: 9FKDE0928M2052545 | J70: 15681500019220 | K70: 46416 | L70: 46780.999 | M70: OFICIAL | N70: DTAM | O70: SERRANÍA DE CHIRIBIQUETE | P70: 09854031 | Q70: 7000000
A71: =+A70+1 -> 70 | B71: PGO86F | C71: YAMAHA | D71: MOTOCICLETA | F71: 124 | G71: 2020 | H71: E3Y2E045584 | I71: 9FKDE0927L2045584 | J71: 15681500019240 | K71: 46416 | L71: 46780.999 | M71: PARTICULAR | N71: DTCA | O71: ISLA DE SALAMANCA | P71: 09854031 | Q71: 6800000
A72: =+A71+1 -> 71 | B72: SDR80E | C72: YAMAHA | D72: MOTOCICLETA | F72: 249 | G72: 2018 | H72: G3F2E007428 | I72: 9FKDG2817J2007428 | J72: 15681500019250 | K72: 46416 | L72: 46780.999 | M72: OFICIAL | N72: DTCA | O72: LOS COLORADOS | P72: 09854019 | Q72: 15400000
A73: =+A72+1 -> 72 | B73: SDR82E | C73: YAMAHA | D73: MOTOCICLETA | F73: 249 | G73: 2018 | H73: G3F2E007368 | I73: 9FKDG2814J2007368 | J73: 15681500019260 | K73: 46416 | L73: 46780.999 | M73: OFICIAL | N73: DTCA | O73: LOS COLORADOS | P73: 09854019 | Q73: 15400000
A74: =+A73+1 -> 73 | B74: SDR88E | C74: YAMAHA | D74: MOTOCICLETA | F74: 249 | G74: 2018 | H74: G3F2E007360 | I74: 9FKDG281XJ2007360 | J74: 15681500019440 | K74: 46416 | L74: 46780.999 | M74: OFICIAL | N74: DTPA | O74: LOS KATIOS | P74: 09854019 | Q74: 15400000
A75: =+A74+1 -> 74 | B75: WEA42C | C75: YAMAHA | D75: MOTOCICLETA | F75: 124 | G75: 2013 | H75: E3B4E010115 | I75: 9FK3B2110D2010115 | J75: 15681500019450 | K75: 46416 | L75: 46780.999 | M75: OFICIAL | N75: DTOR | O75: DNMI CINARUCO | P75: 09854014 | Q75: 5800000
A76: =+A75+1 -> 75 | B76: WEA43C | C76: YAMAHA | D76: MOTOCICLETA | F76: 124 | G76: 2013 | H76: E3B4E010113 | I76: 9FK3B2117D2010113 | J76: 15681500019460 | K76: 46416 | L76: 46780.999 | M76: OFICIAL | N76: DTOR | O76: EL TUPARRO | P76: 09854014 | Q76: 5800000
A77: =+A76+1 -> 76 | B77: WEA45C | C77: YAMAHA | D77: MOTOCICLETA | F77: 124 | G77: 2013 | H77: E3B4E010111 | I77: 9FK3B2113D2010111 | J77: 15681500019470 | K77: 46416 | L77: 46780.999 | M77: OFICIAL | N77: DTOR | O77: DNMI CINARUCO | P77: 09854014 | Q77: 5800000
A78: =+A77+1 -> 77 | B78: WEA46C | C78: YAMAHA | D78: MOTOCICLETA | F78: 124 | G78: 2013 | H78: E3B4E010110 | I78: 9FK3B2111D2010110 | J78: 15681500019480 | K78: 46416 | L78: 46780.999 | M78: OFICIAL | N78: DTAO | O78: LAS HERMOSAS | P78: 09854014 | Q78: 5800000
A79: =+A78+1 -> 78 | B79: WEA47C | C79: YAMAHA | D79: MOTOCICLETA | F79: 124 | G79: 2013 | H79: E3B4E010109 | I79: 9FK3B2115D2010109 | J79: 15681500019490 | K79: 46051 | L79: 46415.999 | M79: OFICIAL | N79: DTOR | O79: SUMAPAZ | P79: 09854014 | Q79: 5800000
A80: =+A79+1 -> 79 | B80: WEA48C | C80: YAMAHA | D80: MOTOCICLETA | F80: 124 | G80: 2013 | H80: E3B4E010107 | I80: 9FK3B2111D2010107 | J80: 15681500019500 | K80: 46416 | L80: 46780.999 | M80: OFICIAL | N80: DTOR | O80: SUMAPAZ | P80: 09854014 | Q80: 5800000
A81: =+A80+1 -> 80 | B81: WEA49C | C81: YAMAHA | D81: MOTOCICLETA | F81: 124 | G81: 2013 | H81: E3B4E010105 | I81: 9FK3B2118D2010105 | J81: 15681500019510 | K81: 46416 | L81: 46780.999 | M81: OFICIAL | N81: DTOR | O81: SUMAPAZ | P81: 09854014 | Q81: 5800000
A82: =+A81+1 -> 81 | B82: WEA54C | C82: YAMAHA | D82: MOTOCICLETA | F82: 124 | G82: 2013 | H82: E3B4E010139 | I82: 9FK3B2113D2010139 | J82: 15681500019520 | K82: 46416 | L82: 46780.999 | M82: OFICIAL | N82: DTOR | O82: TINIGUA | P82: 09854014 | Q82: 5800000
A83: =+A82+1 -> 82 | B83: WEA59C | C83: YAMAHA | D83: MOTOCICLETA | F83: 124 | G83: 2013 | H83: E3B4E010143 | I83: 9FK3B2115D2010143 | J83: 15681500019550 | K83: 46416 | L83: 46780.999 | M83: OFICIAL | N83: DTOR | O83: EL TUPARRO | P83: 09854014 | Q83: 5800000
A84: =+A83+1 -> 83 | B84: WEA60C | C84: YAMAHA | D84: MOTOCICLETA | F84: 124 | G84: 2013 | H84: E3B4E010145 | I84: 9FK3B2119D2010145 | J84: 15681500019560 | K84: 46416 | L84: 46780.999 | M84: OFICIAL | N84: DTOR | O84: SIERRA DE LA MACARENA | P84: 09854014 | Q84: 5800000
... A86: =+A85+1 -> 85 | B86: YCZ35D | C86: YAMAHA | D86: MOTOCICLETA | F86: 125 | G86: 2015 | H86: E3M2E104027 | I86: 9FKKE2013F2104027 | J86: 15681500019580 | K86: 46416 | L86: 46780.999 | M86: OFICIAL | N86: DTAO | O86: DIRECCION TERRITORIAL | P86: 09854019 | Q86: 12300000
A87: =+A86+1 -> 86 | B87: LIT162 | C87: TOYOTA | D87: CAMIONETA | E87: HILUX - DOBLECABINA | F87: 2393 | G87: 2023 | H87: 2GD-G424933 | I87: 8AJKB3CD7P1660431 | J87: 15681500019690 | K87: 46417 | L87: 46781.999 | M87: OFICIAL | N87: DTCA | O87: PARAMILLO | P87: 09042066 | Q87: 186400000
A88: =+A87+1 -> 87 | B88: LIT177 | C88: TOYOTA | D88: CAMIONETA | E88: HILUX - DOBLECABINA | F88: 2393 | G88: 2023 | H88: 2GD-G428377 | I88: 8AJKB3CD8P1660700 | J88: 15681500019700 | K88: 46417 | L88: 46781.999 | M88: OFICIAL | N88: DTCA | O88: PARAMILLO | P88: 09042066 | Q88: 186400000
A89: =+A88+1 -> 88 | B89: LIT178 | C89: TOYOTA | D89: CAMIONETA | E89: HILUX - DOBLECABINA | F89: 2393 | G89: 2023 | H89: 2GD-G415062 | I89: 8AJKB3CD3P1659101 | J89: 15681500019600 | K89: 46417 | L89: 46781.999 | M89: OFICIAL | N89: DTCA | O89: PARAMILLO | P89: 09042066 | Q89: 186400000
A90: =+A89+1 -> 89 | B90: ODR253 | C90: FORD | D90: CAMPERO | F90: 1999 | G90: 2014 | H90: EUA33398 | I90: 1FMCU9G91EUA33398 | J90: 15681500019610 | K90: 46417 | L90: 46781.999 | M90: OFICIAL | N90: DTAO | O90: DIRECCION TERRITORIAL | P90: 03036055 | Q90: 49500000
A91: =+A90+1 -> 90 | B91: OVE344 | C91: CHEVROLET | D91: CAMIONETA | F91: 2999 | G91: 2011 | H91: 893941 | I91: 8LBETF3E1B0056720 | J91: 15681500019620 | K91: 46417 | L91: 46781.999 | M91: OFICIAL | N91: DTAO | O91: ISLA DE LA COROTA | P91: 01642023 | Q91: 75500000
...

Sheet 4.DRONES
G2: PRIMA ANUAL17,09% | I2: =+ROUND((I4*17.09%),0) -> 140825269 | J2: =+I2/365 -> 385822.65 | K2: =ROUND((+J2*43),0) -> 16590374 | L2: =ROUND((+K2*19%+K2),0) -> 19742545
I4: =SUM(I6:I22) -> 824021468
B5: ITEM | C5: SEDE | D5: DEPENDENCIA/GRUPO/AP | E5: CATEGORIA | F5: PLACA | G5: CARACTERISTICA | H5: FECHA ADQUISICIÓN | I5: VALOR A DEPRECIAR | J5: CLASIFICACIÓN | K5: NOTA
B6: 1 | C6: DIR TERRITORIAL CARIBE PARQUES | D6: ISLA DE SALAMANCA | E6: 2007 | F6: 81311 | G6: DRON DE 4 HELICES CON CAMARA HD. DJIAIR3FLYMORERC2 | H6: 45561 | I6: 6500000 | J6: PROPIO Y EN SERVICIO | K6: ASEGURAR
B7: 2 | C7: DIR. TERRITORIAL PACÍFICO PARQUES | D7: MUNCHIQUE | E7: 2007 | F7: 75794 | G7: DRONE MARCA DJI-MAVIC 3 FLY | H7: 44957 | I7: 19412589 | J7: PROPIO Y EN SERVICIO | K7: ASEGURAR
B8: 3 | C8: DIR. TERRITORIAL ORINOQUIA PARQUES | D8: SERRANIA DE MANACACIAS | E8: 2007 | F8: 70187 | G8: Drone Mavic 2 ENTERPRISE Serial: 276DF9N 001Y51M micro SD de 128, bracket de sujeción control, landingpad maleta rígida impermeable. 6 par hélices cargador, speacker, baliza foco caja rígida cable USB tipo c. CONTROL SN: 0VNCFBW-005BAGH. IPAD SERIAL: H97DQAENQ1GC. BATERIAS 1611AFBP63603ZE 61AHAL6370255 161AHAM63701UF | H8: 44466 | I8: 15200000 | J8: PROPIO Y EN SERVICIO | K8: ASEGURAR
B9: 4 | C9: NIVEL CENTRAL PARQUES | D9: DIRECCIÓN TERRITORIAL | E9: 2007 | F9: 70189 | G9: Drone Phantom 4 pro v2 Serial: 11ush7w-r710113 DRONE 4,software MapPilot business. micro SD 64 Maleta. 8 HELICES, CARGADOR. BATERIAS SN: 1.0DQAHBF03300UG 2. 0DQAHBF03300Z2. 3. 0DQAHBF03300VH CONTROL 11RSH8H-RC201JR. IPAD: GG8DX5V6Q1GC | H9: 44466 | I9: 13500000 | J9: PROPIO Y EN SERVICIO | K9: ASEGURAR
B10: 5 | C10: DIR. TERRITORIAL ORINOQUIA SUBCUENTA-FONAM-PARQUES | D10: SIERRA DE LA MACARENA | E10: 2007 | F10: 79984 | G10: Drone Tiempo máximo de vuelo 40 minutos Alcance máximo de transmisión 9,3 millas (15 km) Resistencia máxima al viento 27 mph (12 m/s) Sensor de imagen: CMOS de 1 Lente: EFL: 28,6 mm Apertura: f / 2,8  f / 11 Batería: 7100 mAh Tiempo de carga: 90 minutos Velocidad Sistema de detección binocular MARCA Autel Robotics EVO II S/N 1748FEV2HL7824301173 RUAS-100-25-0733 | H10: 45639 | I10: 15910667 | J10: PROPIO Y EN SERVICIO | K10: ASEGURAR
B11: 6 | C11: DIR TERRITORIAL CARIBE PARQUES | D11: CIÉNAGA GRANDE DE SANTA MARTA | E11: 2007 | F11: 77437 | G11: DRONE TIPO 3, AUTEL EVO II JUEGO DE ELICES, BATERIA CARGADOR,CABLE,MALETA + ipad 9 generacion Serial KXNHF0HWTX | H11: 45289 | I11: 21025000 | J11: PROPIO Y EN SERVICIO | K11: ASEGURAR
B12: 7 | C12: DIR TERRITORIAL CARIBE PARQUES | D12: BAHÍA PORTETE KAURRELE | E12: 2007 | F12: 77438 | G12: DRONE TIPO 3, AUTEL EVO II JUEGO DE ELICES, BATERIA CARGADOR,CABLE,MALETA +ipad 9 generacion serie: KXYRVW79HR | H12: 45289 | I12: 21025000 | J12: PROPIO Y EN SERVICIO | K12: ASEGURAR
B13: 8 | C13: DIR TERRITORIAL CARIBE PARQUES | D13: LOS FLAMENCOS | E13: 2007 | F13: 77439 | G13: DRONE TIPO 3, AUTEL EVO II JUEGO DE ELICES, BATERIA CARGADOR,CABLE,MALETA +ipad 9 generacion serie: G6P7D00X4L_x000D__x0008_ | H13: 45289 | I13: 21025000 | J13: PROPIO Y EN SERVICIO | K13: ASEGURAR
B14: 9 | C14: DIR TERRITORIAL CARIBE PARQUES | D14: SIERRA NEVADA DE SANTA MARTA | E14: 2007 | F14: 77436 | G14: DRONE TIPO 3, AUTEL EVO II JUEGO DE ELICES, BATERIA CARGADOR,CABLE,MALETA +ipad de 9 generacion serie:HYFVN6490K | H14: 45289 | I14: 21025000 | J14: PROPIO Y EN SERVICIO | K14: ASEGURAR
B15: 10 | C15: DIR TERRITORIAL CARIBE PARQUES | D15: TAYRONA | E15: 2007 | F15: 80123 | G15: DRONES. distancia de trasmisión 15Km 46 min de active track 5.0, 5.1K/50fps, K/120fps,f/2.8 to f/11 + KIT 3 baterias | H15: 45428 | I15: 11960214 | J15: PROPIO Y EN SERVICIO | K15: ASEGURAR
B16: 11 | C16: DIR TERRITORIAL CARIBE PARQUES | D16: CIÉNAGA GRANDE DE SANTA MARTA | E16: 2007 | F16: 81404 | G16: DRONES. DRON DJI AIR 3 . INCLUYE CARGADOR DE BATERIA CHARGING HUB MOD: CHX233-100. | H16: 45687 | I16: 12000000 | J16: PROPIO Y EN SERVICIO | K16: ASEGURAR
B17: 12 | C17: NIVEL CENTRAL PARQUES | D17: GRUPO DE GESTIÓN DEL CONOCIMIENTO E INNOVACIÓN | E17: 2007 | F17: 70188 | G17: DRONES. Drone Phantom 4 pro v2 Serial: 11USH9F-R710015 DRONE 4,software MapPilot business. micro SD de 64 Maleta. 8 HELICES, CARGADOR COMPELTO. BATERIAS SN: 1.0DQAH9303201Z1 2.0DQAHBF03300V6 3.0DQAHBC03302QS CONTROL 11RSH9RRC204FV. IPAD: DMQF2NUEQ1GC | H17: 44466 | I17: 13500000 | J17: PROPIO Y EN SERVICIO | K17: ASEGURAR
... B21: 16 | C21: DIR TERRITORIAL CARIBE PARQUES | D21: ISLA DE SALAMANCA | E21: 2007 | F21: 73614 | G21: DRONES;AERONAVE AUTEL EVO II PRO V2; CONTROL REMOTO;BATERIA INTELIGENTE, CARGADOR, CON IPAD 9 - 64GB Y 2 MICRO SD 64GB SERIE :RWKP4YY9CT | H21: 44901 | I21: 21025000 | J21: PROPIO Y EN SERVICIO | K21: ASEGURAR
B22: 17 | C22: DIR. TERRITORIAL PACÍFICO SUBCUENTA-FARALLONES DE CALI | E22: 2007 | F22: 86694 | G22: DRONE MARCA WINGTRA MODELO 2026 NÚMERO DE SERIE 10097 | I22: 463866998
H23: TOTAL | I23: =SUM(I6:I22) -> 824021468
