Workbook
Name Decision: #REF!
Name Valoracion: #REF!
Name VALORACIÓN: #REF!

Sheet ITEMS
C3: FORMULARIO 1
C4: LISTADO DE ÍTEMS Y PRECIOS UNITARIOS OFICIALES
C6: IDU-SAMC-DTAF-003-2026
C7: PRESTAR EL SERVICIO DE MANTENIMIENTO PREVENTIVO Y CORRECTIVO, INCLUIDAS AUTOPARTES Y MANO DE OBRA, PARA EL PARQUE AUTOMOTOR DEL INSTITUTO DE DESARROLLO URBANO.
D11: VALOR OFICIAL
C12: ÍTEM | E12: ELEMENTOS Y/O SERVICIO | F12: MEDIDA DE UNIDAD | G12: CANTIDAD | H12: SUZUKI GRAND VITARA (2009) | I12: SUZUKI GRAND VITARA SUZUKI (2017) | J12: TOYOTA FORTUNER (2018) | K12: CAMION FORD F350 (1994) | L12: VAN RENAULT MASTER (2018) | M12: FORD ESCAPE HIBRIDA (2024)
H13: TRANSMISION: MECANICA TRACCION: 4X4 COMBUSTIBLE: GASOLINA | I13: TRANSMISION: MECANICA TRACCION: 4X4 COMBUSTIBLE: GASOLINA | J13: TRANSMISION: AUTOMATICA TRACCION: 4X2 COMBUSTIBLE: GASOLINA | K13: TRANSMISION: MECANICA TRACCION: 4X2 COMBUSTIBLE: GASOLINA | L13: TRANSMISION: MECANICA TRACCION: 4X2 COMBUSTIBLE: DIESEL | M13: TRANSMISION: AUTOMATICA TRACCION: 4X2 COMBUSTIBLE: GASOLINA
H14: CANTIDAD DE VEHICULOS: 20 | I14: CANTIDAD DE VEHICULOS: 15 | J14: CANTIDAD DE VEHICULOS: 1 | K14: CANTIDAD DE VEHICULOS: 1 | L14: CANTIDAD DE VEHICULOS: 1 | M14: CANTIDAD DE VEHICULOS: 6
H15: VALOR SIN IVA | I15: VALOR SIN IVA | J15: VALOR SIN IVA | K15: VALOR SIN IVA | L15: VALOR SIN IVA | M15: VALOR SIN IVA
C16: 1 | D16: MANO DE OBRA | E16: ABRAZADERA BARRA ESTABILIZADORA | F16: SERVICIO | G16: 1 | H16: 26250 | I16: 26250 | J16: 26250 | K16: 26250 | L16: 26250 | M16: 26250
C17: 2 | D17: REPUESTOS | E17: ABRAZADERA BARRA ESTABILIZADORA | F17: UNIDAD | G17: 1 | H17: 27225 | I17: 31639 | J17: 32050 | K17: 32050 | L17: 32050 | M17: 32050
C18: 3 | D18: MANO DE OBRA | E18: ABRAZADERAS RADIADOR | F18: SERVICIO | G18: 1 | H18: 24967 | I18: 24967 | J18: 26250 | K18: 26250 | L18: 26250 | M18: 26250
C19: 4 | D19: REPUESTOS | E19: ABRAZADERAS RADIADOR | F19: UNIDAD | G19: 1 | H19: 32050 | I19: 32050 | J19: 32050 | K19: 32050 | L19: 32050 | M19: 32050
C20: 5 | D20: MANO DE OBRA | E20: ACEITE COMPRESOR | F20: SERVICIO | G20: 1 | H20: 183750 | I20: 183750 | J20: 183750 | K20: 183750 | L20: 183750 | M20: 183750
C21: 6 | D21: REPUESTOS | E21: ACEITE COMPRESOR | F21: CUARTO | G21: 1 | H21: 110250 | I21: 110250 | J21: 95985 | K21: 110250 | L21: 110250 | M21: 110250
C22: 7 | D22: MANO DE OBRA | E22: ACEITE HIDRAULICO | F22: SERVICIO | G22: 1 | H22: 46100 | I22: 46100 | J22: 46750 | K22: 46750 | L22: 46750 | M22: 46750
C23: 8 | D23: REPUESTOS | E23: ACEITE HIDRAULICO | F23: CUARTO | G23: 1 | H23: 27411 | I23: 27411 | J23: 29400 | K23: 29400 | L23: 29400 | M23: 29400
C24: 9 | D24: MANO DE OBRA | E24: ACEITE MOTOR | F24: SERVICIO | G24: 1 | H24: 24967 | I24: 24967 | J24: 26250 | K24: 26250 | L24: 26250 | M24: 26250
C25: 10 | D25: REPUESTOS | E25: ACEITE MOTOR (EXCENTO IVA) | F25: CUARTO | G25: 1 | H25: 42103 | I25: 42103 | J25: 68250 | K25: 46750 | L25: 68250 | M25: 53533
C26: 11 | D26: MANO DE OBRA | E26: ACEITE MOTOR SINTETICO | F26: SERVICIO | G26: 1 | H26: 24967 | I26: 24967 | J26: 26250 | K26: 26250 | L26: 26250 | M26: 26250
C27: 12 | D27: REPUESTOS | E27: ACEITE MOTOR SINTETICO (EXCENTO IVA) | F27: CUARTO | G27: 1 | H27: 53495 | I27: 53495 | J27: 76709 | K27: 43018 | L27: 43414 | M27: 53533
... C892: 877 | D892: MANO DE OBRA | E892: Pintura por metro cuadrado ( Si la pieza mide mas o menos, se cobra proporcional al area trabajada) | F892: SERVICIO | G892: 1 | H892: 157500 | I892: 157500 | J892: 157500 | K892: 157500 | L892: 157500 | M892: 157500
C893: 878 | D893: REPUESTOS | E893: Pintura por metro cuadrado ( Si la pieza mide mas o menos, se cobra proporcional al area trabajada) | F893: 1 | G893: 1 | H893: 105000 | I893: 105000 | J893: 105000 | K893: 105000 | L893: 105000 | M893: 105000
C894: 879 | D894: MANO DE OBRA | E894: PISTON FRENO | F894: SERVICIO | G894: 1 | H894: 197168 | I894: 197168 | J894: 183750 | K894: 183750 | L894: 183750 | M894: 183750
C895: 880 | D895: REPUESTOS | E895: PISTON FRENO | F895: JUEGO | G895: 1 | H895: 684600 | I895: 684600 | J895: 496889 | K895: 472500 | L895: 367500 | M895: 367500
C896: 881 | D896: MANO DE OBRA | E896: PITO | F896: SERVICIO | G896: 1 | H896: 106067 | I896: 106067 | J896: 91900 | K896: 91900 | L896: 91900 | M896: 91900
C897: 882 | D897: REPUESTOS | E897: PITO | F897: UNIDAD | G897: 1 | H897: 367500 | I897: 422100 | J897: 167159 | K897: 210000 | L897: 189000 | M897: 304500
C898: 883 | D898: MANO DE OBRA | E898: PLACA PORTA DIODOS | F898: SERVICIO | G898: 1 | H898: 182234 | I898: 182234 | J898: 183750 | K898: 183750 | L898: 183750 | M898: 183750
C899: 884 | D899: REPUESTOS | E899: PLACA PORTA DIODOS | F899: UNIDAD | G899: 1 | H899: 196344 | I899: 222861 | J899: 385350 | K899: 336000 | L899: 367500 | M899: 189000
C900: 885 | D900: MANO DE OBRA | E900: PLANETARIOS | F900: SERVICIO | G900: 1 | H900: 669203 | I900: 669203 | J900: 735000 | K900: 735000 | L900: 735000 | M900: 735000
C901: 886 | D901: REPUESTOS | E901: PLANETARIOS | F901: UNIDAD | G901: 1 | H901: 637124 | I901: 696745 | J901: 1619276 | K901: 1365000 | L901: 1417500 | M901: 0
C902: 887 | D902: MANO DE OBRA | E902: PLUMILLA LIMPIA BRISA TRASERA | F902: SERVICIO | G902: 1 | H902: 26250 | I902: 26250 | J902: 26250 | K902: 26250 | L902: 26250 | M902: 26250
C903: 888 | D903: REPUESTOS | E903: PLUMILLA LIMPIA BRISA TRASERA | F903: UNIDAD | G903: 1 | H903: 268800 | I903: 268800 | J903: 68250 | K903: 47250 | L903: 84000 | M903: 94500
C904: 889 | D904: MANO DE OBRA | E904: PLUMILLAS | F904: SERVICIO | G904: 1 | H904: 24967 | I904: 24967 | J904: 26250 | K904: 26250 | L904: 26250 | M904: 26250
C905: 890 | D905: REPUESTOS | E905: PLUMILLAS | F905: JUEGO | G905: 1 | H905: 126000 | I905: 126000 | J905: 136500 | K905: 96029 | L905: 83428 | M905: 94500
... C914: 899 | D914: MANO DE OBRA | E914: Polichada por metro cuadrado ( Si la pieza mide mas o menos, se cobra proporcional al area trabajada) | F914: SERVICIO | G914: 1 | H914: 183750 | I914: 183750 | J914: 183750 | K914: 183750 | L914: 183750 | M914: 183750
C915: 900 | D915: REPUESTOS | E915: Polichada por metro cuadrado ( Si la pieza mide mas o menos, se cobra proporcional al area trabajada) | F915: 1 | G915: 1 | H915: 22050 | I915: 22050 | J915: 22050 | K915: 22050 | L915: 22050 | M915: 22050
C916: 901 | D916: MANO DE OBRA | E916: PORTA ESCOBILLAS | F916: SERVICIO | G916: 1 | H916: 243501 | I916: 243501 | J916: 275650 | K916: 275650 | L916: 275650 | M916: 275650
C917: 902 | D917: REPUESTOS | E917: PORTA ESCOBILLAS | F917: UNIDAD | G917: 1 | H917: 131250 | I917: 113682 | J917: 317100 | K917: 294000 | L917: 315000 | M917: 168000
C918: 903 | D918: MANO DE OBRA | E918: PORTA FUSIBLE | F918: SERVICIO | G918: 1 | H918: 91134 | I918: 91134 | J918: 91900 | K918: 91900 | L918: 91900 | M918: 91900
...

Sheet Formulario 1 PROPUESTA
C3: FORMULARIO 1
C4: PRESUPUESTO OFICIAL
C5: IDU-SAMC-DTAF-003-2026
C6: PRESTAR EL SERVICIO DE MANTENIMIENTO PREVENTIVO Y CORRECTIVO, INCLUIDAS AUTOPARTES Y MANO DE OBRA, PARA EL PARQUE AUTOMOTOR DEL INSTITUTO DE DESARROLLO URBANO.
J9: VALOR OFERTADO
C10: ÍTEM | D10: DESCRIPCIÓN | J10: PORCENTAJE DE DESCUENTO OFERTADO SOBRE LOS VALORES UNITARIOS DEL PRESUPUESTO | L10: PORCENTAJE DE DESCUENTO CORREGIDO | M10: VERIFICACIÓN
C11: 1 | D11: PORCENTAJE DE DESCUENTO OFRECIDO PARA CADA ÍTEM | L11: =ROUND(J11,4) -> 0 | M11: =IF(OR(L11<=0,L11>=1),"ERROR","OK") -> ERROR
C13: VALOR DEL MULTIPLICADOR PARA EL PRECIO UNITARIO PRESUPUESTADO ANTES DE IVA - (VALOR BASE PARA LA CALIFICACIÓN DE LA PROPUESTA): | L13: =1-L11 -> 1 | M13: =IF(OR(L13<=0,L13>=1,COUNTIF(M11:M11,"ERROR")>0),"ERROR","OK") -> ERROR
D16: TARIFARIO OFERTADO DE CONFORMIDAD CON EL PORCENTAJE DE DESCUENTO
C17: ÍTEM | E17: ELEMENTOS Y/O SERVICIO | F17: MEDIDA DE UNIDAD | G17: CANTIDAD | H17: SUZUKI GRAND VITARA (2009) | I17: SUZUKI GRAND VITARA SUZUKI (2017) | J17: TOYOTA FORTUNER (2018) | K17: CAMION FORD F350 (1994) | L17: VAN RENAULT MASTER (2018) | M17: FORD ESCAPE HIBRIDA (2024)
H18: TRANSMISION: MECANICA TRACCION: 4X4 COMBUSTIBLE: GASOLINA | I18: TRANSMISION: MECANICA TRACCION: 4X4 COMBUSTIBLE: GASOLINA | J18: TRANSMISION: AUTOMATICA TRACCION: 4X2 COMBUSTIBLE: GASOLINA | K18: TRANSMISION: MECANICA TRACCION: 4X2 COMBUSTIBLE: GASOLINA | L18: TRANSMISION: MECANICA TRACCION: 4X2 COMBUSTIBLE: DIESEL | M18: TRANSMISION: AUTOMATICA TRACCION: 4X2 COMBUSTIBLE: GASOLINA
H19: CANTIDAD DE VEHICULOS: 20 | I19: CANTIDAD DE VEHICULOS: 15 | J19: CANTIDAD DE VEHICULOS: 1 | K19: CANTIDAD DE VEHICULOS: 1 | L19: CANTIDAD DE VEHICULOS: 1 | M19: CANTIDAD DE VEHICULOS: 6
H20: VALOR SIN IVA | I20: VALOR SIN IVA | J20: VALOR SIN IVA | K20: VALOR SIN IVA | L20: VALOR SIN IVA | M20: VALOR SIN IVA
C21: 1 | D21: MANO DE OBRA | E21: ABRAZADERA BARRA ESTABILIZADORA | F21: SERVICIO | G21: 1 | H21: =+ROUND(ITEMS!H16*'Formulario 1 PROPUESTA'!$L$13,0) -> 26250 | I21: =+ROUND(ITEMS!I16*'Formulario 1 PROPUESTA'!$L$13,0) -> 26250 | J21: =+ROUND(ITEMS!J16*'Formulario 1 PROPUESTA'!$L$13,0) -> 26250 | K21: =+ROUND(ITEMS!K16*'Formulario 1 PROPUESTA'!$L$13,0) -> 26250 | L21: =+ROUND(ITEMS!L16*'Formulario 1 PROPUESTA'!$L$13,0) -> 26250 | M21: =+ROUND(ITEMS!M16*'Formulario 1 PROPUESTA'!$L$13,0) -> 26250
C22: 2 | D22: REPUESTOS | E22: ABRAZADERA BARRA ESTABILIZADORA | F22: UNIDAD | G22: 1 | H22: =+ROUND(ITEMS!H17*'Formulario 1 PROPUESTA'!$L$13,0) -> 27225 | I22: =+ROUND(ITEMS!I17*'Formulario 1 PROPUESTA'!$L$13,0) -> 31639 | J22: =+ROUND(ITEMS!J17*'Formulario 1 PROPUESTA'!$L$13,0) -> 32050 | K22: =+ROUND(ITEMS!K17*'Formulario 1 PROPUESTA'!$L$13,0) -> 32050 | L22: =+ROUND(ITEMS!L17*'Formulario 1 PROPUESTA'!$L$13,0) -> 32050 | M22: =+ROUND(ITEMS!M17*'Formulario 1 PROPUESTA'!$L$13,0) -> 32050
C23: 3 | D23: MANO DE OBRA | E23: ABRAZADERAS RADIADOR | F23: SERVICIO | G23: 1 | H23: =+ROUND(ITEMS!H18*'Formulario 1 PROPUESTA'!$L$13,0) -> 24967 | I23: =+ROUND(ITEMS!I18*'Formulario 1 PROPUESTA'!$L$13,0) -> 24967 | J23: =+ROUND(ITEMS!J18*'Formulario 1 PROPUESTA'!$L$13,0) -> 26250 | K23: =+ROUND(ITEMS!K18*'Formulario 1 PROPUESTA'!$L$13,0) -> 26250 | L23: =+ROUND(ITEMS!L18*'Formulario 1 PROPUESTA'!$L$13,0) -> 26250 | M23: =+ROUND(ITEMS!M18*'Formulario 1 PROPUESTA'!$L$13,0) -> 26250
C24: 4 | D24: REPUESTOS | E24: ABRAZADERAS RADIADOR | F24: UNIDAD | G24: 1 | H24: =+ROUND(ITEMS!H19*'Formulario 1 PROPUESTA'!$L$13,0) -> 32050 | I24: =+ROUND(ITEMS!I19*'Formulario 1 PROPUESTA'!$L$13,0) -> 32050 | J24: =+ROUND(ITEMS!J19*'Formulario 1 PROPUESTA'!$L$13,0) -> 32050 | K24: =+ROUND(ITEMS!K19*'Formulario 1 PROPUESTA'!$L$13,0) -> 32050 | L24: =+ROUND(ITEMS!L19*'Formulario 1 PROPUESTA'!$L$13,0) -> 32050 | M24: =+ROUND(ITEMS!M19*'Formulario 1 PROPUESTA'!$L$13,0) -> 32050
C25: 5 | D25: MANO DE OBRA | E25: ACEITE COMPRESOR | F25: SERVICIO | G25: 1 | H25: =+ROUND(ITEMS!H20*'Formulario 1 PROPUESTA'!$L$13,0) -> 183750 | I25: =+ROUND(ITEMS!I20*'Formulario 1 PROPUESTA'!$L$13,0) -> 183750 | J25: =+ROUND(ITEMS!J20*'Formulario 1 PROPUESTA'!$L$13,0) -> 183750 | K25: =+ROUND(ITEMS!K20*'Formulario 1 PROPUESTA'!$L$13,0) -> 183750 | L25: =+ROUND(ITEMS!L20*'Formulario 1 PROPUESTA'!$L$13,0) -> 183750 | M25: =+ROUND(ITEMS!M20*'Formulario 1 PROPUESTA'!$L$13,0) -> 183750
C26: 6 | D26: REPUESTOS | E26: ACEITE COMPRESOR | F26: CUARTO | G26: 1 | H26: =+ROUND(ITEMS!H21*'Formulario 1 PROPUESTA'!$L$13,0) -> 110250 | I26: =+ROUND(ITEMS!I21*'Formulario 1 PROPUESTA'!$L$13,0) -> 110250 | J26: =+ROUND(ITEMS!J21*'Formulario 1 PROPUESTA'!$L$13,0) -> 95985 | K26: =+ROUND(ITEMS!K21*'Formulario 1 PROPUESTA'!$L$13,0) -> 110250 | L26: =+ROUND(ITEMS!L21*'Formulario 1 PROPUESTA'!$L$13,0) -> 110250 | M26: =+ROUND(ITEMS!M21*'Formulario 1 PROPUESTA'!$L$13,0) -> 110250
C27: 7 | D27: MANO DE OBRA | E27: ACEITE HIDRAULICO | F27: SERVICIO | G27: 1 | H27: =+ROUND(ITEMS!H22*'Formulario 1 PROPUESTA'!$L$13,0) -> 46100 | I27: =+ROUND(ITEMS!I22*'Formulario 1 PROPUESTA'!$L$13,0) -> 46100 | J27: =+ROUND(ITEMS!J22*'Formulario 1 PROPUESTA'!$L$13,0) -> 46750 | K27: =+ROUND(ITEMS!K22*'Formulario 1 PROPUESTA'!$L$13,0) -> 46750 | L27: =+ROUND(ITEMS!L22*'Formulario 1 PROPUESTA'!$L$13,0) -> 46750 | M27: =+ROUND(ITEMS!M22*'Formulario 1 PROPUESTA'!$L$13,0) -> 46750
C28: 8 | D28: REPUESTOS | E28: ACEITE HIDRAULICO | F28: CUARTO | G28: 1 | H28: =+ROUND(ITEMS!H23*'Formulario 1 PROPUESTA'!$L$13,0) -> 27411 | I28: =+ROUND(ITEMS!I23*'Formulario 1 PROPUESTA'!$L$13,0) -> 27411 | J28: =+ROUND(ITEMS!J23*'Formulario 1 PROPUESTA'!$L$13,0) -> 29400 | K28: =+ROUND(ITEMS!K23*'Formulario 1 PROPUESTA'!$L$13,0) -> 29400 | L28: =+ROUND(ITEMS!L23*'Formulario 1 PROPUESTA'!$L$13,0) -> 29400 | M28: =+ROUND(ITEMS!M23*'Formulario 1 PROPUESTA'!$L$13,0) -> 29400
C29: 9 | D29: MANO DE OBRA | E29: ACEITE MOTOR | F29: SERVICIO | G29: 1 | H29: =+ROUND(ITEMS!H24*'Formulario 1 PROPUESTA'!$L$13,0) -> 24967 | I29: =+ROUND(ITEMS!I24*'Formulario 1 PROPUESTA'!$L$13,0) -> 24967 | J29: =+ROUND(ITEMS!J24*'Formulario 1 PROPUESTA'!$L$13,0) -> 26250 | K29: =+ROUND(ITEMS!K24*'Formulario 1 PROPUESTA'!$L$13,0) -> 26250 | L29: =+ROUND(ITEMS!L24*'Formulario 1 PROPUESTA'!$L$13,0) -> 26250 | M29: =+ROUND(ITEMS!M24*'Formulario 1 PROPUESTA'!$L$13,0) -> 26250
C30: 10 | D30: REPUESTOS | E30: ACEITE MOTOR (EXCENTO IVA) | F30: CUARTO | G30: 1 | H30: =+ROUND(ITEMS!H25*'Formulario 1 PROPUESTA'!$L$13,0) -> 42103 | I30: =+ROUND(ITEMS!I25*'Formulario 1 PROPUESTA'!$L$13,0) -> 42103 | J30: =+ROUND(ITEMS!J25*'Formulario 1 PROPUESTA'!$L$13,0) -> 68250 | K30: =+ROUND(ITEMS!K25*'Formulario 1 PROPUESTA'!$L$13,0) -> 46750 | L30: =+ROUND(ITEMS!L25*'Formulario 1 PROPUESTA'!$L$13,0) -> 68250 | M30: =+ROUND(ITEMS!M25*'Formulario 1 PROPUESTA'!$L$13,0) -> 53533
C31: 11 | D31: MANO DE OBRA | E31: ACEITE MOTOR SINTETICO | F31: SERVICIO | G31: 1 | H31: =+ROUND(ITEMS!H26*'Formulario 1 PROPUESTA'!$L$13,0) -> 24967 | I31: =+ROUND(ITEMS!I26*'Formulario 1 PROPUESTA'!$L$13,0) -> 24967 | J31: =+ROUND(ITEMS!J26*'Formulario 1 PROPUESTA'!$L$13,0) -> 26250 | K31: =+ROUND(ITEMS!K26*'Formulario 1 PROPUESTA'!$L$13,0) -> 26250 | L31: =+ROUND(ITEMS!L26*'Formulario 1 PROPUESTA'!$L$13,0) -> 26250 | M31: =+ROUND(ITEMS!M26*'Formulario 1 PROPUESTA'!$L$13,0) -> 26250
C32: 12 | D32: REPUESTOS | E32: ACEITE MOTOR SINTETICO (EXCENTO IVA) | F32: CUARTO | G32: 1 | H32: =+ROUND(ITEMS!H27*'Formulario 1 PROPUESTA'!$L$13,0) -> 53495 | I32: =+ROUND(ITEMS!I27*'Formulario 1 PROPUESTA'!$L$13,0) -> 53495 | J32: =+ROUND(ITEMS!J27*'Formulario 1 PROPUESTA'!$L$13,0) -> 76709 | K32: =+ROUND(ITEMS!K27*'Formulario 1 PROPUESTA'!$L$13,0) -> 43018 | L32: =+ROUND(ITEMS!L27*'Formulario 1 PROPUESTA'!$L$13,0) -> 43414 | M32: =+ROUND(ITEMS!M27*'Formulario 1 PROPUESTA'!$L$13,0) -> 53533
... C897: 877 | D897: MANO DE OBRA | E897: Pintura por metro cuadrado ( Si la pieza mide mas o menos, se cobra proporcional al area trabajada) | F897: SERVICIO | G897: 1 | H897: =+ROUND(ITEMS!H892*'Formulario 1 PROPUESTA'!$L$13,0) -> 157500 | I897: =+ROUND(ITEMS!I892*'Formulario 1 PROPUESTA'!$L$13,0) -> 157500 | J897: =+ROUND(ITEMS!J892*'Formulario 1 PROPUESTA'!$L$13,0) -> 157500 | K897: =+ROUND(ITEMS!K892*'Formulario 1 PROPUESTA'!$L$13,0) -> 157500 | L897: =+ROUND(ITEMS!L892*'Formulario 1 PROPUESTA'!$L$13,0) -> 157500 | M897: =+ROUND(ITEMS!M892*'Formulario 1 PROPUESTA'!$L$13,0) -> 157500
C898: 878 | D898: REPUESTOS | E898: Pintura por metro cuadrado ( Si la pieza mide mas o menos, se cobra proporcional al area trabajada) | F898: 1 | G898: 1 | H898: =+ROUND(ITEMS!H893*'Formulario 1 PROPUESTA'!$L$13,0) -> 105000 | I898: =+ROUND(ITEMS!I893*'Formulario 1 PROPUESTA'!$L$13,0) -> 105000 | J898: =+ROUND(ITEMS!J893*'Formulario 1 PROPUESTA'!$L$13,0) -> 105000 | K898: =+ROUND(ITEMS!K893*'Formulario 1 PROPUESTA'!$L$13,0) -> 105000 | L898: =+ROUND(ITEMS!L893*'Formulario 1 PROPUESTA'!$L$13,0) -> 105000 | M898: =+ROUND(ITEMS!M893*'Formulario 1 PROPUESTA'!$L$13,0) -> 105000
C899: 879 | D899: MANO DE OBRA | E899: PISTON FRENO | F899: SERVICIO | G899: 1 | H899: =+ROUND(ITEMS!H894*'Formulario 1 PROPUESTA'!$L$13,0) -> 197168 | I899: =+ROUND(ITEMS!I894*'Formulario 1 PROPUESTA'!$L$13,0) -> 197168 | J899: =+ROUND(ITEMS!J894*'Formulario 1 PROPUESTA'!$L$13,0) -> 183750 | K899: =+ROUND(ITEMS!K894*'Formulario 1 PROPUESTA'!$L$13,0) -> 183750 | L899: =+ROUND(ITEMS!L894*'Formulario 1 PROPUESTA'!$L$13,0) -> 183750 | M899: =+ROUND(ITEMS!M894*'Formulario 1 PROPUESTA'!$L$13,0) -> 183750
C900: 880 | D900: REPUESTOS | E900: PISTON FRENO | F900: JUEGO | G900: 1 | H900: =+ROUND(ITEMS!H895*'Formulario 1 PROPUESTA'!$L$13,0) -> 684600 | I900: =+ROUND(ITEMS!I895*'Formulario 1 PROPUESTA'!$L$13,0) -> 684600 | J900: =+ROUND(ITEMS!J895*'Formulario 1 PROPUESTA'!$L$13,0) -> 496889 | K900: =+ROUND(ITEMS!K895*'Formulario 1 PROPUESTA'!$L$13,0) -> 472500 | L900: =+ROUND(ITEMS!L895*'Formulario 1 PROPUESTA'!$L$13,0) -> 367500 | M900: =+ROUND(ITEMS!M895*'Formulario 1 PROPUESTA'!$L$13,0) -> 367500
C901: 881 | D901: MANO DE OBRA | E901: PITO | F901: SERVICIO | G901: 1 | H901: =+ROUND(ITEMS!H896*'Formulario 1 PROPUESTA'!$L$13,0) -> 106067 | I901: =+ROUND(ITEMS!I896*'Formulario 1 PROPUESTA'!$L$13,0) -> 106067 | J901: =+ROUND(ITEMS!J896*'Formulario 1 PROPUESTA'!$L$13,0) -> 91900 | K901: =+ROUND(ITEMS!K896*'Formulario 1 PROPUESTA'!$L$13,0) -> 91900 | L901: =+ROUND(ITEMS!L896*'Formulario 1 PROPUESTA'!$L$13,0) -> 91900 | M901: =+ROUND(ITEMS!M896*'Formulario 1 PROPUESTA'!$L$13,0) -> 91900
C902: 882 | D902: REPUESTOS | E902: PITO | F902: UNIDAD | G902: 1 | H902: =+ROUND(ITEMS!H897*'Formulario 1 PROPUESTA'!$L$13,0) -> 367500 | I902: =+ROUND(ITEMS!I897*'Formulario 1 PROPUESTA'!$L$13,0) -> 422100 | J902: =+ROUND(ITEMS!J897*'Formulario 1 PROPUESTA'!$L$13,0) -> 167159 | K902: =+ROUND(ITEMS!K897*'Formulario 1 PROPUESTA'!$L$13,0) -> 210000 | L902: =+ROUND(ITEMS!L897*'Formulario 1 PROPUESTA'!$L$13,0) -> 189000 | M902: =+ROUND(ITEMS!M897*'Formulario 1 PROPUESTA'!$L$13,0) -> 304500
C903: 883 | D903: MANO DE OBRA | E903: PLACA PORTA DIODOS | F903: SERVICIO | G903: 1 | H903: =+ROUND(ITEMS!H898*'Formulario 1 PROPUESTA'!$L$13,0) -> 182234 | I903: =+ROUND(ITEMS!I898*'Formulario 1 PROPUESTA'!$L$13,0) -> 182234 | J903: =+ROUND(ITEMS!J898*'Formulario 1 PROPUESTA'!$L$13,0) -> 183750 | K903: =+ROUND(ITEMS!K898*'Formulario 1 PROPUESTA'!$L$13,0) -> 183750 | L903: =+ROUND(ITEMS!L898*'Formulario 1 PROPUESTA'!$L$13,0) -> 183750 | M903: =+ROUND(ITEMS!M898*'Formulario 1 PROPUESTA'!$L$13,0) -> 183750
C904: 884 | D904: REPUESTOS | E904: PLACA PORTA DIODOS | F904: UNIDAD | G904: 1 | H904: =+ROUND(ITEMS!H899*'Formulario 1 PROPUESTA'!$L$13,0) -> 196344 | I904: =+ROUND(ITEMS!I899*'Formulario 1 PROPUESTA'!$L$13,0) -> 222861 | J904: =+ROUND(ITEMS!J899*'Formulario 1 PROPUESTA'!$L$13,0) -> 385350 | K904: =+ROUND(ITEMS!K899*'Formulario 1 PROPUESTA'!$L$13,0) -> 336000 | L904: =+ROUND(ITEMS!L899*'Formulario 1 PROPUESTA'!$L$13,0) -> 367500 | M904: =+ROUND(ITEMS!M899*'Formulario 1 PROPUESTA'!$L$13,0) -> 189000
C905: 885 | D905: MANO DE OBRA | E905: PLANETARIOS | F905: SERVICIO | G905: 1 | H905: =+ROUND(ITEMS!H900*'Formulario 1 PROPUESTA'!$L$13,0) -> 669203 | I905: =+ROUND(ITEMS!I900*'Formulario 1 PROPUESTA'!$L$13,0) -> 669203 | J905: =+ROUND(ITEMS!J900*'Formulario 1 PROPUESTA'!$L$13,0) -> 735000 | K905: =+ROUND(ITEMS!K900*'Formulario 1 PROPUESTA'!$L$13,0) -> 735000 | L905: =+ROUND(ITEMS!L900*'Formulario 1 PROPUESTA'!$L$13,0) -> 735000 | M905: =+ROUND(ITEMS!M900*'Formulario 1 PROPUESTA'!$L$13,0) -> 735000
C906: 886 | D906: REPUESTOS | E906: PLANETARIOS | F906: UNIDAD | G906: 1 | H906: =+ROUND(ITEMS!H901*'Formulario 1 PROPUESTA'!$L$13,0) -> 637124 | I906: =+ROUND(ITEMS!I901*'Formulario 1 PROPUESTA'!$L$13,0) -> 696745 | J906: =+ROUND(ITEMS!J901*'Formulario 1 PROPUESTA'!$L$13,0) -> 1619276 | K906: =+ROUND(ITEMS!K901*'Formulario 1 PROPUESTA'!$L$13,0) -> 1365000 | L906: =+ROUND(ITEMS!L901*'Formulario 1 PROPUESTA'!$L$13,0) -> 1417500 | M906: =+ROUND(ITEMS!M901*'Formulario 1 PROPUESTA'!$L$13,0) -> 0
C907: 887 | D907: MANO DE OBRA | E907: PLUMILLA LIMPIA BRISA TRASERA | F907: SERVICIO | G907: 1 | H907: =+ROUND(ITEMS!H902*'Formulario 1 PROPUESTA'!$L$13,0) -> 26250 | I907: =+ROUND(ITEMS!I902*'Formulario 1 PROPUESTA'!$L$13,0) -> 26250 | J907: =+ROUND(ITEMS!J902*'Formulario 1 PROPUESTA'!$L$13,0) -> 26250 | K907: =+ROUND(ITEMS!K902*'Formulario 1 PROPUESTA'!$L$13,0) -> 26250 | L907: =+ROUND(ITEMS!L902*'Formulario 1 PROPUESTA'!$L$13,0) -> 26250 | M907: =+ROUND(ITEMS!M902*'Formulario 1 PROPUESTA'!$L$13,0) -> 26250
C908: 888 | D908: REPUESTOS | E908: PLUMILLA LIMPIA BRISA TRASERA | F908: UNIDAD | G908: 1 | H908: =+ROUND(ITEMS!H903*'Formulario 1 PROPUESTA'!$L$13,0) -> 268800 | I908: =+ROUND(ITEMS!I903*'Formulario 1 PROPUESTA'!$L$13,0) -> 268800 | J908: =+ROUND(ITEMS!J903*'Formulario 1 PROPUESTA'!$L$13,0) -> 68250 | K908: =+ROUND(ITEMS!K903*'Formulario 1 PROPUESTA'!$L$13,0) -> 47250 | L908: =+ROUND(ITEMS!L903*'Formulario 1 PROPUESTA'!$L$13,0) -> 84000 | M908: =+ROUND(ITEMS!M903*'Formulario 1 PROPUESTA'!$L$13,0) -> 94500
C909: 889 | D909: MANO DE OBRA | E909: PLUMILLAS | F909: SERVICIO | G909: 1 | H909: =+ROUND(ITEMS!H904*'Formulario 1 PROPUESTA'!$L$13,0) -> 24967 | I909: =+ROUND(ITEMS!I904*'Formulario 1 PROPUESTA'!$L$13,0) -> 24967 | J909: =+ROUND(ITEMS!J904*'Formulario 1 PROPUESTA'!$L$13,0) -> 26250 | K909: =+ROUND(ITEMS!K904*'Formulario 1 PROPUESTA'!$L$13,0) -> 26250 | L909: =+ROUND(ITEMS!L904*'Formulario 1 PROPUESTA'!$L$13,0) -> 26250 | M909: =+ROUND(ITEMS!M904*'Formulario 1 PROPUESTA'!$L$13,0) -> 26250
C910: 890 | D910: REPUESTOS | E910: PLUMILLAS | F910: JUEGO | G910: 1 | H910: =+ROUND(ITEMS!H905*'Formulario 1 PROPUESTA'!$L$13,0) -> 126000 | I910: =+ROUND(ITEMS!I905*'Formulario 1 PROPUESTA'!$L$13,0) -> 126000 | J910: =+ROUND(ITEMS!J905*'Formulario 1 PROPUESTA'!$L$13,0) -> 136500 | K910: =+ROUND(ITEMS!K905*'Formulario 1 PROPUESTA'!$L$13,0) -> 96029 | L910: =+ROUND(ITEMS!L905*'Formulario 1 PROPUESTA'!$L$13,0) -> 83428 | M910: =+ROUND(ITEMS!M905*'Formulario 1 PROPUESTA'!$L$13,0) -> 94500
... C919: 899 | D919: MANO DE OBRA | E919: Polichada por metro cuadrado ( Si la pieza mide mas o menos, se cobra proporcional al area trabajada) | F919: SERVICIO | G919: 1 | H919: =+ROUND(ITEMS!H914*'Formulario 1 PROPUESTA'!$L$13,0) -> 183750 | I919: =+ROUND(ITEMS!I914*'Formulario 1 PROPUESTA'!$L$13,0) -> 183750 | J919: =+ROUND(ITEMS!J914*'Formulario 1 PROPUESTA'!$L$13,0) -> 183750 | K919: =+ROUND(ITEMS!K914*'Formulario 1 PROPUESTA'!$L$13,0) -> 183750 | L919: =+ROUND(ITEMS!L914*'Formulario 1 PROPUESTA'!$L$13,0) -> 183750 | M919: =+ROUND(ITEMS!M914*'Formulario 1 PROPUESTA'!$L$13,0) -> 183750
...

Sheet ESTUDIO DE MERCADO (2)
B1: FORMATO
B2: CONSTANCIA DE ESTUDIOS DE MERCADO
B3: CÓDIGO | E3: PROCESO | P3: VERSIÓN
B4: FO-DP-183 | E4: Diseño de Proyectos | P4: 1
B5: Fecha de elaboración | F5: 46239
B7: Teniendo en cuenta el artículo 2.1.1. Numeral 4 del Decreto 734 de 2012, se efectuó la consulta de precios de mercado para :
B8: Objeto: | E8: PRESTAR EL SERVICIO DE MANTENIMIENTO PREVENTIVO Y CORRECTIVO, INCLUIDAS AUTOPARTES Y MANO DE OBRA, PARA EL PARQUE AUTOMOTOR DEL INSTITUTO DE DESARROLLO URBANO.
B9: Para tal efecto se le dio a conocer al mercado, las especificaciones técnicas de lo requerido para el presente proceso, y se hizo la consulta por medio de
B11: MEDIO | K11: MARQUE CON UNA (X)
B12: Telefónicamente
B13: Correo Electrónico | K13: X
B14: Personalmente
B15: Comunicación Escrita
B16: Como se detalla a continuación , la consulta para la realización del Estudio de Mercado del proceso en mención, se observa que lo cotizado corresponde al objeto a contratar en todos sus componentes y que a su vez se ajusta a las condiciones y/o especificaciones contenidas en los estudios previos:
B18: EMPRESAS COTIZANTES | G18: Precios históricos de las órdenes de compra | S18: COTIZACION No 1 CA MOTORES TALLER AUTOMOTRIZ SAS | AE18: COTIZACION No 2 DERBY TALLER AUTOMOTRIZ SAS | AQ18: PROMEDIO | BD18: MEDIA ARMONICA | BJ18: PROMEDIO | BP18: PROMEDIO CON DESVIACION ESTANDAR
A19: ÍTEM | C19: ELEMENTOS Y/O SERVICIO | E19: MEDIDA DE UNIDAD | F19: CANTIDAD | G19: ORDEN DE COMPRA - 139881 - 2024 SUZUKI GRAND VITARA (2009) | I19: ORDEN DE COMPRA - 139881 - 2024 SUZUKI GRAND VITARA SUZUKI (2017) | K19: ORDEN DE COMPRA - 151874 - 2025 TOYOTA FORTUNER (2018) | M19: ORDEN DE COMPRA -151875 - 2025 CAMION FORD F350 (1994) | O19: ORDEN DE COMPRA -151876 - 2025 VAN RENAULT MASTER (2018) | Q19: FORD ESCAPE HIBRIDA (2024) | S19: SUZUKI GRAND VITARA (2009) | U19: SUZUKI GRAND VITARA SUZUKI (2017) | W19: TOYOTA FORTUNER (2018) | Y19: CAMION FORD F350 (1994) | AA19: VAN RENAULT MASTER (2018) | AC19: FORD ESCAPE HIBRIDA (2024) | AE19: SUZUKI GRAND VITARA (2009) | AG19: SUZUKI GRAND VITARA SUZUKI (2017) | AI19: TOYOTA FORTUNER (2018) | AK19: CAMION FORD F350 (1994) | AM19: VAN RENAULT MASTER (2018) | AO19: FORD ESCAPE HIBRIDA (2024) | AQ19: SUZUKI GRAND VITARA (2009) | AS19: SUZUKI GRAND VITARA SUZUKI (2017) | AU19: TOYOTA FORTUNER (2018) | AW19: CAMION FORD F350 (1994) | AY19: VAN RENAULT MASTER (2018) | BA19: FORD ESCAPE HIBRIDA (2024) | BD19: SUZUKI GRAND VITARA (2009) | BE19: SUZUKI GRAND VITARA SUZUKI (2017) | BF19: TOYOTA FORTUNER (2018) | BG19: CAMION FORD F350 (1994) | BH19: VAN RENAULT MASTER (2018) | BI19: FORD ESCAPE HIBRIDA (2024) | BJ19: SUZUKI GRAND VITARA (2009) | BK19: SUZUKI GRAND VITARA SUZUKI (2017) | BL19: TOYOTA FORTUNER (2018) | BM19: CAMION FORD F350 (1994) | BN19: VAN RENAULT MASTER (2018) | BO19: FORD ESCAPE HIBRIDA (2024) | BP19: SUZUKI GRAND VITARA (2009) | BQ19: SUZUKI GRAND VITARA SUZUKI (2017) | BR19: TOYOTA FORTUNER (2018) | BS19: CAMION FORD F350 (1994) | BT19: VAN RENAULT MASTER (2018) | BU19: FORD ESCAPE HIBRIDA (2024)
G20: TRANSMISION: MECANICA TRACCION: 4X4 COMBUSTIBLE: GASOLINA | I20: TRANSMISION: MECANICA TRACCION: 4X4 COMBUSTIBLE: GASOLINA | K20: TRANSMISION: AUTOMATICA TRACCION: 4X2 COMBUSTIBLE: GASOLINA | M20: TRANSMISION: MECANICA TRACCION: 4X2 COMBUSTIBLE: GASOLINA | O20: TRANSMISION: MECANICA TRACCION: 4X2 COMBUSTIBLE: DIESEL | Q20: TRANSMISION: AUTOMATICA TRACCION: 4X2 COMBUSTIBLE: GASOLINA | S20: TRANSMISION: MECANICA TRACCION: 4X4 COMBUSTIBLE: GASOLINA | U20: TRANSMISION: MECANICA TRACCION: 4X4 COMBUSTIBLE: GASOLINA | W20: TRANSMISION: AUTOMATICA TRACCION: 4X2 COMBUSTIBLE: GASOLINA | Y20: TRANSMISION: MECANICA TRACCION: 4X2 COMBUSTIBLE: GASOLINA | AA20: TRANSMISION: MECANICA TRACCION: 4X2 COMBUSTIBLE: DIESEL | AC20: TRANSMISION: AUTOMATICA TRACCION: 4X2 COMBUSTIBLE: GASOLINA | AE20: TRANSMISION: MECANICA TRACCION: 4X4 COMBUSTIBLE: GASOLINA | AG20: TRANSMISION: MECANICA TRACCION: 4X4 COMBUSTIBLE: GASOLINA | AI20: TRANSMISION: AUTOMATICA TRACCION: 4X2 COMBUSTIBLE: GASOLINA | AK20: TRANSMISION: MECANICA TRACCION: 4X2 COMBUSTIBLE: GASOLINA | AM20: TRANSMISION: MECANICA TRACCION: 4X2 COMBUSTIBLE: DIESEL | AO20: TRANSMISION: AUTOMATICA TRACCION: 4X2 COMBUSTIBLE: GASOLINA | AQ20: TRANSMISION: MECANICA TRACCION: 4X4 COMBUSTIBLE: GASOLINA | AS20: TRANSMISION: MECANICA TRACCION: 4X4 COMBUSTIBLE: GASOLINA | AU20: TRANSMISION: AUTOMATICA TRACCION: 4X2 COMBUSTIBLE: GASOLINA | AW20: TRANSMISION: MECANICA TRACCION: 4X2 COMBUSTIBLE: GASOLINA | AY20: TRANSMISION: MECANICA TRACCION: 4X2 COMBUSTIBLE: DIESEL | BA20: TRANSMISION: AUTOMATICA TRACCION: 4X2 COMBUSTIBLE: GASOLINA | BD20: TRANSMISION: MECANICA TRACCION: 4X4 COMBUSTIBLE: GASOLINA | BE20: TRANSMISION: MECANICA TRACCION: 4X4 COMBUSTIBLE: GASOLINA | BF20: TRANSMISION: AUTOMATICA TRACCION: 4X2 COMBUSTIBLE: GASOLINA | BG20: TRANSMISION: MECANICA TRACCION: 4X2 COMBUSTIBLE: GASOLINA | BH20: TRANSMISION: MECANICA TRACCION: 4X2 COMBUSTIBLE: DIESEL | BI20: TRANSMISION: AUTOMATICA TRACCION: 4X2 COMBUSTIBLE: GASOLINA | BJ20: TRANSMISION: MECANICA TRACCION: 4X4 COMBUSTIBLE: GASOLINA | BK20: TRANSMISION: MECANICA TRACCION: 4X4 COMBUSTIBLE: GASOLINA | BL20: TRANSMISION: AUTOMATICA TRACCION: 4X2 COMBUSTIBLE: GASOLINA | BM20: TRANSMISION: MECANICA TRACCION: 4X2 COMBUSTIBLE: GASOLINA | BN20: TRANSMISION: MECANICA TRACCION: 4X2 COMBUSTIBLE: DIESEL | BO20: TRANSMISION: AUTOMATICA TRACCION: 4X2 COMBUSTIBLE: GASOLINA | BP20: TRANSMISION: MECANICA TRACCION: 4X4 COMBUSTIBLE: GASOLINA | BQ20: TRANSMISION: MECANICA TRACCION: 4X4 COMBUSTIBLE: GASOLINA | BR20: TRANSMISION: AUTOMATICA TRACCION: 4X2 COMBUSTIBLE: GASOLINA | BS20: TRANSMISION: MECANICA TRACCION: 4X2 COMBUSTIBLE: GASOLINA | BT20: TRANSMISION: MECANICA TRACCION: 4X2 COMBUSTIBLE: DIESEL | BU20: TRANSMISION: AUTOMATICA TRACCION: 4X2 COMBUSTIBLE: GASOLINA
G21: CANTIDAD DE VEHICULOS: 20 | I21: CANTIDAD DE VEHICULOS: 15 | K21: CANTIDAD DE VEHICULOS: 1 | M21: CANTIDAD DE VEHICULOS: 1 | O21: CANTIDAD DE VEHICULOS: 1 | Q21: CANTIDAD DE VEHICULOS: 6 | S21: CANTIDAD DE VEHICULOS: 20 | U21: CANTIDAD DE VEHICULOS: 15 | W21: CANTIDAD DE VEHICULOS: 1 | Y21: CANTIDAD DE VEHICULOS: 1 | AA21: CANTIDAD DE VEHICULOS: 1 | AC21: CANTIDAD DE VEHICULOS: 6 | AE21: CANTIDAD DE VEHICULOS: 20 | AG21: CANTIDAD DE VEHICULOS: 15 | AI21: CANTIDAD DE VEHICULOS: 1 | AK21: CANTIDAD DE VEHICULOS: 1 | AM21: CANTIDAD DE VEHICULOS: 1 | AO21: CANTIDAD DE VEHICULOS: 6 | AQ21: CANTIDAD DE VEHICULOS: 20 | AS21: CANTIDAD DE VEHICULOS: 15 | AU21: CANTIDAD DE VEHICULOS: 1 | AW21: CANTIDAD DE VEHICULOS: 1 | AY21: CANTIDAD DE VEHICULOS: 1 | BA21: CANTIDAD DE VEHICULOS: 6 | BD21: CANTIDAD DE VEHICULOS: 20 | BE21: CANTIDAD DE VEHICULOS: 15 | BF21: CANTIDAD DE VEHICULOS: 1 | BG21: CANTIDAD DE VEHICULOS: 1 | BH21: CANTIDAD DE VEHICULOS: 1 | BI21: CANTIDAD DE VEHICULOS: 6 | BJ21: CANTIDAD DE VEHICULOS: 20 | BK21: CANTIDAD DE VEHICULOS: 15 | BL21: CANTIDAD DE VEHICULOS: 1 | BM21: CANTIDAD DE VEHICULOS: 1 | BN21: CANTIDAD DE VEHICULOS: 1 | BO21: CANTIDAD DE VEHICULOS: 6 | BP21: CANTIDAD DE VEHICULOS: 20 | BQ21: CANTIDAD DE VEHICULOS: 15 | BR21: CANTIDAD DE VEHICULOS: 1 | BS21: CANTIDAD DE VEHICULOS: 1 | BT21: CANTIDAD DE VEHICULOS: 1 | BU21: CANTIDAD DE VEHICULOS: 6
G22: VALOR SIN IVA | H22: VALOR CON IVA | I22: VALOR SIN IVA | J22: VALOR CON IVA | K22: VALOR SIN IVA | L22: VALOR CON IVA | M22: VALOR SIN IVA | N22: VALOR CON IVA | O22: VALOR SIN IVA | P22: VALOR CON IVA | Q22: VALOR SIN IVA | R22: VALOR CON IVA | S22: VALOR SIN IVA | T22: VALOR CON IVA | U22: VALOR SIN IVA | V22: VALOR CON IVA | W22: VALOR SIN IVA | X22: VALOR CON IVA | Y22: VALOR SIN IVA | Z22: VALOR CON IVA | AA22: VALOR SIN IVA | AB22: VALOR CON IVA | AC22: VALOR SIN IVA | AD22: VALOR CON IVA | AE22: VALOR SIN IVA | AF22: VALOR CON IVA | AG22: VALOR SIN IVA | AH22: VALOR CON IVA | AI22: VALOR SIN IVA | AJ22: VALOR CON IVA | AK22: VALOR SIN IVA | AL22: VALOR CON IVA | AM22: VALOR SIN IVA | AN22: VALOR CON IVA | AO22: VALOR SIN IVA | AP22: VALOR CON IVA | AQ22: VALOR SIN IVA | AR22: VALOR CON IVA | AS22: VALOR SIN IVA | AT22: VALOR CON IVA | AU22: VALOR SIN IVA | AV22: VALOR CON IVA | AW22: VALOR SIN IVA | AX22: VALOR CON IVA | AY22: VALOR SIN IVA | AZ22: VALOR CON IVA | BA22: VALOR SIN IVA | BB22: VALOR CON IVA | BD22: VALOR SIN IVA | BE22: VALOR SIN IVA | BF22: VALOR SIN IVA | BG22: VALOR SIN IVA | BH22: VALOR SIN IVA | BI22: VALOR SIN IVA | BJ22: VALOR SIN IVA | BK22: VALOR SIN IVA | BL22: VALOR SIN IVA | BM22: VALOR SIN IVA | BN22: VALOR SIN IVA | BO22: VALOR SIN IVA | BP22: VALOR SIN IVA | BQ22: VALOR SIN IVA | BR22: VALOR SIN IVA | BS22: VALOR SIN IVA | BT22: VALOR SIN IVA | BU22: VALOR SIN IVA
A23: 1 | B23: MANO DE OBRA | C23: ABRAZADERA BARRA ESTABILIZADORA | D23: =B23&"|"&C23 -> MANO DE OBRA|ABRAZADERA BARRA ESTABILIZADORA | E23: SERVICIO | F23: 1 | G23: 89601.513 | H23: =G23*1.19 -> 106625.8 | I23: 89601.513 | J23: =I23*1.19 -> 106625.8 | K23: 0.91392 | L23: =K23*1.19 -> 1.0875648 | M23: 14.6336 | N23: =M23*1.19 -> 17.413984 | O23: 10.88 | P23: =O23*1.19 -> 12.9472 | R23: =Q23*1.19 -> 0 | S23: 25000 | T23: =S23*1.19 -> 29750 | U23: 25000 | V23: =U23*1.19 -> 29750 | W23: 25000 | X23: =W23*1.19 -> 29750 | Y23: 25000 | Z23: =Y23*1.19 -> 29750 | AA23: 25000 | AB23: =AA23*1.19 -> 29750 | AC23: 25000 | AD23: =AC23*1.19 -> 29750 | AE23: 27500 | AF23: =AE23*1.19 -> 32725 | AG23: 27500 | AH23: =AG23*1.19 -> 32725 | AI23: 27500 | AJ23: =AI23*1.19 -> 32725 | AK23: 27500 | AL23: =AK23*1.19 -> 32725 | AM23: 27500 | AN23: =AM23*1.19 -> 32725 | AO23: 27500 | AP23: =AO23*1.19 -> 32725 | AQ23: =AVERAGE(G23,S23,AE23) -> 47367.171 | AR23: =AQ23*1.19 -> 56366.934 | AS23: =AVERAGE(I23,U23,AG23) -> 47367.171 | AT23: =AS23*1.19 -> 56366.934 | AU23: =AVERAGE(K23,W23,AI23) -> 17500.305 | AV23: =AU23*1.19 -> 20825.363 | AW23: =AVERAGE(M23,Y23,AK23) -> 17504.878 | AX23: =AW23*1.19 -> 20830.805 | AY23: =AVERAGE(O23,AA23,AM23) -> 17503.627 | AZ23: =AY23*1.19 -> 20829.316 | BA23: =AVERAGE(AC23,AO23) -> 26250 | BB23: =BA23*1.19 -> 31237.5 | BD23: =IFERROR(ROUND(HARMEAN(G23,S23,AE23),0),0) -> 34276 | BE23: =IFERROR(ROUND(HARMEAN(I23,U23,AG23),0),0) -> 34276 | BF23: =IFERROR(ROUND(HARMEAN(K23,W23,AI23),0),0) -> 3 | BG23: =IFERROR(ROUND(HARMEAN(M23,Y23,AK23),0),0) -> 44 | BH23: =IFERROR(ROUND(HARMEAN(O23,AA23,AM23),0),0) -> 33 | BI23: =IFERROR(ROUND(HARMEAN(Q23,AC23,AO23),0),0) -> 26190 | BJ23: =IFERROR(ROUND(AVERAGE(G23,S23,AE23),0),0) -> 47367 | BK23: =IFERROR(ROUND(AVERAGE(I23,U23,AG23),0),0) -> 47367 | BL23: =IFERROR(ROUND(AVERAGE(K23,W23,AI23),0),0) -> 17500 | BM23: =IFERROR(ROUND(AVERAGE(M23,Y23,AK23),0),0) -> 17505 | BN23: =IFERROR(ROUND(AVERAGE(O23,AA23,AM23),0),0) -> 17504 | BO23: =IFERROR(ROUND(AVERAGE(Q23,AC23,AO23),0),0) -> 26250 | BP23: =IFERROR(ROUND(IF(ABS(G23-AVERAGE(S23,AE23))/AVERAGE(S23,AE23)>50%,AVERAGE(S23,AE23),IF(ABS(S23-AVERAGE(G23,AE23))/AVERAGE(G23,AE23)>50%,AVERAGE(G23,AE23),IF(ABS(AE23-AVERAGE(G23,S23))/AVERAGE(G23,S23)>50%,AVERAGE(G23,S23),AVERAGE(G23,S23,AE23)))),0),0) -> 26250 | BQ23: =IFERROR(ROUND(IF(ABS(I23-AVERAGE(U23,AG23))/AVERAGE(U23,AG23)>50%,AVERAGE(U23,AG23),IF(ABS(U23-AVERAGE(I23,AG23))/AVERAGE(I23,AG23)>50%,AVERAGE(I23,AG23),IF(ABS(AG23-AVERAGE(I23,U23))/AVERAGE(I23,U23)>50%,AVERAGE(I23,U23),AVERAGE(I23,U23,AG23)))),0),0) -> 26250 | BR23: =IFERROR(ROUND(IF(ABS(K23-AVERAGE(W23,AI23))/AVERAGE(W23,AI23)>50%,AVERAGE(W23,AI23),IF(ABS(W23-AVERAGE(K23,AI23))/AVERAGE(K23,AI23)>50%,AVERAGE(K23,AI23),IF(ABS(AI23-AVERAGE(K23,W23))/AVERAGE(K23,W23)>50%,AVERAGE(K23,W23),AVERAGE(K23,W23,AI23)))),0),0) -> 26250 | BS23: =IFERROR(ROUND(IF(ABS(M23-AVERAGE(Y23,AK23))/AVERAGE(Y23,AK23)>50%,AVERAGE(Y23,AK23),IF(ABS(Y23-AVERAGE(M23,AK23))/AVERAGE(M23,AK23)>50%,AVERAGE(M23,AK23),IF(ABS(AK23-AVERAGE(M23,Y23))/AVERAGE(M23,Y23)>50%,AVERAGE(M23,Y23),AVERAGE(M23,Y23,AK23)))),0),0) -> 26250 | BT23: =IFERROR(ROUND(IF(ABS(O23-AVERAGE(AA23,AM23))/AVERAGE(AA23,AM23)>50%,AVERAGE(AA23,AM23),IF(ABS(AA23-AVERAGE(O23,AM23))/AVERAGE(O23,AM23)>50%,AVERAGE(O23,AM23),IF(ABS(AM23-AVERAGE(O23,AA23))/AVERAGE(O23,AA23)>50%,AVERAGE(O23,AA23),AVERAGE(O23,AA23,AM23)))),0),0) -> 26250 | BU23: =IFERROR(ROUND(IF(ABS(Q23-AVERAGE(AC23,AO23))/AVERAGE(AC23,AO23)>50%,AVERAGE(AC23,AO23),IF(ABS(AC23-AVERAGE(Q23,AO23))/AVERAGE(Q23,AO23)>50%,AVERAGE(Q23,AO23),IF(ABS(AO23-AVERAGE(Q23,AC23))/AVERAGE(Q23,AC23)>50%,AVERAGE(Q23,AC23),AVERAGE(Q23,AC23,AO23)))),0),0) -> 26250 | BV23: =SUM(BP23:BU23) -> 157500
A24: 2 | B24: REPUESTOS | C24: ABRAZADERA BARRA ESTABILIZADORA | D24: =B24&"|"&C24 -> REPUESTOS|ABRAZADERA BARRA ESTABILIZADORA | E24: UNIDAD | F24: 1 | G24: 17575.014 | H24: =G24*1.19 -> 20914.266 | I24: 30815.694 | J24: =I24*1.19 -> 36670.676 | K24: 0.91392 | L24: =K24*1.19 -> 1.0875648 | M24: 16.46144 | N24: =M24*1.19 -> 19.589114 | O24: 14.144 | P24: =O24*1.19 -> 16.83136 | R24: =Q24*1.19 -> 0 | S24: 30500 | T24: =S24*1.19 -> 36295 | U24: 30500 | V24: =U24*1.19 -> 36295 | W24: 30500 | X24: =W24*1.19 -> 36295 | Y24: 30500 | Z24: =Y24*1.19 -> 36295 | AA24: 30500 | AB24: =AA24*1.19 -> 36295 | AC24: 30500 | AD24: =AC24*1.19 -> 36295 | AE24: 33600 | AF24: =AE24*1.19 -> 39984 | AG24: 33600 | AH24: =AG24*1.19 -> 39984 | AI24: 33600 | AJ24: =AI24*1.19 -> 39984 | AK24: 33600 | AL24: =AK24*1.19 -> 39984 | AM24: 33600 | AN24: =AM24*1.19 -> 39984 | AO24: 33600 | AP24: =AO24*1.19 -> 39984 | AQ24: =AVERAGE(G24,S24,AE24) -> 27225.005 | AR24: =AQ24*1.19 -> 32397.755 | AS24: =AVERAGE(I24,U24,AG24) -> 31638.565 | AT24: =AS24*1.19 -> 37649.892 | AU24: =AVERAGE(K24,W24,AI24) -> 21366.971 | AV24: =AU24*1.19 -> 25426.696 | AW24: =AVERAGE(M24,Y24,AK24) -> 21372.154 | AX24: =AW24*1.19 -> 25432.863 | AY24: =AVERAGE(O24,AA24,AM24) -> 21371.381 | AZ24: =AY24*1.19 -> 25431.944 | BA24: =AVERAGE(AC24,AO24) -> 32050 | BB24: =BA24*1.19 -> 38139.5 | BD24: =IFERROR(ROUND(HARMEAN(G24,S24,AE24),0),0) -> 25116 | BE24: =IFERROR(ROUND(HARMEAN(I24,U24,AG24),0),0) -> 31579 | BF24: =IFERROR(ROUND(HARMEAN(K24,W24,AI24),0),0) -> 3 | BG24: =IFERROR(ROUND(HARMEAN(M24,Y24,AK24),0),0) -> 49 | BH24: =IFERROR(ROUND(HARMEAN(O24,AA24,AM24),0),0) -> 42 | BI24: =IFERROR(ROUND(HARMEAN(Q24,AC24,AO24),0),0) -> 31975 | BJ24: =IFERROR(ROUND(AVERAGE(G24,S24,AE24),0),0) -> 27225 | BK24: =IFERROR(ROUND(AVERAGE(I24,U24,AG24),0),0) -> 31639 | BL24: =IFERROR(ROUND(AVERAGE(K24,W24,AI24),0),0) -> 21367 | BM24: =IFERROR(ROUND(AVERAGE(M24,Y24,AK24),0),0) -> 21372 | BN24: =IFERROR(ROUND(AVERAGE(O24,AA24,AM24),0),0) -> 21371 | BO24: =IFERROR(ROUND(AVERAGE(Q24,AC24,AO24),0),0) -> 32050 | BP24: =IFERROR(ROUND(IF(ABS(G24-AVERAGE(S24,AE24))/AVERAGE(S24,AE24)>50%,AVERAGE(S24,AE24),IF(ABS(S24-AVERAGE(G24,AE24))/AVERAGE(G24,AE24)>50%,AVERAGE(G24,AE24),IF(ABS(AE24-AVERAGE(G24,S24))/AVERAGE(G24,S24)>50%,AVERAGE(G24,S24),AVERAGE(G24,S24,AE24)))),0),0) -> 27225 | BQ24: =IFERROR(ROUND(IF(ABS(I24-AVERAGE(U24,AG24))/AVERAGE(U24,AG24)>50%,AVERAGE(U24,AG24),IF(ABS(U24-AVERAGE(I24,AG24))/AVERAGE(I24,AG24)>50%,AVERAGE(I24,AG24),IF(ABS(AG24-AVERAGE(I24,U24))/AVERAGE(I24,U24)>50%,AVERAGE(I24,U24),AVERAGE(I24,U24,AG24)))),0),0) -> 31639 | BR24: =IFERROR(ROUND(IF(ABS(K24-AVERAGE(W24,AI24))/AVERAGE(W24,AI24)>50%,AVERAGE(W24,AI24),IF(ABS(W24-AVERAGE(K24,AI24))/AVERAGE(K24,AI24)>50%,AVERAGE(K24,AI24),IF(ABS(AI24-AVERAGE(K24,W24))/AVERAGE(K24,W24)>50%,AVERAGE(K24,W24),AVERAGE(K24,W24,AI24)))),0),0) -> 32050 | BS24: =IFERROR(ROUND(IF(ABS(M24-AVERAGE(Y24,AK24))/AVERAGE(Y24,AK24)>50%,AVERAGE(Y24,AK24),IF(ABS(Y24-AVERAGE(M24,AK24))/AVERAGE(M24,AK24)>50%,AVERAGE(M24,AK24),IF(ABS(AK24-AVERAGE(M24,Y24))/AVERAGE(M24,Y24)>50%,AVERAGE(M24,Y24),AVERAGE(M24,Y24,AK24)))),0),0) -> 32050 | BT24: =IFERROR(ROUND(IF(ABS(O24-AVERAGE(AA24,AM24))/AVERAGE(AA24,AM24)>50%,AVERAGE(AA24,AM24),IF(ABS(AA24-AVERAGE(O24,AM24))/AVERAGE(O24,AM24)>50%,AVERAGE(O24,AM24),IF(ABS(AM24-AVERAGE(O24,AA24))/AVERAGE(O24,AA24)>50%,AVERAGE(O24,AA24),AVERAGE(O24,AA24,AM24)))),0),0) -> 32050 | BU24: =IFERROR(ROUND(IF(ABS(Q24-AVERAGE(AC24,AO24))/AVERAGE(AC24,AO24)>50%,AVERAGE(AC24,AO24),IF(ABS(AC24-AVERAGE(Q24,AO24))/AVERAGE(Q24,AO24)>50%,AVERAGE(Q24,AO24),IF(ABS(AO24-AVERAGE(Q24,AC24))/AVERAGE(Q24,AC24)>50%,AVERAGE(Q24,AC24),AVERAGE(Q24,AC24,AO24)))),0),0) -> 32050 | BV24: =SUM(BP24:BU24) -> 187064
A25: 3 | B25: MANO DE OBRA | C25: ABRAZADERAS RADIADOR | D25: =B25&"|"&C25 -> MANO DE OBRA|ABRAZADERAS RADIADOR | E25: SERVICIO | F25: 1 | G25: 22400.144 | H25: =G25*1.19 -> 26656.172 | I25: 22400.144 | J25: =I25*1.19 -> 26656.172 | K25: 0.91392 | L25: =K25*1.19 -> 1.0875648 | M25: 14.6336 | N25: =M25*1.19 -> 17.413984 | O25: 10.88 | P25: =O25*1.19 -> 12.9472 | R25: =Q25*1.19 -> 0 | S25: 25000 | T25: =S25*1.19 -> 29750 | U25: 25000 | V25: =U25*1.19 -> 29750 | W25: 25000 | X25: =W25*1.19 -> 29750 | Y25: 25000 | Z25: =Y25*1.19 -> 29750 | AA25: 25000 | AB25: =AA25*1.19 -> 29750 | AC25: 25000 | AD25: =AC25*1.19 -> 29750 | AE25: 27500 | AF25: =AE25*1.19 -> 32725 | AG25: 27500 | AH25: =AG25*1.19 -> 32725 | AI25: 27500 | AJ25: =AI25*1.19 -> 32725 | AK25: 27500 | AL25: =AK25*1.19 -> 32725 | AM25: 27500 | AN25: =AM25*1.19 -> 32725 | AO25: 27500 | AP25: =AO25*1.19 -> 32725 | AQ25: =AVERAGE(G25,S25,AE25) -> 24966.715 | AR25: =AQ25*1.19 -> 29710.391 | AS25: =AVERAGE(I25,U25,AG25) -> 24966.715 | AT25: =AS25*1.19 -> 29710.391 | AU25: =AVERAGE(K25,W25,AI25) -> 17500.305 | AV25: =AU25*1.19 -> 20825.363 | AW25: =AVERAGE(M25,Y25,AK25) -> 17504.878 | AX25: =AW25*1.19 -> 20830.805 | AY25: =AVERAGE(O25,AA25,AM25) -> 17503.627 | AZ25: =AY25*1.19 -> 20829.316 | BA25: =AVERAGE(AC25,AO25) -> 26250 | BB25: =BA25*1.19 -> 31237.5 | BD25: =IFERROR(ROUND(HARMEAN(G25,S25,AE25),0),0) -> 24792 | BE25: =IFERROR(ROUND(HARMEAN(I25,U25,AG25),0),0) -> 24792 | BF25: =IFERROR(ROUND(HARMEAN(K25,W25,AI25),0),0) -> 3 | BG25: =IFERROR(ROUND(HARMEAN(M25,Y25,AK25),0),0) -> 44 | BH25: =IFERROR(ROUND(HARMEAN(O25,AA25,AM25),0),0) -> 33 | BI25: =IFERROR(ROUND(HARMEAN(Q25,AC25,AO25),0),0) -> 26190 | BJ25: =IFERROR(ROUND(AVERAGE(G25,S25,AE25),0),0) -> 24967 | BK25: =IFERROR(ROUND(AVERAGE(I25,U25,AG25),0),0) -> 24967 | BL25: =IFERROR(ROUND(AVERAGE(K25,W25,AI25),0),0) -> 17500 | BM25: =IFERROR(ROUND(AVERAGE(M25,Y25,AK25),0),0) -> 17505 | BN25: =IFERROR(ROUND(AVERAGE(O25,AA25,AM25),0),0) -> 17504 | BO25: =IFERROR(ROUND(AVERAGE(Q25,AC25,AO25),0),0) -> 26250 | BP25: =IFERROR(ROUND(IF(ABS(G25-AVERAGE(S25,AE25))/AVERAGE(S25,AE25)>50%,AVERAGE(S25,AE25),IF(ABS(S25-AVERAGE(G25,AE25))/AVERAGE(G25,AE25)>50%,AVERAGE(G25,AE25),IF(ABS(AE25-AVERAGE(G25,S25))/AVERAGE(G25,S25)>50%,AVERAGE(G25,S25),AVERAGE(G25,S25,AE25)))),0),0) -> 24967 | BQ25: =IFERROR(ROUND(IF(ABS(I25-AVERAGE(U25,AG25))/AVERAGE(U25,AG25)>50%,AVERAGE(U25,AG25),IF(ABS(U25-AVERAGE(I25,AG25))/AVERAGE(I25,AG25)>50%,AVERAGE(I25,AG25),IF(ABS(AG25-AVERAGE(I25,U25))/AVERAGE(I25,U25)>50%,AVERAGE(I25,U25),AVERAGE(I25,U25,AG25)))),0),0) -> 24967 | BR25: =IFERROR(ROUND(IF(ABS(K25-AVERAGE(W25,AI25))/AVERAGE(W25,AI25)>50%,AVERAGE(W25,AI25),IF(ABS(W25-AVERAGE(K25,AI25))/AVERAGE(K25,AI25)>50%,AVERAGE(K25,AI25),IF(ABS(AI25-AVERAGE(K25,W25))/AVERAGE(K25,W25)>50%,AVERAGE(K25,W25),AVERAGE(K25,W25,AI25)))),0),0) -> 26250 | BS25: =IFERROR(ROUND(IF(ABS(M25-AVERAGE(Y25,AK25))/AVERAGE(Y25,AK25)>50%,AVERAGE(Y25,AK25),IF(ABS(Y25-AVERAGE(M25,AK25))/AVERAGE(M25,AK25)>50%,AVERAGE(M25,AK25),IF(ABS(AK25-AVERAGE(M25,Y25))/AVERAGE(M25,Y25)>50%,AVERAGE(M25,Y25),AVERAGE(M25,Y25,AK25)))),0),0) -> 26250 | BT25: =IFERROR(ROUND(IF(ABS(O25-AVERAGE(AA25,AM25))/AVERAGE(AA25,AM25)>50%,AVERAGE(AA25,AM25),IF(ABS(AA25-AVERAGE(O25,AM25))/AVERAGE(O25,AM25)>50%,AVERAGE(O25,AM25),IF(ABS(AM25-AVERAGE(O25,AA25))/AVERAGE(O25,AA25)>50%,AVERAGE(O25,AA25),AVERAGE(O25,AA25,AM25)))),0),0) -> 26250 | BU25: =IFERROR(ROUND(IF(ABS(Q25-AVERAGE(AC25,AO25))/AVERAGE(AC25,AO25)>50%,AVERAGE(AC25,AO25),IF(ABS(AC25-AVERAGE(Q25,AO25))/AVERAGE(Q25,AO25)>50%,AVERAGE(Q25,AO25),IF(ABS(AO25-AVERAGE(Q25,AC25))/AVERAGE(Q25,AC25)>50%,AVERAGE(Q25,AC25),AVERAGE(Q25,AC25,AO25)))),0),0) -> 26250 | BV25: =SUM(BP25:BU25) -> 154934
A26: 4 | B26: REPUESTOS | C26: ABRAZADERAS RADIADOR | D26: =B26&"|"&C26 -> REPUESTOS|ABRAZADERAS RADIADOR | E26: UNIDAD | F26: 1 | G26: 11716.68 | H26: =G26*1.19 -> 13942.849 | I26: 11716.68 | J26: =I26*1.19 -> 13942.849 | K26: 0.91392 | L26: =K26*1.19 -> 1.0875648 | M26: 18.28928 | N26: =M26*1.19 -> 21.764243 | O26: 14.144 | P26: =O26*1.19 -> 16.83136 | R26: =Q26*1.19 -> 0 | S26: 30500 | T26: =S26*1.19 -> 36295 | U26: 30500 | V26: =U26*1.19 -> 36295 | W26: 30500 | X26: =W26*1.19 -> 36295 | Y26: 30500 | Z26: =Y26*1.19 -> 36295 | AA26: 30500 | AB26: =AA26*1.19 -> 36295 | AC26: 30500 | AD26: =AC26*1.19 -> 36295 | AE26: 33600 | AF26: =AE26*1.19 -> 39984 | AG26: 33600 | AH26: =AG26*1.19 -> 39984 | AI26: 33600 | AJ26: =AI26*1.19 -> 39984 | AK26: 33600 | AL26: =AK26*1.19 -> 39984 | AM26: 33600 | AN26: =AM26*1.19 -> 39984 | AO26: 33600 | AP26: =AO26*1.19 -> 39984 | AQ26: =AVERAGE(G26,S26,AE26) -> 25272.227 | AR26: =AQ26*1.19 -> 30073.95 | AS26: =AVERAGE(I26,U26,AG26) -> 25272.227 | AT26: =AS26*1.19 -> 30073.95 | AU26: =AVERAGE(K26,W26,AI26) -> 21366.971 | AV26: =AU26*1.19 -> 25426.696 | AW26: =AVERAGE(M26,Y26,AK26) -> 21372.763 | AX26: =AW26*1.19 -> 25433.588 | AY26: =AVERAGE(O26,AA26,AM26) -> 21371.381 | AZ26: =AY26*1.19 -> 25431.944 | BA26: =AVERAGE(AC26,AO26) -> 32050 | BB26: =BA26*1.19 -> 38139.5 | BD26: =IFERROR(ROUND(HARMEAN(G26,S26,AE26),0),0) -> 20284 | BE26: =IFERROR(ROUND(HARMEAN(I26,U26,AG26),0),0) -> 20284 | BF26: =IFERROR(ROUND(HARMEAN(K26,W26,AI26),0),0) -> 3 | BG26: =IFERROR(ROUND(HARMEAN(M26,Y26,AK26),0),0) -> 55 | BH26: =IFERROR(ROUND(HARMEAN(O26,AA26,AM26),0),0) -> 42 | BI26: =IFERROR(ROUND(HARMEAN(Q26,AC26,AO26),0),0) -> 31975 | BJ26: =IFERROR(ROUND(AVERAGE(G26,S26,AE26),0),0) -> 25272 | BK26: =IFERROR(ROUND(AVERAGE(I26,U26,AG26),0),0) -> 25272 | BL26: =IFERROR(ROUND(AVERAGE(K26,W26,AI26),0),0) -> 21367 | BM26: =IFERROR(ROUND(AVERAGE(M26,Y26,AK26),0),0) -> 21373 | BN26: =IFERROR(ROUND(AVERAGE(O26,AA26,AM26),0),0) -> 21371 | BO26: =IFERROR(ROUND(AVERAGE(Q26,AC26,AO26),0),0) -> 32050 | BP26: =IFERROR(ROUND(IF(ABS(G26-AVERAGE(S26,AE26))/AVERAGE(S26,AE26)>50%,AVERAGE(S26,AE26),IF(ABS(S26-AVERAGE(G26,AE26))/AVERAGE(G26,AE26)>50%,AVERAGE(G26,AE26),IF(ABS(AE26-AVERAGE(G26,S26))/AVERAGE(G26,S26)>50%,AVERAGE(G26,S26),AVERAGE(G26,S26,AE26)))),0),0) -> 32050 | BQ26: =IFERROR(ROUND(IF(ABS(I26-AVERAGE(U26,AG26))/AVERAGE(U26,AG26)>50%,AVERAGE(U26,AG26),IF(ABS(U26-AVERAGE(I26,AG26))/AVERAGE(I26,AG26)>50%,AVERAGE(I26,AG26),IF(ABS(AG26-AVERAGE(I26,U26))/AVERAGE(I26,U26)>50%,AVERAGE(I26,U26),AVERAGE(I26,U26,AG26)))),0),0) -> 32050 | BR26: =IFERROR(ROUND(IF(ABS(K26-AVERAGE(W26,AI26))/AVERAGE(W26,AI26)>50%,AVERAGE(W26,AI26),IF(ABS(W26-AVERAGE(K26,AI26))/AVERAGE(K26,AI26)>50%,AVERAGE(K26,AI26),IF(ABS(AI26-AVERAGE(K26,W26))/AVERAGE(K26,W26)>50%,AVERAGE(K26,W26),AVERAGE(K26,W26,AI26)))),0),0) -> 32050 | BS26: =IFERROR(ROUND(IF(ABS(M26-AVERAGE(Y26,AK26))/AVERAGE(Y26,AK26)>50%,AVERAGE(Y26,AK26),IF(ABS(Y26-AVERAGE(M26,AK26))/AVERAGE(M26,AK26)>50%,AVERAGE(M26,AK26),IF(ABS(AK26-AVERAGE(M26,Y26))/AVERAGE(M26,Y26)>50%,AVERAGE(M26,Y26),AVERAGE(M26,Y26,AK26)))),0),0) -> 32050 | BT26: =IFERROR(ROUND(IF(ABS(O26-AVERAGE(AA26,AM26))/AVERAGE(AA26,AM26)>50%,AVERAGE(AA26,AM26),IF(ABS(AA26-AVERAGE(O26,AM26))/AVERAGE(O26,AM26)>50%,AVERAGE(O26,AM26),IF(ABS(AM26-AVERAGE(O26,AA26))/AVERAGE(O26,AA26)>50%,AVERAGE(O26,AA26),AVERAGE(O26,AA26,AM26)))),0),0) -> 32050 | BU26: =IFERROR(ROUND(IF(ABS(Q26-AVERAGE(AC26,AO26))/AVERAGE(AC26,AO26)>50%,AVERAGE(AC26,AO26),IF(ABS(AC26-AVERAGE(Q26,AO26))/AVERAGE(Q26,AO26)>50%,AVERAGE(Q26,AO26),IF(ABS(AO26-AVERAGE(Q26,AC26))/AVERAGE(Q26,AC26)>50%,AVERAGE(Q26,AC26),AVERAGE(Q26,AC26,AO26)))),0),0) -> 32050 | BV26: =SUM(BP26:BU26) -> 192300
A27: 5 | B27: MANO DE OBRA | C27: ACEITE COMPRESOR | D27: =B27&"|"&C27 -> MANO DE OBRA|ACEITE COMPRESOR | E27: SERVICIO | F27: 1 | G27: 44800.3 | H27: =G27*1.19 -> 53312.357 | I27: 44800.3 | J27: =I27*1.19 -> 53312.357 | K27: 0.91392 | L27: =K27*1.19 -> 1.0875648 | M27: 14.6336 | N27: =M27*1.19 -> 17.413984 | O27: 10.88 | P27: =O27*1.19 -> 12.9472 | R27: =Q27*1.19 -> 0 | S27: 175000 | T27: =S27*1.19 -> 208250 | U27: 175000 | V27: =U27*1.19 -> 208250 | W27: 175000 | X27: =W27*1.19 -> 208250 | Y27: 175000 | Z27: =Y27*1.19 -> 208250 | AA27: 175000 | AB27: =AA27*1.19 -> 208250 | AC27: 175000 | AD27: =AC27*1.19 -> 208250 | AE27: 192500 | AF27: =AE27*1.19 -> 229075 | AG27: 192500 | AH27: =AG27*1.19 -> 229075 | AI27: 192500 | AJ27: =AI27*1.19 -> 229075 | AK27: 192500 | AL27: =AK27*1.19 -> 229075 | AM27: 192500 | AN27: =AM27*1.19 -> 229075 | AO27: 192500 | AP27: =AO27*1.19 -> 229075 | AQ27: =AVERAGE(G27,S27,AE27) -> 137433.43 | AR27: =AQ27*1.19 -> 163545.79 | AS27: =AVERAGE(I27,U27,AG27) -> 137433.43 | AT27: =AS27*1.19 -> 163545.79 | AU27: =AVERAGE(K27,W27,AI27) -> 122500.3 | AV27: =AU27*1.19 -> 145775.36 | AW27: =AVERAGE(M27,Y27,AK27) -> 122504.88 | AX27: =AW27*1.19 -> 145780.8 | AY27: =AVERAGE(O27,AA27,AM27) -> 122503.63 | AZ27: =AY27*1.19 -> 145779.32 | BA27: =AVERAGE(AC27,AO27) -> 183750 | BB27: =BA27*1.19 -> 218662.5 | BD27: =IFERROR(ROUND(HARMEAN(G27,S27,AE27),0),0) -> 90279 | BE27: =IFERROR(ROUND(HARMEAN(I27,U27,AG27),0),0) -> 90279 | BF27: =IFERROR(ROUND(HARMEAN(K27,W27,AI27),0),0) -> 3 | BG27: =IFERROR(ROUND(HARMEAN(M27,Y27,AK27),0),0) -> 44 | BH27: =IFERROR(ROUND(HARMEAN(O27,AA27,AM27),0),0) -> 33 | BI27: =IFERROR(ROUND(HARMEAN(Q27,AC27,AO27),0),0) -> 183333 | BJ27: =IFERROR(ROUND(AVERAGE(G27,S27,AE27),0),0) -> 137433 | BK27: =IFERROR(ROUND(AVERAGE(I27,U27,AG27),0),0) -> 137433 | BL27: =IFERROR(ROUND(AVERAGE(K27,W27,AI27),0),0) -> 122500 | BM27: =IFERROR(ROUND(AVERAGE(M27,Y27,AK27),0),0) -> 122505 | BN27: =IFERROR(ROUND(AVERAGE(O27,AA27,AM27),0),0) -> 122504 | BO27: =IFERROR(ROUND(AVERAGE(Q27,AC27,AO27),0),0) -> 183750 | BP27: =IFERROR(ROUND(IF(ABS(G27-AVERAGE(S27,AE27))/AVERAGE(S27,AE27)>50%,AVERAGE(S27,AE27),IF(ABS(S27-AVERAGE(G27,AE27))/AVERAGE(G27,AE27)>50%,AVERAGE(G27,AE27),IF(ABS(AE27-AVERAGE(G27,S27))/AVERAGE(G27,S27)>50%,AVERAGE(G27,S27),AVERAGE(G27,S27,AE27)))),0),0) -> 183750 | BQ27: =IFERROR(ROUND(IF(ABS(I27-AVERAGE(U27,AG27))/AVERAGE(U27,AG27)>50%,AVERAGE(U27,AG27),IF(ABS(U27-AVERAGE(I27,AG27))/AVERAGE(I27,AG27)>50%,AVERAGE(I27,AG27),IF(ABS(AG27-AVERAGE(I27,U27))/AVERAGE(I27,U27)>50%,AVERAGE(I27,U27),AVERAGE(I27,U27,AG27)))),0),0) -> 183750 | BR27: =IFERROR(ROUND(IF(ABS(K27-AVERAGE(W27,AI27))/AVERAGE(W27,AI27)>50%,AVERAGE(W27,AI27),IF(ABS(W27-AVERAGE(K27,AI27))/AVERAGE(K27,AI27)>50%,AVERAGE(K27,AI27),IF(ABS(AI27-AVERAGE(K27,W27))/AVERAGE(K27,W27)>50%,AVERAGE(K27,W27),AVERAGE(K27,W27,AI27)))),0),0) -> 183750 | BS27: =IFERROR(ROUND(IF(ABS(M27-AVERAGE(Y27,AK27))/AVERAGE(Y27,AK27)>50%,AVERAGE(Y27,AK27),IF(ABS(Y27-AVERAGE(M27,AK27))/AVERAGE(M27,AK27)>50%,AVERAGE(M27,AK27),IF(ABS(AK27-AVERAGE(M27,Y27))/AVERAGE(M27,Y27)>50%,AVERAGE(M27,Y27),AVERAGE(M27,Y27,AK27)))),0),0) -> 183750 | BT27: =IFERROR(ROUND(IF(ABS(O27-AVERAGE(AA27,AM27))/AVERAGE(AA27,AM27)>50%,AVERAGE(AA27,AM27),IF(ABS(AA27-AVERAGE(O27,AM27))/AVERAGE(O27,AM27)>50%,AVERAGE(O27,AM27),IF(ABS(AM27-AVERAGE(O27,AA27))/AVERAGE(O27,AA27)>50%,AVERAGE(O27,AA27),AVERAGE(O27,AA27,AM27)))),0),0) -> 183750 | BU27: =IFERROR(ROUND(IF(ABS(Q27-AVERAGE(AC27,AO27))/AVERAGE(AC27,AO27)>50%,AVERAGE(AC27,AO27),IF(ABS(AC27-AVERAGE(Q27,AO27))/AVERAGE(Q27,AO27)>50%,AVERAGE(Q27,AO27),IF(ABS(AO27-AVERAGE(Q27,AC27))/AVERAGE(Q27,AC27)>50%,AVERAGE(Q27,AC27),AVERAGE(Q27,AC27,AO27)))),0),0) -> 183750 | BV27: =SUM(BP27:BU27) -> 1102500
A28: 6 | B28: REPUESTOS | C28: ACEITE COMPRESOR | D28: =B28&"|"&C28 -> REPUESTOS|ACEITE COMPRESOR | E28: CUARTO | F28: 1 | G28: 23434.273 | H28: =G28*1.19 -> 27886.785 | I28: 23434.273 | J28: =I28*1.19 -> 27886.785 | K28: 67456 | L28: =K28*1.19 -> 80272.64 | M28: 18.28928 | N28: =M28*1.19 -> 21.764243 | O28: 14.144 | P28: =O28*1.19 -> 16.83136 | R28: =Q28*1.19 -> 0 | S28: 105000 | T28: =S28*1.19 -> 124950 | U28: 105000 | V28: =U28*1.19 -> 124950 | W28: 105000 | X28: =W28*1.19 -> 124950 | Y28: 105000 | Z28: =Y28*1.19 -> 124950 | AA28: 105000 | AB28: =AA28*1.19 -> 124950 | AC28: 105000 | AD28: =AC28*1.19 -> 124950 | AE28: 115500 | AF28: =AE28*1.19 -> 137445 | AG28: 115500 | AH28: =AG28*1.19 -> 137445 | AI28: 115500 | AJ28: =AI28*1.19 -> 137445 | AK28: 115500 | AL28: =AK28*1.19 -> 137445 | AM28: 115500 | AN28: =AM28*1.19 -> 137445 | AO28: 115500 | AP28: =AO28*1.19 -> 137445 | AQ28: =AVERAGE(G28,S28,AE28) -> 81311.424 | AR28: =AQ28*1.19 -> 96760.595 | AS28: =AVERAGE(I28,U28,AG28) -> 81311.424 | AT28: =AS28*1.19 -> 96760.595 | AU28: =AVERAGE(K28,W28,AI28) -> 95985.333 | AV28: =AU28*1.19 -> 114222.55 | AW28: =AVERAGE(M28,Y28,AK28) -> 73506.096 | AX28: =AW28*1.19 -> 87472.255 | AY28: =AVERAGE(O28,AA28,AM28) -> 73504.715 | AZ28: =AY28*1.19 -> 87470.61 | BA28: =AVERAGE(AC28,AO28) -> 110250 | BB28: =BA28*1.19 -> 131197.5 | BD28: =IFERROR(ROUND(HARMEAN(G28,S28,AE28),0),0) -> 49298 | BE28: =IFERROR(ROUND(HARMEAN(I28,U28,AG28),0),0) -> 49298 | BF28: =IFERROR(ROUND(HARMEAN(K28,W28,AI28),0),0) -> 90892 | BG28: =IFERROR(ROUND(HARMEAN(M28,Y28,AK28),0),0) -> 55 | BH28: =IFERROR(ROUND(HARMEAN(O28,AA28,AM28),0),0) -> 42 | BI28: =IFERROR(ROUND(HARMEAN(Q28,AC28,AO28),0),0) -> 110000 | BJ28: =IFERROR(ROUND(AVERAGE(G28,S28,AE28),0),0) -> 81311 | BK28: =IFERROR(ROUND(AVERAGE(I28,U28,AG28),0),0) -> 81311 | BL28: =IFERROR(ROUND(AVERAGE(K28,W28,AI28),0),0) -> 95985 | BM28: =IFERROR(ROUND(AVERAGE(M28,Y28,AK28),0),0) -> 73506 | BN28: =IFERROR(ROUND(AVERAGE(O28,AA28,AM28),0),0) -> 73505 | BO28: =IFERROR(ROUND(AVERAGE(Q28,AC28,AO28),0),0) -> 110250 | BP28: =IFERROR(ROUND(IF(ABS(G28-AVERAGE(S28,AE28))/AVERAGE(S28,AE28)>50%,AVERAGE(S28,AE28),IF(ABS(S28-AVERAGE(G28,AE28))/AVERAGE(G28,AE28)>50%,AVERAGE(G28,AE28),IF(ABS(AE28-AVERAGE(G28,S28))/AVERAGE(G28,S28)>50%,AVERAGE(G28,S28),AVERAGE(G28,S28,AE28)))),0),0) -> 110250 | BQ28: =IFERROR(ROUND(IF(ABS(I28-AVERAGE(U28,AG28))/AVERAGE(U28,AG28)>50%,AVERAGE(U28,AG28),IF(ABS(U28-AVERAGE(I28,AG28))/AVERAGE(I28,AG28)>50%,AVERAGE(I28,AG28),IF(ABS(AG28-AVERAGE(I28,U28))/AVERAGE(I28,U28)>50%,AVERAGE(I28,U28),AVERAGE(I28,U28,AG28)))),0),0) -> 110250 | BR28: =IFERROR(ROUND(IF(ABS(K28-AVERAGE(W28,AI28))/AVERAGE(W28,AI28)>50%,AVERAGE(W28,AI28),IF(ABS(W28-AVERAGE(K28,AI28))/AVERAGE(K28,AI28)>50%,AVERAGE(K28,AI28),IF(ABS(AI28-AVERAGE(K28,W28))/AVERAGE(K28,W28)>50%,AVERAGE(K28,W28),AVERAGE(K28,W28,AI28)))),0),0) -> 95985 | BS28: =IFERROR(ROUND(IF(ABS(M28-AVERAGE(Y28,AK28))/AVERAGE(Y28,AK28)>50%,AVERAGE(Y28,AK28),IF(ABS(Y28-AVERAGE(M28,AK28))/AVERAGE(M28,AK28)>50%,AVERAGE(M28,AK28),IF(ABS(AK28-AVERAGE(M28,Y28))/AVERAGE(M28,Y28)>50%,AVERAGE(M28,Y28),AVERAGE(M28,Y28,AK28)))),0),0) -> 110250 | BT28: =IFERROR(ROUND(IF(ABS(O28-AVERAGE(AA28,AM28))/AVERAGE(AA28,AM28)>50%,AVERAGE(AA28,AM28),IF(ABS(AA28-AVERAGE(O28,AM28))/AVERAGE(O28,AM28)>50%,AVERAGE(O28,AM28),IF(ABS(AM28-AVERAGE(O28,AA28))/AVERAGE(O28,AA28)>50%,AVERAGE(O28,AA28),AVERAGE(O28,AA28,AM28)))),0),0) -> 110250 | BU28: =IFERROR(ROUND(IF(ABS(Q28-AVERAGE(AC28,AO28))/AVERAGE(AC28,AO28)>50%,AVERAGE(AC28,AO28),IF(ABS(AC28-AVERAGE(Q28,AO28))/AVERAGE(Q28,AO28)>50%,AVERAGE(Q28,AO28),IF(ABS(AO28-AVERAGE(Q28,AC28))/AVERAGE(Q28,AC28)>50%,AVERAGE(Q28,AC28),AVERAGE(Q28,AC28,AO28)))),0),0) -> 110250 | BV28: =SUM(BP28:BU28) -> 647235
A29: 7 | B29: MANO DE OBRA | C29: ACEITE HIDRAULICO | D29: =B29&"|"&C29 -> MANO DE OBRA|ACEITE HIDRAULICO | E29: SERVICIO | F29: 1 | G29: 44800.3 | H29: =G29*1.19 -> 53312.357 | I29: 44800.3 | J29: =I29*1.19 -> 53312.357 | K29: 0.91392 | L29: =K29*1.19 -> 1.0875648 | M29: 22403.661 | N29: =M29*1.19 -> 26660.356 | O29: 11353.28 | P29: =O29*1.19 -> 13510.403 | R29: =Q29*1.19 -> 0 | S29: 44500 | T29: =S29*1.19 -> 52955 | U29: 44500 | V29: =U29*1.19 -> 52955 | W29: 44500 | X29: =W29*1.19 -> 52955 | Y29: 44500 | Z29: =Y29*1.19 -> 52955 | AA29: 44500 | AB29: =AA29*1.19 -> 52955 | AC29: 44500 | AD29: =AC29*1.19 -> 52955 | AE29: 49000 | AF29: =AE29*1.19 -> 58310 | AG29: 49000 | AH29: =AG29*1.19 -> 58310 | AI29: 49000 | AJ29: =AI29*1.19 -> 58310 | AK29: 49000 | AL29: =AK29*1.19 -> 58310 | AM29: 49000 | AN29: =AM29*1.19 -> 58310 | AO29: 49000 | AP29: =AO29*1.19 -> 58310 | AQ29: =AVERAGE(G29,S29,AE29) -> 46100.1 | AR29: =AQ29*1.19 -> 54859.119 | AS29: =AVERAGE(I29,U29,AG29) -> 46100.1 | AT29: =AS29*1.19 -> 54859.119 | AU29: =AVERAGE(K29,W29,AI29) -> 31166.971 | AV29: =AU29*1.19 -> 37088.696 | AW29: =AVERAGE(M29,Y29,AK29) -> 38634.554 | AX29: =AW29*1.19 -> 45975.119 | AY29: =AVERAGE(O29,AA29,AM29) -> 34951.093 | AZ29: =AY29*1.19 -> 41591.801 | BA29: =AVERAGE(AC29,AO29) -> 46750 | BB29: =BA29*1.19 -> 55632.5 | BD29: =IFERROR(ROUND(HARMEAN(G29,S29,AE29),0),0) -> 46011 | BE29: =IFERROR(ROUND(HARMEAN(I29,U29,AG29),0),0) -> 46011 | BF29: =IFERROR(ROUND(HARMEAN(K29,W29,AI29),0),0) -> 3 | BG29: =IFERROR(ROUND(HARMEAN(M29,Y29,AK29),0),0) -> 34280 | BH29: =IFERROR(ROUND(HARMEAN(O29,AA29,AM29),0),0) -> 22908 | BI29: =IFERROR(ROUND(HARMEAN(Q29,AC29,AO29),0),0) -> 46642 | BJ29: =IFERROR(ROUND(AVERAGE(G29,S29,AE29),0),0) -> 46100 | BK29: =IFERROR(ROUND(AVERAGE(I29,U29,AG29),0),0) -> 46100 | BL29: =IFERROR(ROUND(AVERAGE(K29,W29,AI29),0),0) -> 31167 | BM29: =IFERROR(ROUND(AVERAGE(M29,Y29,AK29),0),0) -> 38635 | BN29: =IFERROR(ROUND(AVERAGE(O29,AA29,AM29),0),0) -> 34951 | BO29: =IFERROR(ROUND(AVERAGE(Q29,AC29,AO29),0),0) -> 46750 | BP29: =IFERROR(ROUND(IF(ABS(G29-AVERAGE(S29,AE29))/AVERAGE(S29,AE29)>50%,AVERAGE(S29,AE29),IF(ABS(S29-AVERAGE(G29,AE29))/AVERAGE(G29,AE29)>50%,AVERAGE(G29,AE29),IF(ABS(AE29-AVERAGE(G29,S29))/AVERAGE(G29,S29)>50%,AVERAGE(G29,S29),AVERAGE(G29,S29,AE29)))),0),0) -> 46100 | BQ29: =IFERROR(ROUND(IF(ABS(I29-AVERAGE(U29,AG29))/AVERAGE(U29,AG29)>50%,AVERAGE(U29,AG29),IF(ABS(U29-AVERAGE(I29,AG29))/AVERAGE(I29,AG29)>50%,AVERAGE(I29,AG29),IF(ABS(AG29-AVERAGE(I29,U29))/AVERAGE(I29,U29)>50%,AVERAGE(I29,U29),AVERAGE(I29,U29,AG29)))),0),0) -> 46100 | BR29: =IFERROR(ROUND(IF(ABS(K29-AVERAGE(W29,AI29))/AVERAGE(W29,AI29)>50%,AVERAGE(W29,AI29),IF(ABS(W29-AVERAGE(K29,AI29))/AVERAGE(K29,AI29)>50%,AVERAGE(K29,AI29),IF(ABS(AI29-AVERAGE(K29,W29))/AVERAGE(K29,W29)>50%,AVERAGE(K29,W29),AVERAGE(K29,W29,AI29)))),0),0) -> 46750 | BS29: =IFERROR(ROUND(IF(ABS(M29-AVERAGE(Y29,AK29))/AVERAGE(Y29,AK29)>50%,AVERAGE(Y29,AK29),IF(ABS(Y29-AVERAGE(M29,AK29))/AVERAGE(M29,AK29)>50%,AVERAGE(M29,AK29),IF(ABS(AK29-AVERAGE(M29,Y29))/AVERAGE(M29,Y29)>50%,AVERAGE(M29,Y29),AVERAGE(M29,Y29,AK29)))),0),0) -> 46750 | BT29: =IFERROR(ROUND(IF(ABS(O29-AVERAGE(AA29,AM29))/AVERAGE(AA29,AM29)>50%,AVERAGE(AA29,AM29),IF(ABS(AA29-AVERAGE(O29,AM29))/AVERAGE(O29,AM29)>50%,AVERAGE(O29,AM29),IF(ABS(AM29-AVERAGE(O29,AA29))/AVERAGE(O29,AA29)>50%,AVERAGE(O29,AA29),AVERAGE(O29,AA29,AM29)))),0),0) -> 46750 | BU29: =IFERROR(ROUND(IF(ABS(Q29-AVERAGE(AC29,AO29))/AVERAGE(AC29,AO29)>50%,AVERAGE(AC29,AO29),IF(ABS(AC29-AVERAGE(Q29,AO29))/AVERAGE(Q29,AO29)>50%,AVERAGE(Q29,AO29),IF(ABS(AO29-AVERAGE(Q29,AC29))/AVERAGE(Q29,AC29)>50%,AVERAGE(Q29,AC29),AVERAGE(Q29,AC29,AO29)))),0),0) -> 46750 | BV29: =SUM(BP29:BU29) -> 279200
