Workbook
Name \0: #REF!
Name \0: #REF!
Name \0: #REF!
Name \00: #REF!
Name \1: #REF!
Name \a: #REF!
Name \a: #REF!
Name \a: #REF!
Name \AA: [1]LIQUIDACION!#REF!
Name \b: [2]STRSUMM0!#REF!
Name \b: [2]STRSUMM0!#REF!
Name \b: #REF!
Name \bb: [2]STRSUMM0!#REF!
Name \c: #REF!
Name \d: #REF!
Name \E: #REF!
Name \E: #REF!
Name \E: #REF!
Name \EE: #REF!
Name \eliminar: [3]RESUM96!#REF!
Name \eliminar1: [3]RESUM96!#REF!
Name \G: #REF!
Name \G: #REF!
Name \g: #REF!
Name \k: '[4]7422CW00'!#REF!
Name \l: [5]STRSUMM0!#REF!
Name \M: #REF!
Name \M: #REF!
Name \m: #REF!
Name \n: #REF!
Name \ñ: '[6]7422CW00'!#REF!
Name \P: #REF!
Name \P: #REF!
Name \p: #REF!
Name \q: #REF!
Name \R: #REF!
Name \R: #REF!
Name \R: #REF!
Name \s: #REF!
Name \V: #REF!
Name \w: #REF!
Name \X: 'PRESUPUESTO OFICIAL (Entidad)'!ERR
Name \X: 'PRESUPUESTO OFICIAL (Entidad)'!ERR
Name \X: #N/A
Name \Z: 'PRESUPUESTO OFICIAL (Entidad)'!ERR
Name \Z: 'PRESUPUESTO OFICIAL (Entidad)'!ERR
Name \Z: #N/A
Name _______________EST1: #REF!
Name _______________EST10: #REF!
Name _______________EST11: #REF!
Name _______________EST12: #REF!
Name _______________EST13: #REF!
Name _______________EST14: #REF!
Name _______________EST15: #REF!
Name _______________EST16: #REF!
Name _______________EST17: #REF!
Name _______________EST18: #REF!
Name _______________EST19: #REF!
Name _______________EST2: #REF!
Name _______________EST3: #REF!

Sheet PRESUPUESTO OFICIAL (Entidad)
B1: Formulario 1 - Propuesta económica - Documento tipo de selección abreviada de menor cuantía - versión 1
B2: Versión: 1 del 21 de agosto de 2025
C5: FORMULARIO 1
C6: PRESUPUESTO OFICIAL
C7: CONSTRUCCIÓN, ADECUACIÓN Y DOTACIÓN DE PLACAS POLIDEPORTIVAS Y PISTA RECREATIVA DE ATLETISMO PARA EL FORTALECIMIENTO DE LA INFRAESTRUCTURA RECREODEPORTIVA EN EL MUNICIPIO DE NEIVA, DEPARTAMENTO DEL HUILA.
C10: Nº | D10: ITEM DE PAGO | E10: ESPECIFICACIONES | G10: DESCRIPCION | H10: UND. | I10: CANTIDAD | J10: VALOR UNITARIO | K10: VALOR TOTAL
E11: GENERAL | F11: PARTICULAR
C12: 1 | G12: ACTIVIDADES PRELIMINARES
C13: 1.1 | G13: Localización y replanteo con equipo topográfico. | H13: M2 | I13: ='MEMORIA CANT'!$J$7 -> 3041.68 | J13: =APU!E27*(1+K64) -> 4788.2375 | K13: =ROUND(I13*J13,2) -> 14564286
C14: 1.2 | G14: Demolición manual de placa de concreto existente e = 0,10 m, incluye corte perimetral con disco diamantado, equipo de demolición, herramienta menor, mano de obra, fragmentación, cargue, transporte y disposición final del material sobrante en sitio autorizado. | H14: M2 | I14: ='MEMORIA CANT'!$J$15 -> 131.325 | J14: =APU!$E$53*(1+K64) -> 63365.037 | K14: =ROUND(I14*J14,2) -> 8321413.6
C15: 1.3 | G15: Demolición manual de murete en mampostería y desmonte de cerramiento en malla con postes y estructura metálica existente, incluye desarme, cortes requeridos, retiro de anclajes y elementos de fijación, equipo, herramienta menor, mano de obra, cargue, transporte y disposición final de materiales no aprovechables, traslado y acopio de elementos recuperables y resane de puntos afectados. | H15: ML | I15: ='MEMORIA CANT'!$J$22 -> 22 | J15: =APU!$E$84*(1+K64) -> 81431.55 | K15: =ROUND(I15*J15,2) -> 1791494.1
C16: 1.4 | G16: Desmonte de marco (portería) metálico existente de cancha de polideportivo, incluye retiro de elementos de fijación y anclajes, cortes requeridos, equipo, herramienta menor, mano de obra, cargue, traslado y acopio del elemento desmontado dentro de la obra y resane de los puntos afectados. | H16: UND | I16: ='MEMORIA CANT'!$J$29 -> 2 | J16: =APU!$E$114*(1+K64) -> 222135.55 | K16: =ROUND(I16*J16,2) -> 444271.1
C18: Subtotal | K18: =SUM(K13:K17) -> 25121465
C19: 2 | G19: MOVIMIENTOS DE TIERRAS
C20: 2.1 | G20: Excavación manual en material común sin clasificar, incluye mano de obra, herramienta menor, perfilado, cargue, transporte y disposición final del material sobrante en sitio autorizado. | H20: M3 | I20: ='MEMORIA CANT'!$J$40 -> 26.775901 | J20: =APU!$E$139*(1+K64) -> 75044.263 | K20: =ROUND(I20*J20,2) -> 2009377.7
C21: 2.2 | G21: Excavación mecánica en material común sin clasificar, incluye maquinaria, equipo, mano de obra, cargue, transporte y disposición final del material sobrante en sitio autorizado. | H21: M3 | I21: ='MEMORIA CANT'!$J$49 -> 372.49501 | J21: =APU!$E$165*(1+K64) -> 64429.287 | K21: =ROUND(I21*J21,2) -> 23999588
C22: 2.3 | G22: Suministro, transporte, extendido, nivelación, humectación y compactación de recebo seleccionado, compactado mecánicamente mínimo al 90 % de la densidad máxima obtenida mediante ensayo Proctor Modificado, incluye materiales, maquinaria, equipo, mano de obra y demás actividades necesarias para su correcta ejecución. | H22: M3 | I22: ='MEMORIA CANT'!$J$57 -> 248.33 | J22: =APU!$E$189*(1+K64) -> 162504.73 | K22: =ROUND(I22*J22,2) -> 40354798
C24: Subtotal | K24: =SUM(K20:K23) -> 66363764
C25: 3 | G25: CONCRETOS
C26: 3.1 | G26: Construcción de viga cinta en concreto f’c = 3.000 psi, sección 0,10 × 0,30 m, reforzada con dos (2) barras longitudinales Ø 3/8” (N.° 3) y refuerzo transversal Ø 1/4” (N.° 2) @ 0,20 m; incluye acero de refuerzo, vaciado, vibrado, curado y todo lo necesario para su ejecucion. | H26: ML | I26: ='MEMORIA CANT'!$J$65 -> 379.33 | J26: =APU!$E$220*(1+K64) -> 76960.137 | K26: =ROUND(I26*J26,2) -> 29193289
C27: 3.2 | G27: Suministro y aplicación de adhesivo epóxico EPOTOC 1-1 o equivalente para adherencia entre concreto nuevo y existente, sobre superficie de contacto de 0,10 m de ancho; incluye preparación de superficie y todo lo necesario para su ejecucion. | H27: ML | I27: ='MEMORIA CANT'!$J$73 -> 46.700001 | J27: =APU!$E$248*(1+K64) -> 13530.038 | K27: =ROUND(I27*J27,2) -> 631852.76
C28: 3.3 | G28: Rehabilitación de superficie de placa de concreto existente mediante desbaste mecánico superficial con pulidora y disco diamantado, retiro de material suelto o deteriorado, limpieza, resane de fisuras e imperfecciones con mortero de reparación y regularización de la superficie; incluye todo lo necesario para su ejecucion, dejándola uniforme y apta para recibir pintura de tráfico. | H28: M2 | I28: ='MEMORIA CANT'!$J$80 -> 526.30001 | J28: =APU!$E$281*(1+K64) -> 37408.225 | K28: =ROUND(I28*J28,2) -> 19687949
C29: 3.4 | G29: Construcción de gradería de dos (2) niveles, conformada por muretes en mampostería y placas en concreto reforzado f’c = 3.000 psi; incluye acero de refuerzo, mortero de pega, vaciado, vibrado, curado, acabados y todo lo necesario para su ejecucion. | H29: ML | I29: ='MEMORIA CANT'!$J$87 -> 40 | J29: =APU!$E$319*(1+K64) -> 535760.29 | K29: =ROUND(I29*J29,2) -> 21430412
C31: Subtotal | K31: =SUM(K26:K30) -> 70943503
C32: 4 | G32: PISOS Y ENCHAPES
C33: 4.1 | G33: Construcción de losa de piso para polideportivo en concreto f'c = 3.000 psi, e = 0,10 m, reforzada con malla electrosoldada M-188 (Ø6 mm, 15 × 15 cm); incluye, vaciado, vibrado, acabado, juntas, corte h = 3 cm, curado y todo lo necesario para su ejecucion. | H33: M2 | I33: ='MEMORIA CANT'!$J$97 -> 1292.895 | J33: =APU!$E$353*(1+K64) -> 153068.53 | K33: =ROUND(I33*J33,2) -> 1.9790153e+08
C35: Subtotal | K35: =SUM(K33:K34) -> 1.9790153e+08
C36: 5 | G36: DRENAJE, HIDRÁULICA, SANITARIA Y OBRAS COMPLEMENTARIAS
C37: 5.1 | G37: Suministro e instalación de tubería PVC para drenaje pluvial Ø8", incluye accesorios, uniones, nivelación y conexión a cajas. | H37: ML | I37: ='MEMORIA CANT'!$J$104 -> 25 | J37: =APU!$E$380*(1+K64) -> 100000 | K37: =ROUND(I37*J37,2) -> 2500000
C38: 5.2 | G38: Construcción de caja de captación e inspección de 0,60 × 0,60 m, h = 0,60 m, en concreto f'c = 3.000 psi, incluye cañuela, marco y tapa en concreto reforzado. | H38: Und | I38: ='MEMORIA CANT'!$J$111 -> 2 | J38: =APU!$E$415*(1+K64) -> 603354.91 | K38: =ROUND(I38*J38,2) -> 1206709.8
C39: 5.3 | G39: Construcción de cuneta perimetral en concreto f'c = 3.000 psi, sección útil 0,20 × 0,20 m, e = 0,08 m, incluye refuerzo y tapa en concreto con aberturas para captación. | H39: ML | I39: ='MEMORIA CANT'!$J$119 -> 180 | J39: =APU!$E$445*(1+K64) -> 139630.71 | K39: =ROUND(I39*J39,2) -> 25133528
C40: 5.4 | G40: Construcción de zanja de infiltración de 0,60 × 0,80 m, con geotextil no tejido, grava lavada de 1"–2" y tubería PVC perforada Ø8", incluye conexiones y restitución superficial. | H40: ML | I40: ='MEMORIA CANT'!$J$126 -> 20 | J40: =APU!$E$472*(1+K64) -> 218045.59 | K40: =ROUND(I40*J40,2) -> 4360911.8
C42: Subtotal | K42: =SUM(K37:K41) -> 33201150
C43: 6 | G43: CARPINTERÍA METÁLICA
C44: 6.1 | G44: Suministro e instalación de malla metálica de protección para contención de balones, en malla eslabonada cal. 12 de 2½”, estructura en tubería galvanizada HG Ø2” y h = 3,00 m; incluye cimentación, anclajes, fijaciones, equipos y todo lo necesario para su ejecucion. | H44: M2 | I44: ='MEMORIA CANT'!$J$133 -> 152 | J44: =APU!$E$502*(1+K64) -> 147889.54 | K44: =ROUND(I44*J44,2) -> 22479210
C46: Subtotal | K46: =SUM(K44:K45) -> 22479210
C47: 7 | G47: PINTURAS
C48: 7.1 | G48: Suministro y aplicación de pintura para tráfico pesado en superficie de cancha múltiple, dos (2) manos; incluye preparación y limpieza de superficie y todo lo necesario para su ejecucion. | H48: M2 | I48: ='MEMORIA CANT'!$J$142 -> 1786 | J48: =APU!$E$530*(1+K64) -> 28984.125 | K48: =ROUND(I48*J48,2) -> 51765647
C49: 7.2 | G49: Demarcación de líneas reglamentarias para fútbol sala, voleibol y baloncesto con pintura para tráfico pesado, dos (2) manos; incluye trazado, preparación de superficie y todo lo necesario para su ejecucion. | H49: M | I49: ='MEMORIA CANT'!$J$169 -> 1437.11 | J49: =APU!$E$558*(1+K64) -> 6875 | K49: =ROUND(I49*J49,2) -> 9880131.3
C51: Subtotal | K51: =SUM(K48:K50) -> 61645779
...

Sheet PROPUESTA ECONOMICA(Proponente)
B1: Formulario 1 - Propuesta económica - Documento tipo de selección abreviada de menor cuantía - versión 1
B2: Versión: 1 del 21 de agosto de 2025
C5: FORMULARIO 1
C6: PROPUESTA ECONOMICA
C7: [La entidad puede utilizar este formulario de presentación de propuesta económica de forma detallada, sin perjuicio que la entidad pueda modificarlo o establecer la presentación de la oferta económica con un formulario distinto al indicado.] [Los proponentes emplearán el formulario establecido por la entidad para determinar su propuesta económica conforme al Formulario 1 - Presupuesto Oficial publicado por la Entidad] [En caso de modificar el formulario, es importante tener en cuenta que no se deben incluir causales de rechazo, reglas o parámetros contrarios a los definidos en el documento base. Los términos del proceso solo se encuentran en el Documento Base, por lo que la Entidad no deberá incluir ningún tipo de notas que se configuren en reglas contrarias a las definidas en dicho documento, las notas únicamente pueden ser aclaratorias para efectos del diligenciamiento del formato]
C9: Cuando el proceso de contratación es estructurado por precios unitarios, la Entidad debe aplicar las notas 1, 2 y 3 del presente formato y las casillas de "Descripción", "Porcentaje" de la Administración, Imprevisto, Utilidad y total A.I.U. resaltadas en color amarillo.
C11: Nº | D11: ITEM DE PAGO | E11: ESPECIFICACIONES | G11: DESCRIPCION | H11: UND. | I11: CANTIDAD | J11: VALOR UNITARIO | K11: VALOR TOTAL
E12: GENERAL | F12: PARTICULAR
C15: Subtotal
C21: Subtotal
C31: Subtotal
C36: Subtotal
C39: Subtotal
C40: SUBTOTAL OBRAS
G45: SUBTOTAL OBRAS (INCLUYE IVA)
G49: VALOR TOTAL
C52: NOTA 1: Se debe tener en cuenta que el PRECIO UNITARIO incluye el valor de A.I.U. | H52: DESCRIPCION | K52: PORCENTAJE
C53: NOTA 2: Cuando la fracción decimal del peso sea igual o superior a 5 se aproximara por exceso al número entero siguiente del peso y cuando la fracción decimal del peso sea inferior a 5 se aproximará por defecto al número entero del peso. | H53: ADMINISTRACION | J53: A= | K53: [Ofrecimiento del Proponente]
C54: NOTA 3: El A.I.U y su discriminación deben estar en porcentaje (%). | H54: IMPREVISTO | J54: I= | K54: [Ofrecimiento del Proponente]
H55: UTILIDAD | J55: U= | K55: [Ofrecimiento del Proponente]
H56: TOTAL A.I.U | J56: A.I.U.= | K56: [Ofrecimiento del Proponente]
G59: Firma del Proponente o de su Representante Legal

Sheet PRESUPUESTO_PLACAS
B1: CONSTRUCCION DE PLACA POLIDEPORTIVA PARA EL DESARROLLO Y PRECTICA DE BALONCESTO EN LA CIUDAD DE NEIVA - HUILA | E1: LISTADO ITEMS Y PRECIOS POR ACTIVIDAD
E2: FOR-GI-05
A4: PRESUPÚESTO
A6: CONSTRUCCIÓN, ADECUACIÓN Y DOTACIÓN DE PLACAS POLIDEPORTIVAS Y PISTA RECREATIVA DE ATLETISMO PARA EL FORTALECIMIENTO DE LA INFRAESTRUCTURA RECREODEPORTIVA EN EL MUNICIPIO DE NEIVA, DEPARTAMENTO DEL HUILA.
A8: FECHA: | C8: 46204
A9: ÍTEM | B9: DESCRIPCIÓN | C9: UNIDAD | D9: CANTIDAD | E9: VR UNITARIO | F9: VR PARCIAL
A10: 1.0 | B10: ACTIVIDADES PRELIMINARES | F10: =SUM(F11:F14) -> 20097172 | G10: -2583.64
A11: 1.1 | B11: Localización y replanteo con equipo topográfico. | C11: M2 | D11: ='MEMORIA CANT'!$J$7 -> 3041.68 | E11: =APU!E27 -> 3830.59 | F11: =ROUND(D11*E11, 2) -> 11651429 | G11: 0 | J11: =+F11/$F$50 -> 0.023537275
A12: 1.2 | B12: Demolición manual de placa de concreto existente e = 0,10 m, incluye corte perimetral con disco diamantado, equipo de demolición, herramienta menor, mano de obra, fragmentación, cargue, transporte y disposición final del material sobrante en sitio autorizado. | C12: M2 | D12: ='MEMORIA CANT'!$J$15 -> 131.325 | E12: =APU!$E$53 -> 50692.03 | F12: =ROUND(D12*E12, 2) -> 6657130.9 | G12: 0 | J12: =+F12/$F$50 -> 0.013448198
A13: 1.3 | B13: Demolición manual de murete en mampostería y desmonte de cerramiento en malla con postes y estructura metálica existente, incluye desarme, cortes requeridos, retiro de anclajes y elementos de fijación, equipo, herramienta menor, mano de obra, cargue, transporte y disposición final de materiales no aprovechables, traslado y acopio de elementos recuperables y resane de puntos afectados. | C13: ML | D13: ='MEMORIA CANT'!$J$22 -> 22 | E13: =APU!$E$84 -> 65145.24 | F13: =ROUND(D13*E13, 2) -> 1433195.3 | G13: -2217.16 | J13: =+F13/$F$50 -> 0.0028952253
A14: 1.4 | B14: Desmonte de marco (portería) metálico existente de cancha de polideportivo, incluye retiro de elementos de fijación y anclajes, cortes requeridos, equipo, herramienta menor, mano de obra, cargue, traslado y acopio del elemento desmontado dentro de la obra y resane de los puntos afectados. | C14: UND | D14: ='MEMORIA CANT'!$J$29 -> 2 | E14: =APU!$E$114 -> 177708.44 | F14: =ROUND(D14*E14, 2) -> 355416.88 | G14: -366.48 | J14: =+F14/$F$50 -> 0.00071798445
G15: 0 | J15: =+F15/$F$50 -> 0
A16: 2 | B16: MOVIMIENTOS DE TIERRAS | F16: =SUM(F17:F19) -> 53091011 | G16: 0 | J16: =+F16/$F$50 -> 0.10725017
A17: 2.1 | B17: Excavación manual en material común sin clasificar, incluye mano de obra, herramienta menor, perfilado, cargue, transporte y disposición final del material sobrante en sitio autorizado. | C17: M3 | D17: ='MEMORIA CANT'!$J$40 -> 26.775901 | E17: =APU!$E$139 -> 60035.41 | F17: =ROUND(D17*E17, 2) -> 1607502.2 | G17: 0 | J17: =+F17/$F$50 -> 0.003247346
A18: 2.2 | B18: Excavación mecánica en material común sin clasificar, incluye maquinaria, equipo, mano de obra, cargue, transporte y disposición final del material sobrante en sitio autorizado. | C18: M3 | D18: ='MEMORIA CANT'!$J$49 -> 372.49501 | E18: =APU!$E$165 -> 51543.43 | F18: =ROUND(D18*E18, 2) -> 19199670 | G18: 0 | J18: =+F18/$F$50 -> 0.038785622
A19: 2.3 | B19: Suministro, transporte, extendido, nivelación, humectación y compactación de recebo seleccionado, compactado mecánicamente mínimo al 90 % de la densidad máxima obtenida mediante ensayo Proctor Modificado, incluye materiales, maquinaria, equipo, mano de obra y demás actividades necesarias para su correcta ejecución. | C19: M3 | D19: ='MEMORIA CANT'!$J$57 -> 248.33 | E19: =APU!$E$189 -> 130003.78 | F19: =ROUND(D19*E19, 2) -> 32283839 | G19: 0 | J19: =+F19/$F$50 -> 0.065217202
G20: 0 | J20: =+F20/$F$50 -> 0
A21: 3 | B21: CONCRETOS | F21: =SUM(F22:F25) -> 56754802 | G21: -1194638.4 | J21: =+F21/$F$50 -> 0.11465146
A22: 3.1 | B22: Construcción de viga cinta en concreto f’c = 3.000 psi, sección 0,10 × 0,30 m, reforzada con dos (2) barras longitudinales Ø 3/8” (N.° 3) y refuerzo transversal Ø 1/4” (N.° 2) @ 0,20 m; incluye acero de refuerzo, vaciado, vibrado, curado y todo lo necesario para su ejecucion. | C22: ML | D22: ='MEMORIA CANT'!$J$65 -> 379.33 | E22: =APU!$E$220 -> 61568.11 | F22: =ROUND(D22*E22, 2) -> 23354631 | G22: -723780.61 | J22: =+F22/$F$50 -> 0.047179138
A23: 3.2 | B23: Suministro y aplicación de adhesivo epóxico EPOTOC 1-1 o equivalente para adherencia entre concreto nuevo y existente, sobre superficie de contacto de 0,10 m de ancho; incluye preparación de superficie y todo lo necesario para su ejecucion. | C23: ML | D23: ='MEMORIA CANT'!$J$73 -> 46.700001 | E23: =APU!$E$248 -> 10824.03 | F23: =ROUND(D23*E23, 2) -> 505482.21 | G23: 0 | J23: =+F23/$F$50 -> 0.0010211343
A24: 3.3 | B24: Rehabilitación de superficie de placa de concreto existente mediante desbaste mecánico superficial con pulidora y disco diamantado, retiro de material suelto o deteriorado, limpieza, resane de fisuras e imperfecciones con mortero de reparación y regularización de la superficie; incluye todo lo necesario para su ejecucion, dejándola uniforme y apta para recibir pintura de tráfico. | C24: M2 | D24: ='MEMORIA CANT'!$J$80 -> 526.30001 | E24: =APU!$E$281 -> 29926.58 | F24: =ROUND(D24*E24, 2) -> 15750359 | G24: -38577.79 | J24: =+F24/$F$50 -> 0.031817603
A25: 3.4 | B25: Construcción de gradería de dos (2) niveles, conformada por muretes en mampostería y placas en concreto reforzado f’c = 3.000 psi; incluye acero de refuerzo, mortero de pega, vaciado, vibrado, curado, acabados y todo lo necesario para su ejecucion. | C25: ML | D25: ='MEMORIA CANT'!$J$87 -> 40 | E25: =APU!$E$319 -> 428608.23 | F25: =ROUND(D25*E25, 2) -> 17144329 | G25: -432280 | J25: =+F25/$F$50 -> 0.034633588
G26: 0 | J26: =+F26/$F$50 -> 0
A27: 4 | B27: PISOS Y ENCHAPES | F27: =SUM(F28:F28) -> 1.5832122e+08 | G27: -2101812.5 | J27: =+F27/$F$50 -> 0.31982774
A28: 4.1 | B28: Construcción de losa de piso para polideportivo en concreto f'c = 3.000 psi, e = 0,10 m, reforzada con malla electrosoldada M-188 (Ø6 mm, 15 × 15 cm); incluye, vaciado, vibrado, acabado, juntas, corte h = 3 cm, curado y todo lo necesario para su ejecucion. | C28: M2 | D28: ='MEMORIA CANT'!$J$97 -> 1292.895 | E28: =APU!$E$353 -> 122454.82 | F28: =ROUND(D28*E28, 2) -> 1.5832122e+08 | G28: -2101812.5 | J28: =+F28/$F$50 -> 0.31982774
G29: 0 | J29: =+F29/$F$50 -> 0
A30: 5 | B30: DRENAJE, HIDRÁULICA, SANITARIA Y OBRAS COMPLEMENTARIAS | F30: =SUM(F31:F34) -> 26560920 | G30: -607784.1 | J30: =+F30/$F$50 -> 0.053656224
A31: 5.1 | B31: Suministro e instalación de tubería PVC para drenaje pluvial Ø8", incluye accesorios, uniones, nivelación y conexión a cajas. | C31: ML | D31: ='MEMORIA CANT'!$J$104 -> 25 | E31: =APU!$E$380 -> 80000 | F31: =ROUND(D31*E31, 2) -> 2000000 | G31: 0 | J31: =+F31/$F$50 -> 0.0040402383
A32: 5.2 | B32: Construcción de caja de captación e inspección de 0,60 × 0,60 m, h = 0,60 m, en concreto f'c = 3.000 psi, incluye cañuela, marco y tapa en concreto reforzado. | C32: Und | D32: ='MEMORIA CANT'!$J$111 -> 2 | E32: =APU!$E$415 -> 482683.93 | F32: =ROUND(D32*E32, 2) -> 965367.86 | G32: -14631.9 | J32: =+F32/$F$50 -> 0.0019501581
A33: 5.3 | B33: Construcción de cuneta perimetral en concreto f'c = 3.000 psi, sección útil 0,20 × 0,20 m, e = 0,08 m, incluye refuerzo y tapa en concreto con aberturas para captación. | C33: ML | D33: ='MEMORIA CANT'!$J$119 -> 180 | E33: =APU!$E$445 -> 111704.57 | F33: =ROUND(D33*E33, 2) -> 20106823 | G33: -593152.2 | J33: =+F33/$F$50 -> 0.040618178
A34: 5.4 | B34: Construcción de zanja de infiltración de 0,60 × 0,80 m, con geotextil no tejido, grava lavada de 1"–2" y tubería PVC perforada Ø8", incluye conexiones y restitución superficial. | C34: ML | D34: ='MEMORIA CANT'!$J$126 -> 20 | E34: =APU!$E$472 -> 174436.47 | F34: =ROUND(D34*E34, 2) -> 3488729.4 | G34: 0 | J34: =+F34/$F$50 -> 0.0070476492
G35: 0 | J35: =+F35/$F$50 -> 0
A36: 6 | B36: CARPINTERÍA METÁLICA | F36: =SUM(F37:F37) -> 17983368 | G36: -43780.56 | J36: =+F36/$F$50 -> 0.036328546
A37: 6.1 | B37: Suministro e instalación de malla metálica de protección para contención de balones, en malla eslabonada cal. 12 de 2½”, estructura en tubería galvanizada HG Ø2” y h = 3,00 m; incluye cimentación, anclajes, fijaciones, equipos y todo lo necesario para su ejecucion. | C37: M2 | D37: ='MEMORIA CANT'!$J$133 -> 152 | E37: =APU!$E$502 -> 118311.63 | F37: =ROUND(D37*E37, 2) -> 17983368 | G37: -43780.56 | J37: =+F37/$F$50 -> 0.036328546
G38: 0 | J38: =+F38/$F$50 -> 0
A39: 7 | B39: PINTURAS | F39: =SUM(F40:F41) -> 49316623 | G39: 0 | J39: =+F39/$F$50 -> 0.099625455
A40: 7.1 | B40: Suministro y aplicación de pintura para tráfico pesado en superficie de cancha múltiple, dos (2) manos; incluye preparación y limpieza de superficie y todo lo necesario para su ejecucion. | C40: M2 | D40: ='MEMORIA CANT'!$J$142 -> 1786 | E40: =APU!$E$530 -> 23187.3 | F40: =ROUND(D40*E40, 2) -> 41412518 | G40: 0 | J40: =+F40/$F$50 -> 0.083658221
A41: 7.2 | B41: Demarcación de líneas reglamentarias para fútbol sala, voleibol y baloncesto con pintura para tráfico pesado, dos (2) manos; incluye trazado, preparación de superficie y todo lo necesario para su ejecucion. | C41: M | D41: ='MEMORIA CANT'!$J$169 -> 1437.11 | E41: =APU!$E$558 -> 5500 | F41: =ROUND(D41*E41, 2) -> 7904105 | G41: 0 | J41: =+F41/$F$50 -> 0.015967234
G42: 0 | J42: =+F42/$F$50 -> 0
A43: 8 | B43: VARIOS | F43: =SUM(F44:F44) -> 13891121 | G43: 3950598.9 | J43: =+F43/$F$50 -> 0.02806172
...

Sheet MEMORIA CANT
A1: MEMORIA DE CANTIDADES DE OBRA
A3: 1.1 Localización y replanteo con equipo topográfico. | I3: UNIDAD: M2
A4: OBSERVACIONES | B4: NIVEL | C4: EJE | D4: TRAMO | E4: TIPO | F4: LARGO | G4: ANCHO | H4: ALTO | I4: PIEZAS | J4: CANTIDAD
A5: Elementos a construir | F5: 77.199997 | G5: 39.400002 | I5: 1 | J5: =F5*G5*I5 -> 3041.68
I7: TOTAL = | J7: =SUM(J5:J5) -> 3041.68
A10: 1.2 Demolición manual de placa de concreto existente e = 0,10 m, incluye corte perimetral con disco diamantado, equipo de demolición, herramienta menor, mano de obra, fragmentación, cargue, transporte y disposición final del material sobrante en sitio autorizado. | I10: UNIDAD: M2
A11: OBSERVACIONES | B11: NIVEL | C11: EJE | D11: TRAMO | E11: TIPO | F11: LARGO | G11: ANCHO | H11: ALTO | I11: PIEZAS | J11: CANTIDAD
A12: Cancha existente parte superior | F12: 3.5 | G12: 19.450001 | I12: 1 | J12: =F12*G12*I12 -> 68.075003
A13: Cancha existente laterial | F13: 27.5 | G13: 2.3 | I13: 1 | J13: =F13*G13*I13 -> 63.249999
I15: TOTAL = | J15: =SUM(J12:J13) -> 131.325
A18: 1.3 Demolición manual de murete en mampostería y desmonte de cerramiento en malla con postes y estructura metálica existente, incluye desarme, cortes requeridos, retiro de anclajes y elementos de fijación, equipo, herramienta menor, mano de obra, cargue, transporte y disposición final de materiales no aprovechables, traslado y acopio de elementos recuperables y resane de puntos afectados. | I18: UNIDAD: ML
A19: OBSERVACIONES | B19: NIVEL | C19: EJE | D19: TRAMO | E19: TIPO | F19: LARGO | G19: ANCHO | H19: ALTO | I19: PIEZAS | J19: CANTIDAD
A20: Cancha existente parte inferior | F20: 22 | I20: 1 | J20: =F20*I20 -> 22
I22: TOTAL = | J22: =SUM(J20:J20) -> 22
A25: 1.4 Desmonte de marco (portería) metálico existente de cancha de polideportivo, incluye retiro de elementos de fijación y anclajes, cortes requeridos, equipo, herramienta menor, mano de obra, cargue, traslado y acopio del elemento desmontado dentro de la obra y resane de los puntos afectados. | I25: UNIDAD: UND
A26: OBSERVACIONES | B26: NIVEL | C26: EJE | D26: TRAMO | E26: TIPO | F26: LARGO | G26: ANCHO | H26: ALTO | I26: PIEZAS | J26: CANTIDAD
A27: Marcos de porteria existentes existentes | I27: 2 | J27: =I27 -> 2
I29: TOTAL = | J29: =SUM(J27:J27) -> 2
A32: 2.1 Excavación manual en material común sin clasificar, incluye mano de obra, herramienta menor, perfilado, cargue, transporte y disposición final del material sobrante en sitio autorizado. | I32: UNIDAD: M3
A33: OBSERVACIONES | B33: NIVEL | C33: EJE | D33: TRAMO | E33: TIPO | F33: LARGO | G33: ANCHO | H33: ALTO | I33: PIEZAS | J33: CANTIDAD
A34: Dados de anclaje malla eslabonada | F34: 0.25 | G34: 0.25 | H34: 0.30000001 | I34: 48 | J34: =F34*G34*H34*I34 -> 0.90000004
A35: viga cinta | F35: 379.32999 | G35: 0.1 | H35: 0.30000001 | I35: 1 | J35: =F35*G35*H35*I35 -> 11.3799
A36: Cuneta al interior de pista atletica | F36: 180 | G36: 0.2 | H36: 0.2 | I36: 1 | J36: =F36*G36*H36*I36 -> 7.2000002
A37: Tubería PVC Ø8" | F37: 25 | G37: 0.40000001 | H37: 0.60000002 | I37: 1 | J37: =F37*G37*H37*I37 -> 6.0000003
A38: cajas de inspeccion 0,60×0,60 m | F38: 0.89999998 | G38: 0.89999998 | H38: 0.80000001 | I38: 2 | J38: =F38*G38*H38*I38 -> 1.296
I40: TOTAL = | J40: =SUM(J34:J38) -> 26.775901
A43: 2.2 Excavación mecánica en material común sin clasificar, incluye maquinaria, equipo, mano de obra, cargue, transporte y disposición final del material sobrante en sitio autorizado. | I43: UNIDAD: M3
A44: OBSERVACIONES | B44: NIVEL | C44: EJE | D44: TRAMO | E44: TIPO | F44: LARGO | G44: ANCHO | H44: ALTO | I44: PIEZAS | J44: CANTIDAD
A45: Pista atletica | F45: 190 | G45: 3 | H45: 0.30000001 | I45: 1 | J45: =F45*G45*H45*I45 -> 171.00001
A46: Placa Cancha Nueva | F46: 32.049999 | G46: 19 | H46: 0.30000001 | I46: 1 | J46: =F46*G46*H46*I46 -> 182.685
A47: Adición Placa | F47: 3.3 | G47: 19 | H47: 0.30000001 | I47: 1 | J47: =F47*G47*H47*I47 -> 18.81
I49: TOTAL = | J49: =SUM(J45:J47) -> 372.49501
A51: 2.3 Suministro, transporte, extendido, nivelación, humectación y compactación de recebo seleccionado, compactado mecánicamente mínimo al 90 % de la densidad máxima obtenida mediante ensayo Proctor Modificado, incluye materiales, maquinaria, equipo, mano de obra y demás actividades necesarias para su correcta ejecución. | I51: UNIDAD: M3
A52: OBSERVACIONES | B52: NIVEL | C52: EJE | D52: TRAMO | E52: TIPO | F52: LARGO | G52: ANCHO | H52: ALTO | I52: PIEZAS | J52: CANTIDAD
A53: Pista atletica | F53: 190 | G53: 3 | H53: 0.2 | I53: 1 | J53: =F53*G53*H53*I53 -> 114
A54: Placa Cancha Nueva | F54: 32.049999 | G54: 19 | H54: 0.2 | I54: 1 | J54: =F54*G54*H54*I54 -> 121.79
A55: Adición Placa | F55: 3.3 | G55: 19 | H55: 0.2 | I55: 1 | J55: =F55*G55*H55*I55 -> 12.54
I57: TOTAL = | J57: =SUM(J53:J55) -> 248.33
A60: 3.1 Construcción de viga cinta en concreto f’c = 3.000 psi, sección 0,10 × 0,30 m, reforzada con dos (2) barras longitudinales Ø 3/8” (N.° 3) y refuerzo transversal Ø 1/4” (N.° 2) @ 0,20 m; incluye acero de refuerzo, vaciado, vibrado, curado y todo lo necesario para su ejecucion. | I60: UNIDAD: ML
A61: OBSERVACIONES | B61: NIVEL | C61: EJE | D61: TRAMO | E61: TIPO | F61: LARGO | G61: ANCHO | H61: ALTO | I61: PIEZAS | J61: CANTIDAD
...

Sheet APU
A1: ANÁLISIS DE PRECIOS UNITARIOS
A2: 1.1 Localización y replanteo con equipo topográfico. | E2: UNIDAD: M2
A4: MATERIALES:
A5: DESCRIPCIÓN | B5: UNIDAD | C5: CANTIDAD | D5: VR UNITARIO | E5: VR PARCIAL
A6: =INSUMOS!B59 -> LISTÓN 2" x 4" | B6: =INSUMOS!C59 -> m | C6: 0.03 | D6: =INSUMOS!D59 -> 10000 | E6: =ROUND(C6*D6, 2) -> 300
A7: =INSUMOS!B58 -> LISTÓN 1" x 2" | B7: =INSUMOS!C58 -> m | C7: 0.03 | D7: =INSUMOS!D58 -> 2500 | E7: =ROUND(C7*D7, 2) -> 75
A8: =INSUMOS!B80 -> PUNTILLA 1 1/2" a 3" | B8: =INSUMOS!C80 -> Lb | C8: 0.002 | D8: =INSUMOS!D80 -> 7000 | E8: =ROUND(C8*D8, 2) -> 14
A9: =INSUMOS!B43 -> DISOLVENTE | B9: =INSUMOS!C43 -> Gal | C9: 0.002 | D9: =INSUMOS!D43 -> 49713.53 | E9: =ROUND(C9*D9, 2) -> 99.43
A10: =INSUMOS!B74 -> PINTURA ESMALTE PINTULUX | B10: =INSUMOS!C74 -> Gal | C10: 0.002 | D10: =INSUMOS!D74 -> 79392.4 | E10: =ROUND(C10*D10, 2) -> 158.78
D11: Subtotal = | E11: =SUM(E5:E10) -> 647.21
A12: EQUIPO y HERRAMIENTAS:
A13: DESCRIPCIÓN | B13: UNIDAD | C13: RENDIMIENTO | D13: TARIFA | E13: VR PARCIAL
A14: =INSUMOS!B21 -> BROCHA 2" | B14: =INSUMOS!C21 -> Un | C14: 0.0001 | D14: =INSUMOS!D21 -> 8900 | E14: =ROUND(C14*D14, 2) -> 0.89
A15: =INSUMOS!B47 -> EQUIPO DE TOPOGRAFÍA | B15: =INSUMOS!C47 -> Día | C15: 0.005 | D15: =INSUMOS!D47 -> 154000.1 | E15: =ROUND(C15*D15, 2) -> 770
A16: HERRAMIENTAS PARA ALBAÑIL | B16: Un | C16: 0.0001 | D16: =APU_BASICOS!E42 -> 269258.3 | E16: =ROUND(C16*D16, 2) -> 26.93
D17: Subtotal = | E17: =SUM(E13:E16) -> 797.82
A18: TRANSPORTES:
A19: DESCRIPCIÓN | B19: UNIDAD | C19: CANTxDIST | D19: TARIFA | E19: VR PARCIAL
A20: =INSUMOS!B25 -> CAMIONETA | B20: =INSUMOS!C25 -> Hr | C20: 0.01 | D20: =INSUMOS!D25 -> 33707.13 | E20: =ROUND(C20*D20, 2) -> 337.07
D21: Subtotal = | E21: =SUM(E19:E20) -> 337.07
A22: MANO de OBRA:
A23: TRABAJADOR | B23: UNIDAD | C23: RENDIMIENTO | D23: JORNAL+PRESTAC | E23: VR PARCIAL
A24: COMISIÓN TOPOGRÁFICA | B24: Día | C24: 0.005 | D24: =APU_BASICOS!E320 -> 409698.85 | E24: =ROUND(C24*D24, 2) -> 2048.49
D25: Subtotal = | E25: =SUM(E23:E24) -> 2048.49
D27: VR COSTO DIRECTO = | E27: =ROUND(SUM(E4:E25)/2, 2) -> 3830.59
A30: MARIO ANDRES BAHAMON LOSADA
A31: INGENIERO CIVIL CONTRATISTA SDR
A33: 1.2 Demolición manual de placa de concreto existente e = 0,10 m, incluye corte perimetral con disco diamantado, equipo de demolición, herramienta menor, mano de obra, fragmentación, cargue, transporte y disposición final del material sobrante en sitio autorizado. | E33: UNIDAD: M2
A35: EQUIPO y HERRAMIENTAS:
A36: DESCRIPCIÓN | B36: UNIDAD | C36: RENDIMIENTO | D36: TARIFA | E36: VR PARCIAL
A37: =INSUMOS!B78 -> PROTECTOR AUDITIVO TIPO COPA | B37: =INSUMOS!C78 -> Un | C37: 0.0022 | D37: =INSUMOS!D78 -> 50000 | E37: =ROUND(C37*D37, 2) -> 110
A38: =INSUMOS!B101 -> DISCO DIAMANTADO SEGMENTADO 4 1/2 PULGADAS REF DW47452HP | B38: =INSUMOS!C101 -> Un | C38: 0.0125 | D38: =INSUMOS!D101 -> 28900 | E38: =ROUND(C38*D38, 2) -> 361.25
A39: =INSUMOS!B39 -> COMPRESOR HIDRÁULICO 1 MARTILLO | B39: =INSUMOS!C39 -> Hr | C39: 0.3595 | D39: =INSUMOS!D39 -> 100323.93 | E39: =ROUND(C39*D39, 2) -> 36066.45
A40: =INSUMOS!B19 -> BARRA AGRÍCOLA | B40: =INSUMOS!C19 -> Un | C40: 0.0011 | D40: =INSUMOS!D19 -> 86374.7 | E40: =ROUND(C40*D40, 2) -> 95.01
A41: =INSUMOS!B8 -> ALMADANA 18 lb | B41: =INSUMOS!C8 -> Un | C41: 0.0011 | D41: =INSUMOS!D8 -> 112713.1 | E41: =ROUND(C41*D41, 2) -> 123.98
A42: =INSUMOS!B79 -> PULIDORA MANUAL ELÉCTRICA | B42: =INSUMOS!C79 -> Un | C42: 0.005 | D42: =INSUMOS!D79 -> 808968.95 | E42: =ROUND(C42*D42, 2) -> 4044.84
D43: Subtotal = | E43: =SUM(E36:E42) -> 40801.53
A44: TRANSPORTE:
A45: =INSUMOS!B98 -> VOLQUETA 7 m3 | B45: =INSUMOS!C98 -> Hr | C45: 0.04 | D45: =INSUMOS!D98 -> 78366.38 | E45: =ROUND(C45*D45, 2) -> 3134.66
A46: =INSUMOS!B93 -> TARIFA ESCOMBRERA AUTORIZADA | B46: =INSUMOS!C93 -> m3 | C46: 0.13 | D46: =INSUMOS!D93 -> 25000 | E46: =ROUND(C46*D46, 2) -> 3250
...

Sheet APU_BASICOS
A1: ANÁLISIS DE PRECIOS UNITARIOS - SUBPRODUCTOS
A3: CARRETA BUGGIE, PALA, BALDES | E3: UNIDAD: Un
A5: EQUIPO y HERRAMIENTAS:
A6: DESCRIPCIÓN | B6: UNIDAD | C6: RENDIMIENTO | D6: TARIFA | E6: VR PARCIAL
A7: =INSUMOS!B29 -> CARRETA BUGGIE | B7: =INSUMOS!C29 -> Un | C7: 1 | D7: =INSUMOS!D29 -> 176958.05 | E7: =ROUND(C7*D7, 2) -> 176958.05
A8: =INSUMOS!B70 -> PALA REDONDA CON CABO | B8: =INSUMOS!C70 -> Un | C8: 1 | D8: =INSUMOS!D70 -> 34127.38 | E8: =ROUND(C8*D8, 2) -> 34127.38
A9: =INSUMOS!B17 -> BALDE CONSTRUCCIÓN | B9: =INSUMOS!C17 -> Un | C9: 2 | D9: =INSUMOS!D17 -> 4847.23 | E9: =ROUND(C9*D9, 2) -> 9694.46
D10: Subtotal = | E10: =SUM(E6:E9) -> 220779.89
D12: VR UNITARIO = | E12: =ROUND(SUM(E5:E10)/2, 2) -> 220779.89
A14: CARRETA BUGGIE, PALA, ZAPAPICO | E14: UNIDAD: Un
A16: EQUIPO y HERRAMIENTAS:
A17: DESCRIPCIÓN | B17: UNIDAD | C17: RENDIMIENTO | D17: TARIFA | E17: VR PARCIAL
A18: =INSUMOS!B29 -> CARRETA BUGGIE | B18: =INSUMOS!C29 -> Un | C18: 1 | D18: =INSUMOS!D29 -> 176958.05 | E18: =ROUND(C18*D18, 2) -> 176958.05
A19: =INSUMOS!B70 -> PALA REDONDA CON CABO | B19: =INSUMOS!C70 -> Un | C19: 1 | D19: =INSUMOS!D70 -> 34127.38 | E19: =ROUND(C19*D19, 2) -> 34127.38
A20: =INSUMOS!B100 -> ZAPAPICO | B20: =INSUMOS!C100 -> Un | C20: 1 | D20: =INSUMOS!D100 -> 70640.95 | E20: =ROUND(C20*D20, 2) -> 70640.95
D21: Subtotal = | E21: =SUM(E17:E20) -> 281726.38
D23: VR UNITARIO = | E23: =ROUND(SUM(E16:E21)/2, 2) -> 281726.38
A25: HERRAMIENTAS PARA ALBAÑIL | E25: UNIDAD: Un
A27: EQUIPO y HERRAMIENTAS:
A28: DESCRIPCIÓN | B28: UNIDAD | C28: RENDIMIENTO | D28: TARIFA | E28: VR PARCIAL
A29: =INSUMOS!B9 -> ALMADANA 4 lb | B29: =INSUMOS!C9 -> Un | C29: 1 | D29: =INSUMOS!D9 -> 47176.65 | E29: =ROUND(C29*D29, 2) -> 47176.65
A30: =INSUMOS!B34 -> CINCEL 3/4" ACERO TEMPLADO | B30: =INSUMOS!C34 -> Un | C30: 1 | D30: =INSUMOS!D34 -> 26544.43 | E30: =ROUND(C30*D30, 2) -> 26544.43
A31: =INSUMOS!B71 -> PALUSTRE | B31: =INSUMOS!C71 -> Un | C31: 1 | D31: =INSUMOS!D71 -> 11376.48 | E31: =ROUND(C31*D31, 2) -> 11376.48
A32: =INSUMOS!B37 -> CINTA MÉTRICA x 5 m | B32: =INSUMOS!C37 -> Un | C32: 1 | D32: =INSUMOS!D37 -> 17358.38 | E32: =ROUND(C32*D32, 2) -> 17358.38
A33: =INSUMOS!B68 -> NIVEL DE BURBUJA | B33: =INSUMOS!C68 -> Un | C33: 1 | D33: =INSUMOS!D68 -> 40206.65 | E33: =ROUND(C33*D33, 2) -> 40206.65
A34: =INSUMOS!B64 -> MANGUERA DE NIVEL x 10 m | B34: =INSUMOS!C64 -> Un | C34: 1 | D34: =INSUMOS!D64 -> 4473.1 | E34: =ROUND(C34*D34, 2) -> 4473.1
A35: =INSUMOS!B77 -> PLOMADA | B35: =INSUMOS!C77 -> Un | C35: 1 | D35: =INSUMOS!D77 -> 16427.68 | E35: =ROUND(C35*D35, 2) -> 16427.68
A36: =INSUMOS!B66 -> MARCO SEGUETA FIJO | B36: =INSUMOS!C66 -> Un | C36: 1 | D36: =INSUMOS!D66 -> 18507.4 | E36: =ROUND(C36*D36, 2) -> 18507.4
A37: =INSUMOS!B86 -> SERRUCHO | B37: =INSUMOS!C86 -> Un | C37: 1 | D37: =INSUMOS!D86 -> 34001.3 | E37: =ROUND(C37*D37, 2) -> 34001.3
A38: =INSUMOS!B67 -> MARTILLO | B38: =INSUMOS!C67 -> Un | C38: 1 | D38: =INSUMOS!D67 -> 32862.53 | E38: =ROUND(C38*D38, 2) -> 32862.53
A39: =INSUMOS!B57 -> LIMA PLANA PARA USO GENERAL CON MANGO 8" | B39: =INSUMOS!C57 -> Un | C39: 1 | D39: =INSUMOS!D57 -> 20323.7 | E39: =ROUND(C39*D39, 2) -> 20323.7
D40: Subtotal = | E40: =SUM(E28:E39) -> 269258.3
D42: VR UNITARIO = | E42: =ROUND(SUM(E27:E40)/2, 2) -> 269258.3
A44: MARIO ANDRES BAHAMON LOSADA
A45: INGENIERO CIVIL CONTRATISTA SDR
A47: HERRAMIENTAS PARA HERRERO | E47: UNIDAD: Un
A49: EQUIPO y HERRAMIENTAS:
A50: DESCRIPCIÓN | B50: UNIDAD | C50: RENDIMIENTO | D50: TARIFA | E50: VR PARCIAL
A51: =INSUMOS!B37 -> CINTA MÉTRICA x 5 m | B51: =INSUMOS!C37 -> Un | C51: 1 | D51: =INSUMOS!D37 -> 17358.38 | E51: =ROUND(C51*D51, 2) -> 17358.38
A52: =INSUMOS!B66 -> MARCO SEGUETA FIJO | B52: =INSUMOS!C66 -> Un | C52: 1 | D52: =INSUMOS!D66 -> 18507.4 | E52: =ROUND(C52*D52, 2) -> 18507.4
...

Sheet A.I.U (25%)
A1: CONSTRUCCION COMPLEJO DEPORTIVO EN EL MUNICIPIO DE NEIVA - HUILA | C1: CALCULO AIU | E1: DEPARTAMENTO DEL HUILA MUNICIPIO DE NEIVA
A8: Duración estimada de la obra en meses | E8: 2
A9: Valor estimado para la obra | E9: =+PRESUPUESTO_PLACAS!F46 -> 3.9601624e+08
A10: AIU asumido para el cálculo | E10: 0.25
A11: Valor AIU | E11: =E9*E10 -> 99004060
A12: Valor total estimado para elproyecto | E12: =E9+E11 -> 4.950203e+08
B14: COSTOS DE ADMINISTRACION DE OBRA
B16: DESCRIPCION | C16: UN | D16: CANTIDAD | E16: % DE PARTICIPACIÓN | F16: VR. UNITARIO | G16: FACTOR PRESTACIONAL | H16: VALOR UNITARIO TOTAL
A18: 1 | B18: STAFF DE PERSONAL + prestaciones sociales
A19: 1.1 | B19: Director de obra | C19: mes | D19: 2 | E19: 0.5 | F19: 5500000 | G19: 1.61 | H19: =D19*E19*F19*G19 -> 8855000
A20: 1.2 | B20: Residente de obra | C20: mes | D20: 2 | E20: 1 | F20: 3000000 | G20: =G19 -> 1.61 | H20: =D20*E20*F20*G20 -> 9660000
A21: 1.3 | B21: Profesional SISO | C21: mes | D21: 2 | E21: 1 | F21: 2500000 | G21: =G20 -> 1.61 | H21: =D21*E21*F21*G21 -> 8050000
B22: TOTAL PERSONAL + prestaciones sociales | H22: =SUM(H19:H21) -> 26565000
A24: 2 | B24: COSTOS ADMINISTRATIVOS Y OPERATIVOS
A25: 2.1 | B25: Papelería, registro fotográfico / videos / informes | C25: mes | D25: 2 | E25: 1 | F25: 588225.15 | H25: =+D25*E25*F25 -> 1176450.3
A26: 2.2 | B26: Ploteada planos, copia planos y fotocopias en obra | C26: un | D26: 1 | E26: 1 | F26: 500000 | H26: =+D26*E26*F26 -> 500000
A27: 2.3 | B27: Valla Informativa del proyecto (3,00 x5,00mts) banner con ojaletes con estructural metalica de soporte | C27: un | D27: 1 | E27: 1 | F27: 2500000 | H27: =+D27*E27*F27 -> 2500000
A28: 2.5 | B28: Suministro y consumo e servicios publicos durante la ejecución del proyecto | C28: un | D28: 2 | E28: 1 | F28: 300000 | H28: =+D28*E28*F28 -> 600000
B29: TOTAL COSTOS ADMINISTRATIVOS Y OPERATIVOS | H29: =SUM(H25:H28) -> 4776450.3
A31: 3 | B31: COSTOS DE LEGALIZACION DEL CONTRATO
A32: 3.1 | B32: Pólizas (cumplimiento, amparo de salarios y prestaciones sociales, responsabilidad civil extracontractual, estabilidad de obra) | C32: un | D32: 1 | E32: 0.05085817 | F32: =E9 -> 3.9601624e+08 | H32: =+E32*F32 -> 20140661
B33: TOTAL COSTOS DE LEGALIZACION DEL CONTRATO: | H33: =+H32 -> 20140661
A35: 4 | B35: COSTOS DE IMPUESTOS O CARGA IMPOSITIVA
A36: 4.1 | B36: Estampilla pro cultura | C36: un | D36: 1 | E36: 0.005 | F36: =ROUND(E36*$E$9,0) -> 1980081 | H36: =F36 -> 1980081
A37: 4.2 | B37: Estampilla pro bienestar Social del adulto mayor | C37: un | D37: 1 | E37: 0.02 | F37: =ROUND(E37*$E$9,0) -> 7920325 | H37: =F37 -> 7920325
A38: 4.3 | B38: Estampilla pro Usco | C38: un | D38: 1 | E38: 0.01 | F38: =ROUND(E38*$E$9,0) -> 3960162 | H38: =F38 -> 3960162
A39: 4.3 | B39: Estampilla industria y comercio | C39: un | D39: 1 | E39: 0.005 | F39: =ROUND(E39*$E$9,0) -> 1980081 | H39: =F39 -> 1980081
A40: 4.4 | B40: Tasa Prodeporte | C40: un | D40: 1 | E40: 0.02 | F40: =ROUND(E40*$E$9,0) -> 7920325 | H40: =F40 -> 7920325
B41: TOTAL COSTOS DE IMPUESTOS: | H41: =SUM(H36:H40) -> 23760974
B43: ADMINISTRACION | G43: 0.19 | H43: =H41+H33+H29+H22 -> 75243086
B45: IMPREVISTOS | G45: 0.01 | H45: =E9*G45 -> 3960162.4
B47: UTILIDAD | G47: 0.05 | H47: =E9*G47 -> 19800812
B49: TOTAL AIU | G49: =SUM(G43:G48) -> 0.25 | H49: =SUM(H43:H48) -> 99004060
B53: MARIO ANDRES BAHAMON LOSADA
B54: INGENIERO CIVIL CONTRATISTA SDR

Sheet INSUMOS
A1: MATERIALES, EQUIPO y HERRAMIENTAS, JORNALES
B2: DESCRIPCIÓN | C2: UNIDAD | D2: PRECIO UNITARIO
B3: ACERO Fy= 420 MPa | C3: Kg | D3: 5900
B4: AGUA | C4: Lt | D4: 100
B5: ALAMBRE GALVANIZADO Cal. 12 | C5: Kg | D5: 12000
B6: ALAMBRE NEGRO #18 | C6: Kg | D6: 7583.98
B7: ALARGADOR RODILLO PINTURA | C7: Un | D7: 52692.18
B8: ALMADANA 18 lb | C8: Un | D8: 112713.1
B9: ALMADANA 4 lb | C9: Un | D9: 47176.65
B10: AMARRADOR DE VARILLA | C10: Un | D10: 14911.7
B11: ÁNGULO DE 3/16" x 1 1/2" | C11: m | D11: 16667.53
B12: ANTISOL BLANCO (Curador para concreto y mortero base agua) | C12: Kg | D12: 12045
B13: ARENA | C13: m3 | D13: 68000
B14: AUXILIO DE TRANSPORTE | C14: Mes | D14: 249095
... B115: PERNOS/ANCLAJES METÁLICOS | C115: Gl | D115: 120000
B119: MARIO ANDRES BAHAMON LOSADA
B120: INGENIERO CIVIL CONTRATISTA SDR

Sheet BIEN RELEVANTE
B1: CONSTRUCCION DE PLACA POLIDEPORTIVA PARA EL DESARROLLO Y PRECTICA DE BALONCESTO EN LA CIUDAD DE NEIVA - HUILA | E1: LISTADO ITEMS Y PRECIOS POR ACTIVIDAD
E2: FOR-GI-05
A4: PRESUPÚESTO
A6: CONSTRUCCIÓN, ADECUACIÓN Y DOTACIÓN DE PLACAS POLIDEPORTIVAS Y PISTA RECREATIVA DE ATLETISMO PARA EL FORTALECIMIENTO DE LA INFRAESTRUCTURA RECREODEPORTIVA EN EL MUNICIPIO DE NEIVA, DEPARTAMENTO DEL HUILA.
A8: FECHA: | C8: 46204
A9: ÍTEM | B9: DESCRIPCIÓN | C9: UNIDAD | D9: CANTIDAD | E9: VR UNITARIO | F9: VR PARCIAL
A10: 1.0 | B10: ACTIVIDADES PRELIMINARES | F10: =SUM(F11:F14) -> 20097172 | G10: -2583.64
A11: 1.1 | B11: Localización y replanteo con equipo topográfico. | C11: M2 | D11: ='MEMORIA CANT'!$J$7 -> 3041.68 | E11: =APU!E27 -> 3830.59 | F11: =ROUND(D11*E11, 2) -> 11651429 | G11: 0 | J11: =+F11/$F$50 -> 0.023537275
A12: 1.2 | B12: Demolición manual de placa de concreto existente e = 0,10 m, incluye corte perimetral con disco diamantado, equipo de demolición, herramienta menor, mano de obra, fragmentación, cargue, transporte y disposición final del material sobrante en sitio autorizado. | C12: M2 | D12: ='MEMORIA CANT'!$J$15 -> 131.325 | E12: =APU!$E$53 -> 50692.03 | F12: =ROUND(D12*E12, 2) -> 6657130.9 | G12: 0 | J12: =+F12/$F$50 -> 0.013448198
A13: 1.3 | B13: Demolición manual de murete en mampostería y desmonte de cerramiento en malla con postes y estructura metálica existente, incluye desarme, cortes requeridos, retiro de anclajes y elementos de fijación, equipo, herramienta menor, mano de obra, cargue, transporte y disposición final de materiales no aprovechables, traslado y acopio de elementos recuperables y resane de puntos afectados. | C13: ML | D13: ='MEMORIA CANT'!$J$22 -> 22 | E13: =APU!$E$84 -> 65145.24 | F13: =ROUND(D13*E13, 2) -> 1433195.3 | G13: -2217.16 | J13: =+F13/$F$50 -> 0.0028952253
A14: 1.4 | B14: Desmonte de marco (portería) metálico existente de cancha de polideportivo, incluye retiro de elementos de fijación y anclajes, cortes requeridos, equipo, herramienta menor, mano de obra, cargue, traslado y acopio del elemento desmontado dentro de la obra y resane de los puntos afectados. | C14: UND | D14: ='MEMORIA CANT'!$J$29 -> 2 | E14: =APU!$E$114 -> 177708.44 | F14: =ROUND(D14*E14, 2) -> 355416.88 | G14: -366.48 | J14: =+F14/$F$50 -> 0.00071798445
G15: 0 | J15: =+F15/$F$50 -> 0
A16: 2 | B16: MOVIMIENTOS DE TIERRAS | F16: =SUM(F17:F19) -> 53091011 | G16: 0 | J16: =+F16/$F$50 -> 0.10725017
A17: 2.1 | B17: Excavación manual en material común sin clasificar, incluye mano de obra, herramienta menor, perfilado, cargue, transporte y disposición final del material sobrante en sitio autorizado. | C17: M3 | D17: ='MEMORIA CANT'!$J$40 -> 26.775901 | E17: =APU!$E$139 -> 60035.41 | F17: =ROUND(D17*E17, 2) -> 1607502.2 | G17: 0 | J17: =+F17/$F$50 -> 0.003247346
A18: 2.2 | B18: Excavación mecánica en material común sin clasificar, incluye maquinaria, equipo, mano de obra, cargue, transporte y disposición final del material sobrante en sitio autorizado. | C18: M3 | D18: ='MEMORIA CANT'!$J$49 -> 372.49501 | E18: =APU!$E$165 -> 51543.43 | F18: =ROUND(D18*E18, 2) -> 19199670 | G18: 0 | J18: =+F18/$F$50 -> 0.038785622
A19: 2.3 | B19: Suministro, transporte, extendido, nivelación, humectación y compactación de recebo seleccionado, compactado mecánicamente mínimo al 90 % de la densidad máxima obtenida mediante ensayo Proctor Modificado, incluye materiales, maquinaria, equipo, mano de obra y demás actividades necesarias para su correcta ejecución. | C19: M3 | D19: ='MEMORIA CANT'!$J$57 -> 248.33 | E19: =APU!$E$189 -> 130003.78 | F19: =ROUND(D19*E19, 2) -> 32283839 | G19: 0 | J19: =+F19/$F$50 -> 0.065217202
G20: 0 | J20: =+F20/$F$50 -> 0
A21: 3 | B21: CONCRETOS | F21: =SUM(F22:F25) -> 56754802 | G21: -1194638.4 | J21: =+F21/$F$50 -> 0.11465146
A22: 3.1 | B22: Construcción de viga cinta en concreto f’c = 3.000 psi, sección 0,10 × 0,30 m, reforzada con dos (2) barras longitudinales Ø 3/8” (N.° 3) y refuerzo transversal Ø 1/4” (N.° 2) @ 0,20 m; incluye acero de refuerzo, vaciado, vibrado, curado y todo lo necesario para su ejecucion. | C22: ML | D22: ='MEMORIA CANT'!$J$65 -> 379.33 | E22: =APU!$E$220 -> 61568.11 | F22: =ROUND(D22*E22, 2) -> 23354631 | G22: -723780.61 | J22: =+F22/$F$50 -> 0.047179138
A23: 3.2 | B23: Suministro y aplicación de adhesivo epóxico EPOTOC 1-1 o equivalente para adherencia entre concreto nuevo y existente, sobre superficie de contacto de 0,10 m de ancho; incluye preparación de superficie y todo lo necesario para su ejecucion. | C23: ML | D23: ='MEMORIA CANT'!$J$73 -> 46.700001 | E23: =APU!$E$248 -> 10824.03 | F23: =ROUND(D23*E23, 2) -> 505482.21 | G23: 0 | J23: =+F23/$F$50 -> 0.0010211343
A24: 3.3 | B24: Rehabilitación de superficie de placa de concreto existente mediante desbaste mecánico superficial con pulidora y disco diamantado, retiro de material suelto o deteriorado, limpieza, resane de fisuras e imperfecciones con mortero de reparación y regularización de la superficie; incluye todo lo necesario para su ejecucion, dejándola uniforme y apta para recibir pintura de tráfico. | C24: M2 | D24: ='MEMORIA CANT'!$J$80 -> 526.30001 | E24: =APU!$E$281 -> 29926.58 | F24: =ROUND(D24*E24, 2) -> 15750359 | G24: -38577.79 | J24: =+F24/$F$50 -> 0.031817603
A25: 3.4 | B25: Construcción de gradería de dos (2) niveles, conformada por muretes en mampostería y placas en concreto reforzado f’c = 3.000 psi; incluye acero de refuerzo, mortero de pega, vaciado, vibrado, curado, acabados y todo lo necesario para su ejecucion. | C25: ML | D25: ='MEMORIA CANT'!$J$87 -> 40 | E25: =APU!$E$319 -> 428608.23 | F25: =ROUND(D25*E25, 2) -> 17144329 | G25: -432280 | J25: =+F25/$F$50 -> 0.034633588
G26: 0 | J26: =+F26/$F$50 -> 0
A27: 4 | B27: PISOS Y ENCHAPES | F27: =SUM(F28:F28) -> 1.5832122e+08 | G27: -2101812.5 | J27: =+F27/$F$50 -> 0.31982774
A28: 4.1 | B28: Construcción de losa de piso para polideportivo en concreto f'c = 3.000 psi, e = 0,10 m, reforzada con malla electrosoldada M-188 (Ø6 mm, 15 × 15 cm); incluye, vaciado, vibrado, acabado, juntas, corte h = 3 cm, curado y todo lo necesario para su ejecucion. | C28: M2 | D28: ='MEMORIA CANT'!$J$97 -> 1292.895 | E28: =APU!$E$353 -> 122454.82 | F28: =ROUND(D28*E28, 2) -> 1.5832122e+08 | G28: -2101812.5 | J28: =+F28/$F$50 -> 0.31982774
G29: 0 | J29: =+F29/$F$50 -> 0
A30: 5 | B30: DRENAJE, HIDRÁULICA, SANITARIA Y OBRAS COMPLEMENTARIAS | F30: =SUM(F31:F34) -> 26560920 | G30: -607784.1 | J30: =+F30/$F$50 -> 0.053656224
A31: 5.1 | B31: Suministro e instalación de tubería PVC para drenaje pluvial Ø8", incluye accesorios, uniones, nivelación y conexión a cajas. | C31: ML | D31: ='MEMORIA CANT'!$J$104 -> 25 | E31: =APU!$E$380 -> 80000 | F31: =ROUND(D31*E31, 2) -> 2000000 | G31: 0 | J31: =+F31/$F$50 -> 0.0040402383
A32: 5.2 | B32: Construcción de caja de captación e inspección de 0,60 × 0,60 m, h = 0,60 m, en concreto f'c = 3.000 psi, incluye cañuela, marco y tapa en concreto reforzado. | C32: Und | D32: ='MEMORIA CANT'!$J$111 -> 2 | E32: =APU!$E$415 -> 482683.93 | F32: =ROUND(D32*E32, 2) -> 965367.86 | G32: -14631.9 | J32: =+F32/$F$50 -> 0.0019501581
A33: 5.3 | B33: Construcción de cuneta perimetral en concreto f'c = 3.000 psi, sección útil 0,20 × 0,20 m, e = 0,08 m, incluye refuerzo y tapa en concreto con aberturas para captación. | C33: ML | D33: ='MEMORIA CANT'!$J$119 -> 180 | E33: =APU!$E$445 -> 111704.57 | F33: =ROUND(D33*E33, 2) -> 20106823 | G33: -593152.2 | J33: =+F33/$F$50 -> 0.040618178
A34: 5.4 | B34: Construcción de zanja de infiltración de 0,60 × 0,80 m, con geotextil no tejido, grava lavada de 1"–2" y tubería PVC perforada Ø8", incluye conexiones y restitución superficial. | C34: ML | D34: ='MEMORIA CANT'!$J$126 -> 20 | E34: =APU!$E$472 -> 174436.47 | F34: =ROUND(D34*E34, 2) -> 3488729.4 | G34: 0 | J34: =+F34/$F$50 -> 0.0070476492
G35: 0 | J35: =+F35/$F$50 -> 0
A36: 6 | B36: CARPINTERÍA METÁLICA | F36: =SUM(F37:F37) -> 17983368 | G36: -43780.56 | J36: =+F36/$F$50 -> 0.036328546
A37: 6.1 | B37: Suministro e instalación de malla metálica de protección para contención de balones, en malla eslabonada cal. 12 de 2½”, estructura en tubería galvanizada HG Ø2” y h = 3,00 m; incluye cimentación, anclajes, fijaciones, equipos y todo lo necesario para su ejecucion. | C37: M2 | D37: ='MEMORIA CANT'!$J$133 -> 152 | E37: =APU!$E$502 -> 118311.63 | F37: =ROUND(D37*E37, 2) -> 17983368 | G37: -43780.56 | J37: =+F37/$F$50 -> 0.036328546
G38: 0 | J38: =+F38/$F$50 -> 0
A39: 7 | B39: PINTURAS | F39: =SUM(F40:F41) -> 49316623 | G39: 0 | J39: =+F39/$F$50 -> 0.099625455
A40: 7.1 | B40: Suministro y aplicación de pintura para tráfico pesado en superficie de cancha múltiple, dos (2) manos; incluye preparación y limpieza de superficie y todo lo necesario para su ejecucion. | C40: M2 | D40: ='MEMORIA CANT'!$J$142 -> 1786 | E40: =APU!$E$530 -> 23187.3 | F40: =ROUND(D40*E40, 2) -> 41412518 | G40: 0 | J40: =+F40/$F$50 -> 0.083658221
A41: 7.2 | B41: Demarcación de líneas reglamentarias para fútbol sala, voleibol y baloncesto con pintura para tráfico pesado, dos (2) manos; incluye trazado, preparación de superficie y todo lo necesario para su ejecucion. | C41: M | D41: ='MEMORIA CANT'!$J$169 -> 1437.11 | E41: =APU!$E$558 -> 5500 | F41: =ROUND(D41*E41, 2) -> 7904105 | G41: 0 | J41: =+F41/$F$50 -> 0.015967234
G42: 0 | J42: =+F42/$F$50 -> 0
A43: 8 | B43: VARIOS | F43: =SUM(F44:F44) -> 13891121 | G43: 3950598.9 | J43: =+F43/$F$50 -> 0.02806172
...
