Workbook
Name ______EST1: #REF!
Name ______EST1: #REF!
Name ______EST1: #REF!
Name ______EST1: #REF!
Name ______EST1: #REF!
Name ______EST1: #REF!
Name ______EST10: #REF!
Name ______EST10: #REF!
Name ______EST10: #REF!
Name ______EST10: #REF!
Name ______EST10: #REF!
Name ______EST10: #REF!
Name ______EST11: #REF!
Name ______EST11: #REF!
Name ______EST12: #REF!
Name ______EST13: #REF!
Name ______EST14: #REF!
Name ______EST15: #REF!
Name ______EST16: #REF!
Name ______EST17: #REF!
Name ______EST18: #REF!
Name ______EST19: #REF!
Name ______EST2: #REF!
Name ______EST3: #REF!
Name ______EST4: #REF!
Name ______EST5: #REF!
Name ______EST6: #REF!
Name ______EST7: #REF!
Name ______EST8: #REF!
Name ______EST9: #REF!
Name ______EXC1: #REF!
Name ______EXC10: #REF!
Name ______EXC11: #REF!
Name ______EXC12: #REF!
Name ______EXC2: #REF!
Name ______EXC3: #REF!
Name ______EXC4: #REF!
Name ______EXC5: #REF!
Name ______EXC6: #REF!
Name ______EXC7: #REF!
Name ______EXC8: #REF!
Name ______EXC9: #REF!
Name _____aiu2: [1]AIU!$J$105
Name _____aiu2: [1]AIU!$J$105
Name _____aiu2: [1]AIU!$J$105
Name _____aiu2: [3]AIU!$J$105
Name _____EST1: #REF!
Name _____EST1: #REF!
Name _____EST1: #REF!
Name _____EST1: #REF!
Name _____EST1: #REF!
Name _____EST1: #REF!
Name _____EST10: #REF!
Name _____EST10: #REF!
Name _____EST10: #REF!
Name _____EST10: #REF!
Name _____EST10: #REF!
Name _____EST10: #REF!
Name _____EST11: #REF!
Name _____EST11: #REF!

Sheet PRESUPUESTO OFICIAL
A1: PRESUPUESTO OFICIAL
A2: =+'ESTUDIO DE MERCADO'!A2:I2 -> OBJETO: Prestar servicios para el fortalecimiento de las competencias laborales de los servidores públicos de la Corporación Autónoma Regional de Cundinamarca – CAR, en cumplimiento del Plan institucional de capacitación vigencia 2026.
A3: ÍTEM | B3: DESCRIPCIÓN | C3: UNIDAD DE MEDIDA | D3: CANTIDAD ESTIMADA (A) | E3: VALOR UNITARIO (B) | F3: VALOR TOTAL (A*B)
A4: =+'ANEXO ESPECIF TÉCNICAS'!A4 -> 1 | B4: Diplomado en eficiencia en la gestión pública con inteligencia artificial y aplicativos tecnológicos. Intensidad horaria de 80 horas. | C4: Diplomado por persona | D4: =+'JUSTIFICACION DE CANTIDADES'!D4 -> 40 | E4: =+'ESTUDIO DE MERCADO'!I7 -> 2187729 | F4: =ROUND(D4*E4,0) -> 87509160
A5: 2 | B5: Diplomado en Derecho Minero Ambiental. Intensidad horaria de 80 horas. | C5: Diplomado por persona | D5: =+'JUSTIFICACION DE CANTIDADES'!D5 -> 35 | E5: =+'ESTUDIO DE MERCADO'!I8 -> 2089595 | F5: =ROUND(D5*E5,0) -> 73135825
A6: 3 | B6: Diplomado en Derecho probatorio judicial y administrativo. Intensidad horaria de 80 horas. | C6: Diplomado por persona | D6: =+'JUSTIFICACION DE CANTIDADES'!D6 -> 35 | E6: =+'ESTUDIO DE MERCADO'!I9 -> 2077095 | F6: =ROUND(D6*E6,0) -> 72698325
A7: 4 | B7: Diplomado en Cartografía participativa y cartografía social en la planificación del territorio. Intensidad horaria de 80 horas. | C7: Diplomado por persona | D7: =+'JUSTIFICACION DE CANTIDADES'!D7 -> 35 | E7: =+'ESTUDIO DE MERCADO'!I10 -> 2307356 | F7: =ROUND(D7*E7,0) -> 80757460
A8: 5 | B8: Diplomado en Modelación hidrológica e hidráulica. Intensidad horaria de 80 horas. | C8: Diplomado por persona | D8: =+'JUSTIFICACION DE CANTIDADES'!D8 -> 30 | E8: =+'ESTUDIO DE MERCADO'!I11 -> 2375927 | F8: =ROUND(D8*E8,0) -> 71277810
A9: 6 | B9: Diplomado en Veedurías ciudadanas y prevención de la corrupción. Intensidad horaria de 80 horas. | C9: Diplomado por persona | D9: =+'JUSTIFICACION DE CANTIDADES'!D9 -> 30 | E9: =+'ESTUDIO DE MERCADO'!I12 -> 2200412 | F9: =ROUND(D9*E9,0) -> 66012360
A10: 7 | B10: Diplomado en Carrera Administrativa: análisis normativo y perspectiva sindical. Intensidad horaria de 80 horas. | C10: Diplomado por persona | D10: =+'JUSTIFICACION DE CANTIDADES'!D10 -> 30 | E10: =+'ESTUDIO DE MERCADO'!I13 -> 2200412 | F10: =ROUND(D10*E10,0) -> 66012360
A11: 8 | B11: Curso especializado en ISO 20400 - Compras Sostenibles. Intesidad horaria de 80 horas. | C11: Diplomado por persona | D11: =+'JUSTIFICACION DE CANTIDADES'!D11 -> 25 | E11: =+'ESTUDIO DE MERCADO'!I14 -> 2255127 | F11: =ROUND(D11*E11,0) -> 56378175
A12: 9 | B12: Curso especializado ISO/IEC 17025:2017 – Calidad en laboratorios. Intesidad horaria de 80 horas. | C12: Diplomado por persona | D12: =+'JUSTIFICACION DE CANTIDADES'!D12 -> 25 | E12: =+'ESTUDIO DE MERCADO'!I15 -> 2289127 | F12: =ROUND(D12*E12,0) -> 57228175 | H12: CDP | I12: 633912773
A13: TOTAL PRESUPUESTO OFICIAL | F13: =SUM(F4:F12) -> 631009650 | H13: PRESUPUESTO | I13: =+F13 -> 631009650
H14: DIFERENCIA | I14: =+I12-I13 -> 2903123
A15: ___________________________________________________
A16: OLGA LILIANA RAMIREZ MANCERA
A17: Directora Talento Humano
A19: Revisó: Rafael Ruiz Enciso– Contratista DTH

Sheet PTO VALOR UNITARIO
A1: PRESUPUESTO VALOR UNITARIO
A2: =+'ESTUDIO DE MERCADO'!A2:I2 -> OBJETO: Prestar servicios para el fortalecimiento de las competencias laborales de los servidores públicos de la Corporación Autónoma Regional de Cundinamarca – CAR, en cumplimiento del Plan institucional de capacitación vigencia 2026.
A3: ÍTEM | B3: DESCRIPCIÓN | C3: UNIDAD DE MEDIDA | D3: CANTIDAD (A) | E3: VALOR UNITARIO (B) | F3: VALOR TOTAL (A*B)
A4: =+'ANEXO ESPECIF TÉCNICAS'!A4 -> 1 | B4: Diplomado en eficiencia en la gestión pública con inteligencia artificial y aplicativos tecnológicos. Intensidad horaria de 80 horas. | C4: Diplomado por persona | D4: 1 | E4: =+'ESTUDIO DE MERCADO'!I7 -> 2187729 | F4: =ROUND(D4*E4,0) -> 2187729
A5: 2 | B5: Diplomado en Derecho Minero Ambiental. Intensidad horaria de 80 horas. | C5: Diplomado por persona | D5: 1 | E5: =+'ESTUDIO DE MERCADO'!I8 -> 2089595 | F5: =ROUND(D5*E5,0) -> 2089595
A6: 3 | B6: Diplomado en Derecho probatorio judicial y administrativo. Intensidad horaria de 80 horas. | C6: Diplomado por persona | D6: 1 | E6: =+'ESTUDIO DE MERCADO'!I9 -> 2077095 | F6: =ROUND(D6*E6,0) -> 2077095
A7: 4 | B7: Diplomado en Cartografía participativa y cartografía social en la planificación del territorio. Intensidad horaria de 80 horas. | C7: Diplomado por persona | D7: 1 | E7: =+'ESTUDIO DE MERCADO'!I10 -> 2307356 | F7: =ROUND(D7*E7,0) -> 2307356
A8: 5 | B8: Diplomado en Modelación hidrológica e hidráulica. Intensidad horaria de 80 horas. | C8: Diplomado por persona | D8: 1 | E8: =+'ESTUDIO DE MERCADO'!I11 -> 2375927 | F8: =ROUND(D8*E8,0) -> 2375927
A9: 6 | B9: Diplomado en Veedurías ciudadanas y prevención de la corrupción. Intensidad horaria de 80 horas. | C9: Diplomado por persona | D9: 1 | E9: =+'ESTUDIO DE MERCADO'!I12 -> 2200412 | F9: =ROUND(D9*E9,0) -> 2200412
A10: 7 | B10: Diplomado en Carrera Administrativa: análisis normativo y perspectiva sindical. Intensidad horaria de 80 horas. | C10: Diplomado por persona | D10: 1 | E10: =+'ESTUDIO DE MERCADO'!I13 -> 2200412 | F10: =ROUND(D10*E10,0) -> 2200412
A11: 8 | B11: Curso especializado en ISO 20400 - Compras Sostenibles. Intesidad horaria de 80 horas. | C11: Diplomado por persona | D11: 1 | E11: =+'ESTUDIO DE MERCADO'!I14 -> 2255127 | F11: =ROUND(D11*E11,0) -> 2255127
A12: 9 | B12: Curso especializado ISO/IEC 17025:2017 – Calidad en laboratorios. Intesidad horaria de 80 horas. | C12: Diplomado por persona | D12: 1 | E12: =+'ESTUDIO DE MERCADO'!I15 -> 2289127 | F12: =ROUND(D12*E12,0) -> 2289127
A13: TOTAL PRESUPUESTO A VALOR UNITARIO | F13: =SUM(F4:F12) -> 19982780
A15: ___________________________________________________
A16: OLGA LILIANA RAMIREZ MANCERA
A17: Directora Talento Humano
A19: Revisó: Rafael Ruiz Enciso– Contratista DTH

Sheet ANEXO PROPUESTA ECONOMICA
A1: ANEXO N°8
A2: PROPUESTA ECONÓMICA A VALOR UNITARIO
A3: ÍTEM | B3: DESCRIPCIÓN | C3: UNIDAD DE MEDIDA | D3: CANTIDAD (A) | E3: VALOR UNITARIO (B) | F3: VALOR TOTAL (A*B)
A4: =+'ANEXO ESPECIF TÉCNICAS'!A4 -> 1 | B4: Diplomado en eficiencia en la gestión pública con inteligencia artificial y aplicativos tecnológicos. Intensidad horaria de 80 horas. | C4: Diplomado por persona | D4: 1 | E4: =+'ESTUDIO DE MERCADO'!I7 -> 2187729 | F4: =ROUND(D4*E4,0) -> 2187729
A5: 2 | B5: Diplomado en Derecho Minero Ambiental. Intensidad horaria de 80 horas. | C5: Diplomado por persona | D5: 1 | E5: =+'ESTUDIO DE MERCADO'!I8 -> 2089595 | F5: =ROUND(D5*E5,0) -> 2089595
A6: 3 | B6: Diplomado en Derecho probatorio judicial y administrativo. Intensidad horaria de 80 horas. | C6: Diplomado por persona | D6: 1 | E6: =+'ESTUDIO DE MERCADO'!I9 -> 2077095 | F6: =ROUND(D6*E6,0) -> 2077095
A7: 4 | B7: Diplomado en Cartografía participativa y cartografía social en la planificación del territorio. Intensidad horaria de 80 horas. | C7: Diplomado por persona | D7: 1 | E7: =+'ESTUDIO DE MERCADO'!I10 -> 2307356 | F7: =ROUND(D7*E7,0) -> 2307356
A8: 5 | B8: Diplomado en Modelación hidrológica e hidráulica. Intensidad horaria de 80 horas. | C8: Diplomado por persona | D8: 1 | E8: =+'ESTUDIO DE MERCADO'!I11 -> 2375927 | F8: =ROUND(D8*E8,0) -> 2375927
A9: 6 | B9: Diplomado en Veedurías ciudadanas y prevención de la corrupción. Intensidad horaria de 80 horas. | C9: Diplomado por persona | D9: 1 | E9: =+'ESTUDIO DE MERCADO'!I12 -> 2200412 | F9: =ROUND(D9*E9,0) -> 2200412
A10: 7 | B10: Diplomado en Carrera Administrativa: análisis normativo y perspectiva sindical. Intensidad horaria de 80 horas. | C10: Diplomado por persona | D10: 1 | E10: =+'ESTUDIO DE MERCADO'!I13 -> 2200412 | F10: =ROUND(D10*E10,0) -> 2200412
A11: 8 | B11: Curso especializado en ISO 20400 - Compras Sostenibles. Intesidad horaria de 80 horas. | C11: Diplomado por persona | D11: 1 | E11: =+'ESTUDIO DE MERCADO'!I14 -> 2255127 | F11: =ROUND(D11*E11,0) -> 2255127
A12: 9 | B12: Curso especializado ISO/IEC 17025:2017 – Calidad en laboratorios. Intesidad horaria de 80 horas. | C12: Diplomado por persona | D12: 1 | E12: =+'ESTUDIO DE MERCADO'!I15 -> 2289127 | F12: =ROUND(D12*E12,0) -> 2289127
A13: TOTAL PROPUESTA ECONOMICA A VALOR UNITARIO | F13: =SUM(F4:F12) -> 19982780
A14: Nota 1: Articulo 476 numeral 5 del estatuto tributario "Están excluidos del impuesto sobre las ventas (IVA)...Los servicios de educación prestados por establecimientos de educación preescolar, primaria, media e intermedia, superior y especial o no formal, reconocidos como tales por el Gobierno nacional, y los servicios de educación prestados por personas naturales a dichos establecimientos. Están excluidos igualmente los servicios prestados por los establecimientos de educación relativos a restaurantes, cafeterías y transporte, así como los que se presten en desarrollo de las Leyes 30 de 1992 y 115 de 1994, o las disposiciones que las modifiquen o sustituyan. Igualmente están excluidos los servicios de evaluación de la educación y de elaboración y aplicación de exámenes para la selección y promoción de personal, prestados por organismos o entidades de la administración pública"
A15: Nota 2: Las capacitaciones, entrenamientos y las certificación del presente proceso contractual, se establece por el número de personas que requiera la Entidad, sin aplicar la condición de un mínimo de participantes para ejecutar la actividad por parte del proveedor. Por lo tanto, el criterio "CANTIDAD" corresponde al número de personas a capacitar, entrenar o certificar y no a la cantidad de actividades o sesiones de capacitación ejecutadas.
A16: Nota 3: Para determinar el valor de la oferta económica, el proponente debera tener en consideracion el Anexo de Especificaciones Técnicas.
A17: Nota 4: La propuesta económica deberá contener todos y cada uno de los ítems requeridos, con sus condiciones técnicas, valores unitarios y valores totales; adicional a ello, la propuesta economica, NO podrá exceder el valor total del presupuesto oficial a valor unitario, ni los valores unitarios promedio establecidos para cada uno de los ítems, para lo cual deberá tener en consideración el estudio realizado por la entidad en el documento denominado Anexo ESTUDIO DE MERCADO Y/O ANALISIS COMPARATIVO DE PRECIOS, que es publicado para su conocimiento. Sopena de causal de rechazo.
A18: Nota 5: La prestación del servicio comprender el diseño, ejecución y evaluación de las formaciones presenciales, virtuales o mixtas a la medida de las necesidades de la entidad para la vigencia 2026, realizado por una Institución de Educación Superior que cuente con la autorización del Ministerio de Educación, para ofrecer programas de educación superior, registro calificado; de acuerdo a las especificaciones técnicas establecidas por la Entidad
A19: Nota 6: La propuesta económica deberá presentarse en PDF debidamente firmada por el Proponente o Representante legal, adicionalmente debe presentar la propuesta económica en formato Excel con valores redondeados y sin decimales
A26: NOMBRE Y FIRMA DEL PROPONENTE O REPRESENTANTE LEGAL:
A28: FECHA DE DILIGENCIAMIENTO:

Sheet JUSTIFICACION DE CANTIDADES
A1: ANEXO JUSTIFICACION DE CANTIDADES
A2: =+'ESTUDIO DE MERCADO'!A2:I2 -> OBJETO: Prestar servicios para el fortalecimiento de las competencias laborales de los servidores públicos de la Corporación Autónoma Regional de Cundinamarca – CAR, en cumplimiento del Plan institucional de capacitación vigencia 2026.
A3: ITEM | B3: DESCRIPCION | C3: UNIDAD | D3: CANTIDAD | E3: JUSTIFICACIÓN DE CANTIDADES
A4: 1 | B4: Diplomado en eficiencia en la gestión pública con inteligencia artificial y aplicativos tecnológicos. Intensidad horaria de 80 horas. | C4: Diplomado por persona | D4: 40 | E4: Se define esta cantidad teniendo en cuenta el número de dependencias que solicitaron esa temática en la encuesta de necesidades y la demanda de inscripción de diplomados ofrecidos en años anteriores.
A5: 2 | B5: Diplomado en Derecho Minero Ambiental. Intensidad horaria de 80 horas. | C5: Diplomado por persona | D5: 35 | E5: Se define esta cantidad teniendo en cuenta el número de dependencias que solicitaron esa temática en la encuesta de necesidades y la demanda de inscripción de diplomados ofrecidos en años anteriores.
A6: 3 | B6: Diplomado en Derecho probatorio judicial y administrativo. Intensidad horaria de 80 horas. | C6: Diplomado por persona | D6: 35 | E6: Se define esta cantidad teniendo en cuenta el número de dependencias que solicitaron esa temática en la encuesta de necesidades y la demanda de inscripción de diplomados ofrecidos en años anteriores.
A7: 4 | B7: Diplomado en Cartografía participativa y cartografía social en la planificación del territorio. Intensidad horaria de 80 horas. | C7: Diplomado por persona | D7: 35 | E7: Se define esta cantidad teniendo en cuenta el número de dependencias que solicitaron esa temática en la encuesta de necesidades y la demanda de inscripción de diplomados ofrecidos en años anteriores.
A8: 5 | B8: Diplomado en Modelación hidrológica e hidráulica. Intensidad horaria de 80 horas. | C8: Diplomado por persona | D8: 30 | E8: Se define esta cantidad teniendo en cuenta el número de dependencias que solicitaron esa temática en la encuesta de necesidades y la demanda de inscripción de diplomados ofrecidos en años anteriores.
A9: 6 | B9: Diplomado en Veedurías ciudadanas y prevención de la corrupción. Intensidad horaria de 80 horas. | C9: Diplomado por persona | D9: 30 | E9: Se define esta cantidad teniendo en cuenta la demanda de inscripción de diplomados ofrecidos en años anteriores en temáticas sindicales
A10: 7 | B10: Diplomado en Carrera Administrativa: análisis normativo y perspectiva sindical. Intensidad horaria de 80 horas. | C10: Diplomado por persona | D10: 30 | E10: Se define esta cantidad teniendo en cuenta la demanda de inscripción de diplomados ofrecidos en años anteriores en temáticas sindicales
A11: 8 | B11: Curso especializado en ISO 20400 - Compras Sostenibles. Intesidad horaria de 80 horas. | C11: Diplomado por persona | D11: 25 | E11: Se define esta cantidad teniendo en cuenta el número de dependencias que solicitaron esa temática en la encuesta de necesidades
A12: 9 | B12: Curso especializado ISO/IEC 17025:2017 – Calidad en laboratorios. Intesidad horaria de 80 horas. | C12: Diplomado por persona | D12: 25 | E12: Se define esta cantidad teniendo en cuenta el número de dependencias que solicitaron esa temática en la encuesta de necesidades
A14: ___________________________________________________
A15: OLGA LILIANA RAMIREZ MANCERA
A16: Directora Talento Humano
A18: Revisó: Rafael Ruiz Enciso – Contratista DTH

Sheet ANEXO ESPECIF TÉCNICAS
A1: CORPORACIÓN AUTÓNOMA REGIONAL DE CUNDINAMARCA ANEXO ESPECIFICACIONES TÉCNICAS
A2: Prestación de servicios de capacitación, entrenamiento y certificación para realizar trabajos en alturas y en espacios confinados, de conformidad con las normas vigentes aplicables al Sistema de Gestión de Seguridad y Salud en el Trabajo.
A3: ÍTEM | B3: ELEMENTO | C3: ESPECIFICACIÓN TÉCNICA DETALLADA | D3: UNIDAD | E3: CANTIDAD ESTIMADA
A4: 1 | B4: Capacitación y entrenamiento para trabajo en alturas – Trabajador autorizado | C4: Se impartirá de forma presencial la capacitación y entrenamiento para trabajo en alturas, con entrenadores de trabajo en alturas debidamente certificados, conforme a lo establecido en los artículos 11, 29 y Capítulo II del Título III de la Resolución 4272 de 2021. El programa de capacitación y entrenamiento debe tener un mínimo de treinta y dos (32) horas de intensidad, sesenta por ciento (60%) del tiempo en actividades de entrenamiento práctico y cuarenta por ciento (40%) restante para actividades de capacitación teórica. Incluira como mínimo los siguientes temas: a) Naturaleza de peligros y metodología de identificación y valoración de riesgos en trabajo en alturas para su control. Factores de riesgo conexos a los trabajos en alturas acorde al sector económico. b) Requisitos legales en protección contra caídas para trabajo en alturas, de acuerdo a la actividad económica. c) Desarrollo y fomento del autocuidado de las personas. d) Medidas de prevención y protección contra caídas en trabajo desarrollado en alturas. e) Planeación del trabajo en altura, permisos de trabajo y listas de chequeo. f) Procedimientos para seleccionar, manipular y almacenar equipos y materiales utilizados para protección contra caídas. g) Técnicas de trabajo en alturas aplicables en los diferentes sectores económicos. h) Limitantes y posibles restricciones en el uso del sistemas o equipos de protección contra caídas. i) Efectos en el organismo de la detención de una caída y la suspensión posterior. j) Uso seguro de sistemas de acceso acorde a la actividad (andamios, torres móviles y auto soportados y escaleras. k) Conceptos básicos de autorescate, rescate y fundamentos de primeros auxilios asociados al peligro de trabajo en alturas. Al finalizar, el debe expedir un documento que acredite que, la persona curso y aprobó la capacitación y entrenamiento para trabajo en alturas para trabajador autorizado, el documento deberá contener como mínimo lo establecido en el artículo 59 de la Resolución 4272 de 2021.Debe realizar el registro de las personas entrenadas, de conformidad al artículo 60 de la Resolución 4272 de 2021. | D4: # Personas a capacitar | E4: =+'JUSTIFICACION DE CANTIDADES'!E4 -> Se define esta cantidad teniendo en cuenta el número de dependencias que solicitaron esa temática en la encuesta de necesidades y la demanda de inscripción de diplomados ofrecidos en años anteriores. | J4: ,
A5: 2 | B5: Capacitación y entrenamiento para trabajo en alturas – Coordinador | C5: Se impartirá de forma presencial la capacitación y entrenamiento para trabajo en alturas, que cuente con entrenadores de trabajo en alturas debidamente certificados, conforme a lo establecido en los artículos 11, 29 y Capítulo II del Título III de la Resolución 4272 de 2021. El programa de capacitación y entrenamiento debe tener un mínimo de ochenta (80) horas de intensidad, sesenta por ciento (60%) del tiempo en actividades de entrenamiento práctico y cuarenta por ciento (40%) restante para actividades de capacitación teórica. Incluirá como mínimo los siguientes temas: a) Definición del SGSST, programa de prevención y protección contra caídas. b)Naturaleza de peligros, metodología de identificación y valoración de riesgos en trabajo en alturas para su control. Factores de riesgo conexos a los trabajos en alturas acorde al sector. c) Fomento del autocuidado de las personas. d) Metodología de identificación de peligros de caída. e) Requisitos legales en protección contra caídas para trabajo en alturas, de acuerdo a la actividad económica. f) Responsabilidad laboral, civil, penal, laboral y administrativa. g) Conceptos técnicos de protección contra caídas para trabajo en alturas. h) Medidas de prevención y protección contra caídas en trabajo desarrollados en alturas. i) Programa de prevención y protección contra caídas de alturas. j) Procedimientos de trabajo en alturas. k) Listas de chequeo. l) Procedimientos para manipular, almacenar, seleccionar, definir la compatibilidad, inspección y reposición de equipos utilizados para protección contra caídas. m) Sistemas de acceso para trabajo en alturas y uso seguro de los mismos. n) Equipos de protección personal contra caídas (selección, compatibilidad y reposición) y sistemas de anclaje. o) Limitantes y posibles restricciones en el uso de sistemas o equipos de protección contra caídas. p) Efectos en el organismo de la detención de una caída y la suspensión posterior. q) Fundamentos de primeros auxilios. r) Conceptos básicos de autorescate, rescate, y plan rescate. s) Elaboración del permiso de trabajo en alturas. t) Técnicas de inspección de equipos de protección contra caídas. Al finalizar debe expedir un documento que acredite que, la persona curso y aprobó la capacitación y entrenamiento para trabajo en alturas para trabajador autorizado - coordinador, el documento deberá contener como mínimo lo establecido en el artículo 59 de la Resolución 4272 de 2021. Debe realizar el registro de las personas de conformidad al artículo 60 de la Resolución 4272 de 2021. | D5: # Personas a capacitar | E5: =+'JUSTIFICACION DE CANTIDADES'!E5 -> Se define esta cantidad teniendo en cuenta el número de dependencias que solicitaron esa temática en la encuesta de necesidades y la demanda de inscripción de diplomados ofrecidos en años anteriores.
A6: 3 | B6: Capacitación y entrenamiento para trabajo en alturas - Jefes de área para trabajos en alturas | C6: Se impartirá de forma presencial la capacitación y entrenamiento para trabajo en alturas, que cuente con entrenadores de trabajo en alturas debidamente certificados conforme a lo establecido en los artículos 11, 29 y Capítulo II del Título III de la Resolución 4272 de 2021. El programa de capacitación y entrenamiento debe tener un mínimo de ocho (8) horas de intensidad, con el cien por ciento (100%) en actividades de capacitación teórica. Se deben desarrollar los siguientes temas: a) Requisitos legales en protección contra caidas para trabajo en alturas. b) Responsabilidad civil, penal, laboral y administrativa. c) Sistema de Gestión de Seguridad y Salud en el Trabajo, en específico la administración y control del programa de prevención y protección contra caidas en alturas. d) Marco conceptual sobre prevención y protección contra caídas para trabajo en alturas, permisos de trabajo y procedimiento de activación del plan de emergencias. Al finalizar debe expedir un documento que acredite que, la persona curso y aprobó la capacitación y entrenamiento para trabajo en alturas, el documento deberá contener como mínimo lo establecido en el artículo 59 de la Resolución 4272 de 2021. Debe realizar el registro de las personas de conformidad al artículo 60 de la Resolución 4272 de 2021. | D6: # Personas a capacitar | E6: =+'JUSTIFICACION DE CANTIDADES'!E6 -> Se define esta cantidad teniendo en cuenta el número de dependencias que solicitaron esa temática en la encuesta de necesidades y la demanda de inscripción de diplomados ofrecidos en años anteriores.
A7: 4 | B7: Capacitación y entrenamiento de rescate en trabajo en alturas | C7: Se impartirá la fcapacitación y entrenamiento presencial de rescate para trabajo en alturas, con entrenadores para trabajo en alturas debidamente certificados, conforme a lo establecido en la Resolución 4272 de 2021. Con intensidad de mínimo ocho (8) horas en modalidad teórico-práctica. Incluira como mínimo los siguientes temas: a)Conceptos generales de rescate durante trabajo en alturas. b) Técnicas de rescate, d) Normas y protocolos de seguridad e) Fundamentos técnicos de rescate en trabajos en altura: terminología técnica, distancia de claridad, máxima fuerza de detención, efecto de péndulo. f) Escenarios posibles de rescate en alturas. g) Plan de rescate. h) Sistemas y equipos para el rescate en trabajo en alturas. i) Primeros auxilios, comunicaciones y plan de emergencias. Al finalizar debe expedir un documento que acredite que la persona curso y aprobó la capacitación y entrenamiento para rescate en trabajo en alturas. | D7: # Personas a capacitar | E7: =+'JUSTIFICACION DE CANTIDADES'!E7 -> Se define esta cantidad teniendo en cuenta el número de dependencias que solicitaron esa temática en la encuesta de necesidades y la demanda de inscripción de diplomados ofrecidos en años anteriores.
A8: 5 | B8: Capacitación y entrenamiento para trabajador entrante en espacios confinados | C8: Se impartirá de forma presencial la capacitación y entrenamiento para trabajador entrante a espacios confinados, con instructores para trabajo en espacios confinados debidamente certificados, de acuerdo con lo establecido en el artículo 32 y anexos técnicos de la Resolucion 491 de 2020. El programa de capacitación y entrenamiento debe tener un mínimo de dieciséis (16) horas de intensidad, sesenta por ciento (60%) del tiempo en actividades de entrenamiento práctico y cuarenta por ciento (40%) restante para actividades de capacitación teórica. Incluira los siguientes temas: a) Normativa trabajo en espacios confinados: requisitos, alcance, responsabilidades, aspectos técnicos. b) Responsabilidad laboral, civil, penal y administrativa. c) Peligros: definición, identificación, clasificación y reporte. d) Riesgo: definición, identificación, reporte y técnicas de control. e) Medidas de prevención: concepto, clasificación, tipos de medidas, técnicas de aplicación. f) Medidas de protección: definición, clasificación, técnicas de aplicación. g) Permiso de trabajo: definición, contenido, diligenciamiento y criterios de autorización. h) Equipos y materiales utilizados para prtección en espacios confinados: procedimeitnos para selección, manipulación y almacenamiento. i) Sistemas de acceso: definición y técnicas de uso. j) Mediciones atmosféricas: reconocimiento de equipos y técnicas de medición. k) Ventilación: reconocimiento de equipos y técnicas de ventilación. l) Procedimiento de comunicación en el espacio confinado. m) Plan de rescate y fundamentos de primeros auxilios: definición, procedimientos operativos, activación y recursos. Al finalizar debe expedir un certificado que acredite que, la persona curso y aprobó la capacitación y entrenamiento para trabajador entrante en trabajo en espacios confinados, el documento deberá contener como mínimo lo establecido en el artículo 39 de la Resolución 491 de 2020. Debe realizar el registro de las personas que cursaron y aprobaron el programa, de conformidad al artículo 38 de la Resolución 491 de 2020. | D8: # Personas a capacitar | E8: =+'JUSTIFICACION DE CANTIDADES'!E8 -> Se define esta cantidad teniendo en cuenta el número de dependencias que solicitaron esa temática en la encuesta de necesidades y la demanda de inscripción de diplomados ofrecidos en años anteriores.
A9: 6 | B9: Capacitación y entrenamiento para Vigía de Seguridad para Trabajo en Espacios Confinados | C9: Se impartirá de forma presencial por un proveedor del servicio de capacitación y entrenamiento de vigia en espacios confinados de acuerdo con lo establecido en el artículo 32 y anexos técnicos de la Resolucion 491 de 2020. El programa de capacitación y entrenamiento debe tener un mínimo de ocho (8) horas de intensidad, sesenta por ciento (60%) del tiempo en actividades de entrenamiento práctico y cuarenta por ciento (40%) restante para actividades de capacitación teórica. Incluira los siguientes temas: a) Normativa trabajo en espacios confinados: Generalidades, requisitos, alcance, responsabilidades, aspectos técnicos. b) Responsabilidad laboral, civil, penal y administrativa. c) Peligros: definición, identificación, clasificación y reporte. d) Riesgo: definición, identificación, riesgos asociados al espacio confinado. e) Medidas de prevención y protección: concepto, clasificación, tipos, técnicas de aplicación. f) Permiso de trabajo: definición, contenido, procedimiento de dligenciamiento, criterios de aplicación. g) Mediciones atmosféricas: procedimientos, tipos interpretación. h) Plan de rescate: fundamentos de primeros auxilios, definiciíon, procedimientos operativos, activación y recursos. i) Comunicación: Tipos, equipos, señales y códigos. Debe expedir un certificado por cada aprendiz, que acredite la capacitación y entrenamiento para vigia de trabajo en espacios confinados, el documento deberá contener como mínimo lo establecido en el artículo 39 de la Resolución 491 de 2020. Debe realizar el registro de las personas que cursaron y aprobaron el programa, de conformidad al artículo 38 de la Resolución 491 de 2020. | D9: # Personas a capacitar | E9: =+'JUSTIFICACION DE CANTIDADES'!E9 -> Se define esta cantidad teniendo en cuenta la demanda de inscripción de diplomados ofrecidos en años anteriores en temáticas sindicales
A10: 7 | B10: Capacitación y entrenamiento para supervisor de trabajo en espacios confinados | C10: Se impartirá de forma presencial la capacitación y entrenamiento para supervisor de trabajo en espacios confinados, con instructores para trabajo en espacios confinados debidamente certificados, de acuerdo con lo establecido en el artículo 32 y anexos técnicos de la Resolucion 491 de 2020. El programa de capacitación y entrenamiento debe tener un mínimo de veinte (20) horas de intensidad, sesenta por ciento (60%) del tiempo en actividades de entrenamiento práctico y cuarenta por ciento (40%) restante para actividades de capacitación teórica. Incluira los siguientes temas: a) Requisitos legales en protección para trabajo en espacios confinados, responsabilidad laboral, civil, penal y administrativa. b) Trabajo en espacios conficnados: conceptos, medidas de prevención y protección. c) Procedimientos, permisos de trabajo, listas de chequeo. d) Equipos para prevención y protección en espacios confinados: procedimientos para manipulación y almacenamiento. e) Conceptos básicos: primeros auxilios, auto rescate, rescate y plan de rescate. f) Herramientas para identificación de peligros y control de riesgos (ATS, ARO, otros). g) Naturalea de los peligros de personas y objetos en el área de trabajo y fomento de autocuidado de las personas. h) Equipos de medición y monitoreo atmosférico: tipos, técnicas de uso, criterios de cuidado, técnicas de almacenamiento. i) Ventilación: tipos, técnicas y equipos. j) Equipos de suministro de aire: tipos. k) Equipos purificadores de aire: tipos, técnicas de uso, cuidado y técnicas de almacenamiento. l) Programa de gestión para trabajo en espacios confinados; estructura, aplicación. m) Equipos de protección personal para espacios confinados (selacción, compatibilidad, inspección y reposición) y sistemas de seguridad. n) Mediciones atmosféricas: procedimiento, tipo interpretación y registro. Debe expedir un certificado que acredite que, la persona curso y aprobó la capacitación y entrenamiento para trabajo en espacios confinados, el documento deberá contener como mínimo lo establecido en el artículo 39 de la Resolución 491 de 2020. Debe realizar el registro de las personas que cursaron y aprobaron el programa, de conformidad al artículo 38 de la Resolución 491 de 2020. | D10: # Personas a capacitar | E10: =+'JUSTIFICACION DE CANTIDADES'!E10 -> Se define esta cantidad teniendo en cuenta la demanda de inscripción de diplomados ofrecidos en años anteriores en temáticas sindicales
A11: 8 | B11: Capacitación y entrenamiento de rescate en espacios confinados | C11: Se impartirá de forma presencial la capacitación y entrenamiento para rescate en espacios confinados, con instructores para trabajo en espacios confinados debidamente certificados, de acuerdo con lo establecido en el artículo 32 y anexos técnicos de la Resolucion 491 de 2020. Debe tener un mínimo de ocho (8) horas de intensidad en modalidad teórico-practica. Debe incluir como mínimo los siguientes temas: a) Definición del rescate en espacios confinados, b) peligros y riesgos asociados del rescate en espacios confinados, c) Plan de rescate en espacios confinados d) roles y procedimientos del personal para el rescate en espacios confinados. e) Tipos y técnicas de rescate g) Selección y el uso de los equipos de entrada y salida para rescate h) Procedimientos básicos de rescate y respuesta de emergencia Al finalizar el proveedor debe expedir un certificado por cada aprendiz que acredite la capacitación y entrenamiento en rescate en espacios confinados. | D11: # Personas a capacitar | E11: =+'JUSTIFICACION DE CANTIDADES'!E11 -> Se define esta cantidad teniendo en cuenta el número de dependencias que solicitaron esa temática en la encuesta de necesidades
A12: 9 | B12: Capacitación y entrenamiento para el Administrador del programa gestión para trabajo en espacios confinados | C12: Se impartirá de forma presencial la capacitación y entrenamiento para administrador del programa de trabajo en espacios confinados, con instructores para trabajo en espacios confinados debidamente certificados, de acuerdo con lo establecido en el artículo 32 y anexos técnicos de la Resolucion 491 de 2020. El programa de capacitación y entrenamiento debe tener un mínimo de ocho (8) horas de intensidad, cien por ciento (100%) capacitación teórica. Incluira los siguientes temas: a) Normativa en espacios confinados: conceptos, roles, responsabilidades y obligaciones. b) Peligros: concepto, clasificación e identificción. c) Riesgos; concepto, clasificación e identificación. d) Medidas de prevención y portección para el trabajo en espacio confinados: conceptos y definiciones. e) Programa de gestión para trabajo en espacios confinados: contenido, importancia, verificación, seguimiento e indicadores. f) Documentación: tipos, reportes y actualización. Debe expedir un certificado que acredite que, la persona curso y aprobó la capacitación y entrenamiento para administrador del programa de trabajo en espacios confinados, el documento deberá contener como mínimo lo establecido en el artículo 39 de la Resolución 491 de 2020. Debe realizar el registro de las personas que cursaron y aprobaron el programa, de conformidad al artículo 38 de la Resolución 491 de 2020. | D12: # Personas a capacitar | E12: =+'JUSTIFICACION DE CANTIDADES'!E12 -> Se define esta cantidad teniendo en cuenta el número de dependencias que solicitaron esa temática en la encuesta de necesidades
A13: 10 | B13: La empresa debe estar registrada y activa en el registro de los proveedores del servicio de capacitación y entrenamiento de capacitación en empresa del Ministerio de Trabajo, de acuerdo con lo establecido en la Resolución 0491 de 2020 y la Resolución 4272 de 2021. El/los centro(s) de entrenamiento deben estar ubicados en la ciudad de Bogotá o municipios de Cundinamarca autorizados por el Ministerio del Trabajo. Los entrenamientos para trabajo en espacios confinados serán complementarios para los asistentes; de esta forma, de acuerdo con la solicitud de la supervisión, los participantes deben ser entrenados y certificados como trabajador entrante, vigia y supervisor de espacios confinados.
A14: Nota 1: Las capacitaciones, entrenamientos y las certificación del presente proceso contractual, se establece por el número de personas que requiera la Entidad, sin aplicar la condición de un mínimo de participantes para ejecutar la actividad por parte del proveedor. Por lo tanto, el criterio "CANTIDAD" corresponde al número de personas a capacitar, entrenar o certificar y no a la cantidad de actividades o sesiones de capacitación ejecutadas.
A15: Nota 2: Las cantidades a contratar corresponden a una proyección del número de personas de la Entidad que se habilitarán para trabajo en alturas o trabajo en espacios confinados; por lo tanto, durante la ejecución del contrato, las cantidades podrán variar dependiendo de las necesidades de la entidad y la rotación del personal autorizado.
A16: ___________________________________ DILY MARINA MAESTRE ZABALA
A17: Jefe Oficina de Talento Humano
A18: Proyectó: Luisa Fernanda Ramirez Trujillo - Contratista OTH
A19: Revisó: Anyelitza Ortega - Contratista OTH Diana Castro - Profesional Especializado OTH

Sheet ESTUDIO DE MERCADO
A1: ESTUDIO DE MERCADO Y/O ANALISIS COMPARATIVO DE PRECIOS
A2: OBJETO: Prestar servicios para el fortalecimiento de las competencias laborales de los servidores públicos de la Corporación Autónoma Regional de Cundinamarca – CAR, en cumplimiento del Plan institucional de capacitación vigencia 2026. | K2: El coheficiente de variacion Celda N3 (Amarillo), se debe modificar en el porcentaje establecido para el proceso, como ejemplo se establece un 20%. Modificar la formula de la celda N5 de acuerdo con lo establecido en la celda N3 y copiar formula para los demas items | R2: FORMULAS - NO MODIFICAR
A4: Item | B4: DESCRIPCIÓN | C4: UNIDAD | D4: COTIZACIONES | I4: VALOR UNITARIO PROMEDIO | K4: PROMEDIO UNITARIO DE LAS COTIZACIONES ALLEGADAS | L4: COTIZACIONES ALLEGADAS | M4: DESVIACION ESTANDAR | N4: COEFICIENTE DE VARIACION (CV) | O4: 0.2 | P4: SI / NO APLICA LIMITE | R4: LIMITE INFERIOR LIMITE SUPERIOR | U4: VALOR UNITARIO PROMEDIO | W4: JUSTIFICACION | X4: DESVIACION RESPECTO AL PROMEDIO | AQ4: VALIDACION
D5: UNAD | E5: JAVERIANA DE CALI | F5: UNIVERSIDAD NACIONAL | G5: UNIVERSIDAD DISTRITAL | H5: FUND EDUCATIVA METROPOLITANA | O5: COEFICIENTE CV ESTABLECIDO PARA EL PROCESO 20 % | R5: Rango inferior de eliminación | S5: Rango superior de eliminación | X5: =IF(D5<>"",D5,"") -> UNAD | Y5: =IF(E5<>"",E5,"") -> JAVERIANA DE CALI | Z5: =IF(F5<>"",F5,"") -> UNIVERSIDAD NACIONAL | AA5: =IF(G5<>"",G5,"") -> UNIVERSIDAD DISTRITAL | AB5: =IF(H5<>"",H5,"") -> FUND EDUCATIVA METROPOLITANA | AC5: =IF(#REF!<>"",#REF!,"") -> #REF! | AD5: =IF(#REF!<>"",#REF!,"") -> #REF! | AE5: =IF(#REF!<>"",#REF!,"") -> #REF! | AF5: =IF(#REF!<>"",#REF!,"") -> #REF! | AG5: =IF(#REF!<>"",#REF!,"") -> #REF! | AH5: 11 | AI5: 12 | AJ5: 13 | AK5: 14 | AL5: 15 | AM5: 16 | AN5: 17 | AO5: 18 | AQ5: =IF(D5<>"",D5,"") -> UNAD | AR5: =IF(E5<>"",E5,"") -> JAVERIANA DE CALI | AS5: =IF(F5<>"",F5,"") -> UNIVERSIDAD NACIONAL | AT5: =IF(G5<>"",G5,"") -> UNIVERSIDAD DISTRITAL | AU5: =IF(H5<>"",H5,"") -> FUND EDUCATIVA METROPOLITANA | AV5: =IF(#REF!<>"",#REF!,"") -> #REF! | AW5: =IF(#REF!<>"",#REF!,"") -> #REF! | AX5: =IF(#REF!<>"",#REF!,"") -> #REF! | AY5: =IF(#REF!<>"",#REF!,"") -> #REF! | AZ5: =IF(#REF!<>"",#REF!,"") -> #REF! | BA5: =IF(#REF!<>"",#REF!,"") -> #REF! | BB5: =IF(#REF!<>"",#REF!,"") -> #REF! | BC5: =IF(#REF!<>"",#REF!,"") -> #REF! | ... BF5: =IF(#REF!<>"",#REF!,"") -> #REF!
A7: 1 | B7: Diplomado en eficiencia en la gestión pública con inteligencia artificial y aplicativos tecnológicos. Intensidad horaria de 100 horas. | C7: Diplomado por persona | D7: =+UNAD!E7 -> 1627274.8 | E7: =+'JAVERIANA DE CALI'!E7 -> 2427280 | F7: =+'UNIVERSIDAD NACIONAL'!E7 -> 2978400 | G7: =+'UNIVER DISTRITAL'!E7 -> 2185906 | H7: =+METROPOLITANA!E7 -> 1950000 | I7: =IF(L7<=1,U7,(ROUND(+U7,0))) -> 2187729 | K7: =ROUND(AVERAGE(D7:H7),0) -> 2233772 | L7: =COUNT(D7:H7) -> 5 | M7: =+STDEVA(D7:H7) -> 510532.26 | N7: =+M7/K7 -> 0.22855164 | O7: =IF(N7>=$O$4,"COEFICIENTE DE VARIACION MAYOR AL 20%",IF(N7<=$O$4,"COEFICIENTE DE VARIACION MENOR AL 20%")) -> COEFICIENTE DE VARIACION MAYOR AL 20% | P7: =IF(L7<=1,"NO APLICA LIMITES",IF(N7>=$O$4,"SI APLICA LIMITE INFERIOR Y SUPERIOR",IF(N7<=$O$4,"NO APLICA LIMITES"))) -> SI APLICA LIMITE INFERIOR Y SUPERIOR | R7: =K7-M7 -> 1723239.7 | S7: =K7+M7 -> 2744304.3 | U7: =AVERAGEIFS(D7:H7,AQ7:AU7,"promediar") -> 2187728.7 | W7: =IF(P7="NO APLICA LIMITES", "Las cotizaciones tenidas en cuenta son las allegadas por las empresas: "& IF(AND(AQ7="PROMEDIAR",D7<>""),$D$5&", ","")& IF(AND(AR7="PROMEDIAR",E7<>""),$E$5&", ","")& IF(AND(AS7="PROMEDIAR",F7<>""),$F$5&", ","")& IF(AND(AT7="PROMEDIAR",G7<>""),$G$5&", ","")& IF(AND(AU7="PROMEDIAR",H7<>""),$H$5,"")& " por encontrarse dentro del promedio requerido por la Corporación", "Las cotizaciones tenidas en cuenta son las allegadas por las empresas: "& IF(AND(AQ7="PROMEDIAR",D7<>""),$D$5&", ","")& IF(AND(AR7="PROMEDIAR",E7<>""),$E$5&", ","")& IF(AND(AS7="PROMEDIAR",F7<>""),$F$5&", ","")& IF(AND(AT7="PROMEDIAR",G7<>""),$G$5&", ","")& IF(AND(AU7="PROMEDIAR",H7<>""),$H$5,"")& " por encontrarse dentro del promedio requerido por la Corporación y se descartan los valores cotizados por: "& IF(AND(AQ7="DESCARTAR",D7<>""),$D$5&", ","")& IF(AND(AR7="DESCARTAR",E7<>""),$E$5&", ","")& IF(AND(AS7="DESCARTAR",F7<>""),$F$5&", ","")& IF(AND(AT7="DESCARTAR",G7<>""),$G$5&", ","")& IF(AND(AU7="DESCARTAR",H7<>""),$H$5,"")& " por ser datos atípicos") -> Las cotizaciones tenidas en cuenta son las allegadas por las empresas: JAVERIANA DE CALI, UNIVERSIDAD DISTRITAL, FUND EDUCATIVA METROPOLITANA por encontrarse dentro del promedio requerido por la Corporación y se descartan los valores cotizados por: UNAD, UNIVERSIDAD NACIONAL, por ser datos atípicos | X7: =IF(D7<>"",(D7/$I7-1),"") -> -0.25618082 | Y7: =IF(E7<>"",(E7/$I7-1),"") -> 0.10949757 | Z7: =IF(F7<>"",(F7/$I7-1),"") -> 0.36141177 | AA7: =IF(G7<>"",(G7/$I7-1),"") -> -0.0008332842 | AB7: =IF(H7<>"",(H7/$I7-1),"") -> -0.10866474 | AC7: =IF(#REF!<>"",(#REF!/$I7-1),"") -> #REF! | AD7: =IF(#REF!<>"",(#REF!/$I7-1),"") -> #REF! | AE7: =IF(#REF!<>"",(#REF!/$I7-1),"") -> #REF! | AF7: =IF(#REF!<>"",(#REF!/$I7-1),"") -> #REF! | AG7: =IF(#REF!<>"",(#REF!/$I7-1),"") -> #REF! | AH7: =IF(#REF!<>"",(#REF!/$I7-1),"") -> #REF! | AI7: =IF(#REF!<>"",(#REF!/$I7-1),"") -> #REF! | AJ7: =IF(#REF!<>"",(#REF!/$I7-1),"") -> #REF! | ... AO7: =IF(#REF!<>"",(#REF!/$I7-1),"") -> #REF! | AQ7: =IF(D7<>"",IF(D7=0,"SIN COTIZACIÓN",IF(P7="NO APLICA LIMITES","PROMEDIAR",IF(D7<R7,"DESCARTAR",IF(D7>S7,"DESCARTAR","PROMEDIAR")))),"") -> DESCARTAR | AR7: =IF(E7<>"",IF(E7=0,"SIN COTIZACIÓN",IF(P7="NO APLICA LIMITES","PROMEDIAR",IF(E7<R7,"DESCARTAR",IF(E7>S7,"DESCARTAR","PROMEDIAR")))),"") -> PROMEDIAR | AS7: =IF(F7<>"",IF(F7=0,"SIN COTIZACIÓN",IF($P$7="NO APLICA LIMITES","PROMEDIAR",IF(F7<$R$7,"DESCARTAR",IF(F7>$S$7,"DESCARTAR","PROMEDIAR")))),"") -> DESCARTAR | AT7: =IF(G7<>"",IF(G7=0,"SIN COTIZACIÓN",IF(P7="NO APLICA LIMITES","PROMEDIAR",IF(G7<R7,"DESCARTAR",IF(G7>S7,"DESCARTAR","PROMEDIAR")))),"") -> PROMEDIAR | AU7: =IF(H7<>"",IF(H7=0,"SIN COTIZACIÓN",IF(P7="NO APLICA LIMITES","PROMEDIAR",IF(H7<R7,"DESCARTAR",IF(H7>S7,"DESCARTAR","PROMEDIAR")))),"") -> PROMEDIAR | AV7: =IF(#REF!<>"",IF(#REF!=0,"SIN COTIZACIÓN",IF(P7="NO APLICA LIMITES","PROMEDIAR",IF(#REF!<R7,"DESCARTAR",IF(#REF!>S7,"DESCARTAR","PROMEDIAR")))),"") -> #REF! | AW7: =IF(#REF!<>"",IF(#REF!=0,"SIN COTIZACIÓN",IF(P7="NO APLICA LIMITES","PROMEDIAR",IF(#REF!<R7,"DESCARTAR",IF(#REF!>S7,"DESCARTAR","PROMEDIAR")))),"") -> #REF! | AX7: =IF(#REF!<>"",IF(#REF!=0,"SIN COTIZACIÓN",IF(P7="NO APLICA LIMITES","PROMEDIAR",IF(#REF!<R7,"DESCARTAR",IF(#REF!>S7,"DESCARTAR","PROMEDIAR")))),"") -> #REF! | AY7: =IF(#REF!<>"",IF(#REF!=0,"SIN COTIZACIÓN",IF(P7="NO APLICA LIMITES","PROMEDIAR",IF(#REF!<R7,"DESCARTAR",IF(#REF!>S7,"DESCARTAR","PROMEDIAR")))),"") -> #REF! | AZ7: =IF(#REF!<>"",IF(#REF!=0,"SIN COTIZACIÓN",IF(P7="NO APLICA LIMITES","PROMEDIAR",IF(#REF!<R7,"DESCARTAR",IF(#REF!>S7,"DESCARTAR","PROMEDIAR")))),"") -> #REF! | BA7: =IF(#REF!<>"",IF(#REF!=0,"SIN COTIZACIÓN",IF(P7="NO APLICA LIMITES","PROMEDIAR",IF(#REF!<R7,"DESCARTAR",IF(#REF!>S7,"DESCARTAR","PROMEDIAR")))),"") -> #REF! | BB7: =IF(#REF!<>"",IF(#REF!=0,"SIN COTIZACIÓN",IF(P7="NO APLICA LIMITES","PROMEDIAR",IF(#REF!<R7,"DESCARTAR",IF(#REF!>S7,"DESCARTAR","PROMEDIAR")))),"") -> #REF! | BC7: =IF(#REF!<>"",IF(#REF!=0,"SIN COTIZACIÓN",IF(P7="NO APLICA LIMITES","PROMEDIAR",IF(#REF!<R7,"DESCARTAR",IF(#REF!>S7,"DESCARTAR","PROMEDIAR")))),"") -> #REF! | BD7: =IF(#REF!<>"",IF(#REF!=0,"SIN COTIZACIÓN",IF(P7="NO APLICA LIMITES","PROMEDIAR",IF(#REF!<R7,"DESCARTAR",IF(#REF!>S7,"DESCARTAR","PROMEDIAR")))),"") -> #REF! | BE7: =IF(#REF!<>"",IF(#REF!=0,"SIN COTIZACIÓN",IF(P7="NO APLICA LIMITES","PROMEDIAR",IF(#REF!<R7,"DESCARTAR",IF(#REF!>S7,"DESCARTAR","PROMEDIAR")))),"") -> #REF! | BF7: =IF(#REF!<>"",IF(#REF!=0,"SIN COTIZACIÓN",IF(P7="NO APLICA LIMITES","PROMEDIAR",IF(#REF!<R7,"DESCARTAR",IF(#REF!>S7,"DESCARTAR","PROMEDIAR")))),"") -> #REF!
A8: 2 | B8: Diplomado en Derecho Minero Ambiental. Intensidad horaria de 100 horas. | C8: Diplomado por persona | D8: =+UNAD!E8 -> 1895193.5 | E8: =+'JAVERIANA DE CALI'!E8 -> 2427280 | F8: =+'UNIVERSIDAD NACIONAL'!E8 -> 2978400 | G8: =+'UNIVER DISTRITAL'!E8 -> 2185906 | H8: =+METROPOLITANA!E8 -> 1850000 | I8: =IF(L8<=1,U8,(ROUND(+U8,0))) -> 2089595 | K8: =ROUND(AVERAGE(D8:H8),0) -> 2267356 | L8: =COUNT(D8:H8) -> 5 | M8: =+STDEVA(D8:H8) -> 461108.53 | N8: =+M8/K8 -> 0.20336839 | O8: =IF(N8>=$O$4,"COEFICIENTE DE VARIACION MAYOR AL 20%",IF(N8<=$O$4,"COEFICIENTE DE VARIACION MENOR AL 20%")) -> COEFICIENTE DE VARIACION MAYOR AL 20% | P8: =IF(L8<=1,"NO APLICA LIMITES",IF(N8>=$O$4,"SI APLICA LIMITE INFERIOR Y SUPERIOR",IF(N8<=$O$4,"NO APLICA LIMITES"))) -> SI APLICA LIMITE INFERIOR Y SUPERIOR | R8: =K8-M8 -> 1806247.5 | S8: =K8+M8 -> 2728464.5 | U8: =AVERAGEIFS(D8:H8,AQ8:AU8,"promediar") -> 2089594.9 | W8: =IF(P8="NO APLICA LIMITES", "Las cotizaciones tenidas en cuenta son las allegadas por las empresas: "& IF(AND(AQ8="PROMEDIAR",D8<>""),$D$5&", ","")& IF(AND(AR8="PROMEDIAR",E8<>""),$E$5&", ","")& IF(AND(AS8="PROMEDIAR",F8<>""),$F$5&", ","")& IF(AND(AT8="PROMEDIAR",G8<>""),$G$5&", ","")& IF(AND(AU8="PROMEDIAR",H8<>""),$H$5,"")& " por encontrarse dentro del promedio requerido por la Corporación", "Las cotizaciones tenidas en cuenta son las allegadas por las empresas: "& IF(AND(AQ8="PROMEDIAR",D8<>""),$D$5&", ","")& IF(AND(AR8="PROMEDIAR",E8<>""),$E$5&", ","")& IF(AND(AS8="PROMEDIAR",F8<>""),$F$5&", ","")& IF(AND(AT8="PROMEDIAR",G8<>""),$G$5&", ","")& IF(AND(AU8="PROMEDIAR",H8<>""),$H$5,"")& " por encontrarse dentro del promedio requerido por la Corporación y se descartan los valores cotizados por: "& IF(AND(AQ8="DESCARTAR",D8<>""),$D$5&", ","")& IF(AND(AR8="DESCARTAR",E8<>""),$E$5&", ","")& IF(AND(AS8="DESCARTAR",F8<>""),$F$5&", ","")& IF(AND(AT8="DESCARTAR",G8<>""),$G$5&", ","")& IF(AND(AU8="DESCARTAR",H8<>""),$H$5,"")& " por ser datos atípicos") -> Las cotizaciones tenidas en cuenta son las allegadas por las empresas: UNAD, JAVERIANA DE CALI, UNIVERSIDAD DISTRITAL, FUND EDUCATIVA METROPOLITANA por encontrarse dentro del promedio requerido por la Corporación y se descartan los valores cotizados por: UNIVERSIDAD NACIONAL, por ser datos atípicos | X8: =IF(D8<>"",(D8/$I8-1),"") -> -0.093033095 | Y8: =IF(E8<>"",(E8/$I8-1),"") -> 0.16160309 | Z8: =IF(F8<>"",(F8/$I8-1),"") -> 0.42534797 | AA8: =IF(G8<>"",(G8/$I8-1),"") -> 0.04609075 | AB8: =IF(H8<>"",(H8/$I8-1),"") -> -0.11466097 | AC8: =IF(#REF!<>"",(#REF!/$I8-1),"") -> #REF! | AD8: =IF(#REF!<>"",(#REF!/$I8-1),"") -> #REF! | AE8: =IF(#REF!<>"",(#REF!/$I8-1),"") -> #REF! | AF8: =IF(#REF!<>"",(#REF!/$I8-1),"") -> #REF! | AG8: =IF(#REF!<>"",(#REF!/$I8-1),"") -> #REF! | AH8: =IF(#REF!<>"",(#REF!/$I8-1),"") -> #REF! | AI8: =IF(#REF!<>"",(#REF!/$I8-1),"") -> #REF! | AJ8: =IF(#REF!<>"",(#REF!/$I8-1),"") -> #REF! | ... AO8: =IF(#REF!<>"",(#REF!/$I8-1),"") -> #REF! | AQ8: =IF(D8<>"",IF(D8=0,"SIN COTIZACIÓN",IF(P8="NO APLICA LIMITES","PROMEDIAR",IF(D8<R8,"DESCARTAR",IF(D8>S8,"DESCARTAR","PROMEDIAR")))),"") -> PROMEDIAR | AR8: =IF(E8<>"",IF(E8=0,"SIN COTIZACIÓN",IF(P8="NO APLICA LIMITES","PROMEDIAR",IF(E8<R8,"DESCARTAR",IF(E8>S8,"DESCARTAR","PROMEDIAR")))),"") -> PROMEDIAR | AS8: =IF(F8<>"",IF(F8=0,"SIN COTIZACIÓN",IF(P8="NO APLICA LIMITES","PROMEDIAR",IF(F8<R8,"DESCARTAR",IF(F8>S8,"DESCARTAR","PROMEDIAR")))),"") -> DESCARTAR | AT8: =IF(G8<>"",IF(G8=0,"SIN COTIZACIÓN",IF(P8="NO APLICA LIMITES","PROMEDIAR",IF(G8<R8,"DESCARTAR",IF(G8>S8,"DESCARTAR","PROMEDIAR")))),"") -> PROMEDIAR | AU8: =IF(H8<>"",IF(H8=0,"SIN COTIZACIÓN",IF(P8="NO APLICA LIMITES","PROMEDIAR",IF(H8<R8,"DESCARTAR",IF(H8>S8,"DESCARTAR","PROMEDIAR")))),"") -> PROMEDIAR | AV8: =IF(#REF!<>"",IF(#REF!=0,"SIN COTIZACIÓN",IF(P8="NO APLICA LIMITES","PROMEDIAR",IF(#REF!<R8,"DESCARTAR",IF(#REF!>S8,"DESCARTAR","PROMEDIAR")))),"") -> #REF! | AW8: =IF(#REF!<>"",IF(#REF!=0,"SIN COTIZACIÓN",IF(P8="NO APLICA LIMITES","PROMEDIAR",IF(#REF!<R8,"DESCARTAR",IF(#REF!>S8,"DESCARTAR","PROMEDIAR")))),"") -> #REF! | AX8: =IF(#REF!<>"",IF(#REF!=0,"SIN COTIZACIÓN",IF(P8="NO APLICA LIMITES","PROMEDIAR",IF(#REF!<R8,"DESCARTAR",IF(#REF!>S8,"DESCARTAR","PROMEDIAR")))),"") -> #REF! | AY8: =IF(#REF!<>"",IF(#REF!=0,"SIN COTIZACIÓN",IF(P8="NO APLICA LIMITES","PROMEDIAR",IF(#REF!<R8,"DESCARTAR",IF(#REF!>S8,"DESCARTAR","PROMEDIAR")))),"") -> #REF! | AZ8: =IF(#REF!<>"",IF(#REF!=0,"SIN COTIZACIÓN",IF(P8="NO APLICA LIMITES","PROMEDIAR",IF(#REF!<R8,"DESCARTAR",IF(#REF!>S8,"DESCARTAR","PROMEDIAR")))),"") -> #REF! | BA8: =IF(#REF!<>"",IF(#REF!=0,"SIN COTIZACIÓN",IF(P8="NO APLICA LIMITES","PROMEDIAR",IF(#REF!<R8,"DESCARTAR",IF(#REF!>S8,"DESCARTAR","PROMEDIAR")))),"") -> #REF! | BB8: =IF(#REF!<>"",IF(#REF!=0,"SIN COTIZACIÓN",IF(P8="NO APLICA LIMITES","PROMEDIAR",IF(#REF!<R8,"DESCARTAR",IF(#REF!>S8,"DESCARTAR","PROMEDIAR")))),"") -> #REF! | BC8: =IF(#REF!<>"",IF(#REF!=0,"SIN COTIZACIÓN",IF(P8="NO APLICA LIMITES","PROMEDIAR",IF(#REF!<R8,"DESCARTAR",IF(#REF!>S8,"DESCARTAR","PROMEDIAR")))),"") -> #REF! | BD8: =IF(#REF!<>"",IF(#REF!=0,"SIN COTIZACIÓN",IF(P8="NO APLICA LIMITES","PROMEDIAR",IF(#REF!<R8,"DESCARTAR",IF(#REF!>S8,"DESCARTAR","PROMEDIAR")))),"") -> #REF! | BE8: =IF(#REF!<>"",IF(#REF!=0,"SIN COTIZACIÓN",IF(P8="NO APLICA LIMITES","PROMEDIAR",IF(#REF!<R8,"DESCARTAR",IF(#REF!>S8,"DESCARTAR","PROMEDIAR")))),"") -> #REF! | BF8: =IF(#REF!<>"",IF(#REF!=0,"SIN COTIZACIÓN",IF(P8="NO APLICA LIMITES","PROMEDIAR",IF(#REF!<R8,"DESCARTAR",IF(#REF!>S8,"DESCARTAR","PROMEDIAR")))),"") -> #REF!
A9: 3 | B9: Diplomado en Derecho probatorio judicial y administrativo. Intensidad horaria de 100 horas. | C9: Diplomado por persona | D9: =+UNAD!E9 -> 1895193.5 | E9: =+'JAVERIANA DE CALI'!E9 -> 2427280 | F9: =+'UNIVERSIDAD NACIONAL'!E9 -> 2978400 | G9: =+'UNIVER DISTRITAL'!E9 -> 2185906 | H9: =+METROPOLITANA!E9 -> 1800000 | I9: =IF(L9<=1,U9,(ROUND(+U9,0))) -> 2077095 | K9: =ROUND(AVERAGE(D9:H9),0) -> 2257356 | L9: =COUNT(D9:H9) -> 5 | M9: =+STDEVA(D9:H9) -> 472816.01 | N9: =+M9/K9 -> 0.20945567 | O9: =IF(N9>=$O$4,"COEFICIENTE DE VARIACION MAYOR AL 20%",IF(N9<=$O$4,"COEFICIENTE DE VARIACION MENOR AL 20%")) -> COEFICIENTE DE VARIACION MAYOR AL 20% | P9: =IF(L9<=1,"NO APLICA LIMITES",IF(N9>=$O$4,"SI APLICA LIMITE INFERIOR Y SUPERIOR",IF(N9<=$O$4,"NO APLICA LIMITES"))) -> SI APLICA LIMITE INFERIOR Y SUPERIOR | R9: =K9-M9 -> 1784540 | S9: =K9+M9 -> 2730172 | U9: =AVERAGEIFS(D9:H9,AQ9:AU9,"promediar") -> 2077094.9 | W9: =IF(P9="NO APLICA LIMITES", "Las cotizaciones tenidas en cuenta son las allegadas por las empresas: "& IF(AND(AQ9="PROMEDIAR",D9<>""),$D$5&", ","")& IF(AND(AR9="PROMEDIAR",E9<>""),$E$5&", ","")& IF(AND(AS9="PROMEDIAR",F9<>""),$F$5&", ","")& IF(AND(AT9="PROMEDIAR",G9<>""),$G$5&", ","")& IF(AND(AU9="PROMEDIAR",H9<>""),$H$5,"")& " por encontrarse dentro del promedio requerido por la Corporación", "Las cotizaciones tenidas en cuenta son las allegadas por las empresas: "& IF(AND(AQ9="PROMEDIAR",D9<>""),$D$5&", ","")& IF(AND(AR9="PROMEDIAR",E9<>""),$E$5&", ","")& IF(AND(AS9="PROMEDIAR",F9<>""),$F$5&", ","")& IF(AND(AT9="PROMEDIAR",G9<>""),$G$5&", ","")& IF(AND(AU9="PROMEDIAR",H9<>""),$H$5,"")& " por encontrarse dentro del promedio requerido por la Corporación y se descartan los valores cotizados por: "& IF(AND(AQ9="DESCARTAR",D9<>""),$D$5&", ","")& IF(AND(AR9="DESCARTAR",E9<>""),$E$5&", ","")& IF(AND(AS9="DESCARTAR",F9<>""),$F$5&", ","")& IF(AND(AT9="DESCARTAR",G9<>""),$G$5&", ","")& IF(AND(AU9="DESCARTAR",H9<>""),$H$5,"")& " por ser datos atípicos") -> Las cotizaciones tenidas en cuenta son las allegadas por las empresas: UNAD, JAVERIANA DE CALI, UNIVERSIDAD DISTRITAL, FUND EDUCATIVA METROPOLITANA por encontrarse dentro del promedio requerido por la Corporación y se descartan los valores cotizados por: UNIVERSIDAD NACIONAL, por ser datos atípicos | X9: =IF(D9<>"",(D9/$I9-1),"") -> -0.08757495 | Y9: =IF(E9<>"",(E9/$I9-1),"") -> 0.16859364 | Z9: =IF(F9<>"",(F9/$I9-1),"") -> 0.43392575 | AA9: =IF(G9<>"",(G9/$I9-1),"") -> 0.052386145 | AB9: =IF(H9<>"",(H9/$I9-1),"") -> -0.13340507 | AC9: =IF(#REF!<>"",(#REF!/$I9-1),"") -> #REF! | AD9: =IF(#REF!<>"",(#REF!/$I9-1),"") -> #REF! | AE9: =IF(#REF!<>"",(#REF!/$I9-1),"") -> #REF! | AF9: =IF(#REF!<>"",(#REF!/$I9-1),"") -> #REF! | AG9: =IF(#REF!<>"",(#REF!/$I9-1),"") -> #REF! | AH9: =IF(#REF!<>"",(#REF!/$I9-1),"") -> #REF! | AI9: =IF(#REF!<>"",(#REF!/$I9-1),"") -> #REF! | AJ9: =IF(#REF!<>"",(#REF!/$I9-1),"") -> #REF! | ... AO9: =IF(#REF!<>"",(#REF!/$I9-1),"") -> #REF! | AQ9: =IF(D9<>"",IF(D9=0,"SIN COTIZACIÓN",IF(P9="NO APLICA LIMITES","PROMEDIAR",IF(D9<R9,"DESCARTAR",IF(D9>S9,"DESCARTAR","PROMEDIAR")))),"") -> PROMEDIAR | AR9: =IF(E9<>"",IF(E9=0,"SIN COTIZACIÓN",IF(P9="NO APLICA LIMITES","PROMEDIAR",IF(E9<R9,"DESCARTAR",IF(E9>S9,"DESCARTAR","PROMEDIAR")))),"") -> PROMEDIAR | AS9: =IF(F9<>"",IF(F9=0,"SIN COTIZACIÓN",IF(P9="NO APLICA LIMITES","PROMEDIAR",IF(F9<R9,"DESCARTAR",IF(F9>S9,"DESCARTAR","PROMEDIAR")))),"") -> DESCARTAR | AT9: =IF(G9<>"",IF(G9=0,"SIN COTIZACIÓN",IF(P9="NO APLICA LIMITES","PROMEDIAR",IF(G9<R9,"DESCARTAR",IF(G9>S9,"DESCARTAR","PROMEDIAR")))),"") -> PROMEDIAR | AU9: =IF(H9<>"",IF(H9=0,"SIN COTIZACIÓN",IF(P9="NO APLICA LIMITES","PROMEDIAR",IF(H9<R9,"DESCARTAR",IF(H9>S9,"DESCARTAR","PROMEDIAR")))),"") -> PROMEDIAR | AV9: =IF(#REF!<>"",IF(#REF!=0,"SIN COTIZACIÓN",IF(P9="NO APLICA LIMITES","PROMEDIAR",IF(#REF!<R9,"DESCARTAR",IF(#REF!>S9,"DESCARTAR","PROMEDIAR")))),"") -> #REF! | AW9: =IF(#REF!<>"",IF(#REF!=0,"SIN COTIZACIÓN",IF(P9="NO APLICA LIMITES","PROMEDIAR",IF(#REF!<R9,"DESCARTAR",IF(#REF!>S9,"DESCARTAR","PROMEDIAR")))),"") -> #REF! | AX9: =IF(#REF!<>"",IF(#REF!=0,"SIN COTIZACIÓN",IF(P9="NO APLICA LIMITES","PROMEDIAR",IF(#REF!<R9,"DESCARTAR",IF(#REF!>S9,"DESCARTAR","PROMEDIAR")))),"") -> #REF! | AY9: =IF(#REF!<>"",IF(#REF!=0,"SIN COTIZACIÓN",IF(P9="NO APLICA LIMITES","PROMEDIAR",IF(#REF!<R9,"DESCARTAR",IF(#REF!>S9,"DESCARTAR","PROMEDIAR")))),"") -> #REF! | AZ9: =IF(#REF!<>"",IF(#REF!=0,"SIN COTIZACIÓN",IF(P9="NO APLICA LIMITES","PROMEDIAR",IF(#REF!<R9,"DESCARTAR",IF(#REF!>S9,"DESCARTAR","PROMEDIAR")))),"") -> #REF! | BA9: =IF(#REF!<>"",IF(#REF!=0,"SIN COTIZACIÓN",IF(P9="NO APLICA LIMITES","PROMEDIAR",IF(#REF!<R9,"DESCARTAR",IF(#REF!>S9,"DESCARTAR","PROMEDIAR")))),"") -> #REF! | BB9: =IF(#REF!<>"",IF(#REF!=0,"SIN COTIZACIÓN",IF(P9="NO APLICA LIMITES","PROMEDIAR",IF(#REF!<R9,"DESCARTAR",IF(#REF!>S9,"DESCARTAR","PROMEDIAR")))),"") -> #REF! | BC9: =IF(#REF!<>"",IF(#REF!=0,"SIN COTIZACIÓN",IF(P9="NO APLICA LIMITES","PROMEDIAR",IF(#REF!<R9,"DESCARTAR",IF(#REF!>S9,"DESCARTAR","PROMEDIAR")))),"") -> #REF! | BD9: =IF(#REF!<>"",IF(#REF!=0,"SIN COTIZACIÓN",IF(P9="NO APLICA LIMITES","PROMEDIAR",IF(#REF!<R9,"DESCARTAR",IF(#REF!>S9,"DESCARTAR","PROMEDIAR")))),"") -> #REF! | BE9: =IF(#REF!<>"",IF(#REF!=0,"SIN COTIZACIÓN",IF(P9="NO APLICA LIMITES","PROMEDIAR",IF(#REF!<R9,"DESCARTAR",IF(#REF!>S9,"DESCARTAR","PROMEDIAR")))),"") -> #REF! | BF9: =IF(#REF!<>"",IF(#REF!=0,"SIN COTIZACIÓN",IF(P9="NO APLICA LIMITES","PROMEDIAR",IF(#REF!<R9,"DESCARTAR",IF(#REF!>S9,"DESCARTAR","PROMEDIAR")))),"") -> #REF!
