Workbook

Sheet SMMLV
A1: Año | B1: Salario Mínimo
B2: (Pesos Colombianos)
A4: 2026 | B4: 1750905
A5: 2025 | B5: 1423500
A6: 2024 | B6: 1300000
A7: 2023 | B7: 1160000
A8: 2022 | B8: 1000000
A9: 2021 | B9: 908526
A10: 2020 | B10: 877803
A11: 2019 | B11: 828116
A12: 2018 | B12: 781242
A13: 2017 | B13: 737717
A14: 2016 | B14: 689455
A15: 2015 | B15: 644350
... A46: 1984 | B46: 11298

Sheet PLANTILLA
A2: Rama Judicial del Poder Público
A3: Consejo Superior de la Judicatura
A4: Dirección Ejecutiva de Administración Judicial
A7: FORMATO DE EXPERIENCIA DEL PROPONENTE
A8: NUMERO DE PROCESO:
A9: SI-04-2026
A10: OBJETO DEL PROCESO:
A11: XXXXXXXXXXXXXXXXXXXXXXXXXXXX
A12: NOMBRE DEL PROPONENTE:
A14: Integrantes:
A15: Nombre del Integrante 1 [% Participación] [Nit o CC]
A16: Nombre del Integrante 2 [% Participación] [Nit o CC]
A17: Nombre del Integrante 3 [% Participación] [Nit o CC]
F19: EXPERIENCIA ESPECIFICA HABILITANTE | Q19: OBSERVACIONES
A20: ID | B20: No. Contrato en el RUP | C20: Nombre del contratista que registra el RUP | D20: Nombre de la Entidad Contratante | E20: EN CASO DE PROPONENTE PLURAL | F20: UNSPSC | I20: Valor reportado en el contrato en SMMLV que aparece en el RUP | J20: Porcentaje de Participación en el Contrato que registra el RUP | K20: Valor ponderado de acuerdo con la participación en el contrato en SMMLV que aparece en el RUP | L20: os proponentes, para acreditar la experiencia habilitante deben presentar máximo cuatro (4) certificaciones de contratos ejecutados, terminados relacionados en el RUP y clasificados en mínimo uno (1) códigos UNSPSC descritos en la siguiente tabla y cuyo objeto o alcance corresponda a comercialización, suministro o renovación de licenciamiento o suscripciones de software Alfresco. La sumatoria de los contratos inscritos en el RUP debe ser igual o superior al 100% del presupuesto estimado para la presente contratación, expresado en SMMLV
E21: Nombre del integrante de la figura asociativa que presenta el RUP | F21: 43232200 | G21: 81112500 | H21: 43231500 | L21: Objeto del Contrato | M21: Valor del contrato o actividades (En pesos) | N21: Año de Terminación del Contrato | O21: Valor en SMMLV (La conversión se realiza con el SMMLV del año de terminación del contrato) | P21: Valor ponderado de acuerdo con la participación en el contrato en SMMLV
A22: 1 | K22: =ROUND(I22*J22,2) -> 0 | O22: =ROUND(M22/(VLOOKUP(N22,SMMLV!$A$4:$B$46,2,FALSE)),2) -> #N/A | P22: =ROUND(O22*J22,2) -> #N/A
A23: 2 | K23: =ROUND(I23*J23,2) -> 0 | O23: =ROUND(M23/(VLOOKUP(N23,SMMLV!$A$4:$B$46,2,FALSE)),2) -> #N/A | P23: =ROUND(O23*J23,2) -> #N/A
A24: 3 | K24: =ROUND(I24*J24,2) -> 0 | O24: =ROUND(M24/(VLOOKUP(N24,SMMLV!$A$4:$B$46,2,FALSE)),2) -> #N/A | P24: =ROUND(O24*J24,2) -> #N/A
A25: 4 | K25: =ROUND(I25*J25,2) -> 0 | O25: =ROUND(M25/(VLOOKUP(N25,SMMLV!$A$4:$B$46,2,FALSE)),2) -> #N/A | P25: =ROUND(O25*J25,2) -> #N/A
A26: 5 | K26: =ROUND(I26*J26,2) -> 0 | O26: =ROUND(M26/(VLOOKUP(N26,SMMLV!$A$4:$B$46,2,FALSE)),2) -> #N/A | P26: =ROUND(O26*J26,2) -> #N/A
A27: 6 | K27: =ROUND(I27*J27,2) -> 0 | O27: =ROUND(M27/(VLOOKUP(N27,SMMLV!$A$4:$B$46,2,FALSE)),2) -> #N/A | P27: =ROUND(O27*J27,2) -> #N/A
A28: 7 | K28: =ROUND(I28*J28,2) -> 0 | O28: =ROUND(M28/(VLOOKUP(N28,SMMLV!$A$4:$B$46,2,FALSE)),2) -> #N/A | P28: =ROUND(O28*J28,2) -> #N/A
A29: 8 | K29: =ROUND(I29*J29,2) -> 0 | O29: =ROUND(M29/(VLOOKUP(N29,SMMLV!$A$4:$B$46,2,FALSE)),2) -> #N/A | P29: =ROUND(O29*J29,2) -> #N/A
A30: 9 | K30: =ROUND(I30*J30,2) -> 0 | O30: =ROUND(M30/(VLOOKUP(N30,SMMLV!$A$4:$B$46,2,FALSE)),2) -> #N/A | P30: =ROUND(O30*J30,2) -> #N/A
F31: TOTAL (SMMLV) | K31: =SUM(K22:K30) -> 0 | O31: TOTAL (SMMLV) | P31: =_xlfn.AGGREGATE(9,6,P22:P30) -> 0
O32: SMMLV Min | P32: 2719.89
P33: =IF(P31>=P32,"Cumple","No Cumple") -> No Cumple
