Workbook
Name \0: #REF!
Name \00: #REF!
Name \a: #REF!
Name \a: #REF!
Name \a: #REF!
Name \AA: #REF!
Name \b: #REF!
Name \bb: #REF!
Name \E: #REF!
Name \EE: #REF!
Name \G: #REF!
Name \k: #REF!
Name \L: #REF!
Name \L: #REF!
Name \L: #REF!
Name \M: #REF!
Name \ñ: #REF!
Name \P: #REF!
Name \P: #REF!
Name \P: #REF!
Name \R: #REF!
Name \s: #REF!
Name \V: #REF!
Name \X: FM!err
Name \X: Polizas!err
Name \X: [0]!err
Name \Z: FM!err
Name \Z: Polizas!err
Name \Z: [0]!err
Name _________________________________________________i1: #REF!
Name _________________________________________________i1: #REF!
Name _________________________________________________i1: #REF!
Name ________________________________________________i1: #REF!
Name ________________________________________________i1: #REF!
Name ________________________________________________i1: #REF!
Name _______________________________________________i1: #REF!
Name _______________________________________________i1: #REF!
Name _______________________________________________i1: #REF!
Name ______________________________________________i1: #REF!
Name _____________________________________________i1: #REF!
Name ____________________________________________i1: #REF!
Name ___________________________________________i1: #REF!
Name __________________________________________i1: #REF!
Name _________________________________________i1: #REF!
Name ________________________________________i1: #REF!
Name _______________________________________i1: #REF!
Name ______________________________________i1: #REF!
Name _____________________________________i1: #REF!
Name ____________________________________i1: #REF!
Name ___________________________________i1: #REF!
Name __________________________________i1: #REF!
Name _________________________________i1: #REF!
Name ________________________________i1: #REF!
Name _______________________________i1: #REF!
Name ______________________________i1: #REF!
Name _____________________________i1: #REF!
Name ____________________________i1: #REF!
Name ___________________________i1: #REF!
Name __________________________i1: #REF!
Name _________________________i1: #REF!

Sheet PRESUPUESTO OFICIAL
B2: Formulario 1 - Formulario propuesta económica - Interventoría de infraestructura social
C3: Versión: 2 del 15 de diciembre de 2025
C7: FORMULARIO 1 - DETALLADO
C8: FECHA DE DILIGENCIAMIENTO | E8: 45838
C9: FONDO DE DESARROLLO LOCAL | E9: San Cristóbal
C11: TERMINO ESTIMADO DE EJECUCIÓN ETAPA PREVIA | E11: 1 | F11: MES
C12: TERMINO ESTIMADO DE EJECUCIÓN DE OBRA | E12: 4 | F12: MESES
C13: OBJETO DEL CONTRATO | E13: “REALIZAR LA INTERVENTORÍA TÉCNICA, ADMINISTRATIVA, FINANCIERA, JURÍDICA, AMBIENTAL, SOCIAL Y SST, DEL CONTRATO DE OBRA PÚBLICA CUYO OBJETO ES EJECUTAR, A PRECIOS UNITARIOS Y A MONTO AGOTABLE, LAS OBRAS DE MANTENIMIENTO, ADECUACIÓN, REPARACIONES LOCATIVAS Y DOTACION NECESARIAS PARA GARANTIZAR LAS CONDICIONES ÓPTIMAS DE HABITABILIDAD, SEGURIDAD Y FUNCIONALIDAD DE LAS UNIDADES OPERATIVAS DE INTEGRACIÓN SOCIAL PRIORIZADAS POR LA SUBDIRECCIÓN LOCAL EN LA VIGENCIA 2026, UBICADAS EN LA LOCALIDAD CUARTA DE SAN CRISTÓBAL, BOGOTÁ D.C.”
C16: CANT. | D16: CARGO / OFICIO | E16: CATEGORÍA | F16: DEDICACIÓN ACTIVIDADES ETAPA PREVIA | G16: DEDICACIÓN ACTIVIDADES ETAPA OBRA | H16: TARIFA MENSUAL | I16: VALOR PARCIAL | J16: VALOR PARCIAL
C17: (1) | F17: (2) | G17: (3) | H17: (4) | I17: (1)*(2)*(4) = (5) | J17: (1)*(3)*(4) = (6)
C18: COSTOS DIRECTOS DE PERSONAL
C19: PERSONAL PROFESIONAL
C20: 1 | D20: DIRECTOR DE INTERVENTORIA 9112 | E20: 6 | F20: 0.2 | G20: 0.3 | H20: 7659000 | I20: =+C20*F20*H20 -> 1531800 | J20: =+C20*G20*H20 -> 2297700
C21: 1 | D21: RESIDENTE GENERAL DE INTERVENTORIA 9113 | E21: 7 | F21: 0.3 | G21: 1 | H21: 5791000 | I21: =+C21*F21*H21 -> 1737300 | J21: =+C21*G21*H21 -> 5791000
C22: PERSONAL ESPECIALISTAS
C23: 1 | D23: ESPECIALISTA ESTRUCTURAL 9113 | E23: 7 | F23: 0.1 | H23: 5791000 | I23: =+C23*F23*H23 -> 579100 | J23: =+C23*G23*H23 -> 0
C24: 1 | D24: ESPECIALISTA ELÉCTRICO 9113 | E24: 7 | F24: 0.1 | H24: 5791000 | I24: =+C24*F24*H24 -> 579100 | J24: =+C24*G24*H24 -> 0
C25: 1 | D25: ESPECIALISTA HIDRAÚLICO 9113 | E25: 7 | F25: 0.1 | H25: 5791000 | I25: =+C25*F25*H25 -> 579100 | J25: =+C25*G25*H25 -> 0
C26: PERSONAL AMBIENTAL
C27: 1 | D27: PROFESIONAL AMBIENTAL Y DE SEGURIDAD Y SALUD EN EL TRABAJO 9113 | E27: 7 | F27: 0.1 | G27: 0.1 | H27: 5791000 | I27: =+C27*F27*H27 -> 579100 | J27: =+C27*G27*H27 -> 579100
C28: PERSONAL SOCIAL
C29: 1 | D29: PROFESIONAL SOCIAL | E29: 7 | F29: 0.1 | G29: 0.1 | H29: 5791000 | I29: =+C29*F29*H29 -> 579100 | J29: =+C29*G29*H29 -> 579100
C30: SUBTOTAL COSTOS DE PERSONAL = SUMATORIA = | I30: =+I20+I21+I23+I24+I25+I27+I29 -> 6164600 | J30: =+J20+J21+J23+J24+J25+J27+J29 -> 9246900
C31: FACTOR MULTIPLICADOR | I31: =+FM!D38 -> 1.99 | J31: =+FM!D38 -> 1.99
C32: SUBTOTAL COSTOS DE PERSONAL MENSUAL = | I32: =+I31*I30 -> 12267554 | J32: =+J30*J31 -> 18401331
C33: SUBTOTAL COSTOS DE PERSONAL VIGENCIA TOTAL DEL CONTRATO= | I33: =+I32*E11 -> 12267554 | J33: =+J32*E12 -> 73605324
C34: CANT. | D34: CONCEPTO | E34: UNIDAD | F34: COSTO | H34: UTILIZACIÓN | J34: VALOR
F35: ($) | J35: PARCIAL ($)
C36: (7) | F36: (8) | H36: (9) | J36: (7)*(8)*(9) = (10)
C37: OTROS COSTOS DIRECTOS
C38: COSTOS DE ALQUILER DE EQUIPOS Y OFICINA
C39: TARIFA MES - EDICIÓN DE INFORME MENSUAL DE INTERVENTORÍA O CONSULTORÍA. | E39: UN/MES | F39: 264000 | H39: 0.1 | I39: 0 | J39: =+F39*H39 -> 26400
C40: TARIFA MES - GASTOS DE OFICINA (PAPELERIA, FOTOCOPIAS Y OTROS) | E40: GLB/MES | F40: 1260967 | H40: 0.1 | I40: 0 | J40: =+F40*H40 -> 126096.7
C41: 1 | D41: ALQUILER VEHICULO - CAMPERO PICK-UP, CAMIONETA DE 1300-2000cc - MODELO 2022 - 2019 - INCLUYE TODOS LOS COSTOS DE OPERACIÓN Y MANTENIMIENTO (INCLUYE CONDUCTOR) | E41: MES | F41: 8778000 | H41: 0.15 | I41: 0 | J41: =+F41*H41 -> 1316700
C42: SUBTOTAL OTROS COSTOS DIRECTOS MENSUALES | J42: =+J39+J40+J41 -> 1469196.7
C43: SUBTOTAL OTROS COSTOS VIGENCIA TOTAL DEL CONTRATO= | J43: =+J42*E12 -> 5876786.8
C44: TOTAL COSTOS BASICOS= | J44: =+J43+J33+I33 -> 91749665
C45: IVA = 19%= | J45: =+J44*0.19 -> 17432436
C46: COSTO TOTAL INTERVENTORÍA= | J46: =+ROUND((J44+J45),0) -> 109182101
C48: FIRMAS:
...

Sheet FORMULARIO 1 -DETALLADO
B2: Formulario 1 - Formulario propuesta económica - Interventoría de infraestructura social
C3: Versión: 2 del 15 de diciembre de 2025
C7: FORMULARIO 1 - DETALLADO
C8: FECHA DE DILIGENCIAMIENTO | E8: 45838
C9: FONDO DE DESARROLLO LOCAL | E9: San Cristóbal
C11: TERMINO ESTIMADO DE EJECUCIÓN ETAPA PREVIA | E11: 1 | F11: MES
C12: TERMINO ESTIMADO DE EJECUCIÓN DE OBRA | E12: 4 | F12: MESES
C13: OBJETO DEL CONTRATO | E13: “REALIZAR LA INTERVENTORÍA TÉCNICA, ADMINISTRATIVA, FINANCIERA, JURÍDICA, AMBIENTAL, SOCIAL Y SST, DEL CONTRATO DE OBRA PÚBLICA CUYO OBJETO ES EJECUTAR, A PRECIOS UNITARIOS Y A MONTO AGOTABLE, LAS OBRAS DE MANTENIMIENTO, ADECUACIÓN, REPARACIONES LOCATIVAS Y DOTACION NECESARIAS PARA GARANTIZAR LAS CONDICIONES ÓPTIMAS DE HABITABILIDAD, SEGURIDAD Y FUNCIONALIDAD DE LAS UNIDADES OPERATIVAS DE INTEGRACIÓN SOCIAL PRIORIZADAS POR LA SUBDIRECCIÓN LOCAL EN LA VIGENCIA 2026, UBICADAS EN LA LOCALIDAD CUARTA DE SAN CRISTÓBAL, BOGOTÁ D.C.”
C16: CANT. | D16: CARGO / OFICIO | E16: CATEGORÍA | F16: DEDICACIÓN ACTIVIDADES ETAPA PREVIA | G16: DEDICACIÓN ACTIVIDADES ETAPA OBRA | H16: TARIFA MENSUAL | I16: VALOR PARCIAL | J16: VALOR PARCIAL
C17: (1) | F17: (2) | G17: (3) | H17: (4) | I17: (1)*(2)*(4) = (5) | J17: (1)*(3)*(4) = (6)
C18: COSTOS DIRECTOS DE PERSONAL
C19: PERSONAL PROFESIONAL
C22: PERSONAL ESPECIALISTAS
C26: PERSONAL AMBIENTAL
C28: PERSONAL SOCIAL
C30: SUBTOTAL COSTOS DE PERSONAL = SUMATORIA = | I30: =+I20+I21+I23+I24+I25+I27+I29 -> 0 | J30: =+J20+J21+J23+J24+J25+J27+J29 -> 0
C31: FACTOR MULTIPLICADOR | I31: =+FM!D38 -> 1.99 | J31: =+FM!D38 -> 1.99
C32: SUBTOTAL COSTOS DE PERSONAL MENSUAL = | I32: =+I31*I30 -> 0 | J32: =+J30*J31 -> 0
C33: SUBTOTAL COSTOS DE PERSONAL VIGENCIA TOTAL DEL CONTRATO= | I33: =+I32*E11 -> 0 | J33: =+J32*E12 -> 0
C34: CANT. | D34: CONCEPTO | E34: UNIDAD | F34: COSTO | H34: UTILIZACIÓN | J34: VALOR
F35: ($) | J35: PARCIAL ($)
C36: (7) | F36: (8) | H36: (9) | J36: (7)*(8)*(9) = (10)
C37: OTROS COSTOS DIRECTOS
C38: COSTOS DE ALQUILER DE EQUIPOS Y OFICINA
C43: SUBTOTAL OTROS COSTOS DIRECTOS MENSUALES | I43: =+I39+I40+I41+I42 -> 0 | J43: =+J39+J40+J41+J42 -> 0
C44: SUBTOTAL OTROS COSTOS VIGENCIA TOTAL DEL CONTRATO= | I44: =+I43*E11 -> 0 | J44: =+J43*E12 -> 0
C45: TOTAL COSTOS BASICOS= | J45: =+J44+J33+I33 -> 0
C46: IVA = 19%= | J46: =+J45*0.19 -> 0
C47: COSTO TOTAL INTERVENTORÍA= | J47: =+ROUND((J45+J46),0) -> 0
C49: FIRMAS:
C54: Nombre y firma del representante legal del Proponente | F54: Nombre del Proponente

Sheet FM
B2: DESGLOSE FACTOR MULTIPLICADOR
B4: 1 | C4: Salario Y prestaciones Sociales de Personal Facturable | D4: 1 | F4: BASES
B6: 2 | C6: Prestaciones Sociales
B7: 2.1 | C7: Prima Anual (Legal) | D7: 0.0833 | F7: Artículo 306 del Código Sustantivo del Trabajo –CST | G7: SM*(1/12) = SMMV*(8,33%)
B8: 2.2 | C8: Cesantías | D8: 0.0833 | F8: Artículo 249 del Código Sustantivo del Trabajo –CST | G8: SM*(1/12) = SMMV*(8,33%)
B9: 2.3 | C9: Interéses a las cesantías | D9: 0.01 | F9: Artículo 99 Ley 50 de 1990 | G9: 12% anual, es decir, se aplica el 1% por mes devengado
B10: 2.4 | C10: Vacaciones | D10: 0.0417 | F10: Artículo 186 del Código Sustantivo del Trabajo –CST | G10: 15 días / 360 días
B11: 2.5 | C11: Seguridad Social (Salud + Pensión) | D11: 0.205 | F11: Artiíulo 7 de Ley 797 dee 2003 Artículo 10 Ley 1122 de 2007 | G11: 12% Pensión 8,5% Salud
B12: 2.6 | C12: Caja de Compensacion Familiar | D12: 0.04 | F12: Artículo 12 Ley 21 de 1982 | J12: Riesgo | K12: Actividad
B13: 2.7 | C13: ARL | D13: 0.0696 | F13: Ley 1562 de 2012 (Rango de cotización) Articulo 2.2.4.3.5 Decreto 1072 de 2015 (Tabla de Cotizaciones Mínimas y Máximas) Decreto 768 de 2022 (actividades 4210 y 7110 ) | J13: 1 y 5 | K13: 7110 | L13: Actividades de arquitectura e ingeniería y otras actividades conexas de consultoría técnica, incluye actividades de consultoría de arquitectura: diseño de edificios ydibujo de planos de construcción, planificación urbana yarquitectura paisajista, diseño de ingeniería consultoría relativas a: maquinaria, procesos yplantas industriales, ingeniería civil, hidráulica y de tráfico, proyectos de ordenación hídrica, proyectos de ingeniería eléctrica sin presencia en las instalaciones donde se desarrolla el proyecto (sin intervención directa en obras).
B14: 2.11 | C14: Dotacion | D14: 0.01 | F14: Artículo 230 del Código Sustantivo del Trabajo –CST y decreto 1075 de 2015 | G14: deberá suministrar cada cuatro (4) meses, en forma gratuita, un (1) par de zapatos y un (1) vestido de labor al trabajador,
C15: Subtotal | D15: =+SUM(D7:D14) -> 0.5429
B17: 3 | C17: Costos Indirectos | F17: Este componente depende del tamaño y el lugar del proyecto. No existe un valor exacto
B18: 3.1 | C18: Gastos Generales
B19: 3.2 | C19: Asesoria Contable Tributaria y Juridica | D19: 0.025
B20: 3.4 | C20: Seguros de robo e incendio | D20: 0.02
B21: 3.5 | C21: Licenciamiento de software | D21: 0.01
B22: 3.6 | C22: Gastos de Representación | D22: 0.02
B23: 3.7 | C23: Personal administrativo no facturado | D23: 0.015
B24: 3.8 | C24: Gastos e intereses bancarios | D24: 0.02
B25: 3.9 | C25: Gastos directos no reembolsables | D25: 0.03
C26: Subtotal | D26: =+SUM(D19:D25) -> 0.14
B28: 3.2 | C28: Costos Directos no Reembolsables
B29: 3.1 | C29: Polizas | D29: =+Polizas!L12 -> 0.0010836784 | F29: Mirar presupuesto de polizas
B30: 3.5 | C30: Retefuente | D30: 0.06 | F30: Artículos 1.2.4.10.3 y 1.2.4.10.4 del decreto 1625 de 2016 | G30: Contratos de obra 2% según el artículo 1.2.4.9.1 del decreto 1625 de 2016
B31: 3.6 | C31: Rete ICA | D31: 0.00866 | F31: Clasificación de actividades económicas (CIIU) revisión 4
B32: 3.7 | C32: Impuestos distritales (estampillas) | D32: 0.005 | F32: estampillas Univ. Pedagógica | G32: Artículo 6 Ley 1106 de 2006
B33: 3.8 | C33: Rete IVA | D33: =15%*19% -> 0.0285 | F33: ReteIVA (retención en la fuente del impuesto del IVA): Es el 15% del valor del IVA y solo aplica si cobras este impuesto - DIAN. Art. 437-2 del Estatuto Tributario
C34: SUBTOTAL | D34: =+SUM(D29:D33) -> 0.10324368
B36: 4 | C36: Honorarios (Utilidad del consultor y costos no previstos) | D36: 0.2
B38: T O T A L - F.M. | D38: =ROUND(+D15++D26+D34+D36+D4,2) -> 1.99

Sheet Polizas
C3: ALCALDIA LOCAL DE SAN CRISTÓBAL
C4: MATRIZ PARA CÁLCULO POLIZAS
C6: GARANTIAS
C7: DESCRIPCIÓN | G7: VR. BASE | H7: % ASEGURADO | I7: VIGENCIA AMPARO (MESES) | K7: TASA ASEGURADORA | L7: PRIMA ($)
C8: GARANTIA UNICA | D8: CUMPLIMIENTO | G8: 109182101 | H8: 0.2 | I8: 6 | J8: =+I8/12 -> 0.5 | K8: 0.005 | L8: =+(G8*H8*J8*K8)*1.19 -> 64963.35
D9: SALARIOS Y PRESTACIONES SOCIALES | G9: =+G8 -> 109182101 | H9: 0.05 | I9: 41 | J9: =+I9/12 -> 3.4166667 | K9: 0.005 | L9: =+(G9*H9*J9*K9)*1.19 -> 110979.06
D10: CALIDAD DEL SERVICIO | G10: =+G9 -> 109182101 | H10: 0.2 | I10: 60 | J10: =+I10/12 -> 5 | K10: 0.005 | L10: =+(G10*H10*J10*K10)*1.19 -> 649633.5
C11: TOTAL | L11: =+L10+L9+L8 -> 825575.91
L12: =+L11/761827379.01 -> 0.0010836784

Sheet Hoja1
B2: Categoría | C2: Sin factor de prestaciones | D2: Con factor de prestaciones
B3: Profesional Categoría 1 | C3: 17387000 | D3: 25218989
B4: Profesional Categoría 2 | C4: 13251000 | D4: 19230337
B5: Profesional Categoría 3 | C5: 11183000 | D5: 16236011
B6: Profesional Categoría 4 | C6: 9522000 | D6: 13830994
B7: Profesional Categoría 5 | C7: 8589000 | D7: 12480071
B8: Profesional Categoría 6 | C8: 7659000 | D8: 11133493
B9: Profesional Categoría 7 | C9: 5791000 | D9: 8428754
