Workbook

Sheet ANEXO 1
B2: ANEXO 1 - ANÁLISIS DE COTIZACIONES
F3: SUSCRIPCIÓN AL SERVICIO DE SOPORTE TÉCNICO CON MANTENIMIENTO CORRECTIVO, PREVENTIVO PARA LOS SUBSISTEMAS QUE SOPORTAN LOS COMPONENTES DE LOS CENTROS DE DATOS DE LA FISCALÍA GENERAL DE LA NACIÓN.
S5: ANÁLISIS DE VARIABLES
G6: ALCALA ARQUITECTURA & COMUNICACIONES SAS | I6: COTEL SAS | K6: SERVITRONICS SAS | M6: INGENIERIA DE SISTEMAS TELEMATICOS S.A. - INISITEL S.A. | O6: SISELCOM S.A.S | Q6: COMSISTELCO | S6: VALORES SIN IVA
B7: NECESIDAD | S7: VALOR UNITARIO SIN IVA | T7: VALOR UNITARIO SIN IVA | U7: VALOR UNITARIO SIN IVA | V7: VALOR UNITARIO SIN IVA | W7: PORCENTAJE DIFERENCIAL (PROMEDIO/BAJA) | Y7: VALOR SELECCIONADO
B8: GRUPO 1 | G8: COTIZACIÓN 1 | I8: COTIZACIÓN 2 | K8: COTIZACIÓN 3 | M8: COTIZACIÓN 4 | O8: COTIZACIÓN 5 | Q8: COTIZACIÓN 6 | Y8: GRUPO 1
B9: ITEM | C9: DESCRIPCIÓN DEL BIEN O SERVICIO | D9: UNIDAD DE MEDIDA | E9: CANTIDAD | G9: VALOR UNITARIO SIN IVA | I9: VALOR UNITARIO SIN IVA | K9: VALOR UNITARIO SIN IVA | M9: VALOR UNITARIO SIN IVA | O9: VALOR UNITARIO SIN IVA | Q9: VALOR UNITARIO SIN IVA | S9: COTIZACIÓN MÁS BAJA | T9: COTIZACIÓN MÁS ALTA | U9: PROMEDIO | V9: MEDIA ARITMÉTICA BAJA | W9: 25 % < / > | Y9: VALOR UNITARIO SIN IVA | Z9: IVA UNITARIO | AA9: VALOR UNITARIO INCLUIDO IVA | AB9: VALOR TOTAL INCLUIDO IVA
B10: 1 | C10: Soporte Técnico con mantenimientos preventivos y correctivos que sean necesarios para los subsistemas: - Subsistema de infraestructura de redes eléctricas y estructuradas - Subsistema de CCTV y control de acceso - Subsistema de extinción de incendios - Subsistema de enfriamiento y de refrigeración - Subsistema arquitectónico De acuerdo con anexo de especificaciones técnicas CENTROS DE DATOS BOGOTÁ CENTRO DE DATOS EDIFICIO GUSTAVO DE GREIFF. Ficha Técnica No. 1 | D10: SERVICIO | E10: 1 | G10: 608363026 | I10: 4.4059884e+08 | K10: 568134000 | M10: 62777300 | O10: 584201680 | Q10: 649219700 | S10: =ROUND(MIN(G10,I10,O10,Q10),2) -> 4.4059884e+08 | T10: =ROUND(MAX(G10,I10,O10,Q10),2) -> 649219700 | U10: =ROUND(AVERAGE(G10,I10,O10,Q10),2) -> 5.7059581e+08 | V10: =ROUND(AVERAGE(S10,U10),2) -> 5.0559732e+08 | W10: =+(U10/S10)-1 -> 0.29504611 | Y10: =V10 -> 5.0559732e+08 | Z10: =ROUND(Y10*19%,2) -> 96063492 | AA10: =ROUND(Y10+Z10,2) -> 6.0166082e+08 | AB10: =ROUND(AA10*E10,2) -> 6.0166082e+08
B11: 2 | C11: Soporte Técnico con mantenimientos preventivos y correctivos que sean necesarios para los subsistemas: - Subsistema de infraestructura de redes eléctricas y estructuradas - Subsistema de CCTV y control de acceso - Subsistema de extinción de incendios - Subsistema de enfriamiento y de refrigeración - Subsistema arquitectónico De acuerdo con anexo de especificaciones técnicas CENTROS DE DATOS BOGOTA CENTRO DE DATOS EDIFICIO H (ZEUS). Ficha Técnica No. 2 | D11: SERVICIO | E11: 1 | G11: 752124370 | I11: 6.8966388e+08 | K11: 4.8944196e+08 | M11: 95242200 | O11: 512127440 | Q11: 630125000 | S11: =ROUND(MIN(G11,I11,O11,Q11),2) -> 512127440 | T11: =ROUND(MAX(G11,I11,O11,Q11),2) -> 752124370 | U11: =ROUND(AVERAGE(G11,I11,O11,Q11),2) -> 6.4601017e+08 | V11: =ROUND(AVERAGE(S11,U11),2) -> 5.7906881e+08 | W11: =+(U11/S11)-1 -> 0.26142464 | Y11: =V11 -> 5.7906881e+08 | Z11: =ROUND(Y11*19%,2) -> 1.1002307e+08 | AA11: =ROUND(Y11+Z11,2) -> 6.8909188e+08 | AB11: =ROUND(AA11*E11,2) -> 6.8909188e+08
B12: 3 | C12: Soporte Técnico con mantenimientos preventivos correctivos que sean necesarios para los Subsistemas: - Subsistema de infraestructura de redes eléctricas y estructuradas - Subsistema de enfriamiento y de refrigeración - Subsistema de extinción de incendios - Subsistema arquitectónico - Subsistema de CCTV y control de acceso De acuerdo con anexo de especificaciones técnicas CENTROS DE DATOS BOGOTÁ CENTRO DE DATOS INTERCEPTACIONES EDIFICIO L PISO 6 Y AZOTEA. Ficha Técnica No. 3 | D12: SERVICIO | E12: 1 | G12: 238853782 | I12: 1.5981236e+08 | K12: 428727600 | M12: 53821600 | O12: 420915616 | Q12: 591935600 | S12: =ROUND(MIN(G12,I12,O12),2) -> 1.5981236e+08 | T12: =ROUND(MAX(G12,I12,O12),2) -> 420915616 | U12: =ROUND(AVERAGE(G12,I12,O12),2) -> 2.7319392e+08 | V12: =ROUND(AVERAGE(S12,U12),2) -> 2.1650314e+08 | W12: =+(U12/S12)-1 -> 0.70946678 | Y12: =V12 -> 2.1650314e+08 | Z12: =ROUND(Y12*19%,2) -> 41135596 | AA12: =ROUND(Y12+Z12,2) -> 2.5763874e+08 | AB12: =ROUND(AA12*E12,2) -> 2.5763874e+08
B13: 4 | C13: Capacitación certificada en Certified Computer Room Designer (CCRD) de ICREA. (Capacitación para Funcionarios de la Fiscalía) | D13: CERTIFICACIÓN | E13: 3 | G13: 20000000 | I13: 14757858 | K13: 12379500 | M13: 14795200 | O13: 13846153 | Q13: 13000000 | S13: =ROUND(MIN(I13,O13,Q13),2) -> 13000000 | T13: =ROUND(MAX(I13,O13,Q13),2) -> 14757858 | U13: =ROUND(AVERAGE(I13,O13,Q13),2) -> 13868004 | V13: =ROUND(AVERAGE(S13,U13),2) -> 13434002 | W13: =+(U13/S13)-1 -> 0.066769515 | Y13: =U13 -> 13868004 | Z13: =ROUND(Y13*19%,2) -> 2634920.7 | AA13: =ROUND(Y13+Z13,2) -> 16502924 | AB13: =ROUND(AA13*E13,2) -> 49508773
B14: TOTAL | G14: =SUM(G10:G13) -> 1619341178 | I14: =SUM(I10:I13) -> 1.3048329e+09 | K14: =SUM(K10:K13) -> 1498683060 | M14: =SUM(M10:M13) -> 226636300 | O14: =SUM(O10:O13) -> 1531090889 | Q14: =SUM(Q10:Q13) -> 1884280300 | AB14: =ROUND(SUM(AB10:AB13),2) -> 1.5979002e+09
B16: NOTAS
B17: 1) La cotización 3 de SERVITRONICS SAS no se tomó en cuenta ya que, el proveedor modifica el formato de cotización incluyendo el ítem 5
B18: 2) La cotización 4 de INGENIERIA DE SISTEMAS TELEMATICOS S.A. - INISITEL S.A. no se tomó en cuenta ya que, no cumple con lo requerido por la entidad.
B19: 3) Los valores de las siguientes cotizaciones no serán considerados dentro del análisis, en la medida en que se identifican como un dato atípico frente al comportamiento del mercado. Lo anterior, por cuanto dicho valor excede los límites inferior y superior establecidos mediante el método del rango intercuartílico, calculado a partir del primer cuartil (25%), lo que evidencia una desviación significativa respecto de los valores de referencia. Esta determinación se adopta en cumplimiento de lo previsto en el numeral 8.3.4 de la Guía para la Elaboración de Estudios de Sector, así: Cotización 1: ítem 4 Cotización 6: ítem 3
B20: 4) Para determinar los valores sobre cotizaciones se aplica las siguientes fórmulas: - Media aritmética baja para los ítems 1, 2 y 3 - Promedio para el ítem 4
B21: 5) En el presente análisis se aplicó el procedimiento de aproximación generalmente aceptado por las reglas matemáticas denominado redondeo, que consiste en acercar los valores decimales al número entero más aproximado (esto es, si el tercer decimal es menor que 5, el segundo decimal se mantiene; si el tercer decimal es igual o mayor que 5, el segundo decimal se incrementa en uno).
B23: Estudio del Sector 422
B24: Fecha de elaboración: 03/09/2026
B25: Fecha de modificación: 04/09/2026

Sheet ANEXO 2
B2: ANEXO 2 - ANÁLISIS PARA ESTABLECEL EL VALOR FINAL
F3: SUSCRIPCIÓN AL SERVICIO DE SOPORTE TÉCNICO CON MANTENIMIENTO CORRECTIVO, PREVENTIVO PARA LOS SUBSISTEMAS QUE SOPORTAN LOS COMPONENTES DE LOS CENTROS DE DATOS DE LA FISCALÍA GENERAL DE LA NACIÓN.
B5: NECESIDAD | G5: ANÁLISIS DE COTIZACIONES | L5: VALOR SELECCIONADO
B6: ITEM | C6: DESCRIPCIÓN DEL BIEN O SERVICIO | D6: UNIDAD DE MEDIDA | E6: CANTIDAD | G6: VALOR UNITARIO SIN IVA | H6: IVA UNITARIO | I6: VALOR UNITARIO INCLUIDO IVA | J6: VALOR TOTAL INCLUIDO IVA | L6: VALOR UNITARIO SIN IVA | M6: IVA UNITARIO | N6: VALOR UNITARIO INCLUIDO IVA | O6: VALOR TOTAL INCLUIDO IVA
B7: 1 | C7: Soporte Técnico con mantenimientos preventivos y correctivos que sean necesarios para los subsistemas: - Subsistema de infraestructura de redes eléctricas y estructuradas - Subsistema de CCTV y control de acceso - Subsistema de extinción de incendios - Subsistema de enfriamiento y de refrigeración - Subsistema arquitectónico De acuerdo con anexo de especificaciones técnicas CENTROS DE DATOS BOGOTÁ CENTRO DE DATOS EDIFICIO GUSTAVO DE GREIFF. Ficha Técnica No. 1 | D7: SERVICIO | E7: 1 | G7: ='ANEXO 1'!Y10 -> 5.0559732e+08 | H7: =ROUND(G7*19%,2) -> 96063492 | I7: =ROUND(G7+H7,2) -> 6.0166082e+08 | J7: =ROUND(I7*E7,2) -> 6.0166082e+08 | L7: =G7 -> 5.0559732e+08 | M7: =ROUND(L7*19%,2) -> 96063492 | N7: =ROUND(L7+M7,2) -> 6.0166082e+08 | O7: =ROUND(N7*E7,2) -> 6.0166082e+08
B8: 2 | C8: Soporte Técnico con mantenimientos preventivos y correctivos que sean necesarios para los subsistemas: - Subsistema de infraestructura de redes eléctricas y estructuradas - Subsistema de CCTV y control de acceso - Subsistema de extinción de incendios - Subsistema de enfriamiento y de refrigeración - Subsistema arquitectónico De acuerdo con anexo de especificaciones técnicas CENTROS DE DATOS BOGOTA CENTRO DE DATOS EDIFICIO H (ZEUS). Ficha Técnica No. 2 | D8: SERVICIO | E8: 1 | G8: ='ANEXO 1'!Y11 -> 5.7906881e+08 | H8: =ROUND(G8*19%,2) -> 1.1002307e+08 | I8: =ROUND(G8+H8,2) -> 6.8909188e+08 | J8: =ROUND(I8*E8,2) -> 6.8909188e+08 | L8: =G8 -> 5.7906881e+08 | M8: =ROUND(L8*19%,2) -> 1.1002307e+08 | N8: =ROUND(L8+M8,2) -> 6.8909188e+08 | O8: =ROUND(N8*E8,2) -> 6.8909188e+08
B9: 3 | C9: Soporte Técnico con mantenimientos preventivos correctivos que sean necesarios para los Subsistemas: - Subsistema de infraestructura de redes eléctricas y estructuradas - Subsistema de enfriamiento y de refrigeración - Subsistema de extinción de incendios - Subsistema arquitectónico - Subsistema de CCTV y control de acceso De acuerdo con anexo de especificaciones técnicas CENTROS DE DATOS BOGOTÁ CENTRO DE DATOS INTERCEPTACIONES EDIFICIO L PISO 6 Y AZOTEA. Ficha Técnica No. 3 | D9: SERVICIO | E9: 1 | G9: ='ANEXO 1'!Y12 -> 2.1650314e+08 | H9: =ROUND(G9*19%,2) -> 41135596 | I9: =ROUND(G9+H9,2) -> 2.5763874e+08 | J9: =ROUND(I9*E9,2) -> 2.5763874e+08 | L9: =G9 -> 2.1650314e+08 | M9: =ROUND(L9*19%,2) -> 41135596 | N9: =ROUND(L9+M9,2) -> 2.5763874e+08 | O9: =ROUND(N9*E9,2) -> 2.5763874e+08
B10: 4 | C10: Capacitación certificada en Certified Computer Room Designer (CCRD) de ICREA. (Capacitación para Funcionarios de la Fiscalía) | D10: CERTIFICACIÓN | E10: 3 | G10: ='ANEXO 1'!Y13 -> 13868004 | H10: =ROUND(G10*19%,2) -> 2634920.7 | I10: =ROUND(G10+H10,2) -> 16502924 | J10: =ROUND(I10*E10,2) -> 49508773 | L10: =G10 -> 13868004 | M10: =ROUND(L10*19%,2) -> 2634920.7 | N10: =ROUND(L10+M10,2) -> 16502924 | O10: =ROUND(N10*E10,2) -> 49508773
B11: TOTAL | O11: =ROUND(SUM(O7:O10),2) -> 1.5979002e+09
B13: NOTAS
B14: 1) Para establecer los valores definitivos se tomó la variable sobre cotizaciones, aplicando las fórmulas de promedio y media aritmética.
B15: 2) En el presente análisis se aplicó el procedimiento de aproximación generalmente aceptado por las reglas matemáticas denominado redondeo, que consiste en acercar los valores decimales al número entero más aproximado (esto es, si el tercer decimal es menor que 5, el segundo decimal se mantiene; si el tercer decimal es igual o mayor que 5, el segundo decimal se incrementa en uno).
B17: Estudio del Sector 422
B18: Fecha de elaboración: 03/09/2026
B19: Fecha de modificación: 04/09/2026

Sheet ANEXO 3
B2: ANEXO 3 - ESTUDIO DEL SECTOR DEFINITIVO
F3: SUSCRIPCIÓN AL SERVICIO DE SOPORTE TÉCNICO CON MANTENIMIENTO CORRECTIVO, PREVENTIVO PARA LOS SUBSISTEMAS QUE SOPORTAN LOS COMPONENTES DE LOS CENTROS DE DATOS DE LA FISCALÍA GENERAL DE LA NACIÓN.
B5: NECESIDAD | G5: ANÁLISIS DE COTIZACIONES | L5: VALOR SELECCIONADO
B6: ITEM | C6: DESCRIPCIÓN DEL BIEN O SERVICIO | D6: UNIDAD DE MEDIDA | E6: CANTIDAD | G6: VALOR UNITARIO SIN IVA | H6: IVA UNITARIO | I6: VALOR UNITARIO INCLUIDO IVA | J6: VALOR TOTAL INCLUIDO IVA | L6: VALOR UNITARIO SIN IVA | M6: IVA UNITARIO | N6: VALOR UNITARIO INCLUIDO IVA | O6: VALOR TOTAL INCLUIDO IVA
B7: 1 | C7: Soporte Técnico con mantenimientos preventivos y correctivos que sean necesarios para los subsistemas: - Subsistema de infraestructura de redes eléctricas y estructuradas - Subsistema de CCTV y control de acceso - Subsistema de extinción de incendios - Subsistema de enfriamiento y de refrigeración - Subsistema arquitectónico De acuerdo con anexo de especificaciones técnicas CENTROS DE DATOS BOGOTÁ CENTRO DE DATOS EDIFICIO GUSTAVO DE GREIFF. Ficha Técnica No. 1 | D7: SERVICIO | E7: 1 | G7: ='ANEXO 1'!Y10 -> 5.0559732e+08 | H7: =ROUND(G7*19%,2) -> 96063492 | I7: =ROUND(G7+H7,2) -> 6.0166082e+08 | J7: =ROUND(I7*E7,2) -> 6.0166082e+08 | L7: ='ANEXO 2'!L7 -> 5.0559732e+08 | M7: =ROUND(L7*19%,2) -> 96063492 | N7: =ROUND(L7+M7,2) -> 6.0166082e+08 | O7: =ROUND(N7*E7,2) -> 6.0166082e+08
B8: 2 | C8: Soporte Técnico con mantenimientos preventivos y correctivos que sean necesarios para los subsistemas: - Subsistema de infraestructura de redes eléctricas y estructuradas - Subsistema de CCTV y control de acceso - Subsistema de extinción de incendios - Subsistema de enfriamiento y de refrigeración - Subsistema arquitectónico De acuerdo con anexo de especificaciones técnicas CENTROS DE DATOS BOGOTA CENTRO DE DATOS EDIFICIO H (ZEUS). Ficha Técnica No. 2 | D8: SERVICIO | E8: 1 | G8: ='ANEXO 1'!Y11 -> 5.7906881e+08 | H8: =ROUND(G8*19%,2) -> 1.1002307e+08 | I8: =ROUND(G8+H8,2) -> 6.8909188e+08 | J8: =ROUND(I8*E8,2) -> 6.8909188e+08 | L8: ='ANEXO 2'!L8 -> 5.7906881e+08 | M8: =ROUND(L8*19%,2) -> 1.1002307e+08 | N8: =ROUND(L8+M8,2) -> 6.8909188e+08 | O8: =ROUND(N8*E8,2) -> 6.8909188e+08
B9: 3 | C9: Soporte Técnico con mantenimientos preventivos correctivos que sean necesarios para los Subsistemas: - Subsistema de infraestructura de redes eléctricas y estructuradas - Subsistema de enfriamiento y de refrigeración - Subsistema de extinción de incendios - Subsistema arquitectónico - Subsistema de CCTV y control de acceso De acuerdo con anexo de especificaciones técnicas CENTROS DE DATOS BOGOTÁ CENTRO DE DATOS INTERCEPTACIONES EDIFICIO L PISO 6 Y AZOTEA. Ficha Técnica No. 3 | D9: SERVICIO | E9: 1 | G9: ='ANEXO 1'!Y12 -> 2.1650314e+08 | H9: =ROUND(G9*19%,2) -> 41135596 | I9: =ROUND(G9+H9,2) -> 2.5763874e+08 | J9: =ROUND(I9*E9,2) -> 2.5763874e+08 | L9: ='ANEXO 2'!L9 -> 2.1650314e+08 | M9: =ROUND(L9*19%,2) -> 41135596 | N9: =ROUND(L9+M9,2) -> 2.5763874e+08 | O9: =ROUND(N9*E9,2) -> 2.5763874e+08
B10: 4 | C10: Capacitación certificada en Certified Computer Room Designer (CCRD) de ICREA. (Capacitación para Funcionarios de la Fiscalía) | D10: CERTIFICACIÓN | E10: 3 | G10: ='ANEXO 1'!Y13 -> 13868004 | H10: =ROUND(G10*19%,2) -> 2634920.7 | I10: =ROUND(G10+H10,2) -> 16502924 | J10: =ROUND(I10*E10,2) -> 49508773 | L10: ='ANEXO 2'!L10 -> 13868004 | M10: =ROUND(L10*19%,2) -> 2634920.7 | N10: =ROUND(L10+M10,2) -> 16502924 | O10: =ROUND(N10*E10,2) -> 49508773
B11: TOTAL | O11: =ROUND(SUM(O7:O10),2) -> 1.5979002e+09
B13: NOTA
B14: En el presente análisis se aplicó el procedimiento de aproximación generalmente aceptado por las reglas matemáticas denominado redondeo, que consiste en acercar los valores decimales al número entero más aproximado (esto es, si el tercer decimal es menor que 5, el segundo decimal se mantiene; si el tercer decimal es igual o mayor que 5, el segundo decimal se incrementa en uno).
B16: Estudio del Sector 422
B17: Fecha de elaboración: 03/09/2026
B18: Fecha de modificación: 04/09/2026

Sheet Hoja3
E3: NECESIDAD | F3: PRESUPUESTO TOTAL ASIGNADO VIGENCIA 2026 1 MES (VALORES UNITARIOS) | G3: PRESUPUESTO TOTAL ASIGNADO VIGENCIA 2027 12 MESES - 4,4% (VALORES UNITARIOS) | H3: PRESUPUESTO TOTAL ASIGNADO VIGENCIA 2028 11 MESES - 3% (VALORES UNITARIOS) | I3: PRESUPUESTO TOTAL ASIGNADO AL PROCESO VIGENCIAS 2026, 2027 Y 2028 24 MESES (VALORES UNITARIOS)
E4: MATERIALES ELÉCTRICOS Y DE FERRETERÍA | F4: =#REF! -> #REF! | G4: =#REF! -> #REF! | H4: =#REF! -> #REF! | I4: =F4+G4+H4 -> #REF!
