Workbook

Sheet ProyecciónFinal_2
B3: =+CosteoIndividual2!B2 -> RESUMEN COTIZACIONES DE PRECIOS - Matriz de Calculo - FDLB-ES-C-099-2026
B5: ITEM | C5: PRODUCTO O SERVICIO | D5: ESPECIFICACION TECNICA | E5: UNIDAD DE MEDIDA A COTIZAR | F5: CANTIDAD A COTIZAR | G5: VALOR UNITARIO PROMEDIO O MEDIANA (INCLUIDO IVA SI APLICA) | H5: VALOR PROMEDIO O MEDIANA TOTAL (INCLUIDO IVA SI APLICA) | I5: FUENTE DE CONSULTA | J5: DESVIACIÓN ESTÁNDAR | K5: SI DESVEST ES >15% SE PROMEDIA CON MEDIANA | L5: Tecnica Utilizada
B6: =CosteoIndividual2!B7 -> 1 | C6: =CosteoIndividual2!C7 -> Planificación y diagnóstico | D6: =CosteoIndividual2!D7 -> Recopilación, consolidación y análisis de información secundaria disponible, incluyendo cartografía oficial, ortofotos, coberturas y usos del suelo, espacio público, áreas de cesión y demás insumos técnicos requeridos para la identificación preliminar y priorización de áreas potenciales susceptibles de renaturalización, mediante criterios espaciales y de viabilidad técnica. | E6: =CosteoIndividual2!F7 -> UN | F6: =CosteoIndividual2!G7 -> 1 | G6: =CosteoIndividual2!K7 -> 5061334 | H6: =CosteoIndividual2!L7 -> 5061334 | I6: =CosteoIndividual2!M7 -> FDLB-ES-C-099-2026 MACRO 7 | J6: =CosteoIndividual2!N7 -> 55771.431 | K6: =CosteoIndividual2!O7 -> 0.011019117 | L6: =IF(K6="","",IF(K6<0.15,"Promedio","Mediana")) -> Promedio
B7: =CosteoIndividual2!B8 -> 2 | C7: =CosteoIndividual2!C8 -> Planificación y diagnóstico | D7: =CosteoIndividual2!D8 -> Revisión e incorporación de lineamientos técnicos, ambientales y territoriales emitidos por las entidades competentes, aplicables a los procesos de renaturalización y priorización de áreas de intervención. | E7: =CosteoIndividual2!F8 -> UN | F7: =CosteoIndividual2!G8 -> 1 | G7: =CosteoIndividual2!K8 -> 5061334 | H7: =CosteoIndividual2!L8 -> 5061334 | I7: =CosteoIndividual2!M8 -> FDLB-ES-C-099-2026 MACRO 7 | J7: =CosteoIndividual2!N8 -> 55771.431 | K7: =CosteoIndividual2!O8 -> 0.011019117 | L7: =IF(K7="","",IF(K7<0.15,"Promedio","Mediana")) -> Promedio
B8: =CosteoIndividual2!B9 -> 3 | C8: =CosteoIndividual2!C9 -> Planificación y diagnóstico | D8: =CosteoIndividual2!D9 -> Definición y ajuste técnico preliminar de las áreas priorizadas para intervención, mediante delimitación geográfica, verificación de condiciones espaciales y análisis de viabilidad para procesos de renaturalización. | E8: =CosteoIndividual2!F9 -> UN | F8: =CosteoIndividual2!G9 -> 1 | G8: =CosteoIndividual2!K9 -> 5061334 | H8: =CosteoIndividual2!L9 -> 5061334 | I8: =CosteoIndividual2!M9 -> FDLB-ES-C-099-2026 MACRO 7 | J8: =CosteoIndividual2!N9 -> 55771.431 | K8: =CosteoIndividual2!O9 -> 0.011019117 | L8: =IF(K8="","",IF(K8<0.15,"Promedio","Mediana")) -> Promedio
B9: =CosteoIndividual2!B10 -> 4 | C9: =CosteoIndividual2!C10 -> Planificación y diagnóstico | D9: =CosteoIndividual2!D10 -> Verificación en campo de las áreas priorizadas mediante visitas técnicas, incluyendo la validación de condiciones físicas, espaciales, ambientales, operativas y sociales, así como posibles restricciones, conflictos de uso y percepción comunitaria frente a la viabilidad preliminar de las intervenciones de renaturalización. | E9: =CosteoIndividual2!F10 -> UN | F9: =CosteoIndividual2!G10 -> 1 | G9: =CosteoIndividual2!K10 -> 5061334 | H9: =CosteoIndividual2!L10 -> 5061334 | I9: =CosteoIndividual2!M10 -> FDLB-ES-C-099-2026 MACRO 7 | J9: =CosteoIndividual2!N10 -> 55771.431 | K9: =CosteoIndividual2!O10 -> 0.011019117 | L9: =IF(K9="","",IF(K9<0.15,"Promedio","Mediana")) -> Promedio
B10: =CosteoIndividual2!B11 -> 5 | C10: =CosteoIndividual2!C11 -> Planificación y diagnóstico | D10: =CosteoIndividual2!D11 -> Clasificación y caracterización preliminar de las superficies y coberturas identificadas, de acuerdo con su tipo, extensión, estado físico, condiciones de permeabilidad y potencial de transformación para procesos de renaturalización. | E10: =CosteoIndividual2!F11 -> UN | F10: =CosteoIndividual2!G11 -> 1 | G10: =CosteoIndividual2!K11 -> 5061334 | H10: =CosteoIndividual2!L11 -> 5061334 | I10: =CosteoIndividual2!M11 -> FDLB-ES-C-099-2026 MACRO 7 | J10: =CosteoIndividual2!N11 -> 55771.431 | K10: =CosteoIndividual2!O11 -> 0.011019117 | L10: =IF(K10="","",IF(K10<0.15,"Promedio","Mediana")) -> Promedio
B11: =CosteoIndividual2!B12 -> 6 | C11: =CosteoIndividual2!C12 -> Diseño técnico de las áreas renaturalizadas | D11: =CosteoIndividual2!D12 -> Evaluación técnica preliminar de las condiciones constructivas y operativas de las áreas priorizadas, incluyendo análisis de superficies existentes, requerimientos de demolición, excavación o adecuación, y demás condiciones relevantes para la implementación de las intervenciones de renaturalización. | E11: =CosteoIndividual2!F12 -> UN | F11: =CosteoIndividual2!G12 -> 1 | G11: =CosteoIndividual2!K12 -> 5061334 | H11: =CosteoIndividual2!L12 -> 5061334 | I11: =CosteoIndividual2!M12 -> FDLB-ES-C-099-2026 MACRO 7 | J11: =CosteoIndividual2!N12 -> 55771.431 | K11: =CosteoIndividual2!O12 -> 0.011019117 | L11: =IF(K11="","",IF(K11<0.15,"Promedio","Mediana")) -> Promedio
B12: =CosteoIndividual2!B13 -> 7 | C12: =CosteoIndividual2!C13 -> Diseño técnico de las áreas renaturalizadas | D12: =CosteoIndividual2!D13 -> Análisis preliminar de viabilidad técnica y operativa para la intervención de las áreas priorizadas, considerando las condiciones de remoción, adecuación o transformación de superficies existentes, estimación preliminar de material a retirar, accesibilidad operativa para maquinaria o intervención manual, posibles interferencias con redes de servicios públicos e infraestructura urbana, restricciones técnicas y normativas, requerimientos técnicos, riesgos asociados y demás condiciones relevantes para la implementación de procesos de renaturalización. | E12: =CosteoIndividual2!F13 -> UN | F12: =CosteoIndividual2!G13 -> 1 | G12: =CosteoIndividual2!K13 -> 5061334 | H12: =CosteoIndividual2!L13 -> 5061334 | I12: =CosteoIndividual2!M13 -> FDLB-ES-C-099-2026 MACRO 7 | J12: =CosteoIndividual2!N13 -> 55771.431 | K12: =CosteoIndividual2!O13 -> 0.011019117 | L12: =IF(K12="","",IF(K12<0.15,"Promedio","Mediana")) -> Promedio
B13: =CosteoIndividual2!B14 -> 8 | C13: =CosteoIndividual2!C14 -> Diseño técnico de las áreas renaturalizadas | D13: =CosteoIndividual2!D14 -> Articulación y gestión técnica con las entidades administradoras o competentes sobre las áreas priorizadas, para la socialización, validación y viabilidad preliminar de las intervenciones propuestas de renaturalización. | E13: =CosteoIndividual2!F14 -> UN | F13: =CosteoIndividual2!G14 -> 1 | G13: =CosteoIndividual2!K14 -> 5061334 | H13: =CosteoIndividual2!L14 -> 5061334 | I13: =CosteoIndividual2!M14 -> FDLB-ES-C-099-2026 MACRO 7 | J13: =CosteoIndividual2!N14 -> 55771.431 | K13: =CosteoIndividual2!O14 -> 0.011019117 | L13: =IF(K13="","",IF(K13<0.15,"Promedio","Mediana")) -> Promedio
B14: =CosteoIndividual2!B15 -> 9 | C14: =CosteoIndividual2!C15 -> Diseño técnico de las áreas renaturalizadas | D14: =CosteoIndividual2!D15 -> Formulación conceptual de las intervenciones de renaturalización para las áreas priorizadas, incluyendo definición de tipologías y tratamientos, criterios de implantación vegetal, manejo de coberturas, estrategias de integración ambiental y demás lineamientos técnicos requeridos para la implementación, contemplando las observaciones y lineamientos emitidos por las entidades administradoras o competentes. | E14: =CosteoIndividual2!F15 -> UN | F14: =CosteoIndividual2!G15 -> 1 | G14: =CosteoIndividual2!K15 -> 5061334 | H14: =CosteoIndividual2!L15 -> 5061334 | I14: =CosteoIndividual2!M15 -> FDLB-ES-C-099-2026 MACRO 7 | J14: =CosteoIndividual2!N15 -> 55771.431 | K14: =CosteoIndividual2!O15 -> 0.011019117 | L14: =IF(K14="","",IF(K14<0.15,"Promedio","Mediana")) -> Promedio
B15: =CosteoIndividual2!B16 -> 10 | C15: =CosteoIndividual2!C16 -> Diseño técnico de las áreas renaturalizadas | D15: =CosteoIndividual2!D16 -> Selección preliminar de especies vegetales y coberturas asociadas para las intervenciones de renaturalización, de acuerdo con las condiciones ambientales, espaciales y funcionales de cada área priorizada, en articulación con el Jardín Botánico de Bogotá y las entidades administradoras o competentes sobre los espacios objeto de intervención. | E15: =CosteoIndividual2!F16 -> UN | F15: =CosteoIndividual2!G16 -> 1 | G15: =CosteoIndividual2!K16 -> 5061334 | H15: =CosteoIndividual2!L16 -> 5061334 | I15: =CosteoIndividual2!M16 -> FDLB-ES-C-099-2026 MACRO 7 | J15: =CosteoIndividual2!N16 -> 55771.431 | K15: =CosteoIndividual2!O16 -> 0.011019117 | L15: =IF(K15="","",IF(K15<0.15,"Promedio","Mediana")) -> Promedio
B16: =CosteoIndividual2!B17 -> 11 | C16: =CosteoIndividual2!C17 -> Preparación del terreno y adecuación de las áreas renaturalizadas | D16: =CosteoIndividual2!D17 -> Retiro, demolición o adecuación controlada de pavimentos, superficies impermeables u otras coberturas artificiales presentes en las áreas objeto de intervención, de acuerdo con las condiciones técnicas y diseños definidos para los procesos de renaturalización. Incluye el cargue, transporte y disposición final de los residuos de construcción y demolición (RCD) y demás materiales generados durante la ejecución de la actividad, en sitios autorizados, de conformidad con la normativa ambiental vigente. | E16: =CosteoIndividual2!F17 -> M2 | F16: =CosteoIndividual2!G17 -> 1 | G16: =CosteoIndividual2!K17 -> 62956 | H16: =CosteoIndividual2!L17 -> 62956 | I16: =CosteoIndividual2!M17 -> FDLB-ES-C-099-2026 MACRO 7 | J16: =CosteoIndividual2!N17 -> 693.71852 | K16: =CosteoIndividual2!O17 -> 0.011019117 | L16: =IF(K16="","",IF(K16<0.15,"Promedio","Mediana")) -> Promedio
B17: =CosteoIndividual2!B18 -> 12 | C17: =CosteoIndividual2!C18 -> Preparación del terreno y adecuación de las áreas renaturalizadas | D17: =CosteoIndividual2!D18 -> Excavación, conformación y adecuación preliminar del terreno en las áreas intervenidas, de acuerdo con los requerimientos técnicos definidos para los procesos de renaturalización. Incluye el cargue, transporte, reutilización cuando sea técnicamente viable y disposición final del material sobrante producto de la excavación, en los casos en que aplique y conforme a la normativa ambiental vigente. | E17: =CosteoIndividual2!F18 -> M3 | F17: =CosteoIndividual2!G18 -> 1 | G17: =CosteoIndividual2!K18 -> 75920 | H17: =CosteoIndividual2!L18 -> 75920 | I17: =CosteoIndividual2!M18 -> FDLB-ES-C-099-2026 MACRO 7 | J17: =CosteoIndividual2!N18 -> 836.57146 | K17: =CosteoIndividual2!O18 -> 0.011019117 | L17: =IF(K17="","",IF(K17<0.15,"Promedio","Mediana")) -> Promedio
... B178: =CosteoIndividual2!B179 -> 173 | C178: =CosteoIndividual2!C179 -> Pendones | D178: =CosteoIndividual2!D179 -> Pendones verticales tipo roll-up, con una medida de 90 cm X 180 cm, tipo lona vinilica banner con impresión a todo color, con una estructura enrollable y base de aluminio, debe contener la imagen visual de hackathon de innovación, alcaldía local de bosa y laboratorio de innovación conforme al diseño suministrado por la entidad | E178: =CosteoIndividual2!F179 -> UN | F178: =CosteoIndividual2!G179 -> 1 | G178: =CosteoIndividual2!K179 -> 121472 | H178: =CosteoIndividual2!L179 -> 121472 | I178: =CosteoIndividual2!M179 -> FDLB-ES-C-099-2026 MACRO 7 | J178: =CosteoIndividual2!N179 -> 1338.5143 | K178: =CosteoIndividual2!O179 -> 0.011019117 | L178: =IF(K178="","",IF(K178<0.15,"Promedio","Mediana")) -> Promedio
F179: TOTAL | H179: =SUM(H6:H178) -> 100442116

Sheet Hoja1
C5: COTIZACIONES POR CORREO ELECTRONICO
C7: PROVEEDORES | D7: 3099
C8: COTIZACIONES | D8: 3

Sheet CosteoIndividual2
B2: RESUMEN COTIZACIONES DE PRECIOS - Matriz de Calculo - FDLB-ES-C-099-2026
H4: (PROCESO)
H5: CORPORACIÓN VIKN NIT: 901001515 | I5: CORPORACION DIGERATI NIT: 900360948-5 | J5: CONADES NIT: 832003656-3
B6: ITEM | C6: PRODUCTO O SERVICIO | D6: ESPECIFICACION TECNICA | E6: DESCRIPCION TECNICA | F6: UNIDAD DE MEDIDA A COTIZAR | G6: CANTIDAD A COTIZAR | H6: Cotización 1 VALOR UNITARIO (INCLUIDO IVA SI APLICA) | I6: Cotización 2 VALOR UNITARIO (INCLUIDO IVA SI APLICA) | J6: Cotización 3 VALOR UNITARIO (INCLUIDO IVA SI APLICA) | K6: VALOR UNITARIO PROMEDIO O MEDIANA (INCLUIDO IVA SI APLICA) | L6: VALOR PROMEDIO O MEDIANA TOTAL (INCLUIDO IVA SI APLICA) | M6: FUENTE DE CONSULTA | N6: DESVIACIÓN ESTÁNDAR | O6: SI DESVEST ES >15% SE PROMEDIA CON MEDIANA | Q6: Cotizaciones Elemento | R6: Probabilidad Ahorro | T6: GRANDES SUPERFICIES | U6: GRANDES SUPERFICIES | V6: VALOR UNITARIO PROMEDIO O MEDIANA (INCLUIDO IVA SI APLICA) | W6: % | X6: LINK
B7: 1 | C7: Planificación y diagnóstico | D7: Recopilación, consolidación y análisis de información secundaria disponible, incluyendo cartografía oficial, ortofotos, coberturas y usos del suelo, espacio público, áreas de cesión y demás insumos técnicos requeridos para la identificación preliminar y priorización de áreas potenciales susceptibles de renaturalización, mediante criterios espaciales y de viabilidad técnica. | E7: Como entregables de esta actividad se debe obtener la base geográfica editable y documento técnico de análisis preliminar que contenga la identificación, caracterización y priorización de áreas potenciales susceptibles de renaturalización, permitiendo proyectar el cumplimiento de la meta de intervención correspondiente a 1.000 m². | F7: UN | G7: 1 | H7: 5075000 | I7: 5000000 | J7: 5109002.5 | K7: =IFERROR(IF(O7>(0.15),ROUND(MEDIAN(H7:J7),0),ROUND(AVERAGE(H7:J7),0)),"") -> 5061334 | L7: =IFERROR(K7*G7,"") -> 5061334 | M7: FDLB-ES-C-099-2026 MACRO 7 | N7: =IFERROR(STDEV(H7:J7),"") -> 55771.431 | O7: =IFERROR(N7/AVERAGE(H7:J7),"") -> 0.011019117 | Q7: =COUNTIF(H7:J7,">0") -> 3 | R7: =1-(MIN(H7:J7)/K7) -> 0.012118149 | V7: =IFERROR(IF(O7>(0.15),ROUND(MEDIAN(T7:U7),0),ROUND(AVERAGE(T7:U7),0)),"")
B8: 2 | C8: Planificación y diagnóstico | D8: Revisión e incorporación de lineamientos técnicos, ambientales y territoriales emitidos por las entidades competentes, aplicables a los procesos de renaturalización y priorización de áreas de intervención. | F8: UN | G8: 1 | H8: 5075000 | I8: 5000000 | J8: 5109002.5 | K8: =IFERROR(IF(O8>(0.15),ROUND(MEDIAN(H8:J8),0),ROUND(AVERAGE(H8:J8),0)),"") -> 5061334 | L8: =IFERROR(K8*G8,"") -> 5061334 | M8: FDLB-ES-C-099-2026 MACRO 7 | N8: =IFERROR(STDEV(H8:J8),"") -> 55771.431 | O8: =IFERROR(N8/AVERAGE(H8:J8),"") -> 0.011019117 | Q8: =COUNTIF(H8:J8,">0") -> 3 | R8: =1-(MIN(H8:J8)/K8) -> 0.012118149
B9: 3 | C9: Planificación y diagnóstico | D9: Definición y ajuste técnico preliminar de las áreas priorizadas para intervención, mediante delimitación geográfica, verificación de condiciones espaciales y análisis de viabilidad para procesos de renaturalización. | E9: Como entregables de esta actividad se debe obtener la capa geográfica editable con la delimitación preliminar de las áreas priorizadas para intervención y cuadro consolidado con áreas estimadas, localización y observaciones de viabilidad técnica. | F9: UN | G9: 1 | H9: 5075000 | I9: 5000000 | J9: 5109002.5 | K9: =IFERROR(IF(O9>(0.15),ROUND(MEDIAN(H9:J9),0),ROUND(AVERAGE(H9:J9),0)),"") -> 5061334 | L9: =IFERROR(K9*G9,"") -> 5061334 | M9: FDLB-ES-C-099-2026 MACRO 7 | N9: =IFERROR(STDEV(H9:J9),"") -> 55771.431 | O9: =IFERROR(N9/AVERAGE(H9:J9),"") -> 0.011019117 | Q9: =COUNTIF(H9:J9,">0") -> 3 | R9: =1-(MIN(H9:J9)/K9) -> 0.012118149
B10: 4 | C10: Planificación y diagnóstico | D10: Verificación en campo de las áreas priorizadas mediante visitas técnicas, incluyendo la validación de condiciones físicas, espaciales, ambientales, operativas y sociales, así como posibles restricciones, conflictos de uso y percepción comunitaria frente a la viabilidad preliminar de las intervenciones de renaturalización. | E10: Como entregables de esta actividad se debe obtener una matriz consolidada de verificación en campo de las áreas priorizadas, que incluya información técnica, espacial, física, operativa y social de cada punto visitado, acompañada de registro fotográfico y observaciones preliminares de viabilidad para procesos de renaturalización. | F10: UN | G10: 1 | H10: 5075000 | I10: 5000000 | J10: 5109002.5 | K10: =IFERROR(IF(O10>(0.15),ROUND(MEDIAN(H10:J10),0),ROUND(AVERAGE(H10:J10),0)),"") -> 5061334 | L10: =IFERROR(K10*G10,"") -> 5061334 | M10: FDLB-ES-C-099-2026 MACRO 7 | N10: =IFERROR(STDEV(H10:J10),"") -> 55771.431 | O10: =IFERROR(N10/AVERAGE(H10:J10),"") -> 0.011019117 | Q10: =COUNTIF(H10:J10,">0") -> 3 | R10: =1-(MIN(H10:J10)/K10) -> 0.012118149
B11: 5 | C11: Planificación y diagnóstico | D11: Clasificación y caracterización preliminar de las superficies y coberturas identificadas, de acuerdo con su tipo, extensión, estado físico, condiciones de permeabilidad y potencial de transformación para procesos de renaturalización. | E11: Como entregables de esta actividad se debe generar un documento técnico que contenga la caracterización de las superficies y coberturas identificadas durante el diagnóstico, indicando su estado actual, condiciones de intervención y actividades preliminares recomendadas para procesos de renaturalización. | F11: UN | G11: 1 | H11: 5075000 | I11: 5000000 | J11: 5109002.5 | K11: =IFERROR(IF(O11>(0.15),ROUND(MEDIAN(H11:J11),0),ROUND(AVERAGE(H11:J11),0)),"") -> 5061334 | L11: =IFERROR(K11*G11,"") -> 5061334 | M11: FDLB-ES-C-099-2026 MACRO 7 | N11: =IFERROR(STDEV(H11:J11),"") -> 55771.431 | O11: =IFERROR(N11/AVERAGE(H11:J11),"") -> 0.011019117 | Q11: =COUNTIF(H11:J11,">0") -> 3 | R11: =1-(MIN(H11:J11)/K11) -> 0.012118149
B12: 6 | C12: Diseño técnico de las áreas renaturalizadas | D12: Evaluación técnica preliminar de las condiciones constructivas y operativas de las áreas priorizadas, incluyendo análisis de superficies existentes, requerimientos de demolición, excavación o adecuación, y demás condiciones relevantes para la implementación de las intervenciones de renaturalización. | E12: Como entregables de esta actividad se debe generar las fichas técnicas preliminares de intervención para las áreas priorizadas, incluyendo descripción de condiciones constructivas, requerimientos de adecuación, posibles actividades de demolición o excavación y observaciones operativas para la implementación. | F12: UN | G12: 1 | H12: 5075000 | I12: 5000000 | J12: 5109002.5 | K12: =IFERROR(IF(O12>(0.15),ROUND(MEDIAN(H12:J12),0),ROUND(AVERAGE(H12:J12),0)),"") -> 5061334 | L12: =IFERROR(K12*G12,"") -> 5061334 | M12: FDLB-ES-C-099-2026 MACRO 7 | N12: =IFERROR(STDEV(H12:J12),"") -> 55771.431 | O12: =IFERROR(N12/AVERAGE(H12:J12),"") -> 0.011019117 | Q12: =COUNTIF(H12:J12,">0") -> 3 | R12: =1-(MIN(H12:J12)/K12) -> 0.012118149
B13: 7 | C13: Diseño técnico de las áreas renaturalizadas | D13: Análisis preliminar de viabilidad técnica y operativa para la intervención de las áreas priorizadas, considerando las condiciones de remoción, adecuación o transformación de superficies existentes, estimación preliminar de material a retirar, accesibilidad operativa para maquinaria o intervención manual, posibles interferencias con redes de servicios públicos e infraestructura urbana, restricciones técnicas y normativas, requerimientos técnicos, riesgos asociados y demás condiciones relevantes para la implementación de procesos de renaturalización. | E13: Como entregables de esta actividad se debe generar un documento técnico preliminar de factibilidad de intervención, que incluya el análisis de viabilidad técnica y operativa de las áreas priorizadas, identificación preliminar de interferencias con redes de servicios públicos e infraestructura urbana, restricciones identificadas, métodos de intervención, requerimientos técnicos, riesgos asociados y clasificación de las áreas según su nivel preliminar de factibilidad de intervención (alta, media o baja) para la implementación de procesos de renaturalización. | F13: UN | G13: 1 | H13: 5075000 | I13: 5000000 | J13: 5109002.5 | K13: =IFERROR(IF(O13>(0.15),ROUND(MEDIAN(H13:J13),0),ROUND(AVERAGE(H13:J13),0)),"") -> 5061334 | L13: =IFERROR(K13*G13,"") -> 5061334 | M13: FDLB-ES-C-099-2026 MACRO 7 | N13: =IFERROR(STDEV(H13:J13),"") -> 55771.431 | O13: =IFERROR(N13/AVERAGE(H13:J13),"") -> 0.011019117 | Q13: =COUNTIF(H13:J13,">0") -> 3 | R13: =1-(MIN(H13:J13)/K13) -> 0.012118149
B14: 8 | C14: Diseño técnico de las áreas renaturalizadas | D14: Articulación y gestión técnica con las entidades administradoras o competentes sobre las áreas priorizadas, para la socialización, validación y viabilidad preliminar de las intervenciones propuestas de renaturalización. | F14: UN | G14: 1 | H14: 5075000 | I14: 5000000 | J14: 5109002.5 | K14: =IFERROR(IF(O14>(0.15),ROUND(MEDIAN(H14:J14),0),ROUND(AVERAGE(H14:J14),0)),"") -> 5061334 | L14: =IFERROR(K14*G14,"") -> 5061334 | M14: FDLB-ES-C-099-2026 MACRO 7 | N14: =IFERROR(STDEV(H14:J14),"") -> 55771.431 | O14: =IFERROR(N14/AVERAGE(H14:J14),"") -> 0.011019117 | Q14: =COUNTIF(H14:J14,">0") -> 3 | R14: =1-(MIN(H14:J14)/K14) -> 0.012118149
B15: 9 | C15: Diseño técnico de las áreas renaturalizadas | D15: Formulación conceptual de las intervenciones de renaturalización para las áreas priorizadas, incluyendo definición de tipologías y tratamientos, criterios de implantación vegetal, manejo de coberturas, estrategias de integración ambiental y demás lineamientos técnicos requeridos para la implementación, contemplando las observaciones y lineamientos emitidos por las entidades administradoras o competentes. | F15: UN | G15: 1 | H15: 5075000 | I15: 5000000 | J15: 5109002.5 | K15: =IFERROR(IF(O15>(0.15),ROUND(MEDIAN(H15:J15),0),ROUND(AVERAGE(H15:J15),0)),"") -> 5061334 | L15: =IFERROR(K15*G15,"") -> 5061334 | M15: FDLB-ES-C-099-2026 MACRO 7 | N15: =IFERROR(STDEV(H15:J15),"") -> 55771.431 | O15: =IFERROR(N15/AVERAGE(H15:J15),"") -> 0.011019117 | Q15: =COUNTIF(H15:J15,">0") -> 3 | R15: =1-(MIN(H15:J15)/K15) -> 0.012118149
B16: 10 | C16: Diseño técnico de las áreas renaturalizadas | D16: Selección preliminar de especies vegetales y coberturas asociadas para las intervenciones de renaturalización, de acuerdo con las condiciones ambientales, espaciales y funcionales de cada área priorizada, en articulación con el Jardín Botánico de Bogotá y las entidades administradoras o competentes sobre los espacios objeto de intervención. | E16: Como entregables de esta actividad se debe generar un listado preliminar de especies vegetales propuestas y soportes de articulación técnica adelantada con el Jardín Botánico de Bogotá y las entidades administradoras o competentes para la validación de las propuestas vegetales. | F16: UN | G16: 1 | H16: 5075000 | I16: 5000000 | J16: 5109002.5 | K16: =IFERROR(IF(O16>(0.15),ROUND(MEDIAN(H16:J16),0),ROUND(AVERAGE(H16:J16),0)),"") -> 5061334 | L16: =IFERROR(K16*G16,"") -> 5061334 | M16: FDLB-ES-C-099-2026 MACRO 7 | N16: =IFERROR(STDEV(H16:J16),"") -> 55771.431 | O16: =IFERROR(N16/AVERAGE(H16:J16),"") -> 0.011019117 | Q16: =COUNTIF(H16:J16,">0") -> 3 | R16: =1-(MIN(H16:J16)/K16) -> 0.012118149
B17: 11 | C17: Preparación del terreno y adecuación de las áreas renaturalizadas | D17: Retiro, demolición o adecuación controlada de pavimentos, superficies impermeables u otras coberturas artificiales presentes en las áreas objeto de intervención, de acuerdo con las condiciones técnicas y diseños definidos para los procesos de renaturalización. Incluye el cargue, transporte y disposición final de los residuos de construcción y demolición (RCD) y demás materiales generados durante la ejecución de la actividad, en sitios autorizados, de conformidad con la normativa ambiental vigente. | E17: Registro técnico y fotográfico de las actividades de retiro, demolición o adecuación realizadas en las áreas intervenidas, incluyendo la cuantificación preliminar de materiales retirados y su disposición correspondiente, cuando aplique. | F17: M2 | G17: 1 | H17: 63125.895 | I17: 62193 | J17: 63548.838 | K17: =IFERROR(IF(O17>(0.15),ROUND(MEDIAN(H17:J17),0),ROUND(AVERAGE(H17:J17),0)),"") -> 62956 | L17: =IFERROR(K17*G17,"") -> 62956 | M17: FDLB-ES-C-099-2026 MACRO 7 | N17: =IFERROR(STDEV(H17:J17),"") -> 693.71852 | O17: =IFERROR(N17/AVERAGE(H17:J17),"") -> 0.011019117 | Q17: =COUNTIF(H17:J17,">0") -> 3 | R17: =1-(MIN(H17:J17)/K17) -> 0.012119576
B18: 12 | C18: Preparación del terreno y adecuación de las áreas renaturalizadas | D18: Excavación, conformación y adecuación preliminar del terreno en las áreas intervenidas, de acuerdo con los requerimientos técnicos definidos para los procesos de renaturalización. Incluye el cargue, transporte, reutilización cuando sea técnicamente viable y disposición final del material sobrante producto de la excavación, en los casos en que aplique y conforme a la normativa ambiental vigente. | E18: Registro técnico y fotográfico de las actividades de excavación, conformación y adecuación del terreno realizadas en las áreas intervenidas. | F18: M3 | G18: 1 | H18: 76125 | I18: 75000 | J18: 76635.037 | K18: =IFERROR(IF(O18>(0.15),ROUND(MEDIAN(H18:J18),0),ROUND(AVERAGE(H18:J18),0)),"") -> 75920 | L18: =IFERROR(K18*G18,"") -> 75920 | M18: FDLB-ES-C-099-2026 MACRO 7 | N18: =IFERROR(STDEV(H18:J18),"") -> 836.57146 | O18: =IFERROR(N18/AVERAGE(H18:J18),"") -> 0.011019117 | Q18: =COUNTIF(H18:J18,">0") -> 3 | R18: =1-(MIN(H18:J18)/K18) -> 0.012118019
B19: 13 | C19: Preparación del terreno y adecuación de las áreas renaturalizadas | D19: Preparación y acondicionamiento del suelo en las áreas intervenidas, incluyendo actividades de remoción, aireación, perfilamiento y aplicación de enmiendas, mejoradores o sustratos, cuando las condiciones técnicas del terreno lo requieran para los procesos de renaturalización. | F19: M3 | G19: 1 | H19: 58870 | I19: 58000 | J19: 59264.429 | K19: =IFERROR(IF(O19>(0.15),ROUND(MEDIAN(H19:J19),0),ROUND(AVERAGE(H19:J19),0)),"") -> 58711 | L19: =IFERROR(K19*G19,"") -> 58711 | M19: FDLB-ES-C-099-2026 MACRO 7 | N19: =IFERROR(STDEV(H19:J19),"") -> 646.9486 | O19: =IFERROR(N19/AVERAGE(H19:J19),"") -> 0.011019117 | Q19: =COUNTIF(H19:J19,">0") -> 3 | R19: =1-(MIN(H19:J19)/K19) -> 0.012110167
B20: 14 | C20: Preparación del terreno y adecuación de las áreas renaturalizadas | D20: Implementación de elementos o soluciones de manejo hídrico y drenaje natural definidos en los diseños de intervención, cuando las condiciones técnicas de las áreas priorizadas lo requieran para favorecer los procesos de infiltración y renaturalización. | F20: M2 | G20: 1 | H20: 45675 | I20: 45000 | J20: 45981.022 | K20: =IFERROR(IF(O20>(0.15),ROUND(MEDIAN(H20:J20),0),ROUND(AVERAGE(H20:J20),0)),"") -> 45552 | L20: =IFERROR(K20*G20,"") -> 45552 | M20: FDLB-ES-C-099-2026 MACRO 7 | N20: =IFERROR(STDEV(H20:J20),"") -> 501.94288 | O20: =IFERROR(N20/AVERAGE(H20:J20),"") -> 0.011019117 | Q20: =COUNTIF(H20:J20,">0") -> 3 | R20: =1-(MIN(H20:J20)/K20) -> 0.012118019
B21: 15 | C21: Preparación del terreno y adecuación de las áreas renaturalizadas | D21: Ejecución de obras civiles complementarias requeridas para la adecuación y delimitación de las áreas intervenidas, incluyendo bordillos, remates, nivelaciones u otros elementos necesarios para la estabilidad, funcionalidad e integración de los procesos de renaturalización, de acuerdo con las necesidades identificadas en las fases de diagnóstico, factibilidad y diseño de intervención. Incluye el cargue, transporte, reutilización cuando sea técnicamente viable y disposición final de los materiales sobrantes y residuos de construcción y demolición (RCD) generados durante la ejecución de la actividad, en los casos en que aplique y de conformidad con la normativa vigente. | F21: M | G21: 1 | H21: 184730 | I21: 182000 | J21: 185967.69 | K21: =IFERROR(IF(O21>(0.15),ROUND(MEDIAN(H21:J21),0),ROUND(AVERAGE(H21:J21),0)),"") -> 184233 | L21: =IFERROR(K21*G21,"") -> 184233 | M21: FDLB-ES-C-099-2026 MACRO 7 | N21: =IFERROR(STDEV(H21:J21),"") -> 2030.0801 | O21: =IFERROR(N21/AVERAGE(H21:J21),"") -> 0.011019117 | Q21: =COUNTIF(H21:J21,">0") -> 3 | R21: =1-(MIN(H21:J21)/K21) -> 0.012120521
B22: 16 | C22: Implementación de la cobertura vegetal y elementos ecológicos | D22: Implementación integral de procesos de renaturalización y establecimiento de coberturas vegetales en las áreas intervenidas, de acuerdo con los diseños, tipologías y especies definidas durante la fase de diseño técnico y concertación institucional del proyecto. | F22: M2 | G22: 1 | H22: 53795 | I22: 53000 | J22: 54155.426 | K22: =IFERROR(IF(O22>(0.15),ROUND(MEDIAN(H22:J22),0),ROUND(AVERAGE(H22:J22),0)),"") -> 53650 | L22: =IFERROR(K22*G22,"") -> 53650 | M22: FDLB-ES-C-099-2026 MACRO 7 | N22: =IFERROR(STDEV(H22:J22),"") -> 591.17717 | O22: =IFERROR(N22/AVERAGE(H22:J22),"") -> 0.011019117 | Q22: =COUNTIF(H22:J22,">0") -> 3 | R22: =1-(MIN(H22:J22)/K22) -> 0.012115564
B23: 17 | C23: Implementación de la cobertura vegetal y elementos ecológicos | D23: Instalación de elementos básicos de señalización, delimitación o información ambiental asociados a las intervenciones de renaturalización, cuando las condiciones técnicas y administrativas de las áreas intervenidas lo permitan y requieran. | E23: Registro técnico y fotográfico de los elementos de señalización o información ambiental implementados en las áreas intervenidas. | F23: UN | G23: 1 | H23: 121800 | I23: 120000 | J23: 122616.06 | K23: =IFERROR(IF(O23>(0.15),ROUND(MEDIAN(H23:J23),0),ROUND(AVERAGE(H23:J23),0)),"") -> 121472 | L23: =IFERROR(K23*G23,"") -> 121472 | M23: FDLB-ES-C-099-2026 MACRO 7 | N23: =IFERROR(STDEV(H23:J23),"") -> 1338.5143 | O23: =IFERROR(N23/AVERAGE(H23:J23),"") -> 0.011019117 | Q23: =COUNTIF(H23:J23,">0") -> 3 | R23: =1-(MIN(H23:J23)/K23) -> 0.012118019
B24: 18 | C24: Alistamiento técnico y validación territorial | D24: Recopilación, revisión y análisis de información cartográfica, ambiental, territorial y urbanística disponible, incluyendo información de espacio público, coberturas vegetales, Estructura Ecológica Principal y demás insumos técnicos requeridos para la identificación preliminar de áreas con potencial de conectividad ecológica y fortalecimiento de conectores ecosistémicos. | F24: UN | G24: 1 | H24: 5075000 | I24: 5000000 | J24: 5109002.5 | K24: =IFERROR(IF(O24>(0.15),ROUND(MEDIAN(H24:J24),0),ROUND(AVERAGE(H24:J24),0)),"") -> 5061334 | L24: =IFERROR(K24*G24,"") -> 5061334 | M24: FDLB-ES-C-099-2026 MACRO 7 | N24: =IFERROR(STDEV(H24:J24),"") -> 55771.431 | O24: =IFERROR(N24/AVERAGE(H24:J24),"") -> 0.011019117 | Q24: =COUNTIF(H24:J24,">0") -> 3 | R24: =1-(MIN(H24:J24)/K24) -> 0.012118149
B25: 19 | C25: Alistamiento técnico y validación territorial | D25: Validación en campo de las áreas identificadas durante el análisis preliminar, verificando condiciones físicas, ambientales, paisajísticas y de accesibilidad, así como aspectos relacionados con conectividad ecológica, estado de coberturas, continuidad vegetal y posibles restricciones para la intervención. | F25: UN | G25: 1 | H25: 5075000 | I25: 5000000 | J25: 5109002.5 | K25: =IFERROR(IF(O25>(0.15),ROUND(MEDIAN(H25:J25),0),ROUND(AVERAGE(H25:J25),0)),"") -> 5061334 | L25: =IFERROR(K25*G25,"") -> 5061334 | M25: FDLB-ES-C-099-2026 MACRO 7 | N25: =IFERROR(STDEV(H25:J25),"") -> 55771.431 | O25: =IFERROR(N25/AVERAGE(H25:J25),"") -> 0.011019117 | Q25: =COUNTIF(H25:J25,">0") -> 3 | R25: =1-(MIN(H25:J25)/K25) -> 0.012118149
B26: 20 | C26: Alistamiento técnico y validación territorial | D26: Definición y delimitación preliminar de tramos o áreas con potencial de conectividad ecológica dentro del conector ecosistémico, teniendo en cuenta criterios de viabilidad técnica, ambiental y territorial, continuidad ecológica y posibles restricciones identificadas en campo. | E26: Se debe contemplar el costo de retiro y disposición final | F26: UN | G26: 1 | H26: 5075000 | I26: 5000000 | J26: 5109002.5 | K26: =IFERROR(IF(O26>(0.15),ROUND(MEDIAN(H26:J26),0),ROUND(AVERAGE(H26:J26),0)),"") -> 5061334 | L26: =IFERROR(K26*G26,"") -> 5061334 | M26: FDLB-ES-C-099-2026 MACRO 7 | N26: =IFERROR(STDEV(H26:J26),"") -> 55771.431 | O26: =IFERROR(N26/AVERAGE(H26:J26),"") -> 0.011019117 | Q26: =COUNTIF(H26:J26,">0") -> 3 | R26: =1-(MIN(H26:J26)/K26) -> 0.012118149
B27: 21 | C27: Implementación de acciones orientadas al fortalecimiento de la conectividad ecológica mediante el establecimiento, recuperación o consolidación de coberturas vegetales y demás estrategias acordes con las condiciones y necesidades identificadas en las áreas intervenidas, | D27: Implementación de especies vegetales nativas adaptadas a las condiciones ecológicas del área, orientadas a recuperar cobertura vegetal y fortalecer procesos de conectividad ecológica. | E27: Incluye suministro de cobertura vegetal nativa, plantación, fertilización inicial, primer riego y establecimiento. | F27: M2 | G27: 1 | H27: 30450 | I27: 30000 | J27: 30654.015 | K27: =IFERROR(IF(O27>(0.15),ROUND(MEDIAN(H27:J27),0),ROUND(AVERAGE(H27:J27),0)),"") -> 30368 | L27: =IFERROR(K27*G27,"") -> 30368 | M27: FDLB-ES-C-099-2026 MACRO 7 | N27: =IFERROR(STDEV(H27:J27),"") -> 334.62859 | O27: =IFERROR(N27/AVERAGE(H27:J27),"") -> 0.011019117 | Q27: =COUNTIF(H27:J27,">0") -> 3 | R27: =1-(MIN(H27:J27)/K27) -> 0.012118019
B28: 22 | C28: Implementación de acciones orientadas al fortalecimiento de la conectividad ecológica mediante el establecimiento, recuperación o consolidación de coberturas vegetales y demás estrategias acordes con las condiciones y necesidades identificadas en las áreas intervenidas, | D28: Siembra o instalación de especies herbáceas para protección del suelo, mejoramiento paisajístico y fortalecimiento de continuidad vegetal. | E28: Incluye suministro de herbáceas, siembra, acondicionamiento y primer establecimiento. | F28: M2 | G28: 1 | H28: 18270 | I28: 18000 | J28: 18392.409 | K28: =IFERROR(IF(O28>(0.15),ROUND(MEDIAN(H28:J28),0),ROUND(AVERAGE(H28:J28),0)),"") -> 18221 | L28: =IFERROR(K28*G28,"") -> 18221 | M28: FDLB-ES-C-099-2026 MACRO 7 | N28: =IFERROR(STDEV(H28:J28),"") -> 200.77715 | O28: =IFERROR(N28/AVERAGE(H28:J28),"") -> 0.011019117 | Q28: =COUNTIF(H28:J28,">0") -> 3 | R28: =1-(MIN(H28:J28)/K28) -> 0.012128862
B29: 23 | C29: Implementación de acciones orientadas al fortalecimiento de la conectividad ecológica mediante el establecimiento, recuperación o consolidación de coberturas vegetales y demás estrategias acordes con las condiciones y necesidades identificadas en las áreas intervenidas, | D29: Plantación de especies arbustivas que contribuyan a la conectividad ecológica, soporte para fauna y estabilización ecológica del área. | E29: Incluye suministro del arbusto, hoyado, plantación, fertilización, tutor (si aplica) y primer riego. | F29: UN | G29: 1 | H29: 28420 | I29: 28000 | J29: 28610.414 | K29: =IFERROR(IF(O29>(0.15),ROUND(MEDIAN(H29:J29),0),ROUND(AVERAGE(H29:J29),0)),"") -> 28343 | L29: =IFERROR(K29*G29,"") -> 28343 | M29: FDLB-ES-C-099-2026 MACRO 7 | N29: =IFERROR(STDEV(H29:J29),"") -> 312.32001 | O29: =IFERROR(N29/AVERAGE(H29:J29),"") -> 0.011019117 | Q29: =COUNTIF(H29:J29,">0") -> 3 | R29: =1-(MIN(H29:J29)/K29) -> 0.012101754
B30: 24 | C30: Implementación de acciones orientadas al fortalecimiento de la conectividad ecológica mediante el establecimiento, recuperación o consolidación de coberturas vegetales y demás estrategias acordes con las condiciones y necesidades identificadas en las áreas intervenidas, | D30: Instalación de vegetación lineal para delimitación ecológica, protección de áreas o fortalecimiento de conectividad vegetal. | E30: Incluye suministro de especies para conformar setos o barreras vivas, plantación y alineación. | F30: ML | G30: 1 | H30: 25375 | I30: 25000 | J30: 25545.012 | K30: =IFERROR(IF(O30>(0.15),ROUND(MEDIAN(H30:J30),0),ROUND(AVERAGE(H30:J30),0)),"") -> 25307 | L30: =IFERROR(K30*G30,"") -> 25307 | M30: FDLB-ES-C-099-2026 MACRO 7 | N30: =IFERROR(STDEV(H30:J30),"") -> 278.85715 | O30: =IFERROR(N30/AVERAGE(H30:J30),"") -> 0.011019117 | Q30: =COUNTIF(H30:J30,">0") -> 3 | R30: =1-(MIN(H30:J30)/K30) -> 0.012131031
B31: 25 | C31: Implementación de acciones orientadas al mejoramiento de las condiciones de soporte ecológico para fauna urbana y polinizadores, mediante estrategias acordes con las características y funcionalidad del área | D31: Establecimiento de áreas vegetales con especies nectaríferas y florales orientadas a favorecer la presencia y tránsito de insectos polinizadores. | F31: M2 | G31: 1 | H31: 32480 | I31: 32000 | J31: 32697.616 | K31: =IFERROR(IF(O31>(0.15),ROUND(MEDIAN(H31:J31),0),ROUND(AVERAGE(H31:J31),0)),"") -> 32393 | L31: =IFERROR(K31*G31,"") -> 32393 | M31: FDLB-ES-C-099-2026 MACRO 7 | N31: =IFERROR(STDEV(H31:J31),"") -> 356.93716 | O31: =IFERROR(N31/AVERAGE(H31:J31),"") -> 0.011019117 | Q31: =COUNTIF(H31:J31,">0") -> 3 | R31: =1-(MIN(H31:J31)/K31) -> 0.012132251
B32: 26 | C32: Implementación de acciones orientadas al mejoramiento de las condiciones de soporte ecológico para fauna urbana y polinizadores, mediante estrategias acordes con las características y funcionalidad del área | D32: Plantación de especies vegetales que provean alimento y soporte ecológico para polinizadores y fauna asociada. | F32: M2 | G32: 1 | H32: 35525 | I32: 35000 | J32: 35763.017 | K32: =IFERROR(IF(O32>(0.15),ROUND(MEDIAN(H32:J32),0),ROUND(AVERAGE(H32:J32),0)),"") -> 35429 | L32: =IFERROR(K32*G32,"") -> 35429 | M32: FDLB-ES-C-099-2026 MACRO 7 | N32: =IFERROR(STDEV(H32:J32),"") -> 390.40002 | O32: =IFERROR(N32/AVERAGE(H32:J32),"") -> 0.011019117 | Q32: =COUNTIF(H32:J32,">0") -> 3 | R32: =1-(MIN(H32:J32)/K32) -> 0.012108724
B33: 27 | C33: Implementación de acciones orientadas al mejoramiento de las condiciones de soporte ecológico para fauna urbana y polinizadores, mediante estrategias acordes con las características y funcionalidad del área | D33: Incorporación de elementos naturales para fauna | F33: UN | G33: 1 | H33: 213150 | I33: 210000 | J33: 214578.1 | K33: =IFERROR(IF(O33>(0.15),ROUND(MEDIAN(H33:J33),0),ROUND(AVERAGE(H33:J33),0)),"") -> 212576 | L33: =IFERROR(K33*G33,"") -> 212576 | M33: FDLB-ES-C-099-2026 MACRO 7 | N33: =IFERROR(STDEV(H33:J33),"") -> 2342.4001 | O33: =IFERROR(N33/AVERAGE(H33:J33),"") -> 0.011019117 | Q33: =COUNTIF(H33:J33,">0") -> 3 | R33: =1-(MIN(H33:J33)/K33) -> 0.012118019
B34: 28 | C34: Implementación de acciones orientadas al mejoramiento de las condiciones de soporte ecológico para fauna urbana y polinizadores, mediante estrategias acordes con las características y funcionalidad del área | D34: Generación de microhábitats | F34: UN | G34: 1 | H34: 152250 | I34: 150000 | J34: 153270.07 | K34: =IFERROR(IF(O34>(0.15),ROUND(MEDIAN(H34:J34),0),ROUND(AVERAGE(H34:J34),0)),"") -> 151840 | L34: =IFERROR(K34*G34,"") -> 151840 | M34: FDLB-ES-C-099-2026 MACRO 7 | N34: =IFERROR(STDEV(H34:J34),"") -> 1673.1429 | O34: =IFERROR(N34/AVERAGE(H34:J34),"") -> 0.011019117 | Q34: =COUNTIF(H34:J34,">0") -> 3 | R34: =1-(MIN(H34:J34)/K34) -> 0.012118019
B35: 29 | C35: Fase de identificación de áreas y articulación interinstitucional | D35: Identificación y validación de áreas localizadas dentro de la Estructura Ecológica Principal susceptibles de intervención, mediante revisión de información cartográfica, ambiental y territorial, así como validación en campo de condiciones ecológicas, cobertura vegetal, conectividad, degradación y posibles restricciones ambientales. | F35: UN | G35: 1 | H35: 5075000 | I35: 5000000 | J35: 5109002.5 | K35: =IFERROR(IF(O35>(0.15),ROUND(MEDIAN(H35:J35),0),ROUND(AVERAGE(H35:J35),0)),"") -> 5061334 | L35: =IFERROR(K35*G35,"") -> 5061334 | M35: FDLB-ES-C-099-2026 MACRO 7 | N35: =IFERROR(STDEV(H35:J35),"") -> 55771.431 | O35: =IFERROR(N35/AVERAGE(H35:J35),"") -> 0.011019117 | Q35: =COUNTIF(H35:J35,">0") -> 3 | R35: =1-(MIN(H35:J35)/K35) -> 0.012118149
B36: 30 | C36: Fase de identificación de áreas y articulación interinstitucional | D36: Evaluación preliminar de las condiciones ecológicas de las áreas identificadas, incluyendo análisis de cobertura vegetal, compactación, erosión, fragmentación, presencia de fauna, degradación ambiental y demás condiciones que permitan definir estrategias de conservación y recuperación ecológica. | F36: UN | G36: 1 | H36: 5075000 | I36: 5000000 | J36: 5109002.5 | K36: =IFERROR(IF(O36>(0.15),ROUND(MEDIAN(H36:J36),0),ROUND(AVERAGE(H36:J36),0)),"") -> 5061334 | L36: =IFERROR(K36*G36,"") -> 5061334 | M36: FDLB-ES-C-099-2026 MACRO 7 | N36: =IFERROR(STDEV(H36:J36),"") -> 55771.431 | O36: =IFERROR(N36/AVERAGE(H36:J36),"") -> 0.011019117 | Q36: =COUNTIF(H36:J36,">0") -> 3 | R36: =1-(MIN(H36:J36)/K36) -> 0.012118149
B37: 31 | C37: . Fase de recuperación y adecuación ecológica | D37: Implementación de acciones orientadas a mejorar las condiciones físicas y funcionales del suelo en áreas degradadas o compactadas, de acuerdo con las necesidades identificadas durante el diagnóstico. Escarificación superficial de suelos Descompactación de suelos Incorporación de material orgánico o sustratos Estabilización ecológica de áreas degradadas | E37: Las acciones de conservación se ejecutarán de acuerdo con las condiciones físicas, ambientales y ecológicas identificadas durante el diagnóstico del área de intervención. En este sentido, podrán contemplar actividades como escarificación superficial, descompactación de suelos, incorporación de material orgánico o sustratos, estabilización ecológica y demás medidas de conservación que resulten técnicamente necesarias para la recuperación y mantenimiento de las condiciones funcionales de la Estructura Ecológica Principal. Las actividades de conservación que, de acuerdo con el diagnóstico y las condiciones del área intervenida, generen materiales sobrantes o residuos, incluyen su retiro, cargue, transporte y disposición adecuada, cuando aplique, entendiéndose estos costos incorporados dentro del respectivo precio unitario. | F37: M2 | G37: 1 | H37: 25375 | I37: 25000 | J37: 25545.012 | K37: =IFERROR(IF(O37>(0.15),ROUND(MEDIAN(H37:J37),0),ROUND(AVERAGE(H37:J37),0)),"") -> 25307 | L37: =IFERROR(K37*G37,"") -> 25307 | M37: FDLB-ES-C-099-2026 MACRO 7 | N37: =IFERROR(STDEV(H37:J37),"") -> 278.85715 | O37: =IFERROR(N37/AVERAGE(H37:J37),"") -> 0.011019117 | Q37: =COUNTIF(H37:J37,">0") -> 3 | R37: =1-(MIN(H37:J37)/K37) -> 0.012131031
B38: 32 | C38: Plateo | D38: Se realizará un ciclo de plateo alrededor del individuo arbóreo, en un diámetro de 1,0 metro medido a partir del cuello del árbol | F38: UN | G38: 1 | H38: 31951.185 | I38: 31479 | J38: 32165.258 | K38: =IFERROR(IF(O38>(0.15),ROUND(MEDIAN(H38:J38),0),ROUND(AVERAGE(H38:J38),0)),"") -> 31865 | L38: =IFERROR(K38*G38,"") -> 31865 | M38: FDLB-ES-C-099-2026 MACRO 7 | N38: =IFERROR(STDEV(H38:J38),"") -> 351.12577 | O38: =IFERROR(N38/AVERAGE(H38:J38),"") -> 0.011019117 | Q38: =COUNTIF(H38:J38,">0") -> 3 | R38: =1-(MIN(H38:J38)/K38) -> 0.012113604
B39: 33 | C39: Replante | D39: Correspondiente al 10 % del total de individuos arbóreos, utilizando especies iguales a las previamente reemplazadas, con el fin de garantizar la continuidad de las condiciones paisajísticas y ecológicas del área intervenida. | E39: incluye suministro, transporte, siembra, tutor, fertilización y riego inicial | F39: UN | G39: 1 | H39: 235805.81 | I39: 232321 | J39: 237385.71 | K39: =IFERROR(IF(O39>(0.15),ROUND(MEDIAN(H39:J39),0),ROUND(AVERAGE(H39:J39),0)),"") -> 235171 | L39: =IFERROR(K39*G39,"") -> 235171 | M39: FDLB-ES-C-099-2026 MACRO 7 | N39: =IFERROR(STDEV(H39:J39),"") -> 2591.3749 | O39: =IFERROR(N39/AVERAGE(H39:J39),"") -> 0.011019117 | Q39: =COUNTIF(H39:J39,">0") -> 3 | R39: =1-(MIN(H39:J39)/K39) -> 0.012118841
B40: 34 | C40: Riego | D40: un ciclo de riego por individuo arbóreo, aplicado en un diámetro de 1,0 metro medido a partir del cuello del árbol | F40: UN | G40: 1 | H40: 25375 | I40: 25000 | J40: 25545.012 | K40: =IFERROR(IF(O40>(0.15),ROUND(MEDIAN(H40:J40),0),ROUND(AVERAGE(H40:J40),0)),"") -> 25307 | L40: =IFERROR(K40*G40,"") -> 25307 | M40: FDLB-ES-C-099-2026 MACRO 7 | N40: =IFERROR(STDEV(H40:J40),"") -> 278.85715 | O40: =IFERROR(N40/AVERAGE(H40:J40),"") -> 0.011019117 | Q40: =COUNTIF(H40:J40,">0") -> 3 | R40: =1-(MIN(H40:J40)/K40) -> 0.012131031
B41: 35 | C41: Poda | D41: Poda en individuos arbóreos con altura total menor a 2,0 metros | F41: UN | G41: 1 | H41: 31948.14 | I41: 31476 | J41: 32162.193 | K41: =IFERROR(IF(O41>(0.15),ROUND(MEDIAN(H41:J41),0),ROUND(AVERAGE(H41:J41),0)),"") -> 31862 | L41: =IFERROR(K41*G41,"") -> 31862 | M41: FDLB-ES-C-099-2026 MACRO 7 | N41: =IFERROR(STDEV(H41:J41),"") -> 351.09231 | O41: =IFERROR(N41/AVERAGE(H41:J41),"") -> 0.011019117 | Q41: =COUNTIF(H41:J41,">0") -> 3 | R41: =1-(MIN(H41:J41)/K41) -> 0.012114745
B42: 36 | C42: Poda | D42: Poda en individuos arbóreos con altura total superior a 2,0 metros | F42: UN | G42: 1 | H42: 46860.52 | I42: 46168 | J42: 47174.485 | K42: =IFERROR(IF(O42>(0.15),ROUND(MEDIAN(H42:J42),0),ROUND(AVERAGE(H42:J42),0)),"") -> 46734 | L42: =IFERROR(K42*G42,"") -> 46734 | M42: FDLB-ES-C-099-2026 MACRO 7 | N42: =IFERROR(STDEV(H42:J42),"") -> 514.97108 | O42: =IFERROR(N42/AVERAGE(H42:J42),"") -> 0.011019117 | Q42: =COUNTIF(H42:J42,">0") -> 3 | R42: =1-(MIN(H42:J42)/K42) -> 0.012111097
...

Sheet Hoja2
A2: Proveedores | B2: 14122
A3: Cotizaciones | B3: 3
