Workbook
Name _ftn1: 'FORMATO MATRIZ DE RIESGOS'!$A$37
Name _ftnref1: 'FORMATO MATRIZ DE RIESGOS'!$B$30
Name _Hlk130312646: 'FORMATO MATRIZ DE RIESGOS'!$B$30

Sheet FORMATO MATRIZ DE RIESGOS
C1: CENTRO NACIONAL DE MEMORIA HISTORICA | V1: CÓDIGO | W1: ABS-FT-081
C2: DIRECCION ADMINISTRATIVA Y FINANCIERA | V2: VERSIÓN | W2: 1
C3: MATRIZ DE RIESGOS DE CONTRATACIÓN | V3: PÁGINA | W3: 1 de 1
A4: OBJETO CONTRACTUAL: Adquisición de las dotaciones de vestido y calzado de labor para las servidoras y servidores del Centro Nacional de Memoria Histórica, mediante bonos canjeables única y exclusivamente por las prendas que conforman dicha dotación
A5: MODALIDAD DE CONTRATACIÓN: ACUERDO DE CORRESPONSABILIDAD
A6: No[Numerar consecutivamente empezando en 1] | B6: Clase/general o especifico | C6: Fuente/Interno o Externo | D6: Etapa | E6: Tipo de Riesgo | F6: Descripción del riesgo (que puede pasar y como puede ocurrir) | G6: Consecuencia de la ocurrencia del evento | H6: EVALUAR Y CALIFICAR LOS RIESGOS | L6: ¿A Quien se le asigna? | M6: Tratamiento/ y Controles a ser implementados | N6: IMPACTO DESPUES DEL TRATAMIENTO | R6: ¿Afecta la ejecución del contrato? | S6: Persona Responsable por implementar el tratamiento | T6: Fecha estimada en la que se inicia el tratamiento | U6: Fecha estimada en que se completa el tratamiento | V6: MONITOREO Y REVISIÓN
H7: Probabilidad | I7: Impacto | J7: Valoración del Riesgo | K7: Categoría | N7: Probabilidad | O7: Impacto | P7: Valoración del Riesgo | Q7: Categoría | V7: ¿Cómo se realiza el monitoreo? | W7: Periodicidad ¿Cuándo?
A8: 1 | B8: GENERAL | C8: INTERNO | D8: SELECCIÓN | E8: RIESGO OPERACIONAL | F8: No presentación de propuestas en el portal transaccional SECOP II presentación de la oferta en lugar diferente al SECOP II, lo que significa una causal de rechazo | G8: Se declara desierto el proceso. | H8: 3. Posible (Puede occurrir en cualquier momento futuro) | I8: 4. mayor | J8: {=INDEX(Hoja4!$C$6:$C$10,MATCH(H8,Hoja4!$B$6:$B$10,0))+INDEX(Hoja4!$D$5:$H$5,MATCH(I8,Hoja4!$D$4:$H$4,0))} -> 7 | K8: =INDEX(Hoja4!$C$6:$C$10,MATCH(H8,Hoja4!$B$6:$B$10,0))+INDEX(Hoja4!$D$5:$H$5,MATCH(I8,Hoja4!$D$4:$H$4,0)) -> 7 | L8: Entidad | M8: Verificación de la publicación del proceso estableciendo condiciones que permitan la pluralidad de oferentes y dejando claro la fecha y hora de presentación de las ofertas. | N8: 2. Improbable (Puede ocurrir ocasionalmente) | O8: 2. menor | P8: 2 | Q8: =INDEX(Hoja4!$C$6:$C$10,MATCH(N8,Hoja4!$B$6:$B$10,0))+INDEX(Hoja4!$D$5:$H$5,MATCH(O8,Hoja4!$D$4:$H$4,0)) -> 4 | R8: SI | S8: Por parte de Profesionales del área de Contratación de la DAyF | T8: Previo a la publicación del proceso etapa pre contractual | U8: Cierre de la presentación de ofertas del proceso | V8: Secop II | W8: Una sola vez
A9: 2 | B9: GENERAL | C9: INTERNO | D9: CONTRATACIÓN | E9: RIESGO OPERACIONAL | F9: El contratista no presente las garantías del contrato. | G9: Retraso en la ejecución de las obligaciones contractuales o imposibilidad de ejecutar el contrato | H9: 3. Posible (Puede occurrir en cualquier momento futuro) | I9: 2. menor | J9: 4 | K9: =INDEX(Hoja4!$C$6:$C$10,MATCH(H9,Hoja4!$B$6:$B$10,0))+INDEX(Hoja4!$D$5:$H$5,MATCH(I9,Hoja4!$D$4:$H$4,0)) -> 5 | L9: Contratista y Entidad | M9: Verificación de los tiempos establecidos en el contrato para la expedición y cargue de las garantías que amparan el contrato | N9: 1. Raro (Puede ocurrir excepcionalmente) | O9: 2. menor | P9: 3 | Q9: =INDEX(Hoja4!$C$6:$C$10,MATCH(N9,Hoja4!$B$6:$B$10,0))+INDEX(Hoja4!$D$5:$H$5,MATCH(O9,Hoja4!$D$4:$H$4,0)) -> 3 | R9: SI | S9: Por parte de Profesionales del área de Contratación de la DAyF | T9: Etapa contractual | U9: Una vez suscrito el contrato | V9: Secop II | W9: Permanente
A10: 3 | B10: GENERAL | C10: INTERNO | D10: EJECUCIÓN | E10: RIESGO OPERACIONAL | F10: El contratista no cumpla con el objeto contractual | G10: Incumplimiento de lo requerido por la ley respecto a la entrega de bonos a los funcionarios beneficiarios | H10: 3. Posible (Puede occurrir en cualquier momento futuro) | I10: 4. mayor | J10: 4 | K10: =INDEX(Hoja4!$C$6:$C$10,MATCH(H10,Hoja4!$B$6:$B$10,0))+INDEX(Hoja4!$D$5:$H$5,MATCH(I10,Hoja4!$D$4:$H$4,0)) -> 7 | L10: Contratista y Entidad | M10: Verificación de cumplimiento en la entrega de bonos para dotación | N10: 3. Posible (Puede occurrir en cualquier momento futuro) | O10: 2. menor | P10: 5 | Q10: =INDEX(Hoja4!$C$6:$C$10,MATCH(N10,Hoja4!$B$6:$B$10,0))+INDEX(Hoja4!$D$5:$H$5,MATCH(O10,Hoja4!$D$4:$H$4,0)) -> 5 | R10: SI | S10: Contratista | T10: Durante la ejecución del contrato | U10: Durante la ejecución del contrato | V10: Seguimiento periódico entre contratante y contratista. | W10: Permanente
A11: 4 | B11: GENERAL | C11: INTERNO | D11: EJECUCIÓN | E11: RIESGO OPERACIONAL | F11: No cumplir con las especificaciones técnicas requeridas | G11: Incumplimiento de las especificaciones técnicas del contrato | H11: 3. Posible (Puede occurrir en cualquier momento futuro) | I11: 4. mayor | J11: 6 | K11: =INDEX(Hoja4!$C$6:$C$10,MATCH(H11,Hoja4!$B$6:$B$10,0))+INDEX(Hoja4!$D$5:$H$5,MATCH(I11,Hoja4!$D$4:$H$4,0)) -> 7 | L11: Contratista | M11: Verificación de estudios previos, ficha técnica y condiciones requeridas para ejecutar el contrato. | N11: 2. Improbable (Puede ocurrir ocasionalmente) | O11: 3. moderado | P11: 6 | Q11: =INDEX(Hoja4!$C$6:$C$10,MATCH(N11,Hoja4!$B$6:$B$10,0))+INDEX(Hoja4!$D$5:$H$5,MATCH(O11,Hoja4!$D$4:$H$4,0)) -> 5 | R11: SI | S11: Contratista | T11: Durante la ejecución del contrato | U11: Hasta la liquidación del contrato | V11: Comunicación constante entre contratante y contratista para validar efectivo cumplimiento. | W11: Permanente
A12: 5 | B12: ESPECIFICO | C12: EXTERNO | D12: EJECUCIÓN | E12: RIESGO OPERACIONAL | F12: No realizar la entrega oportunamente de los bonos. | G12: Incumplimiento por no cumplir con las fechas pactadas por parte del supervisor. | H12: 2. Improbable (Puede ocurrir ocasionalmente) | I12: 3. moderado | J12: 5 | K12: =INDEX(Hoja4!$C$6:$C$10,MATCH(H12,Hoja4!$B$6:$B$10,0))+INDEX(Hoja4!$D$5:$H$5,MATCH(I12,Hoja4!$D$4:$H$4,0)) -> 5 | L12: Contratista | M12: Actividad de supervisión, controles e informes | N12: 1. Raro (Puede ocurrir excepcionalmente) | O12: 2. menor | P12: 3 | Q12: =INDEX(Hoja4!$C$6:$C$10,MATCH(N12,Hoja4!$B$6:$B$10,0))+INDEX(Hoja4!$D$5:$H$5,MATCH(O12,Hoja4!$D$4:$H$4,0)) -> 3 | R12: SI | S12: Contratante | T12: Durante la ejecución del contrato | U12: Durante la ejecución del contrato | V12: Comunicación por todos los canales de atención entre contratante y contratista. | W12: Permanente
A13: 6 | B13: ESPECIFICO | C13: EXTERNO | D13: EJECUCIÓN | E13: RIESGO OPERACIONAL | F13: Los bonos no se puedan redimir en los comercios señalados por el Contratista | G13: Incumplimiento al no contar con los establecimientos de comercio para redimir los bonos | H13: 3. Posible (Puede occurrir en cualquier momento futuro) | I13: 3. moderado | J13: 7 | K13: =INDEX(Hoja4!$C$6:$C$10,MATCH(H13,Hoja4!$B$6:$B$10,0))+INDEX(Hoja4!$D$5:$H$5,MATCH(I13,Hoja4!$D$4:$H$4,0)) -> 6 | L13: Contratista | M13: El Supervisor debe verificar y hacer el respectivo seguimiento para que el contratista garantice los comercios definidos para el canje de los bonos. | N13: 1. Raro (Puede ocurrir excepcionalmente) | O13: 2. menor | P13: 3 | Q13: =INDEX(Hoja4!$C$6:$C$10,MATCH(N13,Hoja4!$B$6:$B$10,0))+INDEX(Hoja4!$D$5:$H$5,MATCH(O13,Hoja4!$D$4:$H$4,0)) -> 3 | R13: NO | S13: Contratante | T13: Durante la ejecución del contrato | U13: Durante la ejecución del contrato | V13: Comunicación por todos los canales de atención entre contratante y contratista. | W13: Permanente
A14: 7 | B14: ESPECIFICO | C14: EXTERNO | D14: EJECUCIÓN | E14: RIESGO OPERACIONAL | F14: Los bonos se puedan redimir por bienes y servicios diferentes a Dotación vestuario y/o calzado de caballero o dama | G14: Incumplimiento de la restricción de solo poderse canjear los bonos por dotación | H14: 2. Improbable (Puede ocurrir ocasionalmente) | I14: 3. moderado | J14: 5 | K14: =INDEX(Hoja4!$C$6:$C$10,MATCH(H14,Hoja4!$B$6:$B$10,0))+INDEX(Hoja4!$D$5:$H$5,MATCH(I14,Hoja4!$D$4:$H$4,0)) -> 5 | L14: Contratista | M14: El Supervisor debe verificar y hacer el respectivo seguimiento para que el contratista garantice que la redención de los bonos se realice de forma exclusiva por dotación. | N14: 1. Raro (Puede ocurrir excepcionalmente) | O14: 2. menor | P14: 3 | Q14: =INDEX(Hoja4!$C$6:$C$10,MATCH(N14,Hoja4!$B$6:$B$10,0))+INDEX(Hoja4!$D$5:$H$5,MATCH(O14,Hoja4!$D$4:$H$4,0)) -> 3 | R14: NO | S14: Contratista / supervision | T14: Durante la ejecución del contrato | U14: Hasta la liquidación del contrato | V14: Comunicación por todos los canales de atención entre contratante y contratista. | W14: Permanente
A15: 8 | K15: =INDEX(Hoja4!$C$6:$C$10,MATCH(H15,Hoja4!$B$6:$B$10,0))+INDEX(Hoja4!$D$5:$H$5,MATCH(I15,Hoja4!$D$4:$H$4,0)) -> #N/A
A16: 8,9,10 | B16: Riesgo extremo
A17: 6, 7 | B17: Riesgo alto
A18: 5 | B18: Riesgo medio
A19: 1,2,3,4 | B19: Riesgo bajo
A22: Instrucción: 1.Para diligenciar de manera correcta la matriz de riesgos debe revisar el Manual para la Identificación y Cobertura de Riesgo en los Procesos de Contratación expedida por Colombia Compra Eficiente en su ultima versión publicado en la pagína de colombia compra eficiente: https://www.colombiacompra.gov.co/secop-ii 2. Reemplace los datos de la fila No 6, con los datos que correspondan a su necesidad. 3. En la columna A, enumere los riesgos que identifique. 4. Adicione las filas que considere necesarias para su diligenciamiento. 5. Arrastre hacia abajo las celdas de las columnas (h,i,j,k ,n, o, p, q), para que las listas de precios y la formulas se extiendan en la filas que usted adicione.
A23: Elaborado por: Nombre , cargo y area o dependiencia
A27: REGISTRO DE MODIFICACIONES
A29: VERSIÓN | B29: FECHA | C29: DESCRIPCIÓN DE LA MODIFICACIÓN
A30: 1 | C30: Creación del documento.
C31: Creación del documento.
C32: Creación del documento.
C33: Creación del documento.

Sheet Hoja2
A1: GENERAL | B1: INTERNO | C1: PLANEACIÓN | D1: RIESGO ECONÓMICO | E1: 1. Raro (Puede ocurrir excepcionalmente) | F1: IMPACTO | G1: VALORACIÓN DEL RIESGO | H1: categoría | I1: Contratista
A2: ESPECIFICO | B2: EXTERNO | C2: SELECCIÓN | D2: RIESGO SOCIAL O POLÍTICO | E2: 2. Improbable (Puede ocurrir ocasionalmente) | F2: 1. insignificante | H2: Riesgo bajo | I2: Entidad
C3: CONTRATACIÓN | D3: RIESGO OPERACIONAL | E3: 3. Posible (Puede occurrir en cualquier momento futuro) | F3: 2. menor | H3: Riesgo medio | I3: Contratista y Entidad
C4: EJECUCIÓN | D4: RIESGO FINANCIERO | E4: 4. Probable (Probablemente va a ocurrir) | F4: 3. moderado | H4: Riesgo alto
D5: RIESGO REGULATORIO | E5: 5. Casi cierto (Ocurre en la mayoría de circunstancias) | F5: 4. mayor | H5: Riesgo Extremo
D6: RIESGO DE LA NATURALEZA | F6: 5. Catastrófico
D7: RIESGO AMBIENTAL
D8: RIESGO TECNOLÓGICO

Sheet Hoja4
B3: MATRIZ DE RIESGOS | D3: CONSECUENCIA
D4: 1. insignificante | E4: 2. menor | F4: 3. moderado | G4: 4. mayor | H4: 5. Catastrófico
B5: PROBABILIDAD | D5: 1 | E5: 2 | F5: 3 | G5: 4 | H5: 5
B6: 1. Raro (Puede ocurrir excepcionalmente) | C6: 1 | D6: =$C6+D$5 -> 2 | E6: =$C6+E$5 -> 3 | F6: =$C6+F$5 -> 4 | G6: =$C6+G$5 -> 5 | H6: =$C6+H$5 -> 6
B7: 2. Improbable (Puede ocurrir ocasionalmente) | C7: 2 | D7: =$C7+D$5 -> 3 | E7: =$C7+E$5 -> 4 | F7: =$C7+F$5 -> 5 | G7: =$C7+G$5 -> 6 | H7: =$C7+H$5 -> 7
B8: 3. Posible (Puede occurrir en cualquier momento futuro) | C8: 3 | D8: =$C8+D$5 -> 4 | E8: =$C8+E$5 -> 5 | F8: =$C8+F$5 -> 6 | G8: =$C8+G$5 -> 7 | H8: =$C8+H$5 -> 8
B9: 4. Probable (Probablemente va a ocurrir) | C9: 4 | D9: =$C9+D$5 -> 5 | E9: =$C9+E$5 -> 6 | F9: =$C9+F$5 -> 7 | G9: =$C9+G$5 -> 8 | H9: =$C9+H$5 -> 9
B10: 5. Casi cierto (Ocurre en la mayoría de circunstancias) | C10: 5 | D10: =$C10+D$5 -> 6 | E10: =$C10+E$5 -> 7 | F10: =$C10+F$5 -> 8 | G10: =$C10+G$5 -> 9 | H10: =$C10+H$5 -> 10
D14: Riesgo bajo
D15: Riesgo medio
D16: Riesgo alto
D17: Riesgo Extremo
