Workbook
Name \a: [1]Insumos!#REF!
Name \a: [1]Insumos!#REF!
Name \a: [1]Insumos!#REF!
Name \b: [2]INSUMOS!#REF!
Name \i: [2]INSUMOS!#REF!
Name \m: [2]INSUMOS!#REF!
Name \r: [2]INSUMOS!#REF!
Name \t: [2]INSUMOS!#REF!
Name \x: [2]INSUMOS!#REF!
Name _________________________________apu1: [2]INSUMOS!#REF!
Name ________________________________apu1: [2]INSUMOS!#REF!
Name _______________________________apu1: [2]INSUMOS!#REF!
Name ______________________________apu1: [2]INSUMOS!#REF!
Name ____________________________apu1: [2]INSUMOS!#REF!
Name ___________________________apu1: [2]INSUMOS!#REF!
Name __________________________apu1: [2]INSUMOS!#REF!
Name _________________________apu1: [2]INSUMOS!#REF!
Name ________________________apu1: [2]INSUMOS!#REF!
Name _______________________apu1: [2]INSUMOS!#REF!
Name _____________________apu1: [2]INSUMOS!#REF!
Name ____________________apu1: [2]INSUMOS!#REF!
Name ___________________apu1: [2]INSUMOS!#REF!
Name __________________apu1: [2]INSUMOS!#REF!
Name _________________apu1: [2]INSUMOS!#REF!
Name ________________apu1: [2]INSUMOS!#REF!
Name _______________apu1: [2]INSUMOS!#REF!
Name ______________apu1: [2]INSUMOS!#REF!
Name _____________apu1: [2]INSUMOS!#REF!
Name ____________apu1: [2]INSUMOS!#REF!
Name ___________apu1: [2]INSUMOS!#REF!
Name __________apu1: [2]INSUMOS!#REF!
Name _________apu1: [2]INSUMOS!#REF!
Name ________apu1: [2]INSUMOS!#REF!
Name _______apu1: [2]INSUMOS!#REF!
Name ______apu1: [2]INSUMOS!#REF!
Name _____apu1: [2]INSUMOS!#REF!
Name ____apu1: [2]INSUMOS!#REF!
Name ___apu1: [2]INSUMOS!#REF!
Name __apu1: [2]INSUMOS!#REF!
Name _A16400: #REF!
Name _A16400: #REF!
Name _A16400: #REF!
Name _A16400: #REF!
Name _apu1: [2]INSUMOS!#REF!
Name A: #REF!
Name a: [1]Insumos!#REF!
Name ACERO: #REF!
Name ACERO: #REF!
Name ACTIVOS: #REF!
Name ACTIVOS: #REF!
Name adfasdfsa: [1]Insumos!#REF!
Name adfasdfsa: [1]Insumos!#REF!
Name adfasfadfa: [1]Insumos!#REF!
Name ADMON: #REF!
Name ADMON: #REF!
Name adsfadsfasdfafdasfdasfd: [2]INSUMOS!#REF!
Name adsfadsfasdfafdasfdasfd: [2]INSUMOS!#REF!
Name adsfadsfasdfafdasfdasfd: [2]INSUMOS!#REF!
Name adsfadsfasdfafdasfdasfd: [2]INSUMOS!#REF!
Name adsfadsfasfasdfasfdasdfadsfdsafdsa: [1]Insumos!#REF!

Sheet PRESUPUESTO
C1: SECRETARIA DE PLANEACIÓN Y OBRAS PÚBLICAS | D1: CODIGO | F1: 103
D2: SERIE Y SUBSERIE | F2: 51
C3: NIT. 800252922-2
C4: Modelo Integrado de Planeación y Gestión | D4: VERSIÓN | F4: 1
C5: PRESUPUESTO | D5: FECHA DEL FORMATO | F5: D/M/A
F6: 45402
A8: AMPLIACIÓN DE MÓDULOS HABITACIONALES Y ÁREAS COMPLEMENTARIAS PARA CENTRO DE BIENESTAR EL BUEN SAMARITANO Y CENTRO DÍA DE PUERTO COLÓN DEL MUNICIPIO DE SAN MIGUEL, PUTUMAYO.
A11: PRESUPUESTO GENERAL
A13: ITEM | B13: DESCRIPCION | D13: UNIDAD | E13: CANTIDAD | F13: VR/UNITARIO | G13: VR/TOTAL
A14: 1 | B14: PRELIMINARES
A15: 1.1 | B15: localizacion y replanteo | D15: M2 | E15: ='MEMORIA CANTIDADES'!I24 -> 181.654 | F15: =APUS!H37 -> 9225.88 | G15: =+ROUND(E15*F15,2) -> 1675918
A16: 1.2 | B16: Desmonte de pasamanos metálico auto portante con anclaje a piso existente y anclaje lateral a muro existente | D16: ML | E16: ='MEMORIA CANTIDADES'!I637 -> 52.85 | F16: =APUS!H86 -> 15300 | G16: =+ROUND(E16*F16,2) -> 808605
A17: 1.3 | B17: Desmonte de cabinas metálicas existentes | D17: UND | E17: ='MEMORIA CANTIDADES'!I644 -> 4 | F17: =APUS!H136 -> 12456.25 | G17: =+ROUND(E17*F17,2) -> 49825
A18: 1.4 | B18: Desmonte de unidades sanitarias y lavamanos existentes | D18: UND | E18: ='MEMORIA CANTIDADES'!I651 -> 7 | F18: =APUS!H186 -> 25025 | G18: =+ROUND(E18*F18,2) -> 175175
A19: 1.5 | B19: Demolición de enchape de piso existente | D19: M2 | E19: ='MEMORIA CANTIDADES'!I658 -> 19.2625 | F19: =APUS!H236 -> 25800 | G19: =+ROUND(E19*F19,2) -> 496972.5 | I19: A.I.U | K19: UTILIDAD | M19: IVA SOBRE UTILIDAD | O19: VALOR TOTAL + IVA
A20: 1.6 | B20: Demolicion de enchape de muro existente | D20: M2 | E20: ='MEMORIA CANTIDADES'!I665 -> 25.8 | F20: =APUS!H286 -> 24300 | G20: =+ROUND(E20*F20,2) -> 626940
A21: 1.7 | B21: Demolición manual de muro de baño | D21: M2 | E21: ='MEMORIA CANTIDADES'!I672 -> 2.7 | F21: =APUS!H336 -> 38300 | G21: =+ROUND(E21*F21,2) -> 103410
A22: 1.8 | B22: Retiro y disposicion de material sobrante | D22: M3 | E22: ='MEMORIA CANTIDADES'!I679 -> 46.9525 | F22: =APUS!H386 -> 34383.34 | G22: =+ROUND(E22*F22,2) -> 1614383.8
B23: subtotal | G23: =ROUND(SUM(G15:G22),2) -> 5551229.3 | H23: 0.32 | I23: =G23*H23 -> 1776393.4 | J23: 0.03 | K23: =G23*J23 -> 166536.88 | L23: 0.19 | M23: =L23*K23 -> 31642.007 | O23: =I23+M23 -> 1808035.4
A24: 2 | B24: MOVIMIENTO DE TIERRAS
A25: 2.1 | B25: Excavacion Manual Localizada (incluye retiro) | D25: M3 | E25: ='MEMORIA CANTIDADES'!I46 -> 39.7408 | F25: =APUS!H438 -> 60050 | G25: =+ROUND(E25*F25,2) -> 2386435
A26: 2.2 | B26: Suministro, instalacion y compactacion de material seleccionado | D26: M3 | E26: ='MEMORIA CANTIDADES'!I57 -> 64.1102 | F26: =APUS!H491 -> 110130 | G26: =+ROUND(E26*F26,2) -> 7060456.3
B27: subtotal | G27: =ROUND(SUM(G25:G26),2) -> 9446891.4 | H27: 0.32 | I27: =G27*H27 -> 3023005.2 | J27: 0.03 | K27: =G27*J27 -> 283406.74 | L27: 0.19 | M27: =L27*K27 -> 53847.281 | O27: =I27+M27 -> 3076852.5
A28: 3 | B28: CONCRETOS Y ACEROS
A29: 3.1 | B29: Viga de cimentacion de (30x35cm) en concreto 3000 PSI | D29: ML | E29: ='MEMORIA CANTIDADES'!I79 -> 106.54 | F29: =APUS!H543 -> 111153.5 | G29: =+ROUND(E29*F29,2) -> 11842294
A30: 3.2 | B30: Vigas de corona de (12x20cm ) en concreto de 3000 PSI | D30: ML | E30: ='MEMORIA CANTIDADES'!I99 -> 108.04 | F30: =APUS!H596 -> 75983.3 | G30: =+ROUND(E30*F30,2) -> 8209235.7
A31: 3.3 | B31: Columnetas de confinamiento de (12x20cm) en concreto de 3000 PSI | D31: ML | E31: ='MEMORIA CANTIDADES'!I114 -> 152.05 | F31: =APUS!H649 -> 75248.15 | G31: =+ROUND(E31*F31,2) -> 11441481
A32: 3.4 | B32: Acero de refuerzo Fy= 420 mpa | D32: KG | E32: ='MEMORIA CANTIDADES'!I181 -> 2425.3615 | F32: =APUS!H702 -> 12036.66 | G32: =+ROUND(E32*F32,2) -> 29193251
A33: 3.5 | B33: Concreto Ciclopeo 60-40 Mejoramiento del terreno (40X40) | D33: M3 | E33: ='MEMORIA CANTIDADES'!I202 -> 19.8704 | F33: =APUS!H755 -> 445520 | G33: =+ROUND(E33*F33,2) -> 8852660.6
A34: 3.6 | B34: Placa de contrapiso e=0.10m concreto 3000 PSI | D34: M2 | E34: ='MEMORIA CANTIDADES'!I213 -> 196.597 | F34: =APUS!H808 -> 97613.34 | G34: =+ROUND(E34*F34,2) -> 19190490
B35: subtotal | G35: =ROUND(SUM(G29:G34),2) -> 88729413 | H35: 0.32 | I35: =G35*H35 -> 28393412 | J35: 0.03 | K35: =G35*J35 -> 2661882.4 | L35: 0.19 | M35: =L35*K35 -> 505757.65 | O35: =I35+M35 -> 28899170
A36: 4 | B36: INSTALACIONES HIDROSANITARIAS Y ELECTRICAS
A37: 4.1 | B37: Suministro e instalacion de tuberia hidraulica en PVC presion 3/4" incluido accesorios | D37: ML | E37: ='MEMORIA CANTIDADES'!I225 -> 60.4 | F37: =APUS!H861 -> 14335 | G37: =+ROUND(E37*F37,2) -> 865834
A38: 4.2 | B38: Suministro e instalacion de tuberia hidraulica en PVC presion 1/2" incluido accesorios | D38: ML | E38: ='MEMORIA CANTIDADES'!I237 -> 14.6 | F38: =APUS!H914 -> 12335 | G38: =+ROUND(E38*F38,2) -> 180091
A39: 4.3 | B39: Suministro e instalacion de tubieria sanitaria en PVC 4" incluido accesorios | D39: ML | E39: ='MEMORIA CANTIDADES'!I249+'MEMORIA CANTIDADES'!I688 -> 80.94 | F39: =APUS!H967 -> 54870 | G39: =+ROUND(E39*F39,2) -> 4441177.8
A40: 4.4 | B40: Suministro e instalacion de tubieria sanitaria en PVC 2" incluido accesorios | D40: ML | E40: ='MEMORIA CANTIDADES'!I261+'MEMORIA CANTIDADES'!I695 -> 48.64 | F40: =APUS!H1020 -> 36633.34 | G40: =+ROUND(E40*F40,2) -> 1781845.7
A41: 4.5 | B41: construccion de caja de inspeccion sanitaria de (80X80) en mamposteria incluye tapa en concreto | D41: UND | E41: ='MEMORIA CANTIDADES'!I273 -> 3 | F41: =APUS!H1074 -> 513462.5 | G41: =+ROUND(E41*F41,2) -> 1540387.5
A42: 4.6 | B42: Punto Sanitario 2" | D42: UND | E42: ='MEMORIA CANTIDADES'!I285+'MEMORIA CANTIDADES'!I702 -> 15 | F42: =APUS!H1128 -> 75066.66 | G42: =+ROUND(E42*F42,2) -> 1125999.9
A43: 4.7 | B43: Punto Sanitario 4" | D43: UND | E43: ='MEMORIA CANTIDADES'!I297+'MEMORIA CANTIDADES'!I709 -> 7 | F43: =APUS!H1182 -> 153900 | G43: =+ROUND(E43*F43,2) -> 1077300
A44: 4.8 | B44: Suministro e instalación de ducha tipo telefónica cromada, incluye regadera, brazo, chapeta, accesorios de fijación, conexiones | D44: UND | E44: ='MEMORIA CANTIDADES'!I309 -> 4 | F44: =APUS!H1237 -> 239825 | G44: =+ROUND(E44*F44,2) -> 959300
...

Sheet MEMORIA CANTIDADES
C1: SECRETARIA DE PLANEACIÓN Y OBRAS PÚBLICAS | E1: CODIGO | G1: 103
E2: SERIE Y SUBSERIE | G2: 51
C3: NIT. 800252922-2
C4: Modelo Integrado de Planeación y Gestión | E4: VERSIÓN | G4: 1
C5: PRESUPUESTO | E5: FECHA DEL FORMATO | G5: D/M/A
G6: 44216
A8: =PRESUPUESTO!A8 -> AMPLIACIÓN DE MÓDULOS HABITACIONALES Y ÁREAS COMPLEMENTARIAS PARA CENTRO DE BIENESTAR EL BUEN SAMARITANO Y CENTRO DÍA DE PUERTO COLÓN DEL MUNICIPIO DE SAN MIGUEL, PUTUMAYO.
A12: MEMORIA DE CANTIDADES
A14: CONSTRUCCION CASA HABITACIONAL CENTRO DIA
A16: ITEM | C16: =VLOOKUP(A17,PRESUPUESTO!$A$14:$G$83,2,) -> localizacion y replanteo | I16: UNIDAD
A17: 1.1 | I17: =VLOOKUP(A17,PRESUPUESTO!$A$14:$G$83,4,) -> M2
A18: DESCRIPCION | D18: ANCHO | E18: LONGITUD | F18: ALTO | G18: CANTIDAD | I18: TOTAL
A19: AREA DE INTERVENCION | C19: PROPUESTA AMPLIACION AREA | D19: 12.65 | E19: 11.98 | I19: =D19*E19 -> 151.547
A20: AREA DE INTERVENCION | C20: PASILLO | D20: 2.38 | E20: 12.65 | I20: =D20*E20 -> 30.107
A24: TOTAL | I24: =SUM(I19:I23) -> 181.654
A26: ITEM | C26: =VLOOKUP(A27,PRESUPUESTO!$A$14:$G$83,2,) -> Excavacion Manual Localizada (incluye retiro) | I26: UNIDAD
A27: 2.1 | I27: =VLOOKUP(A27,PRESUPUESTO!$A$14:$G$83,4,) -> M3
A28: DESCRIPCION | D28: ANCHO | E28: LONGITUD | F28: ALTO | G28: No. ELEM. | I28: TOTAL
A29: EXCAVACION CICLOPEO | C29: EXCAVACION EJE 1 DESDE A HASTA I | D29: 0.4 | E29: 12.65 | F29: 0.8 | G29: 1 | I29: =D29*E29*F29*G29 -> 4.048
A30: EXCAVACION CICLOPEO | C30: EXCAVACION EJE 7 DESDE A HASTA H | D30: 0.4 | E30: 10.5 | F30: 0.8 | G30: 1 | I30: =D30*E30*F30*G30 -> 3.36
A31: EXCAVACION CICLOPEO | C31: EXCAVACION EJE 9 DESDE A HASTA H | D31: 0.4 | E31: 10.5 | F31: 0.8 | G31: 1 | I31: =D31*E31*F31*G31 -> 3.36
A32: EXCAVACION CICLOPEO | C32: EXCAVACION EJE 14 DESDE A HASTA I | D32: 0.4 | E32: 12.65 | F32: 0.8 | G32: 1 | I32: =D32*E32*F32*G32 -> 4.048
A33: EXCAVACION CICLOPEO | C33: EXCAVACION EJE A DESDE 1 HASTA 14 | D33: 0.4 | E33: 11.98 | F33: 0.8 | G33: 1 | I33: =D33*E33*F33*G33 -> 3.8336
A34: EXCAVACION CICLOPEO | C34: EXCAVACION EJE E DESDE 1 HASTA 14 | D34: 0.4 | E34: 11.98 | F34: 0.8 | G34: 1 | I34: =D34*E34*F34*G34 -> 3.8336
A35: EXCAVACION CICLOPEO | C35: EXCAVACION EJE I DESDE 1 HASTA 14 | D35: 0.4 | E35: 11.98 | F35: 0.8 | G35: 1 | I35: =D35*E35*F35*G35 -> 3.8336
A36: EXCAVACION CICLOPEO | C36: EXCAVACION EJE B DESDE 2 HASTA 13 | D36: 0.4 | E36: 6.8 | F36: 0.8 | G36: 1 | I36: =D36*E36*F36*G36 -> 2.176
A37: EXCAVACION CICLOPEO | C37: EXCAVACION EJE 2 DESDE A HASTA B | D37: 0.4 | E37: 2.3 | F37: 0.8 | G37: 1 | I37: =D37*E37*F37*G37 -> 0.736
A38: EXCAVACION CICLOPEO | C38: EXCAVACION EJE 13 DESDE A HASTA B | D38: 0.4 | E38: 2.3 | F38: 0.8 | G38: 1 | I38: =D38*E38*F38*G38 -> 0.736
A39: EXCAVACION CICLOPEO | C39: EXCAVACION EJE H DESDE 3 HASTA 12 | D39: 0.4 | E39: 6 | F39: 0.8 | G39: 1 | I39: =D39*E39*F39*G39 -> 1.92
A40: EXCAVACION CICLOPEO | C40: EXCAVACION EJE 3 DESDE H HASTA I | D40: 0.4 | E40: 2.3 | F40: 0.8 | G40: 1 | I40: =D40*E40*F40*G40 -> 0.736
... A44: EXCAVACION CICLOPEO | C44: EXCAVACION 15 | D44: 0.4 | E44: 12.65 | F44: 0.8 | G44: 1 | I44: =D44*E44*F44*G44 -> 4.048
A46: TOTAL | I46: =SUM(I29:I45) -> 39.7408
A48: ITEM | C48: =VLOOKUP(A49,PRESUPUESTO!$A$14:$G$83,2,) -> Suministro, instalacion y compactacion de material seleccionado | I48: UNIDAD
A49: 2.2 | I49: =VLOOKUP(A49,PRESUPUESTO!$A$14:$G$83,4,) -> M3
A50: DESCRIPCION | D50: ANCHO | E50: LARGO | F50: ALTO | G50: No. ELEM. | I50: TOTAL
A51: AREA DE INTERVENCION | C51: PROPUESTA AMPLIACION AREA 1 | D51: 12.65 | E51: 11.98 | F51: 0.35 | G51: 1 | I51: =D51*E51*F51*G51 -> 53.04145
A52: AREA DE INTERVENCION | C52: PASILLO | D52: 2.5 | E52: 12.65 | F52: 0.35 | G52: 1 | I52: =D52*E52*F52*G52 -> 11.06875
A57: TOTAL | I57: =SUM(I51:I56) -> 64.1102
A59: ITEM | C59: =VLOOKUP(A60,PRESUPUESTO!$A$14:$G$83,2,) -> Viga de cimentacion de (30x35cm) en concreto 3000 PSI | I59: UNIDAD
A60: 3.1 | I60: =VLOOKUP(A60,PRESUPUESTO!$A$14:$G$83,4,) -> ML
...

Sheet APUS
C1: SECRETARIA DE PLANEACIÓN Y OBRAS PÚBLICAS | D1: CODIGO | F1: 103
D2: SERIE Y SUBSERIE | F2: 51
C3: NIT. 800252922-2
C4: Modelo Integrado de Planeación y Gestión | D4: VERSIÓN | F4: 1
C5: PRESUPUESTO | D5: FECHA DEL FORMATO | F5: D/M/A
F6: =[10]PRESUPUESTO!F6 -> 45402
A8: =PRESUPUESTO!A8 -> AMPLIACIÓN DE MÓDULOS HABITACIONALES Y ÁREAS COMPLEMENTARIAS PARA CENTRO DE BIENESTAR EL BUEN SAMARITANO Y CENTRO DÍA DE PUERTO COLÓN DEL MUNICIPIO DE SAN MIGUEL, PUTUMAYO.
A11: 1.1 | B11: =VLOOKUP(A11,PRESUPUESTO!$A$14:$G$71,2,) -> localizacion y replanteo | G11: Unidad: | H11: =VLOOKUP(A11,PRESUPUESTO!$A$14:$G$71,4,) -> M2
A13: I | B13: EQUIPO
B14: DESCRIPCIÓN | D14: Tipo | E14: Tarifa/Hora | F14: Rend | G14: V. Unitario.
B15: Herremienta menor | F15: 0.1 | G15: =ROUND(H29*F15,2) -> 369.44
G16: =E16*F16 -> 0
E17: SUBTOTAL. | H17: =ROUND(SUM(G15:G16),2) -> 369.44
A18: II | B18: MATERIALES EN OBRA.
B19: DESCRIPCIÓN | D19: Unidad | E19: Cant. | F19: Precio Unit. | G19: V. Unitario.
B20: estacas | D20: und | E20: 0.5 | F20: 10000 | G20: =E20*F20 -> 5000 | K20: may
B21: puntillas | D21: lb | E21: 0.02 | F21: 5000 | G21: =E21*F21 -> 100
B22: nylon en rollo | D22: und | E22: 0.01 | F22: 6200 | G22: =E22*F22 -> 62
E23: SUBTOTAL | H23: =ROUND(SUM(G20:G22),2) -> 5162
A24: III | B24: MANO DE OBRA.
A25: CAN | B25: DESCRIPCIÓN | C25: Jornal | D25: Prestac | E25: Jornal Total | F25: Redn M2/Dia | G25: V. Unitario.
A26: 1 | B26: Oficial de obra | C26: 120000 | D26: 0.75 | E26: =+(A26*C26)+(A26*C26*D26) -> 210000 | F26: 90 | G26: =ROUND(E26/(F26),2) -> 2333.33
A27: 1 | B27: Ayudante de obra | C27: 70000 | D27: 0.75 | E27: =+(A27*C27)+(A27*C27*D27) -> 122500 | F27: 90 | G27: =ROUND(E27/(F27),2) -> 1361.11
E29: SUBTOTAL | H29: =ROUND(SUM(G26)+(G27),2) -> 3694.44
A30: IV | B30: TRANSPORTE
B31: DESCRIPCIÓN | C31: Unidad | D31: Cantidad | E31: Prec.Unitario | G31: Vr. Unitario
E35: SUBTOTAL | H35: =ROUND(SUM(G32)+(G33),0) -> 0
D37: TOTAL COSTOS DIRECTOS. | H37: =ROUND(SUM(H17:H36),2) -> 9225.88
A39: V | B39: COSTOS INDIRECTOS.
B40: DESCRIPCIÓN | D40: % | F40: V. UNITARIO
B41: ADMINISTRACIÓN | D41: 0.28 | F41: =+H37*D41 -> 2583.2464
B42: IMPREVISTOS | D42: 0.01 | F42: =+H37*D42 -> 92.2588
B43: UTILIDAD | D43: 0.03 | F43: =+H37*D43 -> 276.7764
B44: IVA SOBRE UTILIDAD | D44: 0.19 | F44: =D44*F43 -> 52.587516
D45: TOTAL COSTOS INDIRECTOS | H45: =SUM(F41:G44) -> 3004.8691
D47: TOTAL PRECIO UNITARIO. | H47: =H37+H45 -> 12230.749
A51: Reviso: | B51: Ing. Jeisson Arled Buesaquillo Madroñero | E51: ARQ. GUILLERMO YAMID VALLEJOS BENAVIDES
A52: Apoyo Profesional SPOPM | E52: =+$E$52 -> SECRETARIO DE PLANEACION Y OBRAS PUBLICAS
E53: =+$E$53 -> SAN MIGUEL - PUTUMAYO
C54: SECRETARIA DE PLANEACIÓN Y OBRAS PÚBLICAS | D54: CODIGO | F54: 103
...

Sheet FLUJO DE INVERSION 
C1: SECRETARIA DE PLANEACIÓN Y OBRAS PÚBLICAS | J1: CODIGO | L1: 103
J2: SERIE Y SUBSERIE | L2: 51
C3: NIT. 800252922-2
C4: Modelo Integrado de Planeación y Gestión | J4: VERSIÓN | L4: 1
C5: PRESUPUESTO | J5: FECHA DEL FORMATO | L5: D/M/A
L6: 44216
A8: =PRESUPUESTO!A8 -> AMPLIACIÓN DE MÓDULOS HABITACIONALES Y ÁREAS COMPLEMENTARIAS PARA CENTRO DE BIENESTAR EL BUEN SAMARITANO Y CENTRO DÍA DE PUERTO COLÓN DEL MUNICIPIO DE SAN MIGUEL, PUTUMAYO.
A11: FLUJO DE INVERSION
I12: MES 1 | M12: MES 2
I13: SEMANA 1 | J13: SEMANA 2 | K13: SEMANA 3 | L13: SEMANA 4 | M13: SEMANA 5 | N13: SEMANA 6
A14: ITEM | B14: DESCRIPCION | D14: UNIDAD | E14: CANTIDAD | F14: V/UNITARIO | G14: V/TOTAL | H14: %
A15: 1 | B15: =PRESUPUESTO!B14 -> PRELIMINARES
A16: 1.1 | B16: =VLOOKUP(A16,PRESUPUESTO!$A$14:$G$84,2,) -> localizacion y replanteo | D16: =VLOOKUP(A16,PRESUPUESTO!$A$14:$G$84,4,) -> M2 | E16: =VLOOKUP(A16,PRESUPUESTO!$A$14:$G$84,5,) -> 181.654 | F16: =VLOOKUP(A16,PRESUPUESTO!$A$14:$G$84,6,) -> 9225.88 | G16: =+ROUND(E16*F16,2) -> 1675918 | H16: =G16/$G$77 -> 0.0048630781 | I16: =G16/1 -> 1675918
A17: 1.2 | B17: =VLOOKUP(A17,PRESUPUESTO!$A$14:$G$84,2,) -> Desmonte de pasamanos metálico auto portante con anclaje a piso existente y anclaje lateral a muro existente | D17: =VLOOKUP(A17,PRESUPUESTO!$A$14:$G$84,4,) -> ML | E17: =VLOOKUP(A17,PRESUPUESTO!$A$14:$G$84,5,) -> 52.85 | F17: =VLOOKUP(A17,PRESUPUESTO!$A$14:$G$84,6,) -> 15300 | G17: =+ROUND(E17*F17,2) -> 808605 | H17: =G17/$G$77 -> 0.0023463614 | I17: =G17/1 -> 808605
A18: =PRESUPUESTO!A17 -> 1.3 | B18: =VLOOKUP(A18,PRESUPUESTO!$A$14:$G$84,2,) -> Desmonte de cabinas metálicas existentes | D18: =VLOOKUP(A18,PRESUPUESTO!$A$14:$G$84,4,) -> UND | E18: =VLOOKUP(A18,PRESUPUESTO!$A$14:$G$84,5,) -> 4 | F18: =VLOOKUP(A18,PRESUPUESTO!$A$14:$G$84,6,) -> 12456.25 | G18: =+ROUND(E18*F18,2) -> 49825 | H18: =G18/$G$77 -> 0.00014457919 | I18: =G18/1 -> 49825
A19: 1.4 | B19: =VLOOKUP(A19,PRESUPUESTO!$A$14:$G$84,2,) -> Desmonte de unidades sanitarias y lavamanos existentes | D19: =VLOOKUP(A19,PRESUPUESTO!$A$14:$G$84,4,) -> UND | E19: =VLOOKUP(A19,PRESUPUESTO!$A$14:$G$84,5,) -> 7 | F19: =VLOOKUP(A19,PRESUPUESTO!$A$14:$G$84,6,) -> 25025 | G19: =+ROUND(E19*F19,2) -> 175175 | H19: =G19/$G$77 -> 0.00050831228 | I19: =G19/1 -> 175175
A20: 1.5 | B20: =VLOOKUP(A20,PRESUPUESTO!$A$14:$G$84,2,) -> Demolición de enchape de piso existente | D20: =VLOOKUP(A20,PRESUPUESTO!$A$14:$G$84,4,) -> M2 | E20: =VLOOKUP(A20,PRESUPUESTO!$A$14:$G$84,5,) -> 19.2625 | F20: =VLOOKUP(A20,PRESUPUESTO!$A$14:$G$84,6,) -> 25800 | G20: =+ROUND(E20*F20,2) -> 496972.5 | H20: =G20/$G$77 -> 0.0014420849 | I20: =G20/1 -> 496972.5
A21: =PRESUPUESTO!A20 -> 1.6 | B21: =VLOOKUP(A21,PRESUPUESTO!$A$14:$G$84,2,) -> Demolicion de enchape de muro existente | D21: =VLOOKUP(A21,PRESUPUESTO!$A$14:$G$84,4,) -> M2 | E21: =VLOOKUP(A21,PRESUPUESTO!$A$14:$G$84,5,) -> 25.8 | F21: =VLOOKUP(A21,PRESUPUESTO!$A$14:$G$84,6,) -> 24300 | G21: =+ROUND(E21*F21,2) -> 626940 | H21: =G21/$G$77 -> 0.0018192168 | I21: =G21/1 -> 626940
A22: 1.7 | B22: =VLOOKUP(A22,PRESUPUESTO!$A$14:$G$84,2,) -> Demolición manual de muro de baño | D22: =VLOOKUP(A22,PRESUPUESTO!$A$14:$G$84,4,) -> M2 | E22: =VLOOKUP(A22,PRESUPUESTO!$A$14:$G$84,5,) -> 2.7 | F22: =VLOOKUP(A22,PRESUPUESTO!$A$14:$G$84,6,) -> 38300 | G22: =+ROUND(E22*F22,2) -> 103410 | H22: =G22/$G$77 -> 0.00030006892 | I22: =G22/1 -> 103410
A23: 1.8 | B23: =VLOOKUP(A23,PRESUPUESTO!$A$14:$G$84,2,) -> Retiro y disposicion de material sobrante | D23: =VLOOKUP(A23,PRESUPUESTO!$A$14:$G$84,4,) -> M3 | E23: =VLOOKUP(A23,PRESUPUESTO!$A$14:$G$84,5,) -> 46.9525 | F23: =VLOOKUP(A23,PRESUPUESTO!$A$14:$G$84,6,) -> 34383.34 | G23: =+ROUND(E23*F23,2) -> 1614383.8 | H23: =G23/$G$77 -> 0.0046845217 | I23: =G23/1 -> 1614383.8
A24: 2 | B24: =PRESUPUESTO!B24 -> MOVIMIENTO DE TIERRAS
A25: 2.1 | B25: =VLOOKUP(A25,PRESUPUESTO!$A$14:$G$84,2,) -> Excavacion Manual Localizada (incluye retiro) | D25: =VLOOKUP(A25,PRESUPUESTO!$A$14:$G$84,4,) -> M3 | E25: =VLOOKUP(A25,PRESUPUESTO!$A$14:$G$84,5,) -> 39.7408 | F25: =VLOOKUP(A25,PRESUPUESTO!$A$14:$G$84,6,) -> 60050 | G25: =+ROUND(E25*F25,2) -> 2386435 | H25: =G25/$G$77 -> 0.0069248137 | I25: =G25/1 -> 2386435
A26: 2.2 | B26: =VLOOKUP(A26,PRESUPUESTO!$A$14:$G$84,2,) -> Suministro, instalacion y compactacion de material seleccionado | D26: =VLOOKUP(A26,PRESUPUESTO!$A$14:$G$84,4,) -> M3 | E26: =VLOOKUP(A26,PRESUPUESTO!$A$14:$G$84,5,) -> 64.1102 | F26: =VLOOKUP(A26,PRESUPUESTO!$A$14:$G$84,6,) -> 110130 | G26: =+ROUND(E26*F26,2) -> 7060456.3 | H26: =G26/$G$77 -> 0.020487607 | J26: =G26/1 -> 7060456.3
A27: 3 | B27: =PRESUPUESTO!B28 -> CONCRETOS Y ACEROS
A28: 3.1 | B28: =VLOOKUP(A28,PRESUPUESTO!$A$14:$G$84,2,) -> Viga de cimentacion de (30x35cm) en concreto 3000 PSI | D28: =VLOOKUP(A28,PRESUPUESTO!$A$14:$G$84,4,) -> ML | E28: =VLOOKUP(A28,PRESUPUESTO!$A$14:$G$84,5,) -> 106.54 | F28: =VLOOKUP(A28,PRESUPUESTO!$A$14:$G$84,6,) -> 111153.5 | G28: =+ROUND(E28*F28,2) -> 11842294 | H28: =G28/$G$77 -> 0.034363256 | J28: =G28/1 -> 11842294
A29: 3.2 | B29: =VLOOKUP(A29,PRESUPUESTO!$A$14:$G$84,2,) -> Vigas de corona de (12x20cm ) en concreto de 3000 PSI | D29: =VLOOKUP(A29,PRESUPUESTO!$A$14:$G$84,4,) -> ML | E29: =VLOOKUP(A29,PRESUPUESTO!$A$14:$G$84,5,) -> 108.04 | F29: =VLOOKUP(A29,PRESUPUESTO!$A$14:$G$84,6,) -> 75983.3 | G29: =+ROUND(E29*F29,2) -> 8209235.7 | H29: =G29/$G$77 -> 0.023821066 | M29: =G29/1 -> 8209235.7
A30: 3.3 | B30: =VLOOKUP(A30,PRESUPUESTO!$A$14:$G$84,2,) -> Columnetas de confinamiento de (12x20cm) en concreto de 3000 PSI | D30: =VLOOKUP(A30,PRESUPUESTO!$A$14:$G$84,4,) -> ML | E30: =VLOOKUP(A30,PRESUPUESTO!$A$14:$G$84,5,) -> 152.05 | F30: =VLOOKUP(A30,PRESUPUESTO!$A$14:$G$84,6,) -> 75248.15 | G30: =+ROUND(E30*F30,2) -> 11441481 | H30: =G30/$G$77 -> 0.033200202 | L30: =G30/1 -> 11441481
A31: 3.4 | B31: =VLOOKUP(A31,PRESUPUESTO!$A$14:$G$84,2,) -> Acero de refuerzo Fy= 420 mpa | D31: =VLOOKUP(A31,PRESUPUESTO!$A$14:$G$84,4,) -> KG | E31: =VLOOKUP(A31,PRESUPUESTO!$A$14:$G$84,5,) -> 2425.3615 | F31: =VLOOKUP(A31,PRESUPUESTO!$A$14:$G$84,6,) -> 12036.66 | G31: =+ROUND(E31*F31,2) -> 29193251 | H31: =G31/$G$77 -> 0.084711221 | I31: =$G$31/2 -> 14596626 | J31: =$G$31/2 -> 14596626
A32: 3.5 | B32: =VLOOKUP(A32,PRESUPUESTO!$A$14:$G$84,2,) -> Concreto Ciclopeo 60-40 Mejoramiento del terreno (40X40) | D32: =VLOOKUP(A32,PRESUPUESTO!$A$14:$G$84,4,) -> M3 | E32: =VLOOKUP(A32,PRESUPUESTO!$A$14:$G$84,5,) -> 19.8704 | F32: =VLOOKUP(A32,PRESUPUESTO!$A$14:$G$84,6,) -> 445520 | G32: =+ROUND(E32*F32,2) -> 8852660.6 | H32: =G32/$G$77 -> 0.025688118 | I32: =G32/1 -> 8852660.6
A33: 3.6 | B33: =VLOOKUP(A33,PRESUPUESTO!$A$14:$G$84,2,) -> Placa de contrapiso e=0.10m concreto 3000 PSI | D33: =VLOOKUP(A33,PRESUPUESTO!$A$14:$G$84,4,) -> M2 | E33: =VLOOKUP(A33,PRESUPUESTO!$A$14:$G$84,5,) -> 196.597 | F33: =VLOOKUP(A33,PRESUPUESTO!$A$14:$G$84,6,) -> 97613.34 | G33: =+ROUND(E33*F33,2) -> 19190490 | H33: =G33/$G$77 -> 0.055685809 | K33: =G33/1 -> 19190490
A34: 4 | B34: =PRESUPUESTO!B36 -> INSTALACIONES HIDROSANITARIAS Y ELECTRICAS
A35: 4.1 | B35: =VLOOKUP(A35,PRESUPUESTO!$A$14:$G$84,2,) -> Suministro e instalacion de tuberia hidraulica en PVC presion 3/4" incluido accesorios | D35: =VLOOKUP(A35,PRESUPUESTO!$A$14:$G$84,4,) -> ML | E35: =VLOOKUP(A35,PRESUPUESTO!$A$14:$G$84,5,) -> 60.4 | F35: =VLOOKUP(A35,PRESUPUESTO!$A$14:$G$84,6,) -> 14335 | G35: =+ROUND(E35*F35,2) -> 865834 | H35: =G35/$G$77 -> 0.002512425 | J35: =G35/1 -> 865834
A36: 4.2 | B36: =VLOOKUP(A36,PRESUPUESTO!$A$14:$G$84,2,) -> Suministro e instalacion de tuberia hidraulica en PVC presion 1/2" incluido accesorios | D36: =VLOOKUP(A36,PRESUPUESTO!$A$14:$G$84,4,) -> ML | E36: =VLOOKUP(A36,PRESUPUESTO!$A$14:$G$84,5,) -> 14.6 | F36: =VLOOKUP(A36,PRESUPUESTO!$A$14:$G$84,6,) -> 12335 | G36: =+ROUND(E36*F36,2) -> 180091 | H36: =G36/$G$77 -> 0.00052257723 | J36: =G36/1 -> 180091
A37: 4.3 | B37: =VLOOKUP(A37,PRESUPUESTO!$A$14:$G$84,2,) -> Suministro e instalacion de tubieria sanitaria en PVC 4" incluido accesorios | D37: =VLOOKUP(A37,PRESUPUESTO!$A$14:$G$84,4,) -> ML | E37: =VLOOKUP(A37,PRESUPUESTO!$A$14:$G$84,5,) -> 80.94 | F37: =VLOOKUP(A37,PRESUPUESTO!$A$14:$G$84,6,) -> 54870 | G37: =+ROUND(E37*F37,2) -> 4441177.8 | H37: =G37/$G$77 -> 0.012887143 | J37: =G37/1 -> 4441177.8
A38: 4.4 | B38: =VLOOKUP(A38,PRESUPUESTO!$A$14:$G$84,2,) -> Suministro e instalacion de tubieria sanitaria en PVC 2" incluido accesorios | D38: =VLOOKUP(A38,PRESUPUESTO!$A$14:$G$84,4,) -> ML | E38: =VLOOKUP(A38,PRESUPUESTO!$A$14:$G$84,5,) -> 48.64 | F38: =VLOOKUP(A38,PRESUPUESTO!$A$14:$G$84,6,) -> 36633.34 | G38: =+ROUND(E38*F38,2) -> 1781845.7 | H38: =G38/$G$77 -> 0.0051704526 | J38: =G38/1 -> 1781845.7
A39: 4.5 | B39: =VLOOKUP(A39,PRESUPUESTO!$A$14:$G$84,2,) -> construccion de caja de inspeccion sanitaria de (80X80) en mamposteria incluye tapa en concreto | D39: =VLOOKUP(A39,PRESUPUESTO!$A$14:$G$84,4,) -> UND | E39: =VLOOKUP(A39,PRESUPUESTO!$A$14:$G$84,5,) -> 3 | F39: =VLOOKUP(A39,PRESUPUESTO!$A$14:$G$84,6,) -> 513462.5 | G39: =+ROUND(E39*F39,2) -> 1540387.5 | H39: =G39/$G$77 -> 0.0044698038 | I39: =G39/1 -> 1540387.5
A40: 4.6 | B40: =VLOOKUP(A40,PRESUPUESTO!$A$14:$G$84,2,) -> Punto Sanitario 2" | D40: =VLOOKUP(A40,PRESUPUESTO!$A$14:$G$84,4,) -> UND | E40: =VLOOKUP(A40,PRESUPUESTO!$A$14:$G$84,5,) -> 15 | F40: =VLOOKUP(A40,PRESUPUESTO!$A$14:$G$84,6,) -> 75066.66 | G40: =+ROUND(E40*F40,2) -> 1125999.9 | H40: =G40/$G$77 -> 0.0032673588 | K40: =G40/1 -> 1125999.9
A41: 4.7 | B41: =VLOOKUP(A41,PRESUPUESTO!$A$14:$G$84,2,) -> Punto Sanitario 4" | D41: =VLOOKUP(A41,PRESUPUESTO!$A$14:$G$84,4,) -> UND | E41: =VLOOKUP(A41,PRESUPUESTO!$A$14:$G$84,5,) -> 7 | F41: =VLOOKUP(A41,PRESUPUESTO!$A$14:$G$84,6,) -> 153900 | G41: =+ROUND(E41*F41,2) -> 1077300 | H41: =G41/$G$77 -> 0.0031260443 | K41: =G41/1 -> 1077300
A42: 4.8 | B42: =VLOOKUP(A42,PRESUPUESTO!$A$14:$G$84,2,) -> Suministro e instalación de ducha tipo telefónica cromada, incluye regadera, brazo, chapeta, accesorios de fijación, conexiones | D42: =VLOOKUP(A42,PRESUPUESTO!$A$14:$G$84,4,) -> UND | E42: =VLOOKUP(A42,PRESUPUESTO!$A$14:$G$84,5,) -> 4 | F42: =VLOOKUP(A42,PRESUPUESTO!$A$14:$G$84,6,) -> 239825 | G42: =+ROUND(E42*F42,2) -> 959300 | H42: =G42/$G$77 -> 0.002783639 | N42: =G42/1 -> 959300
A43: 4.9 | B43: =VLOOKUP(A43,PRESUPUESTO!$A$14:$G$84,2,) -> Suministro e instalación de taza sanitaria tipo institucional (incluye accesorios de fijación y conexión) | D43: =VLOOKUP(A43,PRESUPUESTO!$A$14:$G$84,4,) -> UND | E43: =VLOOKUP(A43,PRESUPUESTO!$A$14:$G$84,5,) -> 4 | F43: =VLOOKUP(A43,PRESUPUESTO!$A$14:$G$84,6,) -> 383616.66 | G43: =+ROUND(E43*F43,2) -> 1534466.6 | H43: =G43/$G$77 -> 0.004452623 | N43: =G43/1 -> 1534466.6
...

Sheet CRONOGRAMA
C1: SECRETARIA DE PLANEACIÓN Y OBRAS PÚBLICAS | J1: CODIGO | L1: 103
J2: SERIE Y SUBSERIE | L2: 51
C3: NIT. 800252922-2
C4: Modelo Integrado de Planeación y Gestión | J4: VERSIÓN | L4: 1
C5: PRESUPUESTO | J5: FECHA DEL FORMATO | L5: D/M/A
L6: 44216
A8: =PRESUPUESTO!A8 -> AMPLIACIÓN DE MÓDULOS HABITACIONALES Y ÁREAS COMPLEMENTARIAS PARA CENTRO DE BIENESTAR EL BUEN SAMARITANO Y CENTRO DÍA DE PUERTO COLÓN DEL MUNICIPIO DE SAN MIGUEL, PUTUMAYO.
A11: CRONOGRAMA DE OBRA
I12: MES 1 | M12: MES 2
I13: SEMANA 1 | J13: SEMANA 2 | K13: SEMANA 3 | L13: SEMANA 4 | M13: SEMANA 5 | N13: SEMANA 6
A14: ITEM | B14: DESCRIPCION | D14: UNIDAD | E14: CANTIDAD | F14: V/UNITARIO | G14: V/TOTAL | H14: %
A15: 1 | B15: =PRESUPUESTO!B14 -> PRELIMINARES
A16: 1.1 | B16: =VLOOKUP(A16,PRESUPUESTO!$A$14:$G$84,2,) -> localizacion y replanteo | D16: =VLOOKUP(A16,PRESUPUESTO!$A$14:$G$84,4,) -> M2 | E16: =VLOOKUP(A16,PRESUPUESTO!$A$14:$G$84,5,) -> 181.654 | F16: =VLOOKUP(A16,PRESUPUESTO!$A$14:$G$84,6,) -> 9225.88 | G16: =+ROUND(E16*F16,2) -> 1675918 | H16: =G16/$G$77 -> 0.0048630781
A17: 1.2 | B17: =VLOOKUP(A17,PRESUPUESTO!$A$14:$G$84,2,) -> Desmonte de pasamanos metálico auto portante con anclaje a piso existente y anclaje lateral a muro existente | D17: =VLOOKUP(A17,PRESUPUESTO!$A$14:$G$84,4,) -> ML | E17: =VLOOKUP(A17,PRESUPUESTO!$A$14:$G$84,5,) -> 52.85 | F17: =VLOOKUP(A17,PRESUPUESTO!$A$14:$G$84,6,) -> 15300 | G17: =+ROUND(E17*F17,2) -> 808605 | H17: =G17/$G$77 -> 0.0023463614
A18: =PRESUPUESTO!A17 -> 1.3 | B18: =VLOOKUP(A18,PRESUPUESTO!$A$14:$G$84,2,) -> Desmonte de cabinas metálicas existentes | D18: =VLOOKUP(A18,PRESUPUESTO!$A$14:$G$84,4,) -> UND | E18: =VLOOKUP(A18,PRESUPUESTO!$A$14:$G$84,5,) -> 4 | F18: =VLOOKUP(A18,PRESUPUESTO!$A$14:$G$84,6,) -> 12456.25 | G18: =+ROUND(E18*F18,2) -> 49825 | H18: =G18/$G$77 -> 0.00014457919
A19: 1.4 | B19: =VLOOKUP(A19,PRESUPUESTO!$A$14:$G$84,2,) -> Desmonte de unidades sanitarias y lavamanos existentes | D19: =VLOOKUP(A19,PRESUPUESTO!$A$14:$G$84,4,) -> UND | E19: =VLOOKUP(A19,PRESUPUESTO!$A$14:$G$84,5,) -> 7 | F19: =VLOOKUP(A19,PRESUPUESTO!$A$14:$G$84,6,) -> 25025 | G19: =+ROUND(E19*F19,2) -> 175175 | H19: =G19/$G$77 -> 0.00050831228
A20: 1.5 | B20: =VLOOKUP(A20,PRESUPUESTO!$A$14:$G$84,2,) -> Demolición de enchape de piso existente | D20: =VLOOKUP(A20,PRESUPUESTO!$A$14:$G$84,4,) -> M2 | E20: =VLOOKUP(A20,PRESUPUESTO!$A$14:$G$84,5,) -> 19.2625 | F20: =VLOOKUP(A20,PRESUPUESTO!$A$14:$G$84,6,) -> 25800 | G20: =+ROUND(E20*F20,2) -> 496972.5 | H20: =G20/$G$77 -> 0.0014420849
A21: =PRESUPUESTO!A20 -> 1.6 | B21: =VLOOKUP(A21,PRESUPUESTO!$A$14:$G$84,2,) -> Demolicion de enchape de muro existente | D21: =VLOOKUP(A21,PRESUPUESTO!$A$14:$G$84,4,) -> M2 | E21: =VLOOKUP(A21,PRESUPUESTO!$A$14:$G$84,5,) -> 25.8 | F21: =VLOOKUP(A21,PRESUPUESTO!$A$14:$G$84,6,) -> 24300 | G21: =+ROUND(E21*F21,2) -> 626940 | H21: =G21/$G$77 -> 0.0018192168
A22: 1.7 | B22: =VLOOKUP(A22,PRESUPUESTO!$A$14:$G$84,2,) -> Demolición manual de muro de baño | D22: =VLOOKUP(A22,PRESUPUESTO!$A$14:$G$84,4,) -> M2 | E22: =VLOOKUP(A22,PRESUPUESTO!$A$14:$G$84,5,) -> 2.7 | F22: =VLOOKUP(A22,PRESUPUESTO!$A$14:$G$84,6,) -> 38300 | G22: =+ROUND(E22*F22,2) -> 103410 | H22: =G22/$G$77 -> 0.00030006892
A23: 1.8 | B23: =VLOOKUP(A23,PRESUPUESTO!$A$14:$G$84,2,) -> Retiro y disposicion de material sobrante | D23: =VLOOKUP(A23,PRESUPUESTO!$A$14:$G$84,4,) -> M3 | E23: =VLOOKUP(A23,PRESUPUESTO!$A$14:$G$84,5,) -> 46.9525 | F23: =VLOOKUP(A23,PRESUPUESTO!$A$14:$G$84,6,) -> 34383.34 | G23: =+ROUND(E23*F23,2) -> 1614383.8 | H23: =G23/$G$77 -> 0.0046845217
A24: 2 | B24: =PRESUPUESTO!B24 -> MOVIMIENTO DE TIERRAS
A25: 2.1 | B25: =VLOOKUP(A25,PRESUPUESTO!$A$14:$G$84,2,) -> Excavacion Manual Localizada (incluye retiro) | D25: =VLOOKUP(A25,PRESUPUESTO!$A$14:$G$84,4,) -> M3 | E25: =VLOOKUP(A25,PRESUPUESTO!$A$14:$G$84,5,) -> 39.7408 | F25: =VLOOKUP(A25,PRESUPUESTO!$A$14:$G$84,6,) -> 60050 | G25: =+ROUND(E25*F25,2) -> 2386435 | H25: =G25/$G$77 -> 0.0069248137
A26: 2.2 | B26: =VLOOKUP(A26,PRESUPUESTO!$A$14:$G$84,2,) -> Suministro, instalacion y compactacion de material seleccionado | D26: =VLOOKUP(A26,PRESUPUESTO!$A$14:$G$84,4,) -> M3 | E26: =VLOOKUP(A26,PRESUPUESTO!$A$14:$G$84,5,) -> 64.1102 | F26: =VLOOKUP(A26,PRESUPUESTO!$A$14:$G$84,6,) -> 110130 | G26: =+ROUND(E26*F26,2) -> 7060456.3 | H26: =G26/$G$77 -> 0.020487607
A27: 3 | B27: =PRESUPUESTO!B28 -> CONCRETOS Y ACEROS
A28: 3.1 | B28: =VLOOKUP(A28,PRESUPUESTO!$A$14:$G$84,2,) -> Viga de cimentacion de (30x35cm) en concreto 3000 PSI | D28: =VLOOKUP(A28,PRESUPUESTO!$A$14:$G$84,4,) -> ML | E28: =VLOOKUP(A28,PRESUPUESTO!$A$14:$G$84,5,) -> 106.54 | F28: =VLOOKUP(A28,PRESUPUESTO!$A$14:$G$84,6,) -> 111153.5 | G28: =+ROUND(E28*F28,2) -> 11842294 | H28: =G28/$G$77 -> 0.034363256
A29: 3.2 | B29: =VLOOKUP(A29,PRESUPUESTO!$A$14:$G$84,2,) -> Vigas de corona de (12x20cm ) en concreto de 3000 PSI | D29: =VLOOKUP(A29,PRESUPUESTO!$A$14:$G$84,4,) -> ML | E29: =VLOOKUP(A29,PRESUPUESTO!$A$14:$G$84,5,) -> 108.04 | F29: =VLOOKUP(A29,PRESUPUESTO!$A$14:$G$84,6,) -> 75983.3 | G29: =+ROUND(E29*F29,2) -> 8209235.7 | H29: =G29/$G$77 -> 0.023821066
A30: 3.3 | B30: =VLOOKUP(A30,PRESUPUESTO!$A$14:$G$84,2,) -> Columnetas de confinamiento de (12x20cm) en concreto de 3000 PSI | D30: =VLOOKUP(A30,PRESUPUESTO!$A$14:$G$84,4,) -> ML | E30: =VLOOKUP(A30,PRESUPUESTO!$A$14:$G$84,5,) -> 152.05 | F30: =VLOOKUP(A30,PRESUPUESTO!$A$14:$G$84,6,) -> 75248.15 | G30: =+ROUND(E30*F30,2) -> 11441481 | H30: =G30/$G$77 -> 0.033200202
A31: 3.4 | B31: =VLOOKUP(A31,PRESUPUESTO!$A$14:$G$84,2,) -> Acero de refuerzo Fy= 420 mpa | D31: =VLOOKUP(A31,PRESUPUESTO!$A$14:$G$84,4,) -> KG | E31: =VLOOKUP(A31,PRESUPUESTO!$A$14:$G$84,5,) -> 2425.3615 | F31: =VLOOKUP(A31,PRESUPUESTO!$A$14:$G$84,6,) -> 12036.66 | G31: =+ROUND(E31*F31,2) -> 29193251 | H31: =G31/$G$77 -> 0.084711221
A32: 3.5 | B32: =VLOOKUP(A32,PRESUPUESTO!$A$14:$G$84,2,) -> Concreto Ciclopeo 60-40 Mejoramiento del terreno (40X40) | D32: =VLOOKUP(A32,PRESUPUESTO!$A$14:$G$84,4,) -> M3 | E32: =VLOOKUP(A32,PRESUPUESTO!$A$14:$G$84,5,) -> 19.8704 | F32: =VLOOKUP(A32,PRESUPUESTO!$A$14:$G$84,6,) -> 445520 | G32: =+ROUND(E32*F32,2) -> 8852660.6 | H32: =G32/$G$77 -> 0.025688118
A33: 3.6 | B33: =VLOOKUP(A33,PRESUPUESTO!$A$14:$G$84,2,) -> Placa de contrapiso e=0.10m concreto 3000 PSI | D33: =VLOOKUP(A33,PRESUPUESTO!$A$14:$G$84,4,) -> M2 | E33: =VLOOKUP(A33,PRESUPUESTO!$A$14:$G$84,5,) -> 196.597 | F33: =VLOOKUP(A33,PRESUPUESTO!$A$14:$G$84,6,) -> 97613.34 | G33: =+ROUND(E33*F33,2) -> 19190490 | H33: =G33/$G$77 -> 0.055685809
A34: 4 | B34: =PRESUPUESTO!B36 -> INSTALACIONES HIDROSANITARIAS Y ELECTRICAS
A35: 4.1 | B35: =VLOOKUP(A35,PRESUPUESTO!$A$14:$G$84,2,) -> Suministro e instalacion de tuberia hidraulica en PVC presion 3/4" incluido accesorios | D35: =VLOOKUP(A35,PRESUPUESTO!$A$14:$G$84,4,) -> ML | E35: =VLOOKUP(A35,PRESUPUESTO!$A$14:$G$84,5,) -> 60.4 | F35: =VLOOKUP(A35,PRESUPUESTO!$A$14:$G$84,6,) -> 14335 | G35: =+ROUND(E35*F35,2) -> 865834 | H35: =G35/$G$77 -> 0.002512425
A36: 4.2 | B36: =VLOOKUP(A36,PRESUPUESTO!$A$14:$G$84,2,) -> Suministro e instalacion de tuberia hidraulica en PVC presion 1/2" incluido accesorios | D36: =VLOOKUP(A36,PRESUPUESTO!$A$14:$G$84,4,) -> ML | E36: =VLOOKUP(A36,PRESUPUESTO!$A$14:$G$84,5,) -> 14.6 | F36: =VLOOKUP(A36,PRESUPUESTO!$A$14:$G$84,6,) -> 12335 | G36: =+ROUND(E36*F36,2) -> 180091 | H36: =G36/$G$77 -> 0.00052257723
A37: 4.3 | B37: =VLOOKUP(A37,PRESUPUESTO!$A$14:$G$84,2,) -> Suministro e instalacion de tubieria sanitaria en PVC 4" incluido accesorios | D37: =VLOOKUP(A37,PRESUPUESTO!$A$14:$G$84,4,) -> ML | E37: =VLOOKUP(A37,PRESUPUESTO!$A$14:$G$84,5,) -> 80.94 | F37: =VLOOKUP(A37,PRESUPUESTO!$A$14:$G$84,6,) -> 54870 | G37: =+ROUND(E37*F37,2) -> 4441177.8 | H37: =G37/$G$77 -> 0.012887143
A38: 4.4 | B38: =VLOOKUP(A38,PRESUPUESTO!$A$14:$G$84,2,) -> Suministro e instalacion de tubieria sanitaria en PVC 2" incluido accesorios | D38: =VLOOKUP(A38,PRESUPUESTO!$A$14:$G$84,4,) -> ML | E38: =VLOOKUP(A38,PRESUPUESTO!$A$14:$G$84,5,) -> 48.64 | F38: =VLOOKUP(A38,PRESUPUESTO!$A$14:$G$84,6,) -> 36633.34 | G38: =+ROUND(E38*F38,2) -> 1781845.7 | H38: =G38/$G$77 -> 0.0051704526
A39: 4.5 | B39: =VLOOKUP(A39,PRESUPUESTO!$A$14:$G$84,2,) -> construccion de caja de inspeccion sanitaria de (80X80) en mamposteria incluye tapa en concreto | D39: =VLOOKUP(A39,PRESUPUESTO!$A$14:$G$84,4,) -> UND | E39: =VLOOKUP(A39,PRESUPUESTO!$A$14:$G$84,5,) -> 3 | F39: =VLOOKUP(A39,PRESUPUESTO!$A$14:$G$84,6,) -> 513462.5 | G39: =+ROUND(E39*F39,2) -> 1540387.5 | H39: =G39/$G$77 -> 0.0044698038
A40: 4.6 | B40: =VLOOKUP(A40,PRESUPUESTO!$A$14:$G$84,2,) -> Punto Sanitario 2" | D40: =VLOOKUP(A40,PRESUPUESTO!$A$14:$G$84,4,) -> UND | E40: =VLOOKUP(A40,PRESUPUESTO!$A$14:$G$84,5,) -> 15 | F40: =VLOOKUP(A40,PRESUPUESTO!$A$14:$G$84,6,) -> 75066.66 | G40: =+ROUND(E40*F40,2) -> 1125999.9 | H40: =G40/$G$77 -> 0.0032673588
A41: 4.7 | B41: =VLOOKUP(A41,PRESUPUESTO!$A$14:$G$84,2,) -> Punto Sanitario 4" | D41: =VLOOKUP(A41,PRESUPUESTO!$A$14:$G$84,4,) -> UND | E41: =VLOOKUP(A41,PRESUPUESTO!$A$14:$G$84,5,) -> 7 | F41: =VLOOKUP(A41,PRESUPUESTO!$A$14:$G$84,6,) -> 153900 | G41: =+ROUND(E41*F41,2) -> 1077300 | H41: =G41/$G$77 -> 0.0031260443
A42: 4.8 | B42: =VLOOKUP(A42,PRESUPUESTO!$A$14:$G$84,2,) -> Suministro e instalación de ducha tipo telefónica cromada, incluye regadera, brazo, chapeta, accesorios de fijación, conexiones | D42: =VLOOKUP(A42,PRESUPUESTO!$A$14:$G$84,4,) -> UND | E42: =VLOOKUP(A42,PRESUPUESTO!$A$14:$G$84,5,) -> 4 | F42: =VLOOKUP(A42,PRESUPUESTO!$A$14:$G$84,6,) -> 239825 | G42: =+ROUND(E42*F42,2) -> 959300 | H42: =G42/$G$77 -> 0.002783639
A43: 4.9 | B43: =VLOOKUP(A43,PRESUPUESTO!$A$14:$G$84,2,) -> Suministro e instalación de taza sanitaria tipo institucional (incluye accesorios de fijación y conexión) | D43: =VLOOKUP(A43,PRESUPUESTO!$A$14:$G$84,4,) -> UND | E43: =VLOOKUP(A43,PRESUPUESTO!$A$14:$G$84,5,) -> 4 | F43: =VLOOKUP(A43,PRESUPUESTO!$A$14:$G$84,6,) -> 383616.66 | G43: =+ROUND(E43*F43,2) -> 1534466.6 | H43: =G43/$G$77 -> 0.004452623
...

Sheet F.M 
D1: SECRETARIA DE PLANEACIÓN Y OBRAS PÚBLICAS | E1: CODIGO | F1: 103
E2: SERIE Y SUBSERIE | F2: 51
D3: NIT. 800252922-2
D4: Modelo Integrado de Planeación y Gestión | E4: VERSIÓN | F4: 1
D5: PRESUPUESTO | E5: FECHA DEL FORMATO | F5: D/M/A
F6: 44216
B8: =PRESUPUESTO!A8 -> AMPLIACIÓN DE MÓDULOS HABITACIONALES Y ÁREAS COMPLEMENTARIAS PARA CENTRO DE BIENESTAR EL BUEN SAMARITANO Y CENTRO DÍA DE PUERTO COLÓN DEL MUNICIPIO DE SAN MIGUEL, PUTUMAYO.
B11: FACTOR PRESTACIONAL PARA PERSONAL PROFESIONAL, ADMINISTRATIVO Y TECNICO | G11: %
B12: A. | D12: VALOR BASE (Sueldo) | G12: 100
B13: B. | D13: PRESTACIONES SOCIALES | G13: =SUM(G14:G29) -> 75.432
C14: a. | D14: Cesantías | F14: (A/12) | G14: 8.33
C15: b. | D15: Intereses sobre cesantía | F15: (a*12%) | G15: 1
C16: c. | D16: Prima anual | F16: (A/12) | G16: 8.33
C17: d. | D17: Caja de Compensación | F17: % A | G17: 4
C18: e. | D18: SENA | F18: % A | G18: 2
C19: f. | D19: ICBF | F19: % A | G19: 3
C20: g. | D20: Sistema de seguridad social : Salud | F20: % A | G20: 8.5
C21: h. | D21: Sistema de seguridad social : Pensiòn | F21: % A | G21: 12
C22: i. | D22: ARP personal en obra | F22: % A | G22: 6.96
C23: j. | D23: ARP personal en oficina | F23: % A | G23: 0.522
C24: k. | D24: Vacaciones | F24: (15/360*100) | G24: 4.17
C25: l. | D25: Ausencias justificadas | F25: (3/360*100) | G25: 0.83
... C29: p | D29: Bonoficación rereación | F29: % A | G29: 2
B30: C. | D30: SUMA (A + B) | G30: =G12+G13 -> 175.432
B32: E. | D32: FACTOR PRESTACIONAL | G32: =G30 -> 175.432
D33: FACTOR PRESTACIONAL FINAL | G33: =ROUND(G32/100,2) -> 1.75
B39: _________________________________________ | E39: ARQ. GUILLERMO YAMID VALLEJOS BENAVIDES
B40: REALIZO: ING JEISSON ARLED BUESAQUILLO | E40: SECRETARIO DE PLANEACION Y OBRAS PUBLICAS
B41: Apoyo Profesional SPOPM | E41: SAN MIGUEL - PUTUMAYO

Sheet DESGLOSE AIU
B1: SECRETARIA DE PLANEACIÓN Y OBRA PÚBLICAS | D1: CÓDIGO | E1: 103
D2: SERIE Y SUBSERIE | E2: 51
B3: NIT. 800252922-2
B4: Modelo Integrado de Planeación y Gestión | D4: VERSIÓN | E4: 1
B5: PRESUPUESTO | D5: FECHA DEL FORMATO | E5: D/M/A
E6: =[12]PRESUPUESTO!F6 -> 45402
A8: =PRESUPUESTO!A8 -> AMPLIACIÓN DE MÓDULOS HABITACIONALES Y ÁREAS COMPLEMENTARIAS PARA CENTRO DE BIENESTAR EL BUEN SAMARITANO Y CENTRO DÍA DE PUERTO COLÓN DEL MUNICIPIO DE SAN MIGUEL, PUTUMAYO.
A10: DESGLOCE A.I.U - SUMINISTRO E INSTALACION POZO SEPTICO
A12: SALARIO PERSONAL ADMINISTRATIVO DE OBRA
A13: PERSONAL | B13: SUELDO BASICO | C13: FACTOR PRESTACIONAL | E13: SUELDO + PRESTACIONES
A14: Ingeniero Civil | B14: 4600000 | C14: ='F.M '!$G$33 -> 1.75 | E14: =B14*C14 -> 8050000
A15: Profesional SST | B15: 3800000 | C15: ='F.M '!$G$33 -> 1.75 | E15: =B15*C15 -> 6650000
A16: Profesional Social | B16: 3200000 | C16: ='F.M '!$G$33 -> 1.75 | E16: =B16*C16 -> 5600000
A17: Maestro General | B17: 3200000 | C17: ='F.M '!$G$33 -> 1.75 | E17: =B17*C17 -> 5600000
A18: 1. ADMINISTRACION
A19: 1.1. PERSONAL ADMINISTRATIVO DE OBRA | B19: SUELDO + PRESTACIONES | C19: DEDICACION | D19: MESES | E19: VALOR PARCIAL | F19: % SOBRE COSTO DIRECTO
A20: =A14 -> Ingeniero Civil | B20: =E14 -> 8050000 | C20: 1 | D20: 1.5 | E20: =ROUND((B20*C20*D20),0) -> 12075000 | F20: =E20/$E$53 -> 0.035038509
A21: =A15 -> Profesional SST | B21: =E15 -> 6650000 | C21: 1 | D21: 1.5 | E21: =ROUND((B21*C21*D21),0) -> 9975000 | F21: =E21/$E$53 -> 0.028944855
A22: =A16 -> Profesional Social | B22: =E16 -> 5600000 | C22: 1 | D22: 1.5 | E22: =ROUND((B22*C22*D22),0) -> 8400000 | F22: =E22/$E$53 -> 0.024374615
A23: =A17 -> Maestro General | B23: =E17 -> 5600000 | C23: 1 | D23: 1.5 | E23: =ROUND((B23*C23*D23),0) -> 8400000 | F23: =E23/$E$53 -> 0.024374615
A24: 1.2. COSTOS DEL PROCESO
A25: Polizas y legalizacion del contrato | E25: 766845.62 | F25: =E25/$E$53 -> 0.0022251865
A26: Campamento | E26: 1200000 | F26: =E26/$E$53 -> 0.0034820878
A27: Valla Informatica 2.00x1.00 | E27: 1500000 | F27: =E27/$E$53 -> 0.0043526098
A28: 1.3. GASTOS DE OBRA
A29: Edicion de informes | E29: 250000 | F29: =E29/E53 -> 0.00072543496
A30: Seguridad Industrial | D30: 1.5 | E30: 1200000 | F30: =E30*D30/E53 -> 0.0052231317
F31: =E31/E53 -> 0
A32: IMPUESTOS DE OBRA
A33: Otras obigaciones (Impuestos de ley) | E33: =E53*F33 -> 52726987 | F33: 0.153
A34: TOTAL ADMINISTRACION | E34: =ROUND(SUM(E20:E33),2) -> 96493833 | F34: =E34/E53 -> 0.28 | G34: 96493833 | H34: =G34-E34 -> 0
A36: 2. IMPREVISTOS
A37: DESCRIPCION | D37: VALOR PARCIAL | F37: PORCENTAJE
A38: IMPREVISTOS | D38: =F38*E53 -> 3446208.3 | F38: 0.01
A39: TOTAL UTILIDAD | D39: =ROUND(D38,2) -> 3446208.3 | F39: =SUM(F38) -> 0.01
A41: 3. UTILIDAD
A42: DESCRIPCION | D42: VALOR PARCIAL | F42: PORCENTAJE
A43: UTILIDAD | D43: =F43*E53 -> 10338625 | F43: 0.03
A44: TOTAL UTILIDAD | D44: =ROUND(D43,2) -> 10338625 | F44: =SUM(F43) -> 0.03
A46: TOTAL COSTO DIRECTO A.I.U
...
