Workbook

Sheet Resumen aseguradora-ramo
A1: RESUMEN POR ASEGURADORA Y RAMO
A2: Cifras calculadas a partir de la hoja Consolidado.
A4: Aseguradora | B4: Ramo | C4: N° siniestros | D4: Valor pagado | E4: Reserva | F4: Valor incurrido | G4: % del incurrido total
A5: AXA COLPATRIA | B5: AUTOMOVILES | C5: =SUMIFS(Consolidado!$R$5:$R$73,Consolidado!$A$5:$A$73,$A5,Consolidado!$B$5:$B$73,$B5) -> 6 | D5: =SUMIFS(Consolidado!$O$5:$O$73,Consolidado!$A$5:$A$73,$A5,Consolidado!$B$5:$B$73,$B5) -> 3498175 | E5: =SUMIFS(Consolidado!$P$5:$P$73,Consolidado!$A$5:$A$73,$A5,Consolidado!$B$5:$B$73,$B5) -> 0 | F5: =SUMIFS(Consolidado!$Q$5:$Q$73,Consolidado!$A$5:$A$73,$A5,Consolidado!$B$5:$B$73,$B5) -> 3569262 | G5: =IF($F$11=0,0,F5/$F$11) -> 0.0025948322
A6: LA PREVISORA | B6: AUTOMOVILES | C6: =SUMIFS(Consolidado!$R$5:$R$73,Consolidado!$A$5:$A$73,$A6,Consolidado!$B$5:$B$73,$B6) -> 28 | D6: =SUMIFS(Consolidado!$O$5:$O$73,Consolidado!$A$5:$A$73,$A6,Consolidado!$B$5:$B$73,$B6) -> 88146958 | E6: =SUMIFS(Consolidado!$P$5:$P$73,Consolidado!$A$5:$A$73,$A6,Consolidado!$B$5:$B$73,$B6) -> 14426929 | F6: =SUMIFS(Consolidado!$Q$5:$Q$73,Consolidado!$A$5:$A$73,$A6,Consolidado!$B$5:$B$73,$B6) -> 1.0206676e+08 | G6: =IF($F$11=0,0,F6/$F$11) -> 0.074201927
A7: LA PREVISORA | B7: DAÑOS MATERIALES COMBINADOS | C7: =SUMIFS(Consolidado!$R$5:$R$73,Consolidado!$A$5:$A$73,$A7,Consolidado!$B$5:$B$73,$B7) -> 8 | D7: =SUMIFS(Consolidado!$O$5:$O$73,Consolidado!$A$5:$A$73,$A7,Consolidado!$B$5:$B$73,$B7) -> 13453906 | E7: =SUMIFS(Consolidado!$P$5:$P$73,Consolidado!$A$5:$A$73,$A7,Consolidado!$B$5:$B$73,$B7) -> 0 | F7: =SUMIFS(Consolidado!$Q$5:$Q$73,Consolidado!$A$5:$A$73,$A7,Consolidado!$B$5:$B$73,$B7) -> 13453906 | G7: =IF($F$11=0,0,F7/$F$11) -> 0.0097809096
A8: LA PREVISORA | B8: MANEJO | C8: =SUMIFS(Consolidado!$R$5:$R$73,Consolidado!$A$5:$A$73,$A8,Consolidado!$B$5:$B$73,$B8) -> 1 | D8: =SUMIFS(Consolidado!$O$5:$O$73,Consolidado!$A$5:$A$73,$A8,Consolidado!$B$5:$B$73,$B8) -> 0 | E8: =SUMIFS(Consolidado!$P$5:$P$73,Consolidado!$A$5:$A$73,$A8,Consolidado!$B$5:$B$73,$B8) -> 1133185 | F8: =SUMIFS(Consolidado!$Q$5:$Q$73,Consolidado!$A$5:$A$73,$A8,Consolidado!$B$5:$B$73,$B8) -> 1133185 | G8: =IF($F$11=0,0,F8/$F$11) -> 0.00082381873
A9: LA PREVISORA | B9: RESPONSABILIDAD CIVIL | C9: =SUMIFS(Consolidado!$R$5:$R$73,Consolidado!$A$5:$A$73,$A9,Consolidado!$B$5:$B$73,$B9) -> 21 | D9: =SUMIFS(Consolidado!$O$5:$O$73,Consolidado!$A$5:$A$73,$A9,Consolidado!$B$5:$B$73,$B9) -> 1.0365e+09 | E9: =SUMIFS(Consolidado!$P$5:$P$73,Consolidado!$A$5:$A$73,$A9,Consolidado!$B$5:$B$73,$B9) -> 218804000 | F9: =SUMIFS(Consolidado!$Q$5:$Q$73,Consolidado!$A$5:$A$73,$A9,Consolidado!$B$5:$B$73,$B9) -> 1.255304e+09 | G9: =IF($F$11=0,0,F9/$F$11) -> 0.91259851
A10: MAPFRE | B10: TODO RIESGO DAÑOS MATERIALES | C10: =SUMIFS(Consolidado!$R$5:$R$73,Consolidado!$A$5:$A$73,$A10,Consolidado!$B$5:$B$73,$B10) -> 0 | D10: =SUMIFS(Consolidado!$O$5:$O$73,Consolidado!$A$5:$A$73,$A10,Consolidado!$B$5:$B$73,$B10) -> 0 | E10: =SUMIFS(Consolidado!$P$5:$P$73,Consolidado!$A$5:$A$73,$A10,Consolidado!$B$5:$B$73,$B10) -> 0 | F10: =SUMIFS(Consolidado!$Q$5:$Q$73,Consolidado!$A$5:$A$73,$A10,Consolidado!$B$5:$B$73,$B10) -> 0 | G10: =IF($F$11=0,0,F10/$F$11) -> 0
A11: TOTAL | C11: =SUM(C5:C10) -> 64 | D11: =SUM(D5:D10) -> 1.141599e+09 | E11: =SUM(E5:E10) -> 234364114 | F11: =SUM(F5:F10) -> 1.3755271e+09 | G11: =SUM(G5:G10) -> 1
A13: Subtotal por aseguradora
A14: Aseguradora | C14: N° siniestros | D14: Valor pagado | E14: Reserva | F14: Valor incurrido | G14: % del incurrido total
A15: AXA COLPATRIA | C15: =SUMIFS(Consolidado!$R$5:$R$73,Consolidado!$A$5:$A$73,$A15) -> 6 | D15: =SUMIFS(Consolidado!$O$5:$O$73,Consolidado!$A$5:$A$73,$A15) -> 3498175 | E15: =SUMIFS(Consolidado!$P$5:$P$73,Consolidado!$A$5:$A$73,$A15) -> 0 | F15: =SUMIFS(Consolidado!$Q$5:$Q$73,Consolidado!$A$5:$A$73,$A15) -> 3569262 | G15: =IF($F$18=0,0,F15/$F$18) -> 0.0025948322
A16: LA PREVISORA | C16: =SUMIFS(Consolidado!$R$5:$R$73,Consolidado!$A$5:$A$73,$A16) -> 58 | D16: =SUMIFS(Consolidado!$O$5:$O$73,Consolidado!$A$5:$A$73,$A16) -> 1.1381009e+09 | E16: =SUMIFS(Consolidado!$P$5:$P$73,Consolidado!$A$5:$A$73,$A16) -> 234364114 | F16: =SUMIFS(Consolidado!$Q$5:$Q$73,Consolidado!$A$5:$A$73,$A16) -> 1.3719578e+09 | G16: =IF($F$18=0,0,F16/$F$18) -> 0.99740517
A17: MAPFRE | C17: =SUMIFS(Consolidado!$R$5:$R$73,Consolidado!$A$5:$A$73,$A17) -> 0 | D17: =SUMIFS(Consolidado!$O$5:$O$73,Consolidado!$A$5:$A$73,$A17) -> 0 | E17: =SUMIFS(Consolidado!$P$5:$P$73,Consolidado!$A$5:$A$73,$A17) -> 0 | F17: =SUMIFS(Consolidado!$Q$5:$Q$73,Consolidado!$A$5:$A$73,$A17) -> 0 | G17: =IF($F$18=0,0,F17/$F$18) -> 0
A18: TOTAL | C18: =SUM(C15:C17) -> 64 | D18: =SUM(D15:D17) -> 1.141599e+09 | E18: =SUM(E15:E17) -> 234364114 | F18: =SUM(F15:F17) -> 1.3755271e+09 | G18: =SUM(G15:G17) -> 1

Sheet Consolidado
A1: SINIESTRALIDAD CONSOLIDADA — FONDO ÚNICO DE TIC (FONTIC) — NIT 800.131.648-6
A2: Fuentes: AXA Colpatria (base de datos), La Previsora (reporte siniestros por fecha de ocurrencia 01/01/2021–01/01/2027) y MAPFRE (certificación por correo 11/09/2026). Valores en pesos colombianos.
A4: Aseguradora | B4: Ramo | C4: Póliza | D4: Inicio vigencia | E4: Fin vigencia | F4: N° siniestro | G4: Fecha ocurrencia | H4: Año ocurrencia | I4: Concepto | J4: Amparo | K4: Causa | L4: Riesgo / bien asegurado | M4: Estado | N4: Valor reclamado | O4: Valor pagado | P4: Reserva | Q4: Valor incurrido | R4: Cuenta siniestro | S4: Intermediario / líder (según aseguradora) | T4: Tipo coaseguro | U4: Observaciones
A5: AXA COLPATRIA | B5: AUTOMOVILES | C5: 8002115806 | F5: 49297 | G5: 44600 | H5: =IF(G5="","",YEAR(G5)) -> 2022 | I5: INDEMNIZACIONES | J5: PERDIDA PARCIAL POR DAÑOS | L5: OBI524 - DUSTER DYNAMIQUE AT 2000CC 4X2 RENAULT 2014 | M5: Pago total por indemnización | O5: 2004111 | P5: 0 | Q5: 2037811 | R5: =IF(F5="",0,IF(COUNTIFS($A$5:A5,A5,$F$5:F5,F5)=1,1,0)) -> 1
A6: AXA COLPATRIA | B6: AUTOMOVILES | C6: 8002115804 | F6: 49828 | G6: 44642 | H6: =IF(G6="","",YEAR(G6)) -> 2022 | I6: INDEMNIZACIONES | J6: ASISTENCIA EN VIAJE VIP | L6: OBI523 - DUSTER DYNAMIQUE AT 2000CC 4X2 RENAULT 2014 | M6: Pago total por indemnización | O6: 149347 | P6: 0 | Q6: 149347 | R6: =IF(F6="",0,IF(COUNTIFS($A$5:A6,A6,$F$5:F6,F6)=1,1,0)) -> 1
A7: AXA COLPATRIA | B7: AUTOMOVILES | C7: 8002115815 | F7: 50369 | G7: 44685 | H7: =IF(G7="","",YEAR(G7)) -> 2022 | I7: INDEMNIZACIONES | J7: PERDIDA PARCIAL POR DAÑOS | L7: OKZ744 - ECOSPORT [2] TITANIUM TP 2000CC 4X2 FORD 2017 | M7: Pago total por indemnización | O7: 1106265 | P7: 0 | Q7: 1143652 | R7: =IF(F7="",0,IF(COUNTIFS($A$5:A7,A7,$F$5:F7,F7)=1,1,0)) -> 1
A8: AXA COLPATRIA | B8: AUTOMOVILES | C8: 8002115819 | F8: 51729 | G8: 44768 | H8: =IF(G8="","",YEAR(G8)) -> 2022 | I8: INDEMNIZACIONES | J8: ASISTENCIA EN VIAJE VIP | L8: OBH113 - GRAN.VITARA.5.P TS..MEC.2500.CC CHEVROLET 2008 | M8: Pago total por indemnización | O8: 79484 | P8: 0 | Q8: 79484 | R8: =IF(F8="",0,IF(COUNTIFS($A$5:A8,A8,$F$5:F8,F8)=1,1,0)) -> 1
A9: AXA COLPATRIA | B9: AUTOMOVILES | C9: 8002115813 | F9: 53495 | G9: 44874 | H9: =IF(G9="","",YEAR(G9)) -> 2022 | I9: INDEMNIZACIONES | J9: ASISTENCIA EN VIAJE VIP | L9: OBH015 - GRAN.VITARA.5.P TS..MEC.2500.CC CHEVROLET 2008 | M9: Pago total por indemnización | O9: 79484 | P9: 0 | Q9: 79484 | R9: =IF(F9="",0,IF(COUNTIFS($A$5:A9,A9,$F$5:F9,F9)=1,1,0)) -> 1
A10: AXA COLPATRIA | B10: AUTOMOVILES | C10: 8002115810 | F10: 54381 | G10: 44925 | H10: =IF(G10="","",YEAR(G10)) -> 2022 | I10: INDEMNIZACIONES | J10: ASISTENCIA EN VIAJE VIP | L10: OBI520 - DUSTER DYNAMIQUE AT 2000CC 4X2 RENAULT 2014 | M10: Pago total por indemnización | O10: 79484 | P10: 0 | Q10: 79484 | R10: =IF(F10="",0,IF(COUNTIFS($A$5:A10,A10,$F$5:F10,F10)=1,1,0)) -> 1
A11: LA PREVISORA | B11: AUTOMOVILES | C11: 1011357 | D11: 44253 | E11: 44562 | F11: 81368 | G11: 44357 | H11: =IF(G11="","",YEAR(G11)) -> 2021 | I11: INDEMNIZACIONES | J11: PERDIDA MENOR POR DANOS | K11: CHOQUE SIMPLE | L11: OCK816 - SONIC LT MT 1600CC 5P 2A CHEVROLET 2014 | M11: TOTALMENTE PAGADO | N11: 5039771 | O11: 5065921 | P11: 0 | Q11: =IF(I11="RECOBROS",-1,1)*(O11+P11) -> 5065921 | R11: =IF(F11="",0,IF(COUNTIFS($A$5:A11,A11,$F$5:F11,F11)=1,1,0)) -> 1 | S11: JARGU S.A CORREDORES DE SEGUROS | U11: DECLARACION: SE DIRIGÍA POR LA AV CIRCUNVALAR DE NORTE A SUR EN EL VEHÍCULO DE PLACA OCK 816, EL CON
A12: LA PREVISORA | B12: AUTOMOVILES | C12: 1011357 | D12: 44253 | E12: 44562 | F12: 81368 | G12: 44357 | H12: =IF(G12="","",YEAR(G12)) -> 2021 | I12: RECOBROS | J12: PERDIDA MENOR POR DANOS | K12: CHOQUE SIMPLE | L12: OCK816 - SONIC LT MT 1600CC 5P 2A CHEVROLET 2014 | M12: DEPURACION DE RESERVA | N12: 5039771 | O12: 0 | P12: 0 | Q12: =IF(I12="RECOBROS",-1,1)*(O12+P12) -> 0 | R12: =IF(F12="",0,IF(COUNTIFS($A$5:A12,A12,$F$5:F12,F12)=1,1,0)) -> 0 | S12: JARGU S.A CORREDORES DE SEGUROS | U12: DECLARACION: SE DIRIGÍA POR LA AV CIRCUNVALAR DE NORTE A SUR EN EL VEHÍCULO DE PLACA OCK 816, EL CON
A13: LA PREVISORA | B13: AUTOMOVILES | C13: 1011327 | D13: 44197 | E13: 44562 | F13: 82571 | G13: 44511 | H13: =IF(G13="","",YEAR(G13)) -> 2021 | I13: INDEMNIZACIONES | J13: RESPONSABILIDAD CIVIL EXTRAC. | K13: CHOQUE SIMPLE | L13: OBI523 - DUSTER DYNAMIQUE AT 2000CC 4X2 RENAULT 2014 | M13: TOTALMENTE PAGADO | N13: 3750000 | O13: 2770728 | P13: 0 | Q13: =IF(I13="RECOBROS",-1,1)*(O13+P13) -> 2770728 | R13: =IF(F13="",0,IF(COUNTIFS($A$5:A13,A13,$F$5:F13,F13)=1,1,0)) -> 1 | S13: JARGU S.A CORREDORES DE SEGUROS | U13: TERCERO: EL DIA 11 DE NOVIEMBRE DE 2011 EL VEHICULO DE PLACAS OBI523 CONDUCIDO POR DIEGO RICARDO CER
A14: LA PREVISORA | B14: AUTOMOVILES | C14: 1011674 | D14: 44927 | E14: 45292 | F14: 84753 | G14: 45000 | H14: =IF(G14="","",YEAR(G14)) -> 2023 | I14: INDEMNIZACIONES | J14: PERDIDA MENOR POR DANOS | K14: CHOQUE SIMPLE | L14: OBI297 - DUSTER DYNAMIQUE AT 2000CC 4X2 RENAULT 2014 | M14: DEPURACION DE RESERVA | N14: 1384000 | O14: 0 | P14: 0 | Q14: =IF(I14="RECOBROS",-1,1)*(O14+P14) -> 0 | R14: =IF(F14="",0,IF(COUNTIFS($A$5:A14,A14,$F$5:F14,F14)=1,1,0)) -> 1 | S14: JARGU S.A CORREDORES DE SEGUROS | U14: Declaración: En la dirección antes mencionada durante el desplazamiento de una de las funcionaria se
A15: LA PREVISORA | B15: AUTOMOVILES | C15: 1011674 | D15: 44927 | E15: 45292 | F15: 84809 | G15: 45000 | H15: =IF(G15="","",YEAR(G15)) -> 2023 | I15: INDEMNIZACIONES | J15: PERDIDA MENOR POR DANOS | K15: ACTOS MAL INTENCIONADOS DE TERCEROS | L15: OBI516 - DUSTER DYNAMIQUE AT 2000CC 4X2 RENAULT 2014 | M15: PAGADO PARCIALMENTE | N15: 1384000 | O15: 1384000 | P15: 0 | Q15: =IF(I15="RECOBROS",-1,1)*(O15+P15) -> 1384000 | R15: =IF(F15="",0,IF(COUNTIFS($A$5:A15,A15,$F$5:F15,F15)=1,1,0)) -> 1 | S15: JARGU S.A CORREDORES DE SEGUROS | U15: Declaración: En la dirección antes mencionada durante el desplazamiento de una de las funcionaria se
A16: LA PREVISORA | B16: AUTOMOVILES | C16: 1011674 | D16: 44927 | E16: 45292 | F16: 84966 | G16: 45055 | H16: =IF(G16="","",YEAR(G16)) -> 2023 | I16: INDEMNIZACIONES | J16: PERDIDA MENOR POR DANOS | K16: CHOQUE SIMPLE | L16: OBI520 - DUSTER DYNAMIQUE AT 2000CC 4X2 RENAULT 2014 | M16: TOTALMENTE PAGADO | N16: 581675 | O16: 581675 | P16: 0 | Q16: =IF(I16="RECOBROS",-1,1)*(O16+P16) -> 581675 | R16: =IF(F16="",0,IF(COUNTIFS($A$5:A16,A16,$F$5:F16,F16)=1,1,0)) -> 1 | S16: JARGU S.A CORREDORES DE SEGUROS | U16: Declaración dada por el conductor a la Sra CAROLINA MATOMA: durante un desplazamiento al ministro en
A17: LA PREVISORA | B17: AUTOMOVILES | C17: 1011674 | D17: 45447 | E17: 45626 | F17: 86884 | G17: 45509 | H17: =IF(G17="","",YEAR(G17)) -> 2024 | I17: INDEMNIZACIONES | J17: PERDIDA MENOR POR DANOS | K17: CHOQUE SIMPLE | L17: NPK372 - CX30 GRAND TOURING HYBRID TP 2000CC 7AB R18 TC CT 4X2 MAZDA 2 | M17: TOTALMENTE PAGADO | N17: 3050000 | O17: 7641320 | P17: 0 | Q17: =IF(I17="RECOBROS",-1,1)*(O17+P17) -> 7641320 | R17: =IF(F17="",0,IF(COUNTIFS($A$5:A17,A17,$F$5:F17,F17)=1,1,0)) -> 1 | S17: JARGU S.A CORREDORES DE SEGUROS | U17: YO IBA POR LA KR 10 HACIA EL SUR Y EN TODA INTERSECCIÓN DE LA CALLE 85 ESTABA ESPERANDO QUE PASARAN
A18: LA PREVISORA | B18: AUTOMOVILES | C18: 1011674 | D18: 45292 | E18: 45626 | F18: 87465 | G18: 45593 | H18: =IF(G18="","",YEAR(G18)) -> 2024 | I18: INDEMNIZACIONES | J18: PERDIDA MENOR POR DANOS | K18: CHOQUE SIMPLE | L18: OBI516 - DUSTER DYNAMIQUE AT 2000CC 4X2 RENAULT 2014 | M18: TOTALMENTE PAGADO | N18: 6303078 | O18: 6303078 | P18: 0 | Q18: =IF(I18="RECOBROS",-1,1)*(O18+P18) -> 6303078 | R18: =IF(F18="",0,IF(COUNTIFS($A$5:A18,A18,$F$5:F18,F18)=1,1,0)) -> 1 | S18: JARGU S.A CORREDORES DE SEGUROS | U18: Declaración: en calidad de coordinador del vehículo asegurado informa que el vehículo se encontraba
A19: LA PREVISORA | B19: AUTOMOVILES | C19: 1011967 | D19: 45626 | E19: 46356 | F19: 90915 | G19: 45660 | H19: =IF(G19="","",YEAR(G19)) -> 2025 | I19: INDEMNIZACIONES | J19: PERDIDA MENOR POR DANOS | K19: CHOQUE SIMPLE | L19: NPK400 - EXPEDITION [4] LIMITED AT 3500CC T CT 4X4 FORD 2024 | M19: TOTALMENTE PAGADO | N19: 2838648 | O19: 2838648 | P19: 0 | Q19: =IF(I19="RECOBROS",-1,1)*(O19+P19) -> 2838648 | R19: =IF(F19="",0,IF(COUNTIFS($A$5:A19,A19,$F$5:F19,F19)=1,1,0)) -> 1 | S19: WILLIS COLOMBIA CORREDORES DE SEGUROS S.A., BOGOTA | U19: DECLARA: VOY POR LA VIA CUANDO SIENTO QUE COLISIONAN EL VEHÍCULO POR EL LADO DERECHO CON UNA MOTOCIC
A20: LA PREVISORA | B20: AUTOMOVILES | C20: 1011967 | D20: 45626 | E20: 46356 | F20: 88284 | G20: 45706 | H20: =IF(G20="","",YEAR(G20)) -> 2025 | I20: INDEMNIZACIONES | J20: PERDIDA MENOR POR DANOS | K20: CHOQUE SIMPLE | L20: NPK371 - CX30 GRAND TOURING HYBRID TP 2000CC 7AB R18 TC CT 4X2 MAZDA 2 | M20: TOTALMENTE PAGADO | N20: 1473350 | O20: 1473350 | P20: 0 | Q20: =IF(I20="RECOBROS",-1,1)*(O20+P20) -> 1473350 | R20: =IF(F20="",0,IF(COUNTIFS($A$5:A20,A20,$F$5:F20,F20)=1,1,0)) -> 1 | S20: WILLIS COLOMBIA CORREDORES DE SEGUROS S.A., BOGOTA | U20: A la hora indicada fui a girar a la entrada de la entidad, en el costado izquierdo hay una ciclo rut
A21: LA PREVISORA | B21: AUTOMOVILES | C21: 1011967 | D21: 45626 | E21: 46356 | F21: 88858 | G21: 45774 | H21: =IF(G21="","",YEAR(G21)) -> 2025 | I21: INDEMNIZACIONES | J21: PERDIDA MENOR POR DANOS | K21: CHOQUE SIMPLE | L21: NPK373 - CX30 GRAND TOURING HYBRID TP 2000CC 7AB R18 TC CT 4X2 MAZDA 2 | M21: TOTALMENTE PAGADO | N21: 535884 | O21: 535884 | P21: 0 | Q21: =IF(I21="RECOBROS",-1,1)*(O21+P21) -> 535884 | R21: =IF(F21="",0,IF(COUNTIFS($A$5:A21,A21,$F$5:F21,F21)=1,1,0)) -> 1 | S21: WILLIS COLOMBIA CORREDORES DE SEGUROS S.A., BOGOTA | U21: ESTABA EN CAMINO AL MINISTERIO DE LAS TIC, UN BICITAXI, PASO POR EL LADO DERECHO DEL VEHICULO AL INT
A22: LA PREVISORA | B22: AUTOMOVILES | C22: 1011967 | D22: 45626 | E22: 46356 | F22: 88880 | G22: 45776 | H22: =IF(G22="","",YEAR(G22)) -> 2025 | I22: INDEMNIZACIONES | J22: PERDIDA MENOR POR DANOS | K22: CHOQUE SIMPLE | L22: NPK400 - EXPEDITION [4] LIMITED AT 3500CC T CT 4X4 FORD 2024 | M22: TOTALMENTE PAGADO | N22: 5745610 | O22: 3057625 | P22: 0 | Q22: =IF(I22="RECOBROS",-1,1)*(O22+P22) -> 3057625 | R22: =IF(F22="",0,IF(COUNTIFS($A$5:A22,A22,$F$5:F22,F22)=1,1,0)) -> 1 | S22: WILLIS COLOMBIA CORREDORES DE SEGUROS S.A., BOGOTA | U22: DECLARACIÓN: CONDUCTOR: ibamos a coger la calle 9 transitabamos por la kr 6 casi a la mitad de la ca
... A42: LA PREVISORA | B42: AUTOMOVILES | C42: 1011967 | D42: 45894 | E42: 46356 | F42: 92779 | G42: 46247 | H42: =IF(G42="","",YEAR(G42)) -> 2026 | I42: INDEMNIZACIONES | J42: PERDIDA MENOR POR DANOS | K42: CHOQUE SIMPLE | L42: NPK681 - COROLLA CROSS [FL] SE-G HYBRID AT 1800CC 7AB 4X2 CT TOYOTA 20 | M42: LIQUIDADO POR PAGAR | N42: 2879234 | O42: 0 | P42: 2879234 | Q42: =IF(I42="RECOBROS",-1,1)*(O42+P42) -> 2879234 | R42: =IF(F42="",0,IF(COUNTIFS($A$5:A42,A42,$F$5:F42,F42)=1,1,0)) -> 1 | S42: WILLIS COLOMBIA CORREDORES DE SEGUROS S.A., BOGOTA | U42: Declaracion de los hechos: Se comunica el señor Rafael Jose Perez Pizarro con cc 1047358431 en cali
A43: LA PREVISORA | B43: DAÑOS MATERIALES COMBINADOS | C43: 1003167 | D43: 44274 | E43: 44330 | F43: 60517 | G43: 44314 | H43: =IF(G43="","",YEAR(G43)) -> 2021 | I43: INDEMNIZACIONES | J43: INCENDIO Y/O RAYO | K43: AMIT - HMACC | L43: KR 8 12 A 13 ED MURILLO | M43: PAGADO PARCIALMENTE | N43: 539721 | O43: 539721 | P43: 0 | Q43: =IF(I43="RECOBROS",-1,1)*(O43+P43) -> 539721 | R43: =IF(F43="",0,IF(COUNTIFS($A$5:A43,A43,$F$5:F43,F43)=1,1,0)) -> 1 | S43: CHUBB SEGUROS COLOMBIA S A | T43: Aceptado | U43: CONSTITUCION COA........ 5441SINIESTRO LIDER..... 520070POLIZA LIDER........ 50314 POLIZA SI
A44: LA PREVISORA | B44: DAÑOS MATERIALES COMBINADOS | C44: 1003167 | D44: 44274 | E44: 44330 | F44: 59843 | G44: 44314 | H44: =IF(G44="","",YEAR(G44)) -> 2021 | I44: INDEMNIZACIONES | J44: INCENDIO Y/O RAYO | K44: AMIT - HMACC | L44: KR 8 12 A 13 ED MURILLO | M44: PAGADO PARCIALMENTE | N44: 1824771 | O44: 1824771 | P44: 0 | Q44: =IF(I44="RECOBROS",-1,1)*(O44+P44) -> 1824771 | R44: =IF(F44="",0,IF(COUNTIFS($A$5:A44,A44,$F$5:F44,F44)=1,1,0)) -> 1 | S44: CHUBB SEGUROS COLOMBIA S A | T44: Aceptado | U44: CONSTITUCION COA........ 5367SINIESTRO LIDER..... 520070POLIZA LIDER........ 40349 POLIZA SIS
A45: LA PREVISORA | B45: DAÑOS MATERIALES COMBINADOS | C45: 1003167 | D45: 44274 | E45: 44330 | F45: 59766 | G45: 44314 | H45: =IF(G45="","",YEAR(G45)) -> 2021 | I45: INDEMNIZACIONES | J45: INCENDIO Y/O RAYO | K45: INCENDIO Y/O CAIDA DE RAYO | L45: KR 8 12 A 13 ED MURILLO | M45: PAGADO PARCIALMENTE | N45: 150000 | O45: 150000 | P45: 0 | Q45: =IF(I45="RECOBROS",-1,1)*(O45+P45) -> 150000 | R45: =IF(F45="",0,IF(COUNTIFS($A$5:A45,A45,$F$5:F45,F45)=1,1,0)) -> 1 | S45: CHUBB SEGUROS COLOMBIA S A | T45: Aceptado | U45: LEGALIZACION COA PPL 8152 PALACIOSNNE 06/09/2021POLIZA LIDER# SINIESTRO LIDERFECHA SINIESTROVAL
A46: LA PREVISORA | B46: DAÑOS MATERIALES COMBINADOS | C46: 1003167 | D46: 44316 | E46: 44330 | F46: 59844 | G46: 44321 | H46: =IF(G46="","",YEAR(G46)) -> 2021 | I46: INDEMNIZACIONES | J46: INCENDIO Y/O RAYO | K46: AMIT - HMACC | L46: KR 8 12 A 13 ED MURILLO | M46: PAGADO PARCIALMENTE | N46: 9156673.3 | O46: 9156673.3 | P46: 0 | Q46: =IF(I46="RECOBROS",-1,1)*(O46+P46) -> 9156673.3 | R46: =IF(F46="",0,IF(COUNTIFS($A$5:A46,A46,$F$5:F46,F46)=1,1,0)) -> 1 | S46: CHUBB SEGUROS COLOMBIA S A | T46: Aceptado | U46: CONSTITUCION COA........ 5367SINIESTRO LIDER..... 521148POLIZA LIDER........ 40349 POLIZA SIS
A47: LA PREVISORA | B47: DAÑOS MATERIALES COMBINADOS | C47: 1003167 | D47: 44274 | E47: 44330 | F47: 59767 | G47: 44321 | H47: =IF(G47="","",YEAR(G47)) -> 2021 | I47: INDEMNIZACIONES | J47: INCENDIO Y/O RAYO | K47: INCENDIO Y/O CAIDA DE RAYO | L47: KR 8 12 A 13 ED MURILLO | M47: PAGADO PARCIALMENTE | N47: 400000 | O47: 400000 | P47: 0 | Q47: =IF(I47="RECOBROS",-1,1)*(O47+P47) -> 400000 | R47: =IF(F47="",0,IF(COUNTIFS($A$5:A47,A47,$F$5:F47,F47)=1,1,0)) -> 1 | S47: CHUBB SEGUROS COLOMBIA S A | T47: Aceptado | U47: LEGALIZACION COA PPL 8152 PALACIOSNNE 06/06/2021POLIZA LIDER# SINIESTRO LIDERFECHA SINIESTROVAL
A48: LA PREVISORA | B48: DAÑOS MATERIALES COMBINADOS | C48: 1003167 | D48: 44316 | E48: 44330 | F48: 59842 | G48: 44328 | H48: =IF(G48="","",YEAR(G48)) -> 2021 | I48: INDEMNIZACIONES | J48: INCENDIO Y/O RAYO | K48: AMIT - HMACC | L48: KR 8 12 A 13 ED MURILLO | M48: PAGADO PARCIALMENTE | N48: 539721 | O48: 539721 | P48: 0 | Q48: =IF(I48="RECOBROS",-1,1)*(O48+P48) -> 539721 | R48: =IF(F48="",0,IF(COUNTIFS($A$5:A48,A48,$F$5:F48,F48)=1,1,0)) -> 1 | S48: CHUBB SEGUROS COLOMBIA S A | T48: Aceptado | U48: CONSTITUCION COA........ 5367SINIESTRO LIDER..... 521149POLIZA LIDER........ 40349 POLIZA SIS
A49: LA PREVISORA | B49: DAÑOS MATERIALES COMBINADOS | C49: 1003167 | D49: 44316 | E49: 44330 | F49: 59769 | G49: 44328 | H49: =IF(G49="","",YEAR(G49)) -> 2021 | I49: INDEMNIZACIONES | J49: INCENDIO Y/O RAYO | K49: INCENDIO Y/O RAYO | L49: KR 8 12 A 13 ED MURILLO | M49: PAGADO PARCIALMENTE | N49: 60000 | O49: 60000 | P49: 0 | Q49: =IF(I49="RECOBROS",-1,1)*(O49+P49) -> 60000 | R49: =IF(F49="",0,IF(COUNTIFS($A$5:A49,A49,$F$5:F49,F49)=1,1,0)) -> 1 | S49: CHUBB SEGUROS COLOMBIA S A | T49: Aceptado | U49: LEGALIZACION COA PPL 8152 PALACIOSNNE 06/09/2021POLIZA LIDER# SINIESTRO LIDERFECHA SINIESTROVAL
A50: LA PREVISORA | B50: DAÑOS MATERIALES COMBINADOS | C50: 1003583 | D50: 44774 | E50: 44895 | F50: 65545 | G50: 44774 | H50: =IF(G50="","",YEAR(G50)) -> 2022 | I50: INDEMNIZACIONES | J50: INCENDIO Y/O RAYO | K50: INCENDIO Y/O RAYO | L50: KR 8 CL 12 Y 13 ED MURILLO TORO | M50: PAGADO PARCIALMENTE | N50: 783020 | O50: 783020 | P50: 0 | Q50: =IF(I50="RECOBROS",-1,1)*(O50+P50) -> 783020 | R50: =IF(F50="",0,IF(COUNTIFS($A$5:A50,A50,$F$5:F50,F50)=1,1,0)) -> 1 | S50: MAPFRE SEGUROS GENERALES DE COLOMBIA | T50: Aceptado | U50: legaliza coa 5881, usuario: herreramsj dic-15-2022SINIESTROFECHA AMPARO
A51: LA PREVISORA | B51: MANEJO | C51: 1005765 | D51: 44197 | E51: 44330 | F51: 24075 | G51: 44254 | H51: =IF(G51="","",YEAR(G51)) -> 2021 | I51: HONORARIOS | J51: DELITOS CONTRA LA ADMINISTRACION PUBLICA | K51: CONVERSION | L51: FONDO DE TECNOLOGIAS DE LA INFORMACIÓN Y LAS COMUNICACIONES | M51: RESERVA INICIAL | N51: 0 | O51: 0 | P51: 1133185 | Q51: =IF(I51="RECOBROS",-1,1)*(O51+P51) -> 1133185 | R51: =IF(F51="",0,IF(COUNTIFS($A$5:A51,A51,$F$5:F51,F51)=1,1,0)) -> 1 | S51: CHUBB SEGUROS COLOMBIA S A | T51: Aceptado | U51: LEG COA 7250 HERRERAMSJ FEB-9-2026SINIESTROFECHAAMPARO RESERVAS PESOSCOD ESTIMADO
A52: LA PREVISORA | B52: RESPONSABILIDAD CIVIL | C52: 1008614 | D52: 44378 | E52: 44562 | F52: 29755 | G52: 44384 | H52: =IF(G52="","",YEAR(G52)) -> 2021 | I52: INDEMNIZACIONES | J52: COSTOS Y GASTOS DE DEFENSA | K52: ACTOS INCORRECTOS | L52: KR 8 A 12 Y 13 ED MURILLO TORO | M52: TOTALMENTE PAGADO | N52: 120000000 | O52: 40000000 | P52: 0 | Q52: =IF(I52="RECOBROS",-1,1)*(O52+P52) -> 40000000 | R52: =IF(F52="",0,IF(COUNTIFS($A$5:A52,A52,$F$5:F52,F52)=1,1,0)) -> 1 | S52: JARGU S.A CORREDORES DE SEGUROS | U52: Caso OnBase 241830 Proceso Administrativo Sancionatorio Fiscal PASF-006-2021Investigada Luisa Fe
A53: LA PREVISORA | B53: RESPONSABILIDAD CIVIL | C53: 1008614 | D53: 44378 | E53: 44562 | F53: 29802 | G53: 44399 | H53: =IF(G53="","",YEAR(G53)) -> 2021 | I53: INDEMNIZACIONES | J53: COSTOS Y GASTOS DE DEFENSA | K53: ACTOS INCORRECTOS | L53: KR 8 A 12 Y 13 ED MURILLO TORO | M53: DEPURACION DE RESERVA | N53: 100000000 | O53: 0 | P53: 0 | Q53: =IF(I53="RECOBROS",-1,1)*(O53+P53) -> 0 | R53: =IF(F53="",0,IF(COUNTIFS($A$5:A53,A53,$F$5:F53,F53)=1,1,0)) -> 1 | S53: JARGU S.A CORREDORES DE SEGUROS | U53: CASO ONBASE 243467Investigado: Juan David DuqueProceso Penal: 110016000050201813203Hechos: Pec
A54: LA PREVISORA | B54: RESPONSABILIDAD CIVIL | C54: 1008614 | D54: 44378 | E54: 44562 | F54: 29833 | G54: 44432 | H54: =IF(G54="","",YEAR(G54)) -> 2021 | I54: INDEMNIZACIONES | J54: COSTOS Y GASTOS DE DEFENSA | K54: ACTOS INCORRECTOS | L54: KR 8 A 12 Y 13 ED MURILLO TORO | M54: PAGADO PARCIALMENTE | N54: 1200000000 | O54: 690000000 | P54: 40000000 | Q54: =IF(I54="RECOBROS",-1,1)*(O54+P54) -> 730000000 | R54: =IF(F54="",0,IF(COUNTIFS($A$5:A54,A54,$F$5:F54,F54)=1,1,0)) -> 1 | S54: JARGU S.A CORREDORES DE SEGUROS | U54: Caso OnBase: 244858Proceso de Responsabilidad Fiscal número 80011-2021-39465 adelantado por la Con
A55: LA PREVISORA | B55: RESPONSABILIDAD CIVIL | C55: 1008614 | D55: 44562 | E55: 44774 | F55: 30347 | G55: 44617 | H55: =IF(G55="","",YEAR(G55)) -> 2022 | I55: INDEMNIZACIONES | J55: COSTOS Y GASTOS DE DEFENSA | K55: ACTOS INCORRECTOS | L55: KR 8 A 12 Y 13 ED MURILLO TORO | M55: PAGADO PARCIALMENTE | N55: 200000000 | O55: 65000000 | P55: 65000000 | Q55: =IF(I55="RECOBROS",-1,1)*(O55+P55) -> 130000000 | R55: =IF(F55="",0,IF(COUNTIFS($A$5:A55,A55,$F$5:F55,F55)=1,1,0)) -> 1 | S55: JARGU S.A CORREDORES DE SEGUROS | U55: CASO ONBASE: 261352PROCESO DE RESPONSABILIDAD FISCAL PRF-814112-2021-39722 ADELANTADO EN LA CONT
A56: LA PREVISORA | B56: RESPONSABILIDAD CIVIL | C56: 1008614 | D56: 44562 | E56: 44774 | F56: 30288 | G56: 44650 | H56: =IF(G56="","",YEAR(G56)) -> 2022 | I56: INDEMNIZACIONES | J56: COSTOS Y GASTOS DE DEFENSA | K56: ACTOS INCORRECTOS | L56: KR 8 A 12 Y 13 ED MURILLO TORO | M56: TOTALMENTE PAGADO | N56: 100000000 | O56: 50000000 | P56: 0 | Q56: =IF(I56="RECOBROS",-1,1)*(O56+P56) -> 50000000 | R56: =IF(F56="",0,IF(COUNTIFS($A$5:A56,A56,$F$5:F56,F56)=1,1,0)) -> 1 | S56: JARGU S.A CORREDORES DE SEGUROS | U56: CASO ONABSE: 259214PROCESO DISCIPLINARIO IUS-E-2021-013362 / D-2021-1714195 ADELANTADO EN LA PRO
A57: LA PREVISORA | B57: RESPONSABILIDAD CIVIL | C57: 1008614 | D57: 44562 | E57: 44774 | F57: 30392 | G57: 44691 | H57: =IF(G57="","",YEAR(G57)) -> 2022 | I57: INDEMNIZACIONES | J57: COSTOS Y GASTOS DE DEFENSA | K57: ACTOS INCORRECTOS | L57: KR 8 A 12 Y 13 ED MURILLO TORO | M57: SINIESTRO OBJETADO | N57: 50000000 | O57: 0 | P57: 0 | Q57: =IF(I57="RECOBROS",-1,1)*(O57+P57) -> 0 | R57: =IF(F57="",0,IF(COUNTIFS($A$5:A57,A57,$F$5:F57,F57)=1,1,0)) -> 1 | S57: JARGU S.A CORREDORES DE SEGUROS | U57: CASO ONBASE 262471Investigado: Ricardo Arturo AriasProceso disciplinario interno No 071-22Hech
A58: LA PREVISORA | B58: RESPONSABILIDAD CIVIL | C58: 1008614 | D58: 44774 | E58: 44895 | F58: 30680 | G58: 44855 | H58: =IF(G58="","",YEAR(G58)) -> 2022 | I58: INDEMNIZACIONES | J58: COSTOS Y GASTOS DE DEFENSA | K58: ACTOS INCORRECTOS | L58: KR 8 A 12 Y 13 ED MURILLO TORO | M58: TOTALMENTE PAGADO | N58: 150000000 | O58: 4999991.6 | P58: 0 | Q58: =IF(I58="RECOBROS",-1,1)*(O58+P58) -> 4999991.6 | R58: =IF(F58="",0,IF(COUNTIFS($A$5:A58,A58,$F$5:F58,F58)=1,1,0)) -> 1 | S58: JARGU S.A CORREDORES DE SEGUROS | U58: CASO ONBASE 270996Investigado: Diana Maria RodriguezProceso disciplinario 440 de 2021 auto 065
A59: LA PREVISORA | B59: RESPONSABILIDAD CIVIL | C59: 1008614 | D59: 44774 | E59: 44895 | F59: 30631 | G59: 44855 | H59: =IF(G59="","",YEAR(G59)) -> 2022 | I59: INDEMNIZACIONES | J59: COSTOS Y GASTOS DE DEFENSA | K59: ACTOS INCORRECTOS | L59: KR 8 A 12 Y 13 ED MURILLO TORO | M59: PAGADO PARCIALMENTE | N59: 50000000 | O59: 20000000 | P59: 20000000 | Q59: =IF(I59="RECOBROS",-1,1)*(O59+P59) -> 40000000 | R59: =IF(F59="",0,IF(COUNTIFS($A$5:A59,A59,$F$5:F59,F59)=1,1,0)) -> 1 | S59: JARGU S.A CORREDORES DE SEGUROS | U59: CASO ONBASE: 269340PROCESO DE RESPONSABILIDAD FISCAL 814112-2021-39729 ADELANTADO EN LA CONTRALO
A60: LA PREVISORA | B60: RESPONSABILIDAD CIVIL | C60: 1009140 | D60: 44927 | E60: 45292 | F60: 30896 | G60: 44980 | H60: =IF(G60="","",YEAR(G60)) -> 2023 | I60: INDEMNIZACIONES | J60: RESPONSABILIDAD CIVIL CRUZADA | K60: ACTOS INCORRECTOS | L60: KR 8 A 12 Y 13 ED MURILLO TORO | M60: COASEGURO ACEPTADO | N60: 2304000 | O60: 0 | P60: 2304000 | Q60: =IF(I60="RECOBROS",-1,1)*(O60+P60) -> 2304000 | R60: =IF(F60="",0,IF(COUNTIFS($A$5:A60,A60,$F$5:F60,F60)=1,1,0)) -> 1 | S60: MAPFRE SEGUROS GENERALES DE COLOMBIA | T60: Aceptado | U60: CONSTITUCION COA 6032 PIEDRAHITAROA 17/04/2023SINIESTROFECHA AMPARO
...

Sheet Resumen por año
A1: SINIESTRALIDAD POR AÑO DE OCURRENCIA
A2: Valor incurrido y número de siniestros por año de ocurrencia y aseguradora.
B4: N° siniestros | F4: Valor incurrido
A5: Año | B5: AXA COLPATRIA | C5: LA PREVISORA | D5: MAPFRE | E5: Total | F5: AXA COLPATRIA | G5: LA PREVISORA | H5: MAPFRE | I5: Total
A6: 2021 | B6: =SUMIFS(Consolidado!$R$5:$R$73,Consolidado!$A$5:$A$73,"AXA COLPATRIA",Consolidado!$H$5:$H$73,$A6) -> 0 | C6: =SUMIFS(Consolidado!$R$5:$R$73,Consolidado!$A$5:$A$73,"LA PREVISORA",Consolidado!$H$5:$H$73,$A6) -> 13 | D6: =SUMIFS(Consolidado!$R$5:$R$73,Consolidado!$A$5:$A$73,"MAPFRE",Consolidado!$H$5:$H$73,$A6) -> 0 | E6: =SUM(B6:D6) -> 13 | F6: =SUMIFS(Consolidado!$Q$5:$Q$73,Consolidado!$A$5:$A$73,"AXA COLPATRIA",Consolidado!$H$5:$H$73,$A6) -> 0 | G6: =SUMIFS(Consolidado!$Q$5:$Q$73,Consolidado!$A$5:$A$73,"LA PREVISORA",Consolidado!$H$5:$H$73,$A6) -> 7.9164072e+08 | H6: =SUMIFS(Consolidado!$Q$5:$Q$73,Consolidado!$A$5:$A$73,"MAPFRE",Consolidado!$H$5:$H$73,$A6) -> 0 | I6: =SUM(F6:H6) -> 7.9164072e+08
A7: 2022 | B7: =SUMIFS(Consolidado!$R$5:$R$73,Consolidado!$A$5:$A$73,"AXA COLPATRIA",Consolidado!$H$5:$H$73,$A7) -> 6 | C7: =SUMIFS(Consolidado!$R$5:$R$73,Consolidado!$A$5:$A$73,"LA PREVISORA",Consolidado!$H$5:$H$73,$A7) -> 6 | D7: =SUMIFS(Consolidado!$R$5:$R$73,Consolidado!$A$5:$A$73,"MAPFRE",Consolidado!$H$5:$H$73,$A7) -> 0 | E7: =SUM(B7:D7) -> 12 | F7: =SUMIFS(Consolidado!$Q$5:$Q$73,Consolidado!$A$5:$A$73,"AXA COLPATRIA",Consolidado!$H$5:$H$73,$A7) -> 3569262 | G7: =SUMIFS(Consolidado!$Q$5:$Q$73,Consolidado!$A$5:$A$73,"LA PREVISORA",Consolidado!$H$5:$H$73,$A7) -> 2.2578301e+08 | H7: =SUMIFS(Consolidado!$Q$5:$Q$73,Consolidado!$A$5:$A$73,"MAPFRE",Consolidado!$H$5:$H$73,$A7) -> 0 | I7: =SUM(F7:H7) -> 2.2935227e+08
A8: 2023 | B8: =SUMIFS(Consolidado!$R$5:$R$73,Consolidado!$A$5:$A$73,"AXA COLPATRIA",Consolidado!$H$5:$H$73,$A8) -> 0 | C8: =SUMIFS(Consolidado!$R$5:$R$73,Consolidado!$A$5:$A$73,"LA PREVISORA",Consolidado!$H$5:$H$73,$A8) -> 5 | D8: =SUMIFS(Consolidado!$R$5:$R$73,Consolidado!$A$5:$A$73,"MAPFRE",Consolidado!$H$5:$H$73,$A8) -> 0 | E8: =SUM(B8:D8) -> 5 | F8: =SUMIFS(Consolidado!$Q$5:$Q$73,Consolidado!$A$5:$A$73,"AXA COLPATRIA",Consolidado!$H$5:$H$73,$A8) -> 0 | G8: =SUMIFS(Consolidado!$Q$5:$Q$73,Consolidado!$A$5:$A$73,"LA PREVISORA",Consolidado!$H$5:$H$73,$A8) -> 44269675 | H8: =SUMIFS(Consolidado!$Q$5:$Q$73,Consolidado!$A$5:$A$73,"MAPFRE",Consolidado!$H$5:$H$73,$A8) -> 0 | I8: =SUM(F8:H8) -> 44269675
A9: 2024 | B9: =SUMIFS(Consolidado!$R$5:$R$73,Consolidado!$A$5:$A$73,"AXA COLPATRIA",Consolidado!$H$5:$H$73,$A9) -> 0 | C9: =SUMIFS(Consolidado!$R$5:$R$73,Consolidado!$A$5:$A$73,"LA PREVISORA",Consolidado!$H$5:$H$73,$A9) -> 7 | D9: =SUMIFS(Consolidado!$R$5:$R$73,Consolidado!$A$5:$A$73,"MAPFRE",Consolidado!$H$5:$H$73,$A9) -> 0 | E9: =SUM(B9:D9) -> 7 | F9: =SUMIFS(Consolidado!$Q$5:$Q$73,Consolidado!$A$5:$A$73,"AXA COLPATRIA",Consolidado!$H$5:$H$73,$A9) -> 0 | G9: =SUMIFS(Consolidado!$Q$5:$Q$73,Consolidado!$A$5:$A$73,"LA PREVISORA",Consolidado!$H$5:$H$73,$A9) -> 143944398 | H9: =SUMIFS(Consolidado!$Q$5:$Q$73,Consolidado!$A$5:$A$73,"MAPFRE",Consolidado!$H$5:$H$73,$A9) -> 0 | I9: =SUM(F9:H9) -> 143944398
A10: 2025 | B10: =SUMIFS(Consolidado!$R$5:$R$73,Consolidado!$A$5:$A$73,"AXA COLPATRIA",Consolidado!$H$5:$H$73,$A10) -> 0 | C10: =SUMIFS(Consolidado!$R$5:$R$73,Consolidado!$A$5:$A$73,"LA PREVISORA",Consolidado!$H$5:$H$73,$A10) -> 20 | D10: =SUMIFS(Consolidado!$R$5:$R$73,Consolidado!$A$5:$A$73,"MAPFRE",Consolidado!$H$5:$H$73,$A10) -> 0 | E10: =SUM(B10:D10) -> 20 | F10: =SUMIFS(Consolidado!$Q$5:$Q$73,Consolidado!$A$5:$A$73,"AXA COLPATRIA",Consolidado!$H$5:$H$73,$A10) -> 0 | G10: =SUMIFS(Consolidado!$Q$5:$Q$73,Consolidado!$A$5:$A$73,"LA PREVISORA",Consolidado!$H$5:$H$73,$A10) -> 1.4321271e+08 | H10: =SUMIFS(Consolidado!$Q$5:$Q$73,Consolidado!$A$5:$A$73,"MAPFRE",Consolidado!$H$5:$H$73,$A10) -> 0 | I10: =SUM(F10:H10) -> 1.4321271e+08
A11: 2026 | B11: =SUMIFS(Consolidado!$R$5:$R$73,Consolidado!$A$5:$A$73,"AXA COLPATRIA",Consolidado!$H$5:$H$73,$A11) -> 0 | C11: =SUMIFS(Consolidado!$R$5:$R$73,Consolidado!$A$5:$A$73,"LA PREVISORA",Consolidado!$H$5:$H$73,$A11) -> 7 | D11: =SUMIFS(Consolidado!$R$5:$R$73,Consolidado!$A$5:$A$73,"MAPFRE",Consolidado!$H$5:$H$73,$A11) -> 0 | E11: =SUM(B11:D11) -> 7 | F11: =SUMIFS(Consolidado!$Q$5:$Q$73,Consolidado!$A$5:$A$73,"AXA COLPATRIA",Consolidado!$H$5:$H$73,$A11) -> 0 | G11: =SUMIFS(Consolidado!$Q$5:$Q$73,Consolidado!$A$5:$A$73,"LA PREVISORA",Consolidado!$H$5:$H$73,$A11) -> 23107329 | H11: =SUMIFS(Consolidado!$Q$5:$Q$73,Consolidado!$A$5:$A$73,"MAPFRE",Consolidado!$H$5:$H$73,$A11) -> 0 | I11: =SUM(F11:H11) -> 23107329
A12: TOTAL | B12: =SUM(B6:B11) -> 6 | C12: =SUM(C6:C11) -> 58 | D12: =SUM(D6:D11) -> 0 | E12: =SUM(E6:E11) -> 64 | F12: =SUM(F6:F11) -> 3569262 | G12: =SUM(G6:G11) -> 1.3719578e+09 | H12: =SUM(H6:H11) -> 0 | I12: =SUM(I6:I11) -> 1.3755271e+09
