Workbook
Name _1: #REF!
Name _2: #REF!
Name A: #REF!
Name A_impresión_IM: #REF!
Name aaa: #REF!
Name Auxiliarjal: #REF!
Name B: #REF!
Name basecaro: #REF!
Name basejuliet1: #REF!
Name basemetroabril2017: #REF!
Name basemetroabril2017final: #REF!
Name BLOQUE: #REF!
Name cargo: #REF!
Name CLASE: #REF!
Name correoelectronico: #REF!
Name COSTOM2: #REF!
Name CUMPLI: #REF!
Name Dólar: #REF!
Name epsypension: #REF!
Name Factor: #REF!
Name JJJJ: #REF!
Name lineainstitucional: #REF!
Name mesabril: #REF!
Name nuevosoi: #REF!
Name origenaux: #REF!
Name pagojuliethjunio: #REF!
Name Profesional: #REF!
Name profesionaljal: #REF!
Name SVASFD: #REF!
Name TCRM: #REF!
Name TCRM_al_03_MAYO_2000: #REF!
Name Títulos_a_imprimir_IM: #REF!
Name TOP: #REF!
Name TRM: #REF!

Sheet G1 - 1. C. BÁSICAS TRDM
B2: FISCALÍA GENERAL DE LA NACIÓN
B3: ANEXO No. 15A - CONDICIONES TECNICAS BÁSICAS OBLIGATORIAS
B4: GRUPO No. 1
B6: 1. PÓLIZA DE SEGURO DE TODO RIESGO DAÑOS MATERIALES COMBINADOS
B7: 1.1. | C7: INFORMACIÓN GENERAL
B8: TOMADOR: | C8: FISCALIA GENERAL DE LA NACIÓN | F8: NIT. | G8: 800.152.783-2
B9: ASEGURADO: | C9: FISCALIA GENERAL DE LA NACIÓN Y/O FONDO ESPECIAL PARA LA ADMINISTRACIÓN DE BIENES FEAB | F9: NIT. | G9: 800.152.783-2 / 901.148.337-1
B10: BENEFICIARIO: | C10: =+C9 -> FISCALIA GENERAL DE LA NACIÓN Y/O FONDO ESPECIAL PARA LA ADMINISTRACIÓN DE BIENES FEAB | F10: NIT. | G10: =+G9 -> 800.152.783-2 / 901.148.337-1
B11: 1.2. | C11: OBJETO DEL SEGURO
B12: Amparar, bajo la modalidad de Todo Riesgo Daños Materiales, las pérdidas, daños materiales o desaparición que sufran los bienes e intereses de propiedad de la Fiscalía General de la Nación y/o del Fondo Especial para la Administración de Bienes (FEAB), así como aquellos por los cuales sean o lleguen a ser legalmente responsables, ubicados en cualquier parte de territorio nacional o internacional, por cualquier causa no expresamente excluida en este Anexo Técnico. Las exclusiones serán taxativas y de interpretación restrictiva.
B13: 1.3. | C13: BIENES ASEGURADOS
B14: Los bienes asegurados comprenden los bienes e intereses de propiedad y aquellos por los cuales sean o llegaren a ser legalmente responsables la Fiscalía General de la Nación y el Fondo Especial para la Administración de Bienes (FEAB). Incluye los utilizados en desarrollo de sus funciones, los disponibles para su utilización, los inservibles para dar de baja y aquellos vinculados a los procesos penales o que, por orden judicial, son puestos a disposición de la Fiscalía General de la Nación o el Fondo Especial para la Administración de Bienes (FEAB) para su administración o custodia. Esta condición se extiende y obliga a la aseguradora a brindar cobertura bajo las mismas condiciones cuando el FEAB entregue en arrendamiento bienes, emitiendo póliza independiente para el arrendatario del bien.Estos bienes consisten principalmente, aunque no se limitan, a los siguientes:
B15: EDIFICACIONES: Edificaciones. Comprende los bienes inmuebles con construcción, como edificios, casas, bodegas, locales, oficinas, garajes y depósitos que se emplean para prestación de servicios y propósitos administrativos, y aquellos que por orden judicial son puestos a disposición de la Fiscalía General de la Nación o el Fondo Especial para la Administración de Bienes (FEAB) para su administración o custodia. Incluye, pero no limitado a, remodelaciones y ornamentaciones, tales como muros, paredes, pisos, puertas, ventanas, vidrios y techos; todas sus instalaciones fijas, tales como redes de agua, gas, electricidad, alcantarillado, teléfono, calefacción, refrigeración y otras propias de la edificación, incluyendo las conexiones con las redes generales de distribución, siempre y cuando aquellas se hallen en del predio en donde se ubica; todos los demás elementos fijos que estén adheridos a los suelos, paredes, techos y que formen un mismo cuerpo con la edificación; los que sirvan para cercar el predio en donde se ubica, como rejas, mallas y muros separados, y las zonas duras como aceras y andenes, y demás aunque no se hayan mencionado específicamente. El valor asegurado incluye el costo de los honorarios por dirección de obra e interventoría, pero excluye el costo de estudio de suelos, cimientos, excavaciones, preparación del terreno y honorarios por diseño de planos. Se consideran cimientos aquellas partes del edificio que se encuentran completamente bajo el nivel de la parte más baja de la edificación a la que se tiene acceso. Se incluyen igualmente los costos de adaptación de las estructuras siniestradas, al último Código de Construcciones Sismorresistentes en Colombia.
B16: MEJORAS LOCATIVAS: Comprende todos aquellos acabados y obras realizadas en el interior del edificio, adicionales, modificatorias o complementarias a aquellas con las cuales se construyó el inmueble asegurado, tales como divisiones, falsos techos, falsos pisos, enchapes, frescos, murales y similares, etc., de propiedad o bajo responsabilidad de la Fiscalía General de la Nación o el Fondo Especial para la Administración de Bienes (FEAB), ubicados en de los predios descritos en la póliza.
B17: MUEBLES, ENSERES Y EQUIPOS DE OFICINA: Se refiere a los muebles, enseres y equipo de oficina que son utilizados en la prestación de servicios, así como los destinados a apoyar la gestión administrativa de la Fiscalía General de la Nación. Incluye sistemas de oficina abierta, archivadores, cajoneras, mesas, comedores, sillas, camas, nocheros, lámparas, persianas, archivadores rodantes; guillotinas, rotuladoras, fotocopiadoras, destructoras de papel, perforadoras, cosedoras, calculadoras; jaulas y guacales para transportes de caninos, máquinas de entrenamiento para caninos, collares electrónicos, y en general aquellos muebles, enseres, elementos, accesorios y equipo de oficina de propiedad o bajo responsabilidad de la Fiscalía General de la Nación o el Fondo Especial para la Administración de Bienes (FEAB).
B18: PLANTA, EQUIPOS Y MÁQUINAS: Se refiere a la maquinaria industrial, equipo para la construcción y perforación, herramientas y accesorios que se emplean en la prestación de servicios de la Fiscalía General de la Nación. Incluye maquinarias, montacargas, ascensores, transformadores, equipos de manejo de basuras, subestaciones, generadores, plantas de tratamiento, bombas, equipos del extractores de olores, motores de control de puertas o sitios de acceso, compresores, equipos contra incendios, equipos para construcción e instalación, motobombas, sistemas hidráulicos, equipos sumergibles, equipos de aires acondicionados, plantas eléctricas, calderas, generadores; máquinas de pesas, pesas, mancuernas, soportes para pesas y barras, máquinas elípticas, caminadoras, equipos de recreación y deporte; talanqueras, molinetes, barras perimetrales, y en general aquellos elementos, accesorios, equipos y maquinaria industrial y de construcción de propiedad o bajo responsabilidad de la Fiscalía General de la Nación o el Fondo Especial para la Administración de Bienes (FEAB).
B19: EQUIPO MÉDICO Y CIENTÍFICO: Se refiere a los equipos médicos, científicos, de investigación y de laboratorio que son utilizados en la prestación de servicios, así como los destinados a apoyar la gestión administrativa de la Fiscalía General de la Nación. Incluye equipos y accesorios de laboratorio, balística, topografía, manejo de documentos, grafología, lofoscopia, identificación humana, medicina y veterinaria, tales como balanzas, pipetas, probetas, mecheros, tubos, centrífugas, calentadores, refrigeradores, destiladores, linternas, luces y lámparas especiales, equipos de rayos X, microscopios, digitalizadores, esterilizadores, sistemas de análisis, cabinas, bombas, y en general aquellos elementos, accesorios y equipo médico y científico de propiedad o bajo responsabilidad de la Fiscalía General de la Nación o el Fondo Especial para la Administración de Bienes (FEAB).
B20: MATERIAL DE INTENDENCIA: Se refiere a fusiles, pistolas, subametralladoras, cuchillos de combate y accesorios para armas; cascos blindados, chalecos y camisas antibalas, trajes antiexplosivos, esposas, gafas, binóculos, escudos de protección, detectores de metales, equipos y aparatos de seguridad, portes de armas y en general aquellos elementos, accesorios y equipos de propiedad o bajo responsabilidad de la Fiscalía General de la Nación o el Fondo Especial para la Administración de Bienes (FEAB).
B21: EQUIPOS DE COMUNICACIÓN Y COMPUTACIÓN: Se refiere a los equipos de comunicación, de computación, antenas y radares, entre otros, que son utilizados en la prestación de servicios, así como los destinados a apoyar la gestión administrativa de la Fiscalía General de la Nación. Incluye equipos de cómputo, servidores, software, licencias, impresoras, plotters, escáneres, periféricos, equipos de telefonía móvil y fija, radios, antenas, equipos de fotografía y video, equipos de inteligencia, y en general aquellos elementos, accesorios y equipos de tecnologías de la información y las comunicaciones de propiedad o bajo responsabilidad de la Fiscalía General de la Nación o el Fondo Especial para la Administración de Bienes (FEAB).
B22: EQUIPOS DE COMEDOR, COCINA, DESPENSA Y HOTELERÍA: Se refiere al equipo de comedor, cocina, despensa y hotelería empleados para la prestación de servicios, así como los destinados a apoyar la gestión administrativa. Incluye neveras, hornos, estufas, licuadoras, planchas, extractores, congeladores, gabinetes de cocina, contenedores de basura, carros tinteros, carros de aseo, y en general aquellos elementos, accesorios y equipos de comedor, cocina, despensa y hotelería de propiedad o bajo responsabilidad de la Fiscalía General de la Nación o el Fondo Especial para la Administración de Bienes (FEAB).
B23: BIENES DE ARTE Y CULTURA: Se refiere a las obras de arte, los bienes de culto, las joyas, los elementos de museo, los elementos musicales, los libros y publicaciones de investigación y consulta. Estos elementos son utilizados para decorar o para la prestación de servicios, de propiedad de la Fiscalía General de la Nación de propiedad o bajo responsabilidad de la Fiscalía General de la Nación o el Fondo Especial para la Administración de Bienes (FEAB).
B24: BIENES EN BODEGA: Se refiere a todos los bienes de consumo y devolutivos de propiedad o bajo responsabilidad de la Fiscalía General de la Nación que, por características o circunstancias especiales, no son objeto de uso o explotación en desarrollo de las actividades, y en general todo elemento determinado como existencias o elementos de almacén disponibles para su utilización o clasificados como inservibles u obsoletos. Incluye muebles, enseres, equipos de oficina, papelería, útiles de oficina, repuestos, insumos, equipos en general, incluidos los equipos de transporte, tracción y elevación no movilizada, sus accesorios y drones no movilizados.
B25: BIENES DEL PROCESO PENAL: Se refiere a aquellos bienes muebles y demás elementos vinculados a los procesos penales o que, por orden judicial, son puestos a disposición de la Fiscalía General de la Nación o el Fondo Especial para la Administración de Bienes (FEAB) para su administración o custodia, tales como bienes incautados, bienes en comiso, elementos materiales probatorios y evidencia física (EMP/EF), elementos en cadena de custodia, entre otros. Incluye joyas, bienes de arte y cultura, equipos y accesorios de transporte, tracción y elevación aéreo, terrestre y marítimo inmovilizado, divisas y dineros, entre otros.
B26: BIENES DEVOLUTIVOS REGISTRADOS CONTABLEMENTE COMO GASTO: Se refiere a los bienes que son utilizados en la prestación de servicios, así como los destinados a apoyar la gestión administrativa de la Fiscalía General de la Nación, cuyo valor de adquisición fue inferior a $3,315,600 y fecha origen de años 2013 y anteriores, incluye bienes de menor cuantía clasificados como muebles, enseres, equipos de oficina, maquinaria y equipo, eqipo médico y cientifico, equipo de comunicación y computación, bienes de arte y cultura y equipos de comedor, cocina, despensa y hotelería de propiedad de la FIscalía General de la Nación o el Fondo para la Administración de Bienes (FEAB).
B27: 1.4. | C27: VALORES ASEGURADOS
B28: 1.4.1. Bienes Asegurables (Anexo No. 20) | F28: VALORES ASEGURADOS
B29: 1. Edificaciones | F29: 1467524027613
B30: 2. Maquinaria y equipo incluido materilal de intendencia | F30: 74577062037
B31: 3. Equipo médico y científico | F31: 127740292966
B32: 4. Muebles, enseres y equipo de oficina | F32: 134823209120
B33: 5. Equipo de comunicación y computación | F33: 410665337465
B34: 6. Bienes de arte y cultura | F34: 561885293
B35: 7. Equipos de comedor, cocina, despensa y hotelería | F35: 2432238071
B36: 8. Adecuación a la norma de sismo resistencia (15% del valor asegurado total de edificios) | F36: 220128604142
B37: INDICE VARIABLE 11%: (ITEM 1) | F37: =+F29*11% -> 1.6142764e+11
B38: SUBTOTAL | F38: =SUM(F29:G37) -> 2.5998803e+12
B39: 1.4.2. Bienes con Sublímites
B40: BIENES Y/O RIESGO CON SUBLÍMITE A PRIMERA PÉRDIDA ABSOLUTA SIN APLICACIÓN DE INFRASEGURO | F40: SUBLÍMITE
B41: Bienes en bodega | F41: 9000000000
B42: Bienes devolutivos registrados contablemente como gasto | F42: 20000000000
...

Sheet G1 - 2. C. BÁSICAS MANEJO
B3: FISCALÍA GENERAL DE LA NACIÓN
B4: ANEXO No. 15A - CONDICIONES TECNICAS BÁSICAS OBLIGATORIAS
B5: GRUPO No. 1
B7: 2. PÓLIZA DE SEGURO GLOBAL DE MANEJO PARA ENTIDADES OFICIALES
B8: 2.1. | C8: INFORMACIÓN GENERAL
B9: TOMADOR: | C9: FISCALIA GENERAL DE LA NACIÓN | F9: NIT. | G9: 800.152.783-2
B10: ASEGURADO: | C10: FISCALIA GENERAL DE LA NACIÓN Y/O FONDO ESPECIAL PARA LA ADMINISTRACIÓN DE BIENES FEAB | F10: NIT. | G10: 800.152.783-2 / 901.148.337-1
B11: BENEFICIARIO: | C11: FISCALIA GENERAL DE LA NACIÓN Y/O FONDO ESPECIAL PARA LA ADMINISTRACIÓN DE BIENES FEAB | F11: NIT. | G11: =+G10 -> 800.152.783-2 / 901.148.337-1
B12: 2.2. | C12: OBJETO DEL SEGURO
B13: Amparar el menoscabo que sufran los fondos, valores y bienes de la FISCALÍA GENERAL DE LA NACIÓN y/o del FONDO ESPECIAL PARA LA ADMINISTRACIÓN DE BIENES – FEAB ocasionado por empleados, funcionarios, servidores, sus reemplazos y demás personas comprendidas en la definición de trabajador o empleado de esta póliza, por actos que se tipifiquen como delitos contra la administración pública o fallos con responsabilidad fiscal, de conformidad con las coberturas y condiciones del presente anexo. La cobertura no estará condicionada a la existencia de sentencia penal o fallo fiscal cuando la ocurrencia y cuantía de la pérdida se encuentren acreditadas conforme al contrato y a la ley
B14: 2.3. | C14: LÍMITE ASEGURADO EVENTO /AGREGADO ANUAL
B15: Oferta Básica: Se califica en Condiciones Adicionales (Anexo No. 16) el aumento del límite asegurado sin cobro de prima adicional. | F15: 1400000000
B16: 2.3.1. | C16: MODALIDAD DE COBERTURA:
B17: Los amparos otorgados operan bajo modalidad de OCURRENCIA. Se cubren las pérdidas patrimoniales cuyo hecho generador o conducta amparada ocurra durante la vigencia de la póliza, aun cuando su descubrimiento, investigación, determinación de responsabilidad o reclamación tenga lugar con posterioridad, sujeto exclusivamente a los términos legales de prescripción aplicables y a las demás condiciones más favorables previstas en este anexo. Ninguna condición general de la aseguradora podrá transformar esta cobertura en modalidad claims made, descubrimiento o reclamación.
B18: 2.3.2. | C18: BASE PARA LA DETERMINACIÓN Y APLICACIÓN DEL CONCEPTO SUBLÍMITE / VIGENCIA / AGREGADO ANUAL
B19: Para la totalidad de Coberturas y/o condiciones básicas sublímitadas, queda expresamente aceptado por parte de los proponentes que, en concordancia con la vigencia de la póliza que se adjudique, cada Sublímite operará así:
B20: VIGENCIA 2026: | C20: Sublímite indicado Evento/Vigencia
B21: VIGENCIA 2027: | C21: Sublímite indicado Evento/Agregado Anual.
B22: VIGENCIA 2028: | C22: Sublímite indicado Evento/Vigencia
B23: 2.4. | C23: CARGOS ASEGURADOS
B24: TOTAL CARGOS ASEGURADOS: | D24: La planta de personal aprobada asciende a un total de 24.751 funcionarios, a la fecha el número de cargos ocupados es de 22.103
B25: NOTA: | C25: CADA SUBLÍMITE INDICADO ESTÁ CONTEMPLADO DENTRO VALOR ASEGURADO TOTAL DE LA PÓLIZA
B26: 2.5. | C26: COBERTURAS BÁSICAS
B27: DELITOS CONTRA LA ADMINISTRACIÓN PÚBLICA | E27: La aseguradora indemnizará la pérdida económica que sufra la Entidad a consecuencia de actos que se tipifiquen como delitos contra la administración, cometidos por empleado(s) en desempeño de(los) cargo(s) señalados en el numeral 2.4.
B28: GASTOS DE RECONSTRUCCIÓN O RENDICIÓN DE CUENTAS | E28: La aseguradora mediante este amparo cubre los gastos que la Entidad tenga que incurrir en caso de abandono del cargo o fallecimiento del empleado, para llevar a cabo los procesos de rendición y reconstrucción de cuentas.
B29: DELITOS CONTRA EL PATRIMONIO ECÓNOMICO | E29: La aseguradora mediante este amparo indemnizará la pérdida económica que sufra la Entidad, por aquellas conductas penalmente sancionables, cometidas por los empleados de la Entidad, que no dan cuenta de un buen manejo de los recursos estatales y que causan detrimento al patrimonio del estado.
B30: JUICIOS CON RESPONSABILIDAD FISCAL Y ALCANCES FISCALES | E30: La aseguradora mediante este amparo cubre los procesos de responsabilidad fiscal con ocasión de la ejecución de actos que den lugar a iniciación de juicios de esta naturaleza, al igual que los alcances fiscales.
B31: PÉRDIDA DE EMPLEADOS NO IDENTIFICADOS AL 100% DEL LÍMITE ASEGURADO | E31: En caso de ocurrencia de cualquier pérdida, pero que la Entidad no pudiera determinar específicamente al empleado o los empleados responsables, la aseguradora reconocerá la indemnización correspondiente, siempre y cuando las circunstancias que dieron lugar al evento, permitan considerar que en la ocurrencia del mismo intervinieron uno o varios empleados de la Entidad, a cualquier titulo (autor intelectual, material o cómplice). Queda entendido que la responsabilidad de la compañía, respecto de tales pérdidas, no excederá en ningún caso del monto asegurado estipulado en la póliza.
B32: PROTECCIÓN DE DEPÓSITOS BANCARIOS AL 100% DEL LÍMITE ASEGURADO | E32: Cubre las pérdidas de dinero que el asegurado tenga depositado en sus cuentas corrientes o de ahorro en entidades bancarias o financieras (incluidos sus respectivos intereses), que se deba a falsificación o adulteración de un cheque, letra de cambio, pagaré, carta de crédito o cualquier otra clase de título valor que el banco o entidad financiera presuma que ha sido firmado, endosado o avalado por el asegurado o por una persona que obre en su nombre o representación y que el banco o entidad financiera compruebe que no es responsable por dicho pago, incluyendo: a) Cualquier cheque o giro hecho o girado en nombre de la Entidad pagadero a una persona ficticia y endosado o pagado a nombre de dicha persona. b) Cualquier cheque o giro hecho o girado en transacción de la Entidad o por su representante a favor de un tercero y entregado al representante de éste que resultare endosado o cobrado por persona distinta de aquel a quien se giró. c) Cualquier cheque o giro con destino al pago de salarios que habiendo sido girado u ordenado por la Entidad, resultare endosado y cobrado por un tercero obrando supuestamente a nombre del girador, o de aquel a quien se debía hacer el pago. Esta cobertura aplica cuando se demuestra la participación de uno o más empleados del asegurado y que la entidad bancaria demuestre que no tiene ninguna responsabilidad.
B33: EXTENSIÓN DE COBERTURA PARA EMPLEADOS OCASIONALES, TEMPORALES Y TRANSITORIOS AL 100% DEL LÍMITE ASEGURADO | E33: Bajo esta condición la cobertura de la presente póliza se extiende a amparar a los trabajadores ocasionales, temporales o transitorios y a quienes sin serlo, realicen prácticas o investigaciones en sus dependencias. Esta cobertura queda sujeta a que las operaciones que realicen tales personas estén bajo el control de la Entidad.
B34: EXTENSIÓN DE COBERTURA PARA EMPLEADOS DE FIRMAS ESPECIALIZADAS Y OTROS AL 100% DEL LÍMITE ASEGURADO | E34: Bajo esta condición la cobertura de la presente póliza se extiende a amparar a todas aquellas personas naturales que presten servicios en los establecimientos del asegurado bajo cualquier título o contrato, incluidos los empleados de firmas especializadas, los empleados de contratistas independientes, los cuales deben cumplir con las normas que los regulan. Esta cobertura queda sujeta a que las operaciones que realicen tales personas estén bajo el control de la Entidad.
B35: EXTENSIÓN DE COBERTURA PARA PÉRDIDAS OCASIONADAS POR EMPLEADOS DE CONTRATISTAS Y SUBCONTRASTISTAS INDEPENDIENTES AL 100% DEL LÍMITE ASEGURADO | E35: Bajo esta condición la cobertura de la presente póliza se extiende a amparar a todas aquellas personas naturales que presten servicios en los establecimientos del asegurado bajo cualquier título o contrato, incluidos los empleados de contratistas y subcontratistas independientes, los cuales deben cumplir con las normas que los regulan.
B36: GASTOS PARA LA DEMOSTRACIÓN DEL SINIESTRO Sublímite $60.000.000 (vigencia 2.3.2.) | E36: Bajo este amparo se cubren hasta el 100% de los gastos razonables en que incurra el asegurado, para la demostración de la ocurrencia y cuantía del siniestro y serán indemnizados bajo esta póliza. Estos gastos deben ser previamente aprobados por la aseguradora y la Entidad se compromete para estos casos presentar previamente cotización de estos gastos (cuando se requiera), la aseguradora se reserva el derecho de poder cotizar con sus proveedores los servicios que demanden la aplicación de estos gastos.
B37: GASTOS ADICIONALES. Sublímite $50.000.000 (vigencia 2.3.2.) | E37: No obstante lo que se diga en contrario en las condiciones generales y particulares de la póliza, la Compañía se obliga a indemnizar los gastos adicionales (que no tengan carácter de permanentes), debidamente comprobados en que necesaria y razonablemente incurra el asegurado, como consecuencia directa del siniestro, hasta el 100% de los gastos demostrados.
B38: GASTOS ADICIONALES POR RECONSTRUCCIÓN DE ARCHIVOS. Sublímite $60.000.000 (vigencia 2.3.2.) | E38: No obstante lo que se diga en contrario en las condiciones generales y particulares de la póliza, la Compañía se obliga a indemnizar los gastos y costos en que necesaria y razonablemente incurra el asegurado para obtener, reemplazar o restaurar la información de archivos, documentos y grabaciones perdidas o dañadas a consecuencia de cualquiera de los eventos amparados por la póliza, hasta el 100% de los gastos demostrados.
... B41: COSTAS EN JUICIO, HONORARIOS PROFESIONALES Y SELECCIÓN DE PROFESIONALES PARA LA DEFENSA. Sublímite del 20% del límite asegurado. (vigencia 2.3.2.) | E41: Por medio de la presente cláusula la compañía indemnizará al asegurado las costas de los procesos judiciales y los honorarios de abogados hasta por el 100% del valor asegurado, siempre y cuando sean justificados, razonables, causados y cancelados por el asegurado en la defensa de cualquier procedimiento legal o pleito en el cual sea demandado por el (los) funcionario(s) investigado(s) con ocasión de los hechos que dan origen a la reclamación formulada a la compañía de seguros. Sin embargo, si dicha reclamación es mayor que el monto del deducible, el asegurador asumirá el pago de las costas y honorarios en igual proporción en que haya asumido la pérdida. El asegurador podrá, en caso de así determinarlo y de común acuerdo con el asegurado asumir la defensa en cualquier litigio o procedimiento legal a nombre del asegurado, a través de abogados elegidos por el asegurador. La selección de los profesionales encargados para la defensa corresponderá al Asegurado, o los funcionarios que esta designe, quienes para su aprobación presentan a la compañía la propuesta correspondiente. La compañía podrá, previo común acuerdo con la Entidad asegurada, asumir la defensa de cualquier litigio o procedimiento legal a nombre del asegurado, a través de abogados elegidos por este.
B42: 2.7. | C42: CLÁUSULAS BÁSICAS
B43: REVOCACIÓN DE LA PÓLIZA, CLÁUSULAS O CONDICIONES Con termino de ciento veinte (120) días. | E43: La aseguradora podrá revocar la póliza, cláusulas o condiciones unilateralmente por la compañía, mediante noticia escrita enviada al asegurado, a su última dirección registrada, con no menos de ciento veinte (120) días de antelación; contados a partir de la fecha del envío. El asegurado podrá pedir la revocación en cualquier momento, según lo previsto en el Código de Comercio. Así mismo, en el caso de que la aseguradora decida no otorgar renovación o prorroga del contrato de seguro, deberá dar aviso de ello al asegurado con no menos de ciento veinte (120) días de antelación a la fecha de vencimiento de la póliza, en caso contrario se dará por entendido que la aseguradora acepta la renovación o prorroga hasta el límite legal establecido en la Ley 80 de 1993, para la adición de los contratos y manteniendo las mismas condiciones ofertadas en este proceso.
B44: AMPARO AUTOMÁTICO DE NUEVOS CARGOS | E44: Bajo esta cláusula se otorga amparo automático a todo nuevo cargo creado por la Entidad, durante la vigencia de la misma, sin que exista obligación por parte de la entidad asegurada de reportarle dichos nuevos cargos, siempre que los nuevos cargos cuenten con las mismas seguridades y controles que los reportados en el inicio de la póliza. La póliza opera bajo el sistema Blanket. La entidad solo estará obligada a reportar al finalizar la vigencia, la cantidad de empleados, funcionarios y/o servidores, para realizar el cobro de prima resultante.
B45: BIENES BAJO TENENCIA, CONTROL Y CUSTODIA Sublímite 50% de la suma asegurada. | E45: Queda entendido, convenido y aceptado que la Compañía de Seguros indemnizará los daños ocasionados por cualquier siniestro amparado bajo la presente póliza, que afecte bienes que sin ser de propiedad del asegurado, estén bajo la responsabilidad, cuidado, tenencia, control o custodia del mismo. En dicho Evento, y posterior a la pérdida, la prima adicional se liquidará con base en las tasas contratadas.
...

Sheet G.1 - 3. C. BÁSICAS RCE
B3: FISCALIA GENERAL DE LA NACIÓN
B4: ANEXO No. 15A - CONDICIONES TECNICAS BÁSICAS OBLIGATORIAS
B5: GRUPO No. 1
B7: 3. PÓLIZA DE SEGURO DE RESPONSABILIDAD CIVIL EXTRACONTRACTUAL
B8: 3.1. | C8: INFORMACIÓN GENERAL
B9: TOMADOR: | C9: FISCALIA GENERAL DE LA NACIÓN | F9: NIT. | G9: 800.152.783-2
B10: ASEGURADO: | C10: FISCALIA GENERAL DE LA NACIÓN Y/O FONDO ESPECIAL PARA LA ADMINISTRACIÓN DE BIENES FEAB | F10: NIT. | G10: 800.152.783-2 / 901.148.337-1
B11: BENEFICIARIO: | C11: CUALQUIER TERCERO AFECTADO
B12: 3.2. | C12: OBJETO DEL SEGURO
B13: Amparar los perjuicios patrimoniales (daños materiales incluyendo daño emergente y lucro cesante) y extrapatrimoniales (incluidos el daño moral, daño fisiológico y daño a la vida de relación y a la salud) a la Fiscalía General de la Nación y al Fondo Especial para la Administración de Bienes como consecuencia de la responsabilidad civil extracontractual originada dentro o fuera de sus instalaciones, en el desarrollo de sus actividades o en lo relacionado con ellas, lo mismo que los actos de sus empleados dentro y fuera del territorio nacional. Nota: Se entenderán como terceros todos los servidores públicos, empleados y funcionarios permanentes, o temporales, o estudiantes en práctica o pasantias, o contratistas, o subcontratistas, o de personas voluntarias que presten servicios al asegurado, incluyendo miembros de las Directivas y cada una de las personas que circulen, ingresen, accedan o se encuentren en los predios de asegurado o por los cuales es responsable en su aseguramiento, independientemente que el asegurado le esté prestando un servicio objeto de su razón social. Incluye a los personas que transiten o ingresen como visitantes al MUSEO de la entidad.
B14: 3.3. | C14: LÍMITE ASEGURADO EVENTO / AGREGADO ANUAL
B15: Oferta Básica: Se califica en Condiciones Adicionales (Anexo No. 16) el aumento del límite ofrecido sin cobro de prima adicional. | F15: 10000000000
B16: 3.4. | C16: INFORMACIÓN GENERAL
B17: Nómina promedio mensual: $
B18: Número de funcionarios: ACTIVOS 22.103
B19: Presupuesto anual proyectado de la Entidad año 2027: $
B20: NOTA: | C20: CADA SUBLÍMITE INDICADO ESTÁ CONTEMPLADO DENTRO VALOR ASEGURADO TOTAL DE LA PÓLIZA
B21: 3.4.1. | C21: BASE PARA LA DETERMINACIÓN Y APLICACIÓN DEL CONCEPTO SUBLÍMITE / VIGENCIA / AGREGADO ANUAL
B22: Para la totalidad de Coberturas y/o condiciones básicas sublímitadas, queda expresamente aceptado por parte de los proponentes que, en concordancia con la vigencia de la póliza que se adjudique, cada Sublímite operará así:
B23: VIGENCIA 2026: | C23: Sublímite indicado Evento/Vigencia
B24: VIGENCIA 2027: | C24: Sublímite indicado Evento/Agregado Anual.
B25: VIGENCIA 2028: | C25: Sublímite indicado Evento/Vigencia
B26: 3.4.2. | C26: PREDIOS ASEGURADOS
B27: Todos los predios de propiedad del asegurado, que éste use o entregue en comodato, o reciba en comodato, concesión, arrendamiento, o que se encuentren bajo el uso, la custodia, la tenencia o la responsabilidad del Asegurado, y aquellos de terceros que el asegurado use, mantenga, ocupe en desarrollo de sus actividades y operaciones y los tomados en arriendo.
B28: 3.5. | C28: COBERTURAS BÁSICAS
B29: Queda expresamente acordado y convenido, que mediante la presente póliza la aseguradora ampara los perjuicios patrimoniales y extrapatrimoniales, que cause la Entidad a terceros al igual que las costas y gastos de proceso, siempre y cuando el hecho generador le cause daños materiales, lesiones personales y/o muerte; generados como consecuencia de la responsabilidad civil extracontractual originada dentro o fuera de sus instalaciones, en el desarrollo de sus actividades propias a su objeto social o en lo relacionado con ellas, incluidos los actos de sus empleados y funcionarios en el desarrollo de sus funciones. De igual forma, se acuerda que para todos los efectos de la presente póliza, el termino de “perjuicios patrimoniales” contempla los perjuicios relacionados con daños materiales, daño emergente, lucro cesante y demás perjuicios considerados como patrimoniales; y el termino de “perjuicios extrapatrimoniales” comprende, entre otros, el daño moral, daño fisiológico, daño a la vida de relación y demás perjuicios considerados como extrapatrimoniales. La aseguradora acepta expresamente el otorgamiento de la cobertura de este seguro, según lo previsto en el Artículo 1131 del Código de Comercio, relacionado con la configuración del siniestro e inicio de la prescripción, que estipula: ARTICULO 1131. Configuración del siniestro en el seguro de responsabilidad civil. En el seguro de responsabilidad se entenderá ocurrido el siniestro en el momento en que acaezca el hecho externo imputable al asegurado, fecha a partir de la cual correrá la prescripción respecto de la víctima. Frente al asegurado ello ocurrirá desde cuando la víctima le formula la petición judicial o extrajudicial.
B30: PREDIOS, LABORES Y OPERACIONES (incluyendo incendio y explosión) | E30: La aseguradora se obliga a indemnizar, sujeto a los términos y condiciones establecidas tanto en las condiciones generales como a las particulares de la póliza, los perjuicios patrimoniales y extrapatrimoniales que cause el asegurado con motivo de la responsabilidad civil extracontractual en que incurra de acuerdo con la ley colombiana, por hechos imputables al asegurado, que causen la muerte, lesión o menoscabo en la salud de las personas (daños personales) y/o el deterioro o destrucción de bienes (daños materiales) y perjuicios económicos, incluyendo lucro cesante, daño moral y perjuicio de vida en relación como consecuencia directa de tales daños personales y/o daños materiales. La aseguradora responderá, además, por los costos del proceso que el tercero damnificado o sus causahabientes promuevan en su contra o la del asegurado, con las salvedades siguientes: a) Si la Entidad asegurada afronta el proceso contra orden expresa de la compañía. b) Si la responsabilidad proviene de dolo o esta expresamente señalada en las exclusiones de la póliza. c) Si la condena por los perjuicios ocasionados a la victima excede la suma que delimita la responsabilidad de la aseguradora, esta solo responderá por los gastos del proceso en proporción a la cuota que le corresponda en la indemnización.
E31: PREDIOS, los perjuicios patrimoniales y extrapatrimoniales que cause el asegurado por la posesión, el uso o el mantenimiento de sus predios o por los que es responsable y en especial en los que la Entidad asegurada desarrolla y realiza las actividades objeto de la cobertura de esta póliza.
E32: LABORES Y OPERACIONES, los perjuicios patrimoniales y extrapatrimoniales que cause el asegurado por las labores u operaciones que lleva a cabo la Entidad asegurada en el desarrollo de las actividades objeto de la cobertura de esta póliza incluyendo todos los riesgos que son inherentes a las actividades desarrolladas por el asegurado en el giro normal de sus actividades y derivadas de: a) Posesión o uso de ascensores y escaleras automáticas, barreras antiterroristas, montacargas, grúas, puentes grúa, equipos de trabajo y transporte, equipos de similares características,maquinaria y equipos de trabajo, dentro y fuera de los predios del asegurado, incluyendo cuando son arrendados a terceros y operados por personal del asegurado b) Posesión o uso de máquinas y equipos de trabajo, de cargue, descargue y transporte dentro de los predios asegurados. c) Transporte de bienes del asegurado, tales como mercancías, materias primas, productos en proceso y productos terminados, dentro y fuera de los predios asegurados, incluyendo aquellos de naturaleza azarosa o inflamable. Se excluye el daño a la mercancía y al vehículo transportador.(Cuando aplique) d) Operaciones de cargue y descargue. (Cuando aplique) e) Posesión o uso de avisos y vallas publicitarias en el territorio nacional. f) Posesión o uso de sus instalaciones sociales, culturales y deportivas y los eventos que el asegurado realice u organice en ellas. g) Viajes de funcionarios del asegurado en comisión o estudio, dentro y fuera del territorio nacional. Los siniestros ocurridos en el extranjero, conforme a la legislación colombiana, excluyendo USA, Candá y Mexico. Excluye Responsabilidad Civil Profesional. h) Actividades y Eventos Sociales y Culturales i) Participación del asegurado en ferias y exposiciones nacionales. j) Errores de puntería, opera en exceso de las pólizas que por ley deben tener contratadas las empresas de vigilancia, empleados del asegurado o contratados a través de firma especializada. k) Vigilancia de los predios por medio de personal armado y/o animales opera en exceso de las pólizas que por ley deben tener contratadas las empresas de vigilancia, empleados del asegurado o contratados a través de firma especializada.
E33: l) Actos de los directivos, representantes y empleados del asegurado en el desempeño de sus funciones y dentro de las actividades aseguradas. Se excluye la Responsabilidad Profesional. m) Posesión o uso de cafeterías, casinos y restaurantes para uso de sus empleados y/o invitados. n) Incendio y/o explosión producidos dentro de los predios asegurados. o) Uso de parqueaderos dentro de los predios del asegurado p) Descargue, dispersión, liberación o escape de humo, vapores, hollín, ácidos, álcalis y en general productos químicos tóxicos, líquidos o gaseosos, y demás materias irritantes o contaminantes, en o sobre la tierra, atmosfera, ríos, lagos o cualquier curso o cuerpo de agua, producida en forma accidental, súbita e imprevista. (Cuando aplique) q) Uso de casinos, restaurantes y cafeterías de su propiedad o que sean ocupados por él o que tenga tomados en arrendamiento o alquiler, no obstante el hecho que éstos estén administrados por personas naturales o jurídicas distintas de la entidad o sus empleados. r) Productos y Trabajos terminados. (Cuando aplique). Se excluye la recogida del producto. s) Tenencia de Animales. t) Suministro de Alimentos y bebidas. s) Posesión o uso de depósitos, tanques y tuberías ubicados o instalados dentro de los predios asegurados.
B34: COBERTURA ADICIONAL PARA LAS OPERACIONES POR MANEJO DE LIQUIDOS INFLAMABLES Y AZAROSOS. Sublímite 30% del valor asegurado total de la póliza. | E34: La aseguradora mediante este amparo se compromete a indemnizar los perjuicios patrimoniales derivados de la responsabilidad civil extracontractual que le sea imputable al asegurado por lasoperaciones en el manejo de lpiquidos inflamables y azarosos.
B35: RESPONSABILIDAD CIVIL DERIVADA DE EVENTOS DE LA NATURALEZA | E35: La aseguradora mediante este amparo se compromete a indemnizar los perjuicios patrimoniales derivados de la responsabilidad civil extracontractual que le sea imputable, siempre que la responsabilidad del asegurado sea declarada judicialmente.
B36: GASTOS MÉDICOS (sin aplicación de deducibles). Sublímite $50.000.000 por persona, $200.000.000 por evento / $500.000.000 (vigencia 3.4.1.) Se califica en Condiciones Adicionales (Anexo No. 16) el aumento del sublímite. | E36: La aseguradora debe contemplar para la propuesta de este amparo, que indemnizarán hasta el límite establecido en la póliza y dentro de los términos y con sujeción a las condiciones de este seguro, los gastos razonables y prioritarios que se causen, por concepto de primeros auxilios inmediatos, servicios médicos, quirúrgicos, de ambulancia de hospital, de enfermeras, medicamentos, terapias de rehabilitación, protesis, etc. como consecuencia de las lesiones corporales producidas a terceros en desarrollo de las actividades de la entidad, incluido gastos de traslado (dentro del territorio colombiano o en el exterior). Se precisa, que el amparo que se otorga es independiente al de responsabilidad civil extracontractual y por consiguiente, los pagos que por dicho concepto se realicen, en ningún caso pueden ser interpretados como aceptación tácita de responsabilidad y no está sujeto a la aplicación de deducible. Los funcionarios y contratistas para el apoyo a la gestión administrativa y demás personal de apoyo a la Entidad se consideran terceros. De igual forma, en caso de requerirse, este amparo puede aplicar por reembolso.
B37: ANTICIPO DE INDEMNIZACIÓN PARA GASTOS MÉDICOS 60% | E37: Queda entendido, convenido y aceptado que en caso de presentarse un siniestro amparado bajo la presente póliza, que afecte la cobertura de gastos médicos y demostrada su ocurrencia, la compañía conviene anticipar el 60% del valor estimado de la pérdida mientras el asegurado cumple con la obligación legal para tal fin. El asegurado deberá hacer el requerimiento mediante comunicación escrita dirigida a la compañía aseguradora.
B38: ANTICIPO DE INDEMNIZACIÓN PARA ALIMENTOS Y BEBIDAS 60% | E38: Queda entendido, convenido y aceptado que en caso de presentarse un siniestro amparado bajo la presente póliza, que afecte la cobertura de alimentos y bebidas y demostrada su ocurrencia, la compañía conviene anticipar el 60% del valor estimado de la pérdida mientras el asegurado cumple con la obligación legal para tal fin. El asegurado deberá hacer el requerimiento mediante comunicación escrita dirigida a la compañía aseguradora.
B39: RESPONSABILIDAD CIVIL PATRONAL. Sublímite de $1.500.000.000 evento / $2.000.000.000 (vigencia 3.4.1.) Se califica en Condiciones Adicionales (Anexo No. 16) el aumento del sublímite. | E39: La aseguradora mediante este amparo se compromete a indemnizar los perjuicios patrimoniales derivados de la responsabilidad civil extracontractual que le sea imputable al asegurado en su calidad de empleador exclusivamente por los accidentes de trabajo que sufran los empleados a su servicio, en el desarrollo de las actividades asignadas a ellos y de acuerdo con las siguientes definiciones y condiciones: a) Se entiende por empleado toda persona que mediante contrato de trabajo o de prestación de servicios (incluidos contratistas para el apoyo a la gestión admnistritativa o misional) preste al asegurado. b) Quedan excluidas de este seguro: Las enfermedades profesionales, endémicas o epidémicas, contagiosas (en especial el COVID19), por accidentes de trabajo que se hayan sido provocados deliberadamente o por culpa grave del empleado. Se precisa que este amparo opera en exceso de la seguridad social.
B40: CONTRATISTAS Y SUBCONTRATISTAS INDEPENDIENTES. Sublímite de $1.500.000.000 evento / $2.000.000.000 (vigencia 3.4.1.) | E40: La aseguradora bajo este amparo se obliga a cubrir los perjuicios patrimoniales derivados de la responsabilidad civil extracontractual que le sea imputable al asegurado y/o los gastos médicos por los daños que causare a terceros, a consecuencia de labores amparadas realizadas por contratistas y subcontratistas independientes a su servicio. Se precisa que este amparo opera en exceso de las pólizas del contratista o subcontratista.
B41: RESPONSABILIDAD CIVIL CRUZADA Sublímite de $450.000.000 evento y $500.000.000 (vigencia 3.4.1.) | E41: Se cubren los perjuicios patrimoniales causados por un contratista a otro, a consecuencia de las labores amparadas previamente contratadas por el asegurado y que se efectúen dentro de los predios del mismo. Se precisa que este amparo opera en exceso de las pólizas del contratista.
B42: VEHÍCULOS PROPIOS Y NO PROPIOS EN EXCESO DEL SEGURO DE AUTOMÓVILES, SOAT y EQUIPO Y MAQUINARÍA. Sublímite de $450.000.000 por evento / $900.000.000 (vigencia 3.4.1.) | E42: Mediante esta condición se indemnizarán los daños que cause el asegurado en razón de la responsabilidad civil por lesiones a terceras personas o daños a propiedades de terceros que le sean imputables legalmente como consecuencia de la utilización en el giro normal de sus negocios, de vehículos propios o no propios, en exceso de los limites contratados en el seguro de automóviles. En caso que el vehículo que generó los daños no cuente con pólizá de automóviles y/o SOAT, la cobertura de los daños será asumida por la presente póliza hasta el monto del límite fijado.
B43: TRANSPORTE DE PERSONAL VINCULADO A LOS ASEGURADOS. | E43: Se ampara la responsabilidad civil por el transporte de personal vinculado a los asegurados mediante contrato de trabajo, de personas voluntarias que presten servicios al asegurado, de terceros y visitantes, en vehículos propios o no propios. Opera en exceso de las pólizas obligatorias de vehículos de servicio público, cuando a ello hubiere lugar.
...

Sheet G.1 - 4. C. B. TRANSP. VAL.
B3: FISCALÍA GENERAL DE LA NACIÓN
B4: ANEXO No. 15A - CONDICIONES TECNICAS BÁSICAS OBLIGATORIAS
B5: GRUPO No. 1
B7: 4. PÓLIZA DE TRANSPORTE DE VALORES
B8: 4.1. | C8: INFORMACIÓN GENERAL
B9: TOMADOR: | C9: FISCALIA GENERAL DE LA NACIÓN | F9: NIT. | G9: 800.152.783-2
B10: ASEGURADO: | C10: FISCALIA GENERAL DE LA NACIÓN Y/O FONDO ESPECIAL PARA LA ADMINISTRACIÓN DE BIENES FEAB | F10: NIT. | G10: 800.152.783-2 / 901.148.337-1
B11: BENEFICIARIO: | C11: =+C9 -> FISCALIA GENERAL DE LA NACIÓN | F11: NIT. | G11: =+G10 -> 800.152.783-2 / 901.148.337-1
B12: 4.2. | C12: OBJETO DEL SEGURO
B13: Amparar automáticamente los daños o pérdidas que sufran los dineros en efectivo, divisas, títulos valores y demás documentos representativos de dinero o convertibles fácilmente en dinero y lingotes de oro de propiedad o por los que sean legalmente responsables la Fiscalía General de la Nación y el Fondo Especial para la Administración de Bienes con ocasión de su movilización por cualquier medio de transporte.
B14: 4.3. | C14: LÍMITE ASEGURADO POR DESPACHO
B15: Límite: Se califica en Condiciones Adicionales (Anexo No. 16) el aumento del límite por despacho ofrecido. | F15: 300000000
B16: 4.3.1. | C16: Presupuesto anual de movilización | F16: 742682467
B17: MEJORAS LOCATIVAS: Comprende todos aquellos acabados y obras realizadas en el interior del edificio, adicionales, modificatorias o complementarias a aquellas con las cuales se construyó el inmueble asegurado, tales como divisiones, falsos techos, falsos pisos, enchapes, etc., de propiedad o bajo responsabilidad de la Fiscalía General de la Nación o el Fondo Especial para la Administración de Bienes (FEAB), ubicados en de los predios descritos en la póliza.
B18: MUEBLES, ENSERES Y EQUIPOS DE OFICINA: Se refiere a los muebles, enseres y equipo de oficina que son utilizados en la prestación de servicios, así como los destinados a apoyar la gestión administrativa de la Fiscalía General de la Nación. Incluye sistemas de oficina abierta, archivadores, cajoneras, mesas, comedores, sillas, camas, nocheros, lámparas, persianas, archivadores rodantes; guillotinas, rotuladoras, fotocopiadoras, destructoras de papel, perforadoras, cosedoras, calculadoras; jaulas y guacales para transportes de caninos, máquinas de entrenamiento para caninos, collares electrónicos, y en general aquellos muebles, enseres, elementos, accesorios y equipo de oficina de propiedad o bajo responsabilidad de la Fiscalía General de la Nación o el Fondo Especial para la Administración de Bienes (FEAB).
B19: 4.3.3. | C19: Medios de Transporte y alcance de la cobertura
B20: Por mensajero particular, terrestre, aéreo, marítimo, fluvial y/o férreo, y cualquier otro que el asegurado deba utilizar para el transporte de los bienes objeto de este seguro, aclarando que la póliza cubre todo tipo de medio de movilización sin excepción y sin restricción de horarios para la movilización De igual forma la aseguradora acepta como medio de transporte cuando se realice en vehículos propios, de funcionarios o contratistas de la Entidad o de terceros.
B21: 4.4. | C21: SISTEMA DE COBRO DE PRIMA
B22: La aseguradora acepta como sistema de cobro un único anual (o con base en las vigencias contratadas y con pago por vigencia fiscal) sobre el valor del presupuesto anual indicado sin reportes y sin ajuste al final de la vigencia. Procedimiento para reporte de movilizaciones: Se ampara cualquier despacho hasta el límite asegurado sin que se requiera suministro de relaciones periodicas de despachos y efectuando el cobro de una prima única por toda la vigencia de la póliza. Por tanto, la aseguradora no dará aplicación a la cláusula de falta de avisos o aplicaciones a la presente póliza, manteniendo de esta forma la cobertura durante la vigencia estipulada en la carátula de la póliza.
B23: NOTA: | C23: CADA SUBLÍMITE INDICADO ESTÁ CONTEMPLADO DENTRO VALOR ASEGURADO TOTAL DE LA PÓLIZA
B24: 4.5. | C24: BASE PARA LA DETERMINACIÓN Y APLICACIÓN DEL CONCEPTO SUBLÍMITE / VIGENCIA / AGREGADO ANUAL
B25: Para la totalidad de Coberturas y/o condiciones básicas sublímitadas, queda expresamente aceptado por parte de los proponentes que, en concordancia con la vigencia de la póliza que se adjudique, cada Sublímite operará así:
B26: VIGENCIA 2026: | C26: Sublímite indicado Evento/Vigencia
B27: VIGENCIA 2027: | C27: Sublímite indicado Evento/Agregado Anual.
B28: VIGENCIA 2028: | C28: Sublímite indicado Evento/Vigencia
B29: 4.6. | C29: AMPAROS BÁSICOS
B30: DAÑO MATERIAL DE LOS VALORES TRANSPORTADOS | E30: La aseguradora se compromete a indemnizar al asegurado la pérdida o daño material que sufran los valores asegurados como consecuencia de incendio y/o rayo, cualquier evento de la naturaleza, caída a abismos o colisión o desbarrancamiento o volcamiento o fallas mecánicas imprevistas del medio de transporte, inundaciones, combustión espontánea, explosión, caída de aeronaves u otros objetos que se desprendan de ella u otros objetos aéreos.
B31: HURTO CALIFICADO | E31: La aseguradora se compromete a indemnizar al asegurado la pérdida o daño material que sufran los valores asegurados como consecuencia de hurto calificado (de acuerdo con su definición legal), suministro de sustancias a los transportadores de los valores que provoquen doblegación de la voluntad, apoderamiento forzoso del medio de transporte.
B32: HURTO SIMPLE | E32: La aseguradora se compromete a indemnizar al asegurado la pérdida o daño material que sufran los valores asegurados como consecuencia de hurto simple (de acuerdo con su definición legal).
B33: GASTOS ADICIONALES Sublímite $160.000.000 (vigencia 4.5.) | E33: La aseguradora se compromete a pagar al asegurado los gastos razonables y debidamente justificados en que incurra el asegurado para evitar la extensión y propagación del siniestro o para el manejo del salvamento de los valores asegurados
B34: GASTOS PARA LA PREPARACIÓN Y DEMOSTRACIÓN DEL SINIESTRO | E34: Bajo este amparo se cubren los gastos razonables en que incurra o deba incurrir el asegurado, para la preparación y demostración de la ocurrencia y cuantía del siniestro y serán indemnizados bajo esta póliza. La aseguradora indemnizará hasta el 100% de los gastos demostrados. El seguro de esta póliza incluye los costos razonables y sustentables incurridos por el Asegurado (incluida la utilización por parte del Asegurado de consultores externos) para la preparación, presentación, demostración, certificación y / o verificación de cualquier reclamación resultante de la pérdida asegurada bajo esta póliza. Esta póliza se extiende para incluir los costos y gastos incurridos por el asegurado o por los representantes de cualquier asegurado (Ajustadores/Liquidadores/Reguladores, Abogados, Contadores, Expertos, asesores, especialistas, profesionales de siniestros y similares, etc.) en la preparación, justificación y demostración del monto de cualquier reclamación bajo esta póliza
B35: HUELGA - INCLUIDO ACTOS MAL INTENCIONADOS DE TERCEROS, HUELGA, ASONADA, SUSPENSIÓN DE HECHO DE LABORES, SUSPENSIÓN DE TRABAJO POR CIERRE PATRONAL, DISTURBIOS DE TRABAJO, MOTINES, CONMOCIONES CIVILES, ACTOS SUBVERSIVOS, TERRORISMO Y APODERAMIENTO O DESVÍO DE NAVES O AERONAVES. | E35: La aseguradora se compromete a indemnizar hasta el límite del valor asegurado los daños materiales o pérdidas que sufran los valores asegurados como consecuencia de actos mal intencionados de terceros, huelga, asonada, suspensión de hecho de labores, suspensión de trabajo por cierre patronal, disturbios de trabajo, motines, conmociones civiles, actos subversivos, terrorismo y apoderamiento o desvío de naves o aeronaves.
B36: PERMANENCIA EN LUGARES INICIALES, INTERMEDIOS O FINALES, DENTRO O FUERA DE CAJA FUERTE | E36: La aseguradora se compromete a indemnizar hasta el límite del valor, las pérdidas que sufran los valores asegurados por la permanencia en lugares iniciales, intermedios o finales y que ésten dentro o fuera de caja fuerte.
B37: MOVILIZACIONES EN TRAYECTOS MÚLTIPLES | E37: La aseguradora acepta expresamente que otorga cobertura para los dineros y valores que sean transportados por el asegurado en trayectos múltiples, entiendase por estos cuando el mensajero o personal que realiza la movilización de los bienes objeto de este seguro deba movilizarse o desplazarse por varios trayectos con los valores amparados bajo la presente póliza, sin importar los lugares que deba recorrer en el territorio colombiano o fuera de este.
B38: ACTOS DE AUTORIDAD | E38: La póliza se extiende a cubrir los daños o pérdidas materiales de los bienes asegurados, causados directamente por la acción de la autoridad legalmente constituida, ejercida con el fin de disminuir o aminorar las consecuencias de cualquiera de los riesgos amparados. Se excluye la confiscación de bienes.
B39: 4.7. | C39: CLÁUSULAS BÁSICAS
B40: REVOCACIÓN DE LA PÓLIZA, CLÁUSULAS O CONDICIONES. Con Termino de ciento veinte (120) días y para AMIT, AMCCOPH, Terrorismo y Sabotaje treinta (30) días. | E40: La aseguradora podrá revocar la póliza, cláusulas o condiciones unilateralmente por la compañía, mediante noticia escrita enviada al asegurado, a su última dirección registrada, con no menos de ciento veinte (120) días y para AMIT Y AMCCOPH treinta (30) días, de antelación; contados a partir de la fecha del envío. El asegurado podra pedir la revocación en cualquier momento, según lo previsto en el Código de Comercio. Así mismo, en el caso de que la aseguradora decida no otorgar renovación o prorroga del contrato de seguro, excepto para AMIT, AMCCOPH, Terrorismo y Sabotaje, deberá dar aviso de ello al asegurado con no menos de ciento veinte (120) días de antelación a la fecha de vencimiento de la póliza, en caso contrario se dará por entendido que la aseguradora acepta la renovación o prorroga hasta el límite legal establecido en la Ley 80 de 1993, para la adición de los contratos y manteniendo las mismas condiciones ofertadas en este proceso de aseguradoras.
B41: COSTAS EN JUICIO, HONORARIOS PROFESIONALES Y SELECCIÓN DE PROFESIONALES PARA LA DEFENSA. Sublímite del 20% del límite asegurado. (vigencia 2.3.2.) | E41: El tomador está obligado a declarar sinceramente los hechos y circunstancias que determinen el estado del riesgo. La inexactitud sobre hechos o circunstancias que, conocidas por la compañía, la hubieren retraído de celebrar el contrato o inducido a estipular condiciones más onerosas, produce la nulidad relativa del seguro. Sin embargo, si se incurriere en errores, omisiones e inexactitudes inculpables al tomador o al asegurado, el contrato no será nulo ni habrá lugar a la aplicación del inciso tercero del artículo 1058 del Código de Comercio sobre reducción porcentual de la prestación asegurada. En este caso se deberá pagar la prima adecuada al verdadero estado del riesgo.
B42: AMPLIACIÓN DEL AVISO DE SINIESTRO. Término de noventa (90) días . | E42: La póliza extiende el término de aviso de la ocurrencia del siniestro, por parte del asegurado en el término señalado y siguientes a la fecha en que lo haya conocido o debido conocer.
B43: CONOCIMIENTO DEL RIESGO | E43: La Compañía acepta mediante la presente cláusula que la Entidad, le ha brindado la oportunidad para realizar la inspección de los bienes y riesgos a que están sujetos los mismos y el patrimonio del Asegurado, razón por la cual se deja constancia del conocimiento y aceptación de los hechos, circunstancias y, en general, condiciones de los mismos. La compañía se reserva el derecho de llevar a cabo la inspección cuantas veces lo juzgue pertinente.
...

Sheet G.1 -5. C. B TRANSP. MCIAS.
B3: FISCALÍA GENERAL DE LA NACIÓN
B4: ANEXO No. 15A - CONDICIONES TECNICAS BÁSICAS OBLIGATORIAS
B5: GRUPO No. 1
B7: 5. PÓLIZA DE TRANSPORTE DE MERCANCÍAS
B8: 5.1. | C8: INFORMACIÓN GENERAL
B9: TOMADOR: | C9: FISCALIA GENERAL DE LA NACIÓN | F9: NIT. | G9: 800.152.783-2
B10: ASEGURADO: | C10: FISCALIA GENERAL DE LA NACIÓN Y/O FONDO ESPECIAL PARA LA ADMINISTRACIÓN DE BIENES FEAB | F10: NIT. | G10: 800.152.783-2 / 901.148.337-1
B11: BENEFICIARIO: | C11: =+C9 -> FISCALIA GENERAL DE LA NACIÓN | F11: NIT. | G11: =+G10 -> 800.152.783-2 / 901.148.337-1
B12: 5.2. | C12: OBJETO DEL SEGURO
B13: Amparar automáticamente los daños o pérdidas que sufran los bienes de propiedad o por las que sean legalmente responsables la Fiscalía General de la Nación y el Fondo Especial para la Administración de Bienes con ocasión de su movilización por cualquier medio de transporte.
B14: 5.3. | C14: LÍMITE ASEGURADO POR DESPACHO | F14: 1500000000
C15: Sublímite para transporte de parte y componentes de la Aeronave en el exterior Para lo cual en el momento de requerirse se cobrará a la misma tasa ofertada y se debe expedir certificado aplicable a la póliza a la mismas condiciones contratadas y estipulaciones del contrato con el fabricante y/o taller que realiza el mantenimiento. | F15: US$4.000.000
C16: LÍMITE PARA VEHÍCULOS MOVILIZADOS POR SUS PROPIOS MEDIOS (INCAUTADOS) Se califica en Condiciones Adicionales (Anexo No. 16) el aumento del límite ofrecido. | F16: 500000000
B17: 5.3.1. | C17: Presupuesto anual de movilización | F17: 60531511468
B18: 5.4. | C18: TRAYECTOS ASEGURADOS
B19: Importaciones, Exportaciones y Reexportaciones: Desde cualquier lugar del mundo, hasta su destino final en Colombia y viceversa, bodega a bodega. Despachos en el Exterior: Desde y hasta cualquier ciudad en el país donde se realice el mantenimiento de la aeronave Despachos Nacionales: Desde y hasta cualquier ciudad en el territorio nacional. Despachos Urbanos: Desde cualquier parte de la ciudad hasta su destino final en la misma.
B20: 5.4.1. | C20: Medios de Transporte y alcance de la cobertura
B21: Cualquier vehículo propio, de terceros o de firma especializada, ya sea terrestre, ferreo, aéreo, charter, marítimo y fluvial (incluso para las maritimas y fluviales que no se encuentren clasificadas por las autoridades competentes), y cualquier otro que el asegurado deba utilizar para el transporte de los bienes objeto de este seguro, aclarando que la póliza cubre todo tipo de medio de movilización sin excepción y sin restricción de horarios para la movilización, sin limitación por la edad de los vehiculos, incluido los bienes transportados en vehículos arrendados, incautados, de funcionarios o contratistas de la entidad o de terceros.
B22: 5.5. | C22: SISTEMA DE COBRO DE PRIMA
B23: La aseguradora acepta como sistema de cobro un único anual (o con base en las vigencias contratadas y con pago por vigencia fiscal) sobre el valor del presupuesto anual indicado sin reportes y sin ajuste al final de la vigencia. No obstante lo anterior, la aseguradora no dará aplicación a la cláusula de falta de avisos o aplicaciones a la presente póliza, manteniendo de esta forma la cobertura durante la vigencia estipulada en la carátula de la póliza.
B24: 5.6. | C24: DEFINIÓN DE MERCANCIAS
B25: Los bienes que dentro de su actividad el asegurado importa y/o exporte, así como las movilizaciones que realice en el territorio Colombiano por cualquier medio de transporte, entre otros, papelería, equipos de oficina, mercancías y materia prima, maquinaria, repuestos y demás bienes propios de la actividad del asegurado, extendido al transporte de sustancias controladas.
B26: 5.6.1. | C26: Cobertura para maquinaria, equipo o mercancía usada sin límite de antigüedad
B27: Por la presente clausula la compañía extiende la cobertura para bienes consistentes en maquinaria, bienes, equipos o mercancías usada, sin importar su fecha de fabricación, con sujeción a los ampaos y condiciones pactadas con la presente póliza, y hasta por la suma sin importar su fecha de fabricación, con sujeción a los amparos y condiciones pactadas con a presente póliza, y hasta por la suma máxima arriba indicada, conviniéndose que en caso de siniestro la indemnización de las pérdidas se basará en los siguientes términos: A. Pérdidas o daños parciales: La compañía indemnizara los gastos en que necesariamente se incurra para dejar el bien asegurado en condiciones similares a las inmediatamente antes de la ocurrencia del siniestro. Por tales gastos se entenderá el costo de reparación o reemplazo de las partes afectadas incluyendo los valores correspondientes a fletes equivalentes al medio de transporte del despacho original, y gastos de aduana, si hubiera lugar a ello. Si el momento de ocurrir el siniestro, el valor de reposición del bien afectado es superior al valor asegurado, la compañía responderá solamente en forma proporcional a la relación existente entre dichos valores. B. Pérdida Total: En caso de desaparición, destrucción o daños del bien asegurado en forma tal que para su recuperación o reparación se tenga que sufragar gastos iguales o superiores al valor real del bien asegurado, la responsabilidad de la compañía se limitará al valor asegurado o al valor real, el que resulte menor de las dos sumas. Parágrafo: de la suma a indemnizar se descontará el deducible a que hubiere lugar; y el valor resultante se incrementará en el porcentaje pactado por concepto de lucro cesante
B28: 5.7. | C28: BASE PARA LA DETERMINACIÓN Y APLICACIÓN DEL CONCEPTO SUBLÍMITE / VIGENCIA / AGREGADO ANUAL
