Workbook

Sheet Dane Central
G1: CODIGO: GCO-040-PDT-002-f-016
G2: VERSION: 6
A3: Objeto del contrato: | B3: Mantenimiento de Planta Eléctrica Dane Central
A4: Descripción del bien o servicio | B4: Cantidad | C4: OOPC INGENIERIA S.A.S | D4: SURAMERICANA DE VIDEO Y SONIDO SAS | E4: MULTISTT SAS | F4: INGENIERIA DOMOTICA HJC SAS | G4: Valor Unitario Promedio Incluido IVA | H4: Valor Unitario Promedio Incluido IVA (redondeado) | I4: Valor total promedio por ítem (para cantidad requerida) incluido IVA
C5: 46085 | D5: 46086 | E5: 46083 | F5: 46087
C6: Valor unitario incluido IVA | D6: Valor unitario incluido IVA | E6: Valor unitario incluido IVA | F6: Valor unitario incluido IVA
A7: INSPECCIÓN GENERAL - Limpieza General. - Revisión periódica. - Ajustes mecánicos en elementos que lo requieran. - Revisiones preventivas solicitadas por el supervisor. | B7: 1 | C7: 456301.93 | D7: 1041250 | E7: 1190000 | F7: 504758.75 | G7: =(C7+D7+E7+F7)/4 -> 798077.67 | H7: =ROUNDUP(G7,0) -> 798078 | I7: =H7*B7 -> 798078
A8: SISTEMA DE COMBUSTIBLE. - Comprobar conexiones de las tuberías y mangueras de suministro y retorno de combustible. - Inspección de llaves de corte en la línea de suministro de combustible. - Drenaje de los tanques de almacenamiento diario y principal de combustible para liberar de residuos. - Chequear nivel de combustible en los tanques de almacenamiento diario y principal. - Verificar operación del sensor de nivel de combustible eléctrico o mecánico en los tanques según sea el elemento instalado. - Verificación de la operación de la bomba eléctrica de llenado de combustible desde el tanque de almacenamiento principal hacia el diario y de la válvula solenoide de corte si está instalada. - Verificar la existencia de fugas de combustibles en los filtros. En caso afirmativo, corregir. - Verificar la existencia de fugas de combustible en las tuberías de inyección. En caso afirmativo, corregir. - Comprobar la operación de la bomba de inyección y solenoide. - Verificar operación de la bomba de transferencia. - Comprobar funcionamiento del sistema de gobernador. Esto es “magnetic pick-up” tarjeta gobernadora y actuador. Ajustar el sistema si se requiere. | B8: 1 | C8: 620803.96 | D8: 966875 | E8: 595000 | F8: 686730 | G8: =(C8+D8+E8+F8)/4 -> 717352.24 | H8: =ROUNDUP(G8,0) -> 717353 | I8: =H8*B8 -> 717353
A9: SISTEMA DE LUBRICACIÓN. - Verificar nivel y estado de aceite en el motor. Completar si es necesario. - Verificar la existencia de fugas lubricantes en los filtros. En caso afirmativo, corregir. | B9: 1 | C9: 326314.66 | D9: 892500 | E9: 595000 | F9: 360967.5 | G9: =(C9+D9+E9+F9)/4 -> 543695.54 | H9: =ROUNDUP(G9,0) -> 543696 | I9: =H9*B9 -> 543696
A10: - Suministro con cambio de aceite y filtros de aceite, combustible, aire y refrigerante (realizado una única vez en el contrato acordado con el supervisor del contrato) | B10: 1 | C10: 3459465.7 | D10: 4165000 | E10: 1190000 | F10: 3826842.5 | G10: =(C10+D10+E10+F10)/4 -> 3160327 | H10: =ROUNDUP(G10,0) -> 3160328 | I10: =H10*B10 -> 3160328
A11: SISTEMA DE REFRIGERACIÓN. - Comprobar estado y ajuste de las correas y cambio cuando se requiera. - Verificar estado del radiador, mangueras y remplazarlas si se encuentran en mal estado. - Limpieza y lavado de radiador y ventilador. - Comprobar refrigerante y su nivel, cambio y renovación cuando se requiera, suministrando el aditivo recomendado por el fabricante. - Chequear estado del ventilador, poleas y bombas de agua. - Revisión de filtro de refrigerante. - Revisión precalentador, mangueras y conexiones. - Verificar operación del sistema de refrigerante. | B11: 1 | C11: 622147.47 | D11: 966875 | E11: 595000 | F11: 688217.5 | G11: =(C11+D11+E11+F11)/4 -> 718059.99 | H11: =ROUNDUP(G11,0) -> 718060 | I11: =H11*B11 -> 718060
A12: SISTEMA DE ADMISIÓN DE AIRE. - Inspeccionar ducto de entrada de aire al tubo cargador. - Ajustar abrazaderas. - Limpiar el elemento del filtro purificador de aire. | B12: 1 | C12: 434338.1 | D12: 595000 | E12: 595000 | F12: 480462.5 | G12: =(C12+D12+E12+F12)/4 -> 526200.15 | H12: =ROUNDUP(G12,0) -> 526201 | I12: =H12*B12 -> 526201
A13: SISTEMA DE ESCAPE. - Revisión del sistema de escape (acople flexible, silenciador, tubos conductores de gases, curvas, empaques, soportes, abrazaderas, aislamiento térmico, empaquetaduras). Dicha revisión se deberá efectuar a lo largo de la tubería. - Inspeccionar la apariencia de los gases de escape generados. | B13: 1 | C13: 380101.47 | D13: 595000 | E13: 595000 | F13: 387246.25 | G13: =(C13+D13+E13+F13)/4 -> 489336.93 | H13: =ROUNDUP(G13,0) -> 489337 | I13: =H13*B13 -> 489337
A14: SISTEMA DE AMORTIGUACIÓN. - Verificar el estado de los amortiguadores de vibración (tipo resorte o caucho) que se encuentran entre la base de la planta y el piso de concreto y adicionalmente los amortiguadores que pueda tener el generador contra la base metálica. | B14: 1 | C14: 499101.47 | D14: 520625 | E14: 595000 | F14: 420467.5 | G14: =(C14+D14+E14+F14)/4 -> 508798.49 | H14: =ROUNDUP(G14,0) -> 508799 | I14: =H14*B14 -> 508799
A15: ADMISIÓN Y ESCAPE DE AIRE - Comprobar la zona alrededor de las aberturas de admisión y escape de aire de admisión del ventilador para asegurarse que está limpio y sin obstrucciones. - Limpiar la malla de protección. (Mantenimiento periódico) | B15: 1 | C15: 415282.63 | D15: 446250 | E15: 595000 | F15: 327746.25 | G15: =(C15+D15+E15+F15)/4 -> 446069.72 | H15: =ROUNDUP(G15,0) -> 446070 | I15: =H15*B15 -> 446070
A16: CONEXIONES ELÉCTRICAS - Inspeccionar si hay cables sueltos o flojos, realizar el ajuste mecánico correspondiente. - Revisar el estado del aislamiento de los cables: rasgados, agrietados, quemados, etc., si se encuentran en alguno de estas condiciones se deberán cambiar. - Comprobar el estado de los diodos rectificadores. - Determinar el estado del varistor supresor de sobre tensiones; Si se ve en mal estado, defectuoso, agrietado o quemado; se deberá reemplazar. - Revisión de batería (corriente de arranque, caída de tensión, estado de bornes, densidad de electrolito). - Inspección de arnés de control. | B16: 1 | C16: 608022.17 | D16: 669375 | E16: 595000 | F16: 540955 | G16: =(C16+D16+E16+F16)/4 -> 603338.04 | H16: =ROUNDUP(G16,0) -> 603339 | I16: =H16*B16 -> 603339
A17: GENERACIÓN. - Ajustar voltaje, frecuencia y estabilidad en el regulador de voltaje, si es necesario. - Revisión de encendido automático. /subestación (transferencia automática sistema ATS). Previa coordinación con supervisor y las áreas involucradas. - Pruebas defucnionamiento con carga y sin carga | B17: 1 | C17: 560601.86 | D17: 669375 | E17: 595000 | F17: 521121.25 | G17: =(C17+D17+E17+F17)/4 -> 586524.53 | H17: =ROUNDUP(G17,0) -> 586525 | I17: =H17*B17 -> 586525
A18: SISTEMA DE ELÉCTRICO. - Comprobar operación del cargador de baterías - Limpieza y comprobación del estado de los terminales de conexión de las baterías. - Verificar la operación de los indicadores de presión de aceite, temperatura, voltímetro de batería, indicador del nivel de combustible y horómetro, ubicados en el tablero de control del motor generador. - Comprobar el funcionamiento de los amperímetros, frecuencímetro, voltímetros y selectores (de voltímetro, amperímetro, de arranque y parada de selección de funcionamiento) e indicadores luminosos, leds de alarmas. - Comprobar correcto funcionamiento del regulador electrónico de velocidad. Ajustar velocidad, ganancia y caída (droop), si se requiere. - Verificar operación de regulador de voltaje automático (AVR). - Simular pruebas de operación de las protecciones por alta temperatura, baja presión de aceite, sobre arranque y sobre velocidad. | B18: 1 | C18: 523263.23 | D18: 669375 | E18: 595000 | F18: 486412.5 | G18: =(C18+D18+E18+F18)/4 -> 568512.68 | H18: =ROUNDUP(G18,0) -> 568513 | I18: =H18*B18 -> 568513
A19: SISTEMA DE TRANSFERENCIA AUTOMÁTICA Y TABLEROS DE DISTRIBUCIÓN. - Comprobar funcionamiento de las lámparas o LEDS de señalización que indican el estado de operación de la transferencia del motor generador. - Revisar conexión del sistema de puesta a tierra. - Ajuste mecánico en terminales eléctricos. - Prueba del enclavamiento mecánico y eléctrico de los contadores y/o interruptores. - Revisión de la etapa de control o mando. - Ajuste de los sensores de sobre tensión y subtensión en la red comercial y en la planta eléctrica si se requiere. - Ajuste de los temporizadores que controlan la transferencia de red a planta, de planta a red y tiempo de enfriamiento de la planta si se requiere. - Pruebas de la transferencia en automático y manual. - Limpieza general de contactos eléctricos. - Limpieza de terminales en caso presentar sulfatación. - Ajuste del control y sistema de precalentamiento. (Mantenimiento periódico) | B19: 1 | C19: 806371.37 | D19: 669375 | E19: 1190000 | F19: 892005 | G19: =(C19+D19+E19+F19)/4 -> 889437.84 | H19: =ROUNDUP(G19,0) -> 889438 | I19: =H19*B19 -> 889438
A20: Total | B20: =COUNTIF(A7:A19,"*") -> 13 | C20: =SUM(C7:C19) -> 9712116 | D20: =SUM(D7:D19) -> 12866875 | E20: =SUM(E7:E19) -> 9520000 | F20: =SUM(F7:F19) -> 10123932 | G20: =(C20+D20+E20+F20)/4 -> 10555731 | H20: =ROUNDUP(G20,0) -> 10555731 | I20: =SUM(I7:I19) -> 10555737
A21: Observaciones:
A24: Elaborado: Revisado: Aprobado:

Sheet DT - Centro - Alamos
C1: CONSOLIDADO ESTUDIO DE LA OFERTA | K1: CODIGO: GCO-040-PDT-002-f-016
K2: VERSION: 6
A3: Objeto del contrato: | B3: Mantenimiento de planta electrica DT Centro Alamos
A4: Descripción del bien o servicio | B4: Cantidad | C4: JAILM BUILDER SAS | D4: PARDO SOLUCIONES Y SERVICIOS INTEGRALES | E4: ETINCOL | F4: ETINCOL | G4: MW MANTENIMIENTOS SAS | H4: EXPERTOS INGENIEROS | I4: EXPERTOS INGENIEROS | J4: MW MANTENIMIENTOS SAS | K4: Valor Unitario Promedio Incluido IVA | L4: Valor Unitario Promedio Incluido IVA (redondeado) | M4: Valor total promedio por ítem (para cantidad requerida) incluido IVA
C5: 46084 | D5: 46084 | E5: RECEPCIONADA 2025 | F5: RECEPCIONADA 2025 | G5: RECEPCIONADA 2025 | H5: RECEPCIONADA 2025 | I5: RECEPCIONADA 2025 | J5: RECEPCIONADA 2025
C6: Valor unitario incluido IVA | D6: Valor unitario incluido IVA | E6: Valor unitario incluido IVA | F6: Valor unitario incluido IVA | G6: Valor unitario incluido IVA | H6: Valor unitario incluido IVA | I6: Valor unitario incluido IVA | J6: Valor unitario incluido IVA
A7: INSPECCION GENERAL Limpieza General. Revisión periódica Chequeo de vibraciones y ruidos. Revisiones preventivas solicitadas por el supervisor Limpiear la cuba de sedimentos de la bomba de alimentación Inspeccionar bujiaas del precalentador, nucleo del postenfriador y radiador Revisión general y limpieza del grupo electrogeno | B7: 1 | C7: 33022 | D7: 535500 | E7: 297500 | F7: =+(E7*5.1%)+E7 -> 312672.5 | G7: 83300 | H7: 17850 | I7: =+(H7*5.1%)+H7 -> 18760.35 | J7: =+(G7*5.1%)+G7 -> 87548.3 | K7: =(C7+D7+J7+F7+I7)/5 -> 197500.63 | L7: =ROUNDUP(K7,0) -> 197501 | M7: =L7*B7 -> 197501
A8: SISTEMA DE COMBUSTIBLE Comprobar conexiones de las tuberías y mangueras de suministro y retorno de combustible. Inspección de las llaves de corte en la línea de suministro de combustible. Inspeccionar el prefiltros y filtro de combustible Inspeccionar, limpiar y ajustar el sistema de inyección (bomba de inyección, inyectores, comprobar y ajustar presión de inyección) Drenaje de los tanques de almacenamiento principal de combustible para liberar de sedimentos. Inspeccionar y limpiar el impulsor, turbina y carcasa del turbocompresor Inspeccionar y limpiar cámara de decantación, colador y bomba de combustible Chequear nivel de combustible en los tanques de almacenamiento diario y principal. Verificar operación del sensor mecánico de nivel de combustible instalado Verificar la existencia de fugas de combustibles en los filtros. En caso afirmativo, corregir Comprobar la operación de la bomba de inyección y solenoide (si está instalada) Verificar operación de la bomba de transferencia. Comprobar funcionamiento del sistema de gobernador. Ajustar el sistema si se requiere. Realizar el trasiego de ACPM desde el tanque de reserva hacia el tanque sub base de la planta eléctrica, garantizando un procedimiento seguro, continuo y conforme a los lineamientos técnicos establecidos para la manipulación de combustibles líquidos | B8: 1 | C8: 33022 | D8: 535500 | E8: 238000 | F8: =+(E8*5.1%)+E8 -> 250138 | G8: 59500 | H8: 17850 | I8: =+(H8*5.1%)+H8 -> 18760.35 | J8: =+(G8*5.1%)+G8 -> 62534.5 | K8: =(C8+D8+J8+F8+I8)/5 -> 179990.97 | L8: =ROUNDUP(K8,0) -> 179991 | M8: =L8*B8 -> 179991
A9: SISTEMA DE LUBRICACIÓN Verificar nivel y estado de aceite en el motor. Completar si es necesario. Drenar el agua y sedimentos en el prefiltros (separador de agua). Inspeccionar filtro de aceite Verificar la existencia de fugas lubricantes en los filtros. En caso afirmativo, corregir. Inspeccionar y limpiar el tubo de retorno del aceite. | B9: 1 | C9: 33022 | D9: 238000 | E9: 130900 | F9: =+(E9*5.1%)+E9 -> 137575.9 | G9: 59500 | H9: 1700 | I9: =+(H9*5.1%)+H9 -> 1786.7 | J9: =+(G9*5.1%)+G9 -> 62534.5 | K9: =(C9+D9+J9+F9+I9)/5 -> 94583.82 | L9: =ROUNDUP(K9,0) -> 94584 | M9: =L9*B9 -> 94584
A10: Suministro y cambio de aceite y filtros (aceite, combustible, aire y refrigerante), se presenta una única vez en el contrato en fecha acordada con el supervisor. | B10: 1 | C10: 33022 | D10: 4760000 | E10: 4000000 | F10: =+(E10*5.1%)+E10 -> 4204000 | G10: 3439100 | H10: 1190000 | I10: =+(H10*5.1%)+H10 -> 1250690 | J10: =+(G10*5.1%)+G10 -> 3614494.1 | K10: =(C10+D10+J10+F10+I10)/5 -> 2772441.2 | L10: =ROUNDUP(K10,0) -> 2772442 | M10: =L10*B10 -> 2772442
A11: SISTEMA DE REFRIGERACIÓN Comprobar estado y ajuste de las correas Verificar estado del radiador y de las mangueras Limpieza del radiador y ventilador. Comprobar refrigerante y su nivel, nivelación cuando se requiera, suministrando el aditivo recomendado por el fabricante. Chequear estado del ventilador, poleas y bombas de agua. Revisión de filtro de refrigerante. (si aplica). Revisión de mangueras y conexiones del precalentador de agua. Verificar operación del sistema de refrigerante. | B11: 1 | C11: 33022 | D11: 499800 | E11: 190400 | F11: =+(E11*5.1%)+E11 -> 200110.4 | G11: 59500 | H11: 17850 | I11: =+(H11*5.1%)+H11 -> 18760.35 | J11: =+(G11*5.1%)+G11 -> 62534.5 | K11: =(C11+D11+J11+F11+I11)/5 -> 162845.45 | L11: =ROUNDUP(K11,0) -> 162846 | M11: =L11*B11 -> 162846
A12: SISTEMA DE ADMISIÓN DE AIRE Inspeccionar ducto de entrada de aire al tubo cargador. Revisar y limpiar filtro de aire Inspeccionar y limpiar el sistema de ventilación Ajustar abrazaderas. Examinar las correas de arrastre y su tensión Examinar el indicador del estado del filtro de aire, si lo tiene. | B12: 1 | C12: 33022 | D12: 476000 | E12: 119000 | F12: =+(E12*5.1%)+E12 -> 125069 | G12: 47600 | H12: 17850 | I12: =+(H12*5.1%)+H12 -> 18760.35 | J12: =+(G12*5.1%)+G12 -> 50027.6 | K12: =(C12+D12+J12+F12+I12)/5 -> 140575.79 | L12: =ROUNDUP(K12,0) -> 140576 | M12: =L12*B12 -> 140576
A13: SISTEMA DE ESCAPE Revisión del sistema de escape (acople flexible, silenciador, tubos conductores de gases, curvas, empaques, soportes, abrazaderas, aislamiento térmico, empaquetaduras Revisión de fugas o de desgaste de material aislante térmico en el sistema de escape | B13: 1 | C13: 33022 | D13: 357000 | E13: 119000 | F13: =+(E13*5.1%)+E13 -> 125069 | G13: 47600 | H13: 17850 | I13: =+(H13*5.1%)+H13 -> 18760.35 | J13: =+(G13*5.1%)+G13 -> 50027.6 | K13: =(C13+D13+J13+F13+I13)/5 -> 116775.79 | L13: =ROUNDUP(K13,0) -> 116776 | M13: =L13*B13 -> 116776
A14: SISTEMA DE AMORTIGUACIÓN Verificar el estado de los amortiguadores de vibración (tipo resorte o caucho) que se encuentran entre la base de la planta y el piso de concreto y adicionalmente los amortiguadores que pueda tener el generador contra la base metálica. | B14: 1 | C14: 26418 | D14: 416500 | E14: 59500 | F14: =+(E14*5.1%)+E14 -> 62534.5 | G14: 47600 | H14: 17850 | I14: =+(H14*5.1%)+H14 -> 18760.35 | J14: =+(G14*5.1%)+G14 -> 50027.6 | K14: =(C14+D14+J14+F14+I14)/5 -> 114848.09 | L14: =ROUNDUP(K14,0) -> 114849 | M14: =L14*B14 -> 114849
A15: ADMISIÓN Y ESCAPE DE AIRE Comprobar la zona alrededor de las aberturas de admisión y escape de aire de admisión del ventilador para asegurarse que está limpio y sin obstrucciones. Limpiar la malla de protección | B15: 1 | C15: 26418 | D15: 357000 | E15: 95200 | F15: =+(E15*5.1%)+E15 -> 100055.2 | G15: 47600 | H15: 14280 | I15: =+(H15*5.1%)+H15 -> 15008.28 | J15: =+(G15*5.1%)+G15 -> 50027.6 | K15: =(C15+D15+J15+F15+I15)/5 -> 109701.82 | L15: =ROUNDUP(K15,0) -> 109702 | M15: =L15*B15 -> 109702
A16: CONEXIONES ELÉCTRICAS Inspeccionar el sistema electrónico, incluyendo el sistema de gobernación, batería, alternador y electrolito de la batería, colección a tierra y demás componentes. Inspeccionar y ajustar el panel eléctrico y caja de trasferencia Inspeccionar si hay cables sueltos o flojos. Revisar el estado del aislamiento de los cables: rasgados, agrietados, quemados, etc Comprobar el estado de los diodos rectificadores, Determinar el estado del varistor supresor de sobre tensiones. Revisión de batería (corriente de arranque, voltajes, bornes y estado general) | B16: 1 | C16: 22015 | D16: 476000 | E16: 178500 | F16: =+(E16*5.1%)+E16 -> 187603.5 | G16: 71400 | H16: 14280 | I16: =+(H16*5.1%)+H16 -> 15008.28 | J16: =+(G16*5.1%)+G16 -> 75041.4 | K16: =(C16+D16+J16+F16+I16)/5 -> 155133.64 | L16: =ROUNDUP(K16,0) -> 155134 | M16: =L16*B16 -> 155134
A17: GENERACIÓN Ajustar voltaje, frecuencia y estabilidad en el regulador de voltaje, si es necesario. Revisión de encendido automático /subestación (transferencia automática sistema ATS). (Mantenimiento periódico) | B17: 1 | C17: 22015 | D17: 416500 | E17: 297500 | F17: =+(E17*5.1%)+E17 -> 312672.5 | G17: 59500 | H17: 11900 | I17: =+(H17*5.1%)+H17 -> 12506.9 | J17: =+(G17*5.1%)+G17 -> 62534.5 | K17: =(C17+D17+J17+F17+I17)/5 -> 165245.78 | L17: =ROUNDUP(K17,0) -> 165246 | M17: =L17*B17 -> 165246
A18: SISTEMA DE ELÉCTRICO Comprobar operación del sistema de carga de baterías. Comprobar nivel de electrolito en las baterías de arranque. Limpieza y comprobación del estado de los bornes de conexión de las baterías. Verificar la operación de los indicadores de presión de aceite, temperatura, voltímetro de batería, indicador del nivel de combustible y horómetro ubicados en el tablero de control del motor generador. Inspeccionar y ajustar el tablero de control de mediciones para visualizar con caracteres alfanuméricos en la pantalla digital de la planta. Comprobar correcto funcionamiento del regulador electrónico de velocidad. Ajustar velocidad, ganancia y caída (droop), si se requiere. Verificar operación de regulador de voltaje automático (AVR). Similares pruebas de operación de las protecciones por alta temperatura, baja presión de aceite, sobre arranque y sobre velocidad. Verificar alimentación eléctrica al precalentador. | B18: 1 | C18: 1166200 | D18: 357000 | E18: 95200 | F18: =+(E18*5.1%)+E18 -> 100055.2 | G18: 59500 | H18: 11900 | I18: =+(H18*5.1%)+H18 -> 12506.9 | J18: =+(G18*5.1%)+G18 -> 62534.5 | K18: =(C18+D18+J18+F18+I18)/5 -> 339659.32 | L18: =ROUNDUP(K18,0) -> 339660 | M18: =L18*B18 -> 339660
A19: SISTEMA DE TRANSFERENCIA AUTOMÁTICA Y TABLEROS DE DISTRIBUCIÓN Comprobación del funcionamiento de las lámparas o LEDS de señalización que indican el estado de operación de la transferencia del motor generador. Revisar conexión del sistema de puesta a tierra. Ajuste de terminales eléctricos. Prueba de la etapa de potencia: prueba del enclavamiento mecánico y eléctrico de los contadores y/o interruptores. Revisión de la etapa de control o mando. Ajuste de los sensores de sobre tensión y subtensión en la red comercial y en la planta eléctrica si se requiere. Ajuste de los temporizadores que controlan la transferencia de red a planta, de planta a red y tiempos de enfriamiento de la planta. Pruebas de la transferencia en automático y manual. Limpieza general de contactos eléctricos. Limpieza de terminales en caso de presencia de sultatacion. Ajuste del control y sistema de precalentamiento. (Mantenimiento periódico) | B19: 1 | C19: 1166200 | D19: 809200 | E19: 297500 | F19: =+(E19*5.1%)+E19 -> 312672.5 | G19: 59500 | H19: 14280 | I19: =+(H19*5.1%)+H19 -> 15008.28 | J19: =+(G19*5.1%)+G19 -> 62534.5 | K19: =(C19+D19+J19+F19+I19)/5 -> 473123.06 | L19: =ROUNDUP(K19,0) -> 473124 | M19: =L19*B19 -> 473124
A20: Total | B20: =COUNTIF(A7:A19,"*") -> 13 | C20: =SUM(C7:C19) -> 2660420 | D20: =SUM(D7:D19) -> 10234000 | E20: =SUM(E7:E19) -> 6118200 | F20: =SUM(F7:F19) -> 6430228.2 | G20: =SUM(G7:G19) -> 4141200 | H20: =SUM(H7:H19) -> 1365440 | I20: =+(H20*5.1%)+H20 -> 1435077.4 | J20: =SUM(J7:J19) -> 4352401.2 | K20: =(C20+D20+J20+F20+I20)/5 -> 5022425.4 | L20: =ROUNDUP(K20,0) -> 5022426 | M20: =SUM(M7:M19) -> 5022431
A21: Observaciones:
A24: Elaborado: Revisado: Aprobado:

Sheet DT Sur Occidente
D1: CODIGO: GCO-040-PDT-002-f-016
D2: VERSION: 6
A3: Objeto del contrato: | B3: Mantenimiento de Planta Eléctrica Dane DT Sur Occidente
A4: Descripción del bien o servicio | B4: Cantidad | C4: Estimado de acuerdo a la potencia de la planta eléctrica | D4: Valor Unitario Promedio Incluido IVA | E4: Valor Unitario Promedio Incluido IVA (redondeado) | F4: Valor total promedio por ítem (para cantidad requerida) incluido IVA
C5: 46085
C6: Valor unitario incluido IVA
A7: INSPECCIÓN GENERAL - Limpieza General. - Revisión periódica. - Ajustes mecánicos en elementos que lo requieran. - Revisiones preventivas solicitadas por el supervisor. | B7: 1 | C7: =('Dane Central'!I7/3) -> 266026 | D7: =C7 -> 266026 | E7: =ROUNDUP(D7,0) -> 266026 | F7: =E7*B7 -> 266026
A8: SISTEMA DE COMBUSTIBLE. - Comprobar conexiones de las tuberías y mangueras de suministro y retorno de combustible. - Inspección de llaves de corte en la línea de suministro de combustible. - Drenaje de los tanques de almacenamiento diario y principal de combustible para liberar de residuos. - Chequear nivel de combustible en los tanques de almacenamiento diario y principal. - Verificar operación del sensor de nivel de combustible eléctrico o mecánico en los tanques según sea el elemento instalado. - Verificación de la operación de la bomba eléctrica de llenado de combustible desde el tanque de almacenamiento principal hacia el diario y de la válvula solenoide de corte si está instalada. - Verificar la existencia de fugas de combustibles en los filtros. En caso afirmativo, corregir. - Verificar la existencia de fugas de combustible en las tuberías de inyección. En caso afirmativo, corregir. - Comprobar la operación de la bomba de inyección y solenoide. - Verificar operación de la bomba de transferencia. - Comprobar funcionamiento del sistema de gobernador. Esto es “magnetic pick-up” tarjeta gobernadora y actuador. Ajustar el sistema si se requiere. | B8: 1 | C8: =('Dane Central'!I8/3) -> 239117.67 | D8: =C8 -> 239117.67 | E8: =ROUNDUP(D8,0) -> 239118 | F8: =E8*B8 -> 239118
A9: SISTEMA DE LUBRICACIÓN. - Verificar nivel y estado de aceite en el motor. Completar si es necesario. - Verificar la existencia de fugas lubricantes en los filtros. En caso afirmativo, corregir. | B9: 1 | C9: =('Dane Central'!I9/3) -> 181232 | D9: =C9 -> 181232 | E9: =ROUNDUP(D9,0) -> 181232 | F9: =E9*B9 -> 181232
A10: - Suministro con cambio de aceite y filtros de aceite, combustible, aire y refrigerante (realizado una única vez en el contrato acordado con el supervisor del contrato) | B10: 1 | C10: =('Dane Central'!I10/2.4) -> 1316803.3 | D10: =C10 -> 1316803.3 | E10: =ROUNDUP(D10,0) -> 1316804 | F10: =E10*B10 -> 1316804
A11: SISTEMA DE REFRIGERACIÓN. - Comprobar estado y ajuste de las correas y cambio cuando se requiera. - Verificar estado del radiador, mangueras y remplazarlas si se encuentran en mal estado. - Limpieza y lavado de radiador y ventilador. - Comprobar refrigerante y su nivel, cambio y renovación cuando se requiera, suministrando el aditivo recomendado por el fabricante. - Chequear estado del ventilador, poleas y bombas de agua. - Revisión de filtro de refrigerante. - Revisión precalentador, mangueras y conexiones. - Verificar operación del sistema de refrigerante. | B11: 1 | C11: =('Dane Central'!I11/3) -> 239353.33 | D11: =C11 -> 239353.33 | E11: =ROUNDUP(D11,0) -> 239354 | F11: =E11*B11 -> 239354
A12: SISTEMA DE ADMISIÓN DE AIRE. - Inspeccionar ducto de entrada de aire al tubo cargador. - Ajustar abrazaderas. - Limpiar el elemento del filtro purificador de aire. | B12: 1 | C12: =('Dane Central'!I12/3) -> 175400.33 | D12: =C12 -> 175400.33 | E12: =ROUNDUP(D12,0) -> 175401 | F12: =E12*B12 -> 175401
A13: SISTEMA DE ESCAPE. - Revisión del sistema de escape (acople flexible, silenciador, tubos conductores de gases, curvas, empaques, soportes, abrazaderas, aislamiento térmico, empaquetaduras). Dicha revisión se deberá efectuar a lo largo de la tubería. - Inspeccionar la apariencia de los gases de escape generados. | B13: 1 | C13: =('Dane Central'!I13/3) -> 163112.33 | D13: =C13 -> 163112.33 | E13: =ROUNDUP(D13,0) -> 163113 | F13: =E13*B13 -> 163113
A14: SISTEMA DE AMORTIGUACIÓN. - Verificar el estado de los amortiguadores de vibración (tipo resorte o caucho) que se encuentran entre la base de la planta y el piso de concreto y adicionalmente los amortiguadores que pueda tener el generador contra la base metálica. | B14: 1 | C14: =('Dane Central'!I14/3) -> 169599.67 | D14: =C14 -> 169599.67 | E14: =ROUNDUP(D14,0) -> 169600 | F14: =E14*B14 -> 169600
A15: ADMISIÓN Y ESCAPE DE AIRE - Comprobar la zona alrededor de las aberturas de admisión y escape de aire de admisión del ventilador para asegurarse que está limpio y sin obstrucciones. - Limpiar la malla de protección. (Mantenimiento periódico) | B15: 1 | C15: =('Dane Central'!I15/3) -> 148690 | D15: =C15 -> 148690 | E15: =ROUNDUP(D15,0) -> 148690 | F15: =E15*B15 -> 148690
A16: CONEXIONES ELÉCTRICAS - Inspeccionar si hay cables sueltos o flojos, realizar el ajuste mecánico correspondiente. - Revisar el estado del aislamiento de los cables: rasgados, agrietados, quemados, etc., si se encuentran en alguno de estas condiciones se deberán cambiar. - Comprobar el estado de los diodos rectificadores. - Determinar el estado del varistor supresor de sobre tensiones; Si se ve en mal estado, defectuoso, agrietado o quemado; se deberá reemplazar. - Revisión de batería (corriente de arranque, caída de tensión, estado de bornes, densidad de electrolito). - Inspección de arnés de control. | B16: 1 | C16: =('Dane Central'!I16/3) -> 201113 | D16: =C16 -> 201113 | E16: =ROUNDUP(D16,0) -> 201113 | F16: =E16*B16 -> 201113
A17: GENERACIÓN. - Ajustar voltaje, frecuencia y estabilidad en el regulador de voltaje, si es necesario. - Revisión de encendido automático. /subestación (transferencia automática sistema ATS). Previa coordinación con supervisor y las áreas involucradas. - Pruebas defucnionamiento con carga y sin carga | B17: 1 | C17: =('Dane Central'!I17/3) -> 195508.33 | D17: =C17 -> 195508.33 | E17: =ROUNDUP(D17,0) -> 195509 | F17: =E17*B17 -> 195509
A18: SISTEMA DE ELÉCTRICO. - Comprobar operación del cargador de baterías - Limpieza y comprobación del estado de los terminales de conexión de las baterías. - Verificar la operación de los indicadores de presión de aceite, temperatura, voltímetro de batería, indicador del nivel de combustible y horómetro, ubicados en el tablero de control del motor generador. - Comprobar el funcionamiento de los amperímetros, frecuencímetro, voltímetros y selectores (de voltímetro, amperímetro, de arranque y parada de selección de funcionamiento) e indicadores luminosos, leds de alarmas. - Comprobar correcto funcionamiento del regulador electrónico de velocidad. Ajustar velocidad, ganancia y caída (droop), si se requiere. - Verificar operación de regulador de voltaje automático (AVR). - Simular pruebas de operación de las protecciones por alta temperatura, baja presión de aceite, sobre arranque y sobre velocidad. | B18: 1 | C18: =('Dane Central'!I18/3) -> 189504.33 | D18: =C18 -> 189504.33 | E18: =ROUNDUP(D18,0) -> 189505 | F18: =E18*B18 -> 189505
A19: SISTEMA DE TRANSFERENCIA AUTOMÁTICA Y TABLEROS DE DISTRIBUCIÓN. - Comprobar funcionamiento de las lámparas o LEDS de señalización que indican el estado de operación de la transferencia del motor generador. - Revisar conexión del sistema de puesta a tierra. - Ajuste mecánico en terminales eléctricos. - Prueba del enclavamiento mecánico y eléctrico de los contadores y/o interruptores. - Revisión de la etapa de control o mando. - Ajuste de los sensores de sobre tensión y subtensión en la red comercial y en la planta eléctrica si se requiere. - Ajuste de los temporizadores que controlan la transferencia de red a planta, de planta a red y tiempo de enfriamiento de la planta si se requiere. - Pruebas de la transferencia en automático y manual. - Limpieza general de contactos eléctricos. - Limpieza de terminales en caso presentar sulfatación. - Ajuste del control y sistema de precalentamiento. (Mantenimiento periódico) | B19: 1 | C19: =('Dane Central'!I19/3) -> 296479.33 | D19: =C19 -> 296479.33 | E19: =ROUNDUP(D19,0) -> 296480 | F19: =E19*B19 -> 296480
A20: Total | B20: =COUNTIF(A7:A19,"*") -> 13 | C20: =SUM(C7:C19) -> 3781939.7 | D20: =C20 -> 3781939.7 | E20: =ROUNDUP(D20,0) -> 3781940 | F20: =SUM(F7:F19) -> 3781945
A21: Observaciones:
A24: Elaborado: Revisado: Aprobado:

Sheet RESUMEN COSTOS
D3: MANTENIMIENTOS
D4: TERRITORIAL | E4: PLANTA (UBICACIÓN) | F4: CANTIDAD PLANTAS | G4: CANTIDAD MANTENIMIENTOS | H4: COSTO UNITARIO POR MANTENIMIENTO | I4: COSTO TOTAL POR MANTENIMIENTO
D5: DANE Central | E5: BOGOTÁ | F5: 1 | G5: 2 | H5: 10555737 | I5: =G5*H5 -> 21111474
D6: CENTRO | E6: BOGOTÁ | F6: 1 | G6: 2 | H6: 5022431 | I6: =G6*H6 -> 10044862
D7: SUROCCIDENTE | E7: CALI | F7: 1 | G7: 2 | H7: 3781945 | I7: =G7*H7 -> 7563890
G8: TOTAL | H8: =SUM(H5:H7) -> 19360113 | I8: =SUM(I5:I7) -> 38720226
D12: BOLSAS DE REPUESTO
D13: TERRITORIAL | F13: PLANTA (UBICACIÓN) | H13: COSTO TOTAL
D14: DANE CENTRAL | F14: BOGOTÁ | H14: 3209408
D15: CENTRO | F15: BOGOTÁ | H15: 4290776
D16: SUROCCIDENTE | F16: BOGOTÁ | H16: 1283763
D17: TOTAL | H17: =H14+H15+H16 -> 8783947
D20: RESUMEN COSTOS TOTALES DE LAS COTIZACIONES PLANTAS ELECTRICAS Y BOLSAS DE RESPUESTOS
D21: ITEMS | H21: COSTOS
D22: MANTENIMIENTOS | H22: =I8 -> 38720226
D23: BOLSAS DE REPUESTO | H23: =H17 -> 8783947
D24: TOTAL | H24: =H22+H23 -> 47504173
