Workbook

Sheet ANALISIS M.O
B2: ANÁLISIS MANO DE OBRA | E2: AFP | F2: =1+C25 -> 1.7733266
B3: Salario Mínimo Mensual Legal Vigente año 2024 | C3: 1750905 | I3: 1.7803121
B4: Subsidio de Transporte (salario <= 2 SMMLV) | C4: 200000
B6: DESCRIPCIÓN | C6: SALARIO <= 2 SMMLV | D6: SALARIO > 2 SMMLV
C7: PERSONAL TÉCNICO, OPERATIVO Riesgo Clase V | D7: PERSONAL TÉCNICO, OPERATIVO Riesgo Clase V
B8: PRESTACIONES SOCIALES
B9: Cesantías | C9: 0.0833 | D9: 0.0833
B10: Intereses cesantías | C10: 0.01 | D10: 0.01
B11: Vacaciones | C11: 0.0417 | D11: 0.0417
B12: Prima | C12: 0.0833 | D12: 0.0833
B13: Dotación | C13: 0.06 | D13: 0.04
B14: SEGURIDAD SOCIAL
B15: Aportes régimen general de pensiones (I.V.M) | C15: 0.12 | D15: 0.12
B16: Aporte riesgos profesionales A.R.P. | C16: 0.0696 | D16: 0.0696
B17: Aportes régimen contributivo de salud | C17: 0.085 | D17: 0.085
B18: Certificado trabajo seguro en alturas | C18: 0.0212 | D18: 0.0212
B19: OTROS APORTES
B20: Aportes FIC | C20: 0.025 | D20: 0.025
B21: I.C.B.F. | C21: 0 | D21: 0
B22: Comfamiliar | C22: 0.04 | D22: 0.04
B23: Subsidio de transporte | C23: =C4/C3 -> 0.11422664
B24: Examenes medicos de ingreso y egreso | C24: 0.02 | D24: 0.02
C25: =SUM(C8:C24) -> 0.77332664 | D25: =SUM(D8:D24) -> 0.6391
C26: =ROUND(1+C25,4) -> 1.7733 | D26: =ROUND(1+D25,4) -> 1.6391
B28: NOMBRE | C28: SALARIO MENSUAL | D28: PRESTACIONES Y APORTES | E28: SALARIO + PRESTACIONES | F28: SALARIO DIA SIN PRESTACIONES | G28: SALARIO DIA
B29: Ayudante | C29: =C3 -> 1750905 | D29: =ROUND((C29*$C$25),0) -> 1354021 | E29: =C29+D29 -> 3104926 | F29: =+ROUND((C29/30),0) -> 58364 | G29: =ROUND((E29/30),0) -> 103498
B30: Ayudante práctico | C30: =C29*1.4 -> 2451267 | D30: =ROUND((C30*$C$25),0) -> 1895630 | E30: =C30+D30 -> 4346897 | F30: =+ROUND((C30/30),0) -> 81709 | G30: =ROUND((E30/30),0) -> 144897
B31: Oficial | C31: =C29*1.8 -> 3151629 | D31: =ROUND((C31*$C$25),0) -> 2437239 | E31: =C31+D31 -> 5588868 | F31: =+ROUND((C31/30),0) -> 105054 | G31: =ROUND((E31/30),0) -> 186296
B32: Cadenero 1 | C32: =C29*1.5 -> 2626357.5 | D32: =ROUND((C32*$C$25),0) -> 2031032 | E32: =C32+D32 -> 4657389.5 | F32: =+ROUND((C32/30),0) -> 87545 | G32: =ROUND((E32/30),0) -> 155246
B33: Cadenero 2 | C33: =C29 -> 1750905 | D33: =ROUND((C33*$C$25),0) -> 1354021 | E33: =C33+D33 -> 3104926 | F33: =+ROUND((C33/30),0) -> 58364 | G33: =ROUND((E33/30),0) -> 103498
B34: Liniero cat 1 | C34: =C29*2.8 -> 4902534 | D34: =ROUND((C34*$C$25),0) -> 3791260 | E34: =C34+D34 -> 8693794 | F34: =+ROUND((C34/30),0) -> 163418 | G34: =ROUND((E34/30),0) -> 289793
B35: Liniero cat 2 | C35: =C29*1.8 -> 3151629 | D35: =ROUND((C35*$C$25),0) -> 2437239 | E35: =C35+D35 -> 5588868 | F35: =+ROUND((C35/30),0) -> 105054 | G35: =ROUND((E35/30),0) -> 186296
B36: Maestro de obra | C36: =C29*3 -> 5252715 | D36: =ROUND((C36*$C$25),0) -> 4062064 | E36: =C36+D36 -> 9314779 | F36: =+ROUND((C36/30),0) -> 175091 | G36: =ROUND((E36/30),0) -> 310493
B37: Operador de maquinaria | C37: =C29*2 -> 3501810 | D37: =ROUND((C37*$C$25),0) -> 2708043 | E37: =C37+D37 -> 6209853 | F37: =+ROUND((C37/30),0) -> 116727 | G37: =ROUND((E37/30),0) -> 206995
B38: Topógrafo | C38: =C29*3.5 -> 6128167.5 | D38: =ROUND((C38*$C$25),0) -> 4739075 | E38: =C38+D38 -> 10867242 | F38: =+ROUND((C38/30),0) -> 204272 | G38: =ROUND((E38/30),0) -> 362241
B39: Profesional en salud ocupacional | C39: =C29*2.8 -> 4902534 | D39: =ROUND((C39*$C$25),0) -> 3791260 | E39: =C39+D39 -> 8693794 | F39: =+ROUND((C39/30),0) -> 163418 | G39: =ROUND((E39/30),0) -> 289793
B40: Cuadrilla E 1 Of + 1 Ay (jornal + prestaciones) | F40: =F31+F29 -> 163418 | G40: =G31+G29 -> 289794
B41: Cuadrilla G 1 Of + 2 Ay (jornal + prestaciones) | F41: =F31+(2*F29) -> 221782 | G41: =G31+(2*G29) -> 393292
B42: Cuadrilla A 1 Of + 4 Ay (jornal + prestaciones) | F42: =F31+(4*F29) -> 338510 | G42: =G31+(4*G29) -> 600288
B43: Comisión topografía (topógrafo + Cadenero 1 + 2 Cadeneros 2) | F43: =F38+F32+(2*F33) -> 408545 | G43: =G38+G32+(2*G33) -> 724483
...

Sheet 1 localizacion
A1: FORMATO DE ANALISIS DE PRECIOS UNITARIOS-APU
A2: REPUBLICA DE COLOMBIA | E2: ANALISIS DE PRECIOS UNITARIOS
A4: OBJETO: | B4: =+'PRESUPUESTO DE OBRA'!A2 -> CONSTRUCCIÓN DE PAVIMENTO RÍGIDO EN LA CALLE 4 ENTRE CARRERAS 7 Y 8 SECTOR LA CÁRCEL DEL MUNICIPIO DE AGUADAS, CALDAS | G4: ITEM: | H4: 1
A5: DESCRIPCIÓN: | B5: =VLOOKUP(H4,'PRESUPUESTO DE OBRA'!A:E,2,0) -> Localizacion y replanteo | G5: UNIDAD: | H5: =VLOOKUP(H4,'PRESUPUESTO DE OBRA'!A:E,3,0) -> ml
A6: I.EQUIPO
A7: Descripción | D7: Tipo | E7: Tarifa/Hora | F7: Rendimiento | G7: Valor-Unit.
A8: EQUIPO DE TOPOGRAFIA | E8: =+'BASE DE DATOS'!D69 -> 165848 | F8: 200 | G8: =+E8/F8 -> 829.24
G11: Sub-Total | H11: =SUM(G8:G10) -> 829.24
A12: II. MATERIALES EN OBRA
A13: Descripción | D13: Unidad | E13: Precio-Unit. | F13: Cantidad | G13: Valor-Unit.
A14: ESTACAS | D14: UN | E14: =+'BASE DE DATOS'!D23 -> 1659 | F14: 0.3 | G14: =+F14*E14 -> 497.7
A15: PINTURA EN VINILO | D15: CUARTO | E15: =+'BASE DE DATOS'!D24 -> 27641 | F15: 0.03 | G15: =+F15*E15 -> 829.23
G17: Sub-Total | H17: =SUM(G14:G16) -> 1326.93
A18: III.TRANSPORTES
A19: Material | C19: Vol-Peso ó Cant. | D19: Distancia | E19: M3-KM | F19: Tarifa | G19: Valor-Unit.
G23: Sub-Total | H23: =SUM(G20:G22) -> 0
A24: IV. MANO DE OBRA
A25: Trabajador | C25: Jornal | D25: Prestaciones | E25: Jornal Total | F25: Rendimiento | G25: Valor-Unit.
A26: TOPOGRAFO | C26: =+'BASE DE DATOS'!$D$12 -> 204272 | D26: =+'ANALISIS M.O'!$F$2 -> 1.7733266 | E26: =+D26*C26 -> 362240.98 | F26: 143.82243 | G26: =+E26/F26 -> 2518.6682
A27: CADENERO 1 | C27: =+'BASE DE DATOS'!$D$6 -> 87545 | D27: =+'ANALISIS M.O'!$F$2 -> 1.7733266 | E27: =+D27*C27 -> 155245.88 | F27: =+F26 -> 143.82243 | G27: =+E27/F27 -> 1079.4275
A28: CADENERO 2 | C28: =+'BASE DE DATOS'!$D$7 -> 58364 | D28: =+'ANALISIS M.O'!$F$2 -> 1.7733266 | E28: =+D28*C28 -> 103498.44 | F28: =+F27 -> 143.82243 | G28: =+E28/F28 -> 719.62653
A29: OBRERO (2) | C29: =+'BASE DE DATOS'!$D$3*2 -> 116728 | D29: =+'ANALISIS M.O'!$F$2 -> 1.7733266 | E29: =+D29*C29 -> 206996.87 | F29: =+F28 -> 143.82243 | G29: =+E29/F29 -> 1439.2531
G31: Sub-Total | H31: =SUM(G26:G30) -> 5756.9752
E33: Total Costo Directo | H33: =ROUND((+H11+H17+H23+H31),4) -> 7913.1452
A35: V. AU
A36: Descripción | D36: PORCENTAJE | E36: Tarifa/Hora | F36: Rendimiento | G36: Valor-Unit.
A37: ADMINISTRACIÓN | D37: =+'PRESUPUESTO DE OBRA'!E41 -> 0.32 | G37: =$H$33*D37 -> 2532.2065
A38: UTILIDADES | D38: =+'PRESUPUESTO DE OBRA'!E42 -> 0.05 | G38: =$H$33*D38 -> 395.65726
G39: Sub-Total | H39: =SUM(G37:G38) -> 2927.8637
E42: Total Costo | H42: =ROUND(H39+H33,0) -> 10841

Sheet 2 Cerramiento 
A1: FORMATO DE ANALISIS DE PRECIOS UNITARIOS-APU
A2: REPUBLICA DE COLOMBIA | E2: ANALISIS DE PRECIOS UNITARIOS
A4: OBJETO: | B4: =+'PRESUPUESTO DE OBRA'!A2 -> CONSTRUCCIÓN DE PAVIMENTO RÍGIDO EN LA CALLE 4 ENTRE CARRERAS 7 Y 8 SECTOR LA CÁRCEL DEL MUNICIPIO DE AGUADAS, CALDAS | G4: ITEM: | H4: 2
A5: DESCRIPCIÓN: | B5: =VLOOKUP(H4,'PRESUPUESTO DE OBRA'!A:E,2,0) -> Cerramiento con tela verde y soportes de guadua cada 2 metros | G5: UNIDAD: | H5: =VLOOKUP(H4,'PRESUPUESTO DE OBRA'!A:E,3,0) -> ml
A6: I.EQUIPO
A7: Descripción | D7: Tipo | E7: Tarifa/Hora | F7: Rendimiento | G7: Valor-Unit.
A8: HERRAMIENTA MENOR | G8: =+H31*0.05 -> 309.03166
G11: Sub-Total | H11: =SUM(G8:G10) -> 309.03166
A12: II. MATERIALES EN OBRA
A13: Descripción | D13: Unidad | E13: Precio-Unit. | F13: Cantidad | G13: Valor-Unit.
A14: YUTE VERDE H2M | D14: ='BASE DE DATOS'!B25 -> ml | E14: =+'BASE DE DATOS'!D29 -> 3682 | F14: 1.9057436 | G14: =+F14*E14 -> 7016.9481
A15: CEPA DE GUADUA | D15: UN | E15: =+'BASE DE DATOS'!D90 -> 16585 | F15: 0.4 | G15: =+F15*E15 -> 6634
G17: Sub-Total | H17: =SUM(G14:G16) -> 13650.948
A18: III.TRANSPORTES
A19: Material | C19: Vol-Peso ó Cant. | D19: Distancia | E19: M3-KM | F19: Tarifa | G19: Valor-Unit.
G23: Sub-Total | H23: =SUM(G20:G22) -> 0
A24: IV. MANO DE OBRA
A25: Trabajador | C25: Jornal | D25: Prestaciones | E25: Jornal Total | F25: Rendimiento | G25: Valor-Unit.
A26: OBRERO (2) | C26: =+'BASE DE DATOS'!$D$3*2 -> 116728 | D26: =+'ANALISIS M.O'!$F$2 -> 1.7733266 | E26: =+D26*C26 -> 206996.87 | F26: 63.632952 | G26: =+E26/F26 -> 3252.9824
A27: OFICIAL (1) | C27: =+'BASE DE DATOS'!$D$5 -> 105054 | D27: =+'ANALISIS M.O'!$F$2 -> 1.7733266 | E27: =+D27*C27 -> 186295.06 | F27: =+F26 -> 63.632952 | G27: =+E27/F27 -> 2927.6507
G31: Sub-Total | H31: =SUM(G26:G30) -> 6180.6331
E33: Total Costo Directo | H33: =ROUND((+H11+H17+H23+H31),4) -> 20140.613
A35: V. AU
A36: Descripción | D36: PORCENTAJE | E36: Tarifa/Hora | F36: Rendimiento | G36: Valor-Unit.
A37: ADMINISTRACIÓN | D37: =+'1 localizacion'!$D$37 -> 0.32 | G37: =$H$33*D37 -> 6444.9961
A38: UTILIDADES | D38: 0.05 | G38: =$H$33*D38 -> 1007.0306
G39: Sub-Total | H39: =SUM(G37:G38) -> 7452.0267
E42: Total Costo | H42: =ROUND(H39+H33,0) -> 27593

Sheet 3 señal 
A1: FORMATO DE ANALISIS DE PRECIOS UNITARIOS-APU
A2: REPUBLICA DE COLOMBIA | E2: ANALISIS DE PRECIOS UNITARIOS
A4: OBJETO: | B4: =+'PRESUPUESTO DE OBRA'!A2 -> CONSTRUCCIÓN DE PAVIMENTO RÍGIDO EN LA CALLE 4 ENTRE CARRERAS 7 Y 8 SECTOR LA CÁRCEL DEL MUNICIPIO DE AGUADAS, CALDAS | G4: ITEM: | H4: 3
A5: DESCRIPCIÓN: | B5: =VLOOKUP(H4,'PRESUPUESTO DE OBRA'!A:E,2,0) -> Señal preventiva y reglamentaria | G5: UNIDAD: | H5: =VLOOKUP(H4,'PRESUPUESTO DE OBRA'!A:E,3,0) -> und
A6: I.EQUIPO
A7: Descripción | D7: Tipo | E7: Tarifa/Hora | F7: Rendimiento | G7: Valor-Unit.
A8: HERRAMIENTA MENOR | G8: =+H31*0.05 -> 1573.209
G11: Sub-Total | H11: =SUM(G8:G10) -> 1573.209
A12: II. MATERIALES EN OBRA
A13: Descripción | D13: Unidad | E13: Precio-Unit. | F13: Cantidad | G13: Valor-Unit.
A14: Señal preventiva | D14: Unidad | E14: =+'BASE DE DATOS'!$D$62 -> 178661 | F14: 1 | G14: =+F14*E14 -> 178661
G17: Sub-Total | H17: =SUM(G14:G16) -> 178661
A18: III.TRANSPORTES
A19: Material | C19: Vol-Peso ó Cant. | D19: Distancia | E19: M3-KM | F19: Tarifa | G19: Valor-Unit.
G23: Sub-Total | H23: =SUM(G20:G22) -> 0
A24: IV. MANO DE OBRA
A25: Trabajador | C25: Jornal | D25: Prestaciones | E25: Jornal Total | F25: Rendimiento | G25: Valor-Unit.
A26: OBRERO (2) | C26: =+'BASE DE DATOS'!$D$3*2 -> 116728 | D26: =+'ANALISIS M.O'!$F$2 -> 1.7733266 | E26: =+D26*C26 -> 206996.87 | F26: 12.499672 | G26: =+E26/F26 -> 16560.185
A27: OFICIAL (1) | C27: =+'BASE DE DATOS'!$D$5 -> 105054 | D27: =+'ANALISIS M.O'!$F$2 -> 1.7733266 | E27: =+D27*C27 -> 186295.06 | F27: =+F26 -> 12.499672 | G27: =+E27/F27 -> 14903.996
G31: Sub-Total | H31: =SUM(G26:G30) -> 31464.181
E33: Total Costo Directo | H33: =ROUND((+H11+H17+H23+H31),4) -> 211698.39
A35: V. AU
A36: Descripción | D36: PORCENTAJE | E36: Tarifa/Hora | F36: Rendimiento | G36: Valor-Unit.
A37: ADMINISTRACIÓN | D37: =+'1 localizacion'!$D$37 -> 0.32 | G37: =$H$33*D37 -> 67743.485
A38: UTILIDADES | D38: 0.05 | G38: =$H$33*D38 -> 10584.919
G39: Sub-Total | H39: =SUM(G37:G38) -> 78328.404
E42: Total Costo | H42: =ROUND(H39+H33,0) -> 290027

Sheet 4 Valla
A1: FORMATO DE ANALISIS DE PRECIOS UNITARIOS-APU
A2: REPUBLICA DE COLOMBIA | E2: ANALISIS DE PRECIOS UNITARIOS
A4: OBJETO: | B4: =+'PRESUPUESTO DE OBRA'!A2 -> CONSTRUCCIÓN DE PAVIMENTO RÍGIDO EN LA CALLE 4 ENTRE CARRERAS 7 Y 8 SECTOR LA CÁRCEL DEL MUNICIPIO DE AGUADAS, CALDAS | G4: ITEM: | H4: 4
A5: DESCRIPCIÓN: | B5: =VLOOKUP(H4,'PRESUPUESTO DE OBRA'!A:E,2,0) -> Instalacion de valla institucional 2x4 | G5: UNIDAD: | H5: =VLOOKUP(H4,'PRESUPUESTO DE OBRA'!A:E,3,0) -> und
A6: I.EQUIPO
A7: Descripción | D7: Tipo | E7: Tarifa/Hora | F7: Rendimiento | G7: Valor-Unit.
A8: HERRAMIENTA MENOR | G8: =+H31*0.05 -> 11399.09
G11: Sub-Total | H11: =SUM(G8:G10) -> 11399.09
A12: II. MATERIALES EN OBRA
A13: Descripción | D13: Unidad | E13: Precio-Unit. | F13: Cantidad | G13: Valor-Unit.
A14: Valla institucional 2x4 | D14: Unidad | E14: =+'BASE DE DATOS'!D63 -> 818322 | F14: 1 | G14: =+F14*E14 -> 818322
A15: CEPA DE GUADUA | D15: UN | E15: =+'BASE DE DATOS'!D90 -> 16585 | F15: 2 | G15: =+F15*E15 -> 33170
G17: Sub-Total | H17: =SUM(G14:G16) -> 851492
A18: III.TRANSPORTES
A19: Material | C19: Vol-Peso ó Cant. | D19: Distancia | E19: M3-KM | F19: Tarifa | G19: Valor-Unit.
G23: Sub-Total | H23: =SUM(G20:G22) -> 0
A24: IV. MANO DE OBRA
A25: Trabajador | C25: Jornal | D25: Prestaciones | E25: Jornal Total | F25: Rendimiento | G25: Valor-Unit.
A26: OBRERO (2) | C26: =+'BASE DE DATOS'!$D$3*2 -> 116728 | D26: =+'ANALISIS M.O'!$F$2 -> 1.7733266 | E26: =+D26*C26 -> 206996.87 | F26: 1.7251024 | G26: =+E26/F26 -> 119991.07
A27: OFICIAL (1) | C27: =+'BASE DE DATOS'!$D$5 -> 105054 | D27: =+'ANALISIS M.O'!$F$2 -> 1.7733266 | E27: =+D27*C27 -> 186295.06 | F27: =+F26 -> 1.7251024 | G27: =+E27/F27 -> 107990.73
G31: Sub-Total | H31: =SUM(G26:G30) -> 227981.79
E33: Total Costo Directo | H33: =ROUND((+H11+H17+H23+H31),4) -> 1090872.9
A35: V. AU
A36: Descripción | D36: PORCENTAJE | E36: Tarifa/Hora | F36: Rendimiento | G36: Valor-Unit.
A37: ADMINISTRACIÓN | D37: =+'1 localizacion'!$D$37 -> 0.32 | G37: =$H$33*D37 -> 349079.32
A38: UTILIDADES | D38: 0.05 | G38: =$H$33*D38 -> 54543.644
G39: Sub-Total | H39: =SUM(G37:G38) -> 403622.97
E42: Total Costo | H42: =ROUND(H39+H33,0) -> 1494496

Sheet 5 corte
A1: FORMATO DE ANALISIS DE PRECIOS UNITARIOS-APU
A2: REPUBLICA DE COLOMBIA | E2: ANALISIS DE PRECIOS UNITARIOS
A4: OBJETO: | B4: =+'PRESUPUESTO DE OBRA'!A2 -> CONSTRUCCIÓN DE PAVIMENTO RÍGIDO EN LA CALLE 4 ENTRE CARRERAS 7 Y 8 SECTOR LA CÁRCEL DEL MUNICIPIO DE AGUADAS, CALDAS | G4: ITEM: | H4: 5
A5: DESCRIPCIÓN: | B5: =VLOOKUP(H4,'PRESUPUESTO DE OBRA'!A:E,2,0) -> Corte con disco abrasivo | G5: UNIDAD: | H5: =VLOOKUP(H4,'PRESUPUESTO DE OBRA'!A:E,3,0) -> ml
A6: I.EQUIPO
A7: Descripción | D7: Tipo | E7: Tarifa/Hora | F7: Rendimiento | G7: Valor-Unit.
A8: HERRAMIENTA MENOR | G8: =+H31*0.05 -> 328.18286
A9: EQUIPO DE CORTE | E9: =+'BASE DE DATOS'!D83 -> 9951 | F9: 3 | G9: =+E9/F9 -> 3317
G11: Sub-Total | H11: =SUM(G8:G10) -> 3645.1829
A12: II. MATERIALES EN OBRA
A13: Descripción | D13: Unidad | E13: Precio-Unit. | F13: Cantidad | G13: Valor-Unit.
A14: AGUA | D14: M3 | E14: =+'BASE DE DATOS'!D31 -> 110 | F14: 10 | G14: =+F14*E14 -> 1100
G17: Sub-Total | H17: =SUM(G14:G16) -> 1100
A18: III.TRANSPORTES
A19: Material | C19: Vol-Peso ó Cant. | D19: Distancia | E19: M3-KM | F19: Tarifa | G19: Valor-Unit.
G23: Sub-Total | H23: =SUM(G20:G22) -> 0
A24: IV. MANO DE OBRA
A25: Trabajador | C25: Jornal | D25: Prestaciones | E25: Jornal Total | F25: Rendimiento | G25: Valor-Unit.
A26: AYUDANTE PRACTICO | C26: =+'BASE DE DATOS'!$D$4 -> 81709 | D26: =+'ANALISIS M.O'!$F$2 -> 1.7733266 | E26: =+D26*C26 -> 144896.75 | F26: 37.844021 | G26: =+E26/F26 -> 3828.7884
A27: OBREROS (1) | C27: =+'BASE DE DATOS'!$D$3 -> 58364 | D27: =+'ANALISIS M.O'!$F$2 -> 1.7733266 | E27: =+D27*C27 -> 103498.44 | F27: =+F26 -> 37.844021 | G27: =+E27/F27 -> 2734.8689
G31: Sub-Total | H31: =SUM(G26:G30) -> 6563.6573
E33: Total Costo Directo | H33: =ROUND((+H11+H17+H23+H31),4) -> 11308.84
A35: V. AU
A36: Descripción | D36: PORCENTAJE | E36: Tarifa/Hora | F36: Rendimiento | G36: Valor-Unit.
A37: ADMINISTRACIÓN | D37: =+'1 localizacion'!$D$37 -> 0.32 | G37: =$H$33*D37 -> 3618.8288
A38: UTILIDADES | D38: 0.05 | G38: =$H$33*D38 -> 565.442
G39: Sub-Total | H39: =SUM(G37:G38) -> 4184.2708
E42: Total Costo | H42: =ROUND(H39+H33,0) -> 15493

Sheet 6 demoliciones
A1: FORMATO DE ANALISIS DE PRECIOS UNITARIOS-APU
A2: REPUBLICA DE COLOMBIA | E2: ANALISIS DE PRECIOS UNITARIOS
A4: OBJETO: | B4: =+'PRESUPUESTO DE OBRA'!A2 -> CONSTRUCCIÓN DE PAVIMENTO RÍGIDO EN LA CALLE 4 ENTRE CARRERAS 7 Y 8 SECTOR LA CÁRCEL DEL MUNICIPIO DE AGUADAS, CALDAS | G4: ITEM: | H4: 6
A5: DESCRIPCIÓN: | B5: =VLOOKUP(H4,'PRESUPUESTO DE OBRA'!A:E,2,0) -> Demolicion de estructuras en concreto hidraulico Incluye andenes, graderia y cañuelas | G5: UNIDAD: | H5: =VLOOKUP(H4,'PRESUPUESTO DE OBRA'!A:E,3,0) -> m³
A6: I.EQUIPO
A7: Descripción | D7: Tipo | E7: Tarifa/Hora | F7: Rendimiento | G7: Valor-Unit.
A8: COMPRESOR 120 HP, CON MARTILLO (INCLUYE TRANSPORTE DEL EQUIPO | E8: =+'BASE DE DATOS'!D71 -> 199017 | F8: 2.4 | G8: =+E8/F8 -> 82923.75
A9: HERRAMIENTA MENOR (5%MO) | G9: =+H31*0.05 -> 1825.9187
G11: Sub-Total | H11: =SUM(G8:G10) -> 84749.669
A12: II. MATERIALES EN OBRA
A13: Descripción | D13: Unidad | E13: Precio-Unit. | F13: Cantidad | G13: Valor-Unit.
G17: Sub-Total | H17: =SUM(G14:G16) -> 0
A18: III.TRANSPORTES
A19: Material | C19: Vol-Peso ó Cant. | D19: Distancia | E19: M3-KM | F19: Tarifa | G19: Valor-Unit.
G23: Sub-Total | H23: =SUM(G20:G22) -> 0
A24: IV. MANO DE OBRA
A25: Trabajador | C25: Jornal | D25: Prestaciones | E25: Jornal Total | F25: Rendimiento | G25: Valor-Unit.
A26: OPERADOR DEL COMPRESOR | C26: =+'BASE DE DATOS'!$D$11 -> 116727 | D26: =+'ANALISIS M.O'!$F$2 -> 1.7733266 | E26: =+D26*C26 -> 206995.1 | F26: 11.336539 | G26: =+E26/F26 -> 18259.109
A27: OBREROS (2) | C27: =+'BASE DE DATOS'!$D$3*2 -> 116728 | D27: =+'ANALISIS M.O'!$F$2 -> 1.7733266 | E27: =+C27*D27 -> 206996.87 | F27: =+F26 -> 11.336539 | G27: =+E27/F27 -> 18259.266
G31: Sub-Total | H31: =SUM(G26:G30) -> 36518.375
E33: Total Costo Directo | H33: =ROUND((+H11+H17+H23+H31),4) -> 121268.04
A35: V. AU
A36: Descripción | D36: PORCENTAJE | E36: Tarifa/Hora | F36: Rendimiento | G36: Valor-Unit.
A37: ADMINISTRACIÓN | D37: =+'1 localizacion'!$D$37 -> 0.32 | G37: =$H$33*D37 -> 38805.774
A38: UTILIDADES | D38: 0.05 | G38: =$H$33*D38 -> 6063.4022
G39: Sub-Total | H39: =SUM(G37:G38) -> 44869.176
E42: Total Costo | H42: =ROUND(H39+H33,0) -> 166137

Sheet 7 excavación comun 
A1: FORMATO DE ANALISIS DE PRECIOS UNITARIOS-APU
A2: REPUBLICA DE COLOMBIA | E2: ANALISIS DE PRECIOS UNITARIOS
A4: OBJETO: | B4: =+'PRESUPUESTO DE OBRA'!A2 -> CONSTRUCCIÓN DE PAVIMENTO RÍGIDO EN LA CALLE 4 ENTRE CARRERAS 7 Y 8 SECTOR LA CÁRCEL DEL MUNICIPIO DE AGUADAS, CALDAS | G4: ITEM: | H4: 7
A5: DESCRIPCIÓN: | B5: =VLOOKUP(H4,'PRESUPUESTO DE OBRA'!A:E,2,0) -> En material común | G5: UNIDAD: | H5: =VLOOKUP(H4,'PRESUPUESTO DE OBRA'!A:E,3,0) -> m³
A6: I.EQUIPO
A7: Descripción | D7: Tipo | E7: Tarifa/Hora | F7: Rendimiento | G7: Valor-Unit.
A9: HERRAMIENTA MENOR (5%MO) | G9: =+H31*0.05 -> 2011.8971
G11: Sub-Total | H11: =SUM(G8:G10) -> 2011.8971
A12: II. MATERIALES EN OBRA
A13: Descripción | D13: Unidad | E13: Precio-Unit. | F13: Cantidad | G13: Valor-Unit.
G17: Sub-Total | H17: =SUM(G14:G16) -> 0
A18: III.TRANSPORTES
A19: Material | C19: Vol-Peso ó Cant. | D19: Distancia | E19: M3-KM | F19: Tarifa | G19: Valor-Unit.
G23: Sub-Total | H23: =SUM(G20:G22) -> 0
A24: IV. MANO DE OBRA
A25: Trabajador | C25: Jornal | D25: Prestaciones | E25: Jornal Total | F25: Rendimiento | G25: Valor-Unit.
A26: OBREROS (4) | C26: =+'BASE DE DATOS'!$D$3*4 -> 233456 | D26: =+'ANALISIS M.O'!$F$2 -> 1.7733266 | E26: =+D26*C26 -> 413993.74 | F26: 14.918477 | G26: =+E26/F26 -> 27750.403
A27: OFICIAL (1) | C27: =+'BASE DE DATOS'!$D$5 -> 105054 | D27: =+'ANALISIS M.O'!$F$2 -> 1.7733266 | E27: =+D27*C27 -> 186295.06 | F27: =+F26 -> 14.918477 | G27: =+E27/F27 -> 12487.539
G31: Sub-Total | H31: =SUM(G26:G30) -> 40237.941
E33: Total Costo Directo | H33: =ROUND((+H11+H17+H23+H31),4) -> 42249.838
A35: V. AU
A36: Descripción | D36: PORCENTAJE | E36: Tarifa/Hora | F36: Rendimiento | G36: Valor-Unit.
A37: ADMINISTRACIÓN | D37: =+'1 localizacion'!$D$37 -> 0.32 | G37: =$H$33*D37 -> 13519.948
A38: UTILIDADES | D38: 0.05 | G38: =$H$33*D38 -> 2112.4919
G39: Sub-Total | H39: =SUM(G37:G38) -> 15632.44
E42: Total Costo | H42: =ROUND(H39+H33,0) -> 57882

Sheet 8 excavación conglomerado
A1: FORMATO DE ANALISIS DE PRECIOS UNITARIOS-APU
A2: REPUBLICA DE COLOMBIA | E2: ANALISIS DE PRECIOS UNITARIOS
A4: OBJETO: | B4: =+'PRESUPUESTO DE OBRA'!A2 -> CONSTRUCCIÓN DE PAVIMENTO RÍGIDO EN LA CALLE 4 ENTRE CARRERAS 7 Y 8 SECTOR LA CÁRCEL DEL MUNICIPIO DE AGUADAS, CALDAS | G4: ITEM: | H4: 8
A5: DESCRIPCIÓN: | B5: =VLOOKUP(H4,'PRESUPUESTO DE OBRA'!A:E,2,0) -> En conglomerado | G5: UNIDAD: | H5: =VLOOKUP(H4,'PRESUPUESTO DE OBRA'!A:E,3,0) -> m³
A6: I.EQUIPO
A7: Descripción | D7: Tipo | E7: Tarifa/Hora | F7: Rendimiento | G7: Valor-Unit.
A9: HERRAMIENTA MENOR (5%MO) | G9: =+H31*0.05 -> 2226.3911
G11: Sub-Total | H11: =SUM(G8:G10) -> 2226.3911
A12: II. MATERIALES EN OBRA
A13: Descripción | D13: Unidad | E13: Precio-Unit. | F13: Cantidad | G13: Valor-Unit.
G17: Sub-Total | H17: =SUM(G14:G16) -> 0
A18: III.TRANSPORTES
A19: Material | C19: Vol-Peso ó Cant. | D19: Distancia | E19: M3-KM | F19: Tarifa | G19: Valor-Unit.
G23: Sub-Total | H23: =SUM(G20:G22) -> 0
A24: IV. MANO DE OBRA
A25: Trabajador | C25: Jornal | D25: Prestaciones | E25: Jornal Total | F25: Rendimiento | G25: Valor-Unit.
A26: OBREROS (4) | C26: =+'BASE DE DATOS'!$D$3*4 -> 233456 | D26: =+'ANALISIS M.O'!$F$2 -> 1.7733266 | E26: =+D26*C26 -> 413993.74 | F26: 13.481207 | G26: =+E26/F26 -> 30708.952
A27: OFICIAL (1) | C27: =+'BASE DE DATOS'!$D$5 -> 105054 | D27: =+'ANALISIS M.O'!$F$2 -> 1.7733266 | E27: =+D27*C27 -> 186295.06 | F27: =+F26 -> 13.481207 | G27: =+E27/F27 -> 13818.87
G31: Sub-Total | H31: =SUM(G26:G30) -> 44527.822
E33: Total Costo Directo | H33: =ROUND((+H11+H17+H23+H31),4) -> 46754.213
A35: V. AU
A36: Descripción | D36: PORCENTAJE | E36: Tarifa/Hora | F36: Rendimiento | G36: Valor-Unit.
A37: ADMINISTRACIÓN | D37: =+'1 localizacion'!$D$37 -> 0.32 | G37: =$H$33*D37 -> 14961.348
A38: UTILIDADES | D38: 0.05 | G38: =$H$33*D38 -> 2337.7107
G39: Sub-Total | H39: =SUM(G37:G38) -> 17299.059
E42: Total Costo | H42: =ROUND(H39+H33,0) -> 64053

Sheet 9 retiro 
A1: FORMATO DE ANALISIS DE PRECIOS UNITARIOS-APU
A2: REPUBLICA DE COLOMBIA | E2: ANALISIS DE PRECIOS UNITARIOS
A4: OBJETO: | B4: =+'PRESUPUESTO DE OBRA'!A2 -> CONSTRUCCIÓN DE PAVIMENTO RÍGIDO EN LA CALLE 4 ENTRE CARRERAS 7 Y 8 SECTOR LA CÁRCEL DEL MUNICIPIO DE AGUADAS, CALDAS | G4: ITEM: | H4: 10
A5: DESCRIPCIÓN: | B5: =VLOOKUP(H4,'PRESUPUESTO DE OBRA'!A:E,2,0) -> Arena para base y atraque | G5: UNIDAD: | H5: =VLOOKUP(H4,'PRESUPUESTO DE OBRA'!A:E,3,0) -> m³
A6: I.EQUIPO
A7: Descripción | D7: Tipo | E7: Tarifa/Hora | F7: Rendimiento | G7: Valor-Unit.
A8: HERRAMIENTA MENOR | G8: =+H31*0.05 -> 375.59868
A9: CARGADOR : POTENCIA EN EL VOLANTE 125 HP, CLASIFICACIÓN DE RPM DEL MOTOR 2300.(INCLUYE OPERADOR Y TRANSPORTE DEL EQUIPO) | E9: =+'BASE DE DATOS'!D75 -> 138207 | F9: 30 | G9: =+E9/F9 -> 4606.9
A10: VOLQUE Y DISPOSICIÓN FINAL DE MATERIAL | E10: =+'BASE DE DATOS'!D64 -> 219596 | F10: 6 | G10: =+E10/F10 -> 36599.333
G11: Sub-Total | H11: =SUM(G8:G10) -> 41581.832
A12: II. MATERIALES EN OBRA
A13: Descripción | D13: Unidad | E13: Precio-Unit. | F13: Cantidad | G13: Valor-Unit.
G17: Sub-Total | H17: =SUM(G14:G16) -> 0
A18: III.TRANSPORTES
A19: Material | C19: Vol-Peso ó Cant. | D19: Distancia | E19: M3-KM | F19: Tarifa | G19: Valor-Unit.
G23: Sub-Total | H23: =SUM(G20:G22) -> 0
A24: IV. MANO DE OBRA
A25: Trabajador | C25: Jornal | D25: Prestaciones | E25: Jornal Total | F25: Rendimiento | G25: Valor-Unit.
A26: OBRERO | C26: =+'BASE DE DATOS'!$D$3 -> 58364 | D26: =+'ANALISIS M.O'!$F$2 -> 1.7733266 | E26: =+D26*C26 -> 103498.44 | F26: 13.777796 | G26: =+E26/F26 -> 7511.9736
G31: Sub-Total | H31: =SUM(G26:G30) -> 7511.9736
E33: Total Costo Directo | H33: =ROUND((+H11+H17+H23+H31),4) -> 49093.806
A35: V. AU
A36: Descripción | D36: PORCENTAJE | E36: Tarifa/Hora | F36: Rendimiento | G36: Valor-Unit.
A37: ADMINISTRACIÓN | D37: =+'1 localizacion'!$D$37 -> 0.32 | G37: =$H$33*D37 -> 15710.018
A38: UTILIDADES | D38: 0.05 | G38: =$H$33*D38 -> 2454.6903
G39: Sub-Total | H39: =SUM(G37:G38) -> 18164.708
E42: Total Costo | H42: =ROUND(H39+H33,0) -> 67259

Sheet 10 Arena
A1: FORMATO DE ANALISIS DE PRECIOS UNITARIOS-APU
A2: REPUBLICA DE COLOMBIA | E2: ANALISIS DE PRECIOS UNITARIOS
A4: OBJETO: | B4: =+'PRESUPUESTO DE OBRA'!A2 -> CONSTRUCCIÓN DE PAVIMENTO RÍGIDO EN LA CALLE 4 ENTRE CARRERAS 7 Y 8 SECTOR LA CÁRCEL DEL MUNICIPIO DE AGUADAS, CALDAS | G4: ITEM: | H4: 10
A5: DESCRIPCIÓN: | B5: =VLOOKUP(H4,'PRESUPUESTO DE OBRA'!A:E,2,0) -> Arena para base y atraque | G5: UNIDAD: | H5: =VLOOKUP(H4,'PRESUPUESTO DE OBRA'!A:E,3,0) -> m³
A6: I.EQUIPO
A7: Descripción | D7: Tipo | E7: Tarifa/Hora | F7: Rendimiento | G7: Valor-Unit.
A8: HERRAMIENTA MENOR | G8: =+H31*0.05 -> 1480.8629
G11: Sub-Total | H11: =SUM(G8:G10) -> 1480.8629
A12: II. MATERIALES EN OBRA
A13: Descripción | D13: Unidad | E13: Precio-Unit. | F13: Cantidad | G13: Valor-Unit.
A14: ARENA | D14: M3 | E14: =+'BASE DE DATOS'!D36 -> 99509 | F14: 1.35 | G14: =+F14*E14 -> 134337.15
G17: Sub-Total | H17: =SUM(G14:G16) -> 134337.15
A18: III.TRANSPORTES
A19: Material | C19: Vol-Peso ó Cant. | D19: Distancia | E19: M3-KM | F19: Tarifa | G19: Valor-Unit.
G23: Sub-Total | H23: =SUM(G20:G22) -> 0
A24: IV. MANO DE OBRA
A25: Trabajador | C25: Jornal | D25: Prestaciones | E25: Jornal Total | F25: Rendimiento | G25: Valor-Unit.
A26: OBREROS (2) | C26: =+'BASE DE DATOS'!$D$3*2 -> 116728 | D26: =+'ANALISIS M.O'!$F$2 -> 1.7733266 | E26: =+D26*C26 -> 206996.87 | F26: 13.279147 | G26: =+E26/F26 -> 15588.115
A27: OFICIAL (1) | C27: =+'BASE DE DATOS'!$D$5 -> 105054 | D27: =+'ANALISIS M.O'!$F$2 -> 1.7733266 | E27: =+D27*C27 -> 186295.06 | F27: =+F26 -> 13.279147 | G27: =+E27/F27 -> 14029.143
G31: Sub-Total | H31: =SUM(G26:G30) -> 29617.258
E33: Total Costo Directo | H33: =ROUND((+H11+H17+H23+H31),4) -> 165435.27
A35: V. AU
A36: Descripción | D36: PORCENTAJE | E36: Tarifa/Hora | F36: Rendimiento | G36: Valor-Unit.
A37: ADMINISTRACIÓN | D37: 0.32 | G37: =$H$33*D37 -> 52939.287
A38: UTILIDADES | D38: 0.05 | G38: =$H$33*D38 -> 8271.7636
G39: Sub-Total | H39: =SUM(G37:G38) -> 61211.05
E42: Total Costo | H42: =ROUND(H39+H33,0) -> 226646

Sheet 11 lleno 
A1: FORMATO DE ANALISIS DE PRECIOS UNITARIOS-APU
A2: REPUBLICA DE COLOMBIA | E2: ANALISIS DE PRECIOS UNITARIOS
A4: OBJETO: | B4: =+'PRESUPUESTO DE OBRA'!A2 -> CONSTRUCCIÓN DE PAVIMENTO RÍGIDO EN LA CALLE 4 ENTRE CARRERAS 7 Y 8 SECTOR LA CÁRCEL DEL MUNICIPIO DE AGUADAS, CALDAS | G4: ITEM: | H4: 11
A5: DESCRIPCIÓN: | B5: =VLOOKUP(H4,'PRESUPUESTO DE OBRA'!A:E,2,0) -> Lleno compactado con material de la obra | G5: UNIDAD: | H5: =VLOOKUP(H4,'PRESUPUESTO DE OBRA'!A:E,3,0) -> m³
A6: I.EQUIPO
A7: Descripción | D7: Tipo | E7: Tarifa/Hora | F7: Rendimiento | G7: Valor-Unit.
A8: HERRAMIENTA MENOR | G8: =+H31*0.05 -> 480.29673
A9: VIBROCOMPACTADOR, POTENCIA 153 HP, PESO 10 TON. (INCLUYE OPERADOR Y TRANSPORTE DEL EQUIPO) | E9: 157800 | F9: 10 | G9: =+E9/F9 -> 15780
G11: Sub-Total | H11: =SUM(G8:G10) -> 16260.297
A12: II. MATERIALES EN OBRA
A13: Descripción | D13: Unidad | E13: Precio-Unit. | F13: Cantidad | G13: Valor-Unit.
A15: AGUA | D15: LT | E15: =+'BASE DE DATOS'!D31 -> 110 | F15: 80 | G15: =+F15*E15 -> 8800
G17: Sub-Total | H17: =SUM(G14:G16) -> 8800
A18: III.TRANSPORTES
A19: Material | C19: Vol-Peso ó Cant. | D19: Distancia | E19: M3-KM | F19: Tarifa | G19: Valor-Unit.
G23: Sub-Total | H23: =SUM(G20:G22) -> 0
A24: IV. MANO DE OBRA
A25: Trabajador | C25: Jornal | D25: Prestaciones | E25: Jornal Total | F25: Rendimiento | G25: Valor-Unit.
A26: OBREROS (2) | C26: =+'BASE DE DATOS'!$D$3*2 -> 116728 | D26: =+'ANALISIS M.O'!$F$2 -> 1.7733266 | E26: =+D26*C26 -> 206996.87 | F26: 40.942599 | G26: =+E26/F26 -> 5055.7825
A27: OFICIAL (1) | C27: =+'BASE DE DATOS'!$D$5 -> 105054 | D27: =+'ANALISIS M.O'!$F$2 -> 1.7733266 | E27: =+D27*C27 -> 186295.06 | F27: =+F26 -> 40.942599 | G27: =+E27/F27 -> 4550.1522
G31: Sub-Total | H31: =SUM(G26:G30) -> 9605.9347
E33: Total Costo Directo | H33: =ROUND((+H11+H17+H23+H31),4) -> 34666.231
A35: V. AU
A36: Descripción | D36: PORCENTAJE | E36: Tarifa/Hora | F36: Rendimiento | G36: Valor-Unit.
A37: ADMINISTRACIÓN | D37: 0.32 | G37: =$H$33*D37 -> 11093.194
A38: UTILIDADES | D38: 0.05 | G38: =$H$33*D38 -> 1733.3116
G39: Sub-Total | H39: =SUM(G37:G38) -> 12826.506
E42: Total Costo | H42: =ROUND(H39+H33,0) -> 47493

Sheet 12 subbase
A1: FORMATO DE ANALISIS DE PRECIOS UNITARIOS-APU
A2: REPUBLICA DE COLOMBIA | E2: ANALISIS DE PRECIOS UNITARIOS
A4: OBJETO: | B4: =+'PRESUPUESTO DE OBRA'!A2 -> CONSTRUCCIÓN DE PAVIMENTO RÍGIDO EN LA CALLE 4 ENTRE CARRERAS 7 Y 8 SECTOR LA CÁRCEL DEL MUNICIPIO DE AGUADAS, CALDAS | G4: ITEM: | H4: 12
A5: DESCRIPCIÓN: | B5: =VLOOKUP(H4,'PRESUPUESTO DE OBRA'!A:E,2,0) -> Sub base para pavimento compactada | G5: UNIDAD: | H5: =VLOOKUP(H4,'PRESUPUESTO DE OBRA'!A:E,3,0) -> m³
A6: I.EQUIPO
A7: Descripción | D7: Tipo | E7: Tarifa/Hora | F7: Rendimiento | G7: Valor-Unit.
A8: HERRAMIENTA MENOR | G8: =+H31*0.05 -> 1716.5263
A9: VIBROCOMPACTADOR, POTENCIA 153 HP, PESO 10 TON. (INCLUYE OPERADOR Y TRANSPORTE DEL EQUIPO) | E9: 157800 | F9: 6.5 | G9: =+E9/F9 -> 24276.923
G11: Sub-Total | H11: =SUM(G8:G10) -> 25993.449
A12: II. MATERIALES EN OBRA
A13: Descripción | D13: Unidad | E13: Precio-Unit. | F13: Cantidad | G13: Valor-Unit.
A14: MATERIAL DE subBASE GRANULAR | D14: M3 | E14: =+'BASE DE DATOS'!D33 -> 93980 | F14: 1.32 | G14: =+F14*E14 -> 124053.6
A15: AGUA | D15: LT | E15: 105 | F15: 80 | G15: =+F15*E15 -> 8400
G17: Sub-Total | H17: =SUM(G14:G16) -> 132453.6
A18: III.TRANSPORTES
A19: Material | C19: Vol-Peso ó Cant. | D19: Distancia | E19: M3-KM | F19: Tarifa | G19: Valor-Unit.
G23: Sub-Total | H23: =SUM(G20:G22) -> 0
A24: IV. MANO DE OBRA
A25: Trabajador | C25: Jornal | D25: Prestaciones | E25: Jornal Total | F25: Rendimiento | G25: Valor-Unit.
A26: OBRERO (2) | C26: =+'BASE DE DATOS'!$D$3*2 -> 116728 | D26: =+'ANALISIS M.O'!$F$2 -> 1.7733266 | E26: =+D26*C26 -> 206996.87 | F26: 11.456041 | G26: =+E26/F26 -> 18068.796
A27: OFICIAL (1) | C27: =+'BASE DE DATOS'!$D$5 -> 105054 | D27: =+'ANALISIS M.O'!$F$2 -> 1.7733266 | E27: =+D27*C27 -> 186295.06 | F27: =+F26 -> 11.456041 | G27: =+E27/F27 -> 16261.73
G31: Sub-Total | H31: =SUM(G26:G30) -> 34330.526
E33: Total Costo Directo | H33: =ROUND((+H11+H17+H23+H31),4) -> 192777.58
A35: V. AU
A36: Descripción | D36: PORCENTAJE | E36: Tarifa/Hora | F36: Rendimiento | G36: Valor-Unit.
A37: ADMINISTRACIÓN | D37: =+'1 localizacion'!$D$37 -> 0.32 | G37: =$H$33*D37 -> 61688.824
A38: UTILIDADES | D38: 0.05 | G38: =$H$33*D38 -> 9638.8788
G39: Sub-Total | H39: =SUM(G37:G38) -> 71327.703
E42: Total Costo | H42: =ROUND(H39+H33,0) -> 264105

Sheet 13 Afirmado
A1: FORMATO DE ANALISIS DE PRECIOS UNITARIOS-APU
A2: REPUBLICA DE COLOMBIA | E2: ANALISIS DE PRECIOS UNITARIOS
A4: OBJETO: | B4: =+'PRESUPUESTO DE OBRA'!A2 -> CONSTRUCCIÓN DE PAVIMENTO RÍGIDO EN LA CALLE 4 ENTRE CARRERAS 7 Y 8 SECTOR LA CÁRCEL DEL MUNICIPIO DE AGUADAS, CALDAS | G4: ITEM: | H4: 13
A5: DESCRIPCIÓN: | B5: =VLOOKUP(H4,'PRESUPUESTO DE OBRA'!A:E,2,0) -> Afirmado compactado | G5: UNIDAD: | H5: =VLOOKUP(H4,'PRESUPUESTO DE OBRA'!A:E,3,0) -> m³
A6: I.EQUIPO
A7: Descripción | D7: Tipo | E7: Tarifa/Hora | F7: Rendimiento | G7: Valor-Unit.
A8: HERRAMIENTA MENOR | G8: =+H31*0.05 -> 1755.6971
A9: VIBROCOMPACTADOR, POTENCIA 153 HP, PESO 10 TON. (INCLUYE OPERADOR Y TRANSPORTE DEL EQUIPO) | E9: =+'BASE DE DATOS'!D73 -> 165848 | F9: 10 | G9: =+E9/F9 -> 16584.8
G11: Sub-Total | H11: =SUM(G8:G10) -> 18340.497
A12: II. MATERIALES EN OBRA
A13: Descripción | D13: Unidad | E13: Precio-Unit. | F13: Cantidad | G13: Valor-Unit.
A14: MATERIAL DE Afirmado | D14: M3 | E14: =+'BASE DE DATOS'!D34 -> 60811 | F14: 1.32 | G14: =+F14*E14 -> 80270.52
A15: AGUA | D15: LT | E15: =+'BASE DE DATOS'!D31 -> 110 | F15: 80 | G15: =+F15*E15 -> 8800
G17: Sub-Total | H17: =SUM(G14:G16) -> 89070.52
A18: III.TRANSPORTES
A19: Material | C19: Vol-Peso ó Cant. | D19: Distancia | E19: M3-KM | F19: Tarifa | G19: Valor-Unit.
G23: Sub-Total | H23: =SUM(G20:G22) -> 0
A24: IV. MANO DE OBRA
A25: Trabajador | C25: Jornal | D25: Prestaciones | E25: Jornal Total | F25: Rendimiento | G25: Valor-Unit.
A26: OBREROS (2) | C26: =+'BASE DE DATOS'!$D$3*2 -> 116728 | D26: =+'ANALISIS M.O'!$F$2 -> 1.7733266 | E26: =+D26*C26 -> 206996.87 | F26: 11.200449 | G26: =+E26/F26 -> 18481.122
A27: OFICIAL (1) | C27: =+'BASE DE DATOS'!$D$5 -> 105054 | D27: =+'ANALISIS M.O'!$F$2 -> 1.7733266 | E27: =+D27*C27 -> 186295.06 | F27: =+F26 -> 11.200449 | G27: =+E27/F27 -> 16632.82
G31: Sub-Total | H31: =SUM(G26:G30) -> 35113.942
E33: Total Costo Directo | H33: =ROUND((+H11+H17+H23+H31),4) -> 142524.96
A35: V. AU
A36: Descripción | D36: PORCENTAJE | E36: Tarifa/Hora | F36: Rendimiento | G36: Valor-Unit.
A37: ADMINISTRACIÓN | D37: =+'1 localizacion'!$D$37 -> 0.32 | G37: =$H$33*D37 -> 45607.987
A38: UTILIDADES | D38: 0.05 | G38: =$H$33*D38 -> 7126.248
G39: Sub-Total | H39: =SUM(G37:G38) -> 52734.235
E42: Total Costo | H42: =ROUND(H39+H33,0) -> 195259

Sheet 14 concreto 21 Mpa
A1: FORMATO DE ANALISIS DE PRECIOS UNITARIOS-APU
A2: REPUBLICA DE COLOMBIA | E2: ANALISIS DE PRECIOS UNITARIOS
A4: OBJETO: | B4: =+'PRESUPUESTO DE OBRA'!A2 -> CONSTRUCCIÓN DE PAVIMENTO RÍGIDO EN LA CALLE 4 ENTRE CARRERAS 7 Y 8 SECTOR LA CÁRCEL DEL MUNICIPIO DE AGUADAS, CALDAS | G4: ITEM: | H4: 14
A5: DESCRIPCIÓN: | B5: =VLOOKUP(H4,'PRESUPUESTO DE OBRA'!A:E,2,0) -> Concreto de 21Mpa para graderías, andenes incluye formaleta | G5: UNIDAD: | H5: =VLOOKUP(H4,'PRESUPUESTO DE OBRA'!A:E,3,0) -> m³
A6: I.EQUIPO
A7: Descripción | D7: Tipo | E7: Tarifa/Hora | F7: Rendimiento | G7: Valor-Unit.
A8: HERRAMIENTA MENOR | D8: GL | G8: =+H32*0.05 -> 12959.376
A9: CONCRETADORA 1 SACO | D9: $/hora | E9: 9994 | F9: 2 | G9: =+E9/F9 -> 4997
A10: VIBRADOR DE CONCRETO | D10: $/hora | E10: 8416 | F10: 2 | G10: =+E10/F10 -> 4208
G11: Sub-Total | H11: =SUM(G8:G10) -> 22164.376
A12: II. MATERIALES EN OBRA
A13: Descripción | D13: Unidad | E13: Precio-Unit. | F13: Cantidad | G13: Valor-Unit.
A14: CEMENTO | D14: KG | E14: 768 | F14: 350 | G14: =+F14*E14 -> 268800
A15: TRITURADO | D15: M3 | E15: 99940 | F15: 0.8 | G15: =E15*F15 -> 79952
A16: ARENA | D16: M3 | E16: 94680 | F16: 0.6 | G16: =E16*F16 -> 56808
A17: AGUA | D17: LT | E17: 105 | F17: 150 | G17: =E17*F17 -> 15750
A18: LISTON EN AMARILLO 8 x.2.2 x3 | D18: ML | E18: 5786 | F18: 1 | G18: =E18*F18 -> 5786
A19: PUNTILLA 2" CON CABEZA | D19: LB | E19: 5786 | F19: 0.2 | G19: =E19*F19 -> 1157.2
A20: ANTISOL BLANCO (presentación 20 Kg) | D20: Kg | E20: 11572 | F20: 1.3 | G20: =E20*F20 -> 15043.6
G21: Sub-Total | H21: =SUM(G14:G20) -> 443296.8
A22: III.TRANSPORTES
A23: Material | C23: Vol-Peso ó Cant. | D23: Distancia | E23: M3-KM | F23: Tarifa | G23: Valor-Unit.
A24: TRITURADO | C24: M3 | D24: 25 | E24: =D24*F15 -> 20 | F24: 2340 | G24: =+F24*E24 -> 46800
A25: ARENA | C25: M3 | D25: 25 | E25: =D25*F16 -> 15 | F25: =+F24 -> 2340 | G25: =+F25*E25 -> 35100
G26: Sub-Total | H26: =SUM(G24:G25) -> 81900
A27: IV. MANO DE OBRA
A28: Trabajador | C28: Jornal | D28: Prestaciones | E28: Jornal Total | F28: Rendimiento | G28: Valor-Unit.
A29: OBREROS (2) | C29: =+'BASE DE DATOS'!$D$3*2 -> 116728 | D29: =+'ANALISIS M.O'!$F$2 -> 1.7733266 | E29: =+D29*C29 -> 206996.87 | F29: 1.517403 | G29: =+E29/F29 -> 136415.22
A30: OFICIAL (1) | C30: =+'BASE DE DATOS'!$D$5 -> 105054 | D30: =+'ANALISIS M.O'!$F$2 -> 1.7733266 | E30: =+D30*C30 -> 186295.06 | F30: =+F29 -> 1.517403 | G30: =+E30/F30 -> 122772.3
G32: Sub-Total | H32: =SUM(G29:G31) -> 259187.52
E34: Total Costo Directo | H34: =ROUND((+H11+H21+H26+H32),4) -> 806548.7
A35: V. AU
A36: Descripción | D36: PORCENTAJE | E36: Tarifa/Hora | F36: Rendimiento | G36: Valor-Unit.
A37: ADMINISTRACIÓN | D37: 0.32 | G37: =$H$34*D37 -> 258095.58
A38: UTILIDADES | D38: 0.05 | G38: =$H$34*D38 -> 40327.435
G39: Sub-Total | H39: =SUM(G37:G38) -> 298423.02
E42: Total Costo | H42: =ROUND(H39+H34,0) -> 1104972

Sheet 15 concreto MR42
A1: FORMATO DE ANALISIS DE PRECIOS UNITARIOS-APU
A2: REPUBLICA DE COLOMBIA | E2: ANALISIS DE PRECIOS UNITARIOS
A4: OBJETO: | B4: =+'PRESUPUESTO DE OBRA'!A2 -> CONSTRUCCIÓN DE PAVIMENTO RÍGIDO EN LA CALLE 4 ENTRE CARRERAS 7 Y 8 SECTOR LA CÁRCEL DEL MUNICIPIO DE AGUADAS, CALDAS | G4: ITEM: | H4: 15
A5: DESCRIPCIÓN: | B5: =VLOOKUP(H4,'PRESUPUESTO DE OBRA'!A:E,2,0) -> Concreto para pavimento 42MR hecho en obra incluye formaleta y acelerante a 7 días | G5: UNIDAD: | H5: =VLOOKUP(H4,'PRESUPUESTO DE OBRA'!A:E,3,0) -> m³
A6: I.EQUIPO
A7: Descripción | D7: Tipo | E7: Tarifa/Hora | F7: Rendimiento | G7: Valor-Unit.
A8: HERRAMIENTA MENOR | D8: GL | G8: =+H35*0.05 -> 20329.701
A9: CONCRETADORA 1 SACO | D9: $/hora | E9: =+'BASE DE DATOS'!D78 -> 10504 | F9: 1 | G9: =+E9/F9 -> 10504
A10: REGLA VIBRATORIA GASOLINA | D10: $/hora | E10: =+'BASE DE DATOS'!D80 -> 15479 | F10: 1 | G10: =+E10/F10 -> 15479
A11: CEPILLO TEXTURIZADOR | D11: $/hora | E11: =+'BASE DE DATOS'!D87 -> 6634 | F11: 1 | G11: =+E11/F11 -> 6634
A12: VIBRADOR DE CONCRETO | D12: $/hora | E12: =+'BASE DE DATOS'!D79 -> 8845 | F12: 1 | G12: =+E12/F12 -> 8845
G13: Sub-Total | H13: =SUM(G8:G12) -> 61791.701
A14: II. MATERIALES EN OBRA
A15: Descripción | D15: Unidad | E15: Precio-Unit. | F15: Cantidad | G15: Valor-Unit.
A16: CEMENTO | D16: KG | E16: =+'BASE DE DATOS'!D35 -> 807 | F16: 500 | G16: =+F16*E16 -> 403500
A17: TRITURADO | D17: M3 | E17: =+'BASE DE DATOS'!D37 -> 105037 | F17: 0.7 | G17: =E17*F17 -> 73525.9
A18: ARENA | D18: M3 | E18: =+'BASE DE DATOS'!D36 -> 99509 | F18: 0.7 | G18: =E18*F18 -> 69656.3
A19: AGUA | D19: LT | E19: =+'BASE DE DATOS'!D31 -> 110 | F19: 150 | G19: =E19*F19 -> 16500
A20: FORMALETA METALICA | D20: UN | E20: =+'BASE DE DATOS'!D81 -> 4976 | F20: 0.3 | G20: =E20*F20 -> 1492.8
A21: LISTON EN AMARILLO 8 x.2.2 x3 | D21: ML | E21: =+'BASE DE DATOS'!D38 -> 6082 | F21: 1 | G21: =E21*F21 -> 6082
A22: PUNTILLA 2" CON CABEZA | D22: LB | E22: =+'BASE DE DATOS'!D39 -> 6082 | F22: 0.2 | G22: =E22*F22 -> 1216.4
A23: ADITIVO ACELERANTE | D23: KG | E23: =+'BASE DE DATOS'!D50 -> 18575 | F23: =2/100*F16 -> 10 | G23: =E23*F23 -> 185750
A24: ANTISOL BLANCO (presentación 20 Kg) | D24: Kg | E24: =+'BASE DE DATOS'!D40 -> 12162 | F24: 1.3 | G24: =E24*F24 -> 15810.6
G25: Sub-Total | H25: =SUM(G16:G24) -> 773534
A26: III.TRANSPORTES
A27: Material | C27: Vol-Peso ó Cant. | D27: Distancia | E27: M3-KM | F27: Tarifa | G27: Valor-Unit.
A28: TRITURADO | C28: M3 | D28: 25 | E28: =D28*F17 -> 17.5 | F28: 2340 | G28: =+F28*E28 -> 40950
A29: ARENA | C29: M3 | D29: 25 | E29: =D29*F18 -> 17.5 | F29: =+F28 -> 2340 | G29: =+F29*E29 -> 40950
G30: Sub-Total | H30: =SUM(G28:G29) -> 81900
A31: IV. MANO DE OBRA
A32: Trabajador | C32: Jornal | D32: Prestaciones | E32: Jornal Total | F32: Rendimiento | G32: Valor-Unit.
A33: OBREROS (2) | C33: =+'BASE DE DATOS'!$D$3*2 -> 116728 | D33: =+'ANALISIS M.O'!$F$2 -> 1.7733266 | E33: =+D33*C33 -> 206996.87 | F33: 0.96728409 | G33: =+E33/F33 -> 213998.01
A34: OFICIAL (1) | C34: =+'BASE DE DATOS'!$D$5 -> 105054 | D34: =+'ANALISIS M.O'!$F$2 -> 1.7733266 | E34: =+D34*C34 -> 186295.06 | F34: =+F33 -> 0.96728409 | G34: =+E34/F34 -> 192596.01
G35: Sub-Total | H35: =SUM(G33:G34) -> 406594.02
E37: Total Costo Directo | H37: =ROUND((+H13+H25+H30+H35),4) -> 1323819.7
A38: V. AU
A39: Descripción | D39: PORCENTAJE | E39: Tarifa/Hora | F39: Rendimiento | G39: Valor-Unit.
A40: ADMINISTRACIÓN | D40: =+'1 localizacion'!$D$37 -> 0.32 | G40: =$H$37*D40 -> 423622.31
A41: UTILIDADES | D41: 0.05 | G41: =$H$37*D41 -> 66190.986
G42: Sub-Total | H42: =SUM(G40:G41) -> 489813.3
...

Sheet 16 sardinel
A1: FORMATO DE ANALISIS DE PRECIOS UNITARIOS-APU
A2: REPUBLICA DE COLOMBIA | E2: ANALISIS DE PRECIOS UNITARIOS
A4: OBJETO: | B4: =+'PRESUPUESTO DE OBRA'!A2 -> CONSTRUCCIÓN DE PAVIMENTO RÍGIDO EN LA CALLE 4 ENTRE CARRERAS 7 Y 8 SECTOR LA CÁRCEL DEL MUNICIPIO DE AGUADAS, CALDAS | G4: ITEM: | H4: 16
A5: DESCRIPCIÓN: | B5: =VLOOKUP(H4,'PRESUPUESTO DE OBRA'!A:E,2,0) -> Suministro e instalación de bordillo en concreto de 3000 psi, ancho 15cm, altura variable, incluye formaleta | G5: UNIDAD: | H5: =VLOOKUP(H4,'PRESUPUESTO DE OBRA'!A:E,3,0) -> ml
A6: I.EQUIPO
A7: Descripción | D7: Tipo | E7: Tarifa/Hora | F7: Rendimiento | G7: Valor-Unit.
A8: HERRAMIENTA MENOR | D8: GL | G8: =+H34*0.05 -> 1563.2464
A9: CONCRETADORA 1 SACO | D9: $/hora | E9: =+'BASE DE DATOS'!D78 -> 10504 | F9: 2 | G9: =+E9/F9 -> 5252
A10: VIBRADOR DE CONCRETO | D10: $/hora | E10: =+'BASE DE DATOS'!D79 -> 8845 | F10: 2 | G10: =+E10/F10 -> 4422.5
G11: Sub-Total | H11: =SUM(G8:G10) -> 11237.746
A12: II. MATERIALES EN OBRA
A13: Descripción | D13: Unidad | E13: Precio-Unit. | F13: Cantidad | G13: Valor-Unit.
A14: CEMENTO | D14: KG | E14: =+'BASE DE DATOS'!D35 -> 807 | F14: =L14*7 -> 0.2205 | G14: =+F14*E14 -> 177.9435 | L14: =0.15*0.2*1.05 -> 0.0315
A15: TRITURADO | D15: M3 | E15: =+'BASE DE DATOS'!D37 -> 105037 | F15: =L14*0.8 -> 0.0252 | G15: =E15*F15 -> 2646.9324
A16: ARENA | D16: M3 | E16: =+'BASE DE DATOS'!D36 -> 99509 | F16: =L14*0.6 -> 0.0189 | G16: =E16*F16 -> 1880.7201
A17: AGUA | D17: LT | E17: =+'BASE DE DATOS'!D31 -> 110 | F17: =L14*150 -> 4.725 | G17: =E17*F17 -> 519.75
A18: LISTON EN AMARILLO 8 x.2.2 x3 | D18: ML | E18: =+'BASE DE DATOS'!D38 -> 6082 | F18: 2 | G18: =E18*F18 -> 12164
A19: PUNTILLA 2" CON CABEZA | D19: LB | E19: =+'BASE DE DATOS'!D39 -> 6082 | F19: 0.2 | G19: =E19*F19 -> 1216.4
A20: ANTISOL BLANCO (presentación 20 Kg) | D20: Kg | E20: =+'BASE DE DATOS'!D40 -> 12162 | F20: 0.5 | G20: =E20*F20 -> 6081
G21: Sub-Total | H21: =SUM(G14:G20) -> 24686.746
A22: III.TRANSPORTES
A23: Material | C23: Vol-Peso ó Cant. | D23: Distancia | E23: M3-KM | F23: Tarifa | G23: Valor-Unit.
A24: TRITURADO | C24: M3 | D24: 25 | E24: =D24*F15 -> 0.63 | F24: 2340 | G24: =+F24*E24 -> 1474.2
A25: ARENA | C25: M3 | D25: 25 | E25: =D25*F16 -> 0.4725 | F25: 2340 | G25: =+F25*E25 -> 1105.65
G26: Sub-Total | H26: =SUM(G24:G25) -> 2579.85
A27: IV. MANO DE OBRA
A28: Trabajador | C28: Jornal | D28: Prestaciones | E28: Jornal Total | F28: Rendimiento | G28: Valor-Unit.
A29: OBREROS (2) | C29: =+'BASE DE DATOS'!$D$3*2 -> 116728 | D29: =+'ANALISIS M.O'!$F$2 -> 1.7733266 | E29: =+D29*C29 -> 206996.87 | F29: 12.579333 | G29: =+E29/F29 -> 16455.314
A30: OFICIAL (1) | C30: =+'BASE DE DATOS'!$D$5 -> 105054 | D30: =+'ANALISIS M.O'!$F$2 -> 1.7733266 | E30: =+D30*C30 -> 186295.06 | F30: =+F29 -> 12.579333 | G30: =+E30/F30 -> 14809.614
G34: Sub-Total | H34: =SUM(G29:G33) -> 31264.928
E36: Total Costo Directo | H36: =ROUND((+H11+H21+H26+H34),4) -> 69769.27
A38: V. AU
A39: Descripción | D39: PORCENTAJE | E39: Tarifa/Hora | F39: Rendimiento | G39: Valor-Unit.
A40: ADMINISTRACIÓN | D40: =+'1 localizacion'!$D$37 -> 0.32 | G40: =$H$36*D40 -> 22326.166
A41: UTILIDADES | D41: 0.05 | G41: =$H$36*D41 -> 3488.4635
G42: Sub-Total | H42: =SUM(G40:G41) -> 25814.63
E45: Total Costo | H45: =ROUND(H42+H36,2) -> 95583.9

Sheet 17 sello
A1: FORMATO DE ANALISIS DE PRECIOS UNITARIOS-APU
A2: REPUBLICA DE COLOMBIA | E2: ANALISIS DE PRECIOS UNITARIOS
A4: OBJETO: | B4: =+'PRESUPUESTO DE OBRA'!A2 -> CONSTRUCCIÓN DE PAVIMENTO RÍGIDO EN LA CALLE 4 ENTRE CARRERAS 7 Y 8 SECTOR LA CÁRCEL DEL MUNICIPIO DE AGUADAS, CALDAS | G4: ITEM: | H4: 17
A5: DESCRIPCIÓN: | B5: =VLOOKUP(H4,'PRESUPUESTO DE OBRA'!A:E,2,0) -> Suministro e instalacion de sello elastomerico de junta de pavimento rigido 5mm | G5: UNIDAD: | H5: =VLOOKUP(H4,'PRESUPUESTO DE OBRA'!A:E,3,0) -> ml
A6: I.EQUIPO
A7: Descripción | D7: Tipo | E7: Tarifa/Hora | F7: Rendimiento | G7: Valor-Unit.
A8: HERRAMIENTA MENOR | G8: =+H31*0.05 -> 164.17571
A9: MAQUINA DE SELLO | E9: =+'BASE DE DATOS'!D84 -> 3317 | F9: 10 | G9: =+E9/F9 -> 331.7
G11: Sub-Total | H11: =SUM(G8:G10) -> 495.87571
A12: II. MATERIALES EN OBRA
A13: Descripción | D13: Unidad | E13: Precio-Unit. | F13: Cantidad | G13: Valor-Unit.
A14: CORDON SIKAROLD | D14: ML | E14: =+'BASE DE DATOS'!D51 -> 1659 | F14: 1.05 | G14: =+F14*E14 -> 1741.95
A15: SELLO ELASTOMERICO | D15: ML | E15: =+'BASE DE DATOS'!D52 -> 7519 | F15: 1.05 | G15: =+F15*E15 -> 7894.95
G17: Sub-Total | H17: =SUM(G14:G16) -> 9636.9
A18: III.TRANSPORTES
A19: Material | C19: Vol-Peso ó Cant. | D19: Distancia | E19: M3-KM | F19: Tarifa | G19: Valor-Unit.
G23: Sub-Total | H23: =SUM(G20:G22) -> 0
A24: IV. MANO DE OBRA
A25: Trabajador | C25: Jornal | D25: Prestaciones | E25: Jornal Total | F25: Rendimiento | G25: Valor-Unit.
A26: AYUDANTE PRACTICO | C26: =+'BASE DE DATOS'!$D$4 -> 81709 | D26: =+'ANALISIS M.O'!$F$2 -> 1.7733266 | E26: =+D26*C26 -> 144896.75 | F26: 75.649189 | G26: =+E26/F26 -> 1915.3774
A27: OBREROS (1) | C27: =+'BASE DE DATOS'!$D$3 -> 58364 | D27: =+'ANALISIS M.O'!$F$2 -> 1.7733266 | E27: =+D27*C27 -> 103498.44 | F27: =+F26 -> 75.649189 | G27: =+E27/F27 -> 1368.1368
G31: Sub-Total | H31: =SUM(G26:G30) -> 3283.5142
E33: Total Costo Directo | H33: =ROUND((+H11+H17+H23+H31),4) -> 13416.29
A35: V. AU
A36: Descripción | D36: PORCENTAJE | E36: Tarifa/Hora | F36: Rendimiento | G36: Valor-Unit.
A37: ADMINISTRACIÓN | D37: =+'1 localizacion'!$D$37 -> 0.32 | G37: =$H$33*D37 -> 4293.2128
A38: UTILIDADES | D38: 0.05 | G38: =$H$33*D38 -> 670.8145
G39: Sub-Total | H39: =SUM(G37:G38) -> 4964.0273
E42: Total Costo | H42: =ROUND(H39+H33,0) -> 18380

Sheet 18 acero 
A1: FORMATO DE ANALISIS DE PRECIOS UNITARIOS-APU
A2: REPUBLICA DE COLOMBIA | E2: ANALISIS DE PRECIOS UNITARIOS
A4: OBJETO: | B4: =+'PRESUPUESTO DE OBRA'!A2 -> CONSTRUCCIÓN DE PAVIMENTO RÍGIDO EN LA CALLE 4 ENTRE CARRERAS 7 Y 8 SECTOR LA CÁRCEL DEL MUNICIPIO DE AGUADAS, CALDAS | G4: ITEM: | H4: 18
A5: DESCRIPCIÓN: | B5: =VLOOKUP(H4,'PRESUPUESTO DE OBRA'!A:E,2,0) -> Acero de refuerzo | G5: UNIDAD: | H5: =VLOOKUP(H4,'PRESUPUESTO DE OBRA'!A:E,3,0) -> kg
A6: I.EQUIPO
A7: Descripción | D7: Tipo | E7: Tarifa/Hora | F7: Rendimiento | G7: Valor-Unit.
A8: HERRAMIENTA MENOR | G8: =+H31*0.05 -> 109.24776
G11: Sub-Total | H11: =SUM(G8:G10) -> 109.24776
A12: II. MATERIALES EN OBRA
A13: Descripción | D13: Unidad | E13: Precio-Unit. | F13: Cantidad | G13: Valor-Unit.
A14: ACERO DE REFUERZO | D14: KG | E14: =+'BASE DE DATOS'!D42 -> 7187 | F14: 1.05 | G14: =+F14*E14 -> 7546.35
A15: ALAMBRE | D15: KG | E15: =+'BASE DE DATOS'!D47 -> 13268 | F15: 0.038 | G15: =+F15*E15 -> 504.184
G17: Sub-Total | H17: =SUM(G14:G16) -> 8050.534
A18: III.TRANSPORTES
A19: Material | C19: Vol-Peso ó Cant. | D19: Distancia | E19: M3-KM | F19: Tarifa | G19: Valor-Unit.
G23: Sub-Total | H23: =SUM(G20:G22) -> 0
A24: IV. MANO DE OBRA
A25: Trabajador | C25: Jornal | D25: Prestaciones | E25: Jornal Total | F25: Rendimiento | G25: Valor-Unit.
A26: OBREROS (2) | C26: =+'BASE DE DATOS'!$D$3*2 -> 116728 | D26: =+'ANALISIS M.O'!$F$2 -> 1.7733266 | E26: =+D26*C26 -> 206996.87 | F26: 180 | G26: =+E26/F26 -> 1149.9826
A27: OFICIAL (1) | C27: =+'BASE DE DATOS'!$D$5 -> 105054 | D27: =+'ANALISIS M.O'!$F$2 -> 1.7733266 | E27: =+D27*C27 -> 186295.06 | F27: =+F26 -> 180 | G27: =+E27/F27 -> 1034.9725
G31: Sub-Total | H31: =SUM(G26:G30) -> 2184.9552
E33: Total Costo Directo | H33: =ROUND((+H11+H17+H23+H31),4) -> 10344.737
A35: V. AU
A36: Descripción | D36: PORCENTAJE | E36: Tarifa/Hora | F36: Rendimiento | G36: Valor-Unit.
A37: ADMINISTRACIÓN | D37: =+'1 localizacion'!$D$37 -> 0.32 | G37: =$H$33*D37 -> 3310.3158
A38: UTILIDADES | D38: 0.05 | G38: =$H$33*D38 -> 517.23685
G39: Sub-Total | H39: =SUM(G37:G38) -> 3827.5527
E42: Total Costo | H42: =ROUND(H39+H33,0) -> 14172

Sheet 19 canastillas
A1: FORMATO DE ANALISIS DE PRECIOS UNITARIOS-APU
A2: REPUBLICA DE COLOMBIA | E2: ANALISIS DE PRECIOS UNITARIOS
A4: OBJETO: | B4: =+'PRESUPUESTO DE OBRA'!A2 -> CONSTRUCCIÓN DE PAVIMENTO RÍGIDO EN LA CALLE 4 ENTRE CARRERAS 7 Y 8 SECTOR LA CÁRCEL DEL MUNICIPIO DE AGUADAS, CALDAS | G4: ITEM: | H4: 19
A5: DESCRIPCIÓN: | B5: =VLOOKUP(H4,'PRESUPUESTO DE OBRA'!A:E,2,0) -> Canastillas para soporte de dovelas | G5: UNIDAD: | H5: =VLOOKUP(H4,'PRESUPUESTO DE OBRA'!A:E,3,0) -> ml
A6: I.EQUIPO
A7: Descripción | D7: Tipo | E7: Tarifa/Hora | F7: Rendimiento | G7: Valor-Unit.
A8: HERRAMIENTA MENOR | G8: =+H31*0.05 -> 550.85571
G11: Sub-Total | H11: =SUM(G8:G10) -> 550.85571
A12: II. MATERIALES EN OBRA
A13: Descripción | D13: Unidad | E13: Precio-Unit. | F13: Cantidad | G13: Valor-Unit.
A14: Canastilla para soporte de dovelas | D14: ml | E14: =+'BASE DE DATOS'!D65 -> 26833 | F14: 1 | G14: =+F14*E14 -> 26833
G17: Sub-Total | H17: =SUM(G14:G16) -> 26833
A18: III.TRANSPORTES
A19: Material | C19: Vol-Peso ó Cant. | D19: Distancia | E19: M3-KM | F19: Tarifa | G19: Valor-Unit.
G23: Sub-Total | H23: =SUM(G20:G22) -> 0
A24: IV. MANO DE OBRA
A25: Trabajador | C25: Jornal | D25: Prestaciones | E25: Jornal Total | F25: Rendimiento | G25: Valor-Unit.
A26: OBREROS (2) | C26: =+'BASE DE DATOS'!$D$3*2 -> 116728 | D26: =+'ANALISIS M.O'!$F$2 -> 1.7733266 | E26: =+D26*C26 -> 206996.87 | F26: 35.698271 | G26: =+E26/F26 -> 5798.5125
A27: OFICIAL (1) | C27: =+'BASE DE DATOS'!$D$5 -> 105054 | D27: =+'ANALISIS M.O'!$F$2 -> 1.7733266 | E27: =+D27*C27 -> 186295.06 | F27: =+F26 -> 35.698271 | G27: =+E27/F27 -> 5218.6017
G31: Sub-Total | H31: =SUM(G26:G30) -> 11017.114
E33: Total Costo Directo | H33: =ROUND((+H11+H17+H23+H31),4) -> 38400.97
A35: V. AU
A36: Descripción | D36: PORCENTAJE | E36: Tarifa/Hora | F36: Rendimiento | G36: Valor-Unit.
A37: ADMINISTRACIÓN | D37: =+'1 localizacion'!$D$37 -> 0.32 | G37: =$H$33*D37 -> 12288.31
A38: UTILIDADES | D38: 0.05 | G38: =$H$33*D38 -> 1920.0485
G39: Sub-Total | H39: =SUM(G37:G38) -> 14208.359
E42: Total Costo | H42: =ROUND(H39+H33,0) -> 52609

Sheet 20 malla 
A1: FORMATO DE ANALISIS DE PRECIOS UNITARIOS-APU
A2: REPUBLICA DE COLOMBIA | E2: ANALISIS DE PRECIOS UNITARIOS
A4: OBJETO: | B4: =+'PRESUPUESTO DE OBRA'!A2 -> CONSTRUCCIÓN DE PAVIMENTO RÍGIDO EN LA CALLE 4 ENTRE CARRERAS 7 Y 8 SECTOR LA CÁRCEL DEL MUNICIPIO DE AGUADAS, CALDAS | G4: ITEM: | H4: 20
A5: DESCRIPCIÓN: | B5: =VLOOKUP(H4,'PRESUPUESTO DE OBRA'!A:E,2,0) -> Suministro e instalación de malla electrosoldada 15x15cm x 4mm | G5: UNIDAD: | H5: =VLOOKUP(H4,'PRESUPUESTO DE OBRA'!A:E,3,0) -> m2
A6: I.EQUIPO
A7: Descripción | D7: Tipo | E7: Tarifa/Hora | F7: Rendimiento | G7: Valor-Unit.
A8: HERRAMIENTA MENOR | G8: =+H31*0.05 -> 245.80746
G11: Sub-Total | H11: =SUM(G8:G10) -> 245.80746
A12: II. MATERIALES EN OBRA
A13: Descripción | D13: Unidad | E13: Precio-Unit. | F13: Cantidad | G13: Valor-Unit.
A14: Malla electrosoldada 15x15 4mm | D14: m2 | E14: 17884 | F14: 1 | G14: =+F14*E14 -> 17884
G17: Sub-Total | H17: =SUM(G14:G16) -> 17884
A18: III.TRANSPORTES
A19: Material | C19: Vol-Peso ó Cant. | D19: Distancia | E19: M3-KM | F19: Tarifa | G19: Valor-Unit.
G23: Sub-Total | H23: =SUM(G20:G22) -> 0
A24: IV. MANO DE OBRA
A25: Trabajador | C25: Jornal | D25: Prestaciones | E25: Jornal Total | F25: Rendimiento | G25: Valor-Unit.
A26: OBREROS (2) | C26: =+'BASE DE DATOS'!$D$3*2 -> 116728 | D26: =+'ANALISIS M.O'!$F$2 -> 1.7733266 | E26: =+D26*C26 -> 206996.87 | F26: 80 | G26: =+E26/F26 -> 2587.4609
A27: OFICIAL (1) | C27: =+'BASE DE DATOS'!$D$5 -> 105054 | D27: =+'ANALISIS M.O'!$F$2 -> 1.7733266 | E27: =+D27*C27 -> 186295.06 | F27: =+F26 -> 80 | G27: =+E27/F27 -> 2328.6882
G31: Sub-Total | H31: =SUM(G26:G30) -> 4916.1491
E33: Total Costo Directo | H33: =ROUND((+H11+H17+H23+H31),4) -> 23045.957
A35: V. AU
A36: Descripción | D36: PORCENTAJE | E36: Tarifa/Hora | F36: Rendimiento | G36: Valor-Unit.
A37: ADMINISTRACIÓN | D37: 0.32 | G37: =$H$33*D37 -> 7374.7061
A38: UTILIDADES | D38: 0.05 | G38: =$H$33*D38 -> 1152.2978
G39: Sub-Total | H39: =SUM(G37:G38) -> 8527.0039
E42: Total Costo | H42: =ROUND(H39+H33,0) -> 31573

Sheet 21 tubería 8"
A1: FORMATO DE ANALISIS DE PRECIOS UNITARIOS-APU
A2: REPUBLICA DE COLOMBIA | E2: ANALISIS DE PRECIOS UNITARIOS
A4: OBJETO: | B4: =+'PRESUPUESTO DE OBRA'!A2 -> CONSTRUCCIÓN DE PAVIMENTO RÍGIDO EN LA CALLE 4 ENTRE CARRERAS 7 Y 8 SECTOR LA CÁRCEL DEL MUNICIPIO DE AGUADAS, CALDAS | G4: ITEM: | H4: 21
A5: DESCRIPCIÓN: | B5: =VLOOKUP(H4,'PRESUPUESTO DE OBRA'!A:E,2,0) -> Suministro e instalación de tubería PVC corrugada de 8" | G5: UNIDAD: | H5: =VLOOKUP(H4,'PRESUPUESTO DE OBRA'!A:E,3,0) -> ml
A6: I.EQUIPO
A7: Descripción | D7: Tipo | E7: Tarifa/Hora | F7: Rendimiento | G7: Valor-Unit.
A8: HERRAMIENTA MENOR | G8: =+H31*0.05 -> 1515.0784
G11: Sub-Total | H11: =SUM(G8:G10) -> 1515.0784
A12: II. MATERIALES EN OBRA
A13: Descripción | D13: Unidad | E13: Precio-Unit. | F13: Cantidad | G13: Valor-Unit.
A14: TUBERIA NOVAFORT 8" | D14: ml | E14: =+'BASE DE DATOS'!D95 -> 89558 | F14: 1 | G14: =E14*F14 -> 89558
G17: Sub-Total | H17: =SUM(G14:G16) -> 89558
A18: III.TRANSPORTES
A19: Material | C19: Vol-Peso ó Cant. | D19: Distancia | E19: M3-KM | F19: Tarifa | G19: Valor-Unit.
G23: Sub-Total | H23: =SUM(G20:G22) -> 0
A24: IV. MANO DE OBRA
A25: Trabajador | C25: Jornal | D25: Prestaciones | E25: Jornal Total | F25: Rendimiento | G25: Valor-Unit.
A26: OBREROS (2) | C26: =+'BASE DE DATOS'!$D$3*2 -> 116728 | D26: =+'ANALISIS M.O'!$F$2 -> 1.7733266 | E26: =+D26*C26 -> 206996.87 | F26: 12.97926 | G26: =+E26/F26 -> 15948.28
A27: OFICIAL (1) | C27: =+'BASE DE DATOS'!$D$5 -> 105054 | D27: =+'ANALISIS M.O'!$F$2 -> 1.7733266 | E27: =+D27*C27 -> 186295.06 | F27: =+F26 -> 12.97926 | G27: =+E27/F27 -> 14353.288
G31: Sub-Total | H31: =SUM(G26:G30) -> 30301.567
E33: Total Costo Directo | H33: =ROUND((+H11+H17+H23+H31),4) -> 121374.65
A35: V. AU
A36: Descripción | D36: PORCENTAJE | E36: Tarifa/Hora | F36: Rendimiento | G36: Valor-Unit.
A37: ADMINISTRACIÓN | D37: =+'1 localizacion'!$D$37 -> 0.32 | G37: =$H$33*D37 -> 38839.887
A38: UTILIDADES | D38: 0.05 | G38: =$H$33*D38 -> 6068.7323
G39: Sub-Total | H39: =SUM(G37:G38) -> 44908.619
E42: Total Costo | H42: =ROUND(H39+H33,0) -> 166283

Sheet 22 empalme
A1: FORMATO DE ANALISIS DE PRECIOS UNITARIOS-APU
A2: REPUBLICA DE COLOMBIA | E2: ANALISIS DE PRECIOS UNITARIOS
A4: OBJETO: | B4: =+'PRESUPUESTO DE OBRA'!A2 -> CONSTRUCCIÓN DE PAVIMENTO RÍGIDO EN LA CALLE 4 ENTRE CARRERAS 7 Y 8 SECTOR LA CÁRCEL DEL MUNICIPIO DE AGUADAS, CALDAS | G4: ITEM: | H4: 22
A5: DESCRIPCIÓN: | B5: =VLOOKUP(H4,'PRESUPUESTO DE OBRA'!A:E,2,0) -> Empalme a cámara | G5: UNIDAD: | H5: =VLOOKUP(H4,'PRESUPUESTO DE OBRA'!A:E,3,0) -> und
A6: I.EQUIPO
A7: Descripción | D7: Tipo | E7: Tarifa/Hora | F7: Rendimiento | G7: Valor-Unit.
A8: HERRAMIENTA MENOR | G8: =+H31*0.05 -> 4059.9897
G11: Sub-Total | H11: =SUM(G8:G10) -> 4059.9897
A12: II. MATERIALES EN OBRA
A13: Descripción | D13: Unidad | E13: Precio-Unit. | F13: Cantidad | G13: Valor-Unit.
A15: CONCRETO 3000 P.S.I | D15: M3 | E15: =+'BASE DE DATOS'!D94 -> 938554 | F15: 0.05 | G15: =+F15*E15 -> 46927.7
G17: Sub-Total | H17: =SUM(G14:G16) -> 46927.7
A18: III.TRANSPORTES
A19: Material | C19: Vol-Peso ó Cant. | D19: Distancia | E19: M3-KM | F19: Tarifa | G19: Valor-Unit.
G23: Sub-Total | H23: =SUM(G20:G22) -> 0
A24: IV. MANO DE OBRA
A25: Trabajador | C25: Jornal | D25: Prestaciones | E25: Jornal Total | F25: Rendimiento | G25: Valor-Unit.
A26: OBREROS (2) | C26: =+'BASE DE DATOS'!$D$3*2 -> 116728 | D26: =+'ANALISIS M.O'!$F$2 -> 1.7733266 | E26: =+D26*C26 -> 206996.87 | F26: 4.8435089 | G26: =+E26/F26 -> 42736.965
A27: OFICIAL (1) | C27: =+'BASE DE DATOS'!$D$5 -> 105054 | D27: =+'ANALISIS M.O'!$F$2 -> 1.7733266 | E27: =+D27*C27 -> 186295.06 | F27: =+F26 -> 4.8435089 | G27: =+E27/F27 -> 38462.829
G31: Sub-Total | H31: =SUM(G26:G30) -> 81199.795
E33: Total Costo Directo | H33: =ROUND((+H11+H17+H23+H31),4) -> 132187.48
A35: V. AU
A36: Descripción | D36: PORCENTAJE | E36: Tarifa/Hora | F36: Rendimiento | G36: Valor-Unit.
A37: ADMINISTRACIÓN | D37: =+'1 localizacion'!$D$37 -> 0.32 | G37: =$H$33*D37 -> 42299.995
A38: UTILIDADES | D38: 0.05 | G38: =$H$33*D38 -> 6609.3742
G39: Sub-Total | H39: =SUM(G37:G38) -> 48909.369
E42: Total Costo | H42: =ROUND(H39+H33,0) -> 181097

Sheet 23 Sumidero T
A1: FORMATO DE ANALISIS DE PRECIOS UNITARIOS-APU
A2: REPUBLICA DE COLOMBIA | E2: ANALISIS DE PRECIOS UNITARIOS
A4: OBJETO: | B4: =+'PRESUPUESTO DE OBRA'!A2 -> CONSTRUCCIÓN DE PAVIMENTO RÍGIDO EN LA CALLE 4 ENTRE CARRERAS 7 Y 8 SECTOR LA CÁRCEL DEL MUNICIPIO DE AGUADAS, CALDAS | G4: ITEM: | H4: 23
A5: DESCRIPCIÓN: | B5: =VLOOKUP(H4,'PRESUPUESTO DE OBRA'!A:E,2,0) -> Suministro, transporte e instalación sumidero transversal en concreto de 3.000 psi. Incluye reja en varilla corrugada de 1", angulo de 1 1/2" x 3/16 y platina de 1 1/2" x 3/16. Espesor muros 12cm. Incluye acero de refuerzo. | G5: UNIDAD: | H5: =VLOOKUP(H4,'PRESUPUESTO DE OBRA'!A:E,3,0) -> ml
A6: I.EQUIPO
A7: Descripción | D7: Tipo | E7: Tarifa/Hora | F7: Rendimiento | G7: Valor-Unit.
A8: HERRAMIENTA MENOR | G8: =+H34*0.05 -> 20009.627
G11: Sub-Total | H11: =SUM(G8:G10) -> 20009.627
A12: II. MATERIALES EN OBRA
A13: Descripción | D13: Unidad | E13: Precio-Unit. | F13: Cantidad | G13: Valor-Unit.
A14: CEMENTO | D14: KG | E14: =+'BASE DE DATOS'!D35 -> 807 | F14: 350 | G14: =+F14*E14 -> 282450
A15: TRITURADO | D15: M3 | E15: =+'BASE DE DATOS'!D37 -> 105037 | F15: 0.8 | G15: =E15*F15 -> 84029.6
A16: ARENA | D16: M3 | E16: =+'BASE DE DATOS'!D36 -> 99509 | F16: 0.6 | G16: =E16*F16 -> 59705.4
A17: AGUA | D17: LT | E17: =+'BASE DE DATOS'!D31 -> 110 | F17: 150 | G17: =E17*F17 -> 16500
A18: TABLA FORMALETA | D18: ML | E18: =+'BASE DE DATOS'!D43 -> 7740 | F18: 2 | G18: =+F18*E18 -> 15480
A19: PUNTILLA | D19: LB | E19: =+'BASE DE DATOS'!D39 -> 6082 | F19: 1 | G19: =+F19*E19 -> 6082
A20: MARCO REJA EN VARILLA CORRUGADA 1" | D20: UN | E20: =+'BASE DE DATOS'!D93 -> 450000 | F20: 1 | G20: =+F20*E20 -> 450000
G21: Sub-Total | H21: =SUM(G14:G20) -> 914247
A22: III.TRANSPORTES
A23: Material | C23: Vol-Peso ó Cant. | D23: Distancia | E23: M3-KM | F23: Tarifa | G23: Valor-Unit.
A24: TRITURADO | C24: M3 | D24: 25 | E24: =D24*F15 -> 20 | F24: 2340 | G24: =+F24*E24 -> 46800
A25: ARENA | C25: M3 | D25: 25 | E25: =D25*F16 -> 15 | F25: =+F24 -> 2340 | G25: =+F25*E25 -> 35100
G26: Sub-Total | H26: =SUM(G24:G25) -> 81900
A27: IV. MANO DE OBRA
A28: Trabajador | C28: Jornal | D28: Prestaciones | E28: Jornal Total | F28: Rendimiento | G28: Valor-Unit.
A29: OBREROS (4) | C29: =+'BASE DE DATOS'!$D$3*4 -> 233456 | D29: =+'ANALISIS M.O'!$F$2 -> 1.7733266 | E29: =+D29*C29 -> 413993.74 | F29: 1.5 | G29: =+E29/F29 -> 275995.83
A30: OFICIAL (1) | C30: =+'BASE DE DATOS'!$D$5 -> 105054 | D30: =+'ANALISIS M.O'!$F$2 -> 1.7733266 | E30: =+D30*C30 -> 186295.06 | F30: =+F29 -> 1.5 | G30: =+E30/F30 -> 124196.7
G34: Sub-Total | H34: =SUM(G29:G33) -> 400192.53
E36: Total Costo Directo | H36: =ROUND((+H11+H21+H26+H34),0) -> 1416349
A38: V. AU
A39: Descripción | D39: PORCENTAJE | E39: Tarifa/Hora | F39: Rendimiento | G39: Valor-Unit.
A40: ADMINISTRACIÓN | D40: =+'1 localizacion'!$D$37 -> 0.32 | G40: =H36*D40 -> 453231.68
A41: UTILIDADES | D41: 0.05 | G41: =H36*D41 -> 70817.45
G42: Sub-Total | H42: =SUM(G40:G41) -> 524049.13
E45: Total Costo | H45: =ROUND(H42+H36,0) -> 1940398

Sheet 24 Tapa con aro
A1: FORMATO DE ANALISIS DE PRECIOS UNITARIOS-APU
A2: REPUBLICA DE COLOMBIA | E2: ANALISIS DE PRECIOS UNITARIOS
A4: OBJETO: | B4: =+'PRESUPUESTO DE OBRA'!A2 -> CONSTRUCCIÓN DE PAVIMENTO RÍGIDO EN LA CALLE 4 ENTRE CARRERAS 7 Y 8 SECTOR LA CÁRCEL DEL MUNICIPIO DE AGUADAS, CALDAS | G4: ITEM: | H4: 24
A5: DESCRIPCIÓN: | B5: =VLOOKUP(H4,'PRESUPUESTO DE OBRA'!A:E,2,0) -> Suministro, transporte e instalación de tapa con aro pozo de inspección en HF D=0.59cm para trafico pesado. | G5: UNIDAD: | H5: =VLOOKUP(H4,'PRESUPUESTO DE OBRA'!A:E,3,0) -> Un
A6: I.EQUIPO
A7: Descripción | D7: Tipo | E7: Tarifa/Hora | F7: Rendimiento | G7: Valor-Unit.
A8: HERRAMIENTA MENOR | G8: =+H31*0.05 -> 7609.792
G11: Sub-Total | H11: =SUM(G8:G10) -> 7609.792
A12: II. MATERIALES EN OBRA
A13: Descripción | D13: Unidad | E13: Precio-Unit. | F13: Cantidad | G13: Valor-Unit.
A14: TAPA EN HF | D14: UN | E14: =+'BASE DE DATOS'!D54 -> 718674 | F14: 1 | G14: =E14*F14 -> 718674
G17: Sub-Total | H17: =SUM(G14:G16) -> 718674
A18: III.TRANSPORTES
A19: Material | C19: Vol-Peso ó Cant. | D19: Distancia | E19: M3-KM | F19: Tarifa | G19: Valor-Unit.
G23: Sub-Total | H23: =SUM(G20:G22) -> 0
A24: IV. MANO DE OBRA
A25: Trabajador | C25: Jornal | D25: Prestaciones | E25: Jornal Total | F25: Rendimiento | G25: Valor-Unit.
A26: OBREROS (4) | C26: =+'BASE DE DATOS'!$D$3*2 -> 116728 | D26: =+'ANALISIS M.O'!$F$2 -> 1.7733266 | E26: =+D26*C26 -> 206996.87 | F26: 2.5841175 | G26: =+E26/F26 -> 80103.507
A27: OFICIAL (1) | C27: =+'BASE DE DATOS'!$D$5 -> 105054 | D27: =+'ANALISIS M.O'!$F$2 -> 1.7733266 | E27: =+D27*C27 -> 186295.06 | F27: =+F26 -> 2.5841175 | G27: =+E27/F27 -> 72092.332
G31: Sub-Total | H31: =SUM(G26:G30) -> 152195.84
E33: Total Costo Directo | H33: =ROUND((+H11+H17+H23+H31),4) -> 878479.63
A35: V. AU
A36: Descripción | D36: PORCENTAJE | E36: Tarifa/Hora | F36: Rendimiento | G36: Valor-Unit.
