Workbook
Name _________AFC1: [1]INV!$A$25:$D$28
Name _________AFC3: [1]INV!$F$25:$I$28
Name _________AFC5: [1]INV!$K$25:$N$28
Name _________BGC1: [1]INV!$A$5:$D$8
Name _________BGC3: [1]INV!$F$5:$I$8
Name _________BGC5: [1]INV!$K$5:$N$8
Name _________CAC1: [1]INV!$A$19:$D$22
Name _________CAC3: [1]INV!$F$19:$I$22
Name _________CAC5: [1]INV!$K$19:$N$22
Name _________key2: [2]INST!#REF!
Name _________key2: [2]INST!#REF!
Name _________key2: [2]INST!#REF!
Name _________SBC1: [1]INV!$A$12:$D$15
Name _________SBC3: [1]INV!$F$12:$I$15
Name _________SBC5: [1]INV!$K$12:$N$15
Name ________AFC1: [1]INV!$A$25:$D$28
Name ________AFC3: [1]INV!$F$25:$I$28
Name ________AFC5: [1]INV!$K$25:$N$28
Name ________BGC1: [1]INV!$A$5:$D$8
Name ________BGC3: [1]INV!$F$5:$I$8
Name ________BGC5: [1]INV!$K$5:$N$8
Name ________CAC1: [1]INV!$A$19:$D$22
Name ________CAC3: [1]INV!$F$19:$I$22
Name ________CAC5: [1]INV!$K$19:$N$22
Name ________key2: [3]INST!#REF!
Name ________key2: [3]INST!#REF!
Name ________key2: [3]INST!#REF!
Name ________SBC1: [1]INV!$A$12:$D$15
Name ________SBC3: [1]INV!$F$12:$I$15
Name ________SBC5: [1]INV!$K$12:$N$15
Name _______AFC1: [1]INV!$A$25:$D$28
Name _______AFC3: [1]INV!$F$25:$I$28
Name _______AFC5: [1]INV!$K$25:$N$28
Name _______BGC1: [1]INV!$A$5:$D$8
Name _______BGC3: [1]INV!$F$5:$I$8
Name _______BGC5: [1]INV!$K$5:$N$8
Name _______CAC1: [1]INV!$A$19:$D$22
Name _______CAC3: [1]INV!$F$19:$I$22
Name _______CAC5: [1]INV!$K$19:$N$22
Name _______SBC1: [1]INV!$A$12:$D$15
Name _______SBC3: [1]INV!$F$12:$I$15
Name _______SBC5: [1]INV!$K$12:$N$15
Name ______AFC1: [1]INV!$A$25:$D$28
Name ______AFC3: [1]INV!$F$25:$I$28
Name ______AFC5: [1]INV!$K$25:$N$28
Name ______BGC1: [1]INV!$A$5:$D$8
Name ______BGC3: [1]INV!$F$5:$I$8
Name ______BGC5: [1]INV!$K$5:$N$8
Name ______CAC1: [1]INV!$A$19:$D$22
Name ______CAC3: [1]INV!$F$19:$I$22
Name ______CAC5: [1]INV!$K$19:$N$22
Name ______SBC1: [1]INV!$A$12:$D$15
Name ______SBC3: [1]INV!$F$12:$I$15
Name ______SBC5: [1]INV!$K$12:$N$15
Name _____AFC1: [1]INV!$A$25:$D$28
Name _____AFC3: [1]INV!$F$25:$I$28
Name _____AFC5: [1]INV!$K$25:$N$28
Name _____ane7: [4]!_xlbgnm.ane7
Name _____ane7: [4]!_xlbgnm.ane7
Name _____ane7: [4]!_xlbgnm.ane7

Sheet PRESUPUESTO
B2: ESTRUCTURA DE COSTOS DE LA INTERVENTORÍA
B3: OBJETO DEL PROCESO: | D3: REALIZAR LA INTERVENTORÍA INTEGRAL, TÉCNICA, ADMINISTRATIVA,FINANCIERA, CONTABLE Y JURÍDICA AL CONTRATO CUYO OBJETO ES ELSUMINISTRO, INSTALACIÓN, CONFIGURACIÓN Y PUESTA EN MARCHA DE UNA SOLUCIÓN DE EQUIPOS PARA EL FORTALECIMIENTO Y EXPANSIÓN DE LOS COMPONENTES DEL SISTEMA INTELIGENTE DE TRANSPORTE (SIT), QUE PERMITAN LA CAPTURA DE LA INFORMACIÓN, ANÁLISIS, RECOLECCIÓN DE DATOS PARA SISTEMA DE MONITOREO Y DETECCIÓN ELECTRÓNICA DE INFRACCIONES EN ZONAS DETERMINADAS DE LA CIUDAD.
B6: DATOS DEL PRESUPUESTO OFICIAL Y PLAZO
D8: COSTOS SALARIALES POR PERSONAL | E8: =E40 -> 966491030 | F8: =E8-E40 -> 0 | H8: VALOR DEL CONTRATO VIGILADO | J8: 15000000000
D10: FACTOR MULTIPLICADOR | E10: ='FACTOR MULTIPLICADOR'!J111 -> 1.9115527 | H10: VALOR DE LA INTERVENTORÍA | J10: =E22 -> 2511489392
D12: SUBTOTAL COSTOS SALARIALES CON FACTOR MULTIPLICADOR | E12: =ROUND(E8*E10,0) -> 1847498567 | H12: PORCENTAJE DE LA INTERVENTORÍA Vs VIGILADO | J12: =J10/J8 -> 0.16743263
D14: COSTOS OPERACIONALES | E14: =J47 -> 262996720
H15: DISPONIBILIDAD PRESUPUESTAL
D16: TOTAL VALOR BRUTO INTERVENTORÍA | E16: =E12+E14 -> 2110495287 | H16: VIGENCIA 2026 | I16: CDP 3652-03/09/2026 | J16: 2216326340
H17: VIGENCIA 2026 | I17: CDP 3696 -26/09/2026 | J17: 658909461
D18: IVA - 19% | E18: =ROUND(E16*0.19,0) -> 400994105 | F18: =E18-J51 -> 0 | I18: TOTAL DISPONIBLE | J18: =SUM(J16:J17) -> 2875235801
H20: ETAPAS DESARROLLO DE LA INTERVENTORÍA | J20: DURACIÓN (MESES)
H21: ETAPA DE ACOMPAÑAMIENTO Y EJECUCIÓN | J21: 10
D22: VALOR DEL CONTRATO | E22: 2511489392
D23: VALOR EN S.M.M.L.V. DEL CONTRATO | E23: =E22/1750905 -> 1434.395
I24: TOTAL PLAZO | J24: 10
B26: 1. | C26: COSTOS DE PERSONAL PROFESIONAL, TÉCNICO Y PERSONAL
B27: ITEM | C27: CANTIDAD | D27: CARGO | E27: VALOR SALARIAL (MENSUAL) | F27: FACTOR MULTIPLICADOR | G27: DEDICACIÓN ETAPA DE ACOMPAÑAMIENTO Y EJECUCIÓN | J27: VALOR PARCIAL | N27: DURACIÓN ETAPA REVISIÓN DISEÑOS | O27: DURACIÓN ETAPA ACOMPAÑAMIENTO EJEC. OBRA | P27: DURACIÓN ETAPA LIQUIDACIÓN
B28: PERSONAL REQUERIDO
B29: 1 | C29: 1 | D29: Director de Interventoría | E29: =ROUND('VALORES SALARIOS'!O8,0) -> 16454000 | F29: =+'FACTOR MULTIPLICADOR'!J111 -> 1.9115527 | G29: 1 | J29: =ROUND((C29*E29*F29*G29*$J$21),0) -> 314526886 | L29: =+ROUND((E29*F29*C29*10),0) -> 314526886 | N29: =$J$21 -> 10 | O29: =$J$22 | P29: =$J$23
B30: 2 | C30: 1 | D30: Profesional financiero/contable | E30: =ROUND('VALORES SALARIOS'!O9,0) -> 11077173 | F30: =+'FACTOR MULTIPLICADOR'!J111 -> 1.9115527 | G30: 1 | J30: =ROUND((C30*E30*F30*G30*$J$21),0) -> 211746003 | L30: =+ROUND((E30*F30*C30*10),0) -> 211746003 | N30: =$J$21 -> 10 | O30: =$J$22 | P30: =$J$23
B31: 3 | C31: 1 | D31: Profesional jurídico | E31: =ROUND('VALORES SALARIOS'!O10,0) -> 11077173 | F31: =+'FACTOR MULTIPLICADOR'!J111 -> 1.9115527 | G31: 1 | J31: =ROUND((C31*E31*F31*G31*$J$21),0) -> 211746003 | L31: =+ROUND((E31*F31*C31*10),0) -> 211746003 | N31: =$J$21 -> 10 | O31: =$J$22 | P31: =$J$23
B32: 4 | C32: 1 | D32: Profesional HSEQ | E32: =ROUND('VALORES SALARIOS'!O11,0) -> 7736262 | F32: =+'FACTOR MULTIPLICADOR'!J111 -> 1.9115527 | G32: 1 | J32: =ROUND((C32*E32*F32*G32*$J$21),0) -> 147882727 | L32: =+ROUND((E32*F32*C32*10),0) -> 147882727 | N32: =$J$21 -> 10 | O32: =$J$22 | P32: =$J$23
B33: 5 | C33: 1 | D33: Ingeniero Interventoria técnica | E33: =ROUND('VALORES SALARIOS'!O12,0) -> 8894918 | F33: =+'FACTOR MULTIPLICADOR'!J111 -> 1.9115527 | G33: 1 | J33: =ROUND((C33*E33*F33*G33*$J$21),0) -> 170031048 | L33: =+ROUND((E33*F33*C33*10),0) -> 170031048 | N33: =$J$21 -> 10 | O33: =$J$22 | P33: =$J$23
B34: 6 | C34: 1 | D34: Interventor Sistemas de Información | E34: =ROUND('VALORES SALARIOS'!O13,0) -> 9055500 | F34: =+'FACTOR MULTIPLICADOR'!J111 -> 1.9115527 | G34: 1 | J34: =ROUND((C34*E34*F34*G34*$J$21),0) -> 173100657 | L34: =+ROUND((E34*F34*C34*10),0) -> 173100657 | N34: =$J$21 -> 10 | O34: =$J$22 | P34: =$J$23
B35: 7 | C35: 1 | D35: Residente de Obras Civiles | E35: =ROUND('VALORES SALARIOS'!O14,0) -> 8094323 | F35: =+'FACTOR MULTIPLICADOR'!J111 -> 1.9115527 | G35: 1 | J35: =ROUND((C35*E35*F35*G35*$J$21),0) -> 154727252 | L35: =+ROUND((E35*F35*C35*10),0) -> 154727252 | N35: =$J$21 -> 10 | O35: =$J$22 | P35: =$J$23
B36: 8 | C36: 1 | D36: Técnico de obras civiles | E36: =ROUND('VALORES SALARIOS'!O15,0) -> 5773257 | F36: =+'FACTOR MULTIPLICADOR'!J111 -> 1.9115527 | G36: 1 | J36: =ROUND((C36*E36*F36*G36*$J$21),0) -> 110358852 | L36: =+ROUND((E36*F36*C36*10),0) -> 110358852 | N36: =$J$21 -> 10 | O36: =$J$22 | P36: =$J$23
B37: 9 | C37: 2 | D37: Profesional técnico de campo | E37: =ROUND('VALORES SALARIOS'!O16,0) -> 6864952 | F37: =+'FACTOR MULTIPLICADOR'!J111 -> 1.9115527 | G37: 1 | J37: =ROUND((C37*E37*F37*G37*$J$21),0) -> 262454355 | L37: =+ROUND((E37*F37*C37*10),0) -> 262454355 | N37: =$J$21 -> 10 | O37: =$J$22 | P37: =$J$23
B38: 10 | C38: 1 | D38: Gestor documental | E38: =ROUND('VALORES SALARIOS'!O17,0) -> 4756593 | F38: =+'FACTOR MULTIPLICADOR'!J111 -> 1.9115527 | G38: 1 | J38: =ROUND((C38*E38*F38*G38*$J$21),0) -> 90924783 | L38: =+ROUND((E38*F38*C38*10),0) -> 90924783 | N38: =$J$21 -> 10 | O38: =$J$22 | P38: =$J$23
J39: 1
D40: SUBTOTAL COSTOS DE PERSONAL PROFESIONAL Y TÉCNICO (Salarios básicos durante la ejecución del contrato) | E40: =ROUND((SUMPRODUCT(C29:C39,E29:E39,G29:G39,N29:N39)+SUMPRODUCT(C29:C39,E29:E39,H29:H39,O29:O39)+SUMPRODUCT(C29:C39,E29:E39,I29:I39,P29:P39)),0) -> 966491030 | G40: SUBTOTAL COSTOS DE PERSONAL PROFESIONAL Y TÉCNICO AFECTADO POR FACTOR MULTIPLICADOR | J40: =ROUND(SUM(J29:J39),0) -> 1847498567
B43: 4. | C43: COSTOS OPERACIONALES
B44: ÍTEM | C44: CANTIDAD | D44: DESCRIPCIÓN | E44: TARIFA (MENSUAL O ÚNICA)-PRECIO UNITARIO | G44: DEDICACIÓN DE ACOMPAÑAMIENTO Y EJECUCIÓN | H44: MESES | J44: SUBTOTAL COSTO OPERACIONAL
B45: 1 | C45: 1 | D45: Camioneta, modelo 2022 en adelante, matriculada en Bogotá D.C., con conductor incluido, documentación vigente y disponibilidad 24 horas, conforme a lo establecido en el numeral 9 “Recurso Técnicos” del Anexo Técnico. | E45: =+'VALORES COSTOS Y GASTOS OPERACI'!U10 -> 14000000 | G45: 1 | H45: 10 | J45: =ROUND((C45*E45*G45*H45),0) -> 140000000
B46: 2 | C46: 4 | D46: Motocicletas modelo 2022 en adelante, matriculadas en Bogotá D.C., documentación vigente y disponibilidad 24 horas,conforme a lo establecido en el numeral 9 “Recurso Técnicos” del Anexo Técnico. | E46: 3074918 | G46: 1 | H46: 10 | J46: =ROUND((C46*E46*G46*H46),0) -> 122996720
G47: SUBTOTAL COSTOS OPERACIONALES | J47: =SUM(J45:J46) -> 262996720
G49: TOTAL VALOR BRUTO INTERVENTORÍA | J49: =J40+J47 -> 2110495287
G51: I.V.A. | I51: 0.19 | J51: =ROUND(J49*I51,0) -> 400994105
G53: VALOR TOTAL NETO DE LA INTERVENTORÍA | J53: =J49+J51 -> 2511489392
N92: https://bibliotecadigital.udea.edu.co/bitstream/10495/14797/1/CastrillonEmmanuel_2019_ConsultoriaInterventoriaIngenieria.pdf

Sheet FACTOR MULTIPLICADOR
B2: ESTRUCTURA DE COSTOS DE LA INTERVENTORÍA
B3: OBJETO DEL PROCESO: | D3: REALIZAR LA INTERVENTORÍA INTEGRAL, TÉCNICA, ADMINISTRATIVA,FINANCIERA, CONTABLE Y JURÍDICA AL CONTRATO CUYO OBJETO ES ELSUMINISTRO, INSTALACIÓN, CONFIGURACIÓN Y PUESTA EN MARCHA DE UNA SOLUCIÓN DE EQUIPOS PARA EL FORTALECIMIENTO Y EXPANSIÓN DE LOS COMPONENTES DEL SISTEMA INTELIGENTE DE TRANSPORTE (SIT), QUE PERMITAN LA CAPTURA DE LA INFORMACIÓN, ANÁLISIS, RECOLECCIÓN DE DATOS PARA SISTEMA DE MONITOREO Y DETECCIÓN ELECTRÓNICA DE INFRACCIONES EN ZONAS DETERMINADAS DE LA CIUDAD.
B6: DATOS DEL PRESUPUESTO OFICIAL Y PLAZO
D8: RESUMEN DE COSTOS
F9: F.M.
D10: COSTOS PERSONAL | E10: =E47 -> 966491030 | F10: =E10/$E$10 -> 1 | H10: VALOR DEL CONTRATO VIGILADO | J10: 15000000000
D11: CARGA PRESTACIONAL | E11: =E71 -> 418251420 | F11: =E11/$E$10 -> 0.43275251
D12: COSTOS OPERACIONALES | E12: =I77 -> 26427170 | F12: =E12/$E$10 -> 0.02734342 | H12: VALOR DE LA INTERVENTORÍA | J12: =E26 -> 2511489392
D13: IMPUESTOS, TASAS, CONTRIBUCIONES (NO INCLUYE IVA) | E13: =I90 -> 257607054 | F13: =E13/$E$10 -> 0.26653848
D14: GARANTÍAS | E14: =I101 -> 4753508 | F14: =E14/$E$10 -> 0.0049183157 | H14: PORCENTAJE DE LA INTERVENTORÍA Vs VIGILADO | J14: =J12/J10 -> 0.16743263
D15: UTILIDAD | E15: =I107 -> 173968385 | F15: =E15/$E$10 -> 0.18
D16: SUBTOTAL | E16: =SUM(E10:E15) -> 1847498567 | F16: =SUM(F10:F15) -> 1.9115527 | G16: =F16-J111 -> 0
D18: COSTOS OPERACIONALES | E18: =PRESUPUESTO!J47 -> 262996720 | H18: DISPONIBILIDAD PRESUPUESTAL
H19: VIGENCIA 2026 | I19: CDP 3652-03/09/26 | J19: =PRESUPUESTO!J16 -> 2216326340
D20: TOTAL VALOR BRUTO INTERVENTORÍA | E20: =E16+E18 -> 2110495287 | H20: VIGENCIA 2026 | I20: CDP 3696-26/09/26 | J20: =PRESUPUESTO!J17 -> 658909461
H21: VIGENCIA 2027 | J21: 0
I22: TOTAL DISPONIBLE | J22: =SUM(J19:J20) -> 2875235801
D23: IVA - 19% | E23: =ROUND(E20*0.19,0) -> 400994105
E24: =E20+E23-E26 -> 0 | H24: ETAPAS DESARROLLO DE LA INTERVENTORÍA | J24: DURACIÓN (MESES)
H25: ETAPA DE ACOMPAÑAMIENTO Y EJECUCIÓN | J25: 10
D26: VALOR DEL CONTRATO | E26: 2511489392
D27: VALOR EN S.M.M.L.V. DEL CONTRATO | E27: =E26/1750905 -> 1434.395
I28: TOTAL PLAZO | J28: 10
B31: COSTOS DIRECTOS DE LA INTERVENTORÍA
B32: 1. | C32: COSTOS DE PERSONAL PROFESIONAL, TÉCNICO Y PERSONAL
B33: ITEM | C33: CANTIDAD | D33: CARGO | E33: VALOR SALARIAL (MENSUAL) | F33: FACTOR PRESTACIONAL | G33: DEDICACIÓN ETAPA DE ACOMPAÑAMIENTO Y EJECUCIÓN | J33: VALOR PARCIAL | N33: DURACIÓN ETAPA REVISIÓN DISEÑOS | O33: DURACIÓN ETAPA ACOMPAÑAMIENTO EJEC. OBRA | P33: DURACIÓN ETAPA LIQUIDACIÓN
B34: 1.1 PERSONAL PROFESIONAL
B35: 1 | C35: 1 | D35: Director de Interventoría | E35: ='VALORES SALARIOS'!O8 -> 16454000 | F35: ='PRESTACIONES Y PARAFISCALES'!AJ7 -> 1.4493992 | G35: 1 | J35: =E35*F35*C35*J28 -> 238484140 | N35: =$J$25 -> 10 | O35: =$J$26 | P35: =$J$27
B36: 2 | C36: 1 | D36: Profesional financiero/contable | E36: ='VALORES SALARIOS'!O9 -> 11077173 | F36: ='PRESTACIONES Y PARAFISCALES'!AJ8 -> 1.3857308 | G36: 1 | J36: =E36*F36*C36*J28 -> 153499800 | N36: =$J$25 -> 10 | O36: =$J$26 | P36: =$J$27
B37: 3 | C37: 1 | D37: Profesional jurídico | E37: ='VALORES SALARIOS'!O10 -> 11077173 | F37: ='PRESTACIONES Y PARAFISCALES'!AJ9 -> 1.3857308 | G37: 1 | J37: =E37*F37*C37*J28 -> 153499800 | N37: =$J$25 -> 10 | O37: =$J$26 | P37: =$J$27
B38: 4 | C38: 1 | D38: Profesional HSEQ | E38: ='VALORES SALARIOS'!O11 -> 7736262 | F38: ='PRESTACIONES Y PARAFISCALES'!AJ10 -> 1.451051 | G38: 1 | J38: =E38*F38*C38*J28 -> 112257110 | N38: =$J$25 -> 10 | O38: =$J$26 | P38: =$J$27
B39: 5 | C39: 1 | D39: Ingeniero Interventoria técnica | E39: ='VALORES SALARIOS'!O12 -> 8894918 | F39: ='PRESTACIONES Y PARAFISCALES'!AJ11 -> 1.4506449 | G39: 1 | J39: =E39*F39*C39*J28 -> 129033670 | N39: =$J$25 -> 10 | O39: =$J$26 | P39: =$J$27
B40: 6 | C40: 1 | D40: Interventor Sistemas de Información | E40: ='VALORES SALARIOS'!O13 -> 9055500 | F40: ='PRESTACIONES Y PARAFISCALES'!AJ12 -> 1.4505969 | G40: 1 | J40: =E40*F40*C40*J28 -> 131358800 | N40: =$J$25 -> 10 | O40: =$J$26 | P40: =$J$27
B41: 7 | C41: 1 | D41: Residente de Obras Civiles | E41: ='VALORES SALARIOS'!O14 -> 8094323 | F41: ='PRESTACIONES Y PARAFISCALES'!AJ13 -> 1.4509131 | G41: 1 | J41: =E41*F41*C41*J28 -> 117441590 | N41: =$J$25 -> 10 | O41: =$J$26 | P41: =$J$27
B42: 8 | C42: 1 | D42: Técnico de obras civiles | E42: ='VALORES SALARIOS'!O15 -> 5773257 | F42: ='PRESTACIONES Y PARAFISCALES'!AJ14 -> 1.4521112 | G42: 1 | J42: =E42*F42*C42*J28 -> 83834110 | N42: =$J$25 -> 10 | O42: =$J$26 | P42: =$J$27
B43: 9 | C43: 2 | D43: Profesional técnico de campo | E43: ='VALORES SALARIOS'!O16 -> 6864952 | F43: ='PRESTACIONES Y PARAFISCALES'!AJ15 -> 1.4514467 | G43: 1 | J43: =E43*F43*C43*J28 -> 199282240 | N43: =$J$25 -> 10 | O43: =$J$26 | P43: =$J$27
B44: 10 | C44: 1 | D44: Gestor documental | E44: ='VALORES SALARIOS'!O17 -> 4756593 | F44: ='PRESTACIONES Y PARAFISCALES'!AJ16 -> 1.388624 | G44: 1 | J44: =E44*F44*C44*J28 -> 66051190 | N44: =$J$25 -> 10 | O44: =$J$26 | P44: =$J$27
D47: SUBTOTAL COSTOS DE PERSONAL PROFESIONAL Y TÉCNICO (Salarios básicos durante la ejecución del contrato) | E47: =ROUND((SUMPRODUCT(C35:C45,E35:E45,G35:G45,N35:N45)+SUMPRODUCT(C35:C45,E35:E45,H35:H45,O35:O45)+SUMPRODUCT(C35:C45,E35:E45,I35:I45,P35:P45)),0) -> 966491030 | G47: SUBTOTAL COSTOS DE PERSONAL PROFESIONAL Y TÉCNICO | J47: =SUM(J35:J45) -> 1384742450
G49: FACTOR MULTIPLICADOR POR SALARIOS BÁSICOS | J49: =E47/$E$47 -> 1
B52: 2. | C52: CARGA PRESTACIONAL
...

Sheet PRESTACIONES Y PARAFISCALES
D4: CARGO | E4: CANT | F4: SALARIOS | J4: PRESTACIONES SOCIALES | N4: SEGURIDAD SOCIAL | Q4: APORTES PARAFISCALES | T4: DOTACIÓN + IMPLEMENTOS SEGURIDAD INDUSTRIAL (Fuente: Visor precios IDU 2026) | V4: TOTALES | Z4: RESUMEN
F5: SALARIO MENSUAL | G5: SUBSIDIO DE TRANSPORTE | H5: TOTAL MENSUAL | I5: SALARIO ANUAL CON SUBSIDIO DE TRANSPORTE | J5: CESANTÍAS MENSUALES (30 DÍAS) | K5: INTERESES SOBRE CESANTÍAS (12% DE CESANTÍAS) | L5: PRIMA (30 DÍAS) | M5: VACACIONES (15 DÍAS) | N5: PENSIÓN | O5: SALUD (0% hasta 10SMMLV - Ley 1607 de 2012. Art 25) | P5: RIESGOS LABORALES A.R.L. (RIESGO V - entorno clase I y V - 6,96%-0,522%) | Q5: SENA (afectado Ley 1607/2012 - asumido por CREE) | R5: ICBF (afectado Ley 1607/2012 - asumido por CREE) | S5: CAJA DE COMPENSACIÓN FAMILIAR (afectado Ley 1607/2012 | T5: DOTACIÓN | U5: ELEMENTOS DE PROTECCIÓN PERSONAL | V5: TOTAL AFECTACIÓN PRESTACIONAL | W5: % AFECTACIÓN PRESTACIONAL | X5: VALOR REAL SALARIO MENSUAL | Y5: % INCIDENCIA SOBRE SALARIO NOMINAL | Z5: CANTIDAD | AA5: No. DE MESES ACOMP. EJEC. OBRA | AB5: DEDICACIÓN | AC5: No. DE MESES ACOMP. EJEC. OBRA | AD5: DEDICACIÓN ETAPA ACOMPAÑAMIENTO EJEC. OBRA | AE5: No. DE MESES LIQUIDACIÓN | AF5: DEDICACIÓN ETAPA LIQUIDACIÓN | AG5: SALARIOS BÁSICOS | AH5: PRESTACIONES | AI5: SALARIOS + PRESTACIONES | AJ5: INDICADOR DE FACTOR MULTIPLICADOR POR CARGA PRESTACIONAL
D6: PERSONAL REQUERIDO
D7: Director de Interventoría | E7: 1 | F7: ='FACTOR MULTIPLICADOR'!E35 -> 16454000 | G7: 0 | H7: =F7+G7 -> 16454000 | I7: =H7*12 -> 197448000 | J7: =ROUND(((I7/360)*30)/12,0) -> 1371167 | K7: =ROUND((((I7/360)*30)*12%)/12,0) -> 164540 | L7: =ROUND(H7/12,0) -> 1371167 | M7: =ROUND(((F7/30)*15)/12,0) -> 685583 | N7: =ROUND(F7*12%,0) -> 1974480 | O7: =ROUND((F7*0%),0) -> 0 | P7: =ROUND(F7*6.96%,0) -> 1145198 | Q7: =F7*0% -> 0 | R7: =F7*0% -> 0 | S7: =ROUND((F7*4%),0) -> 658160 | T7: 0 | U7: 24119 | V7: =(SUM(J7:U7))+G7 -> 7394414 | W7: =V7/F7 -> 0.44939917 | X7: =H7+V7 -> 23848414 | Y7: =X7/F7 -> 1.4493992 | Z7: ='FACTOR MULTIPLICADOR'!C35 -> 1 | AA7: 10 | AB7: =PRESUPUESTO!G29 -> 1 | AC7: =PRESUPUESTO!$J$22 | AD7: =PRESUPUESTO!H29 | AE7: =PRESUPUESTO!$J$23 | AF7: =PRESUPUESTO!I29 | AG7: =ROUND((Z7*F7*AA7*AB7),0) -> 164540000 | AH7: =ROUND((Z7*V7*AA7*AB7),0) -> 73944140 | AI7: =AG7+AH7 -> 238484140 | AJ7: =AI7/AG7 -> 1.4493992
D8: Profesional financiero/contable | E8: 1 | F8: ='FACTOR MULTIPLICADOR'!E36 -> 11077173 | G8: 0 | H8: =F8+G8 -> 11077173 | I8: =H8*12 -> 132926076 | J8: =ROUND(((I8/360)*30)/12,0) -> 923098 | K8: =ROUND((((I8/360)*30)*12%)/12,0) -> 110772 | L8: =ROUND(H8/12,0) -> 923098 | M8: =ROUND(((F8/30)*15)/12,0) -> 461549 | N8: =ROUND(F8*12%,0) -> 1329261 | O8: =F8*0% -> 0 | P8: =ROUND(F8*0.522%,0) -> 57823 | Q8: =F8*0% -> 0 | R8: =F8*0% -> 0 | S8: =ROUND((F8*4%),0) -> 443087 | T8: 0 | U8: 24119 | V8: =(SUM(J8:U8))+G8 -> 4272807 | W8: =V8/F8 -> 0.38573082 | X8: =H8+V8 -> 15349980 | Y8: =X8/F8 -> 1.3857308 | Z8: ='FACTOR MULTIPLICADOR'!C36 -> 1 | AA8: 10 | AB8: =PRESUPUESTO!G30 -> 1 | AC8: =PRESUPUESTO!$J$22 | AD8: =PRESUPUESTO!H30 | AE8: =PRESUPUESTO!$J$23 | AF8: =PRESUPUESTO!I30 | AG8: =ROUND((Z8*F8*AA8*AB8),0) -> 110771730 | AH8: =ROUND((Z8*V8*AA8*AB8),0) -> 42728070 | AI8: =AG8+AH8 -> 153499800 | AJ8: =AI8/AG8 -> 1.3857308
D9: Profesional jurídico | E9: 1 | F9: ='FACTOR MULTIPLICADOR'!E37 -> 11077173 | G9: 0 | H9: =F9+G9 -> 11077173 | I9: =H9*12 -> 132926076 | J9: =ROUND(((I9/360)*30)/12,0) -> 923098 | K9: =ROUND((((I9/360)*30)*12%)/12,0) -> 110772 | L9: =ROUND(H9/12,0) -> 923098 | M9: =ROUND(((F9/30)*15)/12,0) -> 461549 | N9: =ROUND(F9*12%,0) -> 1329261 | O9: =F9*0% -> 0 | P9: =ROUND(F9*0.522%,0) -> 57823 | Q9: =F9*0% -> 0 | R9: =F9*0% -> 0 | S9: =ROUND((F9*4%),0) -> 443087 | T9: 0 | U9: 24119 | V9: =(SUM(J9:U9))+G9 -> 4272807 | W9: =V9/F9 -> 0.38573082 | X9: =H9+V9 -> 15349980 | Y9: =X9/F9 -> 1.3857308 | Z9: ='FACTOR MULTIPLICADOR'!C37 -> 1 | AA9: 10 | AB9: =PRESUPUESTO!G31 -> 1 | AC9: =PRESUPUESTO!$J$22 | AG9: =ROUND((Z9*F9*AA9*AB9),0) -> 110771730 | AH9: =ROUND((Z9*V9*AA9*AB9),0) -> 42728070 | AI9: =AG9+AH9 -> 153499800 | AJ9: =AI9/AG9 -> 1.3857308
D10: Profesional HSEQ | E10: 1 | F10: ='FACTOR MULTIPLICADOR'!E38 -> 7736262 | G10: 0 | H10: =F10+G10 -> 7736262 | I10: =H10*12 -> 92835144 | J10: =ROUND(((I10/360)*30)/12,0) -> 644689 | K10: =ROUND((((I10/360)*30)*12%)/12,0) -> 77363 | L10: =ROUND(H10/12,0) -> 644689 | M10: =ROUND(((F10/30)*15)/12,0) -> 322344 | N10: =ROUND(F10*12%,0) -> 928351 | O10: =F10*0% -> 0 | P10: =ROUND(F10*6.96%,0) -> 538444 | Q10: =F10*0% -> 0 | R10: =F10*0% -> 0 | S10: =ROUND((F10*4%),0) -> 309450 | T10: 0 | U10: 24119 | V10: =(SUM(J10:U10))+G10 -> 3489449 | W10: =V10/F10 -> 0.45105104 | X10: =H10+V10 -> 11225711 | Y10: =X10/F10 -> 1.451051 | Z10: ='FACTOR MULTIPLICADOR'!C38 -> 1 | AA10: 10 | AB10: =PRESUPUESTO!G32 -> 1 | AC10: =PRESUPUESTO!$J$22 | AG10: =ROUND((Z10*F10*AA10*AB10),0) -> 77362620 | AH10: =ROUND((Z10*V10*AA10*AB10),0) -> 34894490 | AI10: =AG10+AH10 -> 112257110 | AJ10: =AI10/AG10 -> 1.451051
D11: Ingeniero Interventoria técnica | E11: 1 | F11: ='FACTOR MULTIPLICADOR'!E39 -> 8894918 | G11: 0 | H11: =F11+G11 -> 8894918 | I11: =H11*12 -> 106739016 | J11: =ROUND(((I11/360)*30)/12,0) -> 741243 | K11: =ROUND((((I11/360)*30)*12%)/12,0) -> 88949 | L11: =ROUND(H11/12,0) -> 741243 | M11: =ROUND(((F11/30)*15)/12,0) -> 370622 | N11: =ROUND(F11*12%,0) -> 1067390 | O11: =F11*0% -> 0 | P11: =ROUND(F11*6.96%,0) -> 619086 | Q11: =F11*0% -> 0 | R11: =F11*0% -> 0 | S11: =ROUND((F11*4%),0) -> 355797 | T11: 0 | U11: 24119 | V11: =(SUM(J11:U11))+G11 -> 4008449 | W11: =V11/F11 -> 0.45064485 | X11: =H11+V11 -> 12903367 | Y11: =X11/F11 -> 1.4506449 | Z11: ='FACTOR MULTIPLICADOR'!C39 -> 1 | AA11: 10 | AB11: =PRESUPUESTO!G33 -> 1 | AC11: =PRESUPUESTO!$J$22 | AG11: =ROUND((Z11*F11*AA11*AB11),0) -> 88949180 | AH11: =ROUND((Z11*V11*AA11*AB11),0) -> 40084490 | AI11: =AG11+AH11 -> 129033670 | AJ11: =AI11/AG11 -> 1.4506449
D12: Interventor Sistemas de Información | E12: 1 | F12: ='FACTOR MULTIPLICADOR'!E40 -> 9055500 | G12: 0 | H12: =F12+G12 -> 9055500 | I12: =H12*12 -> 108666000 | J12: =ROUND(((I12/360)*30)/12,0) -> 754625 | K12: =ROUND((((I12/360)*30)*12%)/12,0) -> 90555 | L12: =ROUND(H12/12,0) -> 754625 | M12: =ROUND(((F12/30)*15)/12,0) -> 377313 | N12: =ROUND(F12*12%,0) -> 1086660 | O12: =F12*0% -> 0 | P12: =ROUND(F12*6.96%,0) -> 630263 | Q12: =F12*0% -> 0 | R12: =F12*0% -> 0 | S12: =ROUND((F12*4%),0) -> 362220 | T12: 0 | U12: 24119 | V12: =(SUM(J12:U12))+G12 -> 4080380 | W12: =V12/F12 -> 0.45059687 | X12: =H12+V12 -> 13135880 | Y12: =X12/F12 -> 1.4505969 | Z12: ='FACTOR MULTIPLICADOR'!C40 -> 1 | AA12: 10 | AB12: =PRESUPUESTO!G34 -> 1 | AC12: =PRESUPUESTO!$J$22 | AG12: =ROUND((Z12*F12*AA12*AB12),0) -> 90555000 | AH12: =ROUND((Z12*V12*AA12*AB12),0) -> 40803800 | AI12: =AG12+AH12 -> 131358800 | AJ12: =AI12/AG12 -> 1.4505969
D13: Residente de Obras Civiles | E13: 1 | F13: ='FACTOR MULTIPLICADOR'!E41 -> 8094323 | G13: 0 | H13: =F13+G13 -> 8094323 | I13: =H13*12 -> 97131876 | J13: =ROUND(((I13/360)*30)/12,0) -> 674527 | K13: =ROUND((((I13/360)*30)*12%)/12,0) -> 80943 | L13: =ROUND(H13/12,0) -> 674527 | M13: =ROUND(((F13/30)*15)/12,0) -> 337263 | N13: =ROUND(F13*12%,0) -> 971319 | O13: =F13*0% -> 0 | P13: =ROUND(F13*6.96%,0) -> 563365 | Q13: =F13*0% -> 0 | R13: =F13*0% -> 0 | S13: =ROUND((F13*4%),0) -> 323773 | T13: 0 | U13: 24119 | V13: =(SUM(J13:U13))+G13 -> 3649836 | W13: =V13/F13 -> 0.45091307 | X13: =H13+V13 -> 11744159 | Y13: =X13/F13 -> 1.4509131 | Z13: ='FACTOR MULTIPLICADOR'!C41 -> 1 | AA13: 10 | AB13: =PRESUPUESTO!G35 -> 1 | AC13: =PRESUPUESTO!$J$22 | AG13: =ROUND((Z13*F13*AA13*AB13),0) -> 80943230 | AH13: =ROUND((Z13*V13*AA13*AB13),0) -> 36498360 | AI13: =AG13+AH13 -> 117441590 | AJ13: =AI13/AG13 -> 1.4509131
D14: Técnico de obras civiles | E14: 1 | F14: ='FACTOR MULTIPLICADOR'!E42 -> 5773257 | G14: 0 | H14: =F14+G14 -> 5773257 | I14: =H14*12 -> 69279084 | J14: =ROUND(((I14/360)*30)/12,0) -> 481105 | K14: =ROUND((((I14/360)*30)*12%)/12,0) -> 57733 | L14: =ROUND(H14/12,0) -> 481105 | M14: =ROUND(((F14/30)*15)/12,0) -> 240552 | N14: =ROUND(F14*12%,0) -> 692791 | O14: =F14*0% -> 0 | P14: =ROUND(F14*6.96%,0) -> 401819 | Q14: =F14*0% -> 0 | R14: =F14*0% -> 0 | S14: =ROUND((F14*4%),0) -> 230930 | T14: 0 | U14: 24119 | V14: =(SUM(J14:U14))+G14 -> 2610154 | W14: =V14/F14 -> 0.45211117 | X14: =H14+V14 -> 8383411 | Y14: =X14/F14 -> 1.4521112 | Z14: ='FACTOR MULTIPLICADOR'!C42 -> 1 | AA14: 10 | AB14: 1 | AC14: =PRESUPUESTO!$J$22 | AG14: =ROUND((Z14*F14*AA14*AB14),0) -> 57732570 | AH14: =ROUND((Z14*V14*AA14*AB14),0) -> 26101540 | AI14: =AG14+AH14 -> 83834110 | AJ14: =AI14/AG14 -> 1.4521112
D15: Profesional técnico de campo | E15: 2 | F15: ='FACTOR MULTIPLICADOR'!E43 -> 6864952 | G15: 0 | H15: =F15+G15 -> 6864952 | I15: =H15*12 -> 82379424 | J15: =ROUND(((I15/360)*30)/12,0) -> 572079 | K15: =ROUND((((I15/360)*30)*12%)/12,0) -> 68650 | L15: =ROUND(H15/12,0) -> 572079 | M15: =ROUND(((F15/30)*15)/12,0) -> 286040 | N15: =ROUND(F15*12%,0) -> 823794 | O15: =F15*0% -> 0 | P15: =ROUND(F15*6.96%,0) -> 477801 | Q15: =F15*0% -> 0 | R15: =F15*0% -> 0 | S15: =ROUND((F15*4%),0) -> 274598 | T15: 0 | U15: 24119 | V15: =(SUM(J15:U15))+G15 -> 3099160 | W15: =V15/F15 -> 0.45144671 | X15: =H15+V15 -> 9964112 | Y15: =X15/F15 -> 1.4514467 | Z15: ='FACTOR MULTIPLICADOR'!C43 -> 2 | AA15: 10 | AB15: 1 | AC15: =PRESUPUESTO!$J$22 | AG15: =ROUND((Z15*F15*AA15*AB15),0) -> 137299040 | AH15: =ROUND((Z15*V15*AA15*AB15),0) -> 61983200 | AI15: =AG15+AH15 -> 199282240 | AJ15: =AI15/AG15 -> 1.4514467
D16: Gestor documental | E16: 1 | F16: ='FACTOR MULTIPLICADOR'!E44 -> 4756593 | G16: 0 | H16: =F16+G16 -> 4756593 | I16: =H16*12 -> 57079116 | J16: =ROUND(((I16/360)*30)/12,0) -> 396383 | K16: =ROUND((((I16/360)*30)*12%)/12,0) -> 47566 | L16: =ROUND(H16/12,0) -> 396383 | M16: =ROUND(((F16/30)*15)/12,0) -> 198191 | N16: =ROUND(F16*12%,0) -> 570791 | O16: =F16*0% -> 0 | P16: =ROUND(F16*0.522%,0) -> 24829 | Q16: =F16*0% -> 0 | R16: =F16*0% -> 0 | S16: =ROUND((F16*4%),0) -> 190264 | T16: 0 | U16: 24119 | V16: =(SUM(J16:U16))+G16 -> 1848526 | W16: =V16/F16 -> 0.38862396 | X16: =H16+V16 -> 6605119 | Y16: =X16/F16 -> 1.388624 | Z16: ='FACTOR MULTIPLICADOR'!C44 -> 1 | AA16: 10 | AB16: 1 | AC16: =PRESUPUESTO!$J$22 | AG16: =ROUND((Z16*F16*AA16*AB16),0) -> 47565930 | AH16: =ROUND((Z16*V16*AA16*AB16),0) -> 18485260 | AI16: =AG16+AH16 -> 66051190 | AJ16: =AI16/AG16 -> 1.388624
AB17: TOTALES | AG17: =SUM(AG7:AG16) -> 966491030 | AH17: =SUM(AH7:AH16) -> 418251420 | AI17: =SUM(AI7:AI16) -> 1384742450
D19: VALOR DURANTE EJECUCIÓN DEL CONTRATO | F19: =ROUND((SUMPRODUCT(F7:F16,Z7:Z16,AA7:AA16,AB7:AB16)),0) -> 966491030 | G19: =ROUND(SUMPRODUCT(G7:G16,$Z$7:$Z$16,$AA$7:$AA$16,$AB$7:$AB$16),0) -> 0 | J19: =ROUND((SUMPRODUCT(J7:J16,$Z$7:$Z$16,$AA$7:$AA$16,$AB$7:$AB$16)),0) -> 80540930 | K19: =ROUND((SUMPRODUCT(K7:K16,$Z$7:$Z$16,$AA$7:$AA$16,$AB$7:$AB$16)+SUMPRODUCT(K7:K16,Z7:Z16,AC7:AC16,AD7:AD16)+SUMPRODUCT(K7:K16,Z7:Z16,AE7:AE16,AF7:AF16)),0) -> 9664930 | L19: =ROUND((SUMPRODUCT(L7:L16,$Z$7:$Z$16,$AA$7:$AA$16,$AB$7:$AB$16)+SUMPRODUCT(L7:L16,Z7:Z16,AC7:AC16,AD7:AD16)+SUMPRODUCT(L7:L16,Z7:Z16,AE7:AE16,AF7:AF16)),0) -> 80540930 | M19: =ROUND((SUMPRODUCT(M7:M16,$Z$7:$Z$16,$AA$7:$AA$16,$AB$7:$AB$16)+SUMPRODUCT(M7:M16,Z7:Z16,AC7:AC16,AD7:AD16)+SUMPRODUCT(M7:M16,Z7:Z16,AE7:AE16,AF7:AF16)),0) -> 40270460 | N19: =ROUND((SUMPRODUCT(N7:N16,$Z$7:$Z$16,$AA$7:$AA$16,$AB$7:$AB$16)+SUMPRODUCT(N7:N16,Z7:Z16,AC7:AC16,AD7:AD16)+SUMPRODUCT(N7:N16,Z7:Z16,AE7:AE16,AF7:AF16)),0) -> 115978920 | O19: =ROUND(SUMPRODUCT(O7:O16,$Z$7:$Z$16,$AA$7:$AA$16,$AB$7:$AB$16),0) -> 0 | P19: =ROUND((SUMPRODUCT(P7:P16,$Z$7:$Z$16,$AA$7:$AA$16,$AB$7:$AB$16)+SUMPRODUCT(P7:P16,Z7:Z16,AC7:AC16,AD7:AD16)+SUMPRODUCT(P7:P16,Z7:Z16,AE7:AE16,AF7:AF16)),0) -> 49942520 | Q19: =ROUND(SUMPRODUCT(Q7:Q16,$Z$7:$Z$16,$AA$7:$AA$16,$AB$7:$AB$16),0) -> 0 | R19: =ROUND(SUMPRODUCT(R7:R16,$Z$7:$Z$16,$AA$7:$AA$16,$AB$7:$AB$16),0) -> 0 | S19: =ROUND(SUMPRODUCT(S7:S16,$Z$7:$Z$16,$AA$7:$AA$16,$AB$7:$AB$16),0) -> 38659640 | T19: =ROUND((SUMPRODUCT(T7:T16,$Z$7:$Z$16,$AA$7:$AA$16,$AB$7:$AB$16)+SUMPRODUCT(T7:T16,Z7:Z16,AC7:AC16,AD7:AD16)+SUMPRODUCT(T7:T16,Z7:Z16,AE7:AE16,AF7:AF16)),0) -> 0 | U19: =ROUND((SUMPRODUCT(U7:U16,$Z$7:$Z$16,$AA$7:$AA$16,$AB$7:$AB$16)+SUMPRODUCT(U7:U16,Z7:Z16,AC7:AC16,AD7:AD16)+SUMPRODUCT(U7:U16,Z7:Z16,AE7:AE16,AF7:AF16)),0) -> 2653090 | V19: =ROUND((SUMPRODUCT(V7:V16,$Z$7:$Z$16,$AA$7:$AA$16,$AB$7:$AB$16)+SUMPRODUCT(V7:V16,Z7:Z16,AC7:AC16,AD7:AD16)+SUMPRODUCT(V7:V16,Z7:Z16,AE7:AE16,AF7:AF16)),0) -> 418251420 | X19: =ROUNDUP((SUMPRODUCT(X7:X16,$Z$7:$Z$16,$AA$7:$AA$16,$AB$7:$AB$16)+SUMPRODUCT(X7:X16,Z7:Z16,AC7:AC16,AD7:AD16)+SUMPRODUCT(X7:X16,Z7:Z16,AE7:AE16,AF7:AF16)),0) -> 1384742450
D20: INCIDENCIA SOBRE BASE SALARIAL | F20: =F19/$F$19 -> 1 | G20: =G19/$F$19 -> 0 | J20: =J19/$F$19 -> 0.083333345 | K20: =K19/$F$19 -> 0.01000002 | L20: =L19/$F$19 -> 0.083333345 | M20: =M19/$F$19 -> 0.041666667 | N20: =N19/$F$19 -> 0.12 | O20: =O19/$F$19 -> 0 | P20: =P19/$F$19 -> 0.051674065 | Q20: =Q19/$F$19 -> 0 | ... V20: =V19/$F$19 -> 0.43275251 | X20: =X19/$F$19 -> 1.4327525

Sheet VALORES SALARIOS
C5: VALORACIÓN SALARIAL DE PERSONAL
C7: CARGO | D7: CANTIDAD MININA REQUERIDA | E7: M&K INGENIERIA CIVIL SLP SUCURSAL COLOMBIA VALOR SALARIO (SIN PRESTACIONES) | F7: IDOM Consulting, Engineering,Architecture S.A.U VALOR SALARIO (SIN PRESTACIONES) | G7: JFS CONSULTORES S.A.S - BIC VALOR SALARIO (SIN PRESTACIONES) | H7: INDEXACIÓN CONTRATO No 3655-2025 | I7: CODIGOS REFERENCIA LISTA DE PRECIOS IDU 29/07/26 | J7: LISTA DE PRECIOS DE REFERENCIA IDU 29/07/26 | K7: PROMEDIO | L7: MEDIANA | M7: MEDIA GEOMETRICA | N7: MEDIA ARMONICA | O7: ESCENARIO APROBADO | P7: VARIABLE APROBADA
C8: Director de Interventoría | D8: 1 | E8: 28000000 | F8: 16454000 | G8: 26800000 | H8: 12642000 | I8: 9107-9108 | J8: 15319000 | K8: =ROUND(AVERAGE(E8,F8,G8,H8,J8),0) -> 19843000 | L8: =ROUND(MEDIAN(E8,F8,G8,H8,J8),0) -> 16454000 | M8: =ROUND(GEOMEAN(E8,F8,G8,H8,J8),0) -> 18867836 | N8: =ROUND(HARMEAN(E8,F8,G8,H8,J8),0) -> 17973778 | O8: =L8 -> 16454000 | P8: MEDIANA
C9: Profesional financiero/contable | D9: 1 | E9: 13000000 | F9: 11258000 | G9: 16500000 | H9: 7374500 | I9: 9109 | J9: 11183000 | K9: =ROUND(AVERAGE(E9,F9,G9,H9,J9),0) -> 11863100 | L9: =ROUND(MEDIAN(E9,F9,G9,H9,J9),0) -> 11258000 | M9: =ROUND(GEOMEAN(E9,F9,G9,H9,J9),0) -> 11477198 | N9: =ROUND(HARMEAN(E9,F9,G9,H9,J9),0) -> 11077173 | O9: =N9 -> 11077173 | P9: MEDIA ARMONICA
C10: Profesional jurídico | D10: 1 | E10: 13000000 | F10: 11258000 | G10: 16500000 | H10: 7374500 | I10: 9109 | J10: 11183000 | K10: =ROUND(AVERAGE(E10,F10,G10,H10,J10),0) -> 11863100 | L10: =ROUND(MEDIAN(E10,F10,G10,H10,J10),0) -> 11258000 | M10: =ROUND(GEOMEAN(E10,F10,G10,H10,J10),0) -> 11477198 | N10: =ROUND(HARMEAN(E10,F10,G10,H10,J10),0) -> 11077173 | O10: =N10 -> 11077173 | P10: MEDIA ARMONICA
C11: Profesional HSEQ | D11: 1 | E11: 13000000 | F11: 5196000 | G11: 16500000 | H11: 5175180 | I11: 9111-9112 | J11: 8124000 | K11: =ROUND(AVERAGE(E11,F11,G11,H11,J11),0) -> 9599036 | L11: =ROUND(MEDIAN(E11,F11,G11,H11,J11),0) -> 8124000 | M11: =ROUND(GEOMEAN(E11,F11,G11,H11,J11),0) -> 8593268 | N11: =ROUND(HARMEAN(E11,F11,G11,H11,J11),0) -> 7736262 | O11: =N11 -> 7736262 | P11: MEDIA ARMONICA
C12: Ingeniero Interventoria técnica | D12: 1 | E12: 21000000 | F12: 7794000 | G12: 26000000 | H12: 4214000 | I12: 9110-9111 | J12: 9055500 | K12: =ROUND(AVERAGE(E12,F12,G12,H12,J12),0) -> 13612700 | L12: =ROUND(MEDIAN(E12,F12,G12,H12,J12),0) -> 9055500 | M12: =ROUND(GEOMEAN(E12,F12,G12,H12,J12),0) -> 11018234 | N12: =ROUND(HARMEAN(E12,F12,G12,H12,J12),0) -> 8894918 | O12: =N12 -> 8894918 | P12: MEDIA ARMONICA
C13: Interventor Sistemas de Información | D13: 1 | E13: 21000000 | F13: 7794000 | G13: 26000000 | H13: 5794250 | I13: 9110-9111 | J13: 9055500 | K13: =ROUND(AVERAGE(E13,F13,G13,H13,J13),0) -> 13928750 | L13: =ROUND(MEDIAN(E13,F13,G13,H13,J13),0) -> 9055500 | M13: =ROUND(GEOMEAN(E13,F13,G13,H13,J13),0) -> 11742824 | N13: =ROUND(HARMEAN(E13,F13,G13,H13,J13),0) -> 10052283 | O13: =L13 -> 9055500 | P13: MEDIANA
C14: Residente de Obras Civiles | D14: 1 | E14: 16000000 | F14: 6928000 | G14: 17500000 | H14: 4214000 | I14: 9111 | J14: 8589000 | K14: =ROUND(AVERAGE(E14,F14,G14,H14,J14),0) -> 10646200 | L14: =ROUND(MEDIAN(E14,F14,G14,H14,J14),0) -> 8589000 | M14: =ROUND(GEOMEAN(E14,F14,G14,H14,J14),0) -> 9317097 | N14: =ROUND(HARMEAN(E14,F14,G14,H14,J14),0) -> 8094323 | O14: =N14 -> 8094323 | P14: MEDIA ARMONICA
C15: Técnico de obras civiles | D15: 1 | E15: 7000000 | F15: 6928000 | G15: 9500000 | H15: 3987498 | I15: 9101 | J15: 4488000 | K15: =ROUND(AVERAGE(E15,F15,G15,H15,J15),0) -> 6380700 | L15: =ROUND(MEDIAN(E15,F15,G15,H15,J15),0) -> 6928000 | M15: =ROUND(GEOMEAN(E15,F15,G15,H15,J15),0) -> 6070669 | N15: =ROUND(HARMEAN(E15,F15,G15,H15,J15),0) -> 5773257 | O15: =N15 -> 5773257 | P15: MEDIA ARMONICA
C16: Profesional técnico de campo | D16: 2 | E16: 8000000 | F16: 6928000 | G16: 9500000 | H16: 4214000 | I16: 9111 | J16: 8589000 | K16: =ROUND(AVERAGE(E16,F16,G16,H16,J16),0) -> 7446200 | L16: =ROUND(MEDIAN(E16,F16,G16,H16,J16),0) -> 8000000 | M16: =ROUND(GEOMEAN(E16,F16,G16,H16,J16),0) -> 7178137 | N16: =ROUND(HARMEAN(E16,F16,G16,H16,J16),0) -> 6864952 | O16: =N16 -> 6864952 | P16: MEDIA ARMONICA
C17: Gestor documental | D17: 1 | E17: 7000000 | F17: 4330000 | G17: 8000000 | H17: 2633750 | I17: 9113 | J17: 5791000 | K17: =ROUND(AVERAGE(E17,F17,G17,H17,J17),0) -> 5550950 | L17: =ROUND(MEDIAN(E17,F17,G17,H17,J17),0) -> 5791000 | M17: =ROUND(GEOMEAN(E17,F17,G17,H17,J17),0) -> 5171313 | N17: =ROUND(HARMEAN(E17,F17,G17,H17,J17),0) -> 4756593 | O17: =N17 -> 4756593 | P17: MEDIA ARMONICA
C18: SUBTOTALES | E18: 147000000 | F18: 84868000 | G18: 172800000 | H18: 57623678 | J18: =SUM(J8:J17) -> 91377000 | K18: =SUM(K8:K17) -> 110733736 | L18: =SUM(L8:L17) -> 94513000 | M18: =SUM(M8:M17) -> 100913774 | N18: =SUM(N8:N17) -> 92300712 | O18: =SUM(O8:O17) -> 89784151

Sheet VALORES COSTOS Y GASTOS OPERACI
C5: ESTRUCTURA DE COSTOS DE LA INTERVENTORÍA
C6: COSTOS OPERACIONALES
C7: OBJETO DEL PROCESO: | D7: REALIZAR LA INTERVENTORÍA INTEGRAL, TÉCNICA, ADMINISTRATIVA,FINANCIERA, CONTABLE Y JURÍDICA AL CONTRATO CUYO OBJETO ES ELSUMINISTRO, INSTALACIÓN, CONFIGURACIÓN Y PUESTA EN MARCHA DE UNA SOLUCIÓN DE EQUIPOS PARA EL FORTALECIMIENTO Y EXPANSIÓN DE LOS COMPONENTES DEL SISTEMA INTELIGENTE DE TRANSPORTE (SIT), QUE PERMITAN LA CAPTURA DE LA INFORMACIÓN, ANÁLISIS, RECOLECCIÓN DE DATOS PARA SISTEMA DE MONITOREO Y DETECCIÓN ELECTRÓNICA DE INFRACCIONES EN ZONAS DETERMINADAS DE LA CIUDAD.
C9: DESCRIPCIÓN | D9: CANTIDAD MININA REQUERIDA | E9: VALOR UNITARIO | F9: M&K INGENIERIA CIVIL SLP SUCURSAL COLOMBIA VALOR SALARIO (SIN PRESTACIONES) | G9: VALOR UNITARIO | H9: IDOM Consulting, Engineering,Architecture S.A.U VALOR SALARIO (SIN PRESTACIONES) | I9: VALOR UNITARIO | J9: JFS CONSULTORES S.A.S - BIC VALOR SALARIO (SIN PRESTACIONES) | K9: VALOR UNITARIO | L9: INDEXACIÓN CONTRATO No 3655-2025 | M9: VALOR UNITARIO | N9: ACUERDO MARCO DE PRECIOS ( AGENCIA NACIONAL DE CONTRATACIÓN PUBLICA) https://operaciones.colombiacompra.gov.co/tienda-virtual-del-estado-colombiano/transporte/acuerdo-marco-transporte-terrestre-especial-de | O9: VALOR UNITARIO | P9: 2025-2808 (INDEXACIÓN 5,1-ABRIL 2025-AGOSTO 2026) | Q9: DESVIACION ESTANDAR | R9: MEDIANA | S9: LIMITE INFERIOR | T9: LIMITE SUPERIOR | U9: MEDIANA PODADA | V9: PROMEDIO | W9: MEDIA GEOMETRICA | X9: MEDIA ARMONICA
C10: Camioneta, modelo 2022 en adelante, matriculada en Bogotá D.C., con conductor incluido, documentación vigente y disponibilidad 24 horas, conforme a lo establecido en el numeral 9 “Recurso Técnicos” del Anexo Técnico. | D10: 1 | E10: 14000000 | F10: 14000000 | G10: 17800000 | H10: 17800000 | I10: 28200000 | J10: 28200000 | K10: 17705883 | L10: 17705883 | M10: 13532340 | N10: 13532340 | O10: 13293540 | P10: 13293540 | Q10: =ROUND(STDEV(F10,H10,J10,L10,N10,P10),0) -> 5661669 | R10: =ROUND(MEDIAN(F10,H10,J10,L10,N10,P10),0) -> 15852942 | S10: =R10-Q10 -> 10191273 | T10: =R10+Q10 -> 21514611 | U10: =ROUND(MEDIAN(F10,H10,L10,N10,P10),0) -> 14000000 | V10: =ROUND(AVERAGE(F10,H10,L10,N10,P10),0) -> 15266353 | W10: =ROUND(GEOMEAN(F10,H10,L10,N10,P10),0) -> 15133376 | X10: =ROUND(HARMEAN(F10,H10,L10,N10,P10),0) -> 15005628
C12: DESCRIPCIÓN | D12: CANTIDAD MININA REQUERIDA | E12: VALOR UNITARIO | F12: M&K INGENIERIA CIVIL SLP SUCURSAL COLOMBIA VALOR SALARIO (SIN PRESTACIONES) | G12: VALOR UNITARIO | H12: IDOM Consulting, Engineering,Architecture S.A.U VALOR SALARIO (SIN PRESTACIONES) | I12: VALOR UNITARIO | J12: JFS CONSULTORES S.A.S - BIC VALOR SALARIO (SIN PRESTACIONES) | K12: VALOR UNITARIO | L12: INDEXACIÓN CONTRATO No 3655-2025 ENERO-AGOSTO 2026 | M12: VALOR UNITARIO | N12: CTO 2026-1172 (SDM CMA 13-2026) | O12: VALOR UNITARIO | P12: CTO 2023-1769 (SDM CMA 3-2025) INDEXACION ABRIL 2023 AGOSTO 2026 20,68% | Q12: DESVIACION ESTANDAR | R12: MEDIANA | S12: LIMITE INFERIOR | T12: LIMITE SUPERIOR | U12: MEDIADA PODADA | V12: PROMEDIO | W12: MEDIA GEOMETRICA | X12: MEDIA ARMONICA
C13: Motocicletas modelo 2022 en adelante, matriculadas en Bogotá D.C., documentación vigente y disponibilidad 24 horas,conforme a lo establecido en el numeral 9 “Recurso Técnicos” del Anexo Técnico. | D13: 4 | E13: 7000000 | F13: =E13*D13 -> 28000000 | G13: 7500000 | H13: =G13*D13 -> 30000000 | I13: 9800000 | J13: =I13*D13 -> 39200000 | K13: 3265850 | L13: =K13*D13 -> 13063400 | M13: 1858194 | N13: =M13*D13 -> 7432776 | O13: 1978187 | P13: =O13*D13 -> 7912748 | Q13: =ROUND(STDEV(F13,H13,J13,L13,N13,P13),0) -> 13263106 | R13: =ROUND(MEDIAN(F13,H13,J13,L13,N13,P13),0) -> 20531700 | S13: =R13-Q13 -> 7268594 | T13: =R13+Q13 -> 33794806 | U13: =ROUND(MEDIAN(F13,H13,L13,N13,P13),0) -> 13063400 | V13: =ROUND(AVERAGE(F13,H13,L13,N13,P13),0) -> 17281785 | W13: =ROUND(GEOMEAN(F13,H13,L13,N13,P13),0) -> 14519872 | X13: =ROUND(HARMEAN(F13,H13,L13,N13,P13),0) -> 12299671
C18: GASTOS OPERACIONALES
C19: ÍTEM | D19: CANTIDAD | E19: DESCRIPCIÓN | F19: TARIFA (MENSUAL O ÚNICA) | G19: No. DE MESES | H19: SUBTOTAL COSTO OPERACIONAL | I19: INDICADOR PARCIAL
C20: 1 | D20: 1 | E20: ARRIENDO OFICINA (25m²) - INCLUYE ADMINISTRACIÓN, SERVICIOS PÚBLICOS y COMUNICACIONES (valor m²/mes) | F20: 55270 | G20: 10 | H20: =F20*G20*25 -> 13817500 | I20: 0.014
C21: 2 | D21: 1 | E21: COSTOS DE OFICINA (PAPELERIA, FOTOCOPIAS Y OTROS) | F21: 1260967 | G21: 10 | H21: =F21*G21 -> 12609670 | I21: 0.013
H22: =SUM(H20:H21) -> 26427170

Sheet PRESUPUESTO OFICIAL
B5: ESTRUCTURA DE COSTOS DE LA INTERVENTORÍA
B6: VALORACIÓN SALARIAL DE PERSONAL
B7: OBJETO DEL PROCESO: | C7: REALIZAR LA INTERVENTORÍA INTEGRAL, TÉCNICA, ADMINISTRATIVA,FINANCIERA, CONTABLE Y JURÍDICA AL CONTRATO CUYO OBJETO ES ELSUMINISTRO, INSTALACIÓN, CONFIGURACIÓN Y PUESTA EN MARCHA DE UNA SOLUCIÓN DE EQUIPOS PARA EL FORTALECIMIENTO Y EXPANSIÓN DE LOS COMPONENTES DEL SISTEMA INTELIGENTE DE TRANSPORTE (SIT), QUE PERMITAN LA CAPTURA DE LA INFORMACIÓN, ANÁLISIS, RECOLECCIÓN DE DATOS PARA SISTEMA DE MONITOREO Y DETECCIÓN ELECTRÓNICA DE INFRACCIONES EN ZONAS DETERMINADAS DE LA CIUDAD.
B8: PRESUPUESTO PERSONAL REQUERIDO
B9: CARGO | C9: CANTIDAD MININA REQUERIDA | D9: M&K INGENIERIA CIVIL SLP SUCURSAL COLOMBIA VALOR SALARIO (SIN PRESTACIONES) | E9: IDOM Consulting, Engineering,Architecture S.A.U VALOR SALARIO (SIN PRESTACIONES) | F9: JFS CONSULTORES S.A.S - BIC VALOR SALARIO (SIN PRESTACIONES) | G9: INDEXACIÓN CONTRATO | H9: PROMEDIO | I9: MEDIANA | J9: MEDIA GEOMETRICA | K9: MEDIA ARMONICA | L9: MEDIDA ESTADISTICA A UTILIZAR (MEDIA ARMONICA) | M9: FACTOR MULTIPLICADOR (FM) | N9: VALOR MENSUAL+FM (SIN IVA) | O9: MESES REQUERIDOS | P9: VALOR TOTAL+FM (SIN IVA INCLUIDO) | Q9: IVA | R9: VALOR TOTAL (IMCLUIDO IVA)
B10: Director de Interventoría | C10: 1 | D10: 28000000 | E10: 16454000 | F10: 26800000 | G10: 12642000 | H10: 20974000 | I10: 21627000 | J10: 19876734 | K10: 18787756 | L10: ='VALORES SALARIOS'!O8 -> 16454000 | M10: =PRESUPUESTO!F29 -> 1.9115527 | N10: =+L10*M10 -> 31452689 | O10: 10 | P10: =ROUND((N10*O10*C10),0) -> 314526886 | Q10: =P10*0.19 -> 59760108 | R10: =+ROUND((P10+Q10),0) -> 374286994
B11: Profesional financiero/contable | C11: 1 | D11: 13000000 | E11: 11258000 | F11: 16500000 | G11: 7374500 | H11: 12033125 | I11: 12129000 | J11: 11551949 | K11: 11051028 | L11: ='VALORES SALARIOS'!O9 -> 11077173 | M11: =PRESUPUESTO!F30 -> 1.9115527 | N11: =+L11*M11 -> 21174600 | O11: 10 | P11: =ROUND((N11*O11*C11),0) -> 211746003 | Q11: =P11*0.19 -> 40231741 | R11: =+ROUND((P11+Q11),0) -> 251977744
B12: Profesional jurídico | C12: 1 | D12: 13000000 | E12: 11258000 | F12: 16500000 | G12: 7374500 | H12: 12033125 | I12: 12129000 | J12: 11551949 | K12: 11051028 | L12: ='VALORES SALARIOS'!O10 -> 11077173 | M12: =PRESUPUESTO!F31 -> 1.9115527 | N12: =+L12*M12 -> 21174600 | O12: 10 | P12: =ROUND((N12*O12*C12),0) -> 211746003 | Q12: =P12*0.19 -> 40231741 | R12: =+ROUND((P12+Q12),0) -> 251977744
B13: Profesional HSEQ | C13: 1 | D13: 13000000 | E13: 5196000 | F13: 16500000 | G13: 5175180 | H13: 9967795 | I13: 9098000 | J13: 8714761 | K13: 7645043 | L13: ='VALORES SALARIOS'!O11 -> 7736262 | M13: =PRESUPUESTO!F32 -> 1.9115527 | N13: =+L13*M13 -> 14788273 | O13: 10 | P13: =ROUND((N13*O13*C13),0) -> 147882727 | Q13: =P13*0.19 -> 28097718 | R13: =+ROUND((P13+Q13),0) -> 175980445
B14: Ingeniero Interventoria técnica | C14: 1 | D14: 21000000 | E14: 7794000 | F14: 26000000 | G14: 4214000 | H14: 14752000 | I14: 14397000 | J14: 11572092 | K14: 8855658 | L14: ='VALORES SALARIOS'!O12 -> 8894918 | M14: =PRESUPUESTO!F33 -> 1.9115527 | N14: =+L14*M14 -> 17003105 | O14: 10 | P14: =ROUND((N14*O14*C14),0) -> 170031048 | Q14: =P14*0.19 -> 32305899 | R14: =+ROUND((P14+Q14),0) -> 202336947
B15: Interventor Sistemas de Información | C15: 1 | D15: 21000000 | E15: 7794000 | F15: 26000000 | G15: 5794250 | H15: 15147063 | I15: 14397000 | J15: 12531053 | K15: 10336737 | L15: ='VALORES SALARIOS'!O13 -> 9055500 | M15: =PRESUPUESTO!F34 -> 1.9115527 | N15: =+L15*M15 -> 17310066 | O15: 10 | P15: =ROUND((N15*O15*C15),0) -> 173100657 | Q15: =P15*0.19 -> 32889125 | R15: =+ROUND((P15+Q15),0) -> 205989782
B16: Residente de Obras Civiles | C16: 1 | D16: 16000000 | E16: 6928000 | F16: 17500000 | G16: 4214000 | H16: 11160500 | I16: 11464000 | J16: 9508568 | K16: 7979431 | L16: ='VALORES SALARIOS'!O14 -> 8094323 | M16: =PRESUPUESTO!F35 -> 1.9115527 | N16: =+L16*M16 -> 15472725 | O16: 10 | P16: =ROUND((N16*O16*C16),0) -> 154727252 | Q16: =P16*0.19 -> 29398178 | R16: =+ROUND((P16+Q16),0) -> 184125430
B17: Técnico de obras civiles | C17: 1 | D17: 7000000 | E17: 6928000 | F17: 9500000 | G17: 3987498 | H17: 6853875 | I17: 6964000 | J17: 6546852 | K17: 6218461 | L17: ='VALORES SALARIOS'!O15 -> 5773257 | M17: =PRESUPUESTO!F36 -> 1.9115527 | N17: =+L17*M17 -> 11035885 | O17: 10 | P17: =ROUND((N17*O17*C17),0) -> 110358852 | Q17: =P17*0.19 -> 20968182 | R17: =+ROUND((P17+Q17),0) -> 131327034
B18: Profesional técnico de campo | C18: 2 | D18: 8000000 | E18: 6928000 | F18: 9500000 | G18: 4214000 | H18: 7160500 | I18: 7464000 | J18: 6863237 | K18: 6536918 | L18: ='VALORES SALARIOS'!O16 -> 6864952 | M18: =PRESUPUESTO!F37 -> 1.9115527 | N18: =+L18*M18 -> 13122718 | O18: 10 | P18: =ROUND((N18*O18*C18),0) -> 262454355 | Q18: =P18*0.19 -> 49866327 | R18: =+ROUND((P18+Q18),0) -> 312320682
B19: Gestor documental | C19: 1 | D19: 7000000 | E19: 4330000 | F19: 8000000 | G19: 2633750 | H19: 5490938 | I19: 5665000 | J19: 5027043 | K19: 4553263 | L19: ='VALORES SALARIOS'!O17 -> 4756593 | M19: =PRESUPUESTO!F38 -> 1.9115527 | N19: =+L19*M19 -> 9092478.3 | O19: 10 | P19: =ROUND((N19*O19*C19),0) -> 90924783 | Q19: =P19*0.19 -> 17275709 | R19: =+ROUND((P19+Q19),0) -> 108200492
B20: SUBTOTALES | D20: 147000000 | E20: 84868000 | F20: 172800000 | G20: 57623678 | H20: 115572921 | I20: 115334000 | J20: 103744238 | K20: 93015323 | L20: =SUM(L10:L19) -> 89784151 | N20: =SUM(N10:N19) -> 171627139 | P20: =SUM(P10:P19)+1 -> 1847498567 | Q20: =SUM(Q10:Q19) -> 3.5102473e+08 | R20: =SUM(R10:R19) -> 2198523294
B23: PRESUPUESTO COSTOS OPERACIONALES
B24: CARGO | C24: CANTIDAD MININA REQUERIDA | D24: M&K INGENIERIA CIVIL SLP SUCURSAL COLOMBIA VALOR SALARIO (SIN PRESTACIONES) | E24: IDOM Consulting, Engineering,Architecture S.A.U VALOR SALARIO (SIN PRESTACIONES) | F24: JFS CONSULTORES S.A.S - BIC VALOR SALARIO (SIN PRESTACIONES) | G24: INDEXACIÓN CONTRATO | H24: PROMEDIO | I24: MEDIANA | J24: MEDIA GEOMETRICA | K24: MEDIA ARMONICA | L24: MEDIDA ESTADISTICA A UTILIZAR (MEDIA PODADA) | M24: FACTOR MULTIPLICADOR (FM) | N24: VALOR MENSUAL+FM (SIN IVA) | O24: MESES REQUERIDOS | P24: VALOR MENSUAL+FM (IVA INCLUIDO) | Q24: IVA | R24: VALOR TOTAL
B25: Camioneta, modelo 2022 en adelante, matriculada en Bogotá D.C., con conductor incluido, documentación vigente y disponibilidad 24 horas, conforme a lo establecido en el numeral 9 “Recurso Técnicos” del Anexo Técnico. | C25: 1 | D25: 28000000 | E25: 16454000 | F25: 26800000 | G25: 12642000 | H25: 20974000 | I25: 21627000 | J25: 19876734 | K25: 18787756 | L25: ='VALORES COSTOS Y GASTOS OPERACI'!U10 -> 14000000 | M25: N/A | N25: =ROUND((L25*C25),0) -> 14000000 | O25: 10 | P25: =+N25*O25 -> 140000000 | Q25: =ROUND((P25*0.19),0) -> 26600000 | R25: =+ROUND((P25+Q25),0) -> 166600000
B26: CARGO | C26: CANTIDAD MININA REQUERIDA | D26: M&K INGENIERIA CIVIL SLP SUCURSAL COLOMBIA VALOR SALARIO (SIN PRESTACIONES) | E26: IDOM Consulting, Engineering,Architecture S.A.U VALOR SALARIO (SIN PRESTACIONES) | F26: JFS CONSULTORES S.A.S - BIC VALOR SALARIO (SIN PRESTACIONES) | G26: INDEXACIÓN CONTRATO | H26: PROMEDIO | I26: MEDIANA | J26: MEDIA GEOMETRICA | K26: MEDIA ARMONICA | L26: MEDIDA ESTADISTICA A UTILIZAR (MEDIA ARMONICA) | M26: FACTOR MULTIPLICADOR (FM) | N26: VALOR MENSUAL+FM (SIN IVA) | O26: MESES REQUERIDOS | P26: VALOR MENSUAL+FM (IVA INCLUIDO) | Q26: IVA | R26: VALOR TOTAL
B27: Motocicletas modelo 2022 en adelante, matriculadas en Bogotá D.C., documentación vigente y disponibilidad 24 horas,conforme a lo establecido en el numeral 9 “Recurso Técnicos” del Anexo Técnico. | C27: 4 | D27: 13000000 | E27: 11258000 | F27: 16500000 | G27: 7374500 | H27: 12033125 | I27: 12129000 | J27: 11551949 | K27: 11051028 | L27: =PRESUPUESTO!E46 -> 3074918 | M27: N/A | N27: =ROUND((L27),0) -> 3074918 | O27: 10 | P27: =+N27*O27*C27 -> 122996720 | Q27: =ROUND((P27*0.19),0) -> 23369377 | R27: =ROUND((P27+Q27),0) -> 146366097
B28: SUBTOTALES | P28: =+P27+P25 -> 262996720 | Q28: =Q27+Q25 -> 49969377 | R28: =ROUND((P28+Q28),0) -> 312966097
B29: VALOR PRESUPUESTO ESTIMADO (SIN IVA INCLUIDO) | R29: =+P28+P20 -> 2110495287
B30: IVA | R30: =+ROUND((Q28+Q20),0) -> 400994105
B31: VALOR TOTAL PRESUPUESTO ESTIMADO | R31: =+R29+R30 -> 2511489392
