Workbook
Name _AFC1: #REF!
Name _AFC3: #REF!
Name _AFC5: #REF!
Name _BGC1: #REF!
Name _BGC3: #REF!
Name _BGC5: #REF!
Name _CAC1: #REF!
Name _CAC3: #REF!
Name _CAC5: #REF!
Name _Cod1: #REF!
Name _Cod1: #REF!
Name _Cod1: #REF!
Name _Cod1: #REF!
Name _Cod1: #REF!
Name _Cod1: #REF!
Name _Cod1: #REF!
Name _Cod1: #REF!
Name _Cod1: #REF!
Name _Cod1: #REF!
Name _Cod1: #REF!
Name _Cod1: #REF!
Name _Cod1: #REF!
Name _Cod1: #REF!
Name _Cod1: #REF!
Name _MA2: #REF!
Name _MA2: #REF!
Name _MA2: #REF!
Name _MA2: #REF!
Name _MA2: #REF!
Name _MA2: #REF!
Name _MA2: #REF!
Name _MA2: #REF!
Name _MA2: #REF!
Name _MA2: #REF!
Name _MA2: #REF!
Name _MA2: #REF!
Name _MA2: #REF!
Name _MA2: #REF!
Name _MA2: #REF!
Name _Pa1: #REF!
Name _Pa2: #REF!
Name _Pa3: #REF!
Name _Pa4: #REF!
Name _SBC1: #REF!
Name _SBC3: #REF!
Name _SBC5: #REF!
Name a: #REF!
Name a: #REF!
Name a: #REF!
Name a: #REF!
Name a: #REF!
Name a: #REF!
Name a: #REF!
Name a: #REF!
Name a: #REF!
Name a: #REF!
Name a: #REF!
Name a: #REF!
Name a: #REF!
Name a: #REF!

Sheet Instructivo
F1: Sistema de Gestión Integral (SGI) Instructivo - Componente Financiero EP Código: F-PGC-21. Versión: 05
F2: Hoja "Instructivo"
A5: Color | B5: Hoja | D5: Color | E5: Celda
A6: Gris | B6: Informativa | D6: Azul | E6: Protegida
A7: Vinotinto | B7: Formatos
A8: Morado | B8: Variables
A10: Para un mejor diligenciamiento de los formatos y uso de las variables y hojas informativas que se encuentran en este libro, se recomienda, antes de empezar a diligenciar, leer el instructivo, que se encuentra consignado en la presente hoja, igualmente, cada hoja contiene un número significativo de comentarios, los cuales, pretenden ayudar al diligenciamiento, se recomienda leerlos y aplicarlos de manera atenta. En caso de requerir apoyo, favor comunicarse con el asesor(a) financiero(a) asignado para el proceso.
A12: HOJAS INFORMATIVAS
A13: Nombre | D13: Descripción
A14: Cuantías de contratación (por pluralidad de oferentes) | D14: En la hoja se encuentran los valores establecidos anualmente, para identificar dentro de la contratación por pluralidad de oferentes, de acuerdo al valor del presupuesto, si se clasifica dentro de una mínima cuantía, menor cuantía o licitación pública, en los casos que aplique.
A15: Documentos de apoyo | D15: En la hoja se encuentran listas enunciativas de documentos de apoyo, que pueden presentar interés, al igual, que guíar el accionar en el ámbito general de la contratación pública y específico de la asesoría financiera a la misma. Se deberá considerar que las listas no son exhaustivas, es decir, no contemplan todos los documentos de cada categoría, al igual, que depende de la actualización constante de la Subdirección Administrativa y Financiera.
A16: Impuestos y garantías | D16: En la hoja se encuentra una lista enunciativa de los impuestos y las garantías en los que puede incurrir el ejecutor, las cuales dependen de la especificidad del proceso. La lista es de carácter informativa en caso que se emitan consultas al respecto.
A17: Información anticipos y pagos anticipados | D17: En la hoja se encuentra una corta explicación sobre la consideración normativa de los anticipos y pagos anticipados, que tiene como objeto orientar respecto a este tema de frecuente consulta e inquietud; tema sobre el cual, se requiere tener claridad para la estipulación de la ejecución física y financiera de los procesos.
A18: Información procesos de obra pública y capacidad residual (K) | D18: En la hoja se encuentra una corta explicación sobre los procesos de obra, y el cálculo de la capacidad residual (K) en los casos que se requiera, que tiene como objeto suministrar información de interés general respecto a este tema de frecuente consulta e inquietud; tener en cuenta que este tema es de competencia tanto jurídica como técnica y financiera.
A19: Información IVA | D19: En la hoja se encuentra una corta explicación sobre las consideraciones respecto al IVA, que tiene como objeto orientar respecto a este tema de frecuente consulta e inquietud.
A20: Notas propuesta económica | D20: En la hoja se encuentra una lista enunciativa de notas, las cuales deberán ser elegidas de acuerdo a la especificidad del proceso contractual, con el fin de incluirlas en el formato de propuesta económica. Las notas tienen como objeto orientar a los oferentes en el diligenciamiento de dicho formato.
A21: Requisitos habilitantes capacidad financiera y organizacional | D21: En la hoja se encuentran los requisitos de capacidad financiera y organizacional vigentes
A23: FORMATOS (PARA DILIGENCIAR) | I23: DILIGENCIAR EN CASO DE:
A24: Nombre | D24: Descripción | I24: Contratos por contratación directa | J24: Contratos por pluralidad de oferentes | K24: Convenios
A25: DILIGENCIAR PARA EVALUACIÓN POR PARTE DEL COMITÉ DE CONTRATACIÓN (Asesor técnico)
A26: Se recomienda que el asesor técnico para la planeación financiera del proceso contractual, empiece con el diligenciamiento paralelo de la memoria de cálculo con su debido estudio de mercado, para seguir con la estipulación de los gastos de administración, si aplican. En un segundo momento, se recomienda diligenciar, el presupuesto de acuerdo a la modalidad del proceso, y el plan de ejecución física y de inversiones. El técnico podrá anexar al presente libro las hojas que considere necesarias con el fin de suportar la estimación de los valores. NOTA: Se recomienda iniciar escribiendo en el formato del Plan de ejecución los datos básicos de modalidad de contratación y objeto a contratar, ya que está información alimenta a las demás hojas.
A27: Plan de ejecución física y de inversiones | D27: Diligenciar la programación física y financiera del proceso, tanto en la étapa inicial, como en el caso de solicitud de Otrosí de adición de recursos o prórroga, o cuando el Otrosí de modificación implique cambios en el presupuesto. | I27: X | J27: X | K27: X
A28: Plan de ejecución física y de inversiones - Prestación de Servicios Personales | D28: Diligenciar exclusivamente para los contratos de Prestación de Servicios Personales que suscribe la Corporación con una persona natural. Este formato simplificado permite la programación física y financiera del proceso, tanto en la étapa inicial, como en el caso de solicitud de Otrosí de adición de recursos o prórroga, o cuando el Otrosí de modificación implique cambios en el presupuesto. | I28: X
A29: Presupuesto - Modalidad contrato | D29: Diligenciar en caso que el proceso se tipifique dentro de las modalidades de contratos. El presupuesto es un documento donde se plasman los recursos económicos requeridos para llevar a cabo de manera exitosa el proceso contractual. | I29: X | J29: X
A30: Presupuesto - Modalidad contrato - Prestación de Servicios Personales | D30: Diligenciar exclusivamente para los contratos de Prestación de Servicios Personales que suscribe la Corporación con una persona natural. En este formato simplificado se plasma el presupuesto, donde se relacionan los recursos económicos requeridos para llevar a cabo de manera exitosa el proceso contractual. | I30: X
A31: Presupuesto - Modalidad convenio | D31: Diligenciar en caso que el proceso se tipifique dentro de las modalidades de convenios. El presupuesto es un documento donde se plasman los recursos económicos requeridos para llevar a cabo de manera exitosa el proceso contractual. | K31: X
A32: Memoria de cálculo - Opción 1 | D32: Diligenciar de acuerdo a las características del proceso, alcance y/o actividad. La memoria de cálculo es un documento descriptivo donde se refleja de manera exhaustiva y detallada, todos y cada uno de los elementos que intervienen en el proceso, alcance y/o actividad que se está valorando. Esta memoria de cálculo es útil para la compra de productos terminados, bienes con características homogéneas, o bienes y servicios que se valoren a todo costo, entre otras opciones, por ejemplo: compra de equipos o insumos. Nota: Tener en cuenta que para valorar una variable o ítem se utiliza una sola memoria de cálculo y no las tres opciones, por ejemplo, si se quiere valorar la adquisición de 1 equipo de cómputo, dicha adquisición se deja consignada en solo una de las memorias de cálculo, no se tiene que utilizar las tres opciones para este mismo ítem. | I32: Se seleccionará el formato de memoria de cálculo que mejor se adapte a las características del proceso, alcance y/o actividad a valorar.
A33: Memoria de cálculo - Opción 2 | D33: Diligenciar de acuerdo a las características del proceso, alcance y/o actividad. La memoria de cálculo es un documento descriptivo donde se refleja de manera exhaustiva y detallada, todos y cada uno de los elementos que intervienen en el proceso, alcance y/o actividad que se está valorando. Esta memoria de cálculo es útil para los procesos de obra. Nota: Tener en cuenta que para valorar una variable o ítem se utiliza una sola memoria de cálculo y no las tres opciones, por ejemplo, si se quiere valorar la adquisición de 1 equipo de cómputo, dicha adquisición se deja consignada en solo una de las memorias de cálculo, no se tiene que utilizar las tres opciones para este mismo ítem. | I33: Se seleccionará el formato de memoria de cálculo que mejor se adapte a las características del proceso, alcance y/o actividad a valorar.
A34: Memoria de cálculo - Opción 3 | D34: Diligenciar de acuerdo a las características del proceso, alcance y/o actividad. La memoria de cálculo es un documento descriptivo donde se refleja de manera exhaustiva y detallada, todos y cada uno de los elementos que intervienen en el proceso, alcance y/o actividad que se está valorando. Esta memoria de cálculo es útil para procesos que requieran detallar todos los elementos del costo, por ejemplo, realización de talleres, donde se debe considerar los materiales, los refrigerios, alquiler de equipos, entre otros. Nota: Tener en cuenta que para valorar una variable o ítem se utiliza una sola memoria de cálculo y no las tres opciones, por ejemplo, si se quiere valorar la adquisición de 1 equipo de cómputo, dicha adquisición se deja consignada en solo una de las memorias de cálculo, no se tiene que utilizar las tres opciones para este mismo ítem. | I34: Se seleccionará el formato de memoria de cálculo que mejor se adapte a las características del proceso, alcance y/o actividad a valorar.
A35: Estudio de mercado | D35: Un estudio de mercado es el proceso mediante el cual, se recoge y análiza información que sirve para identificar las características, valores y condiciones del bien o servicio a adquirir, con el fin de obtenerlos acuerdo a las estipulaciones del mercado, bajo el principio de plena competencia. En la corporación el estudio de mercado se realiza mediante la identificación de valores por medio de cotizaciones debidamente radicadas, valores históricos de los bienes y servicios de interés, recolección de información de sitios de internet soportados con los debidos pantallazos, y demás información de diferentes fuentes con sus correspondientes medios de verificación. El estudio de mercado no se puede confundir con el estudio de sector, este último, requerido solo para algunos procesos contractuales. En el estudio de mercado, pueden hacer parte, debidamente soportados o en todo caso que permita realizar la trazabilidad, los valores establecidos en otros procesos contractuales para los mismos bienes y servicios, de la misma vigencia o de anteriores vigencias, en caso de utilizar valores de vigencias anteriores se deberá realizar la respectiva actualización con la inflación anual de la o las vigencias pasadas. | I35: X | J35: X | K35: X
A36: Determinación de gastos de administración | D36: Diligenciar para determinar el porcentaje de los gastos de administración o administración del proceso, de acuerdo a las características del mismo, considerando no tener duplicidad en ítems ya contemplados en el presupuesto general del proceso. | I36: X | J36: X | K36: X
A37: Identificación de bienes nacionales relevantes | D37: Diligenciar para identificar los bienes nacionales relevantes en los procesos que apliquen. | J37: X
A38: DILIGENCIAR COMO PARTE DE LOS DOCUMENTOS A SUBIR A LA PLATAFORMA SECOP (Asesor financiero)
A39: Propuesta económica - Opción 1 | D39: Diligenciar con el objeto de suministrarle a los oferentes la estructura y condiciones de la presentación de las respectivas propuestas económicas, se recomienda su uso para procesos que se hayan planeado en el formato memoria de cálculo - opción 1. | J39: X
A40: Propuesta económica - Opción 2 | D40: Diligenciar con el objeto de suministrarle a los oferentes la estructura y condiciones de la presentación de las respectivas propuestas económicas, se recomienda su uso para procesos que se hayan planeado en el formato memoria de cálculo - opción 2. | J40: X
A41: Propuesta económica - Opción 3 | D41: Diligenciar con el objeto de suministrarle a los oferentes la estructura y condiciones de la presentación de las respectivas propuestas económicas, se recomienda su uso para procesos que se hayan planeado en el formato memoria de cálculo - opción 3. | J41: X
A42: Estimación PAB comparación absoluta | D42: Diligenciar con el objeto realizar el acta del Precio Artificialmente Bajo (PAB). La cual, se elabora paralelamente con el formato de propuesta económica para el proceso. | J42: X
A43: DILIGENCIAR PARA EVALUACIÓN FINANCIERA DE OFERENTES (Asesor financiero)
A44: Verificación de requisitos habilitantes de los proponentes sobre capacidad financiera y organizacional | D44: Diligenciar con el fin de consignar la verificación de los requisitos habilitantes de los proponentes, sobre capacidad financiera y organizacional, en los casos que apliquen. | J44: X
A45: Estimación PAB comparación relativa | D45: Diligenciar solamente en el caso que sea necesario aplicar la metodología de comparación relativa, es decir, cuando se hayan presentado más de 5 ofertas, con el fin de evaluar los PAB de los oferentes. | J45: X
...

Sheet Plan Ejecución
F1: =Instructivo!F1 -> Sistema de Gestión Integral (SGI) Instructivo - Componente Financiero EP Código: F-PGC-21. Versión: 05
F2: Hoja "Plan Ejecución física y de inversiones"
A4: MODALIDAD DE CONTRATACIÓN: | C4: Convenio Interadministrativo | J4: =C4 -> Convenio Interadministrativo
A5: OBJETO A CONTRATAR: | C5: Aunar esfuerzos para ejecutar acciones enfocadas al apoyo del PGIRS mediante acciones y estrategias enfocadas en la gestión, el aprovechamiento y la economía circular, en el municipio de Concordia | J5: =C5 -> Aunar esfuerzos para ejecutar acciones enfocadas al apoyo del PGIRS mediante acciones y estrategias enfocadas en la gestión, el aprovechamiento y la economía circular, en el municipio de Concordia
A7: CONTRATISTA/CONVENIANTE: | C7: Municipio de Concordia
A8: NOMBRE DEL TÉCNICO (A):
A9: DURACIÓN Y/O PLAZO DEL CONTRATO (MESES): | C9: 2.5
A10: PERIODO DE PROGRAMACIÓN Y SEGUIMIENTO: | C10: Mensual
A12: PROGRAMACIÓN FÍSICA
B13: Descripción | C13: % de importancia | D13: % de importancia subactividades | E13: Unidad de medida | F13: Cantidad Programada | G13: Distribución física
G14: Período 1 | H14: Período 2 | I14: Período 3
A15: META/ PRODUCTO A OBTENER: | D15: =SUM(D16:D50) -> 1 | F15: =F16+F25 -> 139 | J15: =F15-SUM(G15:I15) -> 139
A16: Alcance 1 | B16: Fortalecimiento de la gestión de residuos peligrosos y especiales. | C16: 0.4 | F16: =F17+F21 -> 25 | G16: =G17+G21 -> 3 | H16: =H17+H21 -> 22 | I16: =I17+I21 -> 0 | J16: =F16-SUM(G16:I16) -> 0
A17: Actividad 1.1 | B17: Censo y clasificación de establecimientos generadores de residuos peligrosos. | C17: =3/4 -> 0.75 | F17: =SUM(F18:F20) -> 3 | G17: =SUM(G18:G20) -> 3 | H17: =SUM(H18:H20) -> 0 | I17: =SUM(I18:I20) -> 0 | J17: =F17-SUM(G17:I17) -> 0
A18: Subactividad/Producto 1.1.1 | B18: Un (1) documento con las evidencias comunicacionales de la invitación a la capacitación. | C18: 0.3 | D18: =C18*$C$17*$C$16 -> 0.09 | E18: Documento | F18: =SUM(G18:I18) -> 1 | G18: 1 | J18: =F18-SUM(G18:I18) -> 0
A19: Subactividad/Producto 1.1.2 | B19: Una (1) base de datos en Excel con el censo y la clasificación de los establecimientos generadores de residuos peligrosos. | C19: 0.4 | D19: =C19*$C$17*$C$16 -> 0.12 | E19: Documento | F19: =SUM(G19:I19) -> 1 | G19: 1 | J19: =F19-SUM(G19:I19) -> 0
A20: Subactividad/Producto 1.1.3 | B20: Un (1) documento tipo tabla con los registros de visita a los establecimientos, incluye registro fotográfico. | C20: 0.3 | D20: =C20*$C$17*$C$16 -> 0.09 | E20: Documento | F20: =SUM(G20:I20) -> 1 | G20: 1 | J20: =F20-SUM(G20:I20) -> 0
A21: Actividad 1.2 | B21: Capacitación a representantes de los establecimientos generadores de residuos peligrosos. | C21: =1/4 -> 0.25 | F21: =SUM(F22:F24) -> 22 | G21: =SUM(G22:G24) -> 0 | H21: =SUM(H22:H24) -> 22 | I21: =SUM(I22:I24) -> 0 | J21: =F21-SUM(G21:I21) -> 0
A22: Subactividad/Producto 1.2.1 | B22: Un (1) acta de capacitación con registro de asistencia y entrega de refrigerios (registro fotográfico). | C22: 0.4 | D22: =C22*$C$21*$C$16 -> 0.04 | E22: Acta | F22: =SUM(G22:I22) -> 1 | H22: 1 | J22: =F22-SUM(G22:I22) -> 0
A23: Subactividad/Producto 1.2.2 | B23: Un (1) documento con las evidencias comunicacionales de la convocatoria a la capacitación. | C23: 0.3 | D23: =C23*$C$21*$C$16 -> 0.03 | E23: Documento | F23: =SUM(G23:I23) -> 1 | H23: 1 | J23: =F23-SUM(G23:I23) -> 0
A24: Subactividad/Producto 1.2.3 | B24: Veinte (20) refrigerios entregados en la jornada de capacitación (registro fotográfico). | C24: 0.3 | D24: =C24*$C$21*$C$16 -> 0.03 | E24: Unidad | F24: =SUM(G24:I24) -> 20 | H24: 20 | J24: =F24-SUM(G24:I24) -> 0
A25: Alcance 2 | B25: Promoción del aprovechamiento de residuos sólidos y la economía circular. | C25: 0.6 | F25: =F26+F30+F32+F35+F38+F41+F45 -> 114 | G25: =G26+G30+G32+G35+G38+G41+G45 -> 0 | H25: =H26+H30+H32+H35+H38+H41+H45 -> 68 | I25: =I26+I30+I32+I35+I38+I41+I45 -> 46 | J25: =F25-SUM(G25:I25) -> 0
A26: Actividad 2.1 | B26: Formación a recicladores de oficio. | C26: =7/48 -> 0.14583333 | F26: =SUM(F27:F29) -> 23 | G26: =SUM(G27:G29) -> 0 | H26: =SUM(H27:H29) -> 23 | I26: =SUM(I27:I29) -> 0 | J26: =F26-SUM(G26:I26) -> 0
A27: Subactividad/Producto 2.1.1 | B27: Un (1) documento con las evidencias comunicacionales de la invitación a las 2 capacitaciones. | C27: 0.3 | D27: =C27*$C$26*$C$25 -> 0.02625 | E27: Documento | F27: =SUM(G27:I27) -> 1 | H27: 1 | J27: =F27-SUM(G27:I27) -> 0
A28: Subactividad/Producto 2.1.2 | B28: Dos (2) actas de reunión de las capacitaciones, con listado de asistencia, presentación y registro fotográfico. | C28: 0.4 | D28: =C28*$C$26*$C$25 -> 0.035 | E28: Acta | F28: =SUM(G28:I28) -> 2 | H28: 2 | J28: =F28-SUM(G28:I28) -> 0
A29: Subactividad/Producto 2.1.3 | B29: Veinte (20) refrigerios entregados en los 2 talleres de capacitación (registro fotográfico). | C29: 0.3 | D29: =C29*$C$26*$C$25 -> 0.02625 | E29: Unidad | F29: =SUM(G29:I29) -> 20 | H29: 20 | J29: =F29-SUM(G29:I29) -> 0
A30: Actividad 2.2 | B30: Dotación a recicladores | C30: =7/48 -> 0.14583333 | F30: =SUM(F31:F31) -> 3 | G30: =SUM(G31:G31) -> 0 | H30: =SUM(H31:H31) -> 3 | I30: =SUM(I31:I31) -> 0 | J30: =F30-SUM(G30:I30) -> 0
A31: Subactividad/Producto 2.2.1 | B31: Tres (3) actas de entrega de la dotación (camibuso y gorra tipo pava) a cada reciclador, con registro fotográfico. | C31: 1 | D31: =C31*$C$30*$C$25 -> 0.0875 | E31: Acta | F31: =SUM(G31:I31) -> 3 | H31: 3 | J31: =F31-SUM(G31:I31) -> 0
A32: Actividad 2.3 | B32: Entrega de suministros para promover la separación en la fuente y la ruta selectiva de materiales aprovechables. | C32: =5/36 -> 0.13888889 | F32: =SUM(F33:F34) -> 19 | G32: =SUM(G33:G34) -> 0 | H32: =SUM(H33:H34) -> 9 | I32: =SUM(I33:I34) -> 10 | J32: =F32-SUM(G32:I32) -> 0
A33: Subactividad/Producto 2.3.1 | B33: Dieciocho (18) puntos ecológicos vaciados en plástico reciclado entregados e instalados. | C33: 0.6 | D33: =C33*$C$32*$C$25 -> 0.05 | E33: Documento | F33: 18 | H33: 9 | I33: 9 | J33: =F33-SUM(G33:I33) -> 0
A34: Subactividad/Producto 2.3.2 | B34: Un (1) paquete documental con el registro fotográfico de las entregas. | C34: 0.4 | D34: =C34*$C$32*$C$25 -> 0.033333333 | E34: Documento | F34: =SUM(G34:I34) -> 1 | I34: 1 | J34: =F34-SUM(G34:I34) -> 0
A35: Actividad 2.4 | B35: Tratamiento de residuos orgánicos. | C35: =5/36 -> 0.13888889 | F35: =SUM(F36:F37) -> 27 | G35: =SUM(G36:G37) -> 0 | H35: =SUM(H36:H37) -> 13 | I35: =SUM(I36:I37) -> 14 | J35: =F35-SUM(G35:I35) -> 0
A36: Subactividad/Producto 2.4.1 | B36: Veintiséis (26) actas de entrega, con ficha técnica de las composteras instaladas. | C36: 0.6 | D36: =C36*$C$35*$C$25 -> 0.05 | E36: Acta | F36: =SUM(G36:I36) -> 26 | H36: 13 | I36: 13 | J36: =F36-SUM(G36:I36) -> 0
A37: Subactividad/Producto 2.4.2 | B37: Un (1) informe de las capacitaciones realizadas, con listado de asistencia y registro fotográfico. | C37: 0.4 | D37: =C37*$C$35*$C$25 -> 0.033333333 | E37: Documento | F37: =SUM(G37:I37) -> 1 | I37: 1 | J37: =F37-SUM(G37:I37) -> 0
A38: Actividad 2.5 | B38: Acciones de educación ambiental y comunicacionales para fomentar las buenas prácticas en la gestión integral de residuos. | C38: =5/36 -> 0.13888889 | F38: =SUM(F39:F40) -> 34 | G38: =SUM(G39:G40) -> 0 | H38: =SUM(H39:H40) -> 15 | I38: =SUM(I39:I40) -> 19 | J38: =F38-SUM(G38:I38) -> 0
A39: Subactividad/Producto 2.5.1 | B39: Diecisiete (17) encuentros de sensibilización, formación y educación ambiental realizados. | C39: 0.65 | D39: =C39*$C$38*$C$25 -> 0.054166667 | E39: Encuentro | F39: =SUM(G39:I39) -> 17 | H39: 8 | I39: 9 | J39: =F39-SUM(G39:I39) -> 0
A40: Subactividad/Producto 2.5.2 | B40: Diecisiete (17) soportes de la entrega de refrigerios para cada uno de los eventos (registro fotográfico). | C40: 0.35 | D40: =C40*$C$38*$C$25 -> 0.029166667 | E40: Unidad | F40: =SUM(G40:I40) -> 17 | H40: 7 | I40: 10 | J40: =F40-SUM(G40:I40) -> 0
A41: Actividad 2.6 | B41: Suministro de centros de acopio de material aprovechable. | C41: =7/48 -> 0.14583333 | F41: =SUM(F42:F44) -> 3 | G41: =SUM(G42:G44) -> 0 | H41: =SUM(H42:H44) -> 0 | I41: =SUM(I42:I44) -> 3 | J41: =F41-SUM(G41:I41) -> 0
A42: Subactividad/Producto 2.6.1 | B42: Un (1) paquete documental con las actas de entrega e instalación de los dos (2) centros de acopio. | C42: 0.35 | D42: =C42*$C$41*$C$25 -> 0.030625 | E42: Documento | F42: =SUM(G42:I42) -> 1 | I42: 1 | J42: =F42-SUM(G42:I42) -> 0
A43: Subactividad/Producto 2.6.2 | B43: Un (1) paquete documental con los soportes de capacitación a los beneficiarios de los centros de acopio. | C43: 0.35 | D43: =C43*$C$41*$C$25 -> 0.030625 | E43: Documento | F43: =SUM(G43:I43) -> 1 | I43: 1 | J43: =F43-SUM(G43:I43) -> 0
...

Sheet Presupuesto Convenio
F1: =Instructivo!F1 -> Sistema de Gestión Integral (SGI) Instructivo - Componente Financiero EP Código: F-PGC-21. Versión: 05 | M1: Instructivo
F2: Hoja "Presupuesto - Modalidad convenio"
A5: MODALIDAD DE CONTRATACIÓN: | C5: ='Plan Ejecución'!J4 -> Convenio Interadministrativo
A6: OBJETO A CONTRATAR: | C6: ='Plan Ejecución'!J5 -> Aunar esfuerzos para ejecutar acciones enfocadas al apoyo del PGIRS mediante acciones y estrategias enfocadas en la gestión, el aprovechamiento y la economía circular, en el municipio de Concordia
A8: COSTOS DE PERSONAL | I8: FUENTES DE COFINANCIACIÓN | N8: Recursos en dinero de CORANTIOQUIA por alcance, actividad o subactividad
A9: Ítem | B9: Cantidad personal | C9: (%) Dedicación | D9: Unidad de medida | E9: Cantidad | F9: Valor unitario base | G9: Valor total | H9: (%) PP | I9: CORANTIOQUIA | K9: Entidad 1:
I10: DINERO | J10: ESPECIE | K10: DINERO | L10: ESPECIE | N10: Alcance 1 | O10: Alcance 2 | P10: Alcance 3 | Q10: Alcance 4 | R10: Alcance 5 | S10: Alcance 6
A11: Mano de Obra Calificada
A12: Tecnólogo ambiental | B12: 1 | C12: 1 | D12: ='ALCANCE 1'!D16 -> Mes | E12: ='ALCANCE 1'!E16 -> 2.5 | F12: ='ALCANCE 1'!F16 -> 4824450 | G12: =IFERROR(B12*C12*E12*F12,0) -> 12061125 | H12: =IFERROR(G12/$G$59,0) -> 0.3440028 | I12: =+G12*'Presupuesto Convenio'!$B$137 -> 12061125 | K12: =+G12*'Presupuesto Convenio'!$B$138 -> 0 | M12: =IFERROR(G12-SUM(I12:L12),"") -> 0 | N12: ='ALCANCE 1'!G16*'Presupuesto Convenio'!$B$137 -> 6030562.5 | O12: ='ALCANCE 2'!G16*'Presupuesto Convenio'!$B$137 -> 6030562.5 | T12: =I12-SUM(N12:S12) -> 0
A13: Asistencial | B13: 2 | C13: 1 | D13: ='ALCANCE 1'!D17 -> Mes | E13: ='ALCANCE 1'!E17 -> 2.5 | F13: =IFERROR(VLOOKUP(A13,Honorarios!$A$8:$C$14,2,FALSE()),"") -> 3000000 | G13: =IFERROR(B13*C13*E13*F13,0) -> 15000000 | H13: =IFERROR(G13/$G$59,0) -> 0.42782426 | I13: =+G13*'Presupuesto Convenio'!$B$137 -> 15000000 | K13: =+G13*'Presupuesto Convenio'!$B$138 -> 0 | M13: =IFERROR(G13-SUM(I13:L13),"") -> 0 | N13: ='ALCANCE 1'!G17*'Presupuesto Convenio'!$B$137 -> 7500000 | O13: ='ALCANCE 2'!G17*'Presupuesto Convenio'!$B$137 -> 7500000 | T13: =I13-SUM(N13:S13) -> 0
A14: Tecnólogo ambiental o afín (aporte en especie - Municipio, contrato de prestación de servicios 36 de 2026) | B14: 1 | C14: 1 | D14: Mes | E14: 2.5 | F14: 3200000 | G14: =IFERROR(B14*C14*E14*F14,0) -> 8000000 | H14: =IFERROR(G14/$G$59,0) -> 0.22817294 | I14: 0 | J14: 0 | K14: 0 | L14: =+G14 -> 8000000 | M14: =IFERROR(G14-SUM(I14:L14),"") -> 0 | T14: =I14-SUM(N14:S14) -> 0
T15: =I15-SUM(N15:S15) -> 0
F16: =IFERROR(VLOOKUP(A16,Honorarios!$A$8:$C$14,2,FALSE()),"") | G16: =IFERROR(B16*C16*E16*F16*#REF!,0) -> 0 | H16: =IFERROR(G16/$G$59,0) -> 0 | M16: =IFERROR(G16-SUM(I16:L16),"") -> 0 | T16: =I16-SUM(N16:S16) -> 0
F17: =IFERROR(VLOOKUP(A17,Honorarios!$A$8:$C$14,2,FALSE()),"") | G17: =IFERROR(B17*C17*E17*F17*#REF!,0) -> 0 | H17: =IFERROR(G17/$G$59,0) -> 0 | M17: =IFERROR(G17-SUM(I17:L17),"") -> 0 | T17: =I17-SUM(N17:S17) -> 0
F18: =IFERROR(VLOOKUP(A18,Honorarios!$A$8:$C$14,2,FALSE()),"") | G18: =IFERROR(B18*C18*E18*F18*#REF!,0) -> 0 | H18: =IFERROR(G18/$G$59,0) -> 0 | M18: =IFERROR(G18-SUM(I18:L18),"") -> 0 | T18: =I18-SUM(N18:S18) -> 0
F19: =IFERROR(VLOOKUP(A19,Honorarios!$A$8:$C$14,2,FALSE()),"") | G19: =IFERROR(B19*C19*E19*F19*#REF!,0) -> 0 | H19: =IFERROR(G19/$G$59,0) -> 0 | M19: =IFERROR(G19-SUM(I19:L19),"") -> 0 | T19: =I19-SUM(N19:S19) -> 0
F20: =IFERROR(VLOOKUP(A20,Honorarios!$A$8:$C$14,2,FALSE()),"") | G20: =IFERROR(B20*C20*E20*F20*#REF!,0) -> 0 | H20: =IFERROR(G20/$G$59,0) -> 0 | M20: =IFERROR(G20-SUM(I20:L20),"") -> 0 | T20: =I20-SUM(N20:S20) -> 0
F21: =IFERROR(VLOOKUP(A21,Honorarios!$A$8:$C$14,2,FALSE()),"") | G21: =IFERROR(B21*C21*E21*F21*#REF!,0) -> 0 | H21: =IFERROR(G21/$G$59,0) -> 0 | M21: =IFERROR(G21-SUM(I21:L21),"") -> 0 | T21: =I21-SUM(N21:S21) -> 0
F22: =IFERROR(VLOOKUP(A22,Honorarios!$A$8:$C$14,2,FALSE()),"") | G22: =IFERROR(B22*C22*E22*F22*#REF!,0) -> 0 | H22: =IFERROR(G22/$G$59,0) -> 0 | M22: =IFERROR(G22-SUM(I22:L22),"") -> 0 | T22: =I22-SUM(N22:S22) -> 0
F23: =IFERROR(VLOOKUP(A23,Honorarios!$A$8:$C$14,2,FALSE()),"") | G23: =IFERROR(B23*C23*E23*F23*#REF!,0) -> 0 | H23: =IFERROR(G23/$G$59,0) -> 0 | M23: =IFERROR(G23-SUM(I23:L23),"") -> 0 | T23: =I23-SUM(N23:S23) -> 0
F24: =IFERROR(VLOOKUP(A24,Honorarios!$A$8:$C$14,2,FALSE()),"") | G24: =IFERROR(B24*C24*E24*F24*#REF!,0) -> 0 | H24: =IFERROR(G24/$G$59,0) -> 0 | M24: =IFERROR(G24-SUM(I24:L24),"") -> 0 | T24: =I24-SUM(N24:S24) -> 0
F25: =IFERROR(VLOOKUP(A25,Honorarios!$A$8:$C$14,2,FALSE()),"") | G25: =IFERROR(B25*C25*E25*F25*#REF!,0) -> 0 | H25: =IFERROR(G25/$G$59,0) -> 0 | M25: =IFERROR(G25-SUM(I25:L25),"") -> 0 | T25: =I25-SUM(N25:S25) -> 0
F26: =IFERROR(VLOOKUP(A26,Honorarios!$A$8:$C$14,2,FALSE()),"") | G26: =IFERROR(B26*C26*E26*F26*#REF!,0) -> 0 | H26: =IFERROR(G26/$G$59,0) -> 0 | M26: =IFERROR(G26-SUM(I26:L26),"") -> 0 | T26: =I26-SUM(N26:S26) -> 0
F27: =IFERROR(VLOOKUP(A27,Honorarios!$A$8:$C$14,2,FALSE()),"") | G27: =IFERROR(B27*C27*E27*F27*#REF!,0) -> 0 | H27: =IFERROR(G27/$G$59,0) -> 0 | M27: =IFERROR(G27-SUM(I27:L27),"") -> 0 | T27: =I27-SUM(N27:S27) -> 0
... F57: =IFERROR(VLOOKUP(A57,Honorarios!$A$8:$C$14,2,FALSE()),"") | G57: =IFERROR(B57*C57*E57*F57*#REF!,0) -> 0 | H57: =IFERROR(G57/$G$59,0) -> 0 | M57: =IFERROR(G57-SUM(I57:L57),"") -> 0 | T57: =I57-SUM(N57:S57) -> 0
A58: Subtotal Mano de Obra calificada | G58: =SUM(G12:G57) -> 35061125 | H58: =SUM(H12:H57) -> 1 | I58: =SUM(I12:I57) -> 27061125 | J58: =SUM(J12:J57) -> 0 | K58: =SUM(K12:K57) -> 0 | L58: =SUM(L12:L57) -> 8000000 | M58: =G58-SUM(I58:L58) -> 0
A59: SUBTOTAL PERSONAL (Mano de Obra Calificada + Mano de Obra no Calificada) | G59: =G58 -> 35061125 | H59: =H58 -> 1 | I59: =I58 -> 27061125 | J59: =J58 -> 0 | K59: =K58 -> 0 | L59: =L58 -> 8000000 | M59: =G59-SUM(I59:L59) -> 0
A61: COSTOS (Diferentes a los costos del personal) | I61: FUENTES DE COFINANCIACIÓN
A62: Ítem | D62: Unidad de medida | E62: Cantidad | F62: Valor unitario | G62: Valor total | H62: (%) PP | I62: CORANTIOQUIA | K62: Entidad 1:
I63: DINERO | J63: ESPECIE | K63: DINERO | L63: ESPECIE
A64: ='ALCANCE 1'!A41 -> Refrigerios - Actividad 1.2 (1 jornada x 20) | D64: ='ALCANCE 1'!D41 -> Unidad | E64: ='ALCANCE 1'!E41 -> 20 | F64: ='ALCANCE 1'!F41 -> 12000 | G64: ='ALCANCE 1'!G41 -> 240000 | H64: =IFERROR(G64/$G$107,0) -> 0.001617405 | I64: =+G64*'Presupuesto Convenio'!$B$137 -> 240000 | K64: =+G64*'Presupuesto Convenio'!$B$138 -> 0 | M64: =G64-SUM(I64:L64) -> 0 | N64: =+I64 -> 240000 | T64: =I64-SUM(N64:S64) -> 0
A65: ='ALCANCE 1'!A42 -> Dotación equipo de trabajo: camiseta tipo polo (100% - Alcance 1) | D65: ='ALCANCE 1'!D42 -> Unidad | E65: ='ALCANCE 1'!E42 -> 4 | F65: ='ALCANCE 1'!F42 -> 64849 | G65: ='ALCANCE 1'!G42 -> 259396 | H65: =IFERROR(G65/$G$107,0) -> 0.0017481183 | I65: =+G65*'Presupuesto Convenio'!$B$137 -> 259396 | K65: =+G65*'Presupuesto Convenio'!$B$138 -> 0 | M65: =G65-SUM(I65:L65) -> 0 | N65: =+I65 -> 259396 | T65: =I65-SUM(N65:S65) -> 0
A66: ='ALCANCE 2'!A41 -> Refrigerios - Actividad 2.1 (2 talleres x 10) | D66: ='ALCANCE 2'!D41 -> Unidad | E66: ='ALCANCE 2'!E41 -> 20 | F66: ='ALCANCE 2'!F41 -> 12000 | G66: ='ALCANCE 2'!G41 -> 240000 | H66: =IFERROR(G66/$G$107,0) -> 0.001617405 | I66: =+G66*'Presupuesto Convenio'!$B$137 -> 240000 | K66: =+G66*'Presupuesto Convenio'!$B$138 -> 0 | M66: =G66-SUM(I66:L66) -> 0 | O66: =+I66 -> 240000 | T66: =I66-SUM(N66:S66) -> 0
A67: ='ALCANCE 2'!A42 -> Refrigerios - Actividad 2.5 (17 encuentros x 20) | D67: ='ALCANCE 2'!D42 -> Unidad | E67: ='ALCANCE 2'!E42 -> 340 | F67: ='ALCANCE 2'!F42 -> 12000 | G67: ='ALCANCE 2'!G42 -> 4080000 | H67: =IFERROR(G67/$G$107,0) -> 0.027495885 | I67: =+G67*'Presupuesto Convenio'!$B$137 -> 4080000 | K67: =+G67*'Presupuesto Convenio'!$B$138 -> 0 | M67: =G67-SUM(I67:L67) -> 0 | O67: =+I67 -> 4080000 | T67: =I67-SUM(N67:S67) -> 0
A68: ='ALCANCE 2'!A43 -> Dotación recicladores: camibuso (100% - Alcance 2) | D68: ='ALCANCE 2'!D43 -> Unidad | E68: ='ALCANCE 2'!E43 -> 3 | F68: ='ALCANCE 2'!F43 -> 72383.5 | G68: ='ALCANCE 2'!G43 -> 217151 | H68: =IFERROR(G68/$G$107,0) -> 0.0014634213 | I68: =+G68*'Presupuesto Convenio'!$B$137 -> 217151 | K68: =+G68*'Presupuesto Convenio'!$B$138 -> 0 | M68: =G68-SUM(I68:L68) -> 0 | O68: =+I68 -> 217151 | T68: =I68-SUM(N68:S68) -> 0
A69: ='ALCANCE 2'!A44 -> Dotación recicladores: gorra tipo PAVA (100% - Alcance 2) | D69: ='ALCANCE 2'!D44 -> Unidad | E69: ='ALCANCE 2'!E44 -> 3 | F69: ='ALCANCE 2'!F44 -> 49206 | G69: ='ALCANCE 2'!G44 -> 147618 | H69: =IFERROR(G69/$G$107,0) -> 0.00099482538 | I69: =+G69*'Presupuesto Convenio'!$B$137 -> 147618 | K69: =+G69*'Presupuesto Convenio'!$B$138 -> 0 | M69: =G69-SUM(I69:L69) -> 0 | O69: =+I69 -> 147618 | T69: =I69-SUM(N69:S69) -> 0
A70: ='ALCANCE 2'!A45 -> Talleristas de capacitación (Actividad 2.1) | D70: ='ALCANCE 2'!D45 -> Global | E70: ='ALCANCE 2'!E45 -> 1 | F70: ='ALCANCE 2'!F45 -> 1200000 | G70: ='ALCANCE 2'!G45 -> 1200000 | H70: =IFERROR(G70/$G$107,0) -> 0.008087025 | I70: =+G70*'Presupuesto Convenio'!$B$137 -> 1200000 | K70: =+G70*'Presupuesto Convenio'!$B$138 -> 0 | M70: =G70-SUM(I70:L70) -> 0 | O70: =+I70 -> 1200000 | T70: =I70-SUM(N70:S70) -> 0
A71: ='ALCANCE 2'!A46 -> Puntos ecológicos vaciados en plástico reciclado con techo (Actividad 2.3) | D71: ='ALCANCE 2'!D46 -> Unidad | E71: ='ALCANCE 2'!E46 -> 18 | F71: ='ALCANCE 2'!F46 -> 1648891.7 | G71: ='ALCANCE 2'!G46 -> 29680050 | H71: =IFERROR(G71/$G$107,0) -> 0.20001942 | I71: =+G71*'Presupuesto Convenio'!$B$137 -> 29680050 | K71: =+G71*'Presupuesto Convenio'!$B$138 -> 0 | M71: =G71-SUM(I71:L71) -> 0 | O71: =+I71 -> 29680050 | T71: =I71-SUM(N71:S71) -> 0
A72: ='ALCANCE 2'!A47 -> Composteras agrícolas de 1 m³ con techo (Actividad 2.4) | D72: ='ALCANCE 2'!D47 -> Unidad | E72: ='ALCANCE 2'!E47 -> 26 | F72: ='ALCANCE 2'!F47 -> 1611435.3 | G72: ='ALCANCE 2'!G47 -> 41897319 | H72: =IFERROR(G72/$G$107,0) -> 0.28235389 | I72: =+G72*'Presupuesto Convenio'!$B$137 -> 41897319 | K72: =+G72*'Presupuesto Convenio'!$B$138 -> 0 | M72: =G72-SUM(I72:L72) -> 0 | O72: =+I72 -> 41897319 | T72: =I72-SUM(N72:S72) -> 0
A73: ='ALCANCE 2'!A48 -> Centro de acopio de material aprovechable en 16 m² (Actividad 2.6) | D73: ='ALCANCE 2'!D48 -> Unidad | E73: ='ALCANCE 2'!E48 -> 2 | F73: ='ALCANCE 2'!F48 -> 18445418 | G73: ='ALCANCE 2'!G48 -> 36890835 | H73: =IFERROR(G73/$G$107,0) -> 0.24861425 | I73: =+G73*'Presupuesto Convenio'!$B$137 -> 36890835 | K73: =+G73*'Presupuesto Convenio'!$B$138 -> 0 | M73: =G73-SUM(I73:L73) -> 0 | O73: =+I73 -> 36890835 | T73: =I73-SUM(N73:S73) -> 0
...

Sheet Memoria de cálculo O2
B1: =Instructivo!F1 -> Sistema de Gestión Integral (SGI) Instructivo - Componente Financiero EP Código: F-PGC-21. Versión: 05 | H1: Instructivo
B2: Hoja "Memoria de cálculo - opción 2"
A5: MODALIDAD DE CONTRATACIÓN: | F5: ='Plan Ejecución'!J4 -> Convenio Interadministrativo
A6: OBJETO A CONTRATAR: | F6: ='Plan Ejecución'!J5 -> Aunar esfuerzos para ejecutar acciones enfocadas al apoyo del PGIRS mediante acciones y estrategias enfocadas en la gestión, el aprovechamiento y la economía circular, en el municipio de Concordia
A8: PROCESO/ ALCANCE / ACTIVIDAD:
A9: UNIDAD DE MEDIDA PARA EL PRECIO UNITARIO:
A10: ESPECIFICACIÓN TÉCNICA PARA EL PRECIO UNITARIO:
A12: DISCRIMINACIÓN DE COSTOS | H12: FUENTES DE COFINANCIACIÓN
H13: CORANTIOQUIA | J13: Entidad 1:
A14: Ítem | B14: Cantidad personal | C14: (%) Dedicación | D14: Unidad de medida | E14: Cantidad | F14: Valor unitario base | G14: Valor total | H14: DINERO | I14: ESPECIE | J14: DINERO | K14: ESPECIE
A15: COSTOS DE PERSONAL
G16: =B16*C16*E16*F16 -> 0
G17: =B17*C17*E17*F17 -> 0
G18: =B18*C18*E18*F18 -> 0
G19: =B19*C19*E19*F19 -> 0
G20: =B20*C20*E20*F20 -> 0
G21: =B21*C21*E21*F21 -> 0
G22: =B22*C22*E22*F22 -> 0
G23: =B23*C23*E23*F23 -> 0
G24: =B24*C24*E24*F24 -> 0
G25: =B25*C25*E25*F25 -> 0
G26: =B26*C26*E26*F26 -> 0
G27: =B27*C27*E27*F27 -> 0
... G40: =B40*C40*E40*F40 -> 0
A41: SUBTOTAL COSTOS DE PERSONAL | G41: =SUM(G16:G40) -> 0 | H41: =SUM(H16:H40) -> 0 | I41: =SUM(I16:I40) -> 0 | J41: =SUM(J16:J40) -> 0 | K41: =SUM(K16:K40) -> 0
A42: Ítem | D42: Unidad de medida | E42: Cantidad | F42: Valor unitario | G42: Valor total oferente | H42: DINERO | I42: ESPECIE | J42: DINERO | K42: ESPECIE
A43: COSTOS DE MATERIALES Y SUMINISTROS
G44: =E44*F44 -> 0
G45: =E45*F45 -> 0
G46: =E46*F46 -> 0
G47: =E47*F47 -> 0
G48: =E48*F48 -> 0
G49: =E49*F49 -> 0
G50: =E50*F50 -> 0
G51: =E51*F51 -> 0
G52: =E52*F52 -> 0
G53: =E53*F53 -> 0
G54: =E54*F54 -> 0
G55: =E55*F55 -> 0
... G119: =E119*F119 -> 0
...

Sheet ALCANCE 1
B1: =Instructivo!F1 -> Sistema de Gestión Integral (SGI) Instructivo - Componente Financiero EP Código: F-PGC-21. Versión: 05 | H1: Instructivo
B2: Hoja "Memoria de cálculo - opción 2"
A5: MODALIDAD DE CONTRATACIÓN: | F5: ='Plan Ejecución'!J4 -> Convenio Interadministrativo
A6: OBJETO A CONTRATAR: | F6: ='Plan Ejecución'!J5 -> Aunar esfuerzos para ejecutar acciones enfocadas al apoyo del PGIRS mediante acciones y estrategias enfocadas en la gestión, el aprovechamiento y la economía circular, en el municipio de Concordia
A8: PROCESO/ ALCANCE / ACTIVIDAD: Alcance 1. Ejecución de acciones tendientes a promover la gestión de los residuos peligrosos y especiales por parte de generadores (Actividad 1.1. Censo y clasificación de establecimientos generadores de residuos peligrosos, y Actividad 1.2. Capacitación a representantes de los establecimientos generadores de residuos peligrosos).
A9: UNIDAD DE MEDIDA PARA EL PRECIO UNITARIO:
A10: ESPECIFICACIÓN TÉCNICA PARA EL PRECIO UNITARIO:
A12: DISCRIMINACIÓN DE COSTOS | H12: FUENTES DE COFINANCIACIÓN
H13: CORANTIOQUIA | J13: Entidad 1:
A14: Ítem | B14: Cantidad personal | C14: (%) Dedicación | D14: Unidad de medida | E14: Cantidad | F14: Valor unitario base | G14: Valor total | H14: DINERO | I14: ESPECIE | J14: DINERO | K14: ESPECIE
A15: COSTOS DE PERSONAL
A16: Tecnólogo ambiental (50% dedicación - Alcance 1) | B16: 1 | C16: 0.5 | D16: Mes | E16: 2.5 | F16: =+Honorarios!B11 -> 4824450 | G16: =B16*C16*E16*F16 -> 6030562.5 | H16: =+G16*'Presupuesto Convenio'!$B$137 -> 6030562.5 | J16: =+G16*'Presupuesto Convenio'!$B$138 -> 0
A17: Asistencial / Promotor ambiental (50% dedicación - Alcance 1) | B17: 2 | C17: 0.5 | D17: Mes | E17: 2.5 | F17: =+Honorarios!B8 -> 3000000 | G17: =B17*C17*E17*F17 -> 7500000 | H17: =+G17*'Presupuesto Convenio'!$B$137 -> 7500000 | J17: =+G17*'Presupuesto Convenio'!$B$138 -> 0
A18: Tecnólogo ambiental o afín (aporte en especie - Municipio, contrato de prestación de servicios 36 de 2026) | B18: 1 | C18: 0.5 | D18: Mes | E18: 2.5 | F18: 3200000 | G18: =B18*C18*E18*F18 -> 4000000 | H18: 0 | I18: 0 | J18: 0 | K18: =+G18 -> 4000000
G19: =B19*C19*E19*F19 -> 0
G20: =B20*C20*E20*F20 -> 0
G21: =B21*C21*E21*F21 -> 0
G22: =B22*C22*E22*F22 -> 0
G23: =B23*C23*E23*F23 -> 0
G24: =B24*C24*E24*F24 -> 0
G25: =B25*C25*E25*F25 -> 0
G26: =B26*C26*E26*F26 -> 0
G27: =B27*C27*E27*F27 -> 0
G28: =B28*C28*E28*F28 -> 0
G29: =B29*C29*E29*F29 -> 0
G30: =B30*C30*E30*F30 -> 0
... G37: =B37*C37*E37*F37 -> 0
A38: SUBTOTAL COSTOS DE PERSONAL | G38: =SUM(G16:G37) -> 17530562 | H38: =SUM(H16:H37) -> 13530562 | I38: =SUM(I16:I37) -> 0 | J38: =SUM(J16:J37) -> 0 | K38: =SUM(K16:K37) -> 4000000
A39: Ítem | D39: Unidad de medida | E39: Cantidad | F39: Valor unitario | G39: Valor total oferente | H39: DINERO | I39: ESPECIE | J39: DINERO | K39: ESPECIE
A40: COSTOS DE MATERIALES Y SUMINISTROS
A41: Refrigerios - Actividad 1.2 (1 jornada x 20) | D41: Unidad | E41: 20 | F41: =Alimentación!B24 -> 12000 | G41: =E41*F41 -> 240000 | H41: =+G41*'Presupuesto Convenio'!$B$137 -> 240000 | J41: =+G41*'Presupuesto Convenio'!$B$138 -> 0
A42: Dotación equipo de trabajo: camiseta tipo polo (100% - Alcance 1) | D42: Unidad | E42: ='Estudio de mercado'!C15 -> 4 | F42: =+'Estudio de mercado'!R15 -> 64849 | G42: =E42*F42 -> 259396 | H42: =+G42*'Presupuesto Convenio'!$B$137 -> 259396 | J42: =+G42*'Presupuesto Convenio'!$B$138 -> 0
A43: Dotación equipo de trabajo: gorra frente sua (100% - Alcance 1) | D43: Unidad | E43: ='Estudio de mercado'!C16 -> 4 | F43: =+'Estudio de mercado'!R16 -> 43041.243 | G43: =ROUND(E43*F43,0) -> 172165 | H43: =+G43*'Presupuesto Convenio'!$B$137 -> 172165 | J43: =+G43*'Presupuesto Convenio'!$B$138 -> 0
A44: SUBTOTAL COSTOS DE MATERIALES Y SUMINISTROS | G44: =SUM(G41:G43) -> 671561 | H44: =SUM(H41:H43) -> 671561 | I44: =SUM(I41:I43) -> 0 | J44: =SUM(J41:J43) -> 0 | K44: =SUM(K41:K43) -> 0
A46: ¿ES UN CONTRATO O REQUIERE CONTRATO DERIVADO? | G46: No
A47: =IF(G46="Si","SUBTOTAL (antes de AU e IVA)", "SUBTOTAL (antes de administración)") -> SUBTOTAL (antes de administración) | G47: =G38+G44 -> 18202124 | H47: =H38+H44 -> 14202124 | I47: =I38+I44 -> 0 | J47: =J38+J44 -> 0 | K47: =K38+K44 -> 4000000
A48: =IF(G46="Si","Administración","Gastos de administración") -> Gastos de administración | F48: 0 | G48: =G47*F48 -> 0 | L48: Gastos de administración
A49: =IF(G46="Si","Utilidad","") | G49: =G47*F49 -> 0
A50: =IF(G46="Si","IVA","") | G50: =F50*(G47+G48+G49) -> 0 | L50: Info IVA
A51: =IF(G46="Si","TOTAL (incluido AU e IVA)", "TOTAL (incluido administración)") -> TOTAL (incluido administración) | G51: =SUM(G47:G50) -> 18202124 | H51: =SUM(H47:H50) -> 14202124 | I51: =SUM(I47:I50) -> 0 | J51: =SUM(J47:J50) -> 0 | K51: =SUM(K47:K50) -> 4000000
...

Sheet ALCANCE 2
B1: =Instructivo!F1 -> Sistema de Gestión Integral (SGI) Instructivo - Componente Financiero EP Código: F-PGC-21. Versión: 05 | H1: Instructivo
B2: Hoja "Memoria de cálculo - opción 2"
A5: MODALIDAD DE CONTRATACIÓN: | F5: ='Plan Ejecución'!J4 -> Convenio Interadministrativo
A6: OBJETO A CONTRATAR: | F6: ='Plan Ejecución'!J5 -> Aunar esfuerzos para ejecutar acciones enfocadas al apoyo del PGIRS mediante acciones y estrategias enfocadas en la gestión, el aprovechamiento y la economía circular, en el municipio de Concordia
A8: PROCESO/ ALCANCE / ACTIVIDAD: Alcance 2. Promoción del aprovechamiento de residuos sólidos y la economía circular (Actividades 2.1 Formación a recicladores de oficio, 2.2 Dotación a recicladores, 2.3 Entrega de suministros para promover la separación en la fuente y la ruta selectiva de materiales aprovechables, 2.4 Tratamiento de residuos orgánicos, 2.5 Acciones de educación ambiental y comunicacionales, 2.6 Suministro de centros de acopio de material aprovechable, y 2.7 Suministro de equipo de apoyo logístico para la ruta selectiva de residuos aprovechables.
A9: UNIDAD DE MEDIDA PARA EL PRECIO UNITARIO:
A10: ESPECIFICACIÓN TÉCNICA PARA EL PRECIO UNITARIO:
A12: DISCRIMINACIÓN DE COSTOS | H12: FUENTES DE COFINANCIACIÓN
H13: CORANTIOQUIA | J13: Entidad 1:
A14: Ítem | B14: Cantidad personal | C14: (%) Dedicación | D14: Unidad de medida | E14: Cantidad | F14: Valor unitario base | G14: Valor total | H14: DINERO | I14: ESPECIE | J14: DINERO | K14: ESPECIE
A15: COSTOS DE PERSONAL
A16: Tecnólogo ambiental (50% dedicación - Alcance 2) | B16: 1 | C16: 0.5 | D16: Mes | E16: 2.5 | F16: =+Honorarios!B11 -> 4824450 | G16: =B16*C16*E16*F16 -> 6030562.5 | H16: =+G16*'Presupuesto Convenio'!$B$137 -> 6030562.5 | J16: =+G16*'Presupuesto Convenio'!$B$138 -> 0
A17: Asistencial / Promotor ambiental (50% dedicación - Alcance 2) | B17: 2 | C17: 0.5 | D17: Mes | E17: 2.5 | F17: =+Honorarios!B8 -> 3000000 | G17: =B17*C17*E17*F17 -> 7500000 | H17: =+G17*'Presupuesto Convenio'!$B$137 -> 7500000 | J17: =+G17*'Presupuesto Convenio'!$B$138 -> 0
A18: Tecnólogo ambiental o afín (aporte en especie - Municipio, contrato de prestación de servicios 36 de 2026) | B18: 1 | C18: 0.5 | D18: Mes | E18: 2.5 | F18: 3200000 | G18: =B18*C18*E18*F18 -> 4000000 | H18: 0 | I18: 0 | J18: 0 | K18: =+G18 -> 4000000
G19: =B19*C19*E19*F19 -> 0
G20: =B20*C20*E20*F20 -> 0
G21: =B21*C21*E21*F21 -> 0
G22: =B22*C22*E22*F22 -> 0
G23: =B23*C23*E23*F23 -> 0
G24: =B24*C24*E24*F24 -> 0
G25: =B25*C25*E25*F25 -> 0
G26: =B26*C26*E26*F26 -> 0
G27: =B27*C27*E27*F27 -> 0
G28: =B28*C28*E28*F28 -> 0
G29: =B29*C29*E29*F29 -> 0
G30: =B30*C30*E30*F30 -> 0
... G37: =B37*C37*E37*F37 -> 0
A38: SUBTOTAL COSTOS DE PERSONAL | G38: =SUM(G16:G37) -> 17530562 | H38: =SUM(H16:H37) -> 13530562 | I38: =SUM(I16:I37) -> 0 | J38: =SUM(J16:J37) -> 0 | K38: =SUM(K16:K37) -> 4000000
A39: Ítem | D39: Unidad de medida | E39: Cantidad | F39: Valor unitario | G39: Valor total oferente | H39: DINERO | I39: ESPECIE | J39: DINERO | K39: ESPECIE
A40: COSTOS DE MATERIALES Y SUMINISTROS
A41: Refrigerios - Actividad 2.1 (2 talleres x 10) | D41: Unidad | E41: 20 | F41: =Alimentación!B24 -> 12000 | G41: =E41*F41 -> 240000 | H41: =+G41*'Presupuesto Convenio'!$B$137 -> 240000 | J41: =+G41*'Presupuesto Convenio'!$B$138 -> 0
A42: Refrigerios - Actividad 2.5 (17 encuentros x 20) | D42: Unidad | E42: 340 | F42: =Alimentación!B24 -> 12000 | G42: =E42*F42 -> 4080000 | H42: =+G42*'Presupuesto Convenio'!$B$137 -> 4080000 | J42: =+G42*'Presupuesto Convenio'!$B$138 -> 0
A43: Dotación recicladores: camibuso (100% - Alcance 2) | D43: Unidad | E43: ='Estudio de mercado'!C17 -> 3 | F43: =+'Estudio de mercado'!R17 -> 72383.5 | G43: =ROUND(E43*F43,0) -> 217151 | H43: =+G43*'Presupuesto Convenio'!$B$137 -> 217151 | J43: =+G43*'Presupuesto Convenio'!$B$138 -> 0
A44: Dotación recicladores: gorra tipo PAVA (100% - Alcance 2) | D44: Unidad | E44: ='Estudio de mercado'!C18 -> 3 | F44: =+'Estudio de mercado'!R18 -> 49206 | G44: =E44*F44 -> 147618 | H44: =+G44*'Presupuesto Convenio'!$B$137 -> 147618 | J44: =+G44*'Presupuesto Convenio'!$B$138 -> 0
A45: Talleristas de capacitación (Actividad 2.1) | D45: Global | E45: 1 | F45: =('Estudio de mercado'!R28*'Estudio de mercado'!C28) -> 1200000 | G45: =E45*F45 -> 1200000 | H45: =+G45*'Presupuesto Convenio'!$B$137 -> 1200000 | J45: =+G45*'Presupuesto Convenio'!$B$138 -> 0
A46: Puntos ecológicos vaciados en plástico reciclado con techo (Actividad 2.3) | D46: Unidad | E46: 18 | F46: ='Estudio de mercado'!R12 -> 1648891.7 | G46: =E46*F46 -> 29680050 | H46: =+G46*'Presupuesto Convenio'!$B$137 -> 29680050 | J46: =+G46*'Presupuesto Convenio'!$B$138 -> 0
A47: Composteras agrícolas de 1 m³ con techo (Actividad 2.4) | D47: Unidad | E47: 26 | F47: ='Estudio de mercado'!R13 -> 1611435.3 | G47: =ROUND(E47*F47,0) -> 41897319 | H47: =+G47*'Presupuesto Convenio'!$B$137 -> 41897319 | J47: =+G47*'Presupuesto Convenio'!$B$138 -> 0
A48: Centro de acopio de material aprovechable en 16 m² (Actividad 2.6) | D48: Unidad | E48: 2 | F48: ='Estudio de mercado'!R14 -> 18445418 | G48: =ROUND(E48*F48,0) -> 36890835 | H48: =+G48*'Presupuesto Convenio'!$B$137 -> 36890835 | J48: =+G48*'Presupuesto Convenio'!$B$138 -> 0
A49: Motocarguera para apoyo a la ruta selectiva de residuos aprovechables (Actividad 2.7) | D49: Unidad | E49: 1 | F49: ='Estudio de mercado'!R19 -> 25468808 | G49: =E49*F49 -> 25468808 | H49: 0 | J49: =+G49 -> 25468808
A50: Transporte de personal a la vereda El Socorro (1 persona por viaje, ida, espera y regreso; 3 viajes del tecnólogo agroambiental y 3 viajes del tecnólogo aportado en especie por el municipio) - Actividades 2.3, 2.4 y 2.6 | D50: Viaje | E50: 10 | F50: ='Estudio de mercado'!R20 -> 120000 | G50: =E50*F50 -> 1200000 | H50: =+G50*'Presupuesto Convenio'!$B$137 -> 1200000 | J50: =+G50*'Presupuesto Convenio'!$B$138 -> 0
...

Sheet Estudio de mercado
E1: =Instructivo!F1 -> Sistema de Gestión Integral (SGI) Instructivo - Componente Financiero EP Código: F-PGC-21. Versión: 05
E2: Hoja "Estudio de mercado"
A5: MODALIDAD DE CONTRATACIÓN: | D5: ='Plan Ejecución'!J4 -> Convenio Interadministrativo
A6: OBJETO A CONTRATAR: | D6: ='Plan Ejecución'!J5 -> Aunar esfuerzos para ejecutar acciones enfocadas al apoyo del PGIRS mediante acciones y estrategias enfocadas en la gestión, el aprovechamiento y la economía circular, en el municipio de Concordia
D8: 1 | E8: 2 | F8: 3 | G8: 4 | H8: 5 | I8: 6 | J8: 7 | K8: 8 | L8: 9 | M8: 10 | N8: 11 | O8: 12 | P8: 13 | Q8: 14
A9: NÚMERO DE RADICADO: | D9: 110-COE2609-35719 | E9: 110-COE2408-30417 | F9: 110-COE2608-34401 | G9: 110-COE2609-36037 | H9: 110-COE2608-33045 | I9: 110-COE2609-35421 | J9: 110-COE2609-37152 | K9: 110-COE2609-35473 | L9: 110-COE2609-37089 | M9: 110-COE2609-38613 | N9: 110-COE2610-41260 | O9: 110-COE2609-38184 | P9: 110-COE2609-37944 | Q9: 180-COE2609-36504
A10: PROVEEDOR: | D10: PPROYECPLAST | E10: CONSTRUIR ECOVIDA | F10: AMBIENPLAST | G10: P&G Medios | H10: SANTIAGO PROMOCIONALES Y TEXTILES CORPORATIVOS | I10: Bonna Inversiones S.A.S | J10: DISMERCA S.A.S | K10: SUPERMOTOSCAR S.A.S. | L10: Jorge Elieser Agudelo | M10: Municipio de Concordia | N10: Municipio de Concordia | O10: Grúas Express | P10: PPROYECPLAST | Q10: Areciclar
A11: Ítem | B11: Unidad de medida | C11: Cantidad | D11: Valor unitario después de IVA | E11: Valor unitario después de IVA | F11: Valor unitario después de IVA | G11: Valor unitario después de IVA | H11: Valor unitario después de IVA | I11: Valor unitario después de IVA | J11: Valor unitario después de IVA | K11: Valor unitario después de IVA | L11: Valor unitario después de IVA | M11: Valor unitario después de IVA | N11: Valor unitario después de IVA | O11: Valor unitario después de IVA | P11: Valor unitario después de IVA | Q11: Valor unitario después de IVA | R11: PROMEDIO Valor unitario después de IVA | T11: MEDIANA Valor unitario después de IVA
A12: Punto ecológico vaciado en plástico reciclado con 3 compartimentos y techo (IVA incluido en cotización original) | B12: Unidad | C12: 15 | D12: 1573775 | E12: 1677900 | F12: 1695000 | R12: =IFERROR(AVERAGEIF(D12:Q12,">0",D12:Q12),"") -> 1648891.7 | T12: =IFERROR(MEDIAN(D12:Q12),"") -> 1677900
A13: Compostera agrícola capacidad 1 m³ con techo (exenta de IVA) | B13: Unidad | C13: 26 | D13: 1828402 | E13: 1579014 | F13: 1426890 | R13: =IFERROR(AVERAGEIF(D13:Q13,">0",D13:Q13),"") -> 1611435.3 | T13: =IFERROR(MEDIAN(D13:Q13),"") -> 1579014
A14: Centro de acopio de material aprovechable en 16 m² (IVA incluido en cotización original) | B14: Unidad | C14: 2 | D14: 17963253 | E14: 18674000 | F14: 18699000 | R14: =IFERROR(AVERAGEIF(D14:Q14,">0",D14:Q14),"") -> 18445418 | T14: =IFERROR(MEDIAN(D14:Q14),"") -> 18674000
A15: Camiseta tipo polo (dotación equipo de trabajo) | B15: Unidad | C15: 4 | G15: 76440 | H15: =45200+(45200*0.19) -> 53788 | P15: 64319 | R15: =IFERROR(AVERAGEIF(D15:Q15,">0",D15:Q15),"") -> 64849 | T15: =IFERROR(MEDIAN(D15:Q15),"") -> 64319
A16: Gorra frente sua (dotación equipo de trabajo) | B16: Unidad | C16: 4 | D16: 43316 | G16: 44316 | H16: =34867+(34867*0.19) -> 41491.73 | R16: =IFERROR(AVERAGEIF(D16:Q16,">0",D16:Q16),"") -> 43041.243 | T16: =IFERROR(MEDIAN(D16:Q16),"") -> 43316
A17: Camibuso (dotación a recicladores - Actividad 2.2) | B17: Unidad | C17: 3 | G17: 64680 | P17: 80087 | R17: =IFERROR(AVERAGEIF(D17:Q17,">0",D17:Q17),"") -> 72383.5 | T17: =IFERROR(MEDIAN(D17:Q17),"") -> 72383.5
A18: Gorra tipo PAVA (dotación a recicladores - Actividad 2.2) | B18: Unidad | C18: 3 | D18: 37652 | G18: 60760 | R18: =IFERROR(AVERAGEIF(D18:Q18,">0",D18:Q18),"") -> 49206 | T18: =IFERROR(MEDIAN(D18:Q18),"") -> 49206
A19: Motocarguera (ceronte tricargo 200), matrícula incluida (IVA incluido) | B19: Unidad | C19: 1 | I19: 26197175 | J19: 25809250 | K19: 24400000 | R19: =IFERROR(AVERAGEIF(D19:Q19,">0",D19:Q19),"") -> 25468808 | T19: =IFERROR(MEDIAN(D19:Q19),"") -> 25809250
A20: Transporte de personal (1 persona por viaje) a la vereda El Socorro (ida, espera y regreso) | B20: Viaje | C20: 1 | L20: 120000 | R20: =IFERROR(AVERAGEIF(D20:Q20,">0",D20:Q20),"") -> 120000 | T20: =IFERROR(MEDIAN(D20:Q20),"") -> 120000
A21: Transporte de personal (1 persona por viaje) a la vereda La Arboleda (ida, espera y regreso) | B21: Viaje | C21: 1 | L21: 120000 | R21: =IFERROR(AVERAGEIF(D21:Q21,">0",D21:Q21),"") -> 120000 | T21: =IFERROR(MEDIAN(D21:Q21),"") -> 120000
A22: Transporte de personal (1 persona por viaje) a la vereda Morelia (ida, espera y regreso) | B22: Viaje | C22: 1 | L22: 80000 | R22: =IFERROR(AVERAGEIF(D22:Q22,">0",D22:Q22),"") -> 80000 | T22: =IFERROR(MEDIAN(D22:Q22),"") -> 80000
A23: Transporte de suministros a la vereda El Socorro | B23: Viaje | C23: 1 | M23: 400000 | R23: =IFERROR(AVERAGEIF(D23:Q23,">0",D23:Q23),"") -> 400000 | T23: =IFERROR(MEDIAN(D23:Q23),"") -> 400000
A24: Transporte de suministros a la vereda La Arboleda | B24: Viaje | C24: 1 | M24: 400000 | R24: =IFERROR(AVERAGEIF(D24:Q24,">0",D24:Q24),"") -> 400000 | T24: =IFERROR(MEDIAN(D24:Q24),"") -> 400000
A25: Transporte de suministros a la vereda Morelia | B25: Viaje | C25: 1 | M25: 320000 | R25: =IFERROR(AVERAGEIF(D25:Q25,">0",D25:Q25),"") -> 320000 | T25: =IFERROR(MEDIAN(D25:Q25),"") -> 320000
A26: Kit de papelería (material de apoyo para actividades de capacitación, formación y educación ambiental) | B26: Global | C26: 1 | N26: 2942498 | R26: =IFERROR(AVERAGEIF(D26:Q26,">0",D26:Q26),"") -> 2942498 | T26: =IFERROR(MEDIAN(D26:Q26),"") -> 2949525
A27: Transporte de la motocarguera al lugar de ejecución del convenio | B27: Global | C27: 1 | O27: 950000 | R27: =IFERROR(AVERAGEIF(D27:Q27,">0",D27:Q27),"") -> 950000 | T27: =IFERROR(MEDIAN(D27:Q27),"") -> 950000
A28: Tallerista: Todo costo incluye: Tallerista profesional social o administrativo con experiencia en trabajo social con organizaciones de recicladores (4 horas tallerista), viáticos (desplazamiento, pernoctada y alimentación) | B28: Unidad | C28: 2 | Q28: 600000 | R28: =IFERROR(AVERAGEIF(D28:Q28,">0",D28:Q28),"") -> 600000 | T28: =IFERROR(MEDIAN(D28:Q28),"") -> 600000
A29: NOTA: A la hora de solicitar la cotización se deberá considerar que la misma esté expresada en los términos y unidades del presupuesto, igualmente, que en la medida de lo posible se encuentre en pesos colombianos, en caso de usar otra moneda explicitar la tasa de cambio utilizada, y la fecha y fuente de consulta de la misma.

Sheet Gastos de adm
E1: =Instructivo!F1 -> Sistema de Gestión Integral (SGI) Instructivo - Componente Financiero EP Código: F-PGC-21. Versión: 05 | J1: Instructivo
E2: Hoja "Determinación de gastos de administración" | J2: Impuestos y garantías
A5: MODALIDAD DE CONTRATACIÓN: | B5: ='Plan Ejecución'!J4 -> Convenio Interadministrativo
A6: OBJETO A CONTRATAR: | B6: ='Plan Ejecución'!J5 -> Aunar esfuerzos para ejecutar acciones enfocadas al apoyo del PGIRS mediante acciones y estrategias enfocadas en la gestión, el aprovechamiento y la economía circular, en el municipio de Concordia
A8: COSTOS DIRECTOS EN DINERO NO EJECUTOR | B8: ='Presupuesto Convenio'!G116 -> 1.8344697e+08 | D8: MESES | E8: 2,5
A10: GASTOS DE ADMINISTRACIÓN
A11: Ítem | B11: Unidad de medida | C11: Cantidad | D11: Valor unitario | E11: Valor total | F11: (%) PP
E12: =C12*D12 -> 0 | F12: =IFERROR(E12/$B$8,0) -> 0
E13: =C13*D13 -> 0 | F13: =IFERROR(E13/$B$8,0) -> 0
E14: =C14*D14 -> 0 | F14: =IFERROR(E14/$B$8,0) -> 0
E15: =C15*D15 -> 0 | F15: =IFERROR(E15/$B$8,0) -> 0
E16: =C16*D16 -> 0 | F16: =IFERROR(E16/$B$8,0) -> 0
E17: =C17*D17 -> 0 | F17: =IFERROR(E17/$B$8,0) -> 0
E18: =C18*D18 -> 0 | F18: =IFERROR(E18/$B$8,0) -> 0
E19: =C19*D19 -> 0 | F19: =IFERROR(E19/$B$8,0) -> 0
E20: =C20*D20 -> 0 | F20: =IFERROR(E20/$B$8,0) -> 0
E21: =C21*D21 -> 0 | F21: =IFERROR(E21/$B$8,0) -> 0
E22: =C22*D22 -> 0 | F22: =IFERROR(E22/$B$8,0) -> 0
E23: =C23*D23 -> 0 | F23: =IFERROR(E23/$B$8,0) -> 0
... E59: =C59*D59 -> 0 | F59: =IFERROR(E59/$B$8,0) -> 0
A60: TOTAL GASTOS DE ADMINISTRACIÓN | E60: =SUM(E12:E59) -> 0 | F60: =SUM(F12:F59) -> 0
A62: En caso de convenios, si el conveniante ejecutor va a realizar un contrato derivado, considerar para el análisis:
A63: TOTAL APORTES EN DINERO NO EJECUTOR (antes de AU e IVA) | E63: =B8 -> 1.8344697e+08
A64: Administración(13%) | D64: 0 | E64: =D64*E63 -> 0
A65: Utilidad | D65: 0 | E65: =E63*D65 -> 0
A66: IVA | D66: 0 | E66: =(E63+E64+E65)*D66 -> 0 | F66: Info IVA
A67: TOTAL (incluido AU e IVA) | E67: =SUM(E63:E66) -> 1.8344697e+08
A69: TOTAL Porcentaje de gastos de administración a reconocer por análisis de contrato derivado (Sobre los costos directos en dinero del no ejecutor) | E69: =E64+E65+E66 -> 0 | F69: =IFERROR(E69/E63,0) -> 0

Sheet Gtos DyM
B1: =Instructivo!F1 -> Sistema de Gestión Integral (SGI) Instructivo - Componente Financiero EP Código: F-PGC-21. Versión: 05
B2: Hoja "Valores de gastos de desplazamiento y manutención"
A5: AÑO VIGENTE: | B5: =Honorarios!B4 -> 2025
A6: MEMORANDO: | B6: 190-MEM2505-3559
A8: Cuatro N.1 Gastos de desplazamiento y manutención por municipio
A9: Municipio | B9: Valor total desplazamiento | C9: Valor total desplazamiento y manutención más de 4 horas sin pernocta | D9: Valor total desplazamiento y manutención con (1) una pernocta*
A10: Amaga | B10: 57000 | C10: 124000 | D10: 190000
A11: Amalfi | B11: 112000 | C11: 179000 | D11: 245000
A12: Andes | B12: 97000 | C12: 164000 | D12: 230000
A13: Angelópolis | B13: 57000 | C13: 124000 | D13: 190000
A14: Angostura | B14: 102000 | C14: 169000 | D14: 235000
A15: Anorí | B15: 137000 | C15: 204000 | D15: 270000
A16: Anzá | B16: 87000 | C16: 154000 | D16: 220000
A17: Armenia mantequilla | B17: 67000 | C17: 134000 | D17: 200000
A18: Barbosa | B18: 17000 | C18: 50000 | D18: N/A
A19: Bello | B19: 15000 | C19: 48000 | D19: N/A
A20: Belmira | B20: 67000 | C20: 134000 | D20: 200000
A21: Betania | B21: 107000 | C21: 174000 | D21: 240000
A22: Betulia | B22: 112000 | C22: 179000 | D22: 245000
A23: Briceño | B23: 112000 | C23: 179000 | D23: 245000
A24: Buriticá | B24: 92000 | C24: 159000 | D24: 225000
A25: Cáceres | B25: 233000 | C25: 300000 | D25: 366000
A26: Caicedo | B26: 112000 | C26: 179000 | D26: 245000
A27: Caldas | B27: 17000 | C27: 50000 | D27: 0
A28: Campamento | B28: 107000 | C28: 174000 | D28: 240000
A29: Caracolí | B29: 107000 | C29: 174000 | D29: 240000
A30: Caramanta | B30: 122000 | C30: 189000 | D30: 255000
A31: Carolina del Príncipe | B31: 92000 | C31: 159000 | D31: 225000
... A35: Concordia | B35: 92000 | C35: 159000 | D35: 225000
A36: Copacabana | B36: 17000 | C36: 50000 | D36: N/A
A37: Don Matías | B37: 52000 | C37: 119000 | D37: 185000
A38: Ebéjico | B38: 92000 | C38: 159000 | D38: 225000
A39: El Bagre | B39: 307000 | C39: 374000 | D39: 440000
A40: Entrerríos | B40: 72000 | C40: 139000 | D40: 205000
A41: Envigado | B41: 15000 | C41: 48000 | D41: 0
A42: Fredonia | B42: 72000 | C42: 139000 | D42: 205000
A43: Girardota | B43: 17000 | C43: 50000 | D43: N/A
A44: Gómez Plata | B44: 87000 | C44: 154000 | D44: 220000
A45: Guadalupe | B45: 97000 | C45: 164000 | D45: 230000
A46: Heliconia | B46: 87000 | C46: 154000 | D46: 220000
...

Sheet Honorarios
B1: =Instructivo!F1 -> Sistema de Gestión Integral (SGI) Instructivo - Componente Financiero EP Código: F-PGC-21. Versión: 05 | F1: Instructivo
B2: Hoja "Valores de honorarios (Prestadores de servicios)
A4: AÑO VIGENTE: | B4: 2025
A5: MEMORANDO: | B5: 190-MEM2512-8910
A7: Nivel Académico Requerido | B7: Valor mes Honorarios
A8: Asistencial | B8: 3000000
A9: Técnico | B9: 3752350
A10: Tecnólogo sin experiencia
A11: Tecnólogo | B11: 4824450
A12: Profesional | B12: 5463336
A13: Profesional especializado con experiencia | B13: 8034253
A14: Asesor o coordinador | B14: 9638479
A16: Nota
A17: El presente valor de los honorarios es el reconocido por la Corporación para la ejecución de sus contratos o convenios, cualquier cambio por parte del ejecutor en la modalidad de contratación de prestación de servicios a laboral será bajo cuenta y riesgo del este último y no podrá trasladar o solidarizar a la Corporación con la carga o gastos adicionales en los cuales incurra.

Sheet Jornal
E1: =Instructivo!F1 -> Sistema de Gestión Integral (SGI) Instructivo - Componente Financiero EP Código: F-PGC-21. Versión: 05 | J1: Instructivo
E2: Hoja "Valores de jornales"
A5: AÑO VIGENTE: | D5: 2025
A6: MEMORANDO: | D6: 190-MEM2503-2165
A7: SMMLVC: | D7: 1423500
A8: AUX TRANSPORTE MENSUAL: | D8: 200000
A10: DETERMINACIÓN DEL VALOR DEL JORNAL POR BASE
A11: Salario base en SMMLV | C11: 1 | D11: 1.25 | E11: 1.5 | F11: 1.75 | G11: 2 | H11: 3 | I11: 4 | J11: 5
A12: Salario base expresión monetaria | C12: =$D$7*C11 -> 1423500 | D12: =$D$7*D11 -> 1779375 | E12: =$D$7*E11 -> 2135250 | F12: =$D$7*F11 -> 2491125 | G12: =$D$7*G11 -> 2847000 | H12: =$D$7*H11 -> 4270500 | I12: =$D$7*I11 -> 5694000 | J12: =$D$7*J11 -> 7117500
A13: Total jornal diario a reconocer | C13: =C29/30 -> 82954.631 | D13: =D29/30 -> 101732.18 | E13: =E29/30 -> 120509.72 | F13: =F29/30 -> 139287.27 | G13: =G29/30 -> 158064.82 | H13: =H29/30 -> 225330.56 | I13: =I29/30 -> 300440.75 | J13: =J29/30 -> 375550.93
A14: Ítem | B14: Porcentaje | C14: Valor | D14: Valor | E14: Valor | F14: Valor | G14: Valor | H14: Valor | I14: Valor | J14: Valor
A15: Seguridad Social
A16: Salud (EPS) - Empleador | B16: 0.085 | C16: =$C$12*B16 -> 120997.5 | D16: =$D$12*B16 -> 151246.88 | E16: =$E$12*B16 -> 181496.25 | F16: =$F$12*B16 -> 211745.63 | G16: =$G$12*B16 -> 241995 | H16: =$H$12*B16 -> 362992.5 | I16: =$I$12*B16 -> 483990 | J16: =$J$12*B16 -> 604987.5
A17: Pensión - Empleador | B17: 0.12 | C17: =$C$12*B17 -> 170820 | D17: =$D$12*B17 -> 213525 | E17: =$E$12*B17 -> 256230 | F17: =$F$12*B17 -> 298935 | G17: =$G$12*B17 -> 341640 | H17: =$H$12*B17 -> 512460 | I17: =$I$12*B17 -> 683280 | J17: =$J$12*B17 -> 854100
A18: ARL - Riesgo V | B18: 0.0696 | C18: =$C$12*B18 -> 99075.6 | D18: =$D$12*B18 -> 123844.5 | E18: =$E$12*B18 -> 148613.4 | F18: =$F$12*B18 -> 173382.3 | G18: =$G$12*B18 -> 198151.2 | H18: =$H$12*B18 -> 297226.8 | I18: =$I$12*B18 -> 396302.4 | J18: =$J$12*B18 -> 495378
A19: Parafiscales
