Workbook
Name contratación: 'IDENTIFICACION Y ANALISIS'!$B$39:$B$43
Name ejecución: 'IDENTIFICACION Y ANALISIS'!$B$45:$B$66
Name OPCIONES: 'ASIGNACION Y TRATAMIENTO'!$B$50:$B$52
Name planeación: 'IDENTIFICACION Y ANALISIS'!$B$19:$B$29
Name selección: 'IDENTIFICACION Y ANALISIS'!$B$31:$B$37

Sheet CONTEXTO
C2: MATRIZ DE RIESGOS EN CONTRATACIÓN | F2: Código: GCO-GCI-F164 Versión: 02 Vigencia: 01 de diciembre de 2022 Caso HOLA: 280117
B6: ESTABLECER EL CONTEXTO
B7: El punto inicial es identificar el contexto en el cual interactúa la Entidad Estatal para conocer el ambiente social, económico y político, e identificar (i) sus propios Riesgos; (ii) los Riesgos comunes a sus Procesos de Contratación; y (iii) los Riesgos del Proceso de Contratación en particular. (Aplica igual para contratos interadministrativos) En este paso la Entidad Estatal debe identificar los aspectos que se mencionan a continuación y los posibles efectos adversos que estos pueden generar.
B8: Objeto del Proceso de Contratación: “Prestar los servicios para el diseño e implementación de acciones de fortalecimiento comunitario en gestión del riesgo de desastres y adaptación al cambio climático en la localidad de Puente Aranda, mediante el desarrollo de estrategias pedagógicas y escénicas en espacios públicos, y la dotación de elementos institucionales orientados a mejorar las capacidades locales de prevención, preparación y respuesta ante emergencias, en el marco del Proyecto de Inversión 2370 - Puente Aranda Alerta ante Emergencias”
B9: Partícipes del Proceso de Contratación: Agentes externos (Empresas prestadoras del servicio acorde con el objeto del contrato), agentes internos (Fondo de Desarrollo Local de Puente Aranda)
B10: Ciudadanía que se beneficia del Proceso de Contratación: Agentes internos (Fondo de Desarrollo Local de Puente Aranda) y comunidad de la Localidad de Puente Aranda
B11: Capacidad de la Entidad Estatal entendida como la disponibilidad de recursos y conocimientos para el Proceso de Contratación: La disponibilidad de la Entidad de sus recursos y el conocimiento de su equipo humano se refleja en los diferentes funcionarios que participarán en las diversas etapas del proceso de selección: participan las áreas que requieren los procesos de contratación (Etapa de Planeación), Dirección de Contratación, Comité Evaluador (Etapa de selección), Dirección de Contratación (Etapa de contratación) y la supervisión y apoyos a la misma (Etapa de Ejecución).
B12: Suficiencia del presupuesto oficial del Proceso de Contratación: El presupuesto definido dentro del plan de desarrollo local para el objeto del presente contrato es de $256.585.946
B13: Condiciones geográficas y de acceso del lugar en el cual se debe cumplir el objeto del Proceso de Contratación: Para la ejecución del objeto del contrato, este se desarrollará en los limites geográficos de la localidad de Puente Aranda
B14: Entorno socio ambiental: Existe aceptación por parte de la comunidad e interés en participar en dichas actividades.
B15: Condiciones políticas: Si aplican
B16: Factores Ambientales: El Estudio previo cuenta con las cláusulas ambientales y Fichas ambientales que debe cumplir el Contratista durante la ejecución.
B17: Sector del objeto del Proceso de Contratación y su mercado. El estudio de sector cuenta con el analisis de la oferta y demanda para el proceso contractual, encontrando una amplia oferta de empresas privadas y públicas que prestan el servio
... B19: Experiencia propia y de otras Entidades Estatales en Procesos de Contratación del mismo tipo: Como se referencia en el estudio del sector se encuentra definidos la contratación que ha realizado el Fondo de Desarrollo local de Puente Aranda, bajo el mismo tipo de contratación que se presenta en el actual

Sheet IDENTIFICACION Y ANALISIS
C2: MATRIZ DE RIESGOS DE CONTRATACIÓN | F2: Código: GCO-GCI-F164 Versión: 02 Vigencia: 01 de diciembre de 2022 Caso HOLA: 280117
B6: DEFINICIONES
B7: RIESGO: Evento que puede generar efectos adversos y de distinta magnitud en el logro de los objetivos del Proceso de Contratación o en la ejecución de un contrato RIESGOS PREVISIBLES: Son los posibles hechos o circunstancias que por la naturaleza del contrato y de la actividad a ejecutar es factible su ocurrencia. ETAPA DE PLANEACIÓN: Está comprendida desde el momento en que se identifican las necesidades que debe satisfacer la Secretaría Distrital de Gobierno y los Fondos de Desarrollo Local, a través del abastecimiento de bienes, obras o servicios, la elaboración del Plan Anual de Adquisiciones y la estructuración de los documentos y estudios previos. ETAPA DE SELECCIÓN: Está comprendida entre el acto de Apertura del Proceso de Contratación y la Adjudicación o la declaración de desierto del Proceso de Contratación ETAPA DE CONTRATACIÓN: Una vez adjudicado el contrato objeto del Proceso de Contratación, inicia la etapa para la celebración del contrato y el cumplimiento de los requisitos para de perfeccionamiento y ejecución. ETAPA DE EJECUCIÓN: Inicia una vez cumplidos los requisitos previstos para iniciar la ejecución del contrato respectivo y termina con el vencimiento del plazo del contrato o la fecha de liquidación si hay lugar a ella. RIESGO GENERAL: Es un riesgo de todos los procesos de contratación adelantados por la Entidad Estatal, por lo cual está presente en toda su actividad contractual. RIEGO ESPECIFICO: Es un riesgo propio del proceso de contratación objeto de análisis. RIESGOS ECONÓMICOS: Son los derivados del comportamiento del mercado, tales como la fluctuación de los precios de los insumos, desabastecimiento y especulación de los mismos, entre otros. RIESGOS SOCIALES O POLÍTICOS: son los derivados de los cambios de las políticas gubernamentales y de cambios en las condiciones sociales que tengan impacto en la ejecución del contrato. RIESGOS OPERACIONALES: Son los asociados a la operatividad del contrato, tales como la suficiencia del presupuesto oficial, del plazo o los derivados de procesos, procedimientos, parámetros, sistemas de información y tecnológicos, equipos humanos o técnicos inadecuados o insuficientes. RIESGOS FINANCIEROS: Son (i) el riesgo de consecución de financiación o riesgo de liquidez para obtener recursos para cumplir con el objeto del contrato, y (ii) el riesgo de las condiciones financieras establecidas para la obtención de los recursos, tales como plazos, tasas, garantías, contragarantías, y refinanciaciones, entre otros. RIESGOS REGULATORIOS: Derivados de cambios regulatorios o reglamentarios que afecten la ecuación económica del contrato. RIESGOS DE LA NATURALEZA: Son los eventos naturales previsibles en los cuales no hay intervención humana que puedan tener impacto en la ejecución del contrato, por ejemplo los temblores, inundaciones, lluvias, sequías, entre otros. RIESGOS AMBIENTALES: Son los derivados de las obligaciones legales o reglamentarias de carácter ambiental, así como de las licencias, planes de manejo o de permisos y autorizaciones ambientales, incluyendo tasas retributivas y compensatorias, obligaciones de mitigación, tareas de monitoreo y control, entre otras. RIESGOS TECNOLÓGICOS: Son los derivados de fallas en los sistemas de comunicación de voz y de datos, suspensión de servicios públicos, nuevos desarrollos tecnológicos o estándares que deben ser tenidos en cuenta para la ejecución del contrato, obsolescencia tecnológica.
B15: INSTRUCCIONES PARA LA IDENTIFICACIÓN, ANALISIS, EVALUACIÓN , ASIGNACIÓN Y TRATAMIENTO DE RIESGOS EN LA CONTRATACIÓN
B16: 1) Identifique los riesgos previsibles que le apliquen al objeto contractual que se adelante. Los relacionados a continuación se establecen de manera general y como proforma. No obstante, si del objeto contractual se identifican otros riesgos diferentes a los aquí determinados, por favor reemplace el texto de la casilla teniendo en cuenta la etapa del proceso. Así mismo, seleccione la clase, fuente y el tipo (Operacional, Económico, Sociales o Políticos, Regulatorios, Financieros, Tecnológicos, De la naturaleza, Ambientales) 2) Continúe en la hoja de "EVALUACIÓN" (SI EXISTEN DUDAS CONCEPTUALES PARA LA ELABORACIÓN DE LA MATRIZ DE RIESGO CONSULTE EL MANUAL PARA LA IDENTIFICACIÓN Y COBERTURA DEL RIESGO EN LOS PROCESOS DE CONTRATACIÓN EXPEDIDO POR COLOMBIA COMPRA EFICIENTE Y LA GUÍA DE RIESGOS PREVISIBLES CONTRACTUALES, EXPEDIDA POR LA VEEDURÍA DISTRITAL)
C17: ETAPAS | D17: CLASE | E17: FUENTE | F17: TIPO
C18: PLANEACIÓN
B19: Inadecuada escogencia de la modalidad de contratación | D19: Especifico | E19: Interno | F19: Operacionales
B20: Requisitos habilitantes inapropiados para el proceso de selección | D20: Especifico | E20: Interno | F20: Operacionales
B21: Inadecuado análisis económico estimativo del valor del contrato | D21: Especifico | E21: Interno | F21: Económicos
B22: Inadecuada descripción del bien o servicio requerido | D22: Especifico | E22: Interno | F22: Operacionales
B23: Inadecuada elaboración de estudios y diseños | D23: Especifico | E23: Interno | F23: Operacionales
B24: Requisitos habilitantes que impidan la selección objetiva | D24: Especifico | E24: Interno | F24: Operacionales
B25: Falta de profundidad en el estudio de sector no identificándose claramente aspectos de oferta y demanda | D25: Especifico | E25: Interno | F25: Económicos
B26: Ausencia de fundamentación de la justificación y conveniencia de la contratación | D26: Especifico | E26: Interno | F26: Operacionales
B27: Inadecuada identificación de las condiciones contractuales | D27: Especifico | E27: Interno | F27: Operacionales
B28: No aprobación o demoras en la expedición vigencias futuras | D28: General | E28: Interno | F28: Operacionales
B29: Apertura de procesos sin disponibilidad presupuestal | D29: General | E29: Interno | F29: Operacionales
C30: SELECCIÓN
B31: Inadecuada evaluación de las ofertas y/o verificación de requisitos habilitantes | D31: Especifico | E31: Interno | F31: Operacionales
B32: Inadecuado manejo administrativo del proceso contractual | D32: Especifico | E32: Interno | F32: Operacionales
B33: Falta de claridad en la elaboración de los actos administrativos | D33: Especifico | E33: Interno | F33: Operacionales
B34: Contestación inoportuna a todas las observaciones formuladas a los documentos de la contratación | D34: Especifico | E34: Interno | F34: Operacionales
B35: No publicación de la documentación del proceso de selección en el SECOP | D35: Especifico | E35: Interno | F35: Operacionales
B36: Confabulación de los proponentes (Colusión) | D36: Especifico | E36: Interno | F36: Operacionales
B37: Selección de ofertas con precios artificialmente bajos. | D37: Especifico | E37: Interno | F37: Operacionales
C38: CONTRATACIÓN
B39: Riesgo de que no se firme el contrato. | D39: Estatal | E39: Interno | F39: Operacionales
B40: Falta de constitución o constitución tardía de la garantía única. Aceptación de garantías que no se ajustan a lo contemplado en el contrato | D40: Estatal | E40: Interno | F40: Operacionales
B41: Falta de solicitud o solicitud tardía del registro presupuestal | D41: Estatal | E41: Interno | F41: Operacionales
B42: No publicación de la documentación del proceso de selección en el SECOP | D42: Estatal | E42: Interno | F42: Operacionales
B43: Presentación de reclamos de terceros sobre la selección del oferente que retrasen el perfeccionamiento del contrato. | D43: Estatal | E43: Interno | F43: Operacionales
C44: EJECUCIÓN
B45: Fluctuaciones del valor de la moneda | D45: General | E45: Externo | F45: Económicos
B46: Cambio de precios en factores de producción. | D46: General | E46: Externo | F46: Económicos
B47: Variación de los precios del mercado | D47: General | E47: Externo | F47: Económicos
B48: Factores políticos o macroeconómicos. | D48: General | E48: Externo | F48: Sociales o Políticos
B49: Cancelación de pedidos. | D49: General | E49: Externo | F49: Económicos
B50: Variación en la disponibilidad o en el costo de los insumos necesarios para prestar los servicios. | D50: General | E50: Externo | F50: Económicos
B51: Incumplimiento de compromisos adquiridos por el contratista seleccionado con sus subcontratistas, suministradores de bienes y servicios. | D51: Especifico | E51: Interno | F51: Económicos
...

Sheet EVALUACION
C2: MATRIZ DE RIESGOS DE CONTRATACIÓN | K2: Código: GCO-GCI-F164 Versión: 02 Vigencia: 01 de diciembre de 2022 Caso HOLA: 280117
B6: Objeto Contractual: “Prestar los servicios para el diseño e implementación de acciones de fortalecimiento comunitario en gestión del riesgo de desastres y adaptación al cambio climático en la localidad de Puente Aranda, mediante el desarrollo de estrategias pedagógicas y escénicas en espacios públicos, y la dotación de elementos institucionales orientados a mejorar las capacidades locales de prevención, preparación y respuesta ante emergencias, en el marco del Proyecto de Inversión 2370 - Puente Aranda Segura ante Emergencias”
B7: INSTRUCCIONES PARA LA IDENTIFICACIÓN, ANALISIS, EVALUACIÓN , ASIGNACIÓN Y TRATAMIENTO DE RIESGOS EN LA CONTRATACIÓN
B8: 1) Diligencie el objeto contractual y seleccione la(s) etapas y los riesgos que aplican al objeto contractual, de acuerdo a lo definido en la hoja de "IDENTIFICACIÓN Y ANÁLISIS"
B9: 2) Describa las consecuencias de la ocurrencia del Riesgo/evento.
B10: 3) Asigne la probabilidad de ocurrencia del riesgo, de conformidad con la tabla de probabilidad y la valoración del riesgo (Cualitativa o Monetaria)
B11: 4) Asigne el impacto que generaría la materialización del riesgo, de conformidad con la tabla de impacto y la valoración del riesgo (Cualitativa o Monetaria)
B12: 5) Al realizar las anteriores actividades se obtendrá la calificación total y la valoración del riesgo (prioridad).
B13: 6) Continúe en la hoja de "EVALUACIÓN DE CONTROLES"
B15: CALIFICACIÓN | H15: Cualitativa
B16: ETAPA | C16: Descripción (Que puede pasar y, cómo puede ocurrir) | H16: Consecuencias de la ocurrencia del evento | I16: Probabilidad de Ocurrencia | J16: Impacto | K16: Calificación Total | L16: Prioridad
B17: PLANEACIÓN | C17: Inadecuado análisis económico estimativo del valor del contrato | H17: Que no se presenten proponentes por que el valor estimado sea muy por debajo de los precios del mercado | I17: 1 | J17: 3 | K17: =I17+J17 -> 4 | L17: =IF(K17<=4,"BAJO",IF(K17=5,"MEDIO",IF(K17=6,"ALTO",IF(K17=7,"ALTO","EXTREMO")))) -> BAJO
B18: PLANEACIÓN | C18: Requisitos habilitantes que impidan la selección objetiva | H18: Que limiten la adecuada selección de proponentes y que los proponentes no alcancen a cumplir los requisitos habilitantes | I18: 1 | J18: 5 | K18: =+I18+J18 -> 6 | L18: =IF(K18<=4,"BAJO",IF(K18=5,"MEDIO",IF(K18=6,"ALTO",IF(K18=7,"ALTO","EXTREMO")))) -> ALTO
B19: PLANEACIÓN | C19: Ausencia de fundamentación de la justificación y conveniencia de la contratación | H19: que no se defina adecuadamente el objeto del contrato y su relación con el plan de desarrollo local. | I19: 1 | J19: 5 | K19: =+I19+J19 -> 6 | L19: =IF(K19<=4,"BAJO",IF(K19=5,"MEDIO",IF(K19=6,"ALTO",IF(K19=7,"ALTO","EXTREMO")))) -> ALTO
B20: SELECCIÓN | C20: Inadecuada evaluación de las ofertas y/o verificación de requisitos habilitantes | H20: Que se seleccione inadecuadamente un proponente que no cumpla con los requisitos adecuados para la ejecución del contrato | I20: 1 | J20: 5 | K20: =+I20+J20 -> 6 | L20: =IF(K20<=4,"BAJO",IF(K20=5,"MEDIO",IF(K20=6,"ALTO",IF(K20=7,"ALTO","EXTREMO")))) -> ALTO
B21: SELECCIÓN | C21: Contestación inoportuna a todas las observaciones formuladas a los documentos de la contratación | H21: que los tiempos previstos para la ejecución de la selección se tomen mas tiempo, llevando a demoras en la ejecución | I21: 1 | J21: 3 | K21: =+I21+J21 -> 4 | L21: =IF(K21<=4,"BAJO",IF(K21=5,"MEDIO",IF(K21=6,"ALTO",IF(K21=7,"ALTO","EXTREMO")))) -> BAJO
B22: SELECCIÓN | C22: Selección de ofertas con precios artificialmente bajos. | H22: Que durante la ejecución del contrato no se desarrolle de acuerdo al anexo técnico | I22: 1 | J22: 5 | K22: =+I22+J22 -> 6 | L22: =IF(K22<=4,"BAJO",IF(K22=5,"MEDIO",IF(K22=6,"ALTO",IF(K22=7,"ALTO","EXTREMO")))) -> ALTO
B23: CONTRATACIÓN | C23: Presentación de reclamos de terceros sobre la selección del oferente que retrasen el perfeccionamiento del contrato. | H23: Se retrase la contratación y por ende el inicio de la ejecución del contrato | I23: 1 | J23: 3 | K23: =+I23+J23 -> 4 | L23: =IF(K23<=4,"BAJO",IF(K23=5,"MEDIO",IF(K23=6,"ALTO",IF(K23=7,"ALTO","EXTREMO")))) -> BAJO
B24: CONTRATACIÓN | C24: Riesgo de que no se firme el contrato. | H24: Incumplimiento presupuestal, pérdida de oportunidades estratégicas, reasignación de recursos, costos adicionales con posible pérdida de condiciones favorables, demandas, conflictos contractuales, perdida de confianza en los oferentes, necesidad de reiniciar el proyecto, responsabilidad administrativa o penal. | I24: 1 | J24: 3 | K24: 4 | L24: =IF(K24<=4,"BAJO",IF(K24=5,"MEDIO",IF(K24=6,"ALTO",IF(K24=7,"ALTO","EXTREMO")))) -> BAJO
B25: EJECUCIÓN | C25: Baja participación comunitaria por Falta de difusión o desinterés | H25: que no se pueda impactar a tola la población que se espera en la localidad | I25: 2 | J25: 4 | K25: =+I25+J25 -> 6 | L25: =IF(K25<=4,"BAJO",IF(K25=5,"MEDIO",IF(K25=6,"ALTO",IF(K25=7,"ALTO","EXTREMO")))) -> ALTO
B26: EJECUCIÓN | C26: Retrasos operativos por problemas logísticos o planificación | H26: que no se puedan ejecutar las actividades de acuerdo al cronograma planteado | I26: 1 | J26: 5 | K26: =+I26+J26 -> 6 | L26: =IF(K26<=4,"BAJO",IF(K26=5,"MEDIO",IF(K26=6,"ALTO",IF(K26=7,"ALTO","EXTREMO")))) -> ALTO
B27: EJECUCIÓN | C27: Condiciones climáticas adversas que afecten la realización de actividades en campo. | H27: que no se puedan ejecutar las actividades de acuerdo al cronograma planteado | I27: 2 | J27: 4 | K27: =+I27+J27 -> 6 | L27: =IF(K27<=4,"BAJO",IF(K27=5,"MEDIO",IF(K27=6,"ALTO",IF(K27=7,"ALTO","EXTREMO")))) -> ALTO
B28: EJECUCIÓN | C28: Incumplimiento normativo en la ejecución de actividades en espacio publico por desconocimiento de requisitos | H28: que no se puedan ejecutar las actividades de acuerdo al cronograma planteado | I28: 1 | J28: 4 | K28: =+I28+J28 -> 5 | L28: =IF(K28<=4,"BAJO",IF(K28=5,"MEDIO",IF(K28=6,"ALTO",IF(K28=7,"ALTO","EXTREMO")))) -> MEDIO
B29: EJECUCIÓN | C29: Limitación de recursos por falta de presupuesto o personal insuficiente | H29: que no se puedan ejecutar las actividades de acuerdo al cronograma planteado | I29: 1 | J29: 3 | K29: =+I29+J29 -> 4 | L29: =IF(K29<=4,"BAJO",IF(K29=5,"MEDIO",IF(K29=6,"ALTO",IF(K29=7,"ALTO","EXTREMO")))) -> BAJO
B30: EJECUCIÓN | C30: Emergencias locales por eventos inesperados | H30: que la población participante se vea afectada por la emergencia y no se pueda realizar la ejecución de actividades planteadas | I30: 2 | J30: 4 | K30: =+I30+J30 -> 6 | L30: =IF(K30<=4,"BAJO",IF(K30=5,"MEDIO",IF(K30=6,"ALTO",IF(K30=7,"ALTO","EXTREMO")))) -> ALTO
B31: EJECUCIÓN | C31: Retrasos en la ejecución de actividades pedagógicas por limitaciones logísticas. | H31: que no se puedan ejecutar las actividades de acuerdo al cronograma planteado | I31: 1 | J31: 4 | K31: =+I31+J31 -> 5 | L31: =IF(K31<=4,"BAJO",IF(K31=5,"MEDIO",IF(K31=6,"ALTO",IF(K31=7,"ALTO","EXTREMO")))) -> MEDIO
B32: EJECUCIÓN | C32: Falta de disponibilidad de espacios adecuados para el desarrollo de actividades. | H32: que no se puedan ejecutar las actividades de acuerdo al cronograma planteado | I32: 1 | J32: 3 | K32: =+I32+J32 -> 4 | L32: =IF(K32<=4,"BAJO",IF(K32=5,"MEDIO",IF(K32=6,"ALTO",IF(K32=7,"ALTO","EXTREMO")))) -> BAJO
B33: EJECUCIÓN | C33: Accidentes durante la presentación (caídas de actores, golpes, cables, equipos). | H33: que la población participante se vea afectada por la emergencia y no se pueda realizar la ejecución de actividades planteadas | I33: 2 | J33: 3 | K33: =+I33+J33 -> 5 | L33: =IF(K33<=4,"BAJO",IF(K33=5,"MEDIO",IF(K33=6,"ALTO",IF(K33=7,"ALTO","EXTREMO")))) -> MEDIO
B34: EJECUCIÓN | C34: Aglomeraciones o desorden del público | H34: que la población participante se vea afectada por la emergencia y no se pueda realizar la ejecución de actividades planteadas | I34: 1 | J34: 4 | K34: =+I34+J34 -> 5 | L34: =IF(K34<=4,"BAJO",IF(K34=5,"MEDIO",IF(K34=6,"ALTO",IF(K34=7,"ALTO","EXTREMO")))) -> MEDIO
B35: EJECUCIÓN | C35: Reacciones negativas del público (rechazo, incomodidad, conflictos) | H35: que la imagen de ALPA se vea afectada por comentarios de la comunidad en redes sociales | I35: 1 | J35: 5 | K35: =+I35+J35 -> 6 | L35: =IF(K35<=4,"BAJO",IF(K35=5,"MEDIO",IF(K35=6,"ALTO",IF(K35=7,"ALTO","EXTREMO")))) -> ALTO
B38: Probabilidad | C38: Categoría | E38: Valoración | G38: Impacto | H38: Categoría | I38: Valoración
C39: Raro (puede ocurrir excepcionalmente) | E39: 1 | H39: Insignificante | I39: 1
C40: Improbable (puede ocurrir ocasionalmente) | E40: 2 | H40: Menor | I40: 2
C41: Posible (puede ocurrir en cualquier momento futuro) | E41: 3 | H41: Moderado | I41: 3
C42: Probable (probablemente va a ocurrir) | E42: 4 | H42: Mayor | I42: 4
C43: Casi cierto (ocurre en la mayoría de circunstancias) | E43: 5 | H43: Catastrófico | I43: 5
C45: Valoración del Riesgo
C46: Calificación Cualitativa | F46: Obstruye la ejecución del contrato de manera intrascendente. | G46: Dificulta la ejecución del contrato de manera baja, aplicando medidas mínimas se pueden lograr el objeto contractual | H46: Afecta la ejecución del contrato sin alterar el beneficio para las partes | I46: Obstruye la ejecución del contrato sustancialmente pero aun así permite la consecución del objeto contractual | K46: Perturba la ejecución del contrato de manera grave imposibilitando la consecución del objeto contractual.
C47: Calificación Monetaria | F47: Los sobrecostos no representan más del uno por ciento (1%) del valor del contrato. | G47: Los sobrecostos no representan más del cinco por ciento (5%) del valor del contrato. | H47: Genera un impacto sobre el valor del contrato entre el cinco (5%) y el quince por ciento (15%). | I47: Incrementa el valor del contrato entre el quince (15%) y el treinta por ciento (30%). | K47: Impacto sobre el valor del contrato en más del treinta por ciento (30%).
C48: Categoría | E48: Valoración | F48: Insignificante | G48: Menor | H48: Moderado | I48: Mayor | K48: Catastrófico
...

Sheet EVALUACION CON CONTROLES
C2: MATRIZ DE RIESGOS DE CONTRATACIÓN | Q2: Código: GCO-GCI-F164 Versión: 02 Vigencia: 01 de diciembre de 2022 Caso HOLA: 280117
B6: =+EVALUACION!B6 -> Objeto Contractual: “Prestar los servicios para el diseño e implementación de acciones de fortalecimiento comunitario en gestión del riesgo de desastres y adaptación al cambio climático en la localidad de Puente Aranda, mediante el desarrollo de estrategias pedagógicas y escénicas en espacios públicos, y la dotación de elementos institucionales orientados a mejorar las capacidades locales de prevención, preparación y respuesta ante emergencias, en el marco del Proyecto de Inversión 2370 - Puente Aranda Segura ante Emergencias”
B7: INSTRUCCIONES PARA LA IDENTIFICACIÓN, ANALISIS, EVALUACIÓN , ASIGNACIÓN Y TRATAMIENTO DE RIESGOS EN LA CONTRATACIÓN
B8: 1) Describa el tratamiento/controles a ser implementados
B9: 2) Diligencie la información de las siguientes columnas, de acuerdo con el análisis realizado a cada riesgo: Afecta el equilibrio económico, persona responsable de implementar el tratamiento, fecha estimada de inicio del tratamiento, fecha estimada en la que se completa el tratamiento, cómo se realiza el monitoreo y la periodicidad.
B10: 3) Continúe en la hoja de "ASIGNACIÓN Y TRATAMIENTO" y diligencie las siguientes casillas: A quien se le asigna y el porcentaje que asume cada una de las partes en caso de que sea compartido.
B15: ETAPA | C15: Descripción (Que puede pasar y, cómo puede ocurrir) | G15: Tratamiento/Controles a ser implementados | I15: Probabilidad de Ocurrencia | J15: Impacto | K15: Calificación Total | L15: Prioridad | M15: ¿Afecta el equilibrio económico del contrato? | N15: Persona responsable por implementar el tratamiento | O15: Fecha estimada en que se inicia el tratamiento | P15: Fecha estimada en que se completa el tratamiento | Q15: ¿Cómo se realiza el monitoreo? | R15: Periodicidad ¿Cuándo?
B16: =+EVALUACION!B17 -> PLANEACIÓN | C16: =+EVALUACION!C17 -> Inadecuado análisis económico estimativo del valor del contrato | G16: De acuerdo con la normatividad aplicable, metodología de construcción del proyecto y los profesionales, se garantiza el adecuado análisis económico que soporte el adecuado valor del contrato. | I16: =+EVALUACION!I17 -> 1 | J16: =EVALUACION!J17-1 -> 2 | K16: =+I16+J16 -> 3 | L16: =IF(K16<=4,"BAJO",IF(K16=5,"MEDIO",IF(K16=6,"ALTO",IF(K16=7,"ALTO","EXTREMO")))) -> BAJO | M16: No | N16: Alcaldia Local | O16: Indeterminado durante la etapa precontractual | P16: Indeterminado durante la etapa precontractual | Q16: En supervisión de las actividades precontractuales | R16: Etapa Precontractual
B17: =+EVALUACION!B18 -> PLANEACIÓN | C17: =+EVALUACION!C18 -> Requisitos habilitantes que impidan la selección objetiva | G17: De acuerdo con la normatividad aplicable, metodología de construcción del proyecto y los profesionales, en la documentación del proyecto se especifican de forma clara los requisitos habilitantes, los cuales son validados por profesionales jurídicos. | I17: =+EVALUACION!I18 -> 1 | J17: =EVALUACION!J18-1 -> 4 | K17: =+I17+J17 -> 5 | L17: =IF(K17<=4,"BAJO",IF(K17=5,"MEDIO",IF(K17=6,"ALTO",IF(K17=7,"ALTO","EXTREMO")))) -> MEDIO | M17: No | N17: Alcaldia Local | O17: Indeterminado durante la etapa precontractual | P17: Indeterminado durante la etapa precontractual | Q17: En supervisión de las actividades precontractuales | R17: Etapa Precontractual
B18: =+EVALUACION!B19 -> PLANEACIÓN | C18: =+EVALUACION!C19 -> Ausencia de fundamentación de la justificación y conveniencia de la contratación | G18: De acuerdo con la normatividad aplicable, metodología de construcción del proyecto y los profesionales, en la documentación del proyecto se especifican de forma clara todos los lineamientos que soportan el proyecto, los cuales son validados por profesionales jurídicos, financieros, operativos. | I18: =+EVALUACION!I19 -> 1 | J18: =EVALUACION!J19-1 -> 4 | K18: =+I18+J18 -> 5 | L18: =IF(K18<=4,"BAJO",IF(K18=5,"MEDIO",IF(K18=6,"ALTO",IF(K18=7,"ALTO","EXTREMO")))) -> MEDIO | M18: No | N18: Alcaldia Local | O18: Indeterminado durante la etapa precontractual | P18: Indeterminado durante la etapa precontractual | Q18: En supervisión de las actividades precontractuales | R18: Etapa Precontractual
B19: =+EVALUACION!B20 -> SELECCIÓN | C19: =+EVALUACION!C20 -> Inadecuada evaluación de las ofertas y/o verificación de requisitos habilitantes | G19: La evaluación de las ofertas y verificación de requisitos habilitantes se realiza a través de documentos formatos que reflejan la información de los proponentes, a su vez esta información es revisada por personal que validad de forma objetiva y metodológica el contenido de la evaluación | I19: =+EVALUACION!I20 -> 1 | J19: =EVALUACION!J20-1 -> 4 | K19: =+I19+J19 -> 5 | L19: =IF(K19<=4,"BAJO",IF(K19=5,"MEDIO",IF(K19=6,"ALTO",IF(K19=7,"ALTO","EXTREMO")))) -> MEDIO | M19: No | N19: Alcaldia Local | O19: Indeterminado durante la etapa precontractual | P19: Indeterminado durante la etapa precontractual | Q19: En supervisión de las actividades precontractuales | R19: Etapa Precontractual
B20: =+EVALUACION!B21 -> SELECCIÓN | C20: =+EVALUACION!C21 -> Contestación inoportuna a todas las observaciones formuladas a los documentos de la contratación | G20: De acuerdo a las responsabilidades del supervisor del contrato se revisan todas las observaciones dadas a la formulación y se responden dentro de los tiempo dispuesto a través de SECOP II | I20: =+EVALUACION!I21 -> 1 | J20: =EVALUACION!J21-1 -> 2 | K20: =+I20+J20 -> 3 | L20: =IF(K20<=4,"BAJO",IF(K20=5,"MEDIO",IF(K20=6,"ALTO",IF(K20=7,"ALTO","EXTREMO")))) -> BAJO | M20: No | N20: Alcaldia Local | O20: Indeterminado durante la etapa precontractual | P20: Indeterminado durante la etapa precontractual | Q20: En supervisión de las actividades precontractuales | R20: Etapa Precontractual
B21: =+EVALUACION!B22 -> SELECCIÓN | C21: =+EVALUACION!C22 -> Selección de ofertas con precios artificialmente bajos. | G21: Verificación de las ofertas con su composición en los valores especificados para las actividades del contrato y que estas se encuentren acordes con las definidas en el estudio de mercado | I21: =+EVALUACION!I22 -> 1 | J21: =EVALUACION!J22-1 -> 4 | K21: =+I21+J21 -> 5 | L21: =IF(K21<=4,"BAJO",IF(K21=5,"MEDIO",IF(K21=6,"ALTO",IF(K21=7,"ALTO","EXTREMO")))) -> MEDIO | M21: No | N21: Alcaldia Local | O21: Indeterminado durante la etapa precontractual | P21: Indeterminado durante la etapa precontractual | Q21: En supervisión de las actividades precontractuales | R21: Etapa Precontractual
B22: =+EVALUACION!B23 -> CONTRATACIÓN | C22: =+EVALUACION!C23 -> Presentación de reclamos de terceros sobre la selección del oferente que retrasen el perfeccionamiento del contrato. | G22: Verificación de los reclamos y sus especificaciones relacionadas con el perfeccionamiento del contrato. | I22: =+EVALUACION!I23 -> 1 | J22: =EVALUACION!J23-1 -> 2 | K22: =+I22+J22 -> 3 | L22: =IF(K22<=4,"BAJO",IF(K22=5,"MEDIO",IF(K22=6,"ALTO",IF(K22=7,"ALTO","EXTREMO")))) -> BAJO | M22: No | N22: Alcaldia Local | O22: Indeterminado durante la etapa precontractual | P22: Indeterminado durante la etapa precontractual | Q22: En supervisión de las actividades precontractuales | R22: Etapa Precontractual
B23: =+EVALUACION!B24 -> CONTRATACIÓN | C23: =+EVALUACION!C24 -> Riesgo de que no se firme el contrato. | G23: Para la fase de la firma del contrato, ya se ha ejecutado todas las actividades de planeación, selección y verificación por las partes interesadas, además cuenta con la valoración de un comité interdisciplinario que ha revisado cada documento para asegurar su valides, y durante la fase de selección cada fase en realizada por el profesional de apoyo al proceso y validada por profesionales jurídicos, financieros, operativos. | I23: =+EVALUACION!I24 -> 1 | J23: =EVALUACION!J24-1 -> 2 | K23: =+I23+J23 -> 3 | L23: =IF(K23<=4,"BAJO",IF(K23=5,"MEDIO",IF(K23=6,"ALTO",IF(K23=7,"ALTO","EXTREMO")))) -> BAJO | M23: No | N23: Alcaldia Local | O23: Indeterminado durante la etapa precontractual | P23: De principio a fin de las actividades del contrato | Q23: Seguimiento y revisión de los elementos necesarios para el desarrollo de cada actividad y sus fechas estimadas. | R23: Etapa Precontractual
B24: =+EVALUACION!B25 -> EJECUCIÓN | C24: =+EVALUACION!C25 -> Baja participación comunitaria por Falta de difusión o desinterés | G24: Elaboración e implementación de un Plan de Comunicaciones del Proyecto con segmentación de públicos (comunidades, administraciones, visitantes). Definición de metas de cobertura e indicadores de participación (%). Coordinación formal con líderes comunitarios, juntas de acción comunal y administraciones. | I24: =+EVALUACION!I25 -> 2 | J24: =EVALUACION!J25-1 -> 3 | K24: =+I24+J24 -> 5 | L24: =IF(K24<=4,"BAJO",IF(K24=5,"MEDIO",IF(K24=6,"ALTO",IF(K24=7,"ALTO","EXTREMO")))) -> MEDIO | M24: No | N24: Contratante | O24: Al momento de iniciar el contrato en la primera reunión tecnica | P24: De principio a fin de las actividades del contrato | Q24: Seguimiento y revisión de los elementos necesarios para el desarrollo de cada actividad y sus fechas estimadas. | R24: Durante la ejecución del contrato
B25: =+EVALUACION!B26 -> EJECUCIÓN | C25: =+EVALUACION!C26 -> Retrasos operativos por problemas logísticos o planificación | G25: Elaboración de cronograma detallado. Revisión periódica de avance (seguimiento semanal). Definición de un plan de contingencia. | I25: =+EVALUACION!I26 -> 1 | J25: =EVALUACION!J26-1 -> 4 | K25: =+I25+J25 -> 5 | L25: =IF(K25<=4,"BAJO",IF(K25=5,"MEDIO",IF(K25=6,"ALTO",IF(K25=7,"ALTO","EXTREMO")))) -> MEDIO | M25: No | N25: Contratante | O25: Al momento de iniciar el contrato en la primera reunión tecnica | P25: De principio a fin de las actividades del contrato | Q25: Seguimiento y revisión de los elementos necesarios para el desarrollo de cada actividad y sus fechas estimadas. | R25: Durante la ejecución del contrato
B26: =+EVALUACION!B27 -> EJECUCIÓN | C26: =+EVALUACION!C27 -> Condiciones climáticas adversas que afecten la realización de actividades en campo. | G26: Definición de protocolos de reprogramación. Monitoreo diario de pronóstico meteorológico. Identificación de espacios alternos cubiertos. | I26: =+EVALUACION!I27 -> 2 | J26: =EVALUACION!J27-1 -> 3 | K26: =+I26+J26 -> 5 | L26: =IF(K26<=4,"BAJO",IF(K26=5,"MEDIO",IF(K26=6,"ALTO",IF(K26=7,"ALTO","EXTREMO")))) -> MEDIO | M26: No | N26: Contratante | O26: Al momento de iniciar el contrato en la primera reunión tecnica | P26: De principio a fin de las actividades del contrato | Q26: Seguimiento y revisión de los elementos necesarios para el desarrollo de cada actividad y sus fechas estimadas. | R26: Durante la ejecución del contrato
B27: =+EVALUACION!B28 -> EJECUCIÓN | C27: =+EVALUACION!C28 -> Incumplimiento normativo en la ejecución de actividades en espacio publico por desconocimiento de requisitos | G27: Elaboración de matriz de requisitos legales aplicables (SST, uso de espacio público, ambiental). Gestión de permisos escritos con entidades y administraciones. Validación jurídica previa de actividades. | I27: =+EVALUACION!I28 -> 1 | J27: =EVALUACION!J28-1 -> 3 | K27: =+I27+J27 -> 4 | L27: =IF(K27<=4,"BAJO",IF(K27=5,"MEDIO",IF(K27=6,"ALTO",IF(K27=7,"ALTO","EXTREMO")))) -> BAJO | M27: No | N27: Contratante | O27: Al momento de iniciar el contrato en la primera reunión tecnica | P27: De principio a fin de las actividades del contrato | Q27: Seguimiento y revisión de los elementos necesarios para el desarrollo de cada actividad y sus fechas estimadas. | R27: Durante la ejecución del contrato
... B34: =+EVALUACION!B35 -> EJECUCIÓN | C34: =+EVALUACION!C35 -> Reacciones negativas del público (rechazo, incomodidad, conflictos) | G34: Diseño de contenidos pedagógicos con enfoque diferencial e inclusivo. Capacitación a actores en manejo de grupos y comunicación asertiva. Supervisión en sitio por coordinador. Prueba piloto del sketch antes de la salida al publico. Revisión del guion. | I34: =+EVALUACION!I35 -> 1 | J34: =EVALUACION!J35-1 -> 4 | K34: =+I34+J34 -> 5 | L34: =IF(K34<=4,"BAJO",IF(K34=5,"MEDIO",IF(K34=6,"ALTO",IF(K34=7,"ALTO","EXTREMO")))) -> MEDIO | M34: No | N34: Contratante | O34: Al momento de iniciar el contrato en la primera reunión tecnica | P34: De principio a fin de las actividades del contrato | Q34: Seguimiento y revisión de los elementos necesarios para el desarrollo de cada actividad y sus fechas estimadas. | R34: Durante la ejecución del contrato
C36: Categoria del Riesgo | H36: Impacto del Riesgo
B37: Probabilidad | C37: Catagoria | F37: Valoración | H37: Categoria | J37: Valoración | N37: Categoria del Riesgo
C38: Raro (puede ocurrir excepcionalmente) | F38: 1 | H38: Insignificante | J38: 1 | N38: Valoración del Riesgo | P38: Categoría
C39: Improbable (puede ocurrir ocasionalmente) | F39: 2 | H39: Menor | J39: 2 | N39: 8, 9 y 10 | P39: Riesgo extremo
C40: Posible (puede ocurrir en cualquier momento futuro) | F40: 3 | H40: Moderado | J40: 3 | N40: 6 y 7 | P40: Riesgo alto
C41: Probable (probablemente va a ocurrir) | F41: 4 | H41: Mayor | J41: 4 | N41: 5 | P41: Riesgo medio
C42: Casi cierto (ocurre en la mayoria de circunstancias) | F42: 5 | H42: Catastrófico | J42: 5 | N42: 2, 3 y 4 | P42: Riesgo bajo
C44: Valoración del Riesgo
C45: Calificación Cualitativa | G45: Obstruye la ejecución del contrato de manera intrascendente. | I45: Dificulta la ejecución del contrato de manera baja, aplicando medidas mínimas se pueden lograr el objeto contractual | L45: Afecta la ejecución del contrato sin alterar el beneficio para las partes | N45: Obstruye la ejecución del contrato sustancialmente pero aun así permite la consecución del objeto contractual | P45: Perturba la ejecución del contrato de manera grave imposibilitando la consecución del objeto contractual.
C46: Calificación Monetaria | G46: Los sobrecostos no representan más del uno por ciento (1%) del valor del contrato. | I46: Los sobrecostos no representan más del cinco por ciento (5%) del valor del contrato. | L46: Genera un impacto sobre el valor del contrato entre el cinco (5%) y el quince por ciento (15%). | N46: Incrementa el valor del contrato entre el quince (15%) y el treinta por ciento (30%). | P46: Impacto sobre el valor del contrato en más del treinta por ciento (30%).
C47: Catagoria | F47: Valoración | G47: Insignificante | I47: Menor | L47: Moderado | N47: Mayor | P47: Catastrófico
G48: 1 | I48: 2 | L48: 3 | N48: 4 | P48: 5
C49: Raro (puede ocurrir excepcionalmente) | F49: 1 | G49: 2 | I49: 3 | L49: 4 | N49: 5 | P49: 6
C50: Improbable (puede ocurrir ocasionalmente) | F50: 2 | G50: 3 | I50: 4 | L50: 5 | N50: 6 | P50: 7
C51: Posible (puede ocurrir en cualquier momento futuro) | F51: 3 | G51: 4 | I51: 5 | L51: 6 | N51: 7 | P51: 8
C52: Probable (probablemente va a ocurrir) | F52: 4 | G52: 5 | I52: 6 | L52: 7 | N52: 8 | P52: 9
C53: Casi cierto (ocurre en la mayoria de circunstancias) | F53: 5 | G53: 6 | I53: 7 | L53: 8 | N53: 9 | P53: 10

Sheet ASIGNACION Y TRATAMIENTO
C2: MATRIZ DE RIESGOS DE CONTRATACIÓN | W2: Código: GCO-GCI-F164 Versión: 02 Vigencia: 01 de diciembre de 2022 Caso HOLA: 280117
B6: =+EVALUACION!B6 -> Objeto Contractual: “Prestar los servicios para el diseño e implementación de acciones de fortalecimiento comunitario en gestión del riesgo de desastres y adaptación al cambio climático en la localidad de Puente Aranda, mediante el desarrollo de estrategias pedagógicas y escénicas en espacios públicos, y la dotación de elementos institucionales orientados a mejorar las capacidades locales de prevención, preparación y respuesta ante emergencias, en el marco del Proyecto de Inversión 2370 - Puente Aranda Segura ante Emergencias”
B7: Esta matriz es un documento anexo del Estudio Previo
B10: No | C10: Descripción (Que puede pasar y, cómo puede ocurrir) | D10: Etapa | E10: Clase | F10: Fuente | G10: Consecuencias de la ocurrencia del evento | H10: Probabilidad | I10: Impacto | J10: Calificación total | K10: Prioridad | L10: ¿A quien se le asigna? | M10: % | N10: Tratamiento/Controles a ser implementados | O10: Probabilidad | P10: Impacto | Q10: Calificación total | R10: Prioridad | S10: ¿Afecta el equilibrio económico del contrato? | T10: Persona responsable por implementar el tratamiento | U10: Fecha estimada en que se inicia el tratamiento | V10: Fecha estimada en que se completa el tratamiento | W10: ¿Cómo se realiza el monitoreo | X10: Periodicidad ¿Cuándo?
B11: 1 | C11: =+'EVALUACION CON CONTROLES'!C16:F16 -> Inadecuado análisis económico estimativo del valor del contrato | D11: =+'EVALUACION CON CONTROLES'!B16 -> PLANEACIÓN | E11: =VLOOKUP(C11,'IDENTIFICACION Y ANALISIS'!$B$19:$F$66,3,FALSE) -> Especifico | F11: =VLOOKUP(C11,'IDENTIFICACION Y ANALISIS'!$B$19:$F$66,4,FALSE) -> Interno | G11: =EVALUACION!H17 -> Que no se presenten proponentes por que el valor estimado sea muy por debajo de los precios del mercado | H11: =+EVALUACION!I17 -> 1 | I11: =+EVALUACION!J17 -> 3 | J11: =+EVALUACION!K17 -> 4 | K11: =+EVALUACION!L17 -> BAJO | L11: SDG | M11: 100 | N11: ='EVALUACION CON CONTROLES'!G16 -> De acuerdo con la normatividad aplicable, metodología de construcción del proyecto y los profesionales, se garantiza el adecuado análisis económico que soporte el adecuado valor del contrato. | O11: =+'EVALUACION CON CONTROLES'!I16 -> 1 | P11: =I11-1 -> 2 | Q11: =+'EVALUACION CON CONTROLES'!K16 -> 3 | R11: =+'EVALUACION CON CONTROLES'!L16 -> BAJO | S11: =+'EVALUACION CON CONTROLES'!M16 -> No | T11: =+'EVALUACION CON CONTROLES'!N16 -> Alcaldia Local | U11: =+'EVALUACION CON CONTROLES'!O16 -> Indeterminado durante la etapa precontractual | V11: =+'EVALUACION CON CONTROLES'!P16 -> Indeterminado durante la etapa precontractual | W11: =+'EVALUACION CON CONTROLES'!Q16 -> En supervisión de las actividades precontractuales | X11: =+'EVALUACION CON CONTROLES'!R16 -> Etapa Precontractual
B12: 2 | C12: =+'EVALUACION CON CONTROLES'!C17:F17 -> Requisitos habilitantes que impidan la selección objetiva | D12: =+'EVALUACION CON CONTROLES'!B17 -> PLANEACIÓN | E12: =VLOOKUP(C12,'IDENTIFICACION Y ANALISIS'!$B$19:$F$66,3,FALSE) -> Especifico | F12: =VLOOKUP(C12,'IDENTIFICACION Y ANALISIS'!$B$19:$F$66,4,FALSE) -> Interno | G12: =EVALUACION!H18 -> Que limiten la adecuada selección de proponentes y que los proponentes no alcancen a cumplir los requisitos habilitantes | H12: =+EVALUACION!I18 -> 1 | I12: =+EVALUACION!J18 -> 5 | J12: =+EVALUACION!K18 -> 6 | K12: =+EVALUACION!L18 -> ALTO | L12: SDG | M12: 100 | N12: ='EVALUACION CON CONTROLES'!G17 -> De acuerdo con la normatividad aplicable, metodología de construcción del proyecto y los profesionales, en la documentación del proyecto se especifican de forma clara los requisitos habilitantes, los cuales son validados por profesionales jurídicos. | O12: =+'EVALUACION CON CONTROLES'!I17 -> 1 | P12: =I12-1 -> 4 | Q12: =+'EVALUACION CON CONTROLES'!K17 -> 5 | R12: =+'EVALUACION CON CONTROLES'!L17 -> MEDIO | S12: =+'EVALUACION CON CONTROLES'!M17 -> No | T12: =+'EVALUACION CON CONTROLES'!N17 -> Alcaldia Local | U12: =+'EVALUACION CON CONTROLES'!O17 -> Indeterminado durante la etapa precontractual | V12: =+'EVALUACION CON CONTROLES'!P17 -> Indeterminado durante la etapa precontractual | W12: =+'EVALUACION CON CONTROLES'!Q17 -> En supervisión de las actividades precontractuales | X12: =+'EVALUACION CON CONTROLES'!R17 -> Etapa Precontractual
B13: 3 | C13: =+'EVALUACION CON CONTROLES'!C18:F18 -> Ausencia de fundamentación de la justificación y conveniencia de la contratación | D13: =+'EVALUACION CON CONTROLES'!B18 -> PLANEACIÓN | E13: =VLOOKUP(C13,'IDENTIFICACION Y ANALISIS'!$B$19:$F$66,3,FALSE) -> Especifico | F13: =VLOOKUP(C13,'IDENTIFICACION Y ANALISIS'!$B$19:$F$66,4,FALSE) -> Interno | G13: =EVALUACION!H19 -> que no se defina adecuadamente el objeto del contrato y su relación con el plan de desarrollo local. | H13: =+EVALUACION!I19 -> 1 | I13: =+EVALUACION!J19 -> 5 | J13: =+EVALUACION!K19 -> 6 | K13: =+EVALUACION!L19 -> ALTO | L13: SDG | M13: 100 | N13: ='EVALUACION CON CONTROLES'!G18 -> De acuerdo con la normatividad aplicable, metodología de construcción del proyecto y los profesionales, en la documentación del proyecto se especifican de forma clara todos los lineamientos que soportan el proyecto, los cuales son validados por profesionales jurídicos, financieros, operativos. | O13: =+'EVALUACION CON CONTROLES'!I18 -> 1 | P13: =I13-1 -> 4 | Q13: =+'EVALUACION CON CONTROLES'!K18 -> 5 | R13: =+'EVALUACION CON CONTROLES'!L18 -> MEDIO | S13: =+'EVALUACION CON CONTROLES'!M18 -> No | T13: =+'EVALUACION CON CONTROLES'!N18 -> Alcaldia Local | U13: =+'EVALUACION CON CONTROLES'!O18 -> Indeterminado durante la etapa precontractual | V13: =+'EVALUACION CON CONTROLES'!P18 -> Indeterminado durante la etapa precontractual | W13: =+'EVALUACION CON CONTROLES'!Q18 -> En supervisión de las actividades precontractuales | X13: =+'EVALUACION CON CONTROLES'!R18 -> Etapa Precontractual
B14: 4 | C14: =+'EVALUACION CON CONTROLES'!C19:F19 -> Inadecuada evaluación de las ofertas y/o verificación de requisitos habilitantes | D14: =+'EVALUACION CON CONTROLES'!B19 -> SELECCIÓN | E14: =VLOOKUP(C14,'IDENTIFICACION Y ANALISIS'!$B$19:$F$66,3,FALSE) -> Especifico | F14: =VLOOKUP(C14,'IDENTIFICACION Y ANALISIS'!$B$19:$F$66,4,FALSE) -> Interno | G14: =EVALUACION!H20 -> Que se seleccione inadecuadamente un proponente que no cumpla con los requisitos adecuados para la ejecución del contrato | H14: =+EVALUACION!I20 -> 1 | I14: =+EVALUACION!J20 -> 5 | J14: =+EVALUACION!K20 -> 6 | K14: =+EVALUACION!L20 -> ALTO | L14: SDG | M14: 100 | N14: ='EVALUACION CON CONTROLES'!G19 -> La evaluación de las ofertas y verificación de requisitos habilitantes se realiza a través de documentos formatos que reflejan la información de los proponentes, a su vez esta información es revisada por personal que validad de forma objetiva y metodológica el contenido de la evaluación | O14: =+'EVALUACION CON CONTROLES'!I19 -> 1 | P14: =I14-1 -> 4 | Q14: =+'EVALUACION CON CONTROLES'!K19 -> 5 | R14: =+'EVALUACION CON CONTROLES'!L19 -> MEDIO | S14: =+'EVALUACION CON CONTROLES'!M19 -> No | T14: =+'EVALUACION CON CONTROLES'!N19 -> Alcaldia Local | U14: =+'EVALUACION CON CONTROLES'!O19 -> Indeterminado durante la etapa precontractual | V14: =+'EVALUACION CON CONTROLES'!P19 -> Indeterminado durante la etapa precontractual | W14: =+'EVALUACION CON CONTROLES'!Q19 -> En supervisión de las actividades precontractuales | X14: =+'EVALUACION CON CONTROLES'!R19 -> Etapa Precontractual
B15: 5 | C15: =+'EVALUACION CON CONTROLES'!C20:F20 -> Contestación inoportuna a todas las observaciones formuladas a los documentos de la contratación | D15: =+'EVALUACION CON CONTROLES'!B20 -> SELECCIÓN | E15: =VLOOKUP(C15,'IDENTIFICACION Y ANALISIS'!$B$19:$F$66,3,FALSE) -> Especifico | F15: =VLOOKUP(C15,'IDENTIFICACION Y ANALISIS'!$B$19:$F$66,4,FALSE) -> Interno | G15: =EVALUACION!H21 -> que los tiempos previstos para la ejecución de la selección se tomen mas tiempo, llevando a demoras en la ejecución | H15: =+EVALUACION!I21 -> 1 | I15: =+EVALUACION!J21 -> 3 | J15: =+EVALUACION!K21 -> 4 | K15: =+EVALUACION!L21 -> BAJO | L15: SDG | M15: 100 | N15: ='EVALUACION CON CONTROLES'!G20 -> De acuerdo a las responsabilidades del supervisor del contrato se revisan todas las observaciones dadas a la formulación y se responden dentro de los tiempo dispuesto a través de SECOP II | O15: =+'EVALUACION CON CONTROLES'!I20 -> 1 | P15: =I15-1 -> 2 | Q15: =+'EVALUACION CON CONTROLES'!K20 -> 3 | R15: =+'EVALUACION CON CONTROLES'!L20 -> BAJO | S15: =+'EVALUACION CON CONTROLES'!M20 -> No | T15: =+'EVALUACION CON CONTROLES'!N20 -> Alcaldia Local | U15: =+'EVALUACION CON CONTROLES'!O20 -> Indeterminado durante la etapa precontractual | V15: =+'EVALUACION CON CONTROLES'!P20 -> Indeterminado durante la etapa precontractual | W15: =+'EVALUACION CON CONTROLES'!Q20 -> En supervisión de las actividades precontractuales | X15: =+'EVALUACION CON CONTROLES'!R20 -> Etapa Precontractual
B16: 6 | C16: =+'EVALUACION CON CONTROLES'!C21:F21 -> Selección de ofertas con precios artificialmente bajos. | D16: =+'EVALUACION CON CONTROLES'!B21 -> SELECCIÓN | E16: =VLOOKUP(C16,'IDENTIFICACION Y ANALISIS'!$B$19:$F$66,3,FALSE) -> Especifico | F16: =VLOOKUP(C16,'IDENTIFICACION Y ANALISIS'!$B$19:$F$66,4,FALSE) -> Interno | G16: =EVALUACION!H22 -> Que durante la ejecución del contrato no se desarrolle de acuerdo al anexo técnico | H16: =+EVALUACION!I22 -> 1 | I16: =+EVALUACION!J22 -> 5 | J16: =+EVALUACION!K22 -> 6 | K16: =+EVALUACION!L22 -> ALTO | L16: SDG | M16: 100 | N16: ='EVALUACION CON CONTROLES'!G21 -> Verificación de las ofertas con su composición en los valores especificados para las actividades del contrato y que estas se encuentren acordes con las definidas en el estudio de mercado | O16: =+'EVALUACION CON CONTROLES'!I21 -> 1 | P16: =I16-1 -> 4 | Q16: =+'EVALUACION CON CONTROLES'!K21 -> 5 | R16: =+'EVALUACION CON CONTROLES'!L21 -> MEDIO | S16: =+'EVALUACION CON CONTROLES'!M21 -> No | T16: =+'EVALUACION CON CONTROLES'!N21 -> Alcaldia Local | U16: =+'EVALUACION CON CONTROLES'!O21 -> Indeterminado durante la etapa precontractual | V16: =+'EVALUACION CON CONTROLES'!P21 -> Indeterminado durante la etapa precontractual | W16: =+'EVALUACION CON CONTROLES'!Q21 -> En supervisión de las actividades precontractuales | X16: =+'EVALUACION CON CONTROLES'!R21 -> Etapa Precontractual
B17: 7 | C17: =+'EVALUACION CON CONTROLES'!C22:F22 -> Presentación de reclamos de terceros sobre la selección del oferente que retrasen el perfeccionamiento del contrato. | D17: =+'EVALUACION CON CONTROLES'!B22 -> CONTRATACIÓN | E17: =VLOOKUP(C17,'IDENTIFICACION Y ANALISIS'!$B$19:$F$66,3,FALSE) -> Estatal | F17: =VLOOKUP(C17,'IDENTIFICACION Y ANALISIS'!$B$19:$F$66,4,FALSE) -> Interno | G17: =EVALUACION!H23 -> Se retrase la contratación y por ende el inicio de la ejecución del contrato | H17: =+EVALUACION!I23 -> 1 | I17: =+EVALUACION!J23 -> 3 | J17: =+EVALUACION!K23 -> 4 | K17: =+EVALUACION!L23 -> BAJO | L17: SDG | M17: 100 | N17: ='EVALUACION CON CONTROLES'!G22 -> Verificación de los reclamos y sus especificaciones relacionadas con el perfeccionamiento del contrato. | O17: =+'EVALUACION CON CONTROLES'!I22 -> 1 | P17: =I17-1 -> 2 | Q17: =+'EVALUACION CON CONTROLES'!K22 -> 3 | R17: =+'EVALUACION CON CONTROLES'!L22 -> BAJO | S17: =+'EVALUACION CON CONTROLES'!M22 -> No | T17: =+'EVALUACION CON CONTROLES'!N22 -> Alcaldia Local | U17: =+'EVALUACION CON CONTROLES'!O22 -> Indeterminado durante la etapa precontractual | V17: =+'EVALUACION CON CONTROLES'!P22 -> Indeterminado durante la etapa precontractual | W17: =+'EVALUACION CON CONTROLES'!Q22 -> En supervisión de las actividades precontractuales | X17: =+'EVALUACION CON CONTROLES'!R22 -> Etapa Precontractual
B18: 8 | C18: =+'EVALUACION CON CONTROLES'!C23:F23 -> Riesgo de que no se firme el contrato. | D18: =+'EVALUACION CON CONTROLES'!B23 -> CONTRATACIÓN | E18: =VLOOKUP(C18,'IDENTIFICACION Y ANALISIS'!$B$19:$F$66,3,FALSE) -> Estatal | F18: =VLOOKUP(C18,'IDENTIFICACION Y ANALISIS'!$B$19:$F$66,4,FALSE) -> Interno | G18: =EVALUACION!H24 -> Incumplimiento presupuestal, pérdida de oportunidades estratégicas, reasignación de recursos, costos adicionales con posible pérdida de condiciones favorables, demandas, conflictos contractuales, perdida de confianza en los oferentes, necesidad de reiniciar el proyecto, responsabilidad administrativa o penal. | H18: =+EVALUACION!I24 -> 1 | I18: =+EVALUACION!J24 -> 3 | J18: =+EVALUACION!K24 -> 4 | K18: =+EVALUACION!L24 -> BAJO | L18: SDG | M18: 100 | N18: ='EVALUACION CON CONTROLES'!G23 -> Para la fase de la firma del contrato, ya se ha ejecutado todas las actividades de planeación, selección y verificación por las partes interesadas, además cuenta con la valoración de un comité interdisciplinario que ha revisado cada documento para asegurar su valides, y durante la fase de selección cada fase en realizada por el profesional de apoyo al proceso y validada por profesionales jurídicos, financieros, operativos. | O18: =+'EVALUACION CON CONTROLES'!I23 -> 1 | P18: =I18-1 -> 2 | Q18: =+'EVALUACION CON CONTROLES'!K23 -> 3 | R18: =+'EVALUACION CON CONTROLES'!L23 -> BAJO | S18: =+'EVALUACION CON CONTROLES'!M23 -> No | T18: =+'EVALUACION CON CONTROLES'!N23 -> Alcaldia Local | U18: =+'EVALUACION CON CONTROLES'!O23 -> Indeterminado durante la etapa precontractual | V18: =+'EVALUACION CON CONTROLES'!P23 -> De principio a fin de las actividades del contrato | W18: =+'EVALUACION CON CONTROLES'!Q23 -> Seguimiento y revisión de los elementos necesarios para el desarrollo de cada actividad y sus fechas estimadas. | X18: =+'EVALUACION CON CONTROLES'!R23 -> Etapa Precontractual
B19: 9 | C19: =+'EVALUACION CON CONTROLES'!C24:F24 -> Baja participación comunitaria por Falta de difusión o desinterés | D19: =+'EVALUACION CON CONTROLES'!B24 -> EJECUCIÓN | E19: =VLOOKUP(C19,'IDENTIFICACION Y ANALISIS'!$B$19:$F$66,3,FALSE) -> Especifico | F19: =VLOOKUP(C19,'IDENTIFICACION Y ANALISIS'!$B$19:$F$66,4,FALSE) -> Interno | G19: =EVALUACION!H25 -> que no se pueda impactar a tola la población que se espera en la localidad | H19: =+EVALUACION!I25 -> 2 | I19: =+EVALUACION!J25 -> 4 | J19: =+EVALUACION!K25 -> 6 | K19: =+EVALUACION!L25 -> ALTO | L19: CONTRATISTA Y SDG | M19: 80/20 | N19: ='EVALUACION CON CONTROLES'!G24 -> Elaboración e implementación de un Plan de Comunicaciones del Proyecto con segmentación de públicos (comunidades, administraciones, visitantes). Definición de metas de cobertura e indicadores de participación (%). Coordinación formal con líderes comunitarios, juntas de acción comunal y administraciones. | O19: =+'EVALUACION CON CONTROLES'!I24 -> 2 | P19: =I19-1 -> 3 | Q19: =+'EVALUACION CON CONTROLES'!K24 -> 5 | R19: =+'EVALUACION CON CONTROLES'!L24 -> MEDIO | S19: =+'EVALUACION CON CONTROLES'!M24 -> No | T19: =+'EVALUACION CON CONTROLES'!N24 -> Contratante | U19: =+'EVALUACION CON CONTROLES'!O24 -> Al momento de iniciar el contrato en la primera reunión tecnica | V19: =+'EVALUACION CON CONTROLES'!P24 -> De principio a fin de las actividades del contrato | W19: =+'EVALUACION CON CONTROLES'!Q24 -> Seguimiento y revisión de los elementos necesarios para el desarrollo de cada actividad y sus fechas estimadas. | X19: =+'EVALUACION CON CONTROLES'!R24 -> Durante la ejecución del contrato
B20: 10 | C20: =+'EVALUACION CON CONTROLES'!C25:F25 -> Retrasos operativos por problemas logísticos o planificación | D20: =+'EVALUACION CON CONTROLES'!B25 -> EJECUCIÓN | E20: =VLOOKUP(C20,'IDENTIFICACION Y ANALISIS'!$B$19:$F$66,3,FALSE) -> General | F20: =VLOOKUP(C20,'IDENTIFICACION Y ANALISIS'!$B$19:$F$66,4,FALSE) -> Externo | G20: =EVALUACION!H26 -> que no se puedan ejecutar las actividades de acuerdo al cronograma planteado | H20: =+EVALUACION!I26 -> 1 | I20: =+EVALUACION!J26 -> 5 | J20: =+EVALUACION!K26 -> 6 | K20: =+EVALUACION!L26 -> ALTO | L20: CONTRATISTA Y SDG | M20: 80/20 | N20: ='EVALUACION CON CONTROLES'!G25 -> Elaboración de cronograma detallado. Revisión periódica de avance (seguimiento semanal). Definición de un plan de contingencia. | O20: =+'EVALUACION CON CONTROLES'!I25 -> 1 | P20: =I20-1 -> 4 | Q20: =+'EVALUACION CON CONTROLES'!K25 -> 5 | R20: =+'EVALUACION CON CONTROLES'!L25 -> MEDIO | S20: =+'EVALUACION CON CONTROLES'!M25 -> No | T20: =+'EVALUACION CON CONTROLES'!N25 -> Contratante | U20: =+'EVALUACION CON CONTROLES'!O25 -> Al momento de iniciar el contrato en la primera reunión tecnica | V20: =+'EVALUACION CON CONTROLES'!P25 -> De principio a fin de las actividades del contrato | W20: =+'EVALUACION CON CONTROLES'!Q25 -> Seguimiento y revisión de los elementos necesarios para el desarrollo de cada actividad y sus fechas estimadas. | X20: =+'EVALUACION CON CONTROLES'!R25 -> Durante la ejecución del contrato
B21: 11 | C21: =+'EVALUACION CON CONTROLES'!C26:F26 -> Condiciones climáticas adversas que afecten la realización de actividades en campo. | D21: =+'EVALUACION CON CONTROLES'!B26 -> EJECUCIÓN | E21: =VLOOKUP(C21,'IDENTIFICACION Y ANALISIS'!$B$19:$F$66,3,FALSE) -> General | F21: =VLOOKUP(C21,'IDENTIFICACION Y ANALISIS'!$B$19:$F$66,4,FALSE) -> Externo | G21: =EVALUACION!H27 -> que no se puedan ejecutar las actividades de acuerdo al cronograma planteado | H21: =+EVALUACION!I27 -> 2 | I21: =+EVALUACION!J27 -> 4 | J21: =+EVALUACION!K27 -> 6 | K21: =+EVALUACION!L27 -> ALTO | L21: CONTRATISTA Y SDG | M21: 80/20 | N21: ='EVALUACION CON CONTROLES'!G26 -> Definición de protocolos de reprogramación. Monitoreo diario de pronóstico meteorológico. Identificación de espacios alternos cubiertos. | O21: =+'EVALUACION CON CONTROLES'!I26 -> 2 | P21: =I21-1 -> 3 | Q21: =+'EVALUACION CON CONTROLES'!K26 -> 5 | R21: =+'EVALUACION CON CONTROLES'!L26 -> MEDIO | S21: =+'EVALUACION CON CONTROLES'!M26 -> No | T21: =+'EVALUACION CON CONTROLES'!N26 -> Contratante | U21: =+'EVALUACION CON CONTROLES'!O26 -> Al momento de iniciar el contrato en la primera reunión tecnica | V21: =+'EVALUACION CON CONTROLES'!P26 -> De principio a fin de las actividades del contrato | W21: =+'EVALUACION CON CONTROLES'!Q26 -> Seguimiento y revisión de los elementos necesarios para el desarrollo de cada actividad y sus fechas estimadas. | X21: =+'EVALUACION CON CONTROLES'!R26 -> Durante la ejecución del contrato
B22: 12 | C22: =+'EVALUACION CON CONTROLES'!C27:F27 -> Incumplimiento normativo en la ejecución de actividades en espacio publico por desconocimiento de requisitos | D22: =+'EVALUACION CON CONTROLES'!B27 -> EJECUCIÓN | E22: =VLOOKUP(C22,'IDENTIFICACION Y ANALISIS'!$B$19:$F$66,3,FALSE) -> General | F22: =VLOOKUP(C22,'IDENTIFICACION Y ANALISIS'!$B$19:$F$66,4,FALSE) -> Externo | G22: =EVALUACION!H28 -> que no se puedan ejecutar las actividades de acuerdo al cronograma planteado | H22: =+EVALUACION!I28 -> 1 | I22: =+EVALUACION!J28 -> 4 | J22: =+EVALUACION!K28 -> 5 | K22: =+EVALUACION!L28 -> MEDIO | L22: CONTRATISTA Y SDG | M22: 80/20 | N22: ='EVALUACION CON CONTROLES'!G27 -> Elaboración de matriz de requisitos legales aplicables (SST, uso de espacio público, ambiental). Gestión de permisos escritos con entidades y administraciones. Validación jurídica previa de actividades. | O22: =+'EVALUACION CON CONTROLES'!I27 -> 1 | P22: =I22-1 -> 3 | Q22: =+'EVALUACION CON CONTROLES'!K27 -> 4 | R22: =+'EVALUACION CON CONTROLES'!L27 -> BAJO | S22: =+'EVALUACION CON CONTROLES'!M27 -> No | T22: =+'EVALUACION CON CONTROLES'!N27 -> Contratante | U22: =+'EVALUACION CON CONTROLES'!O27 -> Al momento de iniciar el contrato en la primera reunión tecnica | V22: =+'EVALUACION CON CONTROLES'!P27 -> De principio a fin de las actividades del contrato | W22: =+'EVALUACION CON CONTROLES'!Q27 -> Seguimiento y revisión de los elementos necesarios para el desarrollo de cada actividad y sus fechas estimadas. | X22: =+'EVALUACION CON CONTROLES'!R27 -> Durante la ejecución del contrato
B23: 13 | C23: =+'EVALUACION CON CONTROLES'!C28:F28 -> Limitación de recursos por falta de presupuesto o personal insuficiente | D23: =+'EVALUACION CON CONTROLES'!B28 -> EJECUCIÓN | E23: =VLOOKUP(C23,'IDENTIFICACION Y ANALISIS'!$B$19:$F$66,3,FALSE) -> General | F23: =VLOOKUP(C23,'IDENTIFICACION Y ANALISIS'!$B$19:$F$66,4,FALSE) -> Externo | G23: =EVALUACION!H29 -> que no se puedan ejecutar las actividades de acuerdo al cronograma planteado | H23: =+EVALUACION!I29 -> 1 | I23: =+EVALUACION!J29 -> 3 | J23: =+EVALUACION!K29 -> 4 | K23: =+EVALUACION!L29 -> BAJO | L23: CONTRATISTA Y SDG | M23: 80/20 | N23: ='EVALUACION CON CONTROLES'!G28 -> Presupuesto detallado con control de ejecución | O23: =+'EVALUACION CON CONTROLES'!I28 -> 1 | P23: =I23-1 -> 2 | Q23: =+'EVALUACION CON CONTROLES'!K28 -> 3 | R23: =+'EVALUACION CON CONTROLES'!L28 -> BAJO | S23: =+'EVALUACION CON CONTROLES'!M28 -> No | T23: =+'EVALUACION CON CONTROLES'!N28 -> Contratante | U23: =+'EVALUACION CON CONTROLES'!O28 -> Al momento de iniciar el contrato en la primera reunión tecnica | V23: =+'EVALUACION CON CONTROLES'!P28 -> De principio a fin de las actividades del contrato | W23: =+'EVALUACION CON CONTROLES'!Q28 -> Seguimiento y revisión de los elementos necesarios para el desarrollo de cada actividad y sus fechas estimadas. | X23: =+'EVALUACION CON CONTROLES'!R28 -> Durante la ejecución del contrato
