Workbook
Name _\a: #REF!
Name _\b: #REF!
Name _\c: #REF!
Name _\eliminar: [1]RESUM96!#REF!
Name _\eliminar1: [1]RESUM96!#REF!
Name _\m: #REF!
Name _\q: #REF!
Name _\w: #N/A
Name _\z: #REF!
Name ___________________l9001: '[2]Plan auditoría'!#REF!
Name __________________l9001: '[2]Plan auditoría'!#REF!
Name ________________A16403: #REF!
Name ________________l9001: '[2]Plan auditoría'!#REF!
Name _______________A164063: #REF!
Name _______________EST1: #REF!
Name _______________EST10: #REF!
Name _______________EST11: #REF!
Name _______________EST12: #REF!
Name _______________EST13: #REF!
Name _______________EST14: #REF!
Name _______________EST15: #REF!
Name _______________EST16: #REF!
Name _______________EST17: #REF!
Name _______________EST18: #REF!
Name _______________EST19: #REF!
Name _______________EST2: #REF!
Name _______________EST3: #REF!
Name _______________EST4: #REF!
Name _______________EST5: #REF!
Name _______________EST6: #REF!
Name _______________EST7: #REF!
Name _______________EST8: #REF!
Name _______________EST9: #REF!
Name _______________EXC1: #REF!
Name _______________EXC10: #REF!
Name _______________EXC11: #REF!
Name _______________EXC12: #REF!
Name _______________EXC2: #REF!
Name _______________EXC3: #REF!
Name _______________EXC4: #REF!
Name _______________EXC5: #REF!
Name _______________EXC6: #REF!
Name _______________EXC7: #REF!
Name _______________EXC8: #REF!
Name _______________EXC9: #REF!
Name _______________l9001: '[2]Plan auditoría'!#REF!
Name ______________A16400: #REF!
Name ______________A16463: #REF!
Name ______________l9001: '[2]Plan auditoría'!#REF!
Name _____________A163163: #REF!
Name _____________A1640016: #REF!
Name _____________A1640033: #REF!
Name _____________A164004: #REF!
Name _____________A1640336: #REF!
Name _____________A164132: #REF!
Name _____________A1641336: #REF!
Name _____________EST1: #REF!
Name _____________EST10: #REF!
Name _____________EST11: #REF!
Name _____________EST12: #REF!

Sheet 1.4
A1: MEMORIA DE CANTIDADES DE OBRAS
A2: DEPARTAMENTO DE BOLIVAR
A3: CORREGIMIENTO DE CAUSADO, JURISDICCION DEL MUNICIPIO DE MARGARITA
A5: OBJETO DEL PROYECTO | G5: CAPITULO | H5: ='PRESUPUESTO '!B12 -> 1 | I5: ITEM | J5: ='PRESUPUESTO '!#REF! -> #REF! | K5: ='PRESUPUESTO '!B18 -> 2.1 | M5: UNIDAD
A6: ='PRESUPUESTO '!E5 -> RECUPERACION Y CONSERVACIÓN DE ÁREAS DE IMPORTANCIA ESTRATEGICA DE LA ZONA DE INFLUENCIA DEL COMPLEJO CENAGOSO DE CASCALOA DE MAGANGUÉ, BOLÍVAR | G6: =VLOOKUP(H5,'PRESUPUESTO '!B12:K26,2) -> PRELIMINARES Y COMPLEMENTARIAS | I6: =VLOOKUP(J5,'PRESUPUESTO '!B12:K26,5) -> #REF! | M6: =VLOOKUP(J5,'PRESUPUESTO '!B12:K26,6) -> #REF!
A8: LOCALIZACION | G8: DESCRIPCION / ELEMENTO / AREA | H8: UNIDAD | I8: CANTIDAD | J8: LONGITUD | K8: ANCHO | L8: ALTO | M8: SUB TOTAL
H9: =IF(G9="","",$M$6) | M9: =PRODUCT(I9:L9) -> 0
H10: =IF(G10="","",$M$6) | M10: =PRODUCT(I10:L10) -> 0
H11: =IF(G11="","",$M$6) | M11: =PRODUCT(I11:L11) -> 0
H12: =IF(G12="","",$M$6) | M12: =PRODUCT(I12:L12) -> 0
H13: =IF(G13="","",$M$6) | M13: =PRODUCT(I13:L13) -> 0
H14: =IF(G14="","",$M$6) | M14: =PRODUCT(I14:L14) -> 0
H15: =IF(G15="","",$M$6) | M15: =PRODUCT(I15:L15) -> 0
H16: =IF(G16="","",$M$6) | M16: =PRODUCT(I16:L16) -> 0
H17: =IF(G17="","",$M$6) | M17: =PRODUCT(I17:L17) -> 0
H18: =IF(G18="","",$M$6) | M18: =PRODUCT(I18:L18) -> 0
H19: =IF(G19="","",$M$6) | M19: =PRODUCT(I19:L19) -> 0
H20: =IF(G20="","",$M$6) | M20: =PRODUCT(I20:L20) -> 0
... H23: =IF(G23="","",$M$6) | M23: =PRODUCT(I23:L23) -> 0
A24: GRAFICA / ESQUEMA | H24: =IF(G24="","",$M$6)
G26: TOTAL CANTIDAD | H26: =M6 -> #REF! | M26: =SUM(M9:M24) -> 0
G30: OBSERVACIONES;
G33: Planos:
G35: Informe:
G40: ='PRESUPUESTO '!B42 -> 0
G41: ='PRESUPUESTO '!B43 -> 0
G42: ='PRESUPUESTO '!B44 -> 0

Sheet 1.5
A1: MEMORIA DE CANTIDADES DE OBRAS
A2: DEPARTAMENTO DE BOLIVAR
A3: CORREGIMIENTO DE CAUSADO, JURISDICCION DEL MUNICIPIO DE MARGARITA
A5: OBJETO DEL PROYECTO | G5: CAPITULO | H5: ='PRESUPUESTO '!B12 -> 1 | I5: ITEM | J5: ='PRESUPUESTO '!#REF! -> #REF! | K5: ='PRESUPUESTO '!B18 -> 2.1 | M5: UNIDAD
A6: ='PRESUPUESTO '!E5 -> RECUPERACION Y CONSERVACIÓN DE ÁREAS DE IMPORTANCIA ESTRATEGICA DE LA ZONA DE INFLUENCIA DEL COMPLEJO CENAGOSO DE CASCALOA DE MAGANGUÉ, BOLÍVAR | G6: =VLOOKUP(H5,'PRESUPUESTO '!B12:K26,2) -> PRELIMINARES Y COMPLEMENTARIAS | I6: =VLOOKUP(J5,'PRESUPUESTO '!B12:K26,5) -> #REF! | M6: =VLOOKUP(J5,'PRESUPUESTO '!B12:K26,6) -> #REF!
A8: LOCALIZACION | G8: DESCRIPCION / ELEMENTO / AREA | H8: UNIDAD | I8: CANTIDAD | J8: LONGITUD | K8: ANCHO | L8: ALTO | M8: SUB TOTAL
H9: =IF(G9="","",$M$6) | M9: =PRODUCT(I9:L9) -> 0
H10: =IF(G10="","",$M$6) | M10: =PRODUCT(I10:L10) -> 0
H11: =IF(G11="","",$M$6) | M11: =PRODUCT(I11:L11) -> 0
H12: =IF(G12="","",$M$6) | M12: =PRODUCT(I12:L12) -> 0
H13: =IF(G13="","",$M$6) | M13: =PRODUCT(I13:L13) -> 0
H14: =IF(G14="","",$M$6) | M14: =PRODUCT(I14:L14) -> 0
H15: =IF(G15="","",$M$6) | M15: =PRODUCT(I15:L15) -> 0
H16: =IF(G16="","",$M$6) | M16: =PRODUCT(I16:L16) -> 0
H17: =IF(G17="","",$M$6) | M17: =PRODUCT(I17:L17) -> 0
H18: =IF(G18="","",$M$6) | M18: =PRODUCT(I18:L18) -> 0
H19: =IF(G19="","",$M$6) | M19: =PRODUCT(I19:L19) -> 0
H20: =IF(G20="","",$M$6) | M20: =PRODUCT(I20:L20) -> 0
... H23: =IF(G23="","",$M$6) | M23: =PRODUCT(I23:L23) -> 0
A24: GRAFICA / ESQUEMA | H24: =IF(G24="","",$M$6)
G26: TOTAL CANTIDAD | H26: =M6 -> #REF! | M26: =SUM(M9:M24) -> 0
G30: OBSERVACIONES;
G33: Planos:
G35: Informe:
G40: ='PRESUPUESTO '!B42 -> 0
G41: ='PRESUPUESTO '!B43 -> 0
G42: ='PRESUPUESTO '!B44 -> 0

Sheet 1.6
A1: MEMORIA DE CANTIDADES DE OBRAS
A2: DEPARTAMENTO DE BOLIVAR
A3: CORREGIMIENTO DE CAUSADO, JURISDICCION DEL MUNICIPIO DE MARGARITA
A5: OBJETO DEL PROYECTO | G5: CAPITULO | H5: ='PRESUPUESTO '!B12 -> 1 | I5: ITEM | J5: ='PRESUPUESTO '!#REF! -> #REF! | K5: ='PRESUPUESTO '!B18 -> 2.1 | M5: UNIDAD
A6: ='PRESUPUESTO '!E5 -> RECUPERACION Y CONSERVACIÓN DE ÁREAS DE IMPORTANCIA ESTRATEGICA DE LA ZONA DE INFLUENCIA DEL COMPLEJO CENAGOSO DE CASCALOA DE MAGANGUÉ, BOLÍVAR | G6: =VLOOKUP(H5,'PRESUPUESTO '!B12:K26,2) -> PRELIMINARES Y COMPLEMENTARIAS | I6: =VLOOKUP(J5,'PRESUPUESTO '!B12:K26,5) -> #REF! | M6: =VLOOKUP(J5,'PRESUPUESTO '!B12:K26,6) -> #REF!
A8: LOCALIZACION | G8: DESCRIPCION / ELEMENTO / AREA | H8: UNIDAD | I8: CANTIDAD | J8: LONGITUD | K8: ANCHO | L8: ALTO | M8: SUB TOTAL
H9: =IF(G9="","",$M$6) | M9: =PRODUCT(I9:L9) -> 0
H10: =IF(G10="","",$M$6) | M10: =PRODUCT(I10:L10) -> 0
H11: =IF(G11="","",$M$6) | M11: =PRODUCT(I11:L11) -> 0
H12: =IF(G12="","",$M$6) | M12: =PRODUCT(I12:L12) -> 0
H13: =IF(G13="","",$M$6) | M13: =PRODUCT(I13:L13) -> 0
H14: =IF(G14="","",$M$6) | M14: =PRODUCT(I14:L14) -> 0
H15: =IF(G15="","",$M$6) | M15: =PRODUCT(I15:L15) -> 0
H16: =IF(G16="","",$M$6) | M16: =PRODUCT(I16:L16) -> 0
H17: =IF(G17="","",$M$6) | M17: =PRODUCT(I17:L17) -> 0
H18: =IF(G18="","",$M$6) | M18: =PRODUCT(I18:L18) -> 0
H19: =IF(G19="","",$M$6) | M19: =PRODUCT(I19:L19) -> 0
H20: =IF(G20="","",$M$6) | M20: =PRODUCT(I20:L20) -> 0
... H23: =IF(G23="","",$M$6) | M23: =PRODUCT(I23:L23) -> 0
A24: GRAFICA / ESQUEMA | H24: =IF(G24="","",$M$6)
G26: TOTAL CANTIDAD | H26: =M6 -> #REF! | M26: =SUM(M9:M24) -> 0
G30: OBSERVACIONES;
G33: Planos:
G35: Informe:
G40: ='PRESUPUESTO '!B42 -> 0
G41: ='PRESUPUESTO '!B43 -> 0
G42: ='PRESUPUESTO '!B44 -> 0

Sheet 2.4
A1: MEMORIA DE CANTIDADES DE OBRAS
A2: DEPARTAMENTO DE BOLIVAR
A3: CORREGIMIENTO DE CAUSADO, JURISDICCION DEL MUNICIPIO DE MARGARITA
A5: OBJETO DEL PROYECTO | G5: CAPITULO | H5: ='PRESUPUESTO '!B17 -> 2 | I5: ITEM | J5: ='PRESUPUESTO '!#REF! -> #REF! | K5: ='PRESUPUESTO '!B18 -> 2.1 | M5: UNIDAD
A6: ='PRESUPUESTO '!E5 -> RECUPERACION Y CONSERVACIÓN DE ÁREAS DE IMPORTANCIA ESTRATEGICA DE LA ZONA DE INFLUENCIA DEL COMPLEJO CENAGOSO DE CASCALOA DE MAGANGUÉ, BOLÍVAR | G6: =VLOOKUP(H5,'PRESUPUESTO '!B12:K26,2) -> EXPLANACIONES | I6: =VLOOKUP(J5,'PRESUPUESTO '!B12:K26,5) -> #REF! | M6: =VLOOKUP(J5,'PRESUPUESTO '!B12:K26,6) -> #REF!
A8: LOCALIZACION | G8: DESCRIPCION / ELEMENTO / AREA | H8: UNIDAD | I8: CANTIDAD | J8: LONGITUD | K8: ANCHO | L8: ALTO | M8: SUB TOTAL
H9: =IF(G9="","",$M$6) | M9: =PRODUCT(I9:L9) -> 0
H10: =IF(G10="","",$M$6) | M10: =PRODUCT(I10:L10) -> 0
H11: =IF(G11="","",$M$6) | M11: =PRODUCT(I11:L11) -> 0
H12: =IF(G12="","",$M$6) | M12: =PRODUCT(I12:L12) -> 0
H13: =IF(G13="","",$M$6) | M13: =PRODUCT(I13:L13) -> 0
H14: =IF(G14="","",$M$6) | M14: =PRODUCT(I14:L14) -> 0
H15: =IF(G15="","",$M$6) | M15: =PRODUCT(I15:L15) -> 0
H16: =IF(G16="","",$M$6) | M16: =PRODUCT(I16:L16) -> 0
H17: =IF(G17="","",$M$6) | M17: =PRODUCT(I17:L17) -> 0
H18: =IF(G18="","",$M$6) | M18: =PRODUCT(I18:L18) -> 0
H19: =IF(G19="","",$M$6) | M19: =PRODUCT(I19:L19) -> 0
H20: =IF(G20="","",$M$6) | M20: =PRODUCT(I20:L20) -> 0
... H23: =IF(G23="","",$M$6) | M23: =PRODUCT(I23:L23) -> 0
A24: GRAFICA / ESQUEMA | H24: =IF(G24="","",$M$6)
G26: TOTAL CANTIDAD | H26: =M6 -> #REF! | M26: =SUM(M9:M24) -> 0
G30: OBSERVACIONES;
G33: Planos:
G35: Informe:
G40: ='PRESUPUESTO '!B42 -> 0
G41: ='PRESUPUESTO '!B43 -> 0
G42: ='PRESUPUESTO '!B44 -> 0

Sheet 2.5
A1: MEMORIA DE CANTIDADES DE OBRAS
A2: DEPARTAMENTO DE BOLIVAR
A3: CORREGIMIENTO DE CAUSADO, JURISDICCION DEL MUNICIPIO DE MARGARITA
A5: OBJETO DEL PROYECTO | G5: CAPITULO | H5: ='PRESUPUESTO '!B17 -> 2 | I5: ITEM | J5: ='PRESUPUESTO '!#REF! -> #REF! | K5: ='PRESUPUESTO '!B18 -> 2.1 | M5: UNIDAD
A6: ='PRESUPUESTO '!E5 -> RECUPERACION Y CONSERVACIÓN DE ÁREAS DE IMPORTANCIA ESTRATEGICA DE LA ZONA DE INFLUENCIA DEL COMPLEJO CENAGOSO DE CASCALOA DE MAGANGUÉ, BOLÍVAR | G6: =VLOOKUP(H5,'PRESUPUESTO '!B12:K26,2) -> EXPLANACIONES | I6: =VLOOKUP(J5,'PRESUPUESTO '!B12:K26,5) -> #REF! | M6: =VLOOKUP(J5,'PRESUPUESTO '!B12:K26,6) -> #REF!
A8: LOCALIZACION | G8: DESCRIPCION / ELEMENTO / AREA | H8: UNIDAD | I8: CANTIDAD | J8: LONGITUD | K8: ANCHO | L8: ALTO | M8: SUB TOTAL
H9: =IF(G9="","",$M$6) | M9: =PRODUCT(I9:L9) -> 0
H10: =IF(G10="","",$M$6) | M10: =PRODUCT(I10:L10) -> 0
H11: =IF(G11="","",$M$6) | M11: =PRODUCT(I11:L11) -> 0
H12: =IF(G12="","",$M$6) | M12: =PRODUCT(I12:L12) -> 0
H13: =IF(G13="","",$M$6) | M13: =PRODUCT(I13:L13) -> 0
H14: =IF(G14="","",$M$6) | M14: =PRODUCT(I14:L14) -> 0
H15: =IF(G15="","",$M$6) | M15: =PRODUCT(I15:L15) -> 0
H16: =IF(G16="","",$M$6) | M16: =PRODUCT(I16:L16) -> 0
H17: =IF(G17="","",$M$6) | M17: =PRODUCT(I17:L17) -> 0
H18: =IF(G18="","",$M$6) | M18: =PRODUCT(I18:L18) -> 0
H19: =IF(G19="","",$M$6) | M19: =PRODUCT(I19:L19) -> 0
H20: =IF(G20="","",$M$6) | M20: =PRODUCT(I20:L20) -> 0
... H23: =IF(G23="","",$M$6) | M23: =PRODUCT(I23:L23) -> 0
A24: GRAFICA / ESQUEMA | H24: =IF(G24="","",$M$6)
G26: TOTAL CANTIDAD | H26: =M6 -> #REF! | M26: =SUM(M9:M24) -> 0
G30: OBSERVACIONES;
G33: Planos:
G35: Informe:
G40: ='PRESUPUESTO '!B42 -> 0
G41: ='PRESUPUESTO '!B43 -> 0
G42: ='PRESUPUESTO '!B44 -> 0

Sheet 2.6
A1: MEMORIA DE CANTIDADES DE OBRAS
A2: DEPARTAMENTO DE BOLIVAR
A3: CORREGIMIENTO DE CAUSADO, JURISDICCION DEL MUNICIPIO DE MARGARITA
A5: OBJETO DEL PROYECTO | G5: CAPITULO | H5: ='PRESUPUESTO '!B17 -> 2 | I5: ITEM | J5: ='PRESUPUESTO '!#REF! -> #REF! | K5: ='PRESUPUESTO '!B18 -> 2.1 | M5: UNIDAD
A6: ='PRESUPUESTO '!E5 -> RECUPERACION Y CONSERVACIÓN DE ÁREAS DE IMPORTANCIA ESTRATEGICA DE LA ZONA DE INFLUENCIA DEL COMPLEJO CENAGOSO DE CASCALOA DE MAGANGUÉ, BOLÍVAR | G6: =VLOOKUP(H5,'PRESUPUESTO '!B12:K26,2) -> EXPLANACIONES | I6: =VLOOKUP(J5,'PRESUPUESTO '!B12:K26,5) -> #REF! | M6: =VLOOKUP(J5,'PRESUPUESTO '!B12:K26,6) -> #REF!
A8: LOCALIZACION | G8: DESCRIPCION / ELEMENTO / AREA | H8: UNIDAD | I8: CANTIDAD | J8: LONGITUD | K8: ANCHO | L8: ALTO | M8: SUB TOTAL
H9: =IF(G9="","",$M$6) | M9: =PRODUCT(I9:L9) -> 0
H10: =IF(G10="","",$M$6) | M10: =PRODUCT(I10:L10) -> 0
H11: =IF(G11="","",$M$6) | M11: =PRODUCT(I11:L11) -> 0
H12: =IF(G12="","",$M$6) | M12: =PRODUCT(I12:L12) -> 0
H13: =IF(G13="","",$M$6) | M13: =PRODUCT(I13:L13) -> 0
H14: =IF(G14="","",$M$6) | M14: =PRODUCT(I14:L14) -> 0
H15: =IF(G15="","",$M$6) | M15: =PRODUCT(I15:L15) -> 0
H16: =IF(G16="","",$M$6) | M16: =PRODUCT(I16:L16) -> 0
H17: =IF(G17="","",$M$6) | M17: =PRODUCT(I17:L17) -> 0
H18: =IF(G18="","",$M$6) | M18: =PRODUCT(I18:L18) -> 0
H19: =IF(G19="","",$M$6) | M19: =PRODUCT(I19:L19) -> 0
H20: =IF(G20="","",$M$6) | M20: =PRODUCT(I20:L20) -> 0
... H23: =IF(G23="","",$M$6) | M23: =PRODUCT(I23:L23) -> 0
A24: GRAFICA / ESQUEMA | H24: =IF(G24="","",$M$6)
G26: TOTAL CANTIDAD | H26: =M6 -> #REF! | M26: =SUM(M9:M24) -> 0
G30: OBSERVACIONES;
G33: Planos:
G35: Informe:
G40: ='PRESUPUESTO '!B42 -> 0
G41: ='PRESUPUESTO '!B43 -> 0
G42: ='PRESUPUESTO '!B44 -> 0

Sheet 3.2
A1: MEMORIA DE CANTIDADES DE OBRAS
A2: DEPARTAMENTO DE BOLIVAR
A3: CORREGIMIENTO DE CAUSADO, JURISDICCION DEL MUNICIPIO DE MARGARITA
A5: OBJETO DEL PROYECTO | G5: CAPITULO | H5: ='PRESUPUESTO '!B23 -> 3 | I5: ITEM | J5: ='PRESUPUESTO '!#REF! -> #REF! | K5: ='PRESUPUESTO '!B18 -> 2.1 | M5: UNIDAD
A6: ='PRESUPUESTO '!E5 -> RECUPERACION Y CONSERVACIÓN DE ÁREAS DE IMPORTANCIA ESTRATEGICA DE LA ZONA DE INFLUENCIA DEL COMPLEJO CENAGOSO DE CASCALOA DE MAGANGUÉ, BOLÍVAR | G6: =VLOOKUP(H5,'PRESUPUESTO '!B12:K26,2) -> SUBBASE,BASE Y AFIRMADOS | I6: =VLOOKUP(J5,'PRESUPUESTO '!B12:K26,5) -> #REF! | M6: =VLOOKUP(J5,'PRESUPUESTO '!B12:K26,6) -> #REF!
A8: LOCALIZACION | G8: DESCRIPCION / ELEMENTO / AREA | H8: UNIDAD | I8: CANTIDAD | J8: LONGITUD | K8: ANCHO | L8: ALTO | M8: SUB TOTAL
H9: =IF(G9="","",$M$6) | M9: =PRODUCT(I9:L9) -> 0
H10: =IF(G10="","",$M$6) | M10: =PRODUCT(I10:L10) -> 0
H11: =IF(G11="","",$M$6) | M11: =PRODUCT(I11:L11) -> 0
H12: =IF(G12="","",$M$6) | M12: =PRODUCT(I12:L12) -> 0
H13: =IF(G13="","",$M$6) | M13: =PRODUCT(I13:L13) -> 0
H14: =IF(G14="","",$M$6) | M14: =PRODUCT(I14:L14) -> 0
H15: =IF(G15="","",$M$6) | M15: =PRODUCT(I15:L15) -> 0
H16: =IF(G16="","",$M$6) | M16: =PRODUCT(I16:L16) -> 0
H17: =IF(G17="","",$M$6) | M17: =PRODUCT(I17:L17) -> 0
H18: =IF(G18="","",$M$6) | M18: =PRODUCT(I18:L18) -> 0
H19: =IF(G19="","",$M$6) | M19: =PRODUCT(I19:L19) -> 0
H20: =IF(G20="","",$M$6) | M20: =PRODUCT(I20:L20) -> 0
... H23: =IF(G23="","",$M$6) | M23: =PRODUCT(I23:L23) -> 0
A24: GRAFICA / ESQUEMA | H24: =IF(G24="","",$M$6)
G26: TOTAL CANTIDAD | H26: =M6 -> #REF! | M26: =SUM(M9:M24) -> 0
G30: OBSERVACIONES;
G33: Planos:
G35: Informe:
G40: ='PRESUPUESTO '!B42 -> 0
G41: ='PRESUPUESTO '!B43 -> 0
G42: ='PRESUPUESTO '!B44 -> 0

Sheet 3.3
A1: MEMORIA DE CANTIDADES DE OBRAS
A2: DEPARTAMENTO DE BOLIVAR
A3: CORREGIMIENTO DE CAUSADO, JURISDICCION DEL MUNICIPIO DE MARGARITA
A5: OBJETO DEL PROYECTO | G5: CAPITULO | H5: ='PRESUPUESTO '!B23 -> 3 | I5: ITEM | J5: ='PRESUPUESTO '!#REF! -> #REF! | K5: ='PRESUPUESTO '!B18 -> 2.1 | M5: UNIDAD
A6: ='PRESUPUESTO '!E5 -> RECUPERACION Y CONSERVACIÓN DE ÁREAS DE IMPORTANCIA ESTRATEGICA DE LA ZONA DE INFLUENCIA DEL COMPLEJO CENAGOSO DE CASCALOA DE MAGANGUÉ, BOLÍVAR | G6: =VLOOKUP(H5,'PRESUPUESTO '!B12:K26,2) -> SUBBASE,BASE Y AFIRMADOS | I6: =VLOOKUP(J5,'PRESUPUESTO '!B12:K26,5) -> #REF! | M6: =VLOOKUP(J5,'PRESUPUESTO '!B12:K26,6) -> #REF!
A8: LOCALIZACION | G8: DESCRIPCION / ELEMENTO / AREA | H8: UNIDAD | I8: CANTIDAD | J8: LONGITUD | K8: ANCHO | L8: ALTO | M8: SUB TOTAL
H9: =IF(G9="","",$M$6) | M9: =PRODUCT(I9:L9) -> 0
H10: =IF(G10="","",$M$6) | M10: =PRODUCT(I10:L10) -> 0
H11: =IF(G11="","",$M$6) | M11: =PRODUCT(I11:L11) -> 0
H12: =IF(G12="","",$M$6) | M12: =PRODUCT(I12:L12) -> 0
H13: =IF(G13="","",$M$6) | M13: =PRODUCT(I13:L13) -> 0
H14: =IF(G14="","",$M$6) | M14: =PRODUCT(I14:L14) -> 0
H15: =IF(G15="","",$M$6) | M15: =PRODUCT(I15:L15) -> 0
H16: =IF(G16="","",$M$6) | M16: =PRODUCT(I16:L16) -> 0
H17: =IF(G17="","",$M$6) | M17: =PRODUCT(I17:L17) -> 0
H18: =IF(G18="","",$M$6) | M18: =PRODUCT(I18:L18) -> 0
H19: =IF(G19="","",$M$6) | M19: =PRODUCT(I19:L19) -> 0
H20: =IF(G20="","",$M$6) | M20: =PRODUCT(I20:L20) -> 0
... H23: =IF(G23="","",$M$6) | M23: =PRODUCT(I23:L23) -> 0
A24: GRAFICA / ESQUEMA | H24: =IF(G24="","",$M$6)
G26: TOTAL CANTIDAD | H26: =M6 -> #REF! | M26: =SUM(M9:M24) -> 0
G30: OBSERVACIONES;
G33: Planos:
G35: Informe:
G40: ='PRESUPUESTO '!B42 -> 0
G41: ='PRESUPUESTO '!B43 -> 0
G42: ='PRESUPUESTO '!B44 -> 0

Sheet 3.4
A1: MEMORIA DE CANTIDADES DE OBRAS
A2: DEPARTAMENTO DE BOLIVAR
A3: CORREGIMIENTO DE CAUSADO, JURISDICCION DEL MUNICIPIO DE MARGARITA
A5: OBJETO DEL PROYECTO | G5: CAPITULO | H5: ='PRESUPUESTO '!B23 -> 3 | I5: ITEM | J5: ='PRESUPUESTO '!#REF! -> #REF! | K5: ='PRESUPUESTO '!B18 -> 2.1 | M5: UNIDAD
A6: ='PRESUPUESTO '!E5 -> RECUPERACION Y CONSERVACIÓN DE ÁREAS DE IMPORTANCIA ESTRATEGICA DE LA ZONA DE INFLUENCIA DEL COMPLEJO CENAGOSO DE CASCALOA DE MAGANGUÉ, BOLÍVAR | G6: =VLOOKUP(H5,'PRESUPUESTO '!B12:K26,2) -> SUBBASE,BASE Y AFIRMADOS | I6: =VLOOKUP(J5,'PRESUPUESTO '!B12:K26,5) -> #REF! | M6: =VLOOKUP(J5,'PRESUPUESTO '!B12:K26,6) -> #REF!
A8: LOCALIZACION | G8: DESCRIPCION / ELEMENTO / AREA | H8: UNIDAD | I8: CANTIDAD | J8: LONGITUD | K8: ANCHO | L8: ALTO | M8: SUB TOTAL
H9: =IF(G9="","",$M$6) | M9: =PRODUCT(I9:L9) -> 0
H10: =IF(G10="","",$M$6) | M10: =PRODUCT(I10:L10) -> 0
H11: =IF(G11="","",$M$6) | M11: =PRODUCT(I11:L11) -> 0
H12: =IF(G12="","",$M$6) | M12: =PRODUCT(I12:L12) -> 0
H13: =IF(G13="","",$M$6) | M13: =PRODUCT(I13:L13) -> 0
H14: =IF(G14="","",$M$6) | M14: =PRODUCT(I14:L14) -> 0
H15: =IF(G15="","",$M$6) | M15: =PRODUCT(I15:L15) -> 0
H16: =IF(G16="","",$M$6) | M16: =PRODUCT(I16:L16) -> 0
H17: =IF(G17="","",$M$6) | M17: =PRODUCT(I17:L17) -> 0
H18: =IF(G18="","",$M$6) | M18: =PRODUCT(I18:L18) -> 0
H19: =IF(G19="","",$M$6) | M19: =PRODUCT(I19:L19) -> 0
H20: =IF(G20="","",$M$6) | M20: =PRODUCT(I20:L20) -> 0
... H23: =IF(G23="","",$M$6) | M23: =PRODUCT(I23:L23) -> 0
A24: GRAFICA / ESQUEMA | H24: =IF(G24="","",$M$6)
G26: TOTAL CANTIDAD | H26: =M6 -> #REF! | M26: =SUM(M9:M24) -> 0
G30: OBSERVACIONES;
G33: Planos:
G35: Informe:
G40: ='PRESUPUESTO '!B42 -> 0
G41: ='PRESUPUESTO '!B43 -> 0
G42: ='PRESUPUESTO '!B44 -> 0

Sheet 3.5
A1: MEMORIA DE CANTIDADES DE OBRAS
A2: DEPARTAMENTO DE BOLIVAR
A3: CORREGIMIENTO DE CAUSADO, JURISDICCION DEL MUNICIPIO DE MARGARITA
A5: OBJETO DEL PROYECTO | G5: CAPITULO | H5: ='PRESUPUESTO '!B23 -> 3 | I5: ITEM | J5: ='PRESUPUESTO '!#REF! -> #REF! | K5: ='PRESUPUESTO '!B18 -> 2.1 | M5: UNIDAD
A6: ='PRESUPUESTO '!E5 -> RECUPERACION Y CONSERVACIÓN DE ÁREAS DE IMPORTANCIA ESTRATEGICA DE LA ZONA DE INFLUENCIA DEL COMPLEJO CENAGOSO DE CASCALOA DE MAGANGUÉ, BOLÍVAR | G6: =VLOOKUP(H5,'PRESUPUESTO '!B12:K26,2) -> SUBBASE,BASE Y AFIRMADOS | I6: =VLOOKUP(J5,'PRESUPUESTO '!B12:K26,5) -> #REF! | M6: =VLOOKUP(J5,'PRESUPUESTO '!B12:K26,6) -> #REF!
A8: LOCALIZACION | G8: DESCRIPCION / ELEMENTO / AREA | H8: UNIDAD | I8: CANTIDAD | J8: LONGITUD | K8: ANCHO | L8: ALTO | M8: SUB TOTAL
H9: =IF(G9="","",$M$6) | M9: =PRODUCT(I9:L9) -> 0
H10: =IF(G10="","",$M$6) | M10: =PRODUCT(I10:L10) -> 0
H11: =IF(G11="","",$M$6) | M11: =PRODUCT(I11:L11) -> 0
H12: =IF(G12="","",$M$6) | M12: =PRODUCT(I12:L12) -> 0
H13: =IF(G13="","",$M$6) | M13: =PRODUCT(I13:L13) -> 0
H14: =IF(G14="","",$M$6) | M14: =PRODUCT(I14:L14) -> 0
H15: =IF(G15="","",$M$6) | M15: =PRODUCT(I15:L15) -> 0
H16: =IF(G16="","",$M$6) | M16: =PRODUCT(I16:L16) -> 0
H17: =IF(G17="","",$M$6) | M17: =PRODUCT(I17:L17) -> 0
H18: =IF(G18="","",$M$6) | M18: =PRODUCT(I18:L18) -> 0
H19: =IF(G19="","",$M$6) | M19: =PRODUCT(I19:L19) -> 0
H20: =IF(G20="","",$M$6) | M20: =PRODUCT(I20:L20) -> 0
... H23: =IF(G23="","",$M$6) | M23: =PRODUCT(I23:L23) -> 0
A24: GRAFICA / ESQUEMA | H24: =IF(G24="","",$M$6)
G26: TOTAL CANTIDAD | H26: =M6 -> #REF! | M26: =SUM(M9:M24) -> 0
G30: OBSERVACIONES;
G33: Planos:
G35: Informe:
G40: ='PRESUPUESTO '!B42 -> 0
G41: ='PRESUPUESTO '!B43 -> 0
G42: ='PRESUPUESTO '!B44 -> 0

Sheet 3.6
A1: MEMORIA DE CANTIDADES DE OBRAS
A2: DEPARTAMENTO DE BOLIVAR
A3: CORREGIMIENTO DE CAUSADO, JURISDICCION DEL MUNICIPIO DE MARGARITA
A5: OBJETO DEL PROYECTO | G5: CAPITULO | H5: ='PRESUPUESTO '!B23 -> 3 | I5: ITEM | J5: ='PRESUPUESTO '!#REF! -> #REF! | K5: ='PRESUPUESTO '!B18 -> 2.1 | M5: UNIDAD
A6: ='PRESUPUESTO '!E5 -> RECUPERACION Y CONSERVACIÓN DE ÁREAS DE IMPORTANCIA ESTRATEGICA DE LA ZONA DE INFLUENCIA DEL COMPLEJO CENAGOSO DE CASCALOA DE MAGANGUÉ, BOLÍVAR | G6: =VLOOKUP(H5,'PRESUPUESTO '!B12:K26,2) -> SUBBASE,BASE Y AFIRMADOS | I6: =VLOOKUP(J5,'PRESUPUESTO '!B12:K26,5) -> #REF! | M6: =VLOOKUP(J5,'PRESUPUESTO '!B12:K26,6) -> #REF!
A8: LOCALIZACION | G8: DESCRIPCION / ELEMENTO / AREA | H8: UNIDAD | I8: CANTIDAD | J8: LONGITUD | K8: ANCHO | L8: ALTO | M8: SUB TOTAL
H9: =IF(G9="","",$M$6) | M9: =PRODUCT(I9:L9) -> 0
H10: =IF(G10="","",$M$6) | M10: =PRODUCT(I10:L10) -> 0
H11: =IF(G11="","",$M$6) | M11: =PRODUCT(I11:L11) -> 0
H12: =IF(G12="","",$M$6) | M12: =PRODUCT(I12:L12) -> 0
H13: =IF(G13="","",$M$6) | M13: =PRODUCT(I13:L13) -> 0
H14: =IF(G14="","",$M$6) | M14: =PRODUCT(I14:L14) -> 0
H15: =IF(G15="","",$M$6) | M15: =PRODUCT(I15:L15) -> 0
H16: =IF(G16="","",$M$6) | M16: =PRODUCT(I16:L16) -> 0
H17: =IF(G17="","",$M$6) | M17: =PRODUCT(I17:L17) -> 0
H18: =IF(G18="","",$M$6) | M18: =PRODUCT(I18:L18) -> 0
H19: =IF(G19="","",$M$6) | M19: =PRODUCT(I19:L19) -> 0
H20: =IF(G20="","",$M$6) | M20: =PRODUCT(I20:L20) -> 0
... H23: =IF(G23="","",$M$6) | M23: =PRODUCT(I23:L23) -> 0
A24: GRAFICA / ESQUEMA | H24: =IF(G24="","",$M$6)
G26: TOTAL CANTIDAD | H26: =M6 -> #REF! | M26: =SUM(M9:M24) -> 0
G30: OBSERVACIONES;
G33: Planos:
G35: Informe:
G40: ='PRESUPUESTO '!B42 -> 0
G41: ='PRESUPUESTO '!B43 -> 0
G42: ='PRESUPUESTO '!B44 -> 0

Sheet 4.5
A1: MEMORIA DE CANTIDADES DE OBRAS
A2: DEPARTAMENTO DE BOLIVAR
A3: CORREGIMIENTO DE CAUSADO, JURISDICCION DEL MUNICIPIO DE MARGARITA
A5: OBJETO DEL PROYECTO | G5: CAPITULO | H5: ='PRESUPUESTO '!#REF! -> #REF! | I5: ITEM | J5: ='PRESUPUESTO '!#REF! -> #REF! | K5: ='PRESUPUESTO '!B18 -> 2.1 | M5: UNIDAD
A6: ='PRESUPUESTO '!E5 -> RECUPERACION Y CONSERVACIÓN DE ÁREAS DE IMPORTANCIA ESTRATEGICA DE LA ZONA DE INFLUENCIA DEL COMPLEJO CENAGOSO DE CASCALOA DE MAGANGUÉ, BOLÍVAR | G6: =VLOOKUP(H5,'PRESUPUESTO '!B12:K26,2) -> #REF! | I6: =VLOOKUP(J5,'PRESUPUESTO '!B12:K26,5) -> #REF! | M6: =VLOOKUP(J5,'PRESUPUESTO '!B12:K26,6) -> #REF!
A8: LOCALIZACION | G8: DESCRIPCION / ELEMENTO / AREA | H8: UNIDAD | I8: CANTIDAD | J8: LONGITUD | K8: ANCHO | L8: ALTO | M8: SUB TOTAL
H9: =IF(G9="","",$M$6) | M9: =PRODUCT(I9:L9) -> 0
H10: =IF(G10="","",$M$6) | M10: =PRODUCT(I10:L10) -> 0
H11: =IF(G11="","",$M$6) | M11: =PRODUCT(I11:L11) -> 0
H12: =IF(G12="","",$M$6) | M12: =PRODUCT(I12:L12) -> 0
H13: =IF(G13="","",$M$6) | M13: =PRODUCT(I13:L13) -> 0
H14: =IF(G14="","",$M$6) | M14: =PRODUCT(I14:L14) -> 0
H15: =IF(G15="","",$M$6) | M15: =PRODUCT(I15:L15) -> 0
H16: =IF(G16="","",$M$6) | M16: =PRODUCT(I16:L16) -> 0
H17: =IF(G17="","",$M$6) | M17: =PRODUCT(I17:L17) -> 0
H18: =IF(G18="","",$M$6) | M18: =PRODUCT(I18:L18) -> 0
H19: =IF(G19="","",$M$6) | M19: =PRODUCT(I19:L19) -> 0
H20: =IF(G20="","",$M$6) | M20: =PRODUCT(I20:L20) -> 0
... H23: =IF(G23="","",$M$6) | M23: =PRODUCT(I23:L23) -> 0
A24: GRAFICA / ESQUEMA | H24: =IF(G24="","",$M$6)
G26: TOTAL CANTIDAD | H26: =M6 -> #REF! | M26: =SUM(M9:M24) -> 0
G30: OBSERVACIONES;
G33: Planos:
G35: Informe:
G40: ='PRESUPUESTO '!B42 -> 0
G41: ='PRESUPUESTO '!B43 -> 0
G42: ='PRESUPUESTO '!B44 -> 0

Sheet 4.6
A1: MEMORIA DE CANTIDADES DE OBRAS
A2: DEPARTAMENTO DE BOLIVAR
A3: CORREGIMIENTO DE CAUSADO, JURISDICCION DEL MUNICIPIO DE MARGARITA
A5: OBJETO DEL PROYECTO | G5: CAPITULO | H5: ='PRESUPUESTO '!#REF! -> #REF! | I5: ITEM | J5: ='PRESUPUESTO '!#REF! -> #REF! | K5: ='PRESUPUESTO '!B18 -> 2.1 | M5: UNIDAD
A6: ='PRESUPUESTO '!E5 -> RECUPERACION Y CONSERVACIÓN DE ÁREAS DE IMPORTANCIA ESTRATEGICA DE LA ZONA DE INFLUENCIA DEL COMPLEJO CENAGOSO DE CASCALOA DE MAGANGUÉ, BOLÍVAR | G6: =VLOOKUP(H5,'PRESUPUESTO '!B12:K26,2) -> #REF! | I6: =VLOOKUP(J5,'PRESUPUESTO '!B12:K26,5) -> #REF! | M6: =VLOOKUP(J5,'PRESUPUESTO '!B12:K26,6) -> #REF!
A8: LOCALIZACION | G8: DESCRIPCION / ELEMENTO / AREA | H8: UNIDAD | I8: CANTIDAD | J8: LONGITUD | K8: ANCHO | L8: ALTO | M8: SUB TOTAL
H9: =IF(G9="","",$M$6) | M9: =PRODUCT(I9:L9) -> 0
H10: =IF(G10="","",$M$6) | M10: =PRODUCT(I10:L10) -> 0
H11: =IF(G11="","",$M$6) | M11: =PRODUCT(I11:L11) -> 0
H12: =IF(G12="","",$M$6) | M12: =PRODUCT(I12:L12) -> 0
H13: =IF(G13="","",$M$6) | M13: =PRODUCT(I13:L13) -> 0
H14: =IF(G14="","",$M$6) | M14: =PRODUCT(I14:L14) -> 0
H15: =IF(G15="","",$M$6) | M15: =PRODUCT(I15:L15) -> 0
H16: =IF(G16="","",$M$6) | M16: =PRODUCT(I16:L16) -> 0
H17: =IF(G17="","",$M$6) | M17: =PRODUCT(I17:L17) -> 0
H18: =IF(G18="","",$M$6) | M18: =PRODUCT(I18:L18) -> 0
H19: =IF(G19="","",$M$6) | M19: =PRODUCT(I19:L19) -> 0
H20: =IF(G20="","",$M$6) | M20: =PRODUCT(I20:L20) -> 0
... H23: =IF(G23="","",$M$6) | M23: =PRODUCT(I23:L23) -> 0
A24: GRAFICA / ESQUEMA | H24: =IF(G24="","",$M$6)
G26: TOTAL CANTIDAD | H26: =M6 -> #REF! | M26: =SUM(M9:M24) -> 0
G30: OBSERVACIONES;
G33: Planos:
G35: Informe:
G40: ='PRESUPUESTO '!B42 -> 0
G41: ='PRESUPUESTO '!B43 -> 0
G42: ='PRESUPUESTO '!B44 -> 0

Sheet 5.1
A1: MEMORIA DE CANTIDADES DE OBRAS
A2: DEPARTAMENTO DE BOLIVAR
A3: CORREGIMIENTO DE CAUSADO, JURISDICCION DEL MUNICIPIO DE MARGARITA
A5: OBJETO DEL PROYECTO | G5: CAPITULO | H5: ='PRESUPUESTO '!#REF! -> #REF! | I5: ITEM | J5: ='PRESUPUESTO '!#REF! -> #REF! | K5: ='PRESUPUESTO '!B18 -> 2.1 | M5: UNIDAD
A6: ='PRESUPUESTO '!E5 -> RECUPERACION Y CONSERVACIÓN DE ÁREAS DE IMPORTANCIA ESTRATEGICA DE LA ZONA DE INFLUENCIA DEL COMPLEJO CENAGOSO DE CASCALOA DE MAGANGUÉ, BOLÍVAR | G6: =VLOOKUP(H5,'PRESUPUESTO '!B12:K26,2) -> #REF! | I6: =VLOOKUP(J5,'PRESUPUESTO '!B12:K26,5) -> #REF! | M6: =VLOOKUP(J5,'PRESUPUESTO '!B12:K26,6) -> #REF!
A8: LOCALIZACION | G8: DESCRIPCION / ELEMENTO / AREA | H8: UNIDAD | I8: CANTIDAD | J8: LONGITUD | K8: ANCHO | L8: ALTO | M8: SUB TOTAL
H9: =IF(G9="","",$M$6) | M9: =PRODUCT(I9:L9) -> 0
H10: =IF(G10="","",$M$6) | M10: =PRODUCT(I10:L10) -> 0
H11: =IF(G11="","",$M$6) | M11: =PRODUCT(I11:L11) -> 0
H12: =IF(G12="","",$M$6) | M12: =PRODUCT(I12:L12) -> 0
H13: =IF(G13="","",$M$6) | M13: =PRODUCT(I13:L13) -> 0
H14: =IF(G14="","",$M$6) | M14: =PRODUCT(I14:L14) -> 0
H15: =IF(G15="","",$M$6) | M15: =PRODUCT(I15:L15) -> 0
H16: =IF(G16="","",$M$6) | M16: =PRODUCT(I16:L16) -> 0
H17: =IF(G17="","",$M$6) | M17: =PRODUCT(I17:L17) -> 0
H18: =IF(G18="","",$M$6) | M18: =PRODUCT(I18:L18) -> 0
H19: =IF(G19="","",$M$6) | M19: =PRODUCT(I19:L19) -> 0
H20: =IF(G20="","",$M$6) | M20: =PRODUCT(I20:L20) -> 0
... H23: =IF(G23="","",$M$6) | M23: =PRODUCT(I23:L23) -> 0
A24: GRAFICA / ESQUEMA | H24: =IF(G24="","",$M$6)
G26: TOTAL CANTIDAD | H26: =M6 -> #REF! | M26: =SUM(M9:M24) -> 0
G30: OBSERVACIONES;
G33: Planos:
G35: Informe:
G40: ='PRESUPUESTO '!B42 -> 0
G41: ='PRESUPUESTO '!B43 -> 0
G42: ='PRESUPUESTO '!B44 -> 0

Sheet 5.2
A1: MEMORIA DE CANTIDADES DE OBRAS
A2: DEPARTAMENTO DE BOLIVAR
A3: CORREGIMIENTO DE CAUSADO, JURISDICCION DEL MUNICIPIO DE MARGARITA
A5: OBJETO DEL PROYECTO | G5: CAPITULO | H5: ='PRESUPUESTO '!#REF! -> #REF! | I5: ITEM | J5: ='PRESUPUESTO '!#REF! -> #REF! | K5: ='PRESUPUESTO '!B18 -> 2.1 | M5: UNIDAD
A6: ='PRESUPUESTO '!E5 -> RECUPERACION Y CONSERVACIÓN DE ÁREAS DE IMPORTANCIA ESTRATEGICA DE LA ZONA DE INFLUENCIA DEL COMPLEJO CENAGOSO DE CASCALOA DE MAGANGUÉ, BOLÍVAR | G6: =VLOOKUP(H5,'PRESUPUESTO '!B12:K26,2) -> #REF! | I6: =VLOOKUP(J5,'PRESUPUESTO '!B12:K26,5) -> #REF! | M6: =VLOOKUP(J5,'PRESUPUESTO '!B12:K26,6) -> #REF!
A8: LOCALIZACION | G8: DESCRIPCION / ELEMENTO / AREA | H8: UNIDAD | I8: CANTIDAD | J8: LONGITUD | K8: ANCHO | L8: ALTO | M8: SUB TOTAL
H9: =IF(G9="","",$M$6) | M9: =PRODUCT(I9:L9) -> 0
H10: =IF(G10="","",$M$6) | M10: =PRODUCT(I10:L10) -> 0
H11: =IF(G11="","",$M$6) | M11: =PRODUCT(I11:L11) -> 0
H12: =IF(G12="","",$M$6) | M12: =PRODUCT(I12:L12) -> 0
H13: =IF(G13="","",$M$6) | M13: =PRODUCT(I13:L13) -> 0
H14: =IF(G14="","",$M$6) | M14: =PRODUCT(I14:L14) -> 0
H15: =IF(G15="","",$M$6) | M15: =PRODUCT(I15:L15) -> 0
H16: =IF(G16="","",$M$6) | M16: =PRODUCT(I16:L16) -> 0
H17: =IF(G17="","",$M$6) | M17: =PRODUCT(I17:L17) -> 0
H18: =IF(G18="","",$M$6) | M18: =PRODUCT(I18:L18) -> 0
H19: =IF(G19="","",$M$6) | M19: =PRODUCT(I19:L19) -> 0
H20: =IF(G20="","",$M$6) | M20: =PRODUCT(I20:L20) -> 0
... H23: =IF(G23="","",$M$6) | M23: =PRODUCT(I23:L23) -> 0
A24: GRAFICA / ESQUEMA | H24: =IF(G24="","",$M$6)
G26: TOTAL CANTIDAD | H26: =M6 -> #REF! | M26: =SUM(M9:M24) -> 0
G30: OBSERVACIONES;
G33: Planos:
G35: Informe:
G40: ='PRESUPUESTO '!B42 -> 0
G41: ='PRESUPUESTO '!B43 -> 0
G42: ='PRESUPUESTO '!B44 -> 0

Sheet 5.3
A1: MEMORIA DE CANTIDADES DE OBRAS
A2: DEPARTAMENTO DE BOLIVAR
A3: CORREGIMIENTO DE CAUSADO, JURISDICCION DEL MUNICIPIO DE MARGARITA
A5: OBJETO DEL PROYECTO | G5: CAPITULO | H5: ='PRESUPUESTO '!#REF! -> #REF! | I5: ITEM | J5: ='PRESUPUESTO '!#REF! -> #REF! | K5: ='PRESUPUESTO '!B18 -> 2.1 | M5: UNIDAD
A6: ='PRESUPUESTO '!E5 -> RECUPERACION Y CONSERVACIÓN DE ÁREAS DE IMPORTANCIA ESTRATEGICA DE LA ZONA DE INFLUENCIA DEL COMPLEJO CENAGOSO DE CASCALOA DE MAGANGUÉ, BOLÍVAR | G6: =VLOOKUP(H5,'PRESUPUESTO '!B12:K26,2) -> #REF! | I6: =VLOOKUP(J5,'PRESUPUESTO '!B12:K26,5) -> #REF! | M6: =VLOOKUP(J5,'PRESUPUESTO '!B12:K26,6) -> #REF!
A8: LOCALIZACION | G8: DESCRIPCION / ELEMENTO / AREA | H8: UNIDAD | I8: CANTIDAD | J8: LONGITUD | K8: ANCHO | L8: ALTO | M8: SUB TOTAL
H9: =IF(G9="","",$M$6) | M9: =PRODUCT(I9:L9) -> 0
H10: =IF(G10="","",$M$6) | M10: =PRODUCT(I10:L10) -> 0
H11: =IF(G11="","",$M$6) | M11: =PRODUCT(I11:L11) -> 0
H12: =IF(G12="","",$M$6) | M12: =PRODUCT(I12:L12) -> 0
H13: =IF(G13="","",$M$6) | M13: =PRODUCT(I13:L13) -> 0
H14: =IF(G14="","",$M$6) | M14: =PRODUCT(I14:L14) -> 0
H15: =IF(G15="","",$M$6) | M15: =PRODUCT(I15:L15) -> 0
H16: =IF(G16="","",$M$6) | M16: =PRODUCT(I16:L16) -> 0
H17: =IF(G17="","",$M$6) | M17: =PRODUCT(I17:L17) -> 0
H18: =IF(G18="","",$M$6) | M18: =PRODUCT(I18:L18) -> 0
H19: =IF(G19="","",$M$6) | M19: =PRODUCT(I19:L19) -> 0
H20: =IF(G20="","",$M$6) | M20: =PRODUCT(I20:L20) -> 0
... H23: =IF(G23="","",$M$6) | M23: =PRODUCT(I23:L23) -> 0
A24: GRAFICA / ESQUEMA | H24: =IF(G24="","",$M$6)
G26: TOTAL CANTIDAD | H26: =M6 -> #REF! | M26: =SUM(M9:M24) -> 0
G30: OBSERVACIONES;
G33: Planos:
G35: Informe:
G40: ='PRESUPUESTO '!B42 -> 0
G41: ='PRESUPUESTO '!B43 -> 0
G42: ='PRESUPUESTO '!B44 -> 0

Sheet 5.4
A1: MEMORIA DE CANTIDADES DE OBRAS
A2: DEPARTAMENTO DE BOLIVAR
A3: CORREGIMIENTO DE CAUSADO, JURISDICCION DEL MUNICIPIO DE MARGARITA
A5: OBJETO DEL PROYECTO | G5: CAPITULO | H5: ='PRESUPUESTO '!#REF! -> #REF! | I5: ITEM | J5: ='PRESUPUESTO '!#REF! -> #REF! | K5: ='PRESUPUESTO '!B18 -> 2.1 | M5: UNIDAD
A6: ='PRESUPUESTO '!E5 -> RECUPERACION Y CONSERVACIÓN DE ÁREAS DE IMPORTANCIA ESTRATEGICA DE LA ZONA DE INFLUENCIA DEL COMPLEJO CENAGOSO DE CASCALOA DE MAGANGUÉ, BOLÍVAR | G6: =VLOOKUP(H5,'PRESUPUESTO '!B12:K26,2) -> #REF! | I6: =VLOOKUP(J5,'PRESUPUESTO '!B12:K26,5) -> #REF! | M6: =VLOOKUP(J5,'PRESUPUESTO '!B12:K26,6) -> #REF!
A8: LOCALIZACION | G8: DESCRIPCION / ELEMENTO / AREA | H8: UNIDAD | I8: CANTIDAD | J8: LONGITUD | K8: ANCHO | L8: ALTO | M8: SUB TOTAL
H9: =IF(G9="","",$M$6) | M9: =PRODUCT(I9:L9) -> 0
H10: =IF(G10="","",$M$6) | M10: =PRODUCT(I10:L10) -> 0
H11: =IF(G11="","",$M$6) | M11: =PRODUCT(I11:L11) -> 0
H12: =IF(G12="","",$M$6) | M12: =PRODUCT(I12:L12) -> 0
H13: =IF(G13="","",$M$6) | M13: =PRODUCT(I13:L13) -> 0
H14: =IF(G14="","",$M$6) | M14: =PRODUCT(I14:L14) -> 0
H15: =IF(G15="","",$M$6) | M15: =PRODUCT(I15:L15) -> 0
H16: =IF(G16="","",$M$6) | M16: =PRODUCT(I16:L16) -> 0
H17: =IF(G17="","",$M$6) | M17: =PRODUCT(I17:L17) -> 0
H18: =IF(G18="","",$M$6) | M18: =PRODUCT(I18:L18) -> 0
H19: =IF(G19="","",$M$6) | M19: =PRODUCT(I19:L19) -> 0
H20: =IF(G20="","",$M$6) | M20: =PRODUCT(I20:L20) -> 0
... H23: =IF(G23="","",$M$6) | M23: =PRODUCT(I23:L23) -> 0
A24: GRAFICA / ESQUEMA | H24: =IF(G24="","",$M$6)
G26: TOTAL CANTIDAD | H26: =M6 -> #REF! | M26: =SUM(M9:M24) -> 0
G30: OBSERVACIONES;
G33: Planos:
G35: Informe:
G40: ='PRESUPUESTO '!B42 -> 0
G41: ='PRESUPUESTO '!B43 -> 0
G42: ='PRESUPUESTO '!B44 -> 0

Sheet 5.5
A1: MEMORIA DE CANTIDADES DE OBRAS
A2: DEPARTAMENTO DE BOLIVAR
A3: CORREGIMIENTO DE CAUSADO, JURISDICCION DEL MUNICIPIO DE MARGARITA
A5: OBJETO DEL PROYECTO | G5: CAPITULO | H5: ='PRESUPUESTO '!#REF! -> #REF! | I5: ITEM | J5: ='PRESUPUESTO '!#REF! -> #REF! | K5: ='PRESUPUESTO '!B18 -> 2.1 | M5: UNIDAD
A6: ='PRESUPUESTO '!E5 -> RECUPERACION Y CONSERVACIÓN DE ÁREAS DE IMPORTANCIA ESTRATEGICA DE LA ZONA DE INFLUENCIA DEL COMPLEJO CENAGOSO DE CASCALOA DE MAGANGUÉ, BOLÍVAR | G6: =VLOOKUP(H5,'PRESUPUESTO '!B12:K26,2) -> #REF! | I6: =VLOOKUP(J5,'PRESUPUESTO '!B12:K26,5) -> #REF! | M6: =VLOOKUP(J5,'PRESUPUESTO '!B12:K26,6) -> #REF!
A8: LOCALIZACION | G8: DESCRIPCION / ELEMENTO / AREA | H8: UNIDAD | I8: CANTIDAD | J8: LONGITUD | K8: ANCHO | L8: ALTO | M8: SUB TOTAL
H9: =IF(G9="","",$M$6) | M9: =PRODUCT(I9:L9) -> 0
H10: =IF(G10="","",$M$6) | M10: =PRODUCT(I10:L10) -> 0
H11: =IF(G11="","",$M$6) | M11: =PRODUCT(I11:L11) -> 0
H12: =IF(G12="","",$M$6) | M12: =PRODUCT(I12:L12) -> 0
H13: =IF(G13="","",$M$6) | M13: =PRODUCT(I13:L13) -> 0
H14: =IF(G14="","",$M$6) | M14: =PRODUCT(I14:L14) -> 0
H15: =IF(G15="","",$M$6) | M15: =PRODUCT(I15:L15) -> 0
H16: =IF(G16="","",$M$6) | M16: =PRODUCT(I16:L16) -> 0
H17: =IF(G17="","",$M$6) | M17: =PRODUCT(I17:L17) -> 0
H18: =IF(G18="","",$M$6) | M18: =PRODUCT(I18:L18) -> 0
H19: =IF(G19="","",$M$6) | M19: =PRODUCT(I19:L19) -> 0
H20: =IF(G20="","",$M$6) | M20: =PRODUCT(I20:L20) -> 0
... H23: =IF(G23="","",$M$6) | M23: =PRODUCT(I23:L23) -> 0
A24: GRAFICA / ESQUEMA | H24: =IF(G24="","",$M$6)
G26: TOTAL CANTIDAD | H26: =M6 -> #REF! | M26: =SUM(M9:M24) -> 0
G30: OBSERVACIONES;
G33: Planos:
G35: Informe:
G40: ='PRESUPUESTO '!B42 -> 0
G41: ='PRESUPUESTO '!B43 -> 0
G42: ='PRESUPUESTO '!B44 -> 0

Sheet 5.6
A1: MEMORIA DE CANTIDADES DE OBRAS
A2: DEPARTAMENTO DE BOLIVAR
A3: CORREGIMIENTO DE CAUSADO, JURISDICCION DEL MUNICIPIO DE MARGARITA
A5: OBJETO DEL PROYECTO | G5: CAPITULO | H5: ='PRESUPUESTO '!#REF! -> #REF! | I5: ITEM | J5: ='PRESUPUESTO '!#REF! -> #REF! | K5: ='PRESUPUESTO '!B18 -> 2.1 | M5: UNIDAD
A6: ='PRESUPUESTO '!E5 -> RECUPERACION Y CONSERVACIÓN DE ÁREAS DE IMPORTANCIA ESTRATEGICA DE LA ZONA DE INFLUENCIA DEL COMPLEJO CENAGOSO DE CASCALOA DE MAGANGUÉ, BOLÍVAR | G6: =VLOOKUP(H5,'PRESUPUESTO '!B12:K26,2) -> #REF! | I6: =VLOOKUP(J5,'PRESUPUESTO '!B12:K26,5) -> #REF! | M6: =VLOOKUP(J5,'PRESUPUESTO '!B12:K26,6) -> #REF!
A8: LOCALIZACION | G8: DESCRIPCION / ELEMENTO / AREA | H8: UNIDAD | I8: CANTIDAD | J8: LONGITUD | K8: ANCHO | L8: ALTO | M8: SUB TOTAL
H9: =IF(G9="","",$M$6) | M9: =PRODUCT(I9:L9) -> 0
H10: =IF(G10="","",$M$6) | M10: =PRODUCT(I10:L10) -> 0
H11: =IF(G11="","",$M$6) | M11: =PRODUCT(I11:L11) -> 0
H12: =IF(G12="","",$M$6) | M12: =PRODUCT(I12:L12) -> 0
H13: =IF(G13="","",$M$6) | M13: =PRODUCT(I13:L13) -> 0
H14: =IF(G14="","",$M$6) | M14: =PRODUCT(I14:L14) -> 0
H15: =IF(G15="","",$M$6) | M15: =PRODUCT(I15:L15) -> 0
H16: =IF(G16="","",$M$6) | M16: =PRODUCT(I16:L16) -> 0
H17: =IF(G17="","",$M$6) | M17: =PRODUCT(I17:L17) -> 0
H18: =IF(G18="","",$M$6) | M18: =PRODUCT(I18:L18) -> 0
H19: =IF(G19="","",$M$6) | M19: =PRODUCT(I19:L19) -> 0
H20: =IF(G20="","",$M$6) | M20: =PRODUCT(I20:L20) -> 0
... H23: =IF(G23="","",$M$6) | M23: =PRODUCT(I23:L23) -> 0
A24: GRAFICA / ESQUEMA | H24: =IF(G24="","",$M$6)
G26: TOTAL CANTIDAD | H26: =M6 -> #REF! | M26: =SUM(M9:M24) -> 0
G30: OBSERVACIONES;
G33: Planos:
G35: Informe:
G40: ='PRESUPUESTO '!B42 -> 0
G41: ='PRESUPUESTO '!B43 -> 0
G42: ='PRESUPUESTO '!B44 -> 0

Sheet 6.2
A1: MEMORIA DE CANTIDADES DE OBRAS
A2: DEPARTAMENTO DE BOLIVAR
A3: CORREGIMIENTO DE CAUSADO, JURISDICCION DEL MUNICIPIO DE MARGARITA
A5: OBJETO DEL PROYECTO | G5: CAPITULO | H5: ='PRESUPUESTO '!#REF! -> #REF! | I5: ITEM | J5: ='PRESUPUESTO '!#REF! -> #REF! | K5: ='PRESUPUESTO '!B18 -> 2.1 | M5: UNIDAD
A6: ='PRESUPUESTO '!E5 -> RECUPERACION Y CONSERVACIÓN DE ÁREAS DE IMPORTANCIA ESTRATEGICA DE LA ZONA DE INFLUENCIA DEL COMPLEJO CENAGOSO DE CASCALOA DE MAGANGUÉ, BOLÍVAR | G6: =VLOOKUP(H5,'PRESUPUESTO '!B12:K26,2) -> #REF! | I6: =VLOOKUP(J5,'PRESUPUESTO '!B12:K26,5) -> #REF! | M6: =VLOOKUP(J5,'PRESUPUESTO '!B12:K26,6) -> #REF!
A8: LOCALIZACION | G8: DESCRIPCION / ELEMENTO / AREA | H8: UNIDAD | I8: CANTIDAD | J8: LONGITUD | K8: ANCHO | L8: ALTO | M8: SUB TOTAL
H9: =IF(G9="","",$M$6) | M9: =PRODUCT(I9:L9) -> 0
H10: =IF(G10="","",$M$6) | M10: =PRODUCT(I10:L10) -> 0
H11: =IF(G11="","",$M$6) | M11: =PRODUCT(I11:L11) -> 0
H12: =IF(G12="","",$M$6) | M12: =PRODUCT(I12:L12) -> 0
H13: =IF(G13="","",$M$6) | M13: =PRODUCT(I13:L13) -> 0
H14: =IF(G14="","",$M$6) | M14: =PRODUCT(I14:L14) -> 0
H15: =IF(G15="","",$M$6) | M15: =PRODUCT(I15:L15) -> 0
H16: =IF(G16="","",$M$6) | M16: =PRODUCT(I16:L16) -> 0
H17: =IF(G17="","",$M$6) | M17: =PRODUCT(I17:L17) -> 0
H18: =IF(G18="","",$M$6) | M18: =PRODUCT(I18:L18) -> 0
H19: =IF(G19="","",$M$6) | M19: =PRODUCT(I19:L19) -> 0
H20: =IF(G20="","",$M$6) | M20: =PRODUCT(I20:L20) -> 0
... H23: =IF(G23="","",$M$6) | M23: =PRODUCT(I23:L23) -> 0
A24: GRAFICA / ESQUEMA | H24: =IF(G24="","",$M$6)
G26: TOTAL CANTIDAD | H26: =M6 -> #REF! | M26: =SUM(M9:M24) -> 0
G30: OBSERVACIONES;
G33: Planos:
G35: Informe:
G40: ='PRESUPUESTO '!B42 -> 0
G41: ='PRESUPUESTO '!B43 -> 0
G42: ='PRESUPUESTO '!B44 -> 0

Sheet 6.3
A1: MEMORIA DE CANTIDADES DE OBRAS
A2: DEPARTAMENTO DE BOLIVAR
A3: CORREGIMIENTO DE CAUSADO, JURISDICCION DEL MUNICIPIO DE MARGARITA
A5: OBJETO DEL PROYECTO | G5: CAPITULO | H5: ='PRESUPUESTO '!#REF! -> #REF! | I5: ITEM | J5: ='PRESUPUESTO '!#REF! -> #REF! | K5: ='PRESUPUESTO '!B18 -> 2.1 | M5: UNIDAD
A6: ='PRESUPUESTO '!E5 -> RECUPERACION Y CONSERVACIÓN DE ÁREAS DE IMPORTANCIA ESTRATEGICA DE LA ZONA DE INFLUENCIA DEL COMPLEJO CENAGOSO DE CASCALOA DE MAGANGUÉ, BOLÍVAR | G6: =VLOOKUP(H5,'PRESUPUESTO '!B12:K26,2) -> #REF! | I6: =VLOOKUP(J5,'PRESUPUESTO '!B12:K26,5) -> #REF! | M6: =VLOOKUP(J5,'PRESUPUESTO '!B12:K26,6) -> #REF!
A8: LOCALIZACION | G8: DESCRIPCION / ELEMENTO / AREA | H8: UNIDAD | I8: CANTIDAD | J8: LONGITUD | K8: ANCHO | L8: ALTO | M8: SUB TOTAL
H9: =IF(G9="","",$M$6) | M9: =PRODUCT(I9:L9) -> 0
H10: =IF(G10="","",$M$6) | M10: =PRODUCT(I10:L10) -> 0
H11: =IF(G11="","",$M$6) | M11: =PRODUCT(I11:L11) -> 0
H12: =IF(G12="","",$M$6) | M12: =PRODUCT(I12:L12) -> 0
H13: =IF(G13="","",$M$6) | M13: =PRODUCT(I13:L13) -> 0
H14: =IF(G14="","",$M$6) | M14: =PRODUCT(I14:L14) -> 0
H15: =IF(G15="","",$M$6) | M15: =PRODUCT(I15:L15) -> 0
H16: =IF(G16="","",$M$6) | M16: =PRODUCT(I16:L16) -> 0
H17: =IF(G17="","",$M$6) | M17: =PRODUCT(I17:L17) -> 0
H18: =IF(G18="","",$M$6) | M18: =PRODUCT(I18:L18) -> 0
H19: =IF(G19="","",$M$6) | M19: =PRODUCT(I19:L19) -> 0
H20: =IF(G20="","",$M$6) | M20: =PRODUCT(I20:L20) -> 0
... H23: =IF(G23="","",$M$6) | M23: =PRODUCT(I23:L23) -> 0
A24: GRAFICA / ESQUEMA | H24: =IF(G24="","",$M$6)
G26: TOTAL CANTIDAD | H26: =M6 -> #REF! | M26: =SUM(M9:M24) -> 0
G30: OBSERVACIONES;
G33: Planos:
G35: Informe:
G40: ='PRESUPUESTO '!B42 -> 0
G41: ='PRESUPUESTO '!B43 -> 0
G42: ='PRESUPUESTO '!B44 -> 0

Sheet 6.4
A1: MEMORIA DE CANTIDADES DE OBRAS
A2: DEPARTAMENTO DE BOLIVAR
A3: CORREGIMIENTO DE CAUSADO, JURISDICCION DEL MUNICIPIO DE MARGARITA
A5: OBJETO DEL PROYECTO | G5: CAPITULO | H5: ='PRESUPUESTO '!#REF! -> #REF! | I5: ITEM | J5: ='PRESUPUESTO '!#REF! -> #REF! | K5: ='PRESUPUESTO '!B18 -> 2.1 | M5: UNIDAD
A6: ='PRESUPUESTO '!E5 -> RECUPERACION Y CONSERVACIÓN DE ÁREAS DE IMPORTANCIA ESTRATEGICA DE LA ZONA DE INFLUENCIA DEL COMPLEJO CENAGOSO DE CASCALOA DE MAGANGUÉ, BOLÍVAR | G6: =VLOOKUP(H5,'PRESUPUESTO '!B12:K26,2) -> #REF! | I6: =VLOOKUP(J5,'PRESUPUESTO '!B12:K26,5) -> #REF! | M6: =VLOOKUP(J5,'PRESUPUESTO '!B12:K26,6) -> #REF!
A8: LOCALIZACION | G8: DESCRIPCION / ELEMENTO / AREA | H8: UNIDAD | I8: CANTIDAD | J8: LONGITUD | K8: ANCHO | L8: ALTO | M8: SUB TOTAL
H9: =IF(G9="","",$M$6) | M9: =PRODUCT(I9:L9) -> 0
H10: =IF(G10="","",$M$6) | M10: =PRODUCT(I10:L10) -> 0
H11: =IF(G11="","",$M$6) | M11: =PRODUCT(I11:L11) -> 0
H12: =IF(G12="","",$M$6) | M12: =PRODUCT(I12:L12) -> 0
H13: =IF(G13="","",$M$6) | M13: =PRODUCT(I13:L13) -> 0
H14: =IF(G14="","",$M$6) | M14: =PRODUCT(I14:L14) -> 0
H15: =IF(G15="","",$M$6) | M15: =PRODUCT(I15:L15) -> 0
H16: =IF(G16="","",$M$6) | M16: =PRODUCT(I16:L16) -> 0
H17: =IF(G17="","",$M$6) | M17: =PRODUCT(I17:L17) -> 0
H18: =IF(G18="","",$M$6) | M18: =PRODUCT(I18:L18) -> 0
H19: =IF(G19="","",$M$6) | M19: =PRODUCT(I19:L19) -> 0
H20: =IF(G20="","",$M$6) | M20: =PRODUCT(I20:L20) -> 0
... H23: =IF(G23="","",$M$6) | M23: =PRODUCT(I23:L23) -> 0
A24: GRAFICA / ESQUEMA | H24: =IF(G24="","",$M$6)
G26: TOTAL CANTIDAD | H26: =M6 -> #REF! | M26: =SUM(M9:M24) -> 0
G30: OBSERVACIONES;
G33: Planos:
G35: Informe:
G40: ='PRESUPUESTO '!B42 -> 0
G41: ='PRESUPUESTO '!B43 -> 0
G42: ='PRESUPUESTO '!B44 -> 0

Sheet 6.5
A1: MEMORIA DE CANTIDADES DE OBRAS
A2: DEPARTAMENTO DE BOLIVAR
A3: CORREGIMIENTO DE CAUSADO, JURISDICCION DEL MUNICIPIO DE MARGARITA
A5: OBJETO DEL PROYECTO | G5: CAPITULO | H5: ='PRESUPUESTO '!#REF! -> #REF! | I5: ITEM | J5: ='PRESUPUESTO '!#REF! -> #REF! | K5: ='PRESUPUESTO '!B18 -> 2.1 | M5: UNIDAD
A6: ='PRESUPUESTO '!E5 -> RECUPERACION Y CONSERVACIÓN DE ÁREAS DE IMPORTANCIA ESTRATEGICA DE LA ZONA DE INFLUENCIA DEL COMPLEJO CENAGOSO DE CASCALOA DE MAGANGUÉ, BOLÍVAR | G6: =VLOOKUP(H5,'PRESUPUESTO '!B12:K26,2) -> #REF! | I6: =VLOOKUP(J5,'PRESUPUESTO '!B12:K26,5) -> #REF! | M6: =VLOOKUP(J5,'PRESUPUESTO '!B12:K26,6) -> #REF!
A8: LOCALIZACION | G8: DESCRIPCION / ELEMENTO / AREA | H8: UNIDAD | I8: CANTIDAD | J8: LONGITUD | K8: ANCHO | L8: ALTO | M8: SUB TOTAL
H9: =IF(G9="","",$M$6) | M9: =PRODUCT(I9:L9) -> 0
H10: =IF(G10="","",$M$6) | M10: =PRODUCT(I10:L10) -> 0
H11: =IF(G11="","",$M$6) | M11: =PRODUCT(I11:L11) -> 0
H12: =IF(G12="","",$M$6) | M12: =PRODUCT(I12:L12) -> 0
H13: =IF(G13="","",$M$6) | M13: =PRODUCT(I13:L13) -> 0
H14: =IF(G14="","",$M$6) | M14: =PRODUCT(I14:L14) -> 0
H15: =IF(G15="","",$M$6) | M15: =PRODUCT(I15:L15) -> 0
H16: =IF(G16="","",$M$6) | M16: =PRODUCT(I16:L16) -> 0
H17: =IF(G17="","",$M$6) | M17: =PRODUCT(I17:L17) -> 0
H18: =IF(G18="","",$M$6) | M18: =PRODUCT(I18:L18) -> 0
H19: =IF(G19="","",$M$6) | M19: =PRODUCT(I19:L19) -> 0
H20: =IF(G20="","",$M$6) | M20: =PRODUCT(I20:L20) -> 0
... H23: =IF(G23="","",$M$6) | M23: =PRODUCT(I23:L23) -> 0
A24: GRAFICA / ESQUEMA | H24: =IF(G24="","",$M$6)
G26: TOTAL CANTIDAD | H26: =M6 -> #REF! | M26: =SUM(M9:M24) -> 0
G30: OBSERVACIONES;
G33: Planos:
G35: Informe:
G40: ='PRESUPUESTO '!B42 -> 0
G41: ='PRESUPUESTO '!B43 -> 0
G42: ='PRESUPUESTO '!B44 -> 0

Sheet 6.6
A1: MEMORIA DE CANTIDADES DE OBRAS
A2: DEPARTAMENTO DE BOLIVAR
A3: CORREGIMIENTO DE CAUSADO, JURISDICCION DEL MUNICIPIO DE MARGARITA
A5: OBJETO DEL PROYECTO | G5: CAPITULO | H5: ='PRESUPUESTO '!#REF! -> #REF! | I5: ITEM | J5: ='PRESUPUESTO '!#REF! -> #REF! | K5: ='PRESUPUESTO '!B18 -> 2.1 | M5: UNIDAD
A6: ='PRESUPUESTO '!E5 -> RECUPERACION Y CONSERVACIÓN DE ÁREAS DE IMPORTANCIA ESTRATEGICA DE LA ZONA DE INFLUENCIA DEL COMPLEJO CENAGOSO DE CASCALOA DE MAGANGUÉ, BOLÍVAR | G6: =VLOOKUP(H5,'PRESUPUESTO '!B12:K26,2) -> #REF! | I6: =VLOOKUP(J5,'PRESUPUESTO '!B12:K26,5) -> #REF! | M6: =VLOOKUP(J5,'PRESUPUESTO '!B12:K26,6) -> #REF!
A8: LOCALIZACION | G8: DESCRIPCION / ELEMENTO / AREA | H8: UNIDAD | I8: CANTIDAD | J8: LONGITUD | K8: ANCHO | L8: ALTO | M8: SUB TOTAL
H9: =IF(G9="","",$M$6) | M9: =PRODUCT(I9:L9) -> 0
H10: =IF(G10="","",$M$6) | M10: =PRODUCT(I10:L10) -> 0
H11: =IF(G11="","",$M$6) | M11: =PRODUCT(I11:L11) -> 0
H12: =IF(G12="","",$M$6) | M12: =PRODUCT(I12:L12) -> 0
H13: =IF(G13="","",$M$6) | M13: =PRODUCT(I13:L13) -> 0
H14: =IF(G14="","",$M$6) | M14: =PRODUCT(I14:L14) -> 0
H15: =IF(G15="","",$M$6) | M15: =PRODUCT(I15:L15) -> 0
H16: =IF(G16="","",$M$6) | M16: =PRODUCT(I16:L16) -> 0
H17: =IF(G17="","",$M$6) | M17: =PRODUCT(I17:L17) -> 0
H18: =IF(G18="","",$M$6) | M18: =PRODUCT(I18:L18) -> 0
H19: =IF(G19="","",$M$6) | M19: =PRODUCT(I19:L19) -> 0
H20: =IF(G20="","",$M$6) | M20: =PRODUCT(I20:L20) -> 0
... H23: =IF(G23="","",$M$6) | M23: =PRODUCT(I23:L23) -> 0
A24: GRAFICA / ESQUEMA | H24: =IF(G24="","",$M$6)
G26: TOTAL CANTIDAD | H26: =M6 -> #REF! | M26: =SUM(M9:M24) -> 0
G30: OBSERVACIONES;
G33: Planos:
G35: Informe:
G40: ='PRESUPUESTO '!B42 -> 0
G41: ='PRESUPUESTO '!B43 -> 0
G42: ='PRESUPUESTO '!B44 -> 0

Sheet MORTEROS Y CONCRETOS
B2: MORTEROS Y CONCRETOS 2023
B3: =+'PRESUPUESTO '!B4:H4 -> FORMATO PROPUETSA ECONÓMICA
D5: unitario | E5: Bulto
B6: Cemento Gris | C6: kg | D6: 750 | E6: =+D6*50 -> 37500
B7: Arena de peña | C7: m³ | D7: 75000
B8: Arena Lavada de rio | C8: m³ | D8: 90500
B9: Grava triturada Ø max 3/4" | C9: m³ | D9: 155000
B10: Agua | C10: L | D10: 50
B11: Impermeabilizante para Concreto | C11: kg | D11: 29330
B12: Impermeabilizante para Mortero | C12: kg | D12: 15500
B14: mortero 1:4
B15: material | C15: Unidad | D15: Cantidad | E15: Valor unitario | F15: Valor parcial
B16: Cemento | C16: kg | D16: 364 | E16: =+D6 -> 750 | F16: =+ROUND(E16*D16,0) -> 273000
B17: =B8 -> Arena Lavada de rio | C17: m³ | D17: 1.16 | E17: =D8 -> 90500 | F17: =+ROUND(E17*D17,0) -> 104980
B18: Agua | C18: L | D18: 220 | E18: =+D10 -> 50 | F18: =+ROUND(E18*D18,0) -> 11000
B19: Total | F19: =SUM(F16:F18) -> 388980
B21: mortero Impermeabilizado 1:4
B22: material | C22: Unidad | D22: Cantidad | E22: Valor unitario | F22: Valor parcial
B23: Cemento | C23: kg | D23: 364 | E23: =+D6 -> 750 | F23: =+ROUND(E23*D23,0) -> 273000
B24: Arena de Peña | C24: m³ | D24: 1.16 | E24: =+D7 -> 75000 | F24: =+ROUND(E24*D24,0) -> 87000
B25: Agua | C25: L | D25: 220 | E25: =+D10 -> 50 | F25: =+ROUND(E25*D25,0) -> 11000
B26: Impermeabilizante para Mortero | C26: kg | D26: 6.18 | E26: =+D12 -> 15500 | F26: =+ROUND(E26*D26,0) -> 95790
B27: Total | F27: =SUM(F23:F26) -> 466790
B29: Concreto 4000 psi | C29: 280 kg/cm²
B30: material | C30: Unidad | D30: Cantidad | E30: Valor unitario | F30: Valor parcial
B31: Cemento kg | C31: kg | D31: 420 | E31: =D6 -> 750 | F31: =+ROUND(E31*D31,0) -> 315000
B32: Arena lavada de rio | C32: m³ | D32: 0.67 | E32: =D8 -> 90500 | F32: =+ROUND(E32*D32,0) -> 60635
B33: Grava | C33: m³ | D33: 0.67 | E33: =D9 -> 155000 | F33: =+ROUND(E33*D33,0) -> 103850
B34: Agua Lt | C34: L | D34: 260 | E34: =+D10 -> 50 | F34: =+ROUND(E34*D34,0) -> 13000
B35: Total | F35: =SUM(F31:F34) -> 492485
B37: Concreto 3500 psi | C37: 246 kg/cm²
B38: material | C38: Unidad | D38: Cantidad | E38: Valor unitario | F38: Valor parcial
B39: Cemento kg | C39: kg | D39: 380 | E39: =+D6 -> 750 | F39: =+ROUND(E39*D39,0) -> 285000
B40: Arena lavada de rio | C40: m³ | D40: 0.6 | E40: =+D8 -> 90500 | F40: =+ROUND(E40*D40,0) -> 54300
B41: Grava | C41: m³ | D41: 0.76 | E41: =+D9 -> 155000 | F41: =+ROUND(E41*D41,0) -> 117800
B42: Agua Lt | C42: L | D42: 250 | E42: =+D10 -> 50 | F42: =+ROUND(E42*D42,0) -> 12500
B43: Total | F43: =SUM(F39:F42) -> 469600
B50: Concreto 3000 psi | C50: 210 kg/cm²
B51: material | C51: Unidad | D51: Cantidad | E51: Valor unitario | F51: Valor parcial
B52: Cemento kg | C52: kg | D52: 350 | E52: =+D6 -> 750 | F52: =+ROUND(E52*D52,0) -> 262500
...

Sheet APU CAP 1 ITEM-1.4
B2: ANÁLISIS DE PRECIO UNITARIO
B3: =CONCATENATE("PROYECTO: ",'PRESUPUESTO '!E5) -> PROYECTO: RECUPERACION Y CONSERVACIÓN DE ÁREAS DE IMPORTANCIA ESTRATEGICA DE LA ZONA DE INFLUENCIA DEL COMPLEJO CENAGOSO DE CASCALOA DE MAGANGUÉ, BOLÍVAR
B5: =_xlfn.CONCAT("CAPITULO ",K5) -> CAPITULO 1 | D5: =VLOOKUP(K5,'PRESUPUESTO '!B12:K26,2) -> PRELIMINARES Y COMPLEMENTARIAS | H5: UNIDAD: | J5: CAPITULO | K5: ='PRESUPUESTO '!B12 -> 1
B6: =_xlfn.CONCAT("ÍTEM ",K6) -> #REF! | D6: =VLOOKUP(K6,'PRESUPUESTO '!B12:K26,5) -> #REF! | H6: =VLOOKUP(K6,'PRESUPUESTO '!B12:K26,6) -> #REF! | J6: ITEM | K6: ='PRESUPUESTO '!#REF! -> #REF! | O6: EQUIPOS
B9: I. EQUIPO | I9: EQUIPO: | J9: Astilladora de madera para triturar, potencia aproximada 75 HP | O9: {=_xlfn._xlws.FILTER(#REF!,ISNUMBER(FIND(J9,#REF!)),"NO ENCONTRADO")} -> #REF!
B10: CODIGO | C10: DESCRIPCIÓN | E10: TIPO | F10: TARIFA/HORAD | G10: RENDIMIENTO | H10: VALOR UNITARIO | I10: ID | J10: {=_xlfn._xlws.FILTER(#REF!,#REF!='APU CAP 1 ITEM-1.4'!J9,"")} -> #REF!
B11: =IF(A11=0,"",VLOOKUP(A11,#REF!,2)) | C11: =IF(A11=0,"",VLOOKUP(A11,#REF!,3)) | F11: =IF(A11=0,,VLOOKUP(A11,#REF!,5)) -> 0 | H11: =+ROUND(F11*G11,3) -> 0
B12: =IF(A12=0,"",VLOOKUP(A12,#REF!,2)) | C12: =IF(A12=0,"",VLOOKUP(A12,#REF!,3)) | F12: =IF(A12=0,,VLOOKUP(A12,#REF!,5)) -> 0 | H12: =+ROUND(F12*G12,3) -> 0
B13: =IF(A13=0,"",VLOOKUP(A13,#REF!,2)) | C13: =IF(A13=0,"",VLOOKUP(A13,#REF!,3)) | F13: =IF(A13=0,,VLOOKUP(A13,#REF!,5)) -> 0 | H13: =+ROUND(F13*G13,3) -> 0
B14: =IF(A14=0,"",VLOOKUP(A14,#REF!,2)) | C14: =IF(A14=0,"",VLOOKUP(A14,#REF!,3)) | F14: =IF(A14=0,,VLOOKUP(A14,#REF!,5)) -> 0 | H14: =+ROUND(F14*G14,3) -> 0
B15: =IF(A15=0,"",VLOOKUP(A15,#REF!,2)) | C15: =IF(A15=0,"",VLOOKUP(A15,#REF!,3)) | F15: =IF(A15=0,,VLOOKUP(A15,#REF!,5)) -> 0 | H15: =+ROUND(F15*G15,3) -> 0
B16: =IF(A16=0,"",VLOOKUP(A16,#REF!,2)) | C16: =IF(A16=0,"",VLOOKUP(A16,#REF!,3)) | F16: =IF(A16=0,,VLOOKUP(A16,#REF!,5)) -> 0 | H16: =+ROUND(F16*G16,3) -> 0
B17: =IF(A17=0,"",VLOOKUP(A17,#REF!,2)) | C17: =IF(A17=0,"",VLOOKUP(A17,#REF!,3)) | F17: =IF(A17=0,,VLOOKUP(A17,#REF!,5)) -> 0 | H17: =+ROUND(F17*G17,3) -> 0
B18: =IF(A18=0,"",VLOOKUP(A18,#REF!,2)) | C18: =IF(A18=0,"",VLOOKUP(A18,#REF!,3)) | F18: =IF(A18=0,,VLOOKUP(A18,#REF!,5)) -> 0 | H18: =+ROUND(F18*G18,3) -> 0
B19: Subtotal Equipo | H19: =SUM(H11:H18) -> 0
B21: II. MATERIALES EN OBRA | P21: MATERIALES
B22: CODIGO | C22: DESCRIPCIÓN | E22: UNIDAD | F22: VALOR UNITARIO | G22: CANTIDAD | H22: VALOR UNITARIO
B23: =IF(A23=0,"",VLOOKUP(A23,#REF!,2)) | C23: =IF(A23=0,"",VLOOKUP(A23,#REF!,3)) | E23: =IF(A23=0,"",VLOOKUP(A23,#REF!,4)) | F23: =IF(A23=0,,VLOOKUP(A23,#REF!,5)) -> 0 | H23: =+ROUND(G23*F23,3) -> 0
B24: =IF(A24=0,"",VLOOKUP(A24,#REF!,2)) | C24: =IF(A24=0,"",VLOOKUP(A24,#REF!,3)) | E24: =IF(A24=0,"",VLOOKUP(A24,#REF!,4)) | F24: =IF(A24=0,,VLOOKUP(A24,#REF!,5)) -> 0 | H24: =+ROUND(G24*F24,3) -> 0 | P24: {=_xlfn._xlws.FILTER(#REF!,ISNUMBER(FIND(J25,#REF!)),"NO ENCONTRADO")} -> #REF!
B25: =IF(A25=0,"",VLOOKUP(A25,#REF!,2)) | C25: =IF(A25=0,"",VLOOKUP(A25,#REF!,3)) | E25: =IF(A25=0,"",VLOOKUP(A25,#REF!,4)) | F25: =IF(A25=0,,VLOOKUP(A25,#REF!,5)) -> 0 | H25: =+ROUND(G25*F25,3) -> 0 | I25: EQUIPO: | J25: Acero A-37
B26: =IF(A26=0,"",VLOOKUP(A26,#REF!,2)) | C26: =IF(A26=0,"",VLOOKUP(A26,#REF!,3)) | E26: =IF(A26=0,"",VLOOKUP(A26,#REF!,4)) | F26: =IF(A26=0,,VLOOKUP(A26,#REF!,5)) -> 0 | H26: =+ROUND(G26*F26,3) -> 0 | I26: ID | J26: {=_xlfn._xlws.FILTER(#REF!,#REF!='APU CAP 1 ITEM-1.4'!J25,"")} -> #REF!
B27: =IF(A27=0,"",VLOOKUP(A27,#REF!,2)) | C27: =IF(A27=0,"",VLOOKUP(A27,#REF!,3)) | E27: =IF(A27=0,"",VLOOKUP(A27,#REF!,4)) | F27: =IF(A27=0,,VLOOKUP(A27,#REF!,5)) -> 0 | H27: =+ROUND(G27*F27,3) -> 0
B28: =IF(A28=0,"",VLOOKUP(A28,#REF!,2)) | C28: =IF(A28=0,"",VLOOKUP(A28,#REF!,3)) | E28: =IF(A28=0,"",VLOOKUP(A28,#REF!,4)) | F28: =IF(A28=0,,VLOOKUP(A28,#REF!,5)) -> 0 | H28: =+ROUND(G28*F28,3) -> 0 | I28: ID | J28: {=_xlfn._xlws.FILTER(#REF!,#REF!='APU CAP 1 ITEM-1.4'!J27,"")} -> #REF!
B29: =IF(A29=0,"",VLOOKUP(A29,#REF!,2)) | C29: =IF(A29=0,"",VLOOKUP(A29,#REF!,3)) | E29: =IF(A29=0,"",VLOOKUP(A29,#REF!,4)) | F29: =IF(A29=0,,VLOOKUP(A29,#REF!,5)) -> 0 | H29: =+ROUND(G29*F29,3) -> 0
B30: =IF(A30=0,"",VLOOKUP(A30,#REF!,2)) | C30: =IF(A30=0,"",VLOOKUP(A30,#REF!,3)) | E30: =IF(A30=0,"",VLOOKUP(A30,#REF!,4)) | F30: =IF(A30=0,,VLOOKUP(A30,#REF!,5)) -> 0 | H30: =+ROUND(G30*F30,3) -> 0
B31: =IF(A31=0,"",VLOOKUP(A31,#REF!,2)) | C31: =IF(A31=0,"",VLOOKUP(A31,#REF!,3)) | E31: =IF(A31=0,"",VLOOKUP(A31,#REF!,4)) | F31: =IF(A31=0,,VLOOKUP(A31,#REF!,5)) -> 0 | H31: =+ROUND(G31*F31,3) -> 0
B32: Subtotal Materiales en Obra | H32: =SUM(H23:H31) -> 0
Q33: MATERIALES
B34: III. TRANSPORTES
B35: CODIGO | C35: DESCRIPCIÓN | D35: UNIDAD | E35: CANT. (1) | F35: DISTANCIA (2) | G35: TARIFA | H35: VALOR UNITARIO
A36: 1 | B36: =IF(A36=0,"",VLOOKUP(A36,#REF!,2)) -> #REF! | C36: =IF(A36=0,"",VLOOKUP(A36,#REF!,3)) -> #REF! | D36: =IF(A36=0,"",VLOOKUP(A36,#REF!,4)) -> #REF! | G36: =IF(A36=0,,VLOOKUP(A36,#REF!,5)) -> #REF! | H36: =+ROUND(E36*F36*G36,3) -> #REF! | Q36: {=_xlfn._xlws.FILTER(#REF!,ISNUMBER(FIND(J39,#REF!)),"NO ENCONTRADO")} -> #REF!
B37: =IF(A37=0,"",VLOOKUP(A37,#REF!,2)) | C37: =IF(A37=0,"",VLOOKUP(A37,#REF!,3)) | D37: =IF(A37=0,"",VLOOKUP(A37,#REF!,4)) | G37: =IF(A37=0,,VLOOKUP(A37,#REF!,5)) -> 0 | H37: =+ROUND(E37*F37*G37,3) -> 0
B38: =IF(A38=0,"",VLOOKUP(A38,#REF!,2)) | C38: =IF(A38=0,"",VLOOKUP(A38,#REF!,3)) | D38: =IF(A38=0,"",VLOOKUP(A38,#REF!,4)) | G38: =IF(A38=0,,VLOOKUP(A38,#REF!,5)) -> 0 | H38: =+ROUND(E38*F38*G38,3) -> 0
B39: =IF(A39=0,"",VLOOKUP(A39,#REF!,2)) | C39: =IF(A39=0,"",VLOOKUP(A39,#REF!,3)) | D39: =IF(A39=0,"",VLOOKUP(A39,#REF!,4)) | G39: =IF(A39=0,,VLOOKUP(A39,#REF!,5)) -> 0 | H39: =+ROUND(E39*F39*G39,3) -> 0 | I39: EQUIPO: | J39: Transporte de acero
B40: =IF(A40=0,"",VLOOKUP(A40,#REF!,2)) | C40: =IF(A40=0,"",VLOOKUP(A40,#REF!,3)) | D40: =IF(A40=0,"",VLOOKUP(A40,#REF!,4)) | G40: =IF(A40=0,,VLOOKUP(A40,#REF!,5)) -> 0 | H40: =+ROUND(E40*F40*G40,3) -> 0 | I40: ID | J40: {=_xlfn._xlws.FILTER(#REF!,#REF!='APU CAP 1 ITEM-1.4'!J39,"")} -> #REF! | K40: {=_xlfn._xlws.FILTER(#REF!,#REF!='APU CAP 1 ITEM-1.4'!J39,"")} -> #REF!
B41: Subtotal transportes | H41: =SUM(H36:H40) -> #REF!
B43: IV. MANO DE OBRA
B44: CODIGO | C44: DESCRIPCIÓN | D44: JORNAL | E44: % PRE. | F44: JORNAL TOTAL | G44: RENDIMIENTO | H44: VALOR UNITARIO
A45: 2 | C45: =IF(A45=0,"",VLOOKUP(A45,#REF!,2)) -> #REF! | D45: =IF(A45=0,"",VLOOKUP(A45,#REF!,3)) -> #REF! | E45: =IF(A45=0,,0.85) -> 0.85 | F45: =IF(A45=0,"",VLOOKUP(A45,#REF!,6)) -> #REF! | H45: =IF(AND(E45>0,F45>0,G45>0),ROUND(F45/G45,3),0) -> #REF!
E46: =IF(A46=0,,0.85) -> 0 | H46: =IF(AND(E46>0,F46>0,G46>0),ROUND(F46/G46,3),0) -> 0
...

Sheet APU CAP 1 ITEM-1.5
B2: ANÁLISIS DE PRECIO UNITARIO
B3: =CONCATENATE("PROYECTO: ",'PRESUPUESTO '!E5) -> PROYECTO: RECUPERACION Y CONSERVACIÓN DE ÁREAS DE IMPORTANCIA ESTRATEGICA DE LA ZONA DE INFLUENCIA DEL COMPLEJO CENAGOSO DE CASCALOA DE MAGANGUÉ, BOLÍVAR
B5: =_xlfn.CONCAT("CAPITULO ",K5) -> CAPITULO 1 | D5: =VLOOKUP(K5,'PRESUPUESTO '!B12:K26,2) -> PRELIMINARES Y COMPLEMENTARIAS | H5: UNIDAD: | J5: CAPITULO | K5: ='PRESUPUESTO '!B12 -> 1
B6: =_xlfn.CONCAT("ÍTEM ",K6) -> #REF! | D6: =VLOOKUP(K6,'PRESUPUESTO '!B12:K26,5) -> #REF! | H6: =VLOOKUP(K6,'PRESUPUESTO '!B12:K26,6) -> #REF! | J6: ITEM | K6: ='PRESUPUESTO '!#REF! -> #REF! | O6: EQUIPOS
B9: I. EQUIPO | I9: EQUIPO: | J9: Astilladora de madera para triturar, potencia aproximada 75 HP | O9: {=_xlfn._xlws.FILTER(#REF!,ISNUMBER(FIND(J9,#REF!)),"NO ENCONTRADO")} -> #REF!
B10: CODIGO | C10: DESCRIPCIÓN | E10: TIPO | F10: TARIFA/HORAD | G10: RENDIMIENTO | H10: VALOR UNITARIO | I10: ID | J10: {=_xlfn._xlws.FILTER(#REF!,#REF!='APU CAP 1 ITEM-1.5'!J9,"")} -> #REF!
B11: =IF(A11=0,"",VLOOKUP(A11,#REF!,2)) | C11: =IF(A11=0,"",VLOOKUP(A11,#REF!,3)) | F11: =IF(A11=0,,VLOOKUP(A11,#REF!,5)) -> 0 | H11: =+ROUND(F11*G11,3) -> 0
B12: =IF(A12=0,"",VLOOKUP(A12,#REF!,2)) | C12: =IF(A12=0,"",VLOOKUP(A12,#REF!,3)) | F12: =IF(A12=0,,VLOOKUP(A12,#REF!,5)) -> 0 | H12: =+ROUND(F12*G12,3) -> 0
B13: =IF(A13=0,"",VLOOKUP(A13,#REF!,2)) | C13: =IF(A13=0,"",VLOOKUP(A13,#REF!,3)) | F13: =IF(A13=0,,VLOOKUP(A13,#REF!,5)) -> 0 | H13: =+ROUND(F13*G13,3) -> 0
B14: =IF(A14=0,"",VLOOKUP(A14,#REF!,2)) | C14: =IF(A14=0,"",VLOOKUP(A14,#REF!,3)) | F14: =IF(A14=0,,VLOOKUP(A14,#REF!,5)) -> 0 | H14: =+ROUND(F14*G14,3) -> 0
B15: =IF(A15=0,"",VLOOKUP(A15,#REF!,2)) | C15: =IF(A15=0,"",VLOOKUP(A15,#REF!,3)) | F15: =IF(A15=0,,VLOOKUP(A15,#REF!,5)) -> 0 | H15: =+ROUND(F15*G15,3) -> 0
B16: =IF(A16=0,"",VLOOKUP(A16,#REF!,2)) | C16: =IF(A16=0,"",VLOOKUP(A16,#REF!,3)) | F16: =IF(A16=0,,VLOOKUP(A16,#REF!,5)) -> 0 | H16: =+ROUND(F16*G16,3) -> 0
B17: =IF(A17=0,"",VLOOKUP(A17,#REF!,2)) | C17: =IF(A17=0,"",VLOOKUP(A17,#REF!,3)) | F17: =IF(A17=0,,VLOOKUP(A17,#REF!,5)) -> 0 | H17: =+ROUND(F17*G17,3) -> 0
B18: =IF(A18=0,"",VLOOKUP(A18,#REF!,2)) | C18: =IF(A18=0,"",VLOOKUP(A18,#REF!,3)) | F18: =IF(A18=0,,VLOOKUP(A18,#REF!,5)) -> 0 | H18: =+ROUND(F18*G18,3) -> 0
B19: Subtotal Equipo | H19: =SUM(H11:H18) -> 0
B21: II. MATERIALES EN OBRA | P21: MATERIALES
B22: CODIGO | C22: DESCRIPCIÓN | E22: UNIDAD | F22: VALOR UNITARIO | G22: CANTIDAD | H22: VALOR UNITARIO
B23: =IF(A23=0,"",VLOOKUP(A23,#REF!,2)) | C23: =IF(A23=0,"",VLOOKUP(A23,#REF!,3)) | E23: =IF(A23=0,"",VLOOKUP(A23,#REF!,4)) | F23: =IF(A23=0,,VLOOKUP(A23,#REF!,5)) -> 0 | H23: =+ROUND(G23*F23,3) -> 0
B24: =IF(A24=0,"",VLOOKUP(A24,#REF!,2)) | C24: =IF(A24=0,"",VLOOKUP(A24,#REF!,3)) | E24: =IF(A24=0,"",VLOOKUP(A24,#REF!,4)) | F24: =IF(A24=0,,VLOOKUP(A24,#REF!,5)) -> 0 | H24: =+ROUND(G24*F24,3) -> 0 | P24: {=_xlfn._xlws.FILTER(#REF!,ISNUMBER(FIND(J25,#REF!)),"NO ENCONTRADO")} -> #REF!
B25: =IF(A25=0,"",VLOOKUP(A25,#REF!,2)) | C25: =IF(A25=0,"",VLOOKUP(A25,#REF!,3)) | E25: =IF(A25=0,"",VLOOKUP(A25,#REF!,4)) | F25: =IF(A25=0,,VLOOKUP(A25,#REF!,5)) -> 0 | H25: =+ROUND(G25*F25,3) -> 0 | I25: EQUIPO: | J25: Acero A-37
B26: =IF(A26=0,"",VLOOKUP(A26,#REF!,2)) | C26: =IF(A26=0,"",VLOOKUP(A26,#REF!,3)) | E26: =IF(A26=0,"",VLOOKUP(A26,#REF!,4)) | F26: =IF(A26=0,,VLOOKUP(A26,#REF!,5)) -> 0 | H26: =+ROUND(G26*F26,3) -> 0 | I26: ID | J26: {=_xlfn._xlws.FILTER(#REF!,#REF!='APU CAP 1 ITEM-1.5'!J25,"")} -> #REF!
B27: =IF(A27=0,"",VLOOKUP(A27,#REF!,2)) | C27: =IF(A27=0,"",VLOOKUP(A27,#REF!,3)) | E27: =IF(A27=0,"",VLOOKUP(A27,#REF!,4)) | F27: =IF(A27=0,,VLOOKUP(A27,#REF!,5)) -> 0 | H27: =+ROUND(G27*F27,3) -> 0
B28: =IF(A28=0,"",VLOOKUP(A28,#REF!,2)) | C28: =IF(A28=0,"",VLOOKUP(A28,#REF!,3)) | E28: =IF(A28=0,"",VLOOKUP(A28,#REF!,4)) | F28: =IF(A28=0,,VLOOKUP(A28,#REF!,5)) -> 0 | H28: =+ROUND(G28*F28,3) -> 0 | I28: ID | J28: {=_xlfn._xlws.FILTER(#REF!,#REF!='APU CAP 1 ITEM-1.5'!J27,"")} -> #REF!
B29: =IF(A29=0,"",VLOOKUP(A29,#REF!,2)) | C29: =IF(A29=0,"",VLOOKUP(A29,#REF!,3)) | E29: =IF(A29=0,"",VLOOKUP(A29,#REF!,4)) | F29: =IF(A29=0,,VLOOKUP(A29,#REF!,5)) -> 0 | H29: =+ROUND(G29*F29,3) -> 0
B30: =IF(A30=0,"",VLOOKUP(A30,#REF!,2)) | C30: =IF(A30=0,"",VLOOKUP(A30,#REF!,3)) | E30: =IF(A30=0,"",VLOOKUP(A30,#REF!,4)) | F30: =IF(A30=0,,VLOOKUP(A30,#REF!,5)) -> 0 | H30: =+ROUND(G30*F30,3) -> 0
B31: =IF(A31=0,"",VLOOKUP(A31,#REF!,2)) | C31: =IF(A31=0,"",VLOOKUP(A31,#REF!,3)) | E31: =IF(A31=0,"",VLOOKUP(A31,#REF!,4)) | F31: =IF(A31=0,,VLOOKUP(A31,#REF!,5)) -> 0 | H31: =+ROUND(G31*F31,3) -> 0
B32: Subtotal Materiales en Obra | H32: =SUM(H23:H31) -> 0
Q33: MATERIALES
B34: III. TRANSPORTES
B35: CODIGO | C35: DESCRIPCIÓN | D35: UNIDAD | E35: CANT. (1) | F35: DISTANCIA (2) | G35: TARIFA | H35: VALOR UNITARIO
A36: 1 | B36: =IF(A36=0,"",VLOOKUP(A36,#REF!,2)) -> #REF! | C36: =IF(A36=0,"",VLOOKUP(A36,#REF!,3)) -> #REF! | D36: =IF(A36=0,"",VLOOKUP(A36,#REF!,4)) -> #REF! | G36: =IF(A36=0,,VLOOKUP(A36,#REF!,5)) -> #REF! | H36: =+ROUND(E36*F36*G36,3) -> #REF! | Q36: {=_xlfn._xlws.FILTER(#REF!,ISNUMBER(FIND(J39,#REF!)),"NO ENCONTRADO")} -> #REF!
B37: =IF(A37=0,"",VLOOKUP(A37,#REF!,2)) | C37: =IF(A37=0,"",VLOOKUP(A37,#REF!,3)) | D37: =IF(A37=0,"",VLOOKUP(A37,#REF!,4)) | G37: =IF(A37=0,,VLOOKUP(A37,#REF!,5)) -> 0 | H37: =+ROUND(E37*F37*G37,3) -> 0
B38: =IF(A38=0,"",VLOOKUP(A38,#REF!,2)) | C38: =IF(A38=0,"",VLOOKUP(A38,#REF!,3)) | D38: =IF(A38=0,"",VLOOKUP(A38,#REF!,4)) | G38: =IF(A38=0,,VLOOKUP(A38,#REF!,5)) -> 0 | H38: =+ROUND(E38*F38*G38,3) -> 0
B39: =IF(A39=0,"",VLOOKUP(A39,#REF!,2)) | C39: =IF(A39=0,"",VLOOKUP(A39,#REF!,3)) | D39: =IF(A39=0,"",VLOOKUP(A39,#REF!,4)) | G39: =IF(A39=0,,VLOOKUP(A39,#REF!,5)) -> 0 | H39: =+ROUND(E39*F39*G39,3) -> 0 | I39: EQUIPO: | J39: Transporte de acero
B40: =IF(A40=0,"",VLOOKUP(A40,#REF!,2)) | C40: =IF(A40=0,"",VLOOKUP(A40,#REF!,3)) | D40: =IF(A40=0,"",VLOOKUP(A40,#REF!,4)) | G40: =IF(A40=0,,VLOOKUP(A40,#REF!,5)) -> 0 | H40: =+ROUND(E40*F40*G40,3) -> 0 | I40: ID | J40: {=_xlfn._xlws.FILTER(#REF!,#REF!='APU CAP 1 ITEM-1.5'!J39,"")} -> #REF! | K40: {=_xlfn._xlws.FILTER(#REF!,#REF!='APU CAP 1 ITEM-1.5'!J39,"")} -> #REF!
B41: Subtotal transportes | H41: =SUM(H36:H40) -> #REF!
B43: IV. MANO DE OBRA
B44: CODIGO | C44: DESCRIPCIÓN | D44: JORNAL | E44: % PRE. | F44: JORNAL TOTAL | G44: RENDIMIENTO | H44: VALOR UNITARIO
