Workbook
Name _\a: #REF!
Name _\b: #REF!
Name _\c: #REF!
Name _\eliminar: [1]RESUM96!#REF!
Name _\eliminar1: [1]RESUM96!#REF!
Name _\m: #REF!
Name _\q: #REF!
Name _\w: #N/A
Name _\z: #REF!
Name __\a: #REF!
Name __\b: #REF!
Name __\eliminar: [1]RESUM96!#REF!
Name __\eliminar1: [1]RESUM96!#REF!
Name __\q: #REF!
Name ___\a: #REF!
Name ___\b: #REF!
Name ___\eliminar: [1]RESUM96!#REF!
Name ___\eliminar1: [1]RESUM96!#REF!
Name ___\q: #REF!
Name ____\a: #REF!
Name ____\b: #REF!
Name ____\eliminar: [1]RESUM96!#REF!
Name ____\eliminar1: [1]RESUM96!#REF!
Name ____\q: #REF!
Name ___________________l9001: '[2]Plan auditoría'!#REF!
Name __________________l9001: '[2]Plan auditoría'!#REF!
Name ________________A16403: #REF!
Name ________________l9001: '[2]Plan auditoría'!#REF!
Name _______________A164063: #REF!
Name _______________EST1: #REF!
Name _______________EST10: #REF!
Name _______________EST11: #REF!
Name _______________EST12: #REF!
Name _______________EST13: #REF!
Name _______________EST14: #REF!
Name _______________EST15: #REF!
Name _______________EST16: #REF!
Name _______________EST17: #REF!
Name _______________EST18: #REF!
Name _______________EST19: #REF!
Name _______________EST2: #REF!
Name _______________EST3: #REF!
Name _______________EST4: #REF!
Name _______________EST5: #REF!
Name _______________EST6: #REF!
Name _______________EST7: #REF!
Name _______________EST8: #REF!
Name _______________EST9: #REF!
Name _______________EXC1: #REF!
Name _______________EXC10: #REF!
Name _______________EXC11: #REF!
Name _______________EXC12: #REF!
Name _______________EXC2: #REF!
Name _______________EXC3: #REF!
Name _______________EXC4: #REF!
Name _______________EXC5: #REF!
Name _______________EXC6: #REF!
Name _______________EXC7: #REF!
Name _______________EXC8: #REF!
Name _______________EXC9: #REF!

Sheet PRESUPUESTO 
B4: PRESUPUESTO OFICIAL
B5: OBJETO: | E5: RECUPERACION Y CONSERVACIÓN DE ÁREAS DE IMPORTANCIA ESTRATEGICA DE LA ZONA DE INFLUENCIA DEL COMPLEJO CENAGOSO DE CASCALOA DE MAGANGUÉ, BOLÍVAR
B7: PRESUPUESTO DE CONSTRUCCION
B9: No. | C9: ÌTEM DE PAGO | D9: ESPECIFICACIONES | F9: Descripcion | G9: Unidad | H9: Cantidad | I9: Valor Unitario | J9: Valor parcial
D10: GENERAL 2022 | E10: PARTICULAR
B12: 1 | C12: PRELIMINARES Y COMPLEMENTARIAS
B13: =B12+0.1 -> 1.1 | F13: Realizar el desplazamiento del equipo al sitio de la obra | G13: UND | H13: ='1.1'!M26 -> 8 | I13: ='APU CAP 1 ITEM-1.1'!H59 -> 20000000 | J13: =+ROUND(H13*I13,3) -> 1.6e+08
B14: =B13+0.1 -> 1.2 | F14: Realizar trabajos topográficos y batimétricos para la localización, trazado y replanteo (2 recorridos) | G14: MES | H14: ='1.2'!M26 -> 8 | I14: ='APU CAP 1 ITEM-1.2'!H59 -> 16000000 | J14: =+ROUND(H14*I14,3) -> 1.28e+08
F15: =CONCATENATE("Subtotal Capitulo: ",B12) -> Subtotal Capitulo: 1 | J15: =ROUND(SUM(J13:J14),3) -> 2.88e+08
B17: 2 | C17: EXPLANACIONES
B18: =B17+0.1 -> 2.1 | C18: 200.2 | D18: 200-22 | F18: Retiro de especies invasivas de flora acuática área de caño y ciénaga | G18: M2 | H18: ='2.1'!M26 -> 339520 | I18: ='APU CAP 2 ITEM- 2.1'!H55 -> 8823.1 | J18: =+ROUND(H18*I18,3) -> 2995618912
B19: =B18+0.1 -> 2.2 | C19: 210.1.1 | D19: 210-22 | F19: Realizar la excavación con maquina en lecho de caños y Ciénegas priorizados para el complejo hídricos de Cascaloa (Magangué) | G19: M3 | H19: ='2.2'!M26 -> 545110.88 | I19: ='APU CAP 2 ITEM- 2.2'!H59 -> 40480.7 | J19: =+ROUND(H19*I19,3) -> 2.206647e+10
B20: =B19+0.1 -> 2.3 | C20: 220.1 | D20: 220-22 | F20: Realizar extendida de material de excavación con espesor de 0.50 m | G20: M2 | H20: ='2.3'!M26 -> 1090221.8 | I20: ='APU CAP 2 ITEM- 2.3'!H59 -> 2588.3 | J20: =+ROUND(H20*I20,3) -> 2.821821e+09
F21: =CONCATENATE("Subtotal Capitulo: ",B17) -> Subtotal Capitulo: 2 | J21: =ROUND(SUM(J18:J20),3) -> 2.788391e+10
B23: 3 | C23: SUBBASE,BASE Y AFIRMADOS
B24: =B23+0.1 -> 3.1 | C24: 320.3 | D24: 320-22 | F24: Realizar talleres de capacitación en educación ambiental y participación comunitaria | G24: UN | H24: ='3.1'!M26 -> 12 | I24: ='APU CAP 3 ITEM- 3.1'!H59 -> 5774100.8 | J24: =+ROUND(H24*I24,3) -> 69289210
F25: =CONCATENATE("Subtotal Capitulo: ",B23) -> Subtotal Capitulo: 3 | J25: =ROUND(SUM(J24:J24),3) -> 69289210
B29: COSTO TOTAL OBRA FISICA | J29: =+J21+J25+J15 -> 2.8241199e+10
B31: TOTAL COSTOS DIRECTOS | J31: =+J29/1.3 -> 2.1723999e+10
B32: ADMINISTRACIÓN | I32: 0.22 | J32: =+$J$31*I32 -> 4.7792798e+09
B33: IMPREVISTOS | I33: 0.05 | J33: =+$J$31*I33 -> 1.0862e+09
B34: UTILIDAD | I34: 0.03 | J34: =+$J$31*I34 -> 6.5171998e+08
B36: VALOR TORAL DEL PROYECTO | J36: =+J31+J32+J33+J34 -> 2.8241199e+10

Sheet 1.1
A1: MEMORIA DE CANTIDADES DE OBRAS
A2: RECUPERACION Y CONSERVACIÓN DE ÁREAS DE IMPORTANCIA ESTRATEGICA DE LA ZONA DE INFLUENCIA DEL COMPLEJO CENAGOSO DE CASCALOA DE MAGANGUÉ, BOLÍVAR
A5: OBJETO DEL PROYECTO | G5: CAPITULO | H5: ='PRESUPUESTO '!B12 -> 1 | I5: ITEM | J5: ='PRESUPUESTO '!B13 -> 1.1 | K5: ='PRESUPUESTO '!B18 -> 2.1 | M5: UNIDAD
A6: ='PRESUPUESTO '!E5 -> RECUPERACION Y CONSERVACIÓN DE ÁREAS DE IMPORTANCIA ESTRATEGICA DE LA ZONA DE INFLUENCIA DEL COMPLEJO CENAGOSO DE CASCALOA DE MAGANGUÉ, BOLÍVAR | G6: =VLOOKUP(H5,'PRESUPUESTO '!B12:K26,2) -> PRELIMINARES Y COMPLEMENTARIAS | I6: =VLOOKUP(J5,'PRESUPUESTO '!B12:K26,5) -> Realizar el desplazamiento del equipo al sitio de la obra | M6: =VLOOKUP(J5,'PRESUPUESTO '!B12:K26,6) -> UND
A8: LOCALIZACION | G8: DESCRIPCION / ELEMENTO / AREA | H8: UNIDAD | I8: CANTIDAD | J8: LONGITUD | K8: ANCHO | L8: ALTO | M8: SUB TOTAL
G9: TRANSPORE DE EQUIPOS AL SITIO | H9: =IF(G9="","",$M$6) -> UND | I9: 8 | M9: =PRODUCT(I9:L9) -> 8
H10: =IF(G10="","",$M$6) | M10: =PRODUCT(I10:L10) -> 0
H11: =IF(G11="","",$M$6) | M11: =PRODUCT(I11:L11) -> 0
H12: =IF(G12="","",$M$6) | M12: =PRODUCT(I12:L12) -> 0
H13: =IF(G13="","",$M$6) | M13: =PRODUCT(I13:L13) -> 0
H14: =IF(G14="","",$M$6) | M14: =PRODUCT(I14:L14) -> 0
H15: =IF(G15="","",$M$6) | M15: =PRODUCT(I15:L15) -> 0
H16: =IF(G16="","",$M$6) | M16: =PRODUCT(I16:L16) -> 0
H17: =IF(G17="","",$M$6) | M17: =PRODUCT(I17:L17) -> 0
H18: =IF(G18="","",$M$6) | M18: =PRODUCT(I18:L18) -> 0
H19: =IF(G19="","",$M$6) | M19: =PRODUCT(I19:L19) -> 0
H20: =IF(G20="","",$M$6) | M20: =PRODUCT(I20:L20) -> 0
H21: =IF(G21="","",$M$6) | M21: =PRODUCT(I21:L21) -> 0
... H23: =IF(G23="","",$M$6) | M23: =PRODUCT(I23:L23) -> 0
A24: GRAFICA / ESQUEMA | H24: =IF(G24="","",$M$6)
G26: TOTAL CANTIDAD | H26: =M6 -> UND | M26: =SUM(M9:M24) -> 8
G30: OBSERVACIONES;
G33: Planos:
G35: Informe: | H35: Diseño Geometrico

Sheet 1.2
A1: MEMORIA DE CANTIDADES DE OBRAS
A2: RECUPERACION Y CONSERVACIÓN DE ÁREAS DE IMPORTANCIA ESTRATEGICA DE LA ZONA DE INFLUENCIA DEL COMPLEJO CENAGOSO DE CASCALOA DE MAGANGUÉ, BOLÍVAR
A5: OBJETO DEL PROYECTO | G5: CAPITULO | H5: ='PRESUPUESTO '!B12 -> 1 | I5: ITEM | J5: ='PRESUPUESTO '!B14 -> 1.2 | K5: ='PRESUPUESTO '!B18 -> 2.1 | M5: UNIDAD
A6: ='PRESUPUESTO '!E5 -> RECUPERACION Y CONSERVACIÓN DE ÁREAS DE IMPORTANCIA ESTRATEGICA DE LA ZONA DE INFLUENCIA DEL COMPLEJO CENAGOSO DE CASCALOA DE MAGANGUÉ, BOLÍVAR | G6: =VLOOKUP(H5,'PRESUPUESTO '!B12:K26,2) -> PRELIMINARES Y COMPLEMENTARIAS | I6: =VLOOKUP(J5,'PRESUPUESTO '!B12:K26,5) -> Realizar trabajos topográficos y batimétricos para la localización, trazado y replanteo (2 recorridos) | M6: =VLOOKUP(J5,'PRESUPUESTO '!B12:K26,6) -> MES
A8: LOCALIZACION | G8: DESCRIPCION / ELEMENTO / AREA | H8: UNIDAD | I8: CANTIDAD | J8: LONGITUD | K8: ANCHO | L8: ALTO | M8: SUB TOTAL
G9: CONTROL TOPOGRAFICO | H9: =IF(G9="","",$M$6) -> MES | I9: 8 | M9: =PRODUCT(I9:L9) -> 8
H10: =IF(G10="","",$M$6) | M10: =PRODUCT(I10:L10) -> 0
H11: =IF(G11="","",$M$6) | M11: =PRODUCT(I11:L11) -> 0
H12: =IF(G12="","",$M$6) | M12: =PRODUCT(I12:L12) -> 0
H13: =IF(G13="","",$M$6) | M13: =PRODUCT(I13:L13) -> 0
H14: =IF(G14="","",$M$6) | M14: =PRODUCT(I14:L14) -> 0
H15: =IF(G15="","",$M$6) | M15: =PRODUCT(I15:L15) -> 0
H16: =IF(G16="","",$M$6) | M16: =PRODUCT(I16:L16) -> 0
H17: =IF(G17="","",$M$6) | M17: =PRODUCT(I17:L17) -> 0
H18: =IF(G18="","",$M$6) | M18: =PRODUCT(I18:L18) -> 0
H19: =IF(G19="","",$M$6) | M19: =PRODUCT(I19:L19) -> 0
H20: =IF(G20="","",$M$6) | M20: =PRODUCT(I20:L20) -> 0
H21: =IF(G21="","",$M$6) | M21: =PRODUCT(I21:L21) -> 0
... H23: =IF(G23="","",$M$6) | M23: =PRODUCT(I23:L23) -> 0
A24: GRAFICA / ESQUEMA | H24: =IF(G24="","",$M$6)
G26: TOTAL CANTIDAD | H26: =M6 -> MES | M26: =SUM(M9:M24) -> 8
G30: OBSERVACIONES;
G33: Planos:
G35: Informe:

Sheet 1.4
A1: MEMORIA DE CANTIDADES DE OBRAS
A2: DEPARTAMENTO DE BOLIVAR
A3: CORREGIMIENTO DE CAUSADO, JURISDICCION DEL MUNICIPIO DE MARGARITA
A5: OBJETO DEL PROYECTO | G5: CAPITULO | H5: ='PRESUPUESTO '!B12 -> 1 | I5: ITEM | J5: ='PRESUPUESTO '!#REF! -> #REF! | K5: ='PRESUPUESTO '!B18 -> 2.1 | M5: UNIDAD
A6: ='PRESUPUESTO '!E5 -> RECUPERACION Y CONSERVACIÓN DE ÁREAS DE IMPORTANCIA ESTRATEGICA DE LA ZONA DE INFLUENCIA DEL COMPLEJO CENAGOSO DE CASCALOA DE MAGANGUÉ, BOLÍVAR | G6: =VLOOKUP(H5,'PRESUPUESTO '!B12:K26,2) -> PRELIMINARES Y COMPLEMENTARIAS | I6: =VLOOKUP(J5,'PRESUPUESTO '!B12:K26,5) -> #REF! | M6: =VLOOKUP(J5,'PRESUPUESTO '!B12:K26,6) -> #REF!
A8: LOCALIZACION | G8: DESCRIPCION / ELEMENTO / AREA | H8: UNIDAD | I8: CANTIDAD | J8: LONGITUD | K8: ANCHO | L8: ALTO | M8: SUB TOTAL
H9: =IF(G9="","",$M$6) | M9: =PRODUCT(I9:L9) -> 0
H10: =IF(G10="","",$M$6) | M10: =PRODUCT(I10:L10) -> 0
H11: =IF(G11="","",$M$6) | M11: =PRODUCT(I11:L11) -> 0
H12: =IF(G12="","",$M$6) | M12: =PRODUCT(I12:L12) -> 0
H13: =IF(G13="","",$M$6) | M13: =PRODUCT(I13:L13) -> 0
H14: =IF(G14="","",$M$6) | M14: =PRODUCT(I14:L14) -> 0
H15: =IF(G15="","",$M$6) | M15: =PRODUCT(I15:L15) -> 0
H16: =IF(G16="","",$M$6) | M16: =PRODUCT(I16:L16) -> 0
H17: =IF(G17="","",$M$6) | M17: =PRODUCT(I17:L17) -> 0
H18: =IF(G18="","",$M$6) | M18: =PRODUCT(I18:L18) -> 0
H19: =IF(G19="","",$M$6) | M19: =PRODUCT(I19:L19) -> 0
H20: =IF(G20="","",$M$6) | M20: =PRODUCT(I20:L20) -> 0
... H23: =IF(G23="","",$M$6) | M23: =PRODUCT(I23:L23) -> 0
A24: GRAFICA / ESQUEMA | H24: =IF(G24="","",$M$6)
G26: TOTAL CANTIDAD | H26: =M6 -> #REF! | M26: =SUM(M9:M24) -> 0
G30: OBSERVACIONES;
G33: Planos:
G35: Informe:
G40: ='PRESUPUESTO '!B42 -> 0
G41: ='PRESUPUESTO '!B43 -> 0
G42: ='PRESUPUESTO '!B44 -> 0

Sheet 1.5
A1: MEMORIA DE CANTIDADES DE OBRAS
A2: DEPARTAMENTO DE BOLIVAR
A3: CORREGIMIENTO DE CAUSADO, JURISDICCION DEL MUNICIPIO DE MARGARITA
A5: OBJETO DEL PROYECTO | G5: CAPITULO | H5: ='PRESUPUESTO '!B12 -> 1 | I5: ITEM | J5: ='PRESUPUESTO '!#REF! -> #REF! | K5: ='PRESUPUESTO '!B18 -> 2.1 | M5: UNIDAD
A6: ='PRESUPUESTO '!E5 -> RECUPERACION Y CONSERVACIÓN DE ÁREAS DE IMPORTANCIA ESTRATEGICA DE LA ZONA DE INFLUENCIA DEL COMPLEJO CENAGOSO DE CASCALOA DE MAGANGUÉ, BOLÍVAR | G6: =VLOOKUP(H5,'PRESUPUESTO '!B12:K26,2) -> PRELIMINARES Y COMPLEMENTARIAS | I6: =VLOOKUP(J5,'PRESUPUESTO '!B12:K26,5) -> #REF! | M6: =VLOOKUP(J5,'PRESUPUESTO '!B12:K26,6) -> #REF!
A8: LOCALIZACION | G8: DESCRIPCION / ELEMENTO / AREA | H8: UNIDAD | I8: CANTIDAD | J8: LONGITUD | K8: ANCHO | L8: ALTO | M8: SUB TOTAL
H9: =IF(G9="","",$M$6) | M9: =PRODUCT(I9:L9) -> 0
H10: =IF(G10="","",$M$6) | M10: =PRODUCT(I10:L10) -> 0
H11: =IF(G11="","",$M$6) | M11: =PRODUCT(I11:L11) -> 0
H12: =IF(G12="","",$M$6) | M12: =PRODUCT(I12:L12) -> 0
H13: =IF(G13="","",$M$6) | M13: =PRODUCT(I13:L13) -> 0
H14: =IF(G14="","",$M$6) | M14: =PRODUCT(I14:L14) -> 0
H15: =IF(G15="","",$M$6) | M15: =PRODUCT(I15:L15) -> 0
H16: =IF(G16="","",$M$6) | M16: =PRODUCT(I16:L16) -> 0
H17: =IF(G17="","",$M$6) | M17: =PRODUCT(I17:L17) -> 0
H18: =IF(G18="","",$M$6) | M18: =PRODUCT(I18:L18) -> 0
H19: =IF(G19="","",$M$6) | M19: =PRODUCT(I19:L19) -> 0
H20: =IF(G20="","",$M$6) | M20: =PRODUCT(I20:L20) -> 0
... H23: =IF(G23="","",$M$6) | M23: =PRODUCT(I23:L23) -> 0
A24: GRAFICA / ESQUEMA | H24: =IF(G24="","",$M$6)
G26: TOTAL CANTIDAD | H26: =M6 -> #REF! | M26: =SUM(M9:M24) -> 0
G30: OBSERVACIONES;
G33: Planos:
G35: Informe:
G40: ='PRESUPUESTO '!B42 -> 0
G41: ='PRESUPUESTO '!B43 -> 0
G42: ='PRESUPUESTO '!B44 -> 0

Sheet 1.6
A1: MEMORIA DE CANTIDADES DE OBRAS
A2: DEPARTAMENTO DE BOLIVAR
A3: CORREGIMIENTO DE CAUSADO, JURISDICCION DEL MUNICIPIO DE MARGARITA
A5: OBJETO DEL PROYECTO | G5: CAPITULO | H5: ='PRESUPUESTO '!B12 -> 1 | I5: ITEM | J5: ='PRESUPUESTO '!#REF! -> #REF! | K5: ='PRESUPUESTO '!B18 -> 2.1 | M5: UNIDAD
A6: ='PRESUPUESTO '!E5 -> RECUPERACION Y CONSERVACIÓN DE ÁREAS DE IMPORTANCIA ESTRATEGICA DE LA ZONA DE INFLUENCIA DEL COMPLEJO CENAGOSO DE CASCALOA DE MAGANGUÉ, BOLÍVAR | G6: =VLOOKUP(H5,'PRESUPUESTO '!B12:K26,2) -> PRELIMINARES Y COMPLEMENTARIAS | I6: =VLOOKUP(J5,'PRESUPUESTO '!B12:K26,5) -> #REF! | M6: =VLOOKUP(J5,'PRESUPUESTO '!B12:K26,6) -> #REF!
A8: LOCALIZACION | G8: DESCRIPCION / ELEMENTO / AREA | H8: UNIDAD | I8: CANTIDAD | J8: LONGITUD | K8: ANCHO | L8: ALTO | M8: SUB TOTAL
H9: =IF(G9="","",$M$6) | M9: =PRODUCT(I9:L9) -> 0
H10: =IF(G10="","",$M$6) | M10: =PRODUCT(I10:L10) -> 0
H11: =IF(G11="","",$M$6) | M11: =PRODUCT(I11:L11) -> 0
H12: =IF(G12="","",$M$6) | M12: =PRODUCT(I12:L12) -> 0
H13: =IF(G13="","",$M$6) | M13: =PRODUCT(I13:L13) -> 0
H14: =IF(G14="","",$M$6) | M14: =PRODUCT(I14:L14) -> 0
H15: =IF(G15="","",$M$6) | M15: =PRODUCT(I15:L15) -> 0
H16: =IF(G16="","",$M$6) | M16: =PRODUCT(I16:L16) -> 0
H17: =IF(G17="","",$M$6) | M17: =PRODUCT(I17:L17) -> 0
H18: =IF(G18="","",$M$6) | M18: =PRODUCT(I18:L18) -> 0
H19: =IF(G19="","",$M$6) | M19: =PRODUCT(I19:L19) -> 0
H20: =IF(G20="","",$M$6) | M20: =PRODUCT(I20:L20) -> 0
... H23: =IF(G23="","",$M$6) | M23: =PRODUCT(I23:L23) -> 0
A24: GRAFICA / ESQUEMA | H24: =IF(G24="","",$M$6)
G26: TOTAL CANTIDAD | H26: =M6 -> #REF! | M26: =SUM(M9:M24) -> 0
G30: OBSERVACIONES;
G33: Planos:
G35: Informe:
G40: ='PRESUPUESTO '!B42 -> 0
G41: ='PRESUPUESTO '!B43 -> 0
G42: ='PRESUPUESTO '!B44 -> 0

Sheet 2.1
A1: MEMORIA DE CANTIDADES DE OBRAS
A2: RECUPERACION Y CONSERVACIÓN DE ÁREAS DE IMPORTANCIA ESTRATEGICA DE LA ZONA DE INFLUENCIA DEL COMPLEJO CENAGOSO DE CASCALOA DE MAGANGUÉ, BOLÍVAR
A5: OBJETO DEL PROYECTO | G5: CAPITULO | H5: ='PRESUPUESTO '!B17 -> 2 | I5: ITEM | J5: ='PRESUPUESTO '!B18 -> 2.1 | K5: ='PRESUPUESTO '!B18 -> 2.1 | M5: UNIDAD
A6: ='PRESUPUESTO '!E5 -> RECUPERACION Y CONSERVACIÓN DE ÁREAS DE IMPORTANCIA ESTRATEGICA DE LA ZONA DE INFLUENCIA DEL COMPLEJO CENAGOSO DE CASCALOA DE MAGANGUÉ, BOLÍVAR | G6: =VLOOKUP(H5,'PRESUPUESTO '!B12:K26,2) -> EXPLANACIONES | I6: =VLOOKUP(J5,'PRESUPUESTO '!B12:K26,5) -> Retiro de especies invasivas de flora acuática área de caño y ciénaga | M6: =VLOOKUP(J5,'PRESUPUESTO '!B12:K26,6) -> M2
A8: LOCALIZACION | G8: DESCRIPCION / ELEMENTO / AREA | H8: UNIDAD | I8: CANTIDAD | J8: LONGITUD | K8: ANCHO | L8: ALTO | M8: SUB TOTAL
G9: AREA | H9: =IF(G9="","",$M$6) -> M2 | I9: 1 | J9: 21220 | K9: 16 | M9: =PRODUCT(I9:L9) -> 339520
H10: =IF(G10="","",$M$6) | M10: =PRODUCT(I10:L10) -> 0
H11: =IF(G11="","",$M$6) | M11: =PRODUCT(I11:L11) -> 0
H12: =IF(G12="","",$M$6) | M12: =PRODUCT(I12:L12) -> 0
H13: =IF(G13="","",$M$6) | M13: =PRODUCT(I13:L13) -> 0
H14: =IF(G14="","",$M$6) | M14: =PRODUCT(I14:L14) -> 0
H15: =IF(G15="","",$M$6) | M15: =PRODUCT(I15:L15) -> 0
H16: =IF(G16="","",$M$6) | M16: =PRODUCT(I16:L16) -> 0
H17: =IF(G17="","",$M$6) | M17: =PRODUCT(I17:L17) -> 0
H18: =IF(G18="","",$M$6) | M18: =PRODUCT(I18:L18) -> 0
H19: =IF(G19="","",$M$6) | M19: =PRODUCT(I19:L19) -> 0
H20: =IF(G20="","",$M$6) | M20: =PRODUCT(I20:L20) -> 0
H21: =IF(G21="","",$M$6) | M21: =PRODUCT(I21:L21) -> 0
... H23: =IF(G23="","",$M$6) | M23: =PRODUCT(I23:L23) -> 0
A24: GRAFICA / ESQUEMA | H24: =IF(G24="","",$M$6)
G26: TOTAL CANTIDAD | H26: =M6 -> M2 | M26: =SUM(M9:M24) -> 339520
G30: OBSERVACIONES;
G33: Planos:
G35: Informe: | H35: Diseño Geometrico

Sheet 2.2
A1: MEMORIA DE CANTIDADES DE OBRAS
A2: RECUPERACION Y CONSERVACIÓN DE ÁREAS DE IMPORTANCIA ESTRATEGICA DE LA ZONA DE INFLUENCIA DEL COMPLEJO CENAGOSO DE CASCALOA DE MAGANGUÉ, BOLÍVAR
A5: OBJETO DEL PROYECTO | G5: CAPITULO | H5: ='PRESUPUESTO '!B17 -> 2 | I5: ITEM | J5: ='PRESUPUESTO '!B19 -> 2.2 | K5: ='PRESUPUESTO '!B18 -> 2.1 | M5: UNIDAD
A6: ='PRESUPUESTO '!E5 -> RECUPERACION Y CONSERVACIÓN DE ÁREAS DE IMPORTANCIA ESTRATEGICA DE LA ZONA DE INFLUENCIA DEL COMPLEJO CENAGOSO DE CASCALOA DE MAGANGUÉ, BOLÍVAR | G6: =VLOOKUP(H5,'PRESUPUESTO '!B12:K26,2) -> EXPLANACIONES | I6: =VLOOKUP(J5,'PRESUPUESTO '!B12:K26,5) -> Realizar la excavación con maquina en lecho de caños y Ciénegas priorizados para el complejo hídricos de Cascaloa (Magangué) | M6: =VLOOKUP(J5,'PRESUPUESTO '!B12:K26,6) -> M3
A8: LOCALIZACION | G8: DESCRIPCION / ELEMENTO / AREA | H8: UNIDAD | I8: CANTIDAD | J8: LONGITUD | K8: ANCHO | L8: ALTO | M8: SUB TOTAL
G9: Volumen de corte | H9: =IF(G9="","",$M$6) -> M3 | I9: 1 | J9: 545110.88 | M9: =PRODUCT(I9:L9) -> 545110.88
H10: =IF(G10="","",$M$6) | M10: =PRODUCT(I10:L10) -> 0
H11: =IF(G11="","",$M$6) | M11: =PRODUCT(I11:L11) -> 0
H12: =IF(G12="","",$M$6) | M12: =PRODUCT(I12:L12) -> 0
H13: =IF(G13="","",$M$6) | M13: =PRODUCT(I13:L13) -> 0
H14: =IF(G14="","",$M$6) | M14: =PRODUCT(I14:L14) -> 0
H15: =IF(G15="","",$M$6) | M15: =PRODUCT(I15:L15) -> 0
H16: =IF(G16="","",$M$6) | M16: =PRODUCT(I16:L16) -> 0
H17: =IF(G17="","",$M$6) | M17: =PRODUCT(I17:L17) -> 0
H18: =IF(G18="","",$M$6) | M18: =PRODUCT(I18:L18) -> 0
H19: =IF(G19="","",$M$6) | M19: =PRODUCT(I19:L19) -> 0
H20: =IF(G20="","",$M$6) | M20: =PRODUCT(I20:L20) -> 0
H21: =IF(G21="","",$M$6) | M21: =PRODUCT(I21:L21) -> 0
... H23: =IF(G23="","",$M$6) | M23: =PRODUCT(I23:L23) -> 0
A24: GRAFICA / ESQUEMA | H24: =IF(G24="","",$M$6)
G26: TOTAL CANTIDAD | H26: =M6 -> M3 | M26: =SUM(M9:M24) -> 545110.88
G30: OBSERVACIONES; | H30: De acuerdo con los volumenes de corte presentados en Planos
G33: Planos: | H33: PL-PLANTA PERFIL DISENO GEO
G35: Informe: | H35: Diseño Geometrico

Sheet 2.3
A1: MEMORIA DE CANTIDADES DE OBRAS
A2: RECUPERACION Y CONSERVACIÓN DE ÁREAS DE IMPORTANCIA ESTRATEGICA DE LA ZONA DE INFLUENCIA DEL COMPLEJO CENAGOSO DE CASCALOA DE MAGANGUÉ, BOLÍVAR
A5: OBJETO DEL PROYECTO | G5: CAPITULO | H5: ='PRESUPUESTO '!B17 -> 2 | I5: ITEM | J5: ='PRESUPUESTO '!B20 -> 2.3 | K5: ='PRESUPUESTO '!B18 -> 2.1 | M5: UNIDAD
A6: ='PRESUPUESTO '!E5 -> RECUPERACION Y CONSERVACIÓN DE ÁREAS DE IMPORTANCIA ESTRATEGICA DE LA ZONA DE INFLUENCIA DEL COMPLEJO CENAGOSO DE CASCALOA DE MAGANGUÉ, BOLÍVAR | G6: =VLOOKUP(H5,'PRESUPUESTO '!B12:K26,2) -> EXPLANACIONES | I6: =VLOOKUP(J5,'PRESUPUESTO '!B12:K26,5) -> Realizar extendida de material de excavación con espesor de 0.50 m | M6: =VLOOKUP(J5,'PRESUPUESTO '!B12:K26,6) -> M2
A8: LOCALIZACION | G8: DESCRIPCION / ELEMENTO / AREA | H8: UNIDAD | I8: CANTIDAD | J8: VOLUMEN | K8: ANCHO | L8: ALTO | M8: SUB TOTAL
G9: Area | H9: =IF(G9="","",$M$6) -> M2 | I9: 1 | J9: ='2.2'!M26 -> 545110.88 | L9: 0.5 | M9: =J9/L9 -> 1090221.8
M10: =PRODUCT(I10:L10) -> 0
H11: =IF(G11="","",$M$6) | M11: =PRODUCT(I11:L11) -> 0
H12: =IF(G12="","",$M$6) | M12: =PRODUCT(I12:L12) -> 0
H13: =IF(G13="","",$M$6) | M13: =PRODUCT(I13:L13) -> 0
H14: =IF(G14="","",$M$6) | M14: =PRODUCT(I14:L14) -> 0
H15: =IF(G15="","",$M$6) | M15: =PRODUCT(I15:L15) -> 0
H16: =IF(G16="","",$M$6) | M16: =PRODUCT(I16:L16) -> 0
H17: =IF(G17="","",$M$6) | M17: =PRODUCT(I17:L17) -> 0
H18: =IF(G18="","",$M$6) | M18: =PRODUCT(I18:L18) -> 0
H19: =IF(G19="","",$M$6) | M19: =PRODUCT(I19:L19) -> 0
H20: =IF(G20="","",$M$6) | M20: =PRODUCT(I20:L20) -> 0
H21: =IF(G21="","",$M$6) | M21: =PRODUCT(I21:L21) -> 0
H22: =IF(G22="","",$M$6) | M22: =PRODUCT(I22:L22) -> 0
H23: =IF(G23="","",$M$6) | M23: =PRODUCT(I23:L23) -> 0
A24: GRAFICA / ESQUEMA | H24: =IF(G24="","",$M$6)
G26: TOTAL CANTIDAD | H26: =M6 -> M2 | M26: =SUM(M9:M24) -> 1090221.8
G30: OBSERVACIONES; | H30: De acuerdo con los volumenes de corte presentados en el diseño Geometrico
G33: Planos: | H33: PL-PLANTA PERFIL DISENO GEO
G35: Informe: | H35: Diseño Geometrico

Sheet 2.4
A1: MEMORIA DE CANTIDADES DE OBRAS
A2: DEPARTAMENTO DE BOLIVAR
A3: CORREGIMIENTO DE CAUSADO, JURISDICCION DEL MUNICIPIO DE MARGARITA
A5: OBJETO DEL PROYECTO | G5: CAPITULO | H5: ='PRESUPUESTO '!B17 -> 2 | I5: ITEM | J5: ='PRESUPUESTO '!#REF! -> #REF! | K5: ='PRESUPUESTO '!B18 -> 2.1 | M5: UNIDAD
A6: ='PRESUPUESTO '!E5 -> RECUPERACION Y CONSERVACIÓN DE ÁREAS DE IMPORTANCIA ESTRATEGICA DE LA ZONA DE INFLUENCIA DEL COMPLEJO CENAGOSO DE CASCALOA DE MAGANGUÉ, BOLÍVAR | G6: =VLOOKUP(H5,'PRESUPUESTO '!B12:K26,2) -> EXPLANACIONES | I6: =VLOOKUP(J5,'PRESUPUESTO '!B12:K26,5) -> #REF! | M6: =VLOOKUP(J5,'PRESUPUESTO '!B12:K26,6) -> #REF!
A8: LOCALIZACION | G8: DESCRIPCION / ELEMENTO / AREA | H8: UNIDAD | I8: CANTIDAD | J8: LONGITUD | K8: ANCHO | L8: ALTO | M8: SUB TOTAL
H9: =IF(G9="","",$M$6) | M9: =PRODUCT(I9:L9) -> 0
H10: =IF(G10="","",$M$6) | M10: =PRODUCT(I10:L10) -> 0
H11: =IF(G11="","",$M$6) | M11: =PRODUCT(I11:L11) -> 0
H12: =IF(G12="","",$M$6) | M12: =PRODUCT(I12:L12) -> 0
H13: =IF(G13="","",$M$6) | M13: =PRODUCT(I13:L13) -> 0
H14: =IF(G14="","",$M$6) | M14: =PRODUCT(I14:L14) -> 0
H15: =IF(G15="","",$M$6) | M15: =PRODUCT(I15:L15) -> 0
H16: =IF(G16="","",$M$6) | M16: =PRODUCT(I16:L16) -> 0
H17: =IF(G17="","",$M$6) | M17: =PRODUCT(I17:L17) -> 0
H18: =IF(G18="","",$M$6) | M18: =PRODUCT(I18:L18) -> 0
H19: =IF(G19="","",$M$6) | M19: =PRODUCT(I19:L19) -> 0
H20: =IF(G20="","",$M$6) | M20: =PRODUCT(I20:L20) -> 0
... H23: =IF(G23="","",$M$6) | M23: =PRODUCT(I23:L23) -> 0
A24: GRAFICA / ESQUEMA | H24: =IF(G24="","",$M$6)
G26: TOTAL CANTIDAD | H26: =M6 -> #REF! | M26: =SUM(M9:M24) -> 0
G30: OBSERVACIONES;
G33: Planos:
G35: Informe:
G40: ='PRESUPUESTO '!B42 -> 0
G41: ='PRESUPUESTO '!B43 -> 0
G42: ='PRESUPUESTO '!B44 -> 0

Sheet 2.5
A1: MEMORIA DE CANTIDADES DE OBRAS
A2: DEPARTAMENTO DE BOLIVAR
A3: CORREGIMIENTO DE CAUSADO, JURISDICCION DEL MUNICIPIO DE MARGARITA
A5: OBJETO DEL PROYECTO | G5: CAPITULO | H5: ='PRESUPUESTO '!B17 -> 2 | I5: ITEM | J5: ='PRESUPUESTO '!#REF! -> #REF! | K5: ='PRESUPUESTO '!B18 -> 2.1 | M5: UNIDAD
A6: ='PRESUPUESTO '!E5 -> RECUPERACION Y CONSERVACIÓN DE ÁREAS DE IMPORTANCIA ESTRATEGICA DE LA ZONA DE INFLUENCIA DEL COMPLEJO CENAGOSO DE CASCALOA DE MAGANGUÉ, BOLÍVAR | G6: =VLOOKUP(H5,'PRESUPUESTO '!B12:K26,2) -> EXPLANACIONES | I6: =VLOOKUP(J5,'PRESUPUESTO '!B12:K26,5) -> #REF! | M6: =VLOOKUP(J5,'PRESUPUESTO '!B12:K26,6) -> #REF!
A8: LOCALIZACION | G8: DESCRIPCION / ELEMENTO / AREA | H8: UNIDAD | I8: CANTIDAD | J8: LONGITUD | K8: ANCHO | L8: ALTO | M8: SUB TOTAL
H9: =IF(G9="","",$M$6) | M9: =PRODUCT(I9:L9) -> 0
H10: =IF(G10="","",$M$6) | M10: =PRODUCT(I10:L10) -> 0
H11: =IF(G11="","",$M$6) | M11: =PRODUCT(I11:L11) -> 0
H12: =IF(G12="","",$M$6) | M12: =PRODUCT(I12:L12) -> 0
H13: =IF(G13="","",$M$6) | M13: =PRODUCT(I13:L13) -> 0
H14: =IF(G14="","",$M$6) | M14: =PRODUCT(I14:L14) -> 0
H15: =IF(G15="","",$M$6) | M15: =PRODUCT(I15:L15) -> 0
H16: =IF(G16="","",$M$6) | M16: =PRODUCT(I16:L16) -> 0
H17: =IF(G17="","",$M$6) | M17: =PRODUCT(I17:L17) -> 0
H18: =IF(G18="","",$M$6) | M18: =PRODUCT(I18:L18) -> 0
H19: =IF(G19="","",$M$6) | M19: =PRODUCT(I19:L19) -> 0
H20: =IF(G20="","",$M$6) | M20: =PRODUCT(I20:L20) -> 0
... H23: =IF(G23="","",$M$6) | M23: =PRODUCT(I23:L23) -> 0
A24: GRAFICA / ESQUEMA | H24: =IF(G24="","",$M$6)
G26: TOTAL CANTIDAD | H26: =M6 -> #REF! | M26: =SUM(M9:M24) -> 0
G30: OBSERVACIONES;
G33: Planos:
G35: Informe:
G40: ='PRESUPUESTO '!B42 -> 0
G41: ='PRESUPUESTO '!B43 -> 0
G42: ='PRESUPUESTO '!B44 -> 0

Sheet 2.6
A1: MEMORIA DE CANTIDADES DE OBRAS
A2: DEPARTAMENTO DE BOLIVAR
A3: CORREGIMIENTO DE CAUSADO, JURISDICCION DEL MUNICIPIO DE MARGARITA
A5: OBJETO DEL PROYECTO | G5: CAPITULO | H5: ='PRESUPUESTO '!B17 -> 2 | I5: ITEM | J5: ='PRESUPUESTO '!#REF! -> #REF! | K5: ='PRESUPUESTO '!B18 -> 2.1 | M5: UNIDAD
A6: ='PRESUPUESTO '!E5 -> RECUPERACION Y CONSERVACIÓN DE ÁREAS DE IMPORTANCIA ESTRATEGICA DE LA ZONA DE INFLUENCIA DEL COMPLEJO CENAGOSO DE CASCALOA DE MAGANGUÉ, BOLÍVAR | G6: =VLOOKUP(H5,'PRESUPUESTO '!B12:K26,2) -> EXPLANACIONES | I6: =VLOOKUP(J5,'PRESUPUESTO '!B12:K26,5) -> #REF! | M6: =VLOOKUP(J5,'PRESUPUESTO '!B12:K26,6) -> #REF!
A8: LOCALIZACION | G8: DESCRIPCION / ELEMENTO / AREA | H8: UNIDAD | I8: CANTIDAD | J8: LONGITUD | K8: ANCHO | L8: ALTO | M8: SUB TOTAL
H9: =IF(G9="","",$M$6) | M9: =PRODUCT(I9:L9) -> 0
H10: =IF(G10="","",$M$6) | M10: =PRODUCT(I10:L10) -> 0
H11: =IF(G11="","",$M$6) | M11: =PRODUCT(I11:L11) -> 0
H12: =IF(G12="","",$M$6) | M12: =PRODUCT(I12:L12) -> 0
H13: =IF(G13="","",$M$6) | M13: =PRODUCT(I13:L13) -> 0
H14: =IF(G14="","",$M$6) | M14: =PRODUCT(I14:L14) -> 0
H15: =IF(G15="","",$M$6) | M15: =PRODUCT(I15:L15) -> 0
H16: =IF(G16="","",$M$6) | M16: =PRODUCT(I16:L16) -> 0
H17: =IF(G17="","",$M$6) | M17: =PRODUCT(I17:L17) -> 0
H18: =IF(G18="","",$M$6) | M18: =PRODUCT(I18:L18) -> 0
H19: =IF(G19="","",$M$6) | M19: =PRODUCT(I19:L19) -> 0
H20: =IF(G20="","",$M$6) | M20: =PRODUCT(I20:L20) -> 0
... H23: =IF(G23="","",$M$6) | M23: =PRODUCT(I23:L23) -> 0
A24: GRAFICA / ESQUEMA | H24: =IF(G24="","",$M$6)
G26: TOTAL CANTIDAD | H26: =M6 -> #REF! | M26: =SUM(M9:M24) -> 0
G30: OBSERVACIONES;
G33: Planos:
G35: Informe:
G40: ='PRESUPUESTO '!B42 -> 0
G41: ='PRESUPUESTO '!B43 -> 0
G42: ='PRESUPUESTO '!B44 -> 0

Sheet 3.1
A1: MEMORIA DE CANTIDADES DE OBRAS
A2: RECUPERACION Y CONSERVACIÓN DE ÁREAS DE IMPORTANCIA ESTRATEGICA DE LA ZONA DE INFLUENCIA DEL COMPLEJO CENAGOSO DE CASCALOA DE MAGANGUÉ, BOLÍVAR
A5: OBJETO DEL PROYECTO | G5: CAPITULO | H5: ='PRESUPUESTO '!B23 -> 3 | I5: ITEM | J5: ='PRESUPUESTO '!B24 -> 3.1 | K5: ='PRESUPUESTO '!B18 -> 2.1 | M5: UNIDAD
A6: ='PRESUPUESTO '!E5 -> RECUPERACION Y CONSERVACIÓN DE ÁREAS DE IMPORTANCIA ESTRATEGICA DE LA ZONA DE INFLUENCIA DEL COMPLEJO CENAGOSO DE CASCALOA DE MAGANGUÉ, BOLÍVAR | G6: =VLOOKUP(H5,'PRESUPUESTO '!B12:K26,2) -> SUBBASE,BASE Y AFIRMADOS | I6: =VLOOKUP(J5,'PRESUPUESTO '!B12:K26,5) -> Realizar talleres de capacitación en educación ambiental y participación comunitaria | M6: =VLOOKUP(J5,'PRESUPUESTO '!B12:K26,6) -> UN
A8: LOCALIZACION | G8: DESCRIPCION / ELEMENTO / AREA | H8: UNIDAD | I8: CANTIDAD | J8: LONGITUD | K8: ANCHO | L8: ALTO | M8: SUB TOTAL
G9: TALLERES | H9: =IF(G9="","",$M$6) -> UN | I9: 12 | M9: =PRODUCT(I9:L9) -> 12
H10: =IF(G10="","",$M$6) | M10: =PRODUCT(I10:L10) -> 0
H11: =IF(G11="","",$M$6) | M11: =PRODUCT(I11:L11) -> 0
H12: =IF(G12="","",$M$6) | M12: =PRODUCT(I12:L12) -> 0
H13: =IF(G13="","",$M$6) | M13: =PRODUCT(I13:L13) -> 0
H14: =IF(G14="","",$M$6) | M14: =PRODUCT(I14:L14) -> 0
H15: =IF(G15="","",$M$6) | M15: =PRODUCT(I15:L15) -> 0
H16: =IF(G16="","",$M$6) | M16: =PRODUCT(I16:L16) -> 0
H17: =IF(G17="","",$M$6) | M17: =PRODUCT(I17:L17) -> 0
H18: =IF(G18="","",$M$6) | M18: =PRODUCT(I18:L18) -> 0
H19: =IF(G19="","",$M$6) | M19: =PRODUCT(I19:L19) -> 0
H20: =IF(G20="","",$M$6) | M20: =PRODUCT(I20:L20) -> 0
H21: =IF(G21="","",$M$6) | M21: =PRODUCT(I21:L21) -> 0
... H23: =IF(G23="","",$M$6) | M23: =PRODUCT(I23:L23) -> 0
A24: GRAFICA / ESQUEMA | H24: =IF(G24="","",$M$6)
G26: TOTAL CANTIDAD | H26: =M6 -> UN | M26: =SUM(M9:M24) -> 12
G30: OBSERVACIONES;
G33: Planos:
G35: Informe:

Sheet 3.2
A1: MEMORIA DE CANTIDADES DE OBRAS
A2: DEPARTAMENTO DE BOLIVAR
A3: CORREGIMIENTO DE CAUSADO, JURISDICCION DEL MUNICIPIO DE MARGARITA
A5: OBJETO DEL PROYECTO | G5: CAPITULO | H5: ='PRESUPUESTO '!B23 -> 3 | I5: ITEM | J5: ='PRESUPUESTO '!#REF! -> #REF! | K5: ='PRESUPUESTO '!B18 -> 2.1 | M5: UNIDAD
A6: ='PRESUPUESTO '!E5 -> RECUPERACION Y CONSERVACIÓN DE ÁREAS DE IMPORTANCIA ESTRATEGICA DE LA ZONA DE INFLUENCIA DEL COMPLEJO CENAGOSO DE CASCALOA DE MAGANGUÉ, BOLÍVAR | G6: =VLOOKUP(H5,'PRESUPUESTO '!B12:K26,2) -> SUBBASE,BASE Y AFIRMADOS | I6: =VLOOKUP(J5,'PRESUPUESTO '!B12:K26,5) -> #REF! | M6: =VLOOKUP(J5,'PRESUPUESTO '!B12:K26,6) -> #REF!
A8: LOCALIZACION | G8: DESCRIPCION / ELEMENTO / AREA | H8: UNIDAD | I8: CANTIDAD | J8: LONGITUD | K8: ANCHO | L8: ALTO | M8: SUB TOTAL
H9: =IF(G9="","",$M$6) | M9: =PRODUCT(I9:L9) -> 0
H10: =IF(G10="","",$M$6) | M10: =PRODUCT(I10:L10) -> 0
H11: =IF(G11="","",$M$6) | M11: =PRODUCT(I11:L11) -> 0
H12: =IF(G12="","",$M$6) | M12: =PRODUCT(I12:L12) -> 0
H13: =IF(G13="","",$M$6) | M13: =PRODUCT(I13:L13) -> 0
H14: =IF(G14="","",$M$6) | M14: =PRODUCT(I14:L14) -> 0
H15: =IF(G15="","",$M$6) | M15: =PRODUCT(I15:L15) -> 0
H16: =IF(G16="","",$M$6) | M16: =PRODUCT(I16:L16) -> 0
H17: =IF(G17="","",$M$6) | M17: =PRODUCT(I17:L17) -> 0
H18: =IF(G18="","",$M$6) | M18: =PRODUCT(I18:L18) -> 0
H19: =IF(G19="","",$M$6) | M19: =PRODUCT(I19:L19) -> 0
H20: =IF(G20="","",$M$6) | M20: =PRODUCT(I20:L20) -> 0
... H23: =IF(G23="","",$M$6) | M23: =PRODUCT(I23:L23) -> 0
A24: GRAFICA / ESQUEMA | H24: =IF(G24="","",$M$6)
G26: TOTAL CANTIDAD | H26: =M6 -> #REF! | M26: =SUM(M9:M24) -> 0
G30: OBSERVACIONES;
G33: Planos:
G35: Informe:
G40: ='PRESUPUESTO '!B42 -> 0
G41: ='PRESUPUESTO '!B43 -> 0
G42: ='PRESUPUESTO '!B44 -> 0

Sheet 3.3
A1: MEMORIA DE CANTIDADES DE OBRAS
A2: DEPARTAMENTO DE BOLIVAR
A3: CORREGIMIENTO DE CAUSADO, JURISDICCION DEL MUNICIPIO DE MARGARITA
A5: OBJETO DEL PROYECTO | G5: CAPITULO | H5: ='PRESUPUESTO '!B23 -> 3 | I5: ITEM | J5: ='PRESUPUESTO '!#REF! -> #REF! | K5: ='PRESUPUESTO '!B18 -> 2.1 | M5: UNIDAD
A6: ='PRESUPUESTO '!E5 -> RECUPERACION Y CONSERVACIÓN DE ÁREAS DE IMPORTANCIA ESTRATEGICA DE LA ZONA DE INFLUENCIA DEL COMPLEJO CENAGOSO DE CASCALOA DE MAGANGUÉ, BOLÍVAR | G6: =VLOOKUP(H5,'PRESUPUESTO '!B12:K26,2) -> SUBBASE,BASE Y AFIRMADOS | I6: =VLOOKUP(J5,'PRESUPUESTO '!B12:K26,5) -> #REF! | M6: =VLOOKUP(J5,'PRESUPUESTO '!B12:K26,6) -> #REF!
A8: LOCALIZACION | G8: DESCRIPCION / ELEMENTO / AREA | H8: UNIDAD | I8: CANTIDAD | J8: LONGITUD | K8: ANCHO | L8: ALTO | M8: SUB TOTAL
H9: =IF(G9="","",$M$6) | M9: =PRODUCT(I9:L9) -> 0
H10: =IF(G10="","",$M$6) | M10: =PRODUCT(I10:L10) -> 0
H11: =IF(G11="","",$M$6) | M11: =PRODUCT(I11:L11) -> 0
H12: =IF(G12="","",$M$6) | M12: =PRODUCT(I12:L12) -> 0
H13: =IF(G13="","",$M$6) | M13: =PRODUCT(I13:L13) -> 0
H14: =IF(G14="","",$M$6) | M14: =PRODUCT(I14:L14) -> 0
H15: =IF(G15="","",$M$6) | M15: =PRODUCT(I15:L15) -> 0
H16: =IF(G16="","",$M$6) | M16: =PRODUCT(I16:L16) -> 0
H17: =IF(G17="","",$M$6) | M17: =PRODUCT(I17:L17) -> 0
H18: =IF(G18="","",$M$6) | M18: =PRODUCT(I18:L18) -> 0
H19: =IF(G19="","",$M$6) | M19: =PRODUCT(I19:L19) -> 0
H20: =IF(G20="","",$M$6) | M20: =PRODUCT(I20:L20) -> 0
... H23: =IF(G23="","",$M$6) | M23: =PRODUCT(I23:L23) -> 0
A24: GRAFICA / ESQUEMA | H24: =IF(G24="","",$M$6)
G26: TOTAL CANTIDAD | H26: =M6 -> #REF! | M26: =SUM(M9:M24) -> 0
G30: OBSERVACIONES;
G33: Planos:
G35: Informe:
G40: ='PRESUPUESTO '!B42 -> 0
G41: ='PRESUPUESTO '!B43 -> 0
G42: ='PRESUPUESTO '!B44 -> 0

Sheet 3.4
A1: MEMORIA DE CANTIDADES DE OBRAS
A2: DEPARTAMENTO DE BOLIVAR
A3: CORREGIMIENTO DE CAUSADO, JURISDICCION DEL MUNICIPIO DE MARGARITA
A5: OBJETO DEL PROYECTO | G5: CAPITULO | H5: ='PRESUPUESTO '!B23 -> 3 | I5: ITEM | J5: ='PRESUPUESTO '!#REF! -> #REF! | K5: ='PRESUPUESTO '!B18 -> 2.1 | M5: UNIDAD
A6: ='PRESUPUESTO '!E5 -> RECUPERACION Y CONSERVACIÓN DE ÁREAS DE IMPORTANCIA ESTRATEGICA DE LA ZONA DE INFLUENCIA DEL COMPLEJO CENAGOSO DE CASCALOA DE MAGANGUÉ, BOLÍVAR | G6: =VLOOKUP(H5,'PRESUPUESTO '!B12:K26,2) -> SUBBASE,BASE Y AFIRMADOS | I6: =VLOOKUP(J5,'PRESUPUESTO '!B12:K26,5) -> #REF! | M6: =VLOOKUP(J5,'PRESUPUESTO '!B12:K26,6) -> #REF!
A8: LOCALIZACION | G8: DESCRIPCION / ELEMENTO / AREA | H8: UNIDAD | I8: CANTIDAD | J8: LONGITUD | K8: ANCHO | L8: ALTO | M8: SUB TOTAL
H9: =IF(G9="","",$M$6) | M9: =PRODUCT(I9:L9) -> 0
H10: =IF(G10="","",$M$6) | M10: =PRODUCT(I10:L10) -> 0
H11: =IF(G11="","",$M$6) | M11: =PRODUCT(I11:L11) -> 0
H12: =IF(G12="","",$M$6) | M12: =PRODUCT(I12:L12) -> 0
H13: =IF(G13="","",$M$6) | M13: =PRODUCT(I13:L13) -> 0
H14: =IF(G14="","",$M$6) | M14: =PRODUCT(I14:L14) -> 0
H15: =IF(G15="","",$M$6) | M15: =PRODUCT(I15:L15) -> 0
H16: =IF(G16="","",$M$6) | M16: =PRODUCT(I16:L16) -> 0
H17: =IF(G17="","",$M$6) | M17: =PRODUCT(I17:L17) -> 0
H18: =IF(G18="","",$M$6) | M18: =PRODUCT(I18:L18) -> 0
H19: =IF(G19="","",$M$6) | M19: =PRODUCT(I19:L19) -> 0
H20: =IF(G20="","",$M$6) | M20: =PRODUCT(I20:L20) -> 0
... H23: =IF(G23="","",$M$6) | M23: =PRODUCT(I23:L23) -> 0
A24: GRAFICA / ESQUEMA | H24: =IF(G24="","",$M$6)
G26: TOTAL CANTIDAD | H26: =M6 -> #REF! | M26: =SUM(M9:M24) -> 0
G30: OBSERVACIONES;
G33: Planos:
G35: Informe:
G40: ='PRESUPUESTO '!B42 -> 0
G41: ='PRESUPUESTO '!B43 -> 0
G42: ='PRESUPUESTO '!B44 -> 0

Sheet 3.5
A1: MEMORIA DE CANTIDADES DE OBRAS
A2: DEPARTAMENTO DE BOLIVAR
A3: CORREGIMIENTO DE CAUSADO, JURISDICCION DEL MUNICIPIO DE MARGARITA
A5: OBJETO DEL PROYECTO | G5: CAPITULO | H5: ='PRESUPUESTO '!B23 -> 3 | I5: ITEM | J5: ='PRESUPUESTO '!#REF! -> #REF! | K5: ='PRESUPUESTO '!B18 -> 2.1 | M5: UNIDAD
A6: ='PRESUPUESTO '!E5 -> RECUPERACION Y CONSERVACIÓN DE ÁREAS DE IMPORTANCIA ESTRATEGICA DE LA ZONA DE INFLUENCIA DEL COMPLEJO CENAGOSO DE CASCALOA DE MAGANGUÉ, BOLÍVAR | G6: =VLOOKUP(H5,'PRESUPUESTO '!B12:K26,2) -> SUBBASE,BASE Y AFIRMADOS | I6: =VLOOKUP(J5,'PRESUPUESTO '!B12:K26,5) -> #REF! | M6: =VLOOKUP(J5,'PRESUPUESTO '!B12:K26,6) -> #REF!
A8: LOCALIZACION | G8: DESCRIPCION / ELEMENTO / AREA | H8: UNIDAD | I8: CANTIDAD | J8: LONGITUD | K8: ANCHO | L8: ALTO | M8: SUB TOTAL
H9: =IF(G9="","",$M$6) | M9: =PRODUCT(I9:L9) -> 0
H10: =IF(G10="","",$M$6) | M10: =PRODUCT(I10:L10) -> 0
H11: =IF(G11="","",$M$6) | M11: =PRODUCT(I11:L11) -> 0
H12: =IF(G12="","",$M$6) | M12: =PRODUCT(I12:L12) -> 0
H13: =IF(G13="","",$M$6) | M13: =PRODUCT(I13:L13) -> 0
H14: =IF(G14="","",$M$6) | M14: =PRODUCT(I14:L14) -> 0
H15: =IF(G15="","",$M$6) | M15: =PRODUCT(I15:L15) -> 0
H16: =IF(G16="","",$M$6) | M16: =PRODUCT(I16:L16) -> 0
H17: =IF(G17="","",$M$6) | M17: =PRODUCT(I17:L17) -> 0
H18: =IF(G18="","",$M$6) | M18: =PRODUCT(I18:L18) -> 0
H19: =IF(G19="","",$M$6) | M19: =PRODUCT(I19:L19) -> 0
H20: =IF(G20="","",$M$6) | M20: =PRODUCT(I20:L20) -> 0
... H23: =IF(G23="","",$M$6) | M23: =PRODUCT(I23:L23) -> 0
A24: GRAFICA / ESQUEMA | H24: =IF(G24="","",$M$6)
G26: TOTAL CANTIDAD | H26: =M6 -> #REF! | M26: =SUM(M9:M24) -> 0
G30: OBSERVACIONES;
G33: Planos:
G35: Informe:
G40: ='PRESUPUESTO '!B42 -> 0
G41: ='PRESUPUESTO '!B43 -> 0
G42: ='PRESUPUESTO '!B44 -> 0

Sheet 3.6
A1: MEMORIA DE CANTIDADES DE OBRAS
A2: DEPARTAMENTO DE BOLIVAR
A3: CORREGIMIENTO DE CAUSADO, JURISDICCION DEL MUNICIPIO DE MARGARITA
A5: OBJETO DEL PROYECTO | G5: CAPITULO | H5: ='PRESUPUESTO '!B23 -> 3 | I5: ITEM | J5: ='PRESUPUESTO '!#REF! -> #REF! | K5: ='PRESUPUESTO '!B18 -> 2.1 | M5: UNIDAD
A6: ='PRESUPUESTO '!E5 -> RECUPERACION Y CONSERVACIÓN DE ÁREAS DE IMPORTANCIA ESTRATEGICA DE LA ZONA DE INFLUENCIA DEL COMPLEJO CENAGOSO DE CASCALOA DE MAGANGUÉ, BOLÍVAR | G6: =VLOOKUP(H5,'PRESUPUESTO '!B12:K26,2) -> SUBBASE,BASE Y AFIRMADOS | I6: =VLOOKUP(J5,'PRESUPUESTO '!B12:K26,5) -> #REF! | M6: =VLOOKUP(J5,'PRESUPUESTO '!B12:K26,6) -> #REF!
A8: LOCALIZACION | G8: DESCRIPCION / ELEMENTO / AREA | H8: UNIDAD | I8: CANTIDAD | J8: LONGITUD | K8: ANCHO | L8: ALTO | M8: SUB TOTAL
H9: =IF(G9="","",$M$6) | M9: =PRODUCT(I9:L9) -> 0
H10: =IF(G10="","",$M$6) | M10: =PRODUCT(I10:L10) -> 0
H11: =IF(G11="","",$M$6) | M11: =PRODUCT(I11:L11) -> 0
H12: =IF(G12="","",$M$6) | M12: =PRODUCT(I12:L12) -> 0
H13: =IF(G13="","",$M$6) | M13: =PRODUCT(I13:L13) -> 0
H14: =IF(G14="","",$M$6) | M14: =PRODUCT(I14:L14) -> 0
H15: =IF(G15="","",$M$6) | M15: =PRODUCT(I15:L15) -> 0
H16: =IF(G16="","",$M$6) | M16: =PRODUCT(I16:L16) -> 0
H17: =IF(G17="","",$M$6) | M17: =PRODUCT(I17:L17) -> 0
H18: =IF(G18="","",$M$6) | M18: =PRODUCT(I18:L18) -> 0
H19: =IF(G19="","",$M$6) | M19: =PRODUCT(I19:L19) -> 0
H20: =IF(G20="","",$M$6) | M20: =PRODUCT(I20:L20) -> 0
... H23: =IF(G23="","",$M$6) | M23: =PRODUCT(I23:L23) -> 0
A24: GRAFICA / ESQUEMA | H24: =IF(G24="","",$M$6)
G26: TOTAL CANTIDAD | H26: =M6 -> #REF! | M26: =SUM(M9:M24) -> 0
G30: OBSERVACIONES;
G33: Planos:
G35: Informe:
G40: ='PRESUPUESTO '!B42 -> 0
G41: ='PRESUPUESTO '!B43 -> 0
G42: ='PRESUPUESTO '!B44 -> 0

Sheet 4.5
A1: MEMORIA DE CANTIDADES DE OBRAS
A2: DEPARTAMENTO DE BOLIVAR
A3: CORREGIMIENTO DE CAUSADO, JURISDICCION DEL MUNICIPIO DE MARGARITA
A5: OBJETO DEL PROYECTO | G5: CAPITULO | H5: ='PRESUPUESTO '!#REF! -> #REF! | I5: ITEM | J5: ='PRESUPUESTO '!#REF! -> #REF! | K5: ='PRESUPUESTO '!B18 -> 2.1 | M5: UNIDAD
A6: ='PRESUPUESTO '!E5 -> RECUPERACION Y CONSERVACIÓN DE ÁREAS DE IMPORTANCIA ESTRATEGICA DE LA ZONA DE INFLUENCIA DEL COMPLEJO CENAGOSO DE CASCALOA DE MAGANGUÉ, BOLÍVAR | G6: =VLOOKUP(H5,'PRESUPUESTO '!B12:K26,2) -> #REF! | I6: =VLOOKUP(J5,'PRESUPUESTO '!B12:K26,5) -> #REF! | M6: =VLOOKUP(J5,'PRESUPUESTO '!B12:K26,6) -> #REF!
A8: LOCALIZACION | G8: DESCRIPCION / ELEMENTO / AREA | H8: UNIDAD | I8: CANTIDAD | J8: LONGITUD | K8: ANCHO | L8: ALTO | M8: SUB TOTAL
H9: =IF(G9="","",$M$6) | M9: =PRODUCT(I9:L9) -> 0
H10: =IF(G10="","",$M$6) | M10: =PRODUCT(I10:L10) -> 0
H11: =IF(G11="","",$M$6) | M11: =PRODUCT(I11:L11) -> 0
H12: =IF(G12="","",$M$6) | M12: =PRODUCT(I12:L12) -> 0
H13: =IF(G13="","",$M$6) | M13: =PRODUCT(I13:L13) -> 0
H14: =IF(G14="","",$M$6) | M14: =PRODUCT(I14:L14) -> 0
H15: =IF(G15="","",$M$6) | M15: =PRODUCT(I15:L15) -> 0
H16: =IF(G16="","",$M$6) | M16: =PRODUCT(I16:L16) -> 0
H17: =IF(G17="","",$M$6) | M17: =PRODUCT(I17:L17) -> 0
H18: =IF(G18="","",$M$6) | M18: =PRODUCT(I18:L18) -> 0
H19: =IF(G19="","",$M$6) | M19: =PRODUCT(I19:L19) -> 0
H20: =IF(G20="","",$M$6) | M20: =PRODUCT(I20:L20) -> 0
... H23: =IF(G23="","",$M$6) | M23: =PRODUCT(I23:L23) -> 0
A24: GRAFICA / ESQUEMA | H24: =IF(G24="","",$M$6)
G26: TOTAL CANTIDAD | H26: =M6 -> #REF! | M26: =SUM(M9:M24) -> 0
G30: OBSERVACIONES;
G33: Planos:
G35: Informe:
G40: ='PRESUPUESTO '!B42 -> 0
G41: ='PRESUPUESTO '!B43 -> 0
G42: ='PRESUPUESTO '!B44 -> 0

Sheet 4.6
A1: MEMORIA DE CANTIDADES DE OBRAS
A2: DEPARTAMENTO DE BOLIVAR
A3: CORREGIMIENTO DE CAUSADO, JURISDICCION DEL MUNICIPIO DE MARGARITA
A5: OBJETO DEL PROYECTO | G5: CAPITULO | H5: ='PRESUPUESTO '!#REF! -> #REF! | I5: ITEM | J5: ='PRESUPUESTO '!#REF! -> #REF! | K5: ='PRESUPUESTO '!B18 -> 2.1 | M5: UNIDAD
A6: ='PRESUPUESTO '!E5 -> RECUPERACION Y CONSERVACIÓN DE ÁREAS DE IMPORTANCIA ESTRATEGICA DE LA ZONA DE INFLUENCIA DEL COMPLEJO CENAGOSO DE CASCALOA DE MAGANGUÉ, BOLÍVAR | G6: =VLOOKUP(H5,'PRESUPUESTO '!B12:K26,2) -> #REF! | I6: =VLOOKUP(J5,'PRESUPUESTO '!B12:K26,5) -> #REF! | M6: =VLOOKUP(J5,'PRESUPUESTO '!B12:K26,6) -> #REF!
A8: LOCALIZACION | G8: DESCRIPCION / ELEMENTO / AREA | H8: UNIDAD | I8: CANTIDAD | J8: LONGITUD | K8: ANCHO | L8: ALTO | M8: SUB TOTAL
H9: =IF(G9="","",$M$6) | M9: =PRODUCT(I9:L9) -> 0
H10: =IF(G10="","",$M$6) | M10: =PRODUCT(I10:L10) -> 0
H11: =IF(G11="","",$M$6) | M11: =PRODUCT(I11:L11) -> 0
H12: =IF(G12="","",$M$6) | M12: =PRODUCT(I12:L12) -> 0
H13: =IF(G13="","",$M$6) | M13: =PRODUCT(I13:L13) -> 0
H14: =IF(G14="","",$M$6) | M14: =PRODUCT(I14:L14) -> 0
H15: =IF(G15="","",$M$6) | M15: =PRODUCT(I15:L15) -> 0
H16: =IF(G16="","",$M$6) | M16: =PRODUCT(I16:L16) -> 0
H17: =IF(G17="","",$M$6) | M17: =PRODUCT(I17:L17) -> 0
H18: =IF(G18="","",$M$6) | M18: =PRODUCT(I18:L18) -> 0
H19: =IF(G19="","",$M$6) | M19: =PRODUCT(I19:L19) -> 0
H20: =IF(G20="","",$M$6) | M20: =PRODUCT(I20:L20) -> 0
... H23: =IF(G23="","",$M$6) | M23: =PRODUCT(I23:L23) -> 0
A24: GRAFICA / ESQUEMA | H24: =IF(G24="","",$M$6)
G26: TOTAL CANTIDAD | H26: =M6 -> #REF! | M26: =SUM(M9:M24) -> 0
G30: OBSERVACIONES;
G33: Planos:
G35: Informe:
G40: ='PRESUPUESTO '!B42 -> 0
G41: ='PRESUPUESTO '!B43 -> 0
G42: ='PRESUPUESTO '!B44 -> 0

Sheet 5.1
A1: MEMORIA DE CANTIDADES DE OBRAS
A2: DEPARTAMENTO DE BOLIVAR
A3: CORREGIMIENTO DE CAUSADO, JURISDICCION DEL MUNICIPIO DE MARGARITA
A5: OBJETO DEL PROYECTO | G5: CAPITULO | H5: ='PRESUPUESTO '!#REF! -> #REF! | I5: ITEM | J5: ='PRESUPUESTO '!#REF! -> #REF! | K5: ='PRESUPUESTO '!B18 -> 2.1 | M5: UNIDAD
A6: ='PRESUPUESTO '!E5 -> RECUPERACION Y CONSERVACIÓN DE ÁREAS DE IMPORTANCIA ESTRATEGICA DE LA ZONA DE INFLUENCIA DEL COMPLEJO CENAGOSO DE CASCALOA DE MAGANGUÉ, BOLÍVAR | G6: =VLOOKUP(H5,'PRESUPUESTO '!B12:K26,2) -> #REF! | I6: =VLOOKUP(J5,'PRESUPUESTO '!B12:K26,5) -> #REF! | M6: =VLOOKUP(J5,'PRESUPUESTO '!B12:K26,6) -> #REF!
A8: LOCALIZACION | G8: DESCRIPCION / ELEMENTO / AREA | H8: UNIDAD | I8: CANTIDAD | J8: LONGITUD | K8: ANCHO | L8: ALTO | M8: SUB TOTAL
H9: =IF(G9="","",$M$6) | M9: =PRODUCT(I9:L9) -> 0
H10: =IF(G10="","",$M$6) | M10: =PRODUCT(I10:L10) -> 0
H11: =IF(G11="","",$M$6) | M11: =PRODUCT(I11:L11) -> 0
H12: =IF(G12="","",$M$6) | M12: =PRODUCT(I12:L12) -> 0
H13: =IF(G13="","",$M$6) | M13: =PRODUCT(I13:L13) -> 0
H14: =IF(G14="","",$M$6) | M14: =PRODUCT(I14:L14) -> 0
H15: =IF(G15="","",$M$6) | M15: =PRODUCT(I15:L15) -> 0
H16: =IF(G16="","",$M$6) | M16: =PRODUCT(I16:L16) -> 0
H17: =IF(G17="","",$M$6) | M17: =PRODUCT(I17:L17) -> 0
H18: =IF(G18="","",$M$6) | M18: =PRODUCT(I18:L18) -> 0
H19: =IF(G19="","",$M$6) | M19: =PRODUCT(I19:L19) -> 0
H20: =IF(G20="","",$M$6) | M20: =PRODUCT(I20:L20) -> 0
... H23: =IF(G23="","",$M$6) | M23: =PRODUCT(I23:L23) -> 0
A24: GRAFICA / ESQUEMA | H24: =IF(G24="","",$M$6)
G26: TOTAL CANTIDAD | H26: =M6 -> #REF! | M26: =SUM(M9:M24) -> 0
G30: OBSERVACIONES;
G33: Planos:
G35: Informe:
G40: ='PRESUPUESTO '!B42 -> 0
G41: ='PRESUPUESTO '!B43 -> 0
G42: ='PRESUPUESTO '!B44 -> 0

Sheet 5.2
A1: MEMORIA DE CANTIDADES DE OBRAS
A2: DEPARTAMENTO DE BOLIVAR
A3: CORREGIMIENTO DE CAUSADO, JURISDICCION DEL MUNICIPIO DE MARGARITA
A5: OBJETO DEL PROYECTO | G5: CAPITULO | H5: ='PRESUPUESTO '!#REF! -> #REF! | I5: ITEM | J5: ='PRESUPUESTO '!#REF! -> #REF! | K5: ='PRESUPUESTO '!B18 -> 2.1 | M5: UNIDAD
A6: ='PRESUPUESTO '!E5 -> RECUPERACION Y CONSERVACIÓN DE ÁREAS DE IMPORTANCIA ESTRATEGICA DE LA ZONA DE INFLUENCIA DEL COMPLEJO CENAGOSO DE CASCALOA DE MAGANGUÉ, BOLÍVAR | G6: =VLOOKUP(H5,'PRESUPUESTO '!B12:K26,2) -> #REF! | I6: =VLOOKUP(J5,'PRESUPUESTO '!B12:K26,5) -> #REF! | M6: =VLOOKUP(J5,'PRESUPUESTO '!B12:K26,6) -> #REF!
A8: LOCALIZACION | G8: DESCRIPCION / ELEMENTO / AREA | H8: UNIDAD | I8: CANTIDAD | J8: LONGITUD | K8: ANCHO | L8: ALTO | M8: SUB TOTAL
H9: =IF(G9="","",$M$6) | M9: =PRODUCT(I9:L9) -> 0
H10: =IF(G10="","",$M$6) | M10: =PRODUCT(I10:L10) -> 0
H11: =IF(G11="","",$M$6) | M11: =PRODUCT(I11:L11) -> 0
H12: =IF(G12="","",$M$6) | M12: =PRODUCT(I12:L12) -> 0
H13: =IF(G13="","",$M$6) | M13: =PRODUCT(I13:L13) -> 0
H14: =IF(G14="","",$M$6) | M14: =PRODUCT(I14:L14) -> 0
H15: =IF(G15="","",$M$6) | M15: =PRODUCT(I15:L15) -> 0
H16: =IF(G16="","",$M$6) | M16: =PRODUCT(I16:L16) -> 0
H17: =IF(G17="","",$M$6) | M17: =PRODUCT(I17:L17) -> 0
H18: =IF(G18="","",$M$6) | M18: =PRODUCT(I18:L18) -> 0
H19: =IF(G19="","",$M$6) | M19: =PRODUCT(I19:L19) -> 0
H20: =IF(G20="","",$M$6) | M20: =PRODUCT(I20:L20) -> 0
... H23: =IF(G23="","",$M$6) | M23: =PRODUCT(I23:L23) -> 0
A24: GRAFICA / ESQUEMA | H24: =IF(G24="","",$M$6)
G26: TOTAL CANTIDAD | H26: =M6 -> #REF! | M26: =SUM(M9:M24) -> 0
G30: OBSERVACIONES;
G33: Planos:
G35: Informe:
G40: ='PRESUPUESTO '!B42 -> 0
G41: ='PRESUPUESTO '!B43 -> 0
G42: ='PRESUPUESTO '!B44 -> 0

Sheet 5.3
A1: MEMORIA DE CANTIDADES DE OBRAS
A2: DEPARTAMENTO DE BOLIVAR
A3: CORREGIMIENTO DE CAUSADO, JURISDICCION DEL MUNICIPIO DE MARGARITA
A5: OBJETO DEL PROYECTO | G5: CAPITULO | H5: ='PRESUPUESTO '!#REF! -> #REF! | I5: ITEM | J5: ='PRESUPUESTO '!#REF! -> #REF! | K5: ='PRESUPUESTO '!B18 -> 2.1 | M5: UNIDAD
A6: ='PRESUPUESTO '!E5 -> RECUPERACION Y CONSERVACIÓN DE ÁREAS DE IMPORTANCIA ESTRATEGICA DE LA ZONA DE INFLUENCIA DEL COMPLEJO CENAGOSO DE CASCALOA DE MAGANGUÉ, BOLÍVAR | G6: =VLOOKUP(H5,'PRESUPUESTO '!B12:K26,2) -> #REF! | I6: =VLOOKUP(J5,'PRESUPUESTO '!B12:K26,5) -> #REF! | M6: =VLOOKUP(J5,'PRESUPUESTO '!B12:K26,6) -> #REF!
A8: LOCALIZACION | G8: DESCRIPCION / ELEMENTO / AREA | H8: UNIDAD | I8: CANTIDAD | J8: LONGITUD | K8: ANCHO | L8: ALTO | M8: SUB TOTAL
H9: =IF(G9="","",$M$6) | M9: =PRODUCT(I9:L9) -> 0
H10: =IF(G10="","",$M$6) | M10: =PRODUCT(I10:L10) -> 0
H11: =IF(G11="","",$M$6) | M11: =PRODUCT(I11:L11) -> 0
H12: =IF(G12="","",$M$6) | M12: =PRODUCT(I12:L12) -> 0
H13: =IF(G13="","",$M$6) | M13: =PRODUCT(I13:L13) -> 0
H14: =IF(G14="","",$M$6) | M14: =PRODUCT(I14:L14) -> 0
H15: =IF(G15="","",$M$6) | M15: =PRODUCT(I15:L15) -> 0
H16: =IF(G16="","",$M$6) | M16: =PRODUCT(I16:L16) -> 0
H17: =IF(G17="","",$M$6) | M17: =PRODUCT(I17:L17) -> 0
H18: =IF(G18="","",$M$6) | M18: =PRODUCT(I18:L18) -> 0
H19: =IF(G19="","",$M$6) | M19: =PRODUCT(I19:L19) -> 0
H20: =IF(G20="","",$M$6) | M20: =PRODUCT(I20:L20) -> 0
... H23: =IF(G23="","",$M$6) | M23: =PRODUCT(I23:L23) -> 0
A24: GRAFICA / ESQUEMA | H24: =IF(G24="","",$M$6)
G26: TOTAL CANTIDAD | H26: =M6 -> #REF! | M26: =SUM(M9:M24) -> 0
G30: OBSERVACIONES;
G33: Planos:
G35: Informe:
G40: ='PRESUPUESTO '!B42 -> 0
G41: ='PRESUPUESTO '!B43 -> 0
G42: ='PRESUPUESTO '!B44 -> 0

Sheet 5.4
A1: MEMORIA DE CANTIDADES DE OBRAS
A2: DEPARTAMENTO DE BOLIVAR
A3: CORREGIMIENTO DE CAUSADO, JURISDICCION DEL MUNICIPIO DE MARGARITA
A5: OBJETO DEL PROYECTO | G5: CAPITULO | H5: ='PRESUPUESTO '!#REF! -> #REF! | I5: ITEM | J5: ='PRESUPUESTO '!#REF! -> #REF! | K5: ='PRESUPUESTO '!B18 -> 2.1 | M5: UNIDAD
A6: ='PRESUPUESTO '!E5 -> RECUPERACION Y CONSERVACIÓN DE ÁREAS DE IMPORTANCIA ESTRATEGICA DE LA ZONA DE INFLUENCIA DEL COMPLEJO CENAGOSO DE CASCALOA DE MAGANGUÉ, BOLÍVAR | G6: =VLOOKUP(H5,'PRESUPUESTO '!B12:K26,2) -> #REF! | I6: =VLOOKUP(J5,'PRESUPUESTO '!B12:K26,5) -> #REF! | M6: =VLOOKUP(J5,'PRESUPUESTO '!B12:K26,6) -> #REF!
A8: LOCALIZACION | G8: DESCRIPCION / ELEMENTO / AREA | H8: UNIDAD | I8: CANTIDAD | J8: LONGITUD | K8: ANCHO | L8: ALTO | M8: SUB TOTAL
H9: =IF(G9="","",$M$6) | M9: =PRODUCT(I9:L9) -> 0
H10: =IF(G10="","",$M$6) | M10: =PRODUCT(I10:L10) -> 0
H11: =IF(G11="","",$M$6) | M11: =PRODUCT(I11:L11) -> 0
H12: =IF(G12="","",$M$6) | M12: =PRODUCT(I12:L12) -> 0
H13: =IF(G13="","",$M$6) | M13: =PRODUCT(I13:L13) -> 0
H14: =IF(G14="","",$M$6) | M14: =PRODUCT(I14:L14) -> 0
H15: =IF(G15="","",$M$6) | M15: =PRODUCT(I15:L15) -> 0
H16: =IF(G16="","",$M$6) | M16: =PRODUCT(I16:L16) -> 0
H17: =IF(G17="","",$M$6) | M17: =PRODUCT(I17:L17) -> 0
H18: =IF(G18="","",$M$6) | M18: =PRODUCT(I18:L18) -> 0
H19: =IF(G19="","",$M$6) | M19: =PRODUCT(I19:L19) -> 0
H20: =IF(G20="","",$M$6) | M20: =PRODUCT(I20:L20) -> 0
... H23: =IF(G23="","",$M$6) | M23: =PRODUCT(I23:L23) -> 0
A24: GRAFICA / ESQUEMA | H24: =IF(G24="","",$M$6)
G26: TOTAL CANTIDAD | H26: =M6 -> #REF! | M26: =SUM(M9:M24) -> 0
G30: OBSERVACIONES;
G33: Planos:
G35: Informe:
G40: ='PRESUPUESTO '!B42 -> 0
G41: ='PRESUPUESTO '!B43 -> 0
G42: ='PRESUPUESTO '!B44 -> 0

Sheet 5.5
A1: MEMORIA DE CANTIDADES DE OBRAS
A2: DEPARTAMENTO DE BOLIVAR
A3: CORREGIMIENTO DE CAUSADO, JURISDICCION DEL MUNICIPIO DE MARGARITA
A5: OBJETO DEL PROYECTO | G5: CAPITULO | H5: ='PRESUPUESTO '!#REF! -> #REF! | I5: ITEM | J5: ='PRESUPUESTO '!#REF! -> #REF! | K5: ='PRESUPUESTO '!B18 -> 2.1 | M5: UNIDAD
A6: ='PRESUPUESTO '!E5 -> RECUPERACION Y CONSERVACIÓN DE ÁREAS DE IMPORTANCIA ESTRATEGICA DE LA ZONA DE INFLUENCIA DEL COMPLEJO CENAGOSO DE CASCALOA DE MAGANGUÉ, BOLÍVAR | G6: =VLOOKUP(H5,'PRESUPUESTO '!B12:K26,2) -> #REF! | I6: =VLOOKUP(J5,'PRESUPUESTO '!B12:K26,5) -> #REF! | M6: =VLOOKUP(J5,'PRESUPUESTO '!B12:K26,6) -> #REF!
A8: LOCALIZACION | G8: DESCRIPCION / ELEMENTO / AREA | H8: UNIDAD | I8: CANTIDAD | J8: LONGITUD | K8: ANCHO | L8: ALTO | M8: SUB TOTAL
H9: =IF(G9="","",$M$6) | M9: =PRODUCT(I9:L9) -> 0
H10: =IF(G10="","",$M$6) | M10: =PRODUCT(I10:L10) -> 0
H11: =IF(G11="","",$M$6) | M11: =PRODUCT(I11:L11) -> 0
H12: =IF(G12="","",$M$6) | M12: =PRODUCT(I12:L12) -> 0
H13: =IF(G13="","",$M$6) | M13: =PRODUCT(I13:L13) -> 0
H14: =IF(G14="","",$M$6) | M14: =PRODUCT(I14:L14) -> 0
H15: =IF(G15="","",$M$6) | M15: =PRODUCT(I15:L15) -> 0
H16: =IF(G16="","",$M$6) | M16: =PRODUCT(I16:L16) -> 0
H17: =IF(G17="","",$M$6) | M17: =PRODUCT(I17:L17) -> 0
H18: =IF(G18="","",$M$6) | M18: =PRODUCT(I18:L18) -> 0
H19: =IF(G19="","",$M$6) | M19: =PRODUCT(I19:L19) -> 0
H20: =IF(G20="","",$M$6) | M20: =PRODUCT(I20:L20) -> 0
... H23: =IF(G23="","",$M$6) | M23: =PRODUCT(I23:L23) -> 0
A24: GRAFICA / ESQUEMA | H24: =IF(G24="","",$M$6)
G26: TOTAL CANTIDAD | H26: =M6 -> #REF! | M26: =SUM(M9:M24) -> 0
G30: OBSERVACIONES;
G33: Planos:
G35: Informe:
G40: ='PRESUPUESTO '!B42 -> 0
G41: ='PRESUPUESTO '!B43 -> 0
G42: ='PRESUPUESTO '!B44 -> 0

Sheet 5.6
A1: MEMORIA DE CANTIDADES DE OBRAS
A2: DEPARTAMENTO DE BOLIVAR
A3: CORREGIMIENTO DE CAUSADO, JURISDICCION DEL MUNICIPIO DE MARGARITA
A5: OBJETO DEL PROYECTO | G5: CAPITULO | H5: ='PRESUPUESTO '!#REF! -> #REF! | I5: ITEM | J5: ='PRESUPUESTO '!#REF! -> #REF! | K5: ='PRESUPUESTO '!B18 -> 2.1 | M5: UNIDAD
A6: ='PRESUPUESTO '!E5 -> RECUPERACION Y CONSERVACIÓN DE ÁREAS DE IMPORTANCIA ESTRATEGICA DE LA ZONA DE INFLUENCIA DEL COMPLEJO CENAGOSO DE CASCALOA DE MAGANGUÉ, BOLÍVAR | G6: =VLOOKUP(H5,'PRESUPUESTO '!B12:K26,2) -> #REF! | I6: =VLOOKUP(J5,'PRESUPUESTO '!B12:K26,5) -> #REF! | M6: =VLOOKUP(J5,'PRESUPUESTO '!B12:K26,6) -> #REF!
A8: LOCALIZACION | G8: DESCRIPCION / ELEMENTO / AREA | H8: UNIDAD | I8: CANTIDAD | J8: LONGITUD | K8: ANCHO | L8: ALTO | M8: SUB TOTAL
H9: =IF(G9="","",$M$6) | M9: =PRODUCT(I9:L9) -> 0
H10: =IF(G10="","",$M$6) | M10: =PRODUCT(I10:L10) -> 0
H11: =IF(G11="","",$M$6) | M11: =PRODUCT(I11:L11) -> 0
H12: =IF(G12="","",$M$6) | M12: =PRODUCT(I12:L12) -> 0
H13: =IF(G13="","",$M$6) | M13: =PRODUCT(I13:L13) -> 0
H14: =IF(G14="","",$M$6) | M14: =PRODUCT(I14:L14) -> 0
H15: =IF(G15="","",$M$6) | M15: =PRODUCT(I15:L15) -> 0
H16: =IF(G16="","",$M$6) | M16: =PRODUCT(I16:L16) -> 0
H17: =IF(G17="","",$M$6) | M17: =PRODUCT(I17:L17) -> 0
H18: =IF(G18="","",$M$6) | M18: =PRODUCT(I18:L18) -> 0
H19: =IF(G19="","",$M$6) | M19: =PRODUCT(I19:L19) -> 0
H20: =IF(G20="","",$M$6) | M20: =PRODUCT(I20:L20) -> 0
... H23: =IF(G23="","",$M$6) | M23: =PRODUCT(I23:L23) -> 0
A24: GRAFICA / ESQUEMA | H24: =IF(G24="","",$M$6)
G26: TOTAL CANTIDAD | H26: =M6 -> #REF! | M26: =SUM(M9:M24) -> 0
G30: OBSERVACIONES;
G33: Planos:
G35: Informe:
G40: ='PRESUPUESTO '!B42 -> 0
G41: ='PRESUPUESTO '!B43 -> 0
G42: ='PRESUPUESTO '!B44 -> 0

Sheet 6.2
A1: MEMORIA DE CANTIDADES DE OBRAS
A2: DEPARTAMENTO DE BOLIVAR
A3: CORREGIMIENTO DE CAUSADO, JURISDICCION DEL MUNICIPIO DE MARGARITA
A5: OBJETO DEL PROYECTO | G5: CAPITULO | H5: ='PRESUPUESTO '!#REF! -> #REF! | I5: ITEM | J5: ='PRESUPUESTO '!#REF! -> #REF! | K5: ='PRESUPUESTO '!B18 -> 2.1 | M5: UNIDAD
A6: ='PRESUPUESTO '!E5 -> RECUPERACION Y CONSERVACIÓN DE ÁREAS DE IMPORTANCIA ESTRATEGICA DE LA ZONA DE INFLUENCIA DEL COMPLEJO CENAGOSO DE CASCALOA DE MAGANGUÉ, BOLÍVAR | G6: =VLOOKUP(H5,'PRESUPUESTO '!B12:K26,2) -> #REF! | I6: =VLOOKUP(J5,'PRESUPUESTO '!B12:K26,5) -> #REF! | M6: =VLOOKUP(J5,'PRESUPUESTO '!B12:K26,6) -> #REF!
A8: LOCALIZACION | G8: DESCRIPCION / ELEMENTO / AREA | H8: UNIDAD | I8: CANTIDAD | J8: LONGITUD | K8: ANCHO | L8: ALTO | M8: SUB TOTAL
H9: =IF(G9="","",$M$6) | M9: =PRODUCT(I9:L9) -> 0
H10: =IF(G10="","",$M$6) | M10: =PRODUCT(I10:L10) -> 0
H11: =IF(G11="","",$M$6) | M11: =PRODUCT(I11:L11) -> 0
H12: =IF(G12="","",$M$6) | M12: =PRODUCT(I12:L12) -> 0
H13: =IF(G13="","",$M$6) | M13: =PRODUCT(I13:L13) -> 0
H14: =IF(G14="","",$M$6) | M14: =PRODUCT(I14:L14) -> 0
H15: =IF(G15="","",$M$6) | M15: =PRODUCT(I15:L15) -> 0
H16: =IF(G16="","",$M$6) | M16: =PRODUCT(I16:L16) -> 0
H17: =IF(G17="","",$M$6) | M17: =PRODUCT(I17:L17) -> 0
H18: =IF(G18="","",$M$6) | M18: =PRODUCT(I18:L18) -> 0
H19: =IF(G19="","",$M$6) | M19: =PRODUCT(I19:L19) -> 0
H20: =IF(G20="","",$M$6) | M20: =PRODUCT(I20:L20) -> 0
... H23: =IF(G23="","",$M$6) | M23: =PRODUCT(I23:L23) -> 0
A24: GRAFICA / ESQUEMA | H24: =IF(G24="","",$M$6)
G26: TOTAL CANTIDAD | H26: =M6 -> #REF! | M26: =SUM(M9:M24) -> 0
G30: OBSERVACIONES;
G33: Planos:
G35: Informe:
G40: ='PRESUPUESTO '!B42 -> 0
G41: ='PRESUPUESTO '!B43 -> 0
G42: ='PRESUPUESTO '!B44 -> 0

Sheet 6.3
A1: MEMORIA DE CANTIDADES DE OBRAS
A2: DEPARTAMENTO DE BOLIVAR
A3: CORREGIMIENTO DE CAUSADO, JURISDICCION DEL MUNICIPIO DE MARGARITA
A5: OBJETO DEL PROYECTO | G5: CAPITULO | H5: ='PRESUPUESTO '!#REF! -> #REF! | I5: ITEM | J5: ='PRESUPUESTO '!#REF! -> #REF! | K5: ='PRESUPUESTO '!B18 -> 2.1 | M5: UNIDAD
A6: ='PRESUPUESTO '!E5 -> RECUPERACION Y CONSERVACIÓN DE ÁREAS DE IMPORTANCIA ESTRATEGICA DE LA ZONA DE INFLUENCIA DEL COMPLEJO CENAGOSO DE CASCALOA DE MAGANGUÉ, BOLÍVAR | G6: =VLOOKUP(H5,'PRESUPUESTO '!B12:K26,2) -> #REF! | I6: =VLOOKUP(J5,'PRESUPUESTO '!B12:K26,5) -> #REF! | M6: =VLOOKUP(J5,'PRESUPUESTO '!B12:K26,6) -> #REF!
A8: LOCALIZACION | G8: DESCRIPCION / ELEMENTO / AREA | H8: UNIDAD | I8: CANTIDAD | J8: LONGITUD | K8: ANCHO | L8: ALTO | M8: SUB TOTAL
H9: =IF(G9="","",$M$6) | M9: =PRODUCT(I9:L9) -> 0
H10: =IF(G10="","",$M$6) | M10: =PRODUCT(I10:L10) -> 0
H11: =IF(G11="","",$M$6) | M11: =PRODUCT(I11:L11) -> 0
H12: =IF(G12="","",$M$6) | M12: =PRODUCT(I12:L12) -> 0
H13: =IF(G13="","",$M$6) | M13: =PRODUCT(I13:L13) -> 0
H14: =IF(G14="","",$M$6) | M14: =PRODUCT(I14:L14) -> 0
H15: =IF(G15="","",$M$6) | M15: =PRODUCT(I15:L15) -> 0
H16: =IF(G16="","",$M$6) | M16: =PRODUCT(I16:L16) -> 0
H17: =IF(G17="","",$M$6) | M17: =PRODUCT(I17:L17) -> 0
H18: =IF(G18="","",$M$6) | M18: =PRODUCT(I18:L18) -> 0
H19: =IF(G19="","",$M$6) | M19: =PRODUCT(I19:L19) -> 0
H20: =IF(G20="","",$M$6) | M20: =PRODUCT(I20:L20) -> 0
... H23: =IF(G23="","",$M$6) | M23: =PRODUCT(I23:L23) -> 0
A24: GRAFICA / ESQUEMA | H24: =IF(G24="","",$M$6)
G26: TOTAL CANTIDAD | H26: =M6 -> #REF! | M26: =SUM(M9:M24) -> 0
G30: OBSERVACIONES;
G33: Planos:
G35: Informe:
G40: ='PRESUPUESTO '!B42 -> 0
G41: ='PRESUPUESTO '!B43 -> 0
G42: ='PRESUPUESTO '!B44 -> 0

Sheet 6.4
A1: MEMORIA DE CANTIDADES DE OBRAS
A2: DEPARTAMENTO DE BOLIVAR
A3: CORREGIMIENTO DE CAUSADO, JURISDICCION DEL MUNICIPIO DE MARGARITA
A5: OBJETO DEL PROYECTO | G5: CAPITULO | H5: ='PRESUPUESTO '!#REF! -> #REF! | I5: ITEM | J5: ='PRESUPUESTO '!#REF! -> #REF! | K5: ='PRESUPUESTO '!B18 -> 2.1 | M5: UNIDAD
A6: ='PRESUPUESTO '!E5 -> RECUPERACION Y CONSERVACIÓN DE ÁREAS DE IMPORTANCIA ESTRATEGICA DE LA ZONA DE INFLUENCIA DEL COMPLEJO CENAGOSO DE CASCALOA DE MAGANGUÉ, BOLÍVAR | G6: =VLOOKUP(H5,'PRESUPUESTO '!B12:K26,2) -> #REF! | I6: =VLOOKUP(J5,'PRESUPUESTO '!B12:K26,5) -> #REF! | M6: =VLOOKUP(J5,'PRESUPUESTO '!B12:K26,6) -> #REF!
A8: LOCALIZACION | G8: DESCRIPCION / ELEMENTO / AREA | H8: UNIDAD | I8: CANTIDAD | J8: LONGITUD | K8: ANCHO | L8: ALTO | M8: SUB TOTAL
H9: =IF(G9="","",$M$6) | M9: =PRODUCT(I9:L9) -> 0
H10: =IF(G10="","",$M$6) | M10: =PRODUCT(I10:L10) -> 0
H11: =IF(G11="","",$M$6) | M11: =PRODUCT(I11:L11) -> 0
H12: =IF(G12="","",$M$6) | M12: =PRODUCT(I12:L12) -> 0
H13: =IF(G13="","",$M$6) | M13: =PRODUCT(I13:L13) -> 0
H14: =IF(G14="","",$M$6) | M14: =PRODUCT(I14:L14) -> 0
H15: =IF(G15="","",$M$6) | M15: =PRODUCT(I15:L15) -> 0
H16: =IF(G16="","",$M$6) | M16: =PRODUCT(I16:L16) -> 0
H17: =IF(G17="","",$M$6) | M17: =PRODUCT(I17:L17) -> 0
H18: =IF(G18="","",$M$6) | M18: =PRODUCT(I18:L18) -> 0
H19: =IF(G19="","",$M$6) | M19: =PRODUCT(I19:L19) -> 0
H20: =IF(G20="","",$M$6) | M20: =PRODUCT(I20:L20) -> 0
... H23: =IF(G23="","",$M$6) | M23: =PRODUCT(I23:L23) -> 0
A24: GRAFICA / ESQUEMA | H24: =IF(G24="","",$M$6)
G26: TOTAL CANTIDAD | H26: =M6 -> #REF! | M26: =SUM(M9:M24) -> 0
G30: OBSERVACIONES;
G33: Planos:
G35: Informe:
G40: ='PRESUPUESTO '!B42 -> 0
G41: ='PRESUPUESTO '!B43 -> 0
G42: ='PRESUPUESTO '!B44 -> 0

Sheet 6.5
A1: MEMORIA DE CANTIDADES DE OBRAS
A2: DEPARTAMENTO DE BOLIVAR
A3: CORREGIMIENTO DE CAUSADO, JURISDICCION DEL MUNICIPIO DE MARGARITA
A5: OBJETO DEL PROYECTO | G5: CAPITULO | H5: ='PRESUPUESTO '!#REF! -> #REF! | I5: ITEM | J5: ='PRESUPUESTO '!#REF! -> #REF! | K5: ='PRESUPUESTO '!B18 -> 2.1 | M5: UNIDAD
A6: ='PRESUPUESTO '!E5 -> RECUPERACION Y CONSERVACIÓN DE ÁREAS DE IMPORTANCIA ESTRATEGICA DE LA ZONA DE INFLUENCIA DEL COMPLEJO CENAGOSO DE CASCALOA DE MAGANGUÉ, BOLÍVAR | G6: =VLOOKUP(H5,'PRESUPUESTO '!B12:K26,2) -> #REF! | I6: =VLOOKUP(J5,'PRESUPUESTO '!B12:K26,5) -> #REF! | M6: =VLOOKUP(J5,'PRESUPUESTO '!B12:K26,6) -> #REF!
A8: LOCALIZACION | G8: DESCRIPCION / ELEMENTO / AREA | H8: UNIDAD | I8: CANTIDAD | J8: LONGITUD | K8: ANCHO | L8: ALTO | M8: SUB TOTAL
H9: =IF(G9="","",$M$6) | M9: =PRODUCT(I9:L9) -> 0
H10: =IF(G10="","",$M$6) | M10: =PRODUCT(I10:L10) -> 0
H11: =IF(G11="","",$M$6) | M11: =PRODUCT(I11:L11) -> 0
H12: =IF(G12="","",$M$6) | M12: =PRODUCT(I12:L12) -> 0
H13: =IF(G13="","",$M$6) | M13: =PRODUCT(I13:L13) -> 0
H14: =IF(G14="","",$M$6) | M14: =PRODUCT(I14:L14) -> 0
H15: =IF(G15="","",$M$6) | M15: =PRODUCT(I15:L15) -> 0
H16: =IF(G16="","",$M$6) | M16: =PRODUCT(I16:L16) -> 0
H17: =IF(G17="","",$M$6) | M17: =PRODUCT(I17:L17) -> 0
H18: =IF(G18="","",$M$6) | M18: =PRODUCT(I18:L18) -> 0
H19: =IF(G19="","",$M$6) | M19: =PRODUCT(I19:L19) -> 0
H20: =IF(G20="","",$M$6) | M20: =PRODUCT(I20:L20) -> 0
... H23: =IF(G23="","",$M$6) | M23: =PRODUCT(I23:L23) -> 0
A24: GRAFICA / ESQUEMA | H24: =IF(G24="","",$M$6)
G26: TOTAL CANTIDAD | H26: =M6 -> #REF! | M26: =SUM(M9:M24) -> 0
G30: OBSERVACIONES;
G33: Planos:
G35: Informe:
G40: ='PRESUPUESTO '!B42 -> 0
G41: ='PRESUPUESTO '!B43 -> 0
G42: ='PRESUPUESTO '!B44 -> 0

Sheet 6.6
A1: MEMORIA DE CANTIDADES DE OBRAS
A2: DEPARTAMENTO DE BOLIVAR
A3: CORREGIMIENTO DE CAUSADO, JURISDICCION DEL MUNICIPIO DE MARGARITA
A5: OBJETO DEL PROYECTO | G5: CAPITULO | H5: ='PRESUPUESTO '!#REF! -> #REF! | I5: ITEM | J5: ='PRESUPUESTO '!#REF! -> #REF! | K5: ='PRESUPUESTO '!B18 -> 2.1 | M5: UNIDAD
A6: ='PRESUPUESTO '!E5 -> RECUPERACION Y CONSERVACIÓN DE ÁREAS DE IMPORTANCIA ESTRATEGICA DE LA ZONA DE INFLUENCIA DEL COMPLEJO CENAGOSO DE CASCALOA DE MAGANGUÉ, BOLÍVAR | G6: =VLOOKUP(H5,'PRESUPUESTO '!B12:K26,2) -> #REF! | I6: =VLOOKUP(J5,'PRESUPUESTO '!B12:K26,5) -> #REF! | M6: =VLOOKUP(J5,'PRESUPUESTO '!B12:K26,6) -> #REF!
A8: LOCALIZACION | G8: DESCRIPCION / ELEMENTO / AREA | H8: UNIDAD | I8: CANTIDAD | J8: LONGITUD | K8: ANCHO | L8: ALTO | M8: SUB TOTAL
H9: =IF(G9="","",$M$6) | M9: =PRODUCT(I9:L9) -> 0
H10: =IF(G10="","",$M$6) | M10: =PRODUCT(I10:L10) -> 0
H11: =IF(G11="","",$M$6) | M11: =PRODUCT(I11:L11) -> 0
H12: =IF(G12="","",$M$6) | M12: =PRODUCT(I12:L12) -> 0
H13: =IF(G13="","",$M$6) | M13: =PRODUCT(I13:L13) -> 0
H14: =IF(G14="","",$M$6) | M14: =PRODUCT(I14:L14) -> 0
H15: =IF(G15="","",$M$6) | M15: =PRODUCT(I15:L15) -> 0
H16: =IF(G16="","",$M$6) | M16: =PRODUCT(I16:L16) -> 0
H17: =IF(G17="","",$M$6) | M17: =PRODUCT(I17:L17) -> 0
H18: =IF(G18="","",$M$6) | M18: =PRODUCT(I18:L18) -> 0
H19: =IF(G19="","",$M$6) | M19: =PRODUCT(I19:L19) -> 0
H20: =IF(G20="","",$M$6) | M20: =PRODUCT(I20:L20) -> 0
... H23: =IF(G23="","",$M$6) | M23: =PRODUCT(I23:L23) -> 0
A24: GRAFICA / ESQUEMA | H24: =IF(G24="","",$M$6)
G26: TOTAL CANTIDAD | H26: =M6 -> #REF! | M26: =SUM(M9:M24) -> 0
G30: OBSERVACIONES;
G33: Planos:
G35: Informe:
G40: ='PRESUPUESTO '!B42 -> 0
G41: ='PRESUPUESTO '!B43 -> 0
G42: ='PRESUPUESTO '!B44 -> 0

Sheet FACTOR PRESTACIONAL
B2: ANALISIS FACTOR PRESTACIONAL
B3: =CONCATENATE("PROYECTO: ",'PRESUPUESTO '!E5) -> PROYECTO: RECUPERACION Y CONSERVACIÓN DE ÁREAS DE IMPORTANCIA ESTRATEGICA DE LA ZONA DE INFLUENCIA DEL COMPLEJO CENAGOSO DE CASCALOA DE MAGANGUÉ, BOLÍVAR
B5: Salario Mínimo Mensual Legal Vigente año 2026 | D5: 1750905
C6: SALARIO <= 2 SMMLV | E6: SALARIO > 2 SMMLV
B7: INFORMACION BASICA
B8: DETALLE | C8: PORCENTAJE PATRONAL | D8: SM | E8: PORCENTAJE PATRONAL | F8: SM
B9: SALARIO MINIMO (S.M) | C9: S.M. | D9: 1 | E9: S.M. | F9: 1
B10: AUX. TRANSPORTE (A.T) | C10: A.T | D10: 0.121 | E10: A.T
B11: DOTACIÓN | D11: 0.0515 | F11: 0.0515
B12: DESCANSO DOMINICAL R. | D12: 0.1378 | F12: 0.1378
B14: APORTE PARA FISCALES
B15: DETALLE | C15: PORCENTAJE PATRONAL | D15: SM | E15: PORCENTAJE PATRONAL | F15: SM
B16: VACACIONES | C16: S.M X 4,17% | D16: 0.0417 | E16: S.M X 4,17% | F16: 0.0417
B17: PENSION | C17: S.M X 12% (PATRONO) | D17: 0.12 | E17: S.M X 12% (PATRONO) | F17: 0.12
B18: SALUD | C18: S.M X 8,5% (PATRONO) | D18: 0.085 | E18: S.M X 8,5% (PATRONO) | F18: 0.085
B19: RL | C19: S.M X % (CONSTRUCCION 6.96%) | D19: 0.0296 | E19: S.M X % (CONSTRUCCION 6.96%) | F19: 0.0296
B20: PARAFISCALES | C20: S.M X 4% ( COMFA 4%) | D20: 0.08 | E20: S.M X 4% ( COMFA 4%) | F20: 0.08
B21: EXAMEN DE INGRESO | D21: 0.011 | F21: 0.011
B22: FIC | C22: S.M. / 40 | D22: 0.00025 | E22: S.M. / 40 | F22: 0.00025
B24: BASE SALARIO + TRANSPORTE
B25: DETALLE | C25: PORCENTAJE PATRONAL | D25: SM | E25: PORCENTAJE PATRONAL | F25: SM
B26: CESANTIAS (CS) | C26: (S.M + A.T) X 8,33% | D26: 0.0833 | E26: (S.M + A.T) X 8,33% | F26: 0.0833
B27: PRIMA ANUAL | C27: (S.M + A.T) X 8,33% | D27: 0.0833 | E27: (S.M + A.T) X 8,33% | F27: 0.0833
