Workbook

Sheet RESUMEN 
A2: ANEXO 4
A3: SELECCIÓN ABREVIADA DE MENOR CUANTIA
A4: ESTUDIO DE MERCADOS - PROYECCION DE COSTOS PROCESO SEGUROS
A5: MUNICIPIO DE SOPO CUNDINAMARCA
F6: VIGENCIA | H6: =+B105 -> 76 | I6: DIAS
A7: SEGUROS A CONTRATAR | B7: VALOR ASEGURADO | D7: TASAS ULTIMO PROCESO | F7: TASA A PLICAR | G7: PRIMA | H7: IVA | I7: TOTAL
A8: PÓLIZA TODO RIESGO DAÑOS MATERIALES
A9: EDIFICACIONES,TERRENOS Y DEMAS (SEGÚN RELACION DETALLADA) | B9: =+EDIFICACIONES!F59 -> 6.3416558e+10 | D9: 1.4 | F9: 1.4 | G9: =(B9*F9/1000)/365*$B$105 -> 18486361 | H9: =+G9*0.19 -> 3512408.6 | I9: =+G9+H9 -> 21998769
A10: INDICE VARIABLE EDIFICIOS Y TERRENOS 5% | B10: =+B9*0.05 -> 3.1708279e+09 | D10: =+D9/2 -> 0.7 | F10: =+F9/2 -> 0.7 | G10: =(B10*F10/1000)/365*$B$105 -> 462159.02 | H10: =+G10*0.19 -> 87810.214 | I10: =+G10+H10 -> 549969.24
A11: NORMA DE SISMORESISTENTA | B11: 2000000000 | D11: 1.4 | F11: 1.4 | G11: =(B11*F11/1000)/365*$B$105 -> 583013.7 | H11: =+G11*0.19 -> 110772.6 | I11: =+G11+H11 -> 693786.3
A12: TERRENOS | B12: 2000000000 | D12: 1.4 | F12: 1.4 | G12: =(B12*F12/1000)/365*$B$105 -> 583013.7 | H12: =+G12*0.19 -> 110772.6 | I12: =+G12+H12 -> 693786.3
A13: MATERIAL Y SUMINISTROS | B13: 321464372 | D13: 5.82 | F13: 5.82 | G13: =(B13*F13/1000)/365*$B$105 -> 389561.98 | H13: =+G13*0.19 -> 74016.775 | I13: =+G13+H13 -> 463578.75
A14: CONTENIDOS | B14: =360350280.03+18017514 -> 3.7836779e+08 | D14: 5.82 | F14: 5.82 | G14: =(B14*F14/1000)/365*$B$105 -> 458519.57 | H14: =+G14*0.19 -> 87118.718 | I14: =+G14+H14 -> 545638.29
A15: INDICE VARIABLE CONTENIDOS 5% | B15: =+B14*0.05 -> 18918390 | D15: =+D14/2 -> 2.91 | F15: =+F14/2 -> 2.91 | G15: =(B15*F15/1000)/365*$B$105 -> 11462.989 | H15: =+G15*0.19 -> 2177.968 | I15: =+G15+H15 -> 13640.957
A16: EQUIPO RECREACION, GIMNASIA Y DEPORTE | B16: 1347629658 | D16: 5.82 | F16: 5.82 | G16: =(B16*F16/1000)/365*$B$105 -> 1633105.6 | H16: =+G16*0.19 -> 310290.07 | I16: =+G16+H16 -> 1943395.7
A17: INDICE VARIABLE 5% | B17: =+B16*0.05 -> 67381483 | D17: =+D16/2 -> 2.91 | F17: =+F16/2 -> 2.91 | G17: =(B17*F17/1000)/365*$B$105 -> 40827.64 | H17: =+G17*0.19 -> 7757.2517 | I17: =+G17+H17 -> 48584.892
A18: EQUIPO DE LABORATORIO | B18: 43962421 | D18: 5.82 | F18: 5.82 | G18: =(B18*F18/1000)/365*$B$105 -> 53275.228 | H18: =+G18*0.19 -> 10122.293 | I18: =+G18+H18 -> 63397.521
A19: INDICE VARIABLE 5% | B19: =B18*5% -> 2198121.1 | D19: =+D18/2 -> 2.91 | F19: =+F18/2 -> 2.91 | G19: =(B19*F19/1000)/365*$B$105 -> 1331.8807 | H19: =+G19*0.19 -> 253.05733 | I19: =+G19+H19 -> 1584.938
A20: EQUIPO MEDICO, TERAPUTICO Y APOYO DIAGNOSTICO | B20: 239627011 | D20: 6 | F20: 6 | G20: =(B20*F20/1000)/365*$B$105 -> 299369.64 | H20: =+G20*0.19 -> 56880.231 | I20: =+G20+H20 -> 356249.87
A21: INDICE VARIABLE 5% | B21: =B20*5% -> 11981351 | D21: =+D20/2 -> 3 | F21: =+F20/2 -> 3 | G21: =(B21*F21/1000)/365*$B$105 -> 7484.2409 | H21: =+G21*0.19 -> 1422.0058 | I21: =+G21+H21 -> 8906.2467
A22: HERRAMIENTAS | B22: 502461047 | D22: 5.82 | F22: 5.82 | G22: =(B22*F22/1000)/365*$B$105 -> 608900.19 | H22: =+G22*0.19 -> 115691.04 | I22: =+G22+H22 -> 724591.23
A23: INDICE VARIABLE 5% | B23: =B22*5% -> 25123052 | D23: =+D22/2 -> 2.91 | F23: =+F22/2 -> 2.91 | G23: =(B23*F23/1000)/365*$B$105 -> 15222.505 | H23: =+G23*0.19 -> 2892.2759 | I23: =+G23+H23 -> 18114.781
A24: BIBLIOTECA (LIBROS Y TEXTOS) MATERIAL DIDACTICO | B24: 479296971 | D24: 5.82 | F24: 5.82 | G24: =(B24*F24/1000)/365*$B$105 -> 580829.14 | H24: =+G24*0.19 -> 110357.54 | I24: =+G24+H24 -> 691186.68
A25: INDICE VARIABLE 5% | B25: =B24*5% -> 23964849 | D25: =+D24/2 -> 2.91 | F25: =+F24/2 -> 2.91 | G25: =(B25*F25/1000)/365*$B$105 -> 14520.729 | H25: =+G25*0.19 -> 2758.9384 | I25: =+G25+H25 -> 17279.667
A26: LICENCIAS Y SOFTWARE | B26: 1.1887297e+08 | D26: 5.82 | F26: 5.82 | G26: =(B26*F26/1000)/365*$B$105 -> 144054.5 | H26: =+G26*0.19 -> 27370.355 | I26: =+G26+H26 -> 171424.86
A27: MAQUINARIA Y EQUIPO | B27: =882987259.87+44149363+1020000 -> 9.2815662e+08 | D27: 5.82 | F27: 5.82 | G27: =(B27*F27/1000)/365*$B$105 -> 1124773.3 | H27: =+G27*0.19 -> 213706.92 | I27: =+G27+H27 -> 1338480.2
A28: INDICE VARIABLE 5% | B28: =B27*5% -> 46407831 | D28: =+D27/2 -> 2.91 | F28: =+F27/2 -> 2.91 | G28: =(B28*F28/1000)/365*$B$105 -> 28119.331 | H28: =+G28*0.19 -> 5342.673 | I28: =+G28+H28 -> 33462.004
A29: MUEBLES Y ENSERES | B29: 2711354337 | D29: 5.82 | F29: 5.82 | G29: =(B29*F29/1000)/365*$B$105 -> 3285715.8 | H29: =+G29*0.19 -> 624285.99 | I29: =+G29+H29 -> 3910001.7
A30: INDICE VARIABLE 5% | B30: =B29*5% -> 1.3556772e+08 | D30: =+D29/2 -> 2.91 | F30: =+F29/2 -> 2.91 | G30: =(B30*F30/1000)/365*$B$105 -> 82142.894 | H30: =+G30*0.19 -> 15607.15 | I30: =+G30+H30 -> 97750.044
A31: DINEROS DENTRO Y FUERA DE CAJA FUERTE | B31: 60000000 | D31: 5.82 | F31: 5.82 | G31: =(B31*F31/1000)/365*$B$105 -> 72710.137 | H31: =+G31*0.19 -> 13814.926 | I31: =+G31+H31 -> 86525.063
A32: VEHICULOS Y MAQUINARIA AMARILLA EN REPOSO | B32: =+REPOSO!D16 -> 5.9994324e+08 | D32: 5.82 | F32: 5.82 | G32: =(B32*F32/1000)/365*$B$105 -> 727032.59 | H32: =+G32*0.19 -> 138136.19 | I32: =+G32+H32 -> 865168.78
A33: INSTALACIONES ELECTRICAS Y REDES | B33: 50000000 | D33: 5.82 | F33: 5.82 | G33: =(B33*F33/1000)/365*$B$105 -> 60591.781 | H33: =+G33*0.19 -> 11512.438 | I33: =+G33+H33 -> 72104.219
A34: EQUIPO COMPUTO- PROCESAMIENTO ELECTRONICO DE DATOS | B34: 2272618415 | D34: 6 | F34: 6 | G34: =(B34*F34/1000)/365*$B$105 -> 2839216.4 | H34: =+G34*0.19 -> 539451.12 | I34: =+G34+H34 -> 3378667.6
A35: INDICE VARIABLE 5% | B35: =B34*5% -> 1.1363092e+08 | D35: 3 | F35: 3 | G35: =(B35*F35/1000)/365*$B$105 -> 70980.411 | H35: =+G35*0.19 -> 13486.278 | I35: =+G35+H35 -> 84466.689
A36: EQUIPOS DE COMUNICACIONES | B36: 814152549 | D36: 6 | F36: 6 | G36: =(B36*F36/1000)/365*$B$105 -> 1017133 | H36: =+G36*0.19 -> 193255.28 | I36: =+G36+H36 -> 1210388.3
A37: INDICE VARIABLE 5% | B37: =B36*5% -> 40707627 | D37: 3 | F37: 3 | G37: =(B37*F37/1000)/365*$B$105 -> 25428.326 | H37: =+G37*0.19 -> 4831.382 | I37: =+G37+H37 -> 30259.708
A38: EQUIPO ELECTRICO Y ELECTRONICO- CORRIENTE DEBIL (INCLUYE EQUIPO MEDICO Y HOSPITALIZACION) | B38: =1658342486.85+82917124 -> 1.7412596e+09 | D38: 6 | F38: 6 | G38: =(B38*F38/1000)/365*$B$105 -> 2175381.9 | H38: =+G38*0.19 -> 413322.56 | I38: =+G38+H38 -> 2588704.4
A39: INDICE VARIABLE 5% | B39: =B38*5% -> 87062981 | D39: =+D38/2 -> 3 | F39: =+F38/2 -> 3 | G39: =(B39*F39/1000)/365*$B$105 -> 54384.547 | H39: =+G39*0.19 -> 10333.064 | I39: =+G39+H39 -> 64717.611
A40: CIRCUITO CERRADO DE TV | B40: =1238483615.99+61924181 -> 1.3004078e+09 | D40: 6 | F40: 6 | G40: =(B40*F40/1000)/365*$B$105 -> 1624619.1 | H40: =+G40*0.19 -> 308677.62 | I40: =+G40+H40 -> 1933296.7
A41: INDICE VARIABLE 5% | B41: =B40*5% -> 65020390 | D41: 3 | F41: 3 | G41: =(B41*F41/1000)/365*$B$105 -> 40615.476 | H41: =+G41*0.19 -> 7716.9405 | I41: =+G41+H41 -> 48332.417
...

Sheet EDIFICACIONES
C2: EDIFICACION
C3: MUNICIPIO DE SOPO CUNDINAMARCA
C4: ITEM | D4: EDIFICACION | E4: DIRECCION | F4: VALOR ASEGURADO NUEVO
C5: 2 | D5: EDIFICIOS Y CASAS
C6: 3 | D6: Centro De Atención Al Menor Briceño | E6: C 6 3 94 | F6: 31800000
C7: 4 | D7: Centro de Hogar Briceño | E7: C 6 3 94 | F7: 98104332
C8: 5 | D8: Hogar Comunitario Meusa | F8: 72945396
C9: 6 | D9: Salón Comunal Vereda El Chuscal | E9: LOTE PARQUE | F9: 95469942
C10: 7 | D10: Casa De La Cultura | E10: K 2 2 40 | F10: 7.7569204e+08
A11: =+#REF!+#REF!+#REF!+#REF!+#REF!+#REF!+#REF!+#REF!+#REF!+#REF!+#REF!+#REF!+#REF!+#REF!+#REF!+#REF!+#REF!+#REF!+#REF!+#REF!+#REF!+#REF!+#REF!+#REF!+#REF!+#REF!+#REF!+#REF!+#REF!+#REF!+#REF!+#REF!+#REF!+#REF!+#REF!+#REF!+#REF!+#REF!+#REF!+#REF!+#REF!+#REF!+#REF!+#REF!+#REF!+#REF!+#REF!+#REF!+#REF!+#REF!+#REF!+#REF!+#REF!+#REF!+#REF!+#REF!+#REF!+#REF!+#REF!+#REF!+#REF!+#REF!+#REF!+#REF!+#REF!+#REF!+#REF!+#REF!+#REF!+#REF!+#REF!+#REF!+#REF!+#REF!+#REF!+#REF!+#REF!+#REF!+#REF!+#REF!+#REF!+#REF!+#REF!+#REF!+#REF!+#REF!+#REF!+#REF!+#REF!+#REF!+#REF!+#REF!+#REF!+#REF!+#REF!+#REF!+#REF!+#REF!+#REF!+#REF!+#REF!+#REF!+#REF!+#REF!+#REF!+#REF!+#REF!+#REF!+#REF!+#REF!+#REF!+#REF!+#REF!+#REF! -> #REF! | C11: 8 | D11: Plaza De Mercado | E11: K 3 1 33 S | F11: 5.1291961e+08
C12: 9 | D12: Salón Comunal San Agustín | E12: C 9 A 4 144 | F12: 2.4214848e+08
C13: 10 | D13: Salón Comunal Mercenario | E13: EL PORVENIR | F13: 1.763843e+08
C14: 11 | D14: Salón Comunal - Escuela Bellavista | E14: LOTE BUENAVISTA | F14: 21973153
C15: 12 | D15: Salón Comunal los Comuneros | E15: ESCUELA BUENAVISTA | F15: 3.8809202e+08
C16: 13 | D16: Salón Comunal La Carolina Urb La Carolina | E16: C 9B 9A 17 | F16: 1.7075553e+08
C17: 14 | D17: Salón Comunal La Carolina Alta | E17: EL RECUERDO | F17: 25300000
C18: 15 | D18: Salón Comunitario Pueblo Viejo | E18: K 13 | F18: 77646533
C19: 16 | D19: Hogar Comunitario La Diana | E19: LOTE | F19: 2.005115e+08
C20: 17 | D20: Inspección De Policía Briceño | E20: C 7 4 35 | F20: 1.5699571e+08
C21: 18 | D21: Restaurante hogar Briceño | E21: CALLE 7. N. 3-107 | F21: 7920000
C22: 19 | D22: Centro Comunitario Vereda Gratamira | E22: SAN JACINTO | F22: 3.7692838e+08
C23: 20 | D23: Plazoleta de los Artesanos | E23: K 2 3 12 | F23: 5.3330854e+08
C24: 21 | D24: Concha Acústica san Agustín | E24: K 6 10 00 10A 96 | F24: 1.3285567e+08
C25: 22 | D25: Centro de Integración Cultural C.I.C | E25: COMPLEJO EDUCATIVO RECREATIVO Y ZO | F25: =7466902575*0.7 -> 5.2268318e+09
C26: 23 | D26: Casa De La Juventud | E26: C 4 3 18 26 | F26: 97970041
C27: 24 | D27: Alcaldia Municipal | E27: K 3 2 49 53 57 K 4 2 58 | F27: 1.3454347e+09
C28: 25 | D28: Restaurante Jardín Infantil Departamental(Nueva UAI) | E28: K 2 4A 09 | F28: 77840113
C29: 26 | D29: Hogar Comunitario El Mirador | E29: T 2A E 4A 46 5 06 28 K 3 E | F29: 2.0523584e+08
C30: 27 | D30: Salón Comunal - Escuela Vereda San Gabriel | E30: ESCUELA GABRIEL | F30: 7.4539505e+08
C31: 28 | D31: Biblioteca San Gabriel | E31: ESCUELA GABRIEL | F31: 66648871
C32: 29 | D32: Centro Comercial Casa De Bolivar | E32: C 4 3 39 43 | F32: 1.3497897e+08
C33: 30 | D33: Estación de Bomberos | E33: C 3 S 7 29 | F33: 2.2865349e+08
C34: 31 | D34: Escuela De La Violeta | E34: ESCUELA DE LA VIOLETA | F34: 2.998129e+08
C35: 32 | D35: Escuela Vereda Meusa | E35: ESCUELA MEUSA | F35: =1126964233.98*0.7 -> 7.8887496e+08
C36: 33 | D36: Escuela Vereda Centro Alto | E36: ESCUELA BUENAVISTA | F36: 45587242
C37: 34 | D37: Escuela Marco Fidel Suarez | E37: C 4A 2 15 E T 2A E 4A 45 | F37: 1.5628654e+08
C38: 35 | D38: Escuela Policarpa Salavarrieta | E38: C 1 2 29 49 | F38: 610931955
C39: 36 | D39: Colegio Departamental Pablo VI (Aula Múltiple - Cafetería ) (Antiguo) | E39: C 4 1 90 E | F39: 1.4603775e+09
C40: 37 | D40: Colegio Rafael Pombo (Nuevo) | E40: C 7 5 70 | F40: 1.4539405e+09
C41: 38 | D41: Colegio Ceis | E41: COMPLEJO EDUCATIVO RECREATIVO Y ZO | F41: 5.2255119e+09
...

Sheet SEMOVIENTES
A1: PLACA INVENTARIO | B1: IMAGEN
A2: 83487
A3: 83488
A4: 74737
A5: 83489
A6: 83490
A10: Inventario | B10: Clasificación | C10: Categoría | D10: Clase | E10: Valor Asegurado
A11: 83487 | B11: Semovientes y Plantas | C11: De trabajo | D11: Caballos | E11: 6267386
A12: 83488 | B12: Semovientes y Plantas | C12: De trabajo | D12: Caballos | E12: 6267386
A13: 74737 | B13: Semovientes y Plantas | C13: De trabajo | D13: Caballos | E13: 13300000
A14: 83489 | B14: Semovientes y Plantas | C14: De trabajo | D14: Caballos | E14: 6267386
A15: 83490 | B15: Semovientes y Plantas | C15: De trabajo | D15: Caballos | E15: 6267386
A16: TOTAL | E16: =SUM(E11:E15) -> 38369544

Sheet MAQUINARIA
B3: ITEM | C3: CARACTERISTICAS | D3: VALOR ASEGURADO CON AJUSTE | E3: DEPENDENCIA | F3: ESTADO
B4: 1 | C4: RETROEXCAVADORA MARCA CASE LINEA 590 - SUPER SM MODELO 2007 MOTOR No46718165 SERIE N7C43174 CHASIS No N7C431744 TIPO DE MOTOR CASE 4T - 390 DIESEL PLACA 467181 | D4: 480000000 | E4: INFRAESTRUCTURA | F4: ACTIVO
B5: 2 | C5: TRACTOR AGRICOLA MARCA KUBOTA M94540DT SERIE M9540D14898 MOTOR V3800-T- 2JJG0368 PLACA V3800T | D5: 213875000 | E5: AGROPECUARIO | F5: ACTIVO
B6: 3 | C6: MOTONIVELADORA MARCA CATERPILLAR LINEA 120 MODELO 2021 MOTOR E7A50120 CHASIS CAT00120VE9600897 TARJETA DE REGISTRO No 98083 PLACA MC420300 | D6: 1018472687 | E6: INFRAESTRUCTURA | F6: ACTIVO
B7: 4 | C7: ARADO DE CINCEL VIBRATORIO DE CINCO CINCELES MARCA INTALL INTERAGRO | D7: 21745714 | E7: AGROPECUARIO | F7: ACTIVO
B8: 5 | C8: RASTRILLO PULIDOR VIBRATORIO VIBRATORIOO DE 21 CINCELES MARCA INTALL INTERAGRO | D8: 14994000 | E8: AGROPECUARIO | F8: ACTIVO
B9: 6 | C9: MOTOCULTOR | D9: 32635469 | E9: AGROPECUARIO | F9: ACTIVO
B10: 7 | C10: TRACTOPODADORA LT151 DE COLOR NARANJA L1 | D10: 8911966.6 | E10: DEPORTES | F10: ACTIVO
B11: 8 | C11: ROLLO CUCHILLO PARA TRACTOR | D11: 2552563.1 | E11: AGROPECUARIO | F11: ACTIVO
B12: 9 | C12: ROTOVATOR FALC HD 1800 | D12: 49852000 | E12: AGROPECUARIO | F12: ACTIVO
B13: 10 | C13: SUBSOLADOR CON GRADUACIÓN DE ALTURA INDEPENDIENTE | D13: 21879113 | E13: AGROPECUARIO | F13: ACTIVO
B14: 11 | C14: DESBROZADORA DE 40 CUCHILLAS | D14: 38480000 | E14: AGROPECUARIO | F14: ACTIVO
B15: 12 | C15: VIBROCOMPACTADOR MICHIGAN KX3-1,25 CILINDRAJE 1908 SERIE 05C110166P018004 MOTOR C33202751A MODELO 2023 PLACA MC695968 | D15: 230000000 | E15: INFRAESTRUCTURA | F15: ACTIVO
... B17: 14 | C17: RASTRILLO SHELL MOLDING | D17: 8011527 | E17: AGROPECUARIO | F17: ACTIVO
B18: TOTAL VALOR ASEGURADO | D18: =SUM(D4:D17) -> 2.53041e+09

Sheet AUTOS
A2: RELACION PARQUE AUTOMOTOR
A3: MUNICIPIO DE SOPO CUNDINAMARCA 2026
A4: ITEM | B4: PLACA | C4: DESCRIPCION VEHICULO | D4: MOTOR | E4: CHASIS | F4: COD FASECOLDA | G4: VALOR ASEGURADO | H4: DEPENDENCIA | I4: ENTIDAD
A5: 1 | B5: JMB62 | C5: MOTOCICLETA SUZUKI GS125 CC. 124 MOD. 2012 PLACA JMB62 | D5: 157FMI-3*B1Y05436* | E5: 9FSNF41J7CC139535 | F5: 08817120 | G5: 3100000 | H5: SEC. DESARROLLO INSTITUCIONAL | I5: SEC. DESARROLLO INSTITUCIONAL
A6: 2 | B6: JMT06 | C6: MOTOCICLETA YAMAHA XTZ250 CC. 249 MOD. 2013 PLACA GSE44C | D6: G391E003689 | E6: 9FKKG0417D2003689 | F6: 09817137 | G6: 10600000 | H6: SEC. DESARROLLO ECONOMICO | I6: AGRARIO
A7: 3 | B7: CTN81C | C7: MOTOCICLETA SUZUKI GS150R CC. 149 MOD. 2015 PLACA CTN81C | D7: G426187600 | E7: 9FSNG49D9FC103636 | F7: 08817133 | G7: 4300000 | H7: BOMBEROS | I7: BOMBEROS
A8: 4 | B8: PUJ15D | C8: MOTOCICLETA HONDA XR125 BRIO CC. 125 MOD. 2015 PLACA PUJ15D | D8: JD21E-2267875 | E8: 9FMJD2126FF002680 | F8: 03417136 | G8: 6400000 | H8: SEC. DESARROLLO ECONOMICO | I8: AGRARIO
A9: 5 | B9: JOW93 | C9: MOTOCICLETA YAMAHA SZ16R CC. 153 MOD. 2016 PLACA JOW93 | D9: 1SV1046430 | E9: 9FKKG0622G2046430 | F9: 09817195 | G9: 4900000 | H9: SEC. DESARROLLO ECONOMICO | I9: AGRARIO
A10: 6 | B10: JOA02 | C10: MOTOCICLETA YAMAHA XTZ250 CC. 249 MOD. 2015 PLACA JOA02 | D10: G391E009072 | E10: 9FKKG0413F2009072 | F10: 09817137 | G10: 12300000 | H10: SEC. DESARROLLO INSTITUCIONAL | I10: MENSAJERIA
A11: 7 | B11: MMZ558 | C11: CAMPERO TOYOTA PRADO SUMO CC. 2700 MOD. 2004 PASAJ 4 PLACA MMZ558 | D11: 3167035 | E11: 9FH11UJ9049002833 | F11: 09008054 | G11: 70600000 | H11: SEC. DESARROLLO ECONOMICO | I11: ECONOMICO
A12: 8 | B12: OSM025 | C12: CAMPERO MITSUBISHI NATIVA 2,8L WAGON PASAJ 5 CC. 2835 MOD. 2008 PLACA OSM025 | D12: B547 | E12: JMY0NK9708J001284 | F12: 06208124 | G12: 40600000 | H12: SEC. GOBIERNO | I12: SEC. GOBIERNO
A13: 9 | B13: OHK682 | C13: BUSETA CHEVROLET NPR CC. 4570 PASAJEROS 26 MOD. 2002 PLACA OHK682 | D13: 833001 | E13: 9GCNPR71P2B533901 | F13: 01603108 | G13: 66800000 | H13: SEC. DESARROLLO INSTITUCIONAL | I13: ALMACEN
A14: 10 | B14: OHK933 | C14: CAMPERO TOYOTA FORTUNER WAGON CC. 2982 PASAJ 7 MOD. 2013 PLACA OHK933 | D14: 1KD5947377 | E14: 8AJYZ59G3D3063666 | F14: 09008172 | G14: 113300000 | H14: SEC. DESARROLLO INSTITUCIONAL | I14: ALMACEN
A15: 11 | B15: OCD698 | C15: VOLQUETA INTERNATIONAL 4300 CC. 7636 CAPAC. 9000 MOD. 2007 PLACA OCD698 | D15: 470HM2U1511596 | E15: 3HAMMAAR37L573282 | F15: 03626007 | G15: 148200000 | H15: SEC. INFRAESTRUCTURA | I15: SEC. INFRAESTRUCTURA
A16: 12 | B16: OJG694 | C16: VOLQUETA INTERNATIONAL 4300 CC. 7636 CAPAC. 9000 PLATON MOD. 2012 PLACA OJG694 | D16: 470HM2U1584008 | E16: 3HAMMAAR7CL566037 | F16: 03626089 | G16: 201200000 | H16: SEC. INFRAESTRUCTURA | I16: SEC. INFRAESTRUCTURA
A17: 13 | B17: OHK863 | C17: CAMIONETA NISSAN FROTIER D22 DOBLE CABINA CC. 3000 MOD. 2007 PASAJ 5 PLACA OHK863 | D17: ZD30105687K | E17: JN1CNUD22Z0011292 | F17: 06421020 | G17: 44300000 | H17: SEC. INFRAESTRUCTURA | I17: SEC. INFRAESTRUCTURA
A18: 14 | B18: OHK952 | C18: BUS HINO FC9JKSZ CC. 5123 PASAJ 37 MOD. 2014 PLACA OHK952 | D18: J05ETC19102 | E18: 9F3FC9JKSEXX11268 | F18: 03703016 | G18: 281700000 | H18: SEC. DESARROLLO INSTITUCIONAL | I18: ALMACEN
A19: 15 | B19: FSQ891 | C19: CAMPERO TOYOTA PRADO WAGON CC. 2982 PASAJ 7 MOD. 2019 PLACA FSQ891 | D19: 1KD2834514 | E19: JTEBH3FJOKK208661 | F19: 9008222 | G19: 230100000 | H19: SEC. DESARROLLO INSTITUCIONAL | I19: ALMACEN
A20: 16 | B20: KIK724 | C20: AUTOMOVIL VOLKSWAGEN GOL CONFORTLINE HATCH BACK PASAJ. 5 CC. 1598 MOD. 2012 PLACA KIK724 | D20: CFZ850877 | E20: 9BWAB45U4CT059899 | F20: 09201147 | G20: 28900000 | H20: SEC. DESARROLLO INSTITUCIONAL | I20: ALMACEN
A21: 17 | B21: RNU377 | C21: AUTOMOVIL CHEVROLET OPTRA SEDAN CC. 1598 PASAJ. 5 MOD. 2012 PLACA RNU377 | D21: F16D30268642 | E21: 9GAJJ5263CB062107 | F21: 01601226 | G21: 27500000 | H21: SEC. DESARROLLO INSTITUCIONAL | I21: ALMACEN
A22: 18 | B22: JGX25E | C22: MOTOCICLETA YAMAHA SZ15RR MODELO 2023 CC 149 PLACA JGX25E | D22: G3K6E0026024 | E22: 9FKRG2221P2026024 | F22: 09817195 | G22: 8200000 | H22: SEC. DESARROLLO INSTITUCIONAL | I22: ALMACEN
A23: 19 | B23: JGX26E | C23: MOTOCICLETA YAMAHA SZ15RR MODELO 2023 CC 149 PLACA JGX26E | D23: G3K6E0026428 | E23: 9FKRG2223P2026428 | F23: 9817195 | G23: 8200000 | H23: SEC. DESARROLLO INSTITUCIONAL | I23: ALMACEN
A24: 20 | B24: JGX17E | C24: MOTOCICLETA YAMAHA FZN250-A MODELO 2023 CC 249 PLACA JGX17E | D24: G3H7E0141854 | E24: 9FKRG6020P2141854 | F24: 09817216 | G24: 11400000 | H24: SEC. GOBIERNO | I24: SEC. GOBIERNO
A25: 21 | B25: JGX06E | C25: MOTOCICLETA HONDA XRE300ABS MODELO 2022 CC 291 PLACA JGX06E | D25: ND12E2N200063 | E25: 9C2ND1220NR200046 | F25: 3417198 | G25: 25400000 | H25: SEC. GOBIERNO | I25: SEC. GOBIERNO
A26: 22 | B26: KNL412 | C26: CAMION FURGON MARCA HINO LINEA FC9JJ7A CC 5123 MODELO 2023 MOTOR J05EVE11782 CHASIS 9F3FC9JJ7PXX11759 FASECOLDA 03712153 PLACA KNL412 | D26: J05EVE11782 | E26: 9F3FC9JJ7PXX11759 | F26: 03712153 | G26: 275600000 | H26: SEC. CULTURA | I26: SEC. CULTURA
A27: 23 | B27: ADECUACIONES VEHICULO PLACAS KLN412 | C27: Modelo 2022. Referencia J05E. Desplazamiento 5.123 c.c. Potencia máxima 207 HP-2500 rpm. Torque máximo 65 Kg.m-1500 rpm. No. cilindros y disposición Cuatro (4) en línea Combustible Diésel. Sistema de alimentación Turbo intercooler. Norma ambiental Euro IV Longitud 6.698 mm. Ancho total 2.190 mm, Alto total 2.470 mm. Distancia entre ejes 3.850 mm Tamaño de ruedas 235/75 R17,5. • Sistema de riel para montaje rápido de faldones. • Incluye sistema de montaje rápido para telón de fondo con ganchos. • Luces y señalización con aprobación del Ministerio de transporte en Colombia • Logos impresos (Bajo solicitud). CARROCERÍA ESCENARIO. Tamaño Escenario: 5.30 x 5.70m 30.2m2. • Estructura de soporte metálica con tubería rectangular con tratamiento antioxidante fosfatado. • Cuatro gatos hidráulicos de 1.5T para levantar y nivelar el chasis del camión. • Alas plegables a ambos lados del chasis que forman el piso escenario. Sistema desplegable por medio de 4 cilindros hidráulicos. • Altura máxima utilizable para presentaciones: 4.2m (medidas desde es escenario). • Sistema elevación hidráulica. • Sistema hidráulico operado por control remoto inalámbrico, incluye control hidráulico manual de repuesto. • Telescopios hidráulicos independientes para el chasis, escenario (alas laterales) y techo. • Techo plano laminado con estructura interna para colgar luces. Capacidad total del techo 850 Kg distribuidos (Sin columnas) y 1500Kg (Con columnas). Incluye columnas cuadradas en aluminio con certificación TUV. • Estructura lateral para montar altavoces line array en el techo del escenario con capacidad para 200 kg. • 2 Escaleras y barandas en aluminio. • Piso en madera de 18mm en chasis y 12mm en alas con superficie antideslizante y marco en aluminio. Capacidad 300 kg/m2 Certificación TUV. | G27: 539035000 | H27: SEC. CULTURA | I27: SEC. CULTURA
A28: 24 | B28: ACCESORIOS VEHICULO PLACAS KLN412 | C28: ESTRUCTURA TIPO TRUSS | G28: 56099218 | H28: SEC. CULTURA | I28: SEC. CULTURA
A29: 25 | B29: TRAILER VEHICULO PLACAS KNL412 | C29: TRAILER PARA PLANTA ELECTRICA | G29: 34450500 | H29: SEC. CULTURA | I29: SEC. CULTURA
A30: 26 | B30: LQY889 | C30: CAMIONETA PANEL MARCA NISSAN LINEA URVAN CC 2488 MODELO 2023 MOTOR YD25110873B CHASIS JN1KC4E26Z0020542 FASECOLDA 06407008 PLACA LQY889 | D30: YD25110873B | E30: JN1KC4E26Z0020542 | F30: 06407008 | G30: 176200000 | H30: SEC. GOBIERNO | I30: POLICIA
A31: 27 | B31: ADECUACIONES VEHICULO PLACAS LQY889 | C31: ADECUACION VEHICULO DE PLACAS LQY889 DE CARCELETA CON VENTANAS Y PUERTAS DE SEGURIDAD REFORZADAS EN ACERO REJA AISLANTE PARTE TRASERA Y PARTE DE CONDUCTOR PARA TRASLADO DE RECLUSOS LOGOS EMBLEMAS Y SIRENAS | G31: 69013000 | H31: SEC. GOBIERNO | I31: POLICIA
A32: 28 | B32: LBE64G | C32: MOTOCICLETA YAMAHA XTZ125 CC. 124 MOD. 2023 PLACA LBE64G | D32: E3Y2E101284 | E32: 9FKDE0925P2101284 | F32: 09817188 | G32: 9200000 | H32: SEC. DESARROLLO ECONOMICO | I32: SEC. DESARROLLO ECONOMICO
A33: 29 | B33: NLZ844 | C33: CAMIONETA NISSAN FRONTIER CAPAC. 758 PASAJ. 5 CC. 2298 DOBLE CABINA CON PLATON MOD. 2024 PLACA NLZ844 | D33: YS23E280C045995 | E33: 8ANBD33F9RL612429 | F33: 06421098 | G33: 225400000 | H33: SEC. GOBIERNO | I33: SEC. GOBIERNO
A34: 30 | B34: NMK066 | C34: BUSETA CHEVROLET NQR CC. 5193 PASAJ. 30 MOD. 2024 PLACA NMK066 | D34: 4HK1-0RG406 | E34: 9GCN1R900RB001419 | F34: 01603153 | G34: 364100000 | H34: SEC. DESARROLLO SOCIAL | I34: SEC. DESARROLLO SOCIAL
A35: 31 | B35: 50878 | C35: BAYONA TRAILER NACIONAL DE 4 LLANTAS MOD. 2012 | F35: 26625006 | G35: 29700000 | H35: SEC. DESARROLLO INSTITUCIONAL | I35: ALMACEN CON LA PLANTA
A36: 32 | B36: 50877 | C36: TRAILER NACIONAL DE 4 LLANTAS MOD. 2012 | F36: 26625006 | G36: 29700000 | H36: SEC. CULTURA | I36: SEC. CULTURA
A37: 33 | B37: 50879 | C37: REMOLQUE CON TANQUE DE 5000 LTS 4 RUEDAS MOD. 2011 | F37: 14025011 | G37: 27700000 | H37: SEC. DESARROLLO ECONOMICO | I37: SEC. DESARROLLO ECONOMICO
A38: TOTAL VALOR ASEGURADO | G38: =SUM(G5:G37) -> 3184197718
C40: EL BENEFICIARIO PRINCIPAL ES LA SOCIEDAD DE ACTIVOS ESPECIALES (SAE)
C41: EL BENEFICIARIO PRINCIPAL ES LA UNIDAD DE ANTINARCOTICOS
C42: EL BENEFICIARIO PRINCIPAL ES LA GOVERNACION DE CUNDINAMARCA

Sheet SOAT
A2: RELACIO SOAT
A3: MUNICIPIO DE SOPO CUNDINAMARCA
A4: ITEM | B4: FECHA VENCIMIENTO SOAT ACTUAL a las 24 hrs DD / MM / AAAA | C4: PLACA | D4: CLASE DE VEHICULO (DESPLEGABLE) | E4: MARCA (DESPLEGABLE) | F4: LINEA | G4: MODELO | H4: CILINDRAJE | I4: TONELADAS | J4: PASAJ. | K4: No. MOTOR | L4: No. CHASIS | M4: VIN | N4: CARROCERIA TIPO (DESPLEGABLE) | O4: TIPO DE COMBUSTIBLE (DESPLEGABLE) | P4: SERVICIO (DESPLEGABLE) | Q4: VALOR
A5: 16 | B5: 46314 | C5: KNL412 | D5: CAMION | E5: HINO | F5: FC9JJ7A | G5: 2023 | H5: 5123 | I5: 5850 | J5: 2 | K5: J05EVE11782 | L5: 9F3FC9JJ7PXX11759 | M5: 9F3FC9JJ7PXX11759 | N5: FURGON | O5: DIESEL | P5: PUBLICO | Q5: 1282800
A6: 17 | B6: 46318 | C6: OHK863 | D6: CAMIONETA | E6: NISSAN | F6: FRONTIER D22 | G6: 2007 | H6: 3000 | J6: 5 | K6: ZD30105687K | L6: JN1CNUD22Z0011292 | N6: DOBLE CABINA | O6: DIESEL | P6: Oficial | Q6: 1274000
A7: 19 | B7: 46350 | C7: NMK066 | D7: BUSETA | E7: CHEVROLET | F7: NQR | G7: 2024 | H7: 5193 | J7: 30 | K7: 4HK1-0RG406 | L7: 9GCN1R900RB001419 | M7: 9GCN1R900RB001419 | N7: CERRADA | O7: DIESEL | P7: Oficial | Q7: 1510600
A8: 20 | B8: 46351 | C8: MMZ558 | D8: CAMPERO | E8: TOYOTA LAND CRUISER | F8: PRADO SUMO | G8: 2004 | H8: 2700 | J8: 4 | K8: 3167035 | L8: 9FH11UJ9049002833 | N8: CABINADO | O8: GASOLINA | P8: Particular | Q8: 1274000
A9: 21 | B9: 46373 | C9: IVP04H | D9: MOTOCICLETA | E9: HONDA | F9: XR150LE3 | G9: 2025 | H9: 149 | J9: 2 | K9: KD07E-3150537 | L9: 9FMKD0793SE015450 | M9: 9FMKD0793SE015450 | N9: SIN CARROCERIA | O9: GASOLINA | P9: Particular | Q9: 343300
A10: 22 | B10: 46382 | C10: LQY889 | D10: CAMIONETA | E10: NISSAN | F10: URVAN | G10: 2023 | H10: 2488 | J10: 2 | K10: YD25110873B | L10: JN1KC4E26Z0020542 | M10: JN1KC4E26Z0020542 | N10: PANEL | O10: DIESEL | P10: Oficial | Q10: 946600
A11: 23 | B11: 46383 | C11: FSQ891 | D11: CAMPERO | E11: TOYOTA LAND CRUISER | F11: PRADO | G11: 2019 | H11: 2982 | J11: 7 | K11: 1KD2834514 | L11: JTEBH3FJ0KK20661 | M11: JTEBH3FJ0KK20661 | N11: WAGON | O11: DIESEL | P11: Oficial | Q11: 1110300
A12: TOTAL | Q12: =SUM(Q5:Q11) -> 7741600

Sheet REPOSO
B2: MAQUINARIA Y VEHICULOS EN REPOSO O FUERA DE SERVICIO
B3: MUNICIPIO DE SOPO
B4: ITEM | C4: DESCRIPCION | E4: DEPENDENCIA | F4: ESTADO
B5: 1 | C5: RETROEXCAVADORA 414109 COLOR AMARILLO PLACAS JCB-214 | D5: 47111819 | E5: INFRAESTUCTURA | F5: REPOSO
B6: 2 | C6: TRACTOR NEW HOLLAND TL 90 MODELO 2000 AZUL No serie 9T787 Chasis 283729 motor 706528 PLACA 706528 | D6: 2.5645142e+08 | E6: AGROPECUARIO | F6: REPOSO
B7: 3 | C7: TRACTOR HUSQVARNA LT 1842 DE 18 HP | D7: 53590000 | E7: DEPORTES | F7: REPOSO
B8: 4 | C8: MOTOCICLETA HONDA XR125 BRIO CC. 125 MOD. 2015 PLACA: PUJ15D, MOTOR: JD21E-2267875, CHASIS: 9FMJD2126FF002680 | D8: 6400000 | F8: REPOSO
B9: 5 | C9: MOTOCICLETA SUZUKI TS125 CC. 124 MOD. 2006 PLACA: AZX52, MOTOR: F103229388, CHASIS:9FSSF11A46 C0956645 | D9: 2790000 | F9: REPOSO
B10: 6 | C10: MOTOCICLETA SUZUKI DR200 CC. 199 MOD. 2011 PLACA: GSE44C, MOTOR:H402-187659, CHASIS: 9FSSH42A7BC013783 | D10: 8700000 | F10: REPOSO
B11: 7 | C11: VOLQUETA INTERNATIONAL 4300 CC. 7636 CAPAC. 9000 PLATON MOD. 2012 PLACA:OJG694, MOTOR:470HM2U1584008, CHASIS: 3HAMMAAR7CL566037 | D11: 158900000 | F11: REPOSO
B12: 8 | C12: MOTOCICLETA PLACA WSD CILINDRAJE 185 COLOR VERDE Y BLANCO 131748, PLACA: WSD5 MOTOR: TS1852-176305, CHASIS: TS1852-176305 | D12: 0 | F12: REPOSO
B13: 9 | C13: CAMPERO MITSUBISHI NATIVA 2,8L WAGON PASAJ 5 CC. 2835 MOD. 2008 PLACA:OSM025, MOTOR:B547 CHASIS: JMY0NK9708J001284 | D13: 57800000 | F13: REPOSO
B14: 10 | C14: MOTOCICLETA SUZUKI GS125 CC. 124 MOD. 2012 PLACA JMB62, MOTOR: 157FMI-3*B1Y05436*, CHASIS: 9FSNF41J7CC139535 | D14: 3100000 | F14: REPOSO
B15: 11 | C15: MOTOCICLETA YAMAHA SZ16R CC. 153 MOD. 2016 PLACA: JOW93, MOTOR: 1SV1046430, CHASIS: 9FKKG0622G2046430 | D15: 5100000 | F15: REPOSO
B16: TOTAL | D16: =SUM(D5:D15) -> 5.9994324e+08

Sheet RC PASAJEROS
B3: SEGURO DE RESPONSABILIDAD CIVIL CONTRACTUAL Y/O ACCIDENTES A PASAJEROS Y/O OCUPANTES
B4: MUNICIPIO DE SOPO CUNDINAMARCA
B5: ITEM | C5: PLACA | D5: DESCRIPCION VEHICULO | E5: NUMERO PASAJEROS
B6: 1 | C6: OHK682 | D6: BUSETA CHEVROLET NPR CC. 4570 MOD. 2002, MOTOR: 833001, CHASIS: 9GCNPR71P2B533901 | E6: 26
B7: 2 | C7: OHK952 | D7: BUS HINO FC9JKSZ CC. 5123, MOD. 2014 MOTOR: J05ETC19102, CHASIS:9F3FC9JKSEXX11268 | E7: 37
B8: 3 | C8: LQY889 | D8: CAMIONETA PANEL MARCA NISSAN LINEA URVAN CC 2488 MODELO 2023 MOTOR YD25110873B CHASIS JN1KC4E26Z0020542 | E8: 12
B9: 4 | C9: NMK066 | D9: BUSETA CHEVROLET NQR CC. 5193,MOD: 2024 MOTOR: 4HK1-0RG406, CHASIS: 9GCN1R900RB001419 | E9: 30

Sheet VG
A5: ALCALDIA DE SOPO
A6: RELACION DE PERSONAL VIDA GRUPO SERVIDORES PUBLICOS
A8: No. | B8: NOMBRE | C8: CARGO | D8: FECHA DE NACIMIENTO | E8: CEDULA | F8: VALOR ASEGURADO
A9: 1 | B9: MUÑOZ RODRIGUEZ ALBA FABIOLA | C9: ALCALDESA | D9: 26333 | E9: 20922927 | F9: 268144140
A10: 2 | B10: FORERO CASTRO DIEGO HERNANDO | C10: PERSONERO | D10: 01 de julio de 1986 | E10: 1022325017 | F10: 268144140
A11: TOTAL VALOR ASEGURADO | F11: =SUM(F9:F10) -> 536288280
B14: SALARIO DEL ALCALDE AÑO 2026 | D14: 13407207
A15: VALOR ASEGURADO INDIVIDUAL (20 SALARIOS DEL ALCALDE) | D15: =D14*20 -> 268144140
