Workbook
Name ASDF: #REF!
Name DWQ: #REF!
Name EQU: #REF!
Name EQUIPOS: #REF!
Name ESTACION: #REF!
Name ITEM: #REF!
Name ITEMS: #REF!
Name MAN: #REF!
Name MANO_DE_OBRA: #REF!
Name MARIO: #REF!
Name MAT: #REF!
Name MAT_APU: [1]INSUMOS!$A$4:$D$1142
Name MATERIALES: #REF!
Name PPTO: #REF!
Name TRA: #REF!
Name TRANSPORTE: #REF!

Sheet PRESUPUESTO
D1: Formulario 1 - Propuesta económica - Licitación de obra pública de infraestructura social
D2: Código | E2: CCE-EICP-FM-116 | F2: Versión | G2: 1 | H2: 1
B4: PRESUPUESTO OFICIAL
B5: MANTENIMIENTO PREVENTIVO Y CORRECTIVO, ADECUACIONES Y/O MEJORAS LOCATIVAS ESPRI CARTAGO
B6: ITEM | C6: ACTIVIDAD | D6: UND | E6: CANTIDAD | F6: VR. UNIT. | G6: VR. TOTAL | H6: VALOR OFERTADO
B7: 1.0 ACTIVIDADES PRELIMINARES
B8: 1.01 | C8: =#REF! -> #REF! | D8: M2 | F8: 64798.04 | G8: 0 | H8: 0 | L8: paquete referencia
B9: 1.02 | C9: Desmonte de Muros en ladrillo o bloque | D9: M2 | F9: 22113.3 | G9: 0 | H9: 0 | L9: unidad diagnostico con cuadrilla de paquete de referencia
B10: 1.03 | C10: Desmonte de Muros en sistema liviano incluye estructura metálica | D10: M2 | F10: 18795.45 | G10: 0 | H10: 0 | L10: adecuacion disan 2024 + actualizacion precios
B11: 1.04 | C11: Desmonte de Enchape de Pared y/o Piso | D11: M2 | F11: 15144.89 | G11: 0 | H11: 0 | L11: Nuevos con cotizaciones
B12: 1.05 | C12: Desmonte de Guarda Escoba | D12: ML | F12: 9465.56 | G12: 0 | H12: 0
B13: 1.06 | C13: Desmonte de cielo raso en cualquier material y estructura portante | D13: M2 | F13: 11882.14 | G13: 0 | H13: 0
B14: 1.01 | C14: Desmonte de lámparas Iluminación largas, Cuadradas, Redondas, Reflectores | D14: UN | E14: 130 | F14: 4786.69 | G14: 622269.7
C15: Desmonte Puertas y Marcos | D15: UN | F15: 26767.92 | G15: 0
C16: Desmonte de ventanas | D16: M2 | F16: 8292.11 | G16: 0
C17: Desmonte de Divisiones modulares, acrílicas o en vidrio | D17: M2 | F17: 11056.14 | G17: 0
C18: Desmonte Aparatos Sanitarios | D18: UN | F18: 42828.67 | G18: 0
C19: Desmonte de puntos hidrosanitarios. Incluye retiro de red hidrosanitaria en una longitud hasta 1,5 m | D19: UN | F19: 20824.22 | G19: 0
C20: Desmonte y montaje de Cortinas, Velos, Persianas y Soportes | D20: UN | F20: 11056.14 | G20: 0
B21: 1.02 | C21: Desmonte de salida eléctrica. Incluye retiro de aparato, caja, tapa, tuberia y cableado hasta 1,5 m y regateo a que haya lugar | D21: UN | E21: 121 | F21: 16961.8 | G21: 2052377.8
B22: 1.03 | C22: Desmonte de Cableado Eléctrico. Incluye tuberia y demas accesorios eléctricos | D22: ML | E22: 500 | F22: 1893.11 | G22: 946555
C23: Desmonte detectores de humo incluye desconexion desmonte retiro de cableado y tuberia correspondiente | D23: UN | F23: 16574.28 | G23: 0
C24: Desmonte de parlantes sonido incluye desconexion desmonte retiro de cableado y tuberia correspondiente | D24: UN | F24: 16574.28 | G24: 0
B25: 1.04 | C25: Desmonte de cielo raso en cualquier material conservando la estructura portante | D25: M2 | E25: 250 | F25: 17920.29 | G25: 4480072.5
B26: 1.05 | C26: Regatas para instalación de tuberías | D26: ML | E26: 400 | F26: 10965.252 | G26: 4386100.7
D27: SUBTOTAL | G27: 12487376
B28: 2.0 CONSTRUCCION LIVIANA
B29: 2.01 | C29: Suministro e Instalación de Cielo Raso Plano en Dry Wall Incluye Estructura Metálica | D29: M2 | E29: 250 | F29: 96338.63 | G29: 24084658
B30: 2.02 | C30: Mantenimiento y/o suministro e instalación de muro Dry wall doble cara E=12 en los casos que se requiera | D30: M2 | E30: 25 | F30: 97682.69 | G30: 2442067.2
B31: 2.03 | C31: Reposición e instalación de marcos para inspección cielo raso 60x 60 en aluminio color por definir | D31: UN | E31: 10 | F31: 43080.7 | G31: 430807
D32: SUBTOTAL | G32: 26957532
B33: 3.0 MAMPOSTERIA Y PAÑETES
B34: 3.01 | C34: Mantenimiento y RESANES GENERALES | D34: M2 | E34: 150 | F34: 32689.97 | G34: 4903495.5
D35: SUBTOTAL | G35: 4903495.5
B36: 4.0 MANTENIMIENTO DE REDES ELECTRICAS
B37: 4.01 | C37: SUMINISTRO, TENDIDO E INSTALACION DE BAJA TENSIÓN 2F, 3H EN CABLE DE COBRE 2(2X1/0+1X1/0+ 1X2 CU THW). | D37: ML | E37: 90 | F37: 184473.48 | G37: 16602613
B38: 4.02 | C38: TABLERO BIFÁSICO DE 30 CIRCUITOS CON PUERTA CON ESPACIO PARA TOTALIZADOR | D38: UN | E38: 3 | F38: 648350.09 | G38: 1945050.3
B39: 4.03 | C39: SUMINISTRO E INSTALACIÓN DE BREAKER (1x15 A-1x50 A -2x20-2x30) | D39: UN | E39: 144 | F39: 30000.756 | G39: 4320108.9
B40: 4.04 | C40: SUMINISTRO E INSTALACIÓN DE BREAKER 3(20-150) A | D40: UN | E40: 10 | F40: 291770.21 | G40: 2917702.1
B41: 4.05 | C41: SUMINISTRO E INSTALACION DE SALIDA PARA LUMINARIA EN TECHO, EN TUBO CONDUIT EMT DE 3/4", EN CONDUCTORES DE COBRE 3No. 12 TIPO PE-HF-FR-LS-CT. INCLUYE SOPORTES, CAJAS (CON TAPA) Y ACCESORIOS NECESARIOS PARA COMPLETAR LA SALIDA. | D41: UN | E41: 130 | F41: 126088.04 | G41: 16391445
B42: 4.06 | C42: SUMINISTRO E INSTALACION DE PUNTO PARA INTERRUPTOR SENCILLO HASTA 5 ML 1 # 12 + 1 #12 + 1 #12 T EN 1 THWN INCLUYE INTERRUPTOR | D42: UN | E42: 36 | F42: 158824.92 | G42: 5717697.1
B43: 4.07 | C43: SUMINISTRO E INSTALACION DE PUNTO PARA INTERRUPTOR DOBLE HASTA 5 ML 1 # 12 + 1 #12 + 1 #12 T EN 1 THWN INCLUYE INTERRUPTOR | D43: UN | E43: 15 | F43: 179071.35 | G43: 2686070.3
B44: 4.08 | C44: SUMINISTRO E INSTALACION DE PUNTO PARA INTERRUPTOR TRIPLE HASTA 5 ML 1 # 12 + 1 #12 + 1 #12 T EN 1 THWN INCLUYE INTERRUPTOR | D44: UN | E44: 16 | F44: 201582.87 | G44: 3225326
B45: 4.09 | C45: SUMINISTRO E INSTALACIÓN DE LUMINARIA DE PANEL LED CUADRADO 595x595x10 mm M PONTENCIA 40 W, TENSION: 120 V. EFICACIA: 100 Im/W; FLUJO LUMINOSO DE LAMPARAS: 4000 Im; TEMPERATURA DE COLOR 6500 K (DL); VIDA UTIL 5000 H L70; REPRODUCCION DE COLOR (IRC): 80; ANGULO DE APERTURA 110 º; CORRIENTE DE ENTRADA: 0,333 a @ 120 V; FACTOR DE POTENCIA >0,9; DISTORSION ARMONICA (THD) < 20%; TEMPERATURA DE OPERACIÓN TA -10º C - +40ºC; TIPO DE DISTRIBUCION: DIRECTA SIMETRICA; GRADO DE PROTECCION IP: IP`20; OPTICA: DIFUSOR PMMA; INDEPEDIENTE CC; INCLUYE ACCESORIOS DE CONEXIÓN, CABLE ENCAUCHETADO 2X14 AWG, CLAVIJA, TOMACORRIENTE MARCO DE MONTAJE Y/O ACCESORIOS DE DESCUELGUE, AMARRE Y FIJACIÓN. QUE RESPONDA A LOS ESTUDIOS FOTOMÉTRICOS DE PROYECTO EN SUS PARÁMETROS FÍSICOS, ELÉCTRICOS, TÉCNICOS, FOTOMÉTRICOS Y DE INSTALACIÓN. | D45: UN | E45: 60 | F45: 159955.79 | G45: 9597347.4
B46: 4.10 | C46: SUMINISTRO E INSTALACIÓN DE LUMINARIA LED REDONDA PARA SOBRE PONER DE FIJAR EN PARED O TECHO POTENCIA 18 W, GRADO DE EFICIENCIA DE FUNCIONAMIENTO: 99,88%, FLUJO LUMINOSO DE LÁMPARAS: 1200 Im, FLUJO LUMINOSO DE LAS LUMINARIAS: 1199 Im, RENDIMIENTO LUMÍNICO: 66,6 Im/W 120 V. INCLUYE: CABLE ENCAUCHETADO 2X14 AWG, CLAVIJA, TOMACORRIENTEACCESORIOS DE MONTAJE Y CONEXIÓN. QUE RESPONDA A LOS ESTUDIOS FOTOMÉTRICOS DE PROYECTO EN SUS PARÁMETROS FÍSICOS, ELÉCTRICOS, TÉCNICOS, FOTOMÉTRICOS Y DE INSTALACIÓN. | D46: UN | E46: 70 | F46: 79777.472 | G46: 5584423
B47: 4.11 | C47: SUMINISTRO, MONTAJE Y CONEXIÓN DE LUMINARIA LED HERMÉTICA RECTANGULAR (1.30X0.14) DE FIJAR EN PARED O TECHO POTENCIA 54 W, GRADO DE EFICIENCIA DE FUNCIONAMIENTO: 68,99%, FLUJO LUMINOSO DE LAMPARAS: 4375 Im, FLUJO LUMINOSO DE LAS LUMINARIAS:3018 Im, RENDIMIENTO LUMINICO: 55.9 Im/W 120 V. INCLUYE CABLE ENCAUCHETADO 2X14 AWG, CLAVIJA, TOMACORRIENTE, ACCESORIOS DE CONEXIÓN, ACCESORIOS DE DESCUELGUE, AMARRE Y FIJACIÓN. QUE RESPONDA A LOS ESTUDIOS FOTOMÉTRICOS DE PROYECTO EN SUS PARÁMETROS FÍSICOS, ELÉCTRICOS, TÉCNICOS, FOTOMÉTRICOS Y DE INSTALACIÓN. | D47: UN | E47: 4 | F47: 200677.44 | G47: 802709.75
B48: 4.12 | C48: SUMINISTRO, MONTAJE Y CONEXIÓN DE LUMINARIA DE EMERGENCIA LED R1W5 - 2 X 1.2W. LUMINARIA DE EMERGENCIA PARA SOBREPONER CON TECNOLOGÍA LED DE LARGA DURACIÓN, LUZ BLANCA DE ALTO BRILLO, DISEÑO COMPACTO, CARCASA COLOR BLANCO Y PLACA DE MONTAJE PARA UNA CONEXIÓN RÁPIDA Y DE FÁCIL INSTALACIÓN. | D48: UN | E48: 42 | F48: 124452.87 | G48: 5227020.5
... B77: 4.41 | C77: SUMINISTRO E INSTALACION DE POSTE DE 12 MTS EN CONCRETO CR=750 KG | D77: UND | E77: 3 | F77: 2321344.1 | G77: 6964032.4
D78: SUBTOTAL | G78: 2.3403306e+08
B79: 5.0 MANTENIMIENTO DE REDES DE VOZ Y DATOS
B80: 5.01 | C80: Reposición e instalación de Salida doble de voz y/o datos categoría 6A certificado | D80: UN | E80: 45 | F80: 134048.32 | G80: 6032174.4
B81: 5.02 | C81: Reposición e instalación de cableado UTP categoría 6A -100 % cobre | D81: ML | E81: 2115 | F81: 12111.269 | G81: 25615333
B82: 5.03 | C82: Reposición e instalación de cableado HDMI | D82: ML | E82: 10 | F82: 21077.45 | G82: 210774.5
B83: 5.04 | C83: Reposición e instalación de Bandeja tipo malla portacables para redes de energía regulada, normal y comunicaciones formato 60 x 300 mm o similar | D83: ML | E83: 120 | F83: 116185.98 | G83: 13942318
D84: SUBTOTAL | G84: 45800600
B85: 6.0 MANTENIMIENTO DE ACABADOS DE PINTURA
B86: 6.01 | C86: Mantenimiento y reposición e instalación de estuco y vinilo 3 manos | D86: M2 | E86: 200 | F86: 35766.55 | G86: 7153310
D87: SUBTOTAL | G87: 7153310
B88: 7.0 MANTENIMIENTO DE CARPINTERÍA MADERA
B89: 7.01 | C89: Suministro e instalación de Puerta marco y hoja flormorado o equivalente | D89: M2 | E89: 2 | F89: 347509.14 | G89: 695018.28
D90: SUBTOTAL | G90: 695018.28
B91: 7.0 MANTENIMIENTO DE ACABADOS DE PISOS
B92: 7.01 | C92: Suministro e instalación de piso Laminado 8mm trafico comercial pesado Incluye yumbolon 10 mm, Bocel, Perfiles de compensación y/o transición y demas elementos para su correcto funcionamiento | D92: M2 | F92: 157521.72 | G92: 0
B93: 7.02 | C93: Suministro e instalación de guardaescoba para piso laminado | D93: ML | F93: 28073.431 | G93: 0
D94: SUBTOTAL | G94: 0
B95: 8,0 CARPINTERIA METALICA Y VIDRIOS
B96: 8.01 | C96: Suministro e instalación de división en vidrio templado 10 mm | D96: M2 | F96: 838229.65 | G96: 0
B97: 8.02 | C97: Suministro e instalación de Puerta en Vidrio Templado Laminado 10mm | D97: M2 | F97: 1140882.5 | G97: 0
B98: 8.03 | C98: Suministro e instalación de Puerta doble en Vidrio Templado Laminado 10mm incluye cerradura, herrajes y accesorios en acero inoxidable. | D98: M2 | F98: 2087019.2 | G98: 0
B99: 8.04 | C99: Suministro e instalacion de division en vidrio templado 10 mm de 4 x 2,3 con ventanilla de atencion corredizas de 1,40 x 0,30 m | D99: UN | F99: 1415553.6 | G99: 0
B100: 8.05 | C100: Suministro e instalacion de divisiones para oficina en vidrio templado de 10 mm a media altura con refuerzo en piso y perfiles metalicos esquineros | D100: M2 | F100: 515463.7 | G100: 0 | L100: =K100/E100 -> #DIV/0!
B101: 8.06 | C101: Mantenimiento y reposición e instalación de TOPE DE PISO PARA PUERTA | D101: UN | F101: 29997.69 | G101: 0
B102: 8.07 | C102: suministro e instalacion de pelicula sandblanting tipo frost para vidrio | D102: M2 | F102: 89628.924 | G102: 0
D103: SUBTOTAL | G103: 0
B104: 9.00 SISTEMA DETECCION DE INCENDIOS
B105: 9.01 | C105: Suministro, transporte e instalación de Pulsador de activación manual, incluye Manual call point reset surface-mnt red, Flap transparent, Wall strobe 2-wire 15-185cd 12/24V red, todos los accesorios, elementos de fijación y marquillado. | D105: UN | F105: 754343.47 | G105: 0
B106: 9.02 | C106: Suministro, transporte e instalación de Sensor de humo óptico, incluye sensor, base para sensor y todos los accesorios, elementos de fijación y marquillado. | D106: UN | F106: 294440.34 | G106: 0
B107: 9.03 | C107: Suministro, transporte e instalación de Módulo de interfaz, incluye: Módulo y todos los accesorios, elementos de fijación y marquillado. | D107: UN | F107: 486377.17 | G107: 0
B108: 9.04 | C108: Suministro, transporte e instalación de Tubería EMT ½" para sistema de detección de incensios incluye todos los accesorios, elementos de fijación y marquillado. | D108: ML | F108: 145916.82 | G108: 0
B109: 9.05 | C109: Suministro, transporte e instalación de Cable de sistema de detección contra Incendios 2x16 Rojo. | D109: ML | F109: 22011.5 | G109: 0
B110: 9.06 | C110: Montaje, Instalación y puesta en marcha con soporte y / o mantenimiento por un año | D110: UN | F110: 13968369 | G110: 0
D111: SUBTOTAL | G111: 0
B112: 8.00 ASEO GENERAL Y RETIRO DE ESCOMBROS
B113: 10.01 | C113: Aseo general permanente en las obras de mantenimiento | D113: M2 | F113: 7206.9396 | G113: 0
B114: 8.01 | C114: Retiro de escombros a lugar autorizado por autoridades ambientales | D114: M3 | E114: 10 | F114: 105188.85 | G114: 1051888.5
D115: SUBTOTAL | G115: 1051888.5

Sheet MEMORIAS
B2: DIRECCION DE SANIDAD DE LA POLICIA NACIONAL
B4: MEMORIA DE CALCULO DE CANTIDADES DE OBRA
B6: OBJETO: | D6: ELABORACIÓN DE LOS ESTUDIOS Y DISEÑOS TÉCNICOS PARA LA ADECUACIÓN DE LAS ÁREAS DESTINADAS A LOS SERVICIOS DE ONCOLOGÍA, CARDIOLOGIA Y UNIDAD DE DIAGNOSTICO PARA PROCEDIMIENTOS INVASIVOS DEL HOSPITAL CENTRAL DE LA POLICIA NACIONAL
B7: ITEM | C7: =PRESUPUESTO!B8 -> 1.01 | D7: =PRESUPUESTO!C8 -> #REF! | N7: UNIDAD DE MEDIDA | O7: M2 | P7: FECHA DE REALIZACION FICHA
H8: DESCRIPCION DE LA LOCALIZACIÓN / LUGAR / SITIO EJECUCION | N8: DIMENSIONES | R8: CANTIDAD | S8: CANTIDAD TOTAL EJECUTADA
N9: LARGO | O9: ANCHO | P9: ALTO | Q9: ESPESOR
H11: MUROS EN MAMPOSTERIA
H12: MURO 1 | O12: 7.5 | P12: 3 | Q12: 0.15 | R12: =O12*P12 -> 22.5 | S12: =R12 -> 22.5
H13: MURO 2 | O13: 8.3 | P13: 3 | Q13: 0.15 | R13: =O13*P13 -> 24.9 | S13: =R13 -> 24.9
H14: MURO 3 | O14: 5.3 | P14: 3 | Q14: 0.15 | R14: =O14*P14 -> 15.9 | S14: =R14 -> 15.9
H15: MURO 4 | O15: 5.3 | P15: 3 | Q15: 0.15 | R15: =O15*P15 -> 15.9 | S15: =R15 -> 15.9
H16: MURO 5 | O16: 3 | P16: 3 | Q16: 0.15 | R16: =O16*P16 -> 9 | S16: =R16 -> 9
H17: MURO 6 | O17: 3 | P17: 3 | Q17: 0.15 | R17: =O17*P17 -> 9 | S17: =R17 -> 9
H18: MURO 7 | O18: 5.3 | P18: 3 | Q18: 0.15 | R18: =O18*P18 -> 15.9 | S18: =R18 -> 15.9
H19: MURO 8 | O19: 3 | P19: 3 | Q19: 0.15 | R19: =O19*P19 -> 9 | S19: =R19 -> 9
H20: MURO 9 | O20: 40 | P20: 3 | Q20: 0.15 | R20: =O20*P20 -> 120 | S20: =R20 -> 120
H21: MURO 10 | O21: 20 | P21: 3 | Q21: 0.15 | R21: =O21*P21 -> 60 | S21: =R21 -> 60
H22: MURO 11 | O22: 5 | P22: 3 | Q22: 0.15 | R22: =O22*P22 -> 15 | S22: =R22 -> 15
H23: MURO 12 | O23: 9 | P23: 3 | Q23: 0.15 | R23: =O23*P23 -> 27 | S23: =R23 -> 27
... H26: MURO 15 | O26: 2 | P26: 3 | Q26: 0.15 | R26: =O26*P26 -> 6 | S26: =R26 -> 6
O27: 5 | P27: 3 | Q27: 0.15 | R27: =O27*P27 -> 15 | S27: =R27 -> 15
H37: TOTAL ÍTEM | S37: =SUM(S10:S36) -> 395.1
B38: OBSERVACIONES:
O41: .
B42: ITEM | C42: =PRESUPUESTO!B10 -> 1.03 | D42: =PRESUPUESTO!C10 -> Desmonte de Muros en sistema liviano incluye estructura metálica | N42: UNIDAD DE MEDIDA | O42: M2 | P42: FECHA DE REALIZACION FICHA
H43: DESCRIPCION DE LA LOCALIZACIÓN / LUGAR / SITIO EJECUCION | N43: DIMENSIONES | R43: CANTIDAD | S43: CANTIDAD TOTAL EJECUTADA
N44: LARGO | O44: ANCHO | P44: ALTO | Q44: ESPESOR
H46: MUROS EN DRYWALL
H47: MURO 1 | O47: 8.3 | P47: 3 | Q47: 0.15 | R47: =O47*P47 -> 24.9 | S47: =R47 -> 24.9
H48: MURO 2 | O48: 40 | P48: 3 | Q48: 0.15 | R48: =O48*P48 -> 120 | S48: =R48 -> 120
H49: MURO 3 | O49: 35 | P49: 3 | Q49: 0.15 | R49: =O49*P49 -> 105 | S49: =R49 -> 105
H50: MURO 4 | O50: 15 | P50: 3 | Q50: 0.15 | R50: =O50*P50 -> 45 | S50: =R50 -> 45
H51: MURO 5 | O51: 25 | P51: 3 | Q51: 0.15 | R51: =O51*P51 -> 75 | S51: =R51 -> 75
H52: MURO 6 | N52: 27*4 | O52: =27*4 -> 108 | P52: 3 | Q52: 0.15 | R52: =O52*P52 -> 324 | S52: =R52 -> 324
H53: MURO 7 | O53: 15 | P53: 3 | Q53: 0.15 | R53: =O53*P53 -> 45 | S53: =R53 -> 45
S54: =R54 -> 0
S55: =R55 -> 0
S56: =R56 -> 0
S57: =R57 -> 0
S58: =R58 -> 0
S59: =R59 -> 0
S60: =R60 -> 0
S61: =R61 -> 0
H63: TOTAL ÍTEM | S63: =SUM(S45:S62) -> 738.9
B64: OBSERVACIONES:
B68: ITEM | C68: =PRESUPUESTO!B11 -> 1.04 | D68: =PRESUPUESTO!C11 -> Desmonte de Enchape de Pared y/o Piso | N68: UNIDAD DE MEDIDA | O68: M2 | P68: FECHA DE REALIZACION FICHA
H69: DESCRIPCION DE LA LOCALIZACIÓN / LUGAR / SITIO EJECUCION | N69: DIMENSIONES | R69: CANTIDAD | S69: CANTIDAD TOTAL EJECUTADA
N70: LARGO | O70: ANCHO | P70: ALTO | Q70: ESPESOR
H72: MUROS EN DRYWALL
H73: MURO 1 | N73: 22 | O73: 1 | P73: 1 | Q73: 0.15 | R73: =O73*P73 -> 1 | S73: =R73*N73 -> 22
H74: MURO 2 | N74: 4 | O74: 5 | P74: 3 | R74: =O74*P74 -> 15 | S74: =R74*N74 -> 60
H75: MURO 3 | N75: 4 | O75: 3 | P75: 3 | R75: =O75*P75 -> 9 | S75: =R75*N75 -> 36
H76: MURO 4 | N76: 2 | O76: 3 | P76: 3 | R76: =O76*P76 -> 9 | S76: =R76*N76 -> 18
H77: MURO 5 | N77: 2 | O77: 2 | P77: 3 | R77: =O77*P77 -> 6 | S77: =R77*N77 -> 12
H78: MURO 6 | S78: 4.56
H79: MURO 7 | S79: 20
S80: =R80 -> 0
S81: =R81 -> 0
S82: =R82 -> 0
S83: =R83 -> 0
S84: =R84 -> 0
S85: =R85 -> 0
S86: =R86 -> 0
S87: =R87 -> 0
H89: TOTAL ÍTEM | S89: =SUM(S71:S88) -> 172.56
B90: OBSERVACIONES:
B94: ITEM | C94: =PRESUPUESTO!B15 -> 0 | D94: =PRESUPUESTO!C15 -> Desmonte Puertas y Marcos | N94: UNIDAD DE MEDIDA | O94: UN | P94: FECHA DE REALIZACION FICHA
H95: DESCRIPCION DE LA LOCALIZACIÓN / LUGAR / SITIO EJECUCION | N95: DIMENSIONES | R95: CANTIDAD | S95: CANTIDAD TOTAL EJECUTADA
N96: LARGO | O96: ANCHO | P96: ALTO | Q96: ESPESOR
H99: PUERTAS EXTERNAS 4 | N99: 1.2 | P99: 2.2 | R99: =P99*N99 -> 2.64 | S99: =R99*4 -> 10.56
H100: PUERTAS INTERNAS 40 | N100: 1.2 | P100: 2.2 | R100: =P100*N100 -> 2.64 | S100: =R100*40 -> 105.6
H115: TOTAL ÍTEM | S115: =SUM(S97:S114) -> 116.16
B116: OBSERVACIONES:
B121: ITEM | C121: =PRESUPUESTO!B16 -> 0 | D121: =PRESUPUESTO!C16 -> Desmonte de ventanas | N121: UNIDAD DE MEDIDA | O121: M2 | P121: FECHA DE REALIZACION FICHA
H122: DESCRIPCION DE LA LOCALIZACIÓN / LUGAR / SITIO EJECUCION | N122: DIMENSIONES | R122: CANTIDAD | S122: CANTIDAD TOTAL EJECUTADA
N123: LARGO | O123: ANCHO | P123: ALTO | Q123: ESPESOR
H126: PUERTAS EXTERNAS 13 | N126: 3.1 | P126: 1.6 | R126: =P126*N126 -> 4.96 | S126: =R126*13 -> 64.48
S127: =R127*40 -> 0
H142: TOTAL ÍTEM | S142: =SUM(S124:S141) -> 64.48
B143: OBSERVACIONES:
B154: ITEM | C154: =PRESUPUESTO!B13 -> 1.06 | D154: =PRESUPUESTO!C13 -> Desmonte de cielo raso en cualquier material y estructura portante | N154: UNIDAD DE MEDIDA | O154: M2 | P154: FECHA DE REALIZACION FICHA
H155: DESCRIPCION DE LA LOCALIZACIÓN / LUGAR / SITIO EJECUCION | N155: DIMENSIONES | R155: CANTIDAD | S155: CANTIDAD TOTAL EJECUTADA
N156: LARGO | O156: ANCHO | P156: ALTO | Q156: ESPESOR
H159: CIELO RASO | O159: 900 | S159: 900
S160: =R160 -> 0
S161: =R161 -> 0
S162: =R162 -> 0
S163: =R163 -> 0
S164: =R164 -> 0
S165: =R165 -> 0
S166: =R166 -> 0
S167: =R167 -> 0
S168: =R168 -> 0
S169: =R169 -> 0
S170: =R170 -> 0
S171: =R171 -> 0
... S174: =R174 -> 0
H184: TOTAL ÍTEM | S184: =SUM(S157:S183) -> 900
B185: OBSERVACIONES:
B190: ITEM | C190: =PRESUPUESTO!B17 -> 0 | D190: =PRESUPUESTO!C17 -> Desmonte de Divisiones modulares, acrílicas o en vidrio | N190: UNIDAD DE MEDIDA | O190: M2 | P190: FECHA DE REALIZACION FICHA
...
