Workbook
Name ASDF: #REF!
Name DWQ: #REF!
Name EQU: #REF!
Name EQUIPOS: #REF!
Name ESTACION: #REF!
Name ITEM: #REF!
Name ITEMS: #REF!
Name MAN: #REF!
Name MANO_DE_OBRA: #REF!
Name MARIO: #REF!
Name MAT: #REF!
Name MAT_APU: [1]INSUMOS!$A$4:$D$1142
Name MATERIALES: #REF!
Name PPTO: #REF!
Name TRA: #REF!
Name TRANSPORTE: #REF!

Sheet PRESUPUESTO
D1: Formulario 1 - Propuesta económica - Licitación de obra pública de infraestructura social
D2: Código | E2: CCE-EICP-FM-116 | F2: Versión | G2: 1 | H2: 1
B4: PRESUPUESTO OFICIAL
B5: MANTENIMIENTO PREVENTIVO Y CORRECTIVO, ADECUACIONES Y/O MEJORAS LOCATIVAS ESPRI CARTAGO
B6: ITEM | C6: ACTIVIDAD | D6: UND | E6: CANTIDAD | F6: VR. UNIT. | G6: VR. TOTAL | H6: VALOR OFERTADO
B7: 1.0 ACTIVIDADES PRELIMINARES
B8: 1.01 | C8: =#REF! -> #REF! | D8: M2 | F8: 64798.04 | G8: 0 | H8: 0 | L8: paquete referencia
B9: 1.02 | C9: Desmonte de Muros en ladrillo o bloque | D9: M2 | F9: 22113.3 | G9: 0 | H9: 0 | L9: unidad diagnostico con cuadrilla de paquete de referencia
B10: 1.03 | C10: Desmonte de Muros en sistema liviano incluye estructura metálica | D10: M2 | F10: 18795.45 | G10: 0 | H10: 0 | L10: adecuacion disan 2024 + actualizacion precios
B11: 1.04 | C11: Desmonte de Enchape de Pared y/o Piso | D11: M2 | F11: 15144.89 | G11: 0 | H11: 0 | L11: Nuevos con cotizaciones
B12: 1.05 | C12: Desmonte de Guarda Escoba | D12: ML | F12: 9465.56 | G12: 0 | H12: 0
B13: 1.06 | C13: Desmonte de cielo raso en cualquier material y estructura portante | D13: M2 | F13: 11882.14 | G13: 0 | H13: 0
B14: 1.01 | C14: Desmonte de lámparas Iluminación largas, Cuadradas, Redondas, Reflectores | D14: UN | E14: 130 | F14: 4786.69 | G14: 622269.7
C15: Desmonte Puertas y Marcos | D15: UN | F15: 26767.92 | G15: 0
C16: Desmonte de ventanas | D16: M2 | F16: 8292.11 | G16: 0
C17: Desmonte de Divisiones modulares, acrílicas o en vidrio | D17: M2 | F17: 11056.14 | G17: 0
C18: Desmonte Aparatos Sanitarios | D18: UN | F18: 42828.67 | G18: 0
C19: Desmonte de puntos hidrosanitarios. Incluye retiro de red hidrosanitaria en una longitud hasta 1,5 m | D19: UN | F19: 20824.22 | G19: 0
C20: Desmonte y montaje de Cortinas, Velos, Persianas y Soportes | D20: UN | F20: 11056.14 | G20: 0
B21: 1.02 | C21: Desmonte de salida eléctrica. Incluye retiro de aparato, caja, tapa, tuberia y cableado hasta 1,5 m y regateo a que haya lugar | D21: UN | E21: 121 | F21: 16961.8 | G21: 2052377.8
B22: 1.03 | C22: Desmonte de Cableado Eléctrico. Incluye tuberia y demas accesorios eléctricos | D22: ML | E22: 500 | F22: 1893.11 | G22: 946555
C23: Desmonte detectores de humo incluye desconexion desmonte retiro de cableado y tuberia correspondiente | D23: UN | F23: 16574.28 | G23: 0
C24: Desmonte de parlantes sonido incluye desconexion desmonte retiro de cableado y tuberia correspondiente | D24: UN | F24: 16574.28 | G24: 0
B25: 1.04 | C25: Desmonte de cielo raso en cualquier material conservando la estructura portante | D25: M2 | E25: 250 | F25: 17920.29 | G25: 4480072.5
B26: 1.05 | C26: Regatas para instalación de tuberías | D26: ML | E26: 400 | F26: 10965.252 | G26: 4386100.7
D27: SUBTOTAL | G27: 12487376
B28: 2.0 CONSTRUCCION LIVIANA
B29: 2.01 | C29: Suministro e Instalación de Cielo Raso Plano en Dry Wall Incluye Estructura Metálica | D29: M2 | E29: 250 | F29: 96338.63 | G29: 24084658
B30: 2.02 | C30: Mantenimiento y/o suministro e instalación de muro Dry wall doble cara E=12 en los casos que se requiera | D30: M2 | E30: 25 | F30: 97682.69 | G30: 2442067.2
B31: 2.03 | C31: Reposición e instalación de marcos para inspección cielo raso 60x 60 en aluminio color por definir | D31: UN | E31: 10 | F31: 43080.7 | G31: 430807
D32: SUBTOTAL | G32: 26957532
B33: 3.0 MAMPOSTERIA Y PAÑETES
B34: 3.01 | C34: Mantenimiento y RESANES GENERALES | D34: M2 | E34: 150 | F34: 32689.97 | G34: 4903495.5
D35: SUBTOTAL | G35: 4903495.5
B36: 4.0 MANTENIMIENTO DE REDES ELECTRICAS
B37: 4.01 | C37: SUMINISTRO, TENDIDO E INSTALACION DE BAJA TENSIÓN 2F, 3H EN CABLE DE COBRE 2(2X1/0+1X1/0+ 1X2 CU THW). | D37: ML | E37: 90 | F37: 184473.48 | G37: 16602613
B38: 4.02 | C38: TABLERO BIFÁSICO DE 30 CIRCUITOS CON PUERTA CON ESPACIO PARA TOTALIZADOR | D38: UN | E38: 3 | F38: 648350.09 | G38: 1945050.3
B39: 4.03 | C39: SUMINISTRO E INSTALACIÓN DE BREAKER (1x15 A-1x50 A -2x20-2x30) | D39: UN | E39: 144 | F39: 30000.756 | G39: 4320108.9
B40: 4.04 | C40: SUMINISTRO E INSTALACIÓN DE BREAKER 3(20-150) A | D40: UN | E40: 10 | F40: 291770.21 | G40: 2917702.1
B41: 4.05 | C41: SUMINISTRO E INSTALACION DE SALIDA PARA LUMINARIA EN TECHO, EN TUBO CONDUIT EMT DE 3/4", EN CONDUCTORES DE COBRE 3No. 12 TIPO PE-HF-FR-LS-CT. INCLUYE SOPORTES, CAJAS (CON TAPA) Y ACCESORIOS NECESARIOS PARA COMPLETAR LA SALIDA. | D41: UN | E41: 130 | F41: 126088.04 | G41: 16391445
...

Sheet MEMORIAS
B2: DIRECCION DE SANIDAD DE LA POLICIA NACIONAL
B4: MEMORIA DE CALCULO DE CANTIDADES DE OBRA
B6: OBJETO: | D6: ELABORACIÓN DE LOS ESTUDIOS Y DISEÑOS TÉCNICOS PARA LA ADECUACIÓN DE LAS ÁREAS DESTINADAS A LOS SERVICIOS DE ONCOLOGÍA, CARDIOLOGIA Y UNIDAD DE DIAGNOSTICO PARA PROCEDIMIENTOS INVASIVOS DEL HOSPITAL CENTRAL DE LA POLICIA NACIONAL
B7: ITEM | C7: =PRESUPUESTO!B8 -> 1.01 | D7: =PRESUPUESTO!C8 -> #REF! | N7: UNIDAD DE MEDIDA | O7: M2 | P7: FECHA DE REALIZACION FICHA
H8: DESCRIPCION DE LA LOCALIZACIÓN / LUGAR / SITIO EJECUCION | N8: DIMENSIONES | R8: CANTIDAD | S8: CANTIDAD TOTAL EJECUTADA
N9: LARGO | O9: ANCHO | P9: ALTO | Q9: ESPESOR
H11: MUROS EN MAMPOSTERIA
H12: MURO 1 | O12: 7.5 | P12: 3 | Q12: 0.15 | R12: =O12*P12 -> 22.5 | S12: =R12 -> 22.5
H13: MURO 2 | O13: 8.3 | P13: 3 | Q13: 0.15 | R13: =O13*P13 -> 24.9 | S13: =R13 -> 24.9
H14: MURO 3 | O14: 5.3 | P14: 3 | Q14: 0.15 | R14: =O14*P14 -> 15.9 | S14: =R14 -> 15.9
H15: MURO 4 | O15: 5.3 | P15: 3 | Q15: 0.15 | R15: =O15*P15 -> 15.9 | S15: =R15 -> 15.9
H16: MURO 5 | O16: 3 | P16: 3 | Q16: 0.15 | R16: =O16*P16 -> 9 | S16: =R16 -> 9
H17: MURO 6 | O17: 3 | P17: 3 | Q17: 0.15 | R17: =O17*P17 -> 9 | S17: =R17 -> 9
H18: MURO 7 | O18: 5.3 | P18: 3 | Q18: 0.15 | R18: =O18*P18 -> 15.9 | S18: =R18 -> 15.9
H19: MURO 8 | O19: 3 | P19: 3 | Q19: 0.15 | R19: =O19*P19 -> 9 | S19: =R19 -> 9
H20: MURO 9 | O20: 40 | P20: 3 | Q20: 0.15 | R20: =O20*P20 -> 120 | S20: =R20 -> 120
H21: MURO 10 | O21: 20 | P21: 3 | Q21: 0.15 | R21: =O21*P21 -> 60 | S21: =R21 -> 60
H22: MURO 11 | O22: 5 | P22: 3 | Q22: 0.15 | R22: =O22*P22 -> 15 | S22: =R22 -> 15
H23: MURO 12 | O23: 9 | P23: 3 | Q23: 0.15 | R23: =O23*P23 -> 27 | S23: =R23 -> 27
... H26: MURO 15 | O26: 2 | P26: 3 | Q26: 0.15 | R26: =O26*P26 -> 6 | S26: =R26 -> 6
O27: 5 | P27: 3 | Q27: 0.15 | R27: =O27*P27 -> 15 | S27: =R27 -> 15
H37: TOTAL ÍTEM | S37: =SUM(S10:S36) -> 395.1
B38: OBSERVACIONES:
O41: .
B42: ITEM | C42: =PRESUPUESTO!B10 -> 1.03 | D42: =PRESUPUESTO!C10 -> Desmonte de Muros en sistema liviano incluye estructura metálica | N42: UNIDAD DE MEDIDA | O42: M2 | P42: FECHA DE REALIZACION FICHA
H43: DESCRIPCION DE LA LOCALIZACIÓN / LUGAR / SITIO EJECUCION | N43: DIMENSIONES | R43: CANTIDAD | S43: CANTIDAD TOTAL EJECUTADA
N44: LARGO | O44: ANCHO | P44: ALTO | Q44: ESPESOR
H46: MUROS EN DRYWALL
H47: MURO 1 | O47: 8.3 | P47: 3 | Q47: 0.15 | R47: =O47*P47 -> 24.9 | S47: =R47 -> 24.9
H48: MURO 2 | O48: 40 | P48: 3 | Q48: 0.15 | R48: =O48*P48 -> 120 | S48: =R48 -> 120
H49: MURO 3 | O49: 35 | P49: 3 | Q49: 0.15 | R49: =O49*P49 -> 105 | S49: =R49 -> 105
H50: MURO 4 | O50: 15 | P50: 3 | Q50: 0.15 | R50: =O50*P50 -> 45 | S50: =R50 -> 45
H51: MURO 5 | O51: 25 | P51: 3 | Q51: 0.15 | R51: =O51*P51 -> 75 | S51: =R51 -> 75
H52: MURO 6 | N52: 27*4 | O52: =27*4 -> 108 | P52: 3 | Q52: 0.15 | R52: =O52*P52 -> 324 | S52: =R52 -> 324
H53: MURO 7 | O53: 15 | P53: 3 | Q53: 0.15 | R53: =O53*P53 -> 45 | S53: =R53 -> 45
S54: =R54 -> 0
S55: =R55 -> 0
S56: =R56 -> 0
S57: =R57 -> 0
S58: =R58 -> 0
...
