Workbook

Sheet CONTENIDO
B2: CONTENIDO ANEXOS LICITACIÓN OUTSOURCING 2026-2028 | C2: EVIDENCIAS
B3: ANEXOS
B4: 1. Distribución de presupuesto por centros de costo nivel Nacional y Central | C4: Anexo No. 01
B5: 2. Listado de productos con especificaciones tecnicas para la vigencia 2026-2028 | C5: Anexo No. 02
B6: 3. Analisis detallado de Mercado para la vigencia 2026-2028 | C6: Anexo No. 03
B7: 4. Cotizacion empresa Sumimas de insumos para la vigencia 2026-2028 | C7: Anexo No. 04
B8: 5. Cotizacion Catálogo Virtual CCE de insumos para la vigencia 2026-2028 | C8: Anexo No. 05
B9: 6. Consumo historico | C9: Anexo No. 06
B10: 7. Analisis de Mercado para la vigencia 2026-2028 | C10: Anexo No. 07
B11: 8. Matriz de Riesgos | C11: Anexo No. 08
B12: 9. Perspectiva Comercial | C12: Anexo No. 09
B13: 10. Justificacion presupuesto por rubros | C13: Anexo No. 10
B14: 11. Ubicación Centros de Costo RNEC | C14: Anexo No. 11
B15: 12. PxQ | C15: Anexo No. 12
B16: FORMATOS
B17: Propuesta económica para la vigencia 2026-2028 | C17: Formato No. XX

Sheet SECOP II
A1: No. | B1: Empresa Contratante | C1: No. de Contrato | D1: Objeto Contractual | E1: Valor | F1: Fecha de Inicio | G1: Fecha de terminación
A2: 1 | B2: UAE-DIAN | C2: SASI-00-003-2025 | D2: Suministro y distribución de elementos de papel, derivados de papel y útiles de oficina para las Direcciones Seccionales y dependencias del Nivel Central de la UAE-DIAN a nivel nacional. | E2: 1742961510 | F2: 45776 | G2: 46022
A3: 2 | B3: MINSALUD | C3: MSPS-SMC-002-2025 | D3: SUMINISTRO Y DISTRIBUCIÓN DE ELEMENTOS, ÚTILES DE OFICINA Y PAPELERÍA PARA LAS DIFERENTES DEPENDENCIAS DE LA ENTIDAD. | E3: 97000000 | F3: 45737 | G3: 46006
A4: 3 | B4: FISCALÍA GENERAL DE LA NACIÓN NIVEL CENTRAL. | C4: FGN-NC-IPSE-0007-2024 | D4: ADQUIRIR PAPELERIA Y UTILES DE OFICINA CON DESTINO A LAS DEPENDENCIAS DE LA FISCALÍA GENERAL DE LA NACIÓN A NIVEL NACIONAL." GRUPOS 1 y 2. | E4: 4487235257 | F4: 45393 | G4: 45625

Sheet ANEXO No. 01 (1)
A1: ANEXO No. 01
A2: DISTRIBUCIÓN DE PRESUPUESTO POR CENTROS DE COSTO A NIVEL CENTRAL Y NACIONAL
A3: FONDO ROTATORIO DE LA REGISTRADURÍA NACIONAL DEL ESTADO CIVIL Nit 899-999-737-9
A4: FONDO ROTATORIO DE LA REGISTRADURÍA NACIONAL DEL ESTADO CIVIL Nit 899-999-737-9 | G4: ORD | H4: DEPENDENCIAS - CENTROS DE COSTO | I4: DELEGACIÓN | J4: TIPO | K4: PP BASE | L4: 2025 1 Mes | M4: 2026 (3%) 7 Meses
A5: C. DE COSTO | B5: UBICACIÓN | C5: VIGENCIA 2025 | D5: VIGENCIA 2026 | E5: TOTAL | G5: 1 | H5: DELEGACIÓN AMAZONAS | I5: AMAZONAS | J5: DELEGACIÓN | K5: 1954545.5 | L5: =ROUND(K5,-3) -> 1955000 | M5: =ROUND(((L5+(L5*3%)))*7,-3) -> 14096000
A6: 32 | B6: DELEGACIONES DEPARTAMENTALES | C6: 259823000 | D6: 1873322000 | E6: =+C6+D6 -> 2133145000 | G6: 2 | H6: REGISTRADURIA ESPECIAL LETICIA | I6: AMAZONAS | J6: ESPECIAL | K6: 923636.36 | L6: =ROUND(K6,-3) -> 924000 | M6: =ROUND(((L6+(L6*3%)))*7,-3) -> 6662000
A7: 50 | B7: REGISTRADURÍAS ESPECIALES | C7: 97040000 | D7: 699657000 | E7: =+C7+D7 -> 796697000 | G7: 3 | H7: DELEGACIÓN ANTIOQUIA | I7: ANTIOQUIA | J7: DELEGACIÓN | K7: 17179091 | L7: =ROUND(K7,-3) -> 17179000 | M7: =ROUND(((L7+(L7*3%)))*7,-3) -> 123861000
A8: 161 | B8: REGISTRADURÍAS MUNICIPALES | C8: 140663000 | D8: 1014177000 | E8: =+C8+D8 -> 1154840000 | G8: 4 | H8: OPADI - MEDELLIN | I8: ANTIOQUIA | J8: AUXILIAR | K8: 3394545.5 | L8: =ROUND(K8,-3) -> 3395000 | M8: =ROUND(((L8+(L8*3%)))*7,-3) -> 24478000
A9: 49 | B9: REGISTRADURÍAS AUXILIARES | C9: 57897000 | D9: 417434000 | E9: =+C9+D9 -> 475331000 | G9: 5 | H9: REGISTRADURIA AUXILIAR BELEN - MEDELLIN | I9: ANTIOQUIA | J9: AUXILIAR | K9: 1439090.9 | L9: =ROUND(K9,-3) -> 1439000 | M9: =ROUND(((L9+(L9*3%)))*7,-3) -> 10375000
A10: 29 | B10: REGISTRADURÍAS DISTRITALES | C10: 60288000 | D10: 434676000 | E10: =+C10+D10 -> 494964000 | G10: 6 | H10: REGISTRADURIA AUXILIAR CASTILLA - MEDELLIN | I10: ANTIOQUIA | J10: AUXILIAR | K10: 815454.55 | L10: =ROUND(K10,-3) -> 815000 | M10: =ROUND(((L10+(L10*3%)))*7,-3) -> 5876000
A11: 60 | B11: OFICINAS BOGOTA CAN | C11: 56300818 | D11: 406872842 | E11: =+C11+D11 -> 4.6317366e+08 | G11: 7 | H11: REGISTRADURIA AUXILIAR EL BOSQUE - MEDELLIN | I11: ANTIOQUIA | J11: AUXILIAR | K11: 1020000 | L11: =ROUND(K11,-3) -> 1020000 | M11: =ROUND(((L11+(L11*3%)))*7,-3) -> 7354000
A12: TOTAL | C12: =SUM(C6:C11) -> 6.7201182e+08 | D12: =SUM(D6:D11) -> 4846138842 | E12: =SUM(E6:E11) -> 5.5181507e+09 | G12: 8 | H12: REGISTRADURIA AUXILIAR EL POBLADO - MEDELLIN | I12: ANTIOQUIA | J12: AUXILIAR | K12: 1224545.5 | L12: =ROUND(K12,-3) -> 1225000 | M12: =ROUND(((L12+(L12*3%)))*7,-3) -> 8832000
G13: 9 | H13: REGISTRADURIA AUXILIAR LA AMERICA - MEDELLIN | I13: ANTIOQUIA | J13: AUXILIAR | K13: 1128181.8 | L13: =ROUND(K13,-3) -> 1128000 | M13: =ROUND(((L13+(L13*3%)))*7,-3) -> 8133000
G14: 10 | H14: REGISTRADURIA AUXILIAR SAN ANTONIO DE PRADO - MEDELLIN | I14: ANTIOQUIA | J14: AUXILIAR | K14: 1224545.5 | L14: =ROUND(K14,-3) -> 1225000 | M14: =ROUND(((L14+(L14*3%)))*7,-3) -> 8832000
G15: 11 | H15: REGISTRADURIA AUXILIAR SAN CRISTÓBAL - MEDELLIN | I15: ANTIOQUIA | J15: AUXILIAR | K15: 504545.45 | L15: =ROUND(K15,-3) -> 505000 | M15: =ROUND(((L15+(L15*3%)))*7,-3) -> 3641000
G16: 12 | H16: REGISTRADURIA ESPECIAL BELLO | I16: ANTIOQUIA | J16: ESPECIAL | K16: 1642727.3 | L16: =ROUND(K16,-3) -> 1643000 | M16: =ROUND(((L16+(L16*3%)))*7,-3) -> 11846000
G17: 13 | H17: REGISTRADURIA ESPECIAL ENVIGADO | I17: ANTIOQUIA | J17: ESPECIAL | K17: 1642727.3 | L17: =ROUND(K17,-3) -> 1643000 | M17: =ROUND(((L17+(L17*3%)))*7,-3) -> 11846000
G18: 14 | H18: REGISTRADURIA ESPECIAL ITAGUI | I18: ANTIOQUIA | J18: ESPECIAL | K18: 1331818.2 | L18: =ROUND(K18,-3) -> 1332000 | M18: =ROUND(((L18+(L18*3%)))*7,-3) -> 9604000
B19: Etiquetas de fila | C19: 2025 - 1 Mes | D19: 2026 (3%) - 7 Meses | G19: 15 | H19: REGISTRADURIA ESPECIAL MEDELLÍN | I19: ANTIOQUIA | J19: ESPECIAL | K19: 1848181.8 | L19: =ROUND(K19,-3) -> 1848000 | M19: =ROUND(((L19+(L19*3%)))*7,-3) -> 13324000
B20: DELEGACIÓN | C20: 259823000 | D20: 1873322000 | G20: 16 | H20: REGISTRADURIA MUNICIPAL ANDES | I20: ANTIOQUIA | J20: MUNICIPAL | K20: 504545.45 | L20: =ROUND(K20,-3) -> 505000 | M20: =ROUND(((L20+(L20*3%)))*7,-3) -> 3641000
B21: ESPECIAL | C21: 97040000 | D21: 699657000 | G21: 17 | H21: REGISTRADURIA MUNICIPAL APARTADO | I21: ANTIOQUIA | J21: MUNICIPAL | K21: 504545.45 | L21: =ROUND(K21,-3) -> 505000 | M21: =ROUND(((L21+(L21*3%)))*7,-3) -> 3641000
B22: MUNICIPAL | C22: 140663000 | D22: 1014177000 | G22: 18 | H22: REGISTRADURIA MUNICIPAL BARBOSA | I22: ANTIOQUIA | J22: MUNICIPAL | K22: 1439090.9 | L22: =ROUND(K22,-3) -> 1439000 | M22: =ROUND(((L22+(L22*3%)))*7,-3) -> 10375000
B23: AUXILIAR | C23: 57897000 | D23: 417434000 | G23: 19 | H23: REGISTRADURIA MUNICIPAL BOLIVAR | I23: ANTIOQUIA | J23: MUNICIPAL | K23: 719090.91 | L23: =ROUND(K23,-3) -> 719000 | M23: =ROUND(((L23+(L23*3%)))*7,-3) -> 5184000
B24: DISTRITO | C24: 60288000 | D24: 434676000 | G24: 20 | H24: REGISTRADURIA MUNICIPAL CALDAS | I24: ANTIOQUIA | J24: MUNICIPAL | K24: 611818.18 | L24: =ROUND(K24,-3) -> 612000 | M24: =ROUND(((L24+(L24*3%)))*7,-3) -> 4413000
B25: CENTRALES | C25: 56300818 | D25: 406872842 | G25: 21 | H25: REGISTRADURIA MUNICIPAL CAREPA | I25: ANTIOQUIA | J25: MUNICIPAL | K25: 815454.55 | L25: =ROUND(K25,-3) -> 815000 | M25: =ROUND(((L25+(L25*3%)))*7,-3) -> 5876000
B26: Total general | C26: 6.7201182e+08 | D26: 4846138842 | G26: 22 | H26: REGISTRADURIA MUNICIPAL CARMEN DE VIBORAL | I26: ANTIOQUIA | J26: MUNICIPAL | K26: 504545.45 | L26: =ROUND(K26,-3) -> 505000 | M26: =ROUND(((L26+(L26*3%)))*7,-3) -> 3641000
G27: 23 | H27: REGISTRADURIA MUNICIPAL CAUCASIA | I27: ANTIOQUIA | J27: MUNICIPAL | K27: 815454.55 | L27: =ROUND(K27,-3) -> 815000 | M27: =ROUND(((L27+(L27*3%)))*7,-3) -> 5876000
G28: 24 | H28: REGISTRADURIA MUNICIPAL CHIGORODO | I28: ANTIOQUIA | J28: MUNICIPAL | K28: 1020000 | L28: =ROUND(K28,-3) -> 1020000 | M28: =ROUND(((L28+(L28*3%)))*7,-3) -> 7354000
G29: 25 | H29: REGISTRADURIA MUNICIPAL COPACABANA | I29: ANTIOQUIA | J29: MUNICIPAL | K29: 719090.91 | L29: =ROUND(K29,-3) -> 719000 | M29: =ROUND(((L29+(L29*3%)))*7,-3) -> 5184000
G30: 26 | H30: REGISTRADURIA MUNICIPAL EL BAGRE | I30: ANTIOQUIA | J30: MUNICIPAL | K30: 504545.45 | L30: =ROUND(K30,-3) -> 505000 | M30: =ROUND(((L30+(L30*3%)))*7,-3) -> 3641000
G31: 27 | H31: REGISTRADURIA MUNICIPAL GIRARDOTA | I31: ANTIOQUIA | J31: MUNICIPAL | K31: 815454.55 | L31: =ROUND(K31,-3) -> 815000 | M31: =ROUND(((L31+(L31*3%)))*7,-3) -> 5876000
G32: 28 | H32: REGISTRADURIA MUNICIPAL LA CEJA | I32: ANTIOQUIA | J32: MUNICIPAL | K32: 611818.18 | L32: =ROUND(K32,-3) -> 612000 | M32: =ROUND(((L32+(L32*3%)))*7,-3) -> 4413000
G33: 29 | H33: REGISTRADURIA MUNICIPAL LA ESTRELLA | I33: ANTIOQUIA | J33: MUNICIPAL | K33: 719090.91 | L33: =ROUND(K33,-3) -> 719000 | M33: =ROUND(((L33+(L33*3%)))*7,-3) -> 5184000
G34: 30 | H34: REGISTRADURIA MUNICIPAL MARINILLA | I34: ANTIOQUIA | J34: MUNICIPAL | K34: 504545.45 | L34: =ROUND(K34,-3) -> 505000 | M34: =ROUND(((L34+(L34*3%)))*7,-3) -> 3641000
G35: 31 | H35: REGISTRADURIA MUNICIPAL PUERTO BERRIO | I35: ANTIOQUIA | J35: MUNICIPAL | K35: 504545.45 | L35: =ROUND(K35,-3) -> 505000 | M35: =ROUND(((L35+(L35*3%)))*7,-3) -> 3641000
G36: 32 | H36: REGISTRADURIA MUNICIPAL RIONEGRO | I36: ANTIOQUIA | J36: MUNICIPAL | K36: 944545.45 | L36: =ROUND(K36,-3) -> 945000 | M36: =ROUND(((L36+(L36*3%)))*7,-3) -> 6813000
G37: 33 | H37: REGISTRADURIA MUNICIPAL SABANETA | I37: ANTIOQUIA | J37: MUNICIPAL | K37: 923636.36 | L37: =ROUND(K37,-3) -> 924000 | M37: =ROUND(((L37+(L37*3%)))*7,-3) -> 6662000
G38: 34 | H38: REGISTRADURIA MUNICIPAL SANTA BARBARA | I38: ANTIOQUIA | J38: MUNICIPAL | K38: 719090.91 | L38: =ROUND(K38,-3) -> 719000 | M38: =ROUND(((L38+(L38*3%)))*7,-3) -> 5184000
... G85: 81 | H85: GRUPO COORD FIRMA CENSO ELECTORAL | I85: BOGOTA - CAN | J85: CENTRALES | K85: 1642727.3 | L85: =ROUND(K85,-3) -> 1643000 | M85: =ROUND(((L85+(L85*3%)))*7,-3) -> 11846000
G86: 82 | H86: GRUPO DE ALMACEN E INVENTARIOS | I86: BOGOTA - CAN | J86: CENTRALES | K86: =13525818.1800001-870000 -> 12655818 | L86: =13525818.1800001-870000 -> 12655818 | M86: 92194842
...

Sheet -
A1: DEPENDENCIAS - CENTROS DE COSTO | B1: DELEGACIÓN | C1: TIPO | D1: PROM. CONSUMO REAL (ULTIMOS 17 MESES) | E1: 2024 | F1: 2025 | G1: 2026
A2: DELEGACIÓN AMAZONAS | B2: AMAZONAS | C2: DELEGACIÓN | D2: =+'ANEXO No. 01 (1)'!K5 -> 1954545.5 | E2: =+'ANEXO No. 01 (1)'!M5 -> 14096000 | F2: =+'ANEXO No. 01 (1)'!N5 -> 0 | G2: =+'ANEXO No. 01 (1)'!#REF! -> #REF!
A3: REGISTRADURIA ESPECIAL LETICIA | B3: AMAZONAS | C3: ESPECIAL | D3: =+'ANEXO No. 01 (1)'!K6 -> 923636.36 | E3: =+'ANEXO No. 01 (1)'!M6 -> 6662000 | F3: =+'ANEXO No. 01 (1)'!N6 -> 0 | G3: =+'ANEXO No. 01 (1)'!#REF! -> #REF!
A4: DELEGACIÓN ANTIOQUIA | B4: ANTIOQUIA | C4: DELEGACIÓN | D4: =+'ANEXO No. 01 (1)'!K7 -> 17179091 | E4: =+'ANEXO No. 01 (1)'!M7 -> 123861000 | F4: =+'ANEXO No. 01 (1)'!N7 -> 0 | G4: =+'ANEXO No. 01 (1)'!#REF! -> #REF! | I4: Etiquetas de fila | J4: 2024 | K4: 2025 | L4: 2026
A5: OPADI - MEDELLIN | B5: ANTIOQUIA | C5: AUXILIAR | D5: =+'ANEXO No. 01 (1)'!K8 -> 3394545.5 | E5: =+'ANEXO No. 01 (1)'!M8 -> 24478000 | F5: =+'ANEXO No. 01 (1)'!N8 -> 0 | G5: =+'ANEXO No. 01 (1)'!#REF! -> #REF! | I5: DELEGACIÓN | J5: 978600000 | K5: 3455870000 | L5: 1631440000
A6: REGISTRADURIA AUXILIAR BELEN - MEDELLIN | B6: ANTIOQUIA | C6: AUXILIAR | D6: =+'ANEXO No. 01 (1)'!K9 -> 1439090.9 | E6: =+'ANEXO No. 01 (1)'!M9 -> 10375000 | F6: =+'ANEXO No. 01 (1)'!N9 -> 0 | G6: =+'ANEXO No. 01 (1)'!#REF! -> #REF! | I6: ESPECIAL | J6: 333900000 | K6: 1179130000 | L6: 556690000
A7: REGISTRADURIA AUXILIAR CASTILLA - MEDELLIN | B7: ANTIOQUIA | C7: AUXILIAR | D7: =+'ANEXO No. 01 (1)'!K10 -> 815454.55 | E7: =+'ANEXO No. 01 (1)'!M10 -> 5876000 | F7: =+'ANEXO No. 01 (1)'!N10 -> 0 | G7: =+'ANEXO No. 01 (1)'!#REF! -> #REF! | I7: MUNICIPAL | J7: 502600000 | K7: 1775010000 | L7: 837870000
A8: REGISTRADURIA AUXILIAR EL BOSQUE - MEDELLIN | B8: ANTIOQUIA | C8: AUXILIAR | D8: =+'ANEXO No. 01 (1)'!K11 -> 1020000 | E8: =+'ANEXO No. 01 (1)'!M11 -> 7354000 | F8: =+'ANEXO No. 01 (1)'!N11 -> 0 | G8: =+'ANEXO No. 01 (1)'!#REF! -> #REF! | I8: AUXILIAR | J8: 195650000 | K8: 690910000 | L8: 326180000
A9: REGISTRADURIA AUXILIAR EL POBLADO - MEDELLIN | B9: ANTIOQUIA | C9: AUXILIAR | D9: =+'ANEXO No. 01 (1)'!K12 -> 1224545.5 | E9: =+'ANEXO No. 01 (1)'!M12 -> 8832000 | F9: =+'ANEXO No. 01 (1)'!N12 -> 0 | G9: =+'ANEXO No. 01 (1)'!#REF! -> #REF! | I9: DISTRITO | J9: 203000000 | K9: 716870000 | L9: 338420000
A10: REGISTRADURIA AUXILIAR LA AMERICA - MEDELLIN | B10: ANTIOQUIA | C10: AUXILIAR | D10: =+'ANEXO No. 01 (1)'!K13 -> 1128181.8 | E10: =+'ANEXO No. 01 (1)'!M13 -> 8133000 | F10: =+'ANEXO No. 01 (1)'!N13 -> 0 | G10: =+'ANEXO No. 01 (1)'!#REF! -> #REF! | I10: CENTRALES | J10: 286650000 | K10: 1012300000 | L10: 477950000
A11: REGISTRADURIA AUXILIAR SAN ANTONIO DE PRADO - MEDELLIN | B11: ANTIOQUIA | C11: AUXILIAR | D11: =+'ANEXO No. 01 (1)'!K14 -> 1224545.5 | E11: =+'ANEXO No. 01 (1)'!M14 -> 8832000 | F11: =+'ANEXO No. 01 (1)'!N14 -> 0 | G11: =+'ANEXO No. 01 (1)'!#REF! -> #REF! | I11: Total general | J11: 2500400000 | K11: 8830090000 | L11: 4168550000
A12: REGISTRADURIA AUXILIAR SAN CRISTÓBAL - MEDELLIN | B12: ANTIOQUIA | C12: AUXILIAR | D12: =+'ANEXO No. 01 (1)'!K15 -> 504545.45 | E12: =+'ANEXO No. 01 (1)'!M15 -> 3641000 | F12: =+'ANEXO No. 01 (1)'!N15 -> 0 | G12: =+'ANEXO No. 01 (1)'!#REF! -> #REF!
A13: REGISTRADURIA ESPECIAL BELLO | B13: ANTIOQUIA | C13: ESPECIAL | D13: =+'ANEXO No. 01 (1)'!K16 -> 1642727.3 | E13: =+'ANEXO No. 01 (1)'!M16 -> 11846000 | F13: =+'ANEXO No. 01 (1)'!N16 -> 0 | G13: =+'ANEXO No. 01 (1)'!#REF! -> #REF!
A14: REGISTRADURIA ESPECIAL ENVIGADO | B14: ANTIOQUIA | C14: ESPECIAL | D14: =+'ANEXO No. 01 (1)'!K17 -> 1642727.3 | E14: =+'ANEXO No. 01 (1)'!M17 -> 11846000 | F14: =+'ANEXO No. 01 (1)'!N17 -> 0 | G14: =+'ANEXO No. 01 (1)'!#REF! -> #REF!
A15: REGISTRADURIA ESPECIAL ITAGUI | B15: ANTIOQUIA | C15: ESPECIAL | D15: =+'ANEXO No. 01 (1)'!K18 -> 1331818.2 | E15: =+'ANEXO No. 01 (1)'!M18 -> 9604000 | F15: =+'ANEXO No. 01 (1)'!N18 -> 0 | G15: =+'ANEXO No. 01 (1)'!#REF! -> #REF!
A16: REGISTRADURIA ESPECIAL MEDELLÍN | B16: ANTIOQUIA | C16: ESPECIAL | D16: =+'ANEXO No. 01 (1)'!K19 -> 1848181.8 | E16: =+'ANEXO No. 01 (1)'!M19 -> 13324000 | F16: =+'ANEXO No. 01 (1)'!N19 -> 0 | G16: =+'ANEXO No. 01 (1)'!#REF! -> #REF!
A17: REGISTRADURIA MUNICIPAL ANDES | B17: ANTIOQUIA | C17: MUNICIPAL | D17: =+'ANEXO No. 01 (1)'!K20 -> 504545.45 | E17: =+'ANEXO No. 01 (1)'!M20 -> 3641000 | F17: =+'ANEXO No. 01 (1)'!N20 -> 0 | G17: =+'ANEXO No. 01 (1)'!#REF! -> #REF!
A18: REGISTRADURIA MUNICIPAL APARTADO | B18: ANTIOQUIA | C18: MUNICIPAL | D18: =+'ANEXO No. 01 (1)'!K21 -> 504545.45 | E18: =+'ANEXO No. 01 (1)'!M21 -> 3641000 | F18: =+'ANEXO No. 01 (1)'!N21 -> 0 | G18: =+'ANEXO No. 01 (1)'!#REF! -> #REF!
A19: REGISTRADURIA MUNICIPAL BARBOSA | B19: ANTIOQUIA | C19: MUNICIPAL | D19: =+'ANEXO No. 01 (1)'!K22 -> 1439090.9 | E19: =+'ANEXO No. 01 (1)'!M22 -> 10375000 | F19: =+'ANEXO No. 01 (1)'!N22 -> 0 | G19: =+'ANEXO No. 01 (1)'!#REF! -> #REF!
A20: REGISTRADURIA MUNICIPAL BOLIVAR | B20: ANTIOQUIA | C20: MUNICIPAL | D20: =+'ANEXO No. 01 (1)'!K23 -> 719090.91 | E20: =+'ANEXO No. 01 (1)'!M23 -> 5184000 | F20: =+'ANEXO No. 01 (1)'!N23 -> 0 | G20: =+'ANEXO No. 01 (1)'!#REF! -> #REF!
A21: REGISTRADURIA MUNICIPAL CALDAS | B21: ANTIOQUIA | C21: MUNICIPAL | D21: =+'ANEXO No. 01 (1)'!K24 -> 611818.18 | E21: =+'ANEXO No. 01 (1)'!M24 -> 4413000 | F21: =+'ANEXO No. 01 (1)'!N24 -> 0 | G21: =+'ANEXO No. 01 (1)'!#REF! -> #REF!
A22: REGISTRADURIA MUNICIPAL CAREPA | B22: ANTIOQUIA | C22: MUNICIPAL | D22: =+'ANEXO No. 01 (1)'!K25 -> 815454.55 | E22: =+'ANEXO No. 01 (1)'!M25 -> 5876000 | F22: =+'ANEXO No. 01 (1)'!N25 -> 0 | G22: =+'ANEXO No. 01 (1)'!#REF! -> #REF!
A23: REGISTRADURIA MUNICIPAL CARMEN DE VIBORAL | B23: ANTIOQUIA | C23: MUNICIPAL | D23: =+'ANEXO No. 01 (1)'!K26 -> 504545.45 | E23: =+'ANEXO No. 01 (1)'!M26 -> 3641000 | F23: =+'ANEXO No. 01 (1)'!N26 -> 0 | G23: =+'ANEXO No. 01 (1)'!#REF! -> #REF!
... A73: GERENCIA DE TALENTO HUMANO | B73: BOGOTA - CAN | C73: CENTRALES | D73: =+'ANEXO No. 01 (1)'!K76 -> 504545.45 | E73: =+'ANEXO No. 01 (1)'!M76 -> 3641000 | F73: =+'ANEXO No. 01 (1)'!N76 -> 0 | G73: =+'ANEXO No. 01 (1)'!#REF! -> #REF!
A74: GRUPO ALMACEN E INVENTARIOS VIAJERA | B74: BOGOTA - CAN | C74: CENTRALES | D74: =+'ANEXO No. 01 (1)'!#REF! -> #REF! | E74: =+'ANEXO No. 01 (1)'!#REF! -> #REF! | F74: =+'ANEXO No. 01 (1)'!#REF! -> #REF! | G74: =+'ANEXO No. 01 (1)'!#REF! -> #REF!
A75: GRUPO ARCHIVO DE IDENTIFICACIÓN | B75: BOGOTA - CAN | C75: CENTRALES | D75: =+'ANEXO No. 01 (1)'!K77 -> 504545.45 | E75: =+'ANEXO No. 01 (1)'!M77 -> 3641000 | F75: =+'ANEXO No. 01 (1)'!N77 -> 0 | G75: =+'ANEXO No. 01 (1)'!#REF! -> #REF!
A76: GRUPO CARRERA ADMINISTRATIVA | B76: BOGOTA - CAN | C76: CENTRALES | D76: =+'ANEXO No. 01 (1)'!K78 -> 0 | E76: =+'ANEXO No. 01 (1)'!M78 -> 0 | F76: =+'ANEXO No. 01 (1)'!N78 -> 0 | G76: =+'ANEXO No. 01 (1)'!#REF! -> #REF!
A77: GRUPO CEDAE | B77: BOGOTA - CAN | C77: CENTRALES | D77: =+'ANEXO No. 01 (1)'!K79 -> 0 | E77: =+'ANEXO No. 01 (1)'!M79 -> 0 | F77: =+'ANEXO No. 01 (1)'!N79 -> 0 | G77: =+'ANEXO No. 01 (1)'!#REF! -> #REF!
A78: GRUPO CEDULACIÓN EN EL EXTERIOR | B78: BOGOTA - CAN | C78: CENTRALES | D78: =+'ANEXO No. 01 (1)'!K80 -> 504545.45 | E78: =+'ANEXO No. 01 (1)'!M80 -> 3641000 | F78: =+'ANEXO No. 01 (1)'!N80 -> 0 | G78: =+'ANEXO No. 01 (1)'!#REF! -> #REF!
A79: GRUPO CONTRATOS | B79: BOGOTA - CAN | C79: CENTRALES | D79: =+'ANEXO No. 01 (1)'!K81 -> 0 | E79: =+'ANEXO No. 01 (1)'!M81 -> 0 | F79: =+'ANEXO No. 01 (1)'!N81 -> 0 | G79: =+'ANEXO No. 01 (1)'!#REF! -> #REF!
A80: GRUPO CONTROL DE RECAUDOS | B80: BOGOTA - CAN | C80: CENTRALES | D80: =+'ANEXO No. 01 (1)'!K82 -> 0 | E80: =+'ANEXO No. 01 (1)'!M82 -> 0 | F80: =+'ANEXO No. 01 (1)'!N82 -> 0 | G80: =+'ANEXO No. 01 (1)'!#REF! -> #REF!
A81: GRUPO CONTROL RECAUDOS - PAIS | B81: BOGOTA - CAN | C81: CENTRALES | D81: =+'ANEXO No. 01 (1)'!K83 -> 0 | E81: =+'ANEXO No. 01 (1)'!M83 -> 0 | F81: =+'ANEXO No. 01 (1)'!N83 -> 0 | G81: =+'ANEXO No. 01 (1)'!#REF! -> #REF!
A82: GRUPO CONTROL RECAUDOS- BOGOTA | B82: BOGOTA - CAN | C82: CENTRALES | D82: =+'ANEXO No. 01 (1)'!K84 -> 504545.45 | E82: =+'ANEXO No. 01 (1)'!M84 -> 3641000 | F82: =+'ANEXO No. 01 (1)'!N84 -> 0 | G82: =+'ANEXO No. 01 (1)'!#REF! -> #REF!
A83: GRUPO COORD FIRMA CENSO ELECTORAL | B83: BOGOTA - CAN | C83: CENTRALES | D83: =+'ANEXO No. 01 (1)'!K85 -> 1642727.3 | E83: =+'ANEXO No. 01 (1)'!M85 -> 11846000 | F83: =+'ANEXO No. 01 (1)'!N85 -> 0 | G83: =+'ANEXO No. 01 (1)'!#REF! -> #REF!
A84: GRUPO DE ALMACEN E INVENTARIOS | B84: BOGOTA - CAN | C84: CENTRALES | D84: =+'ANEXO No. 01 (1)'!K86 -> 12655818 | E84: =+'ANEXO No. 01 (1)'!M86 -> 92194842 | F84: =+'ANEXO No. 01 (1)'!N86 -> 0 | G84: =+'ANEXO No. 01 (1)'!#REF! -> #REF!
A85: GRUPO DE ARCHIVO Y CORRESPONDENCIA | B85: BOGOTA - CAN | C85: CENTRALES | D85: =+'ANEXO No. 01 (1)'!K87 -> 504545.45 | E85: =+'ANEXO No. 01 (1)'!M87 -> 3641000 | F85: =+'ANEXO No. 01 (1)'!N87 -> 0 | G85: =+'ANEXO No. 01 (1)'!#REF! -> #REF!
A86: GRUPO DE COBROS COACTIVOS | B86: BOGOTA - CAN | C86: CENTRALES | D86: =+'ANEXO No. 01 (1)'!K88 -> 1740000 | E86: =+'ANEXO No. 01 (1)'!M88 -> 12545000 | F86: =+'ANEXO No. 01 (1)'!N88 -> 0 | G86: =+'ANEXO No. 01 (1)'!#REF! -> #REF!
... A375: REGISTRADURIA AUXILIAR 2 MONTERIA | B375: CORDOBA | C375: AUXILIAR | D375: =+'ANEXO No. 01 (1)'!K377 -> 1191818.2 | E375: =+'ANEXO No. 01 (1)'!M377 -> 8594000 | F375: =+'ANEXO No. 01 (1)'!N377 -> 0 | G375: =+'ANEXO No. 01 (1)'!#REF! -> #REF!
D376: =SUM(D1:D375) -> #REF! | E376: =SUM(E1:E375) -> #REF! | F376: =SUM(F1:F375) -> #REF! | G376: =SUM(G1:G375) -> #REF!

Sheet ANEXO No. 01
A1: ANEXO No. 01
A2: DISTRIBUCION DE PRESUPUESTO POR CENTROS DE COSTO A NIVEL CENTRAL Y NACIONAL
A3: FONDO ROTATORIO DE LA REGISTRADURIA NACIONAL DEL ESTADO CIVIL Nit 899-999-737-9
A4: FONDO ROTATORIO DE LA REGISTRADURIA NACIONAL DEL ESTADO CIVIL Nit 899-999-737-9 | H4: ORD | I4: DEPENDENCIAS - CENTROS DE COSTO | J4: DELEGACIÓN | K4: TIPO | L4: 2026 1 Mes | M4: 2027 (4,4%) 12 Meses | N4: 2028 (3%) 6 Meses
A5: C. DE COSTO | B5: UBICACIÓN | C5: VIGENCIA 2026 | D5: VIGENCIA 2027 | E5: VIGENCIA 2028 | F5: TOTAL | H5: 1 | I5: DELEGACIÓN AMAZONAS | J5: AMAZONAS | K5: DELEGACIÓN | L5: 2013710 | M5: =ROUND((L5)+((L5)*4.4%),-2)*12 -> 25227600 | N5: =ROUND(((M5/12)*6)+(((M5/12)*6)*3%),-2) -> 12992200
A6: 32 | B6: DELEGACIONES DEPARTAMENTALES | C6: 267617450 | D6: 3352708800 | E6: 1726644800 | F6: =SUM(C6:E6) -> 5346971050 | H6: 2 | I6: REGISTRADURIA ESPECIAL LETICIA | J6: AMAZONAS | K6: ESPECIAL | L6: 951710 | M6: =ROUND((L6)+((L6)*4.4%),-2)*12 -> 11923200 | N6: =ROUND(((M6/12)*6)+(((M6/12)*6)*3%),-2) -> 6140400
A7: =50-2 -> 48 | B7: REGISTRADURIAS ESPECIALES | C7: 95834990 | D7: 1200624000 | E7: 618320700 | F7: =SUM(C7:E7) -> 1914779690 | H7: 3 | I7: DELEGACIÓN ANTIOQUIA | J7: ANTIOQUIA | K7: DELEGACIÓN | L7: 17694430 | M7: =ROUND((L7)+((L7)*4.4%),-2)*12 -> 221676000 | N7: =ROUND(((M7/12)*6)+(((M7/12)*6)*3%),-2) -> 114163100
A8: =159+2+2 -> 163 | B8: REGISTRADURIAS MUNICIPALES | C8: 149008170 | D8: 1866783600 | E8: 961392800 | F8: =SUM(C8:E8) -> 2977184570 | H8: 4 | I8: OPADI - MEDELLIN | J8: ANTIOQUIA | K8: AUXILIAR | L8: 3496860 | M8: =ROUND((L8)+((L8)*4.4%),-2)*12 -> 43808400 | N8: =ROUND(((M8/12)*6)+(((M8/12)*6)*3%),-2) -> 22561300
A9: =48+5 -> 53 | B9: REGISTRADURIAS AUXILIARES | C9: 59633400 | D9: 747094800 | E9: 384753100 | F9: =SUM(C9:E9) -> 1191481300 | H9: 5 | I9: REGISTRADURIA AUXILIAR BELEN - MEDELLIN | J9: ANTIOQUIA | K9: AUXILIAR | L9: 1482140 | M9: =ROUND((L9)+((L9)*4.4%),-2)*12 -> 18568800 | N9: =ROUND(((M9/12)*6)+(((M9/12)*6)*3%),-2) -> 9562900
A10: 27 | B10: REGISTRADURIAS DISTRITALES | C10: 62424290 | D10: 782055600 | E10: 402758300 | F10: =SUM(C10:E10) -> 1247238190 | H10: 6 | I10: REGISTRADURIA AUXILIAR CASTILLA - MEDELLIN | J10: ANTIOQUIA | K10: AUXILIAR | L10: 839430 | M10: =ROUND((L10)+((L10)*4.4%),-2)*12 -> 10516800 | N10: =ROUND(((M10/12)*6)+(((M10/12)*6)*3%),-2) -> 5416200
A11: 60 | B11: OFICINAS BOGOTA CAN | C11: 57787200 | D11: 723951600 | E11: 372837900 | F11: =SUM(C11:E11) -> 1154576700 | H11: 7 | I11: REGISTRADURIA AUXILIAR EL BOSQUE - MEDELLIN | J11: ANTIOQUIA | K11: AUXILIAR | L11: 1050570 | M11: =ROUND((L11)+((L11)*4.4%),-2)*12 -> 13161600 | N11: =ROUND(((M11/12)*6)+(((M11/12)*6)*3%),-2) -> 6778200
A12: TOTAL | C12: =SUM(C6:C11) -> 692305500 | D12: =SUM(D6:D11) -> 8673218400 | E12: =SUM(E6:E11) -> 4466707600 | F12: =SUM(C12:E12) -> 13832231500 | H12: 8 | I12: REGISTRADURIA AUXILIAR EL POBLADO - MEDELLIN | J12: ANTIOQUIA | K12: AUXILIAR | L12: 1261710 | M12: =ROUND((L12)+((L12)*4.4%),-2)*12 -> 15806400 | N12: =ROUND(((M12/12)*6)+(((M12/12)*6)*3%),-2) -> 8140300
H13: 9 | I13: REGISTRADURIA AUXILIAR LA AMERICA - MEDELLIN | J13: ANTIOQUIA | K13: AUXILIAR | L13: 1161860 | M13: =ROUND((L13)+((L13)*4.4%),-2)*12 -> 14556000 | N13: =ROUND(((M13/12)*6)+(((M13/12)*6)*3%),-2) -> 7496300
B14: PP MES | C14: =+C12/1.5 -> 461537000 | D14: =+D12/12 -> 722768200 | E14: =+E12/6 -> 7.4445127e+08 | H14: 10 | I14: REGISTRADURIA AUXILIAR SAN ANTONIO DE PRADO - MEDELLIN | J14: ANTIOQUIA | K14: AUXILIAR | L14: 1261710 | M14: =ROUND((L14)+((L14)*4.4%),-2)*12 -> 15806400 | N14: =ROUND(((M14/12)*6)+(((M14/12)*6)*3%),-2) -> 8140300
B15: INCREMENTO | D15: =(D14-C14)/C14 -> 0.56600273 | E15: =(E14-D14)/D14 -> 0.030000029 | H15: 11 | I15: REGISTRADURIA AUXILIAR SAN CRISTÓBAL - MEDELLIN | J15: ANTIOQUIA | K15: AUXILIAR | L15: 520140 | M15: =ROUND((L15)+((L15)*4.4%),-2)*12 -> 6516000 | N15: =ROUND(((M15/12)*6)+(((M15/12)*6)*3%),-2) -> 3355700
H16: 12 | I16: REGISTRADURIA ESPECIAL BELLO | J16: ANTIOQUIA | K16: ESPECIAL | L16: 1692290 | M16: =ROUND((L16)+((L16)*4.4%),-2)*12 -> 21201600 | N16: =ROUND(((M16/12)*6)+(((M16/12)*6)*3%),-2) -> 10918800
H17: 13 | I17: REGISTRADURIA ESPECIAL ENVIGADO | J17: ANTIOQUIA | K17: ESPECIAL | L17: 1692290 | M17: =ROUND((L17)+((L17)*4.4%),-2)*12 -> 21201600 | N17: =ROUND(((M17/12)*6)+(((M17/12)*6)*3%),-2) -> 10918800
A18: Etiquetas de fila | B18: 2026 1 Mes | C18: 2027 (4,4%) 12 Meses | D18: 2028 (3%) 6 Meses | H18: 14 | I18: REGISTRADURIA ESPECIAL ITAGUI | J18: ANTIOQUIA | K18: ESPECIAL | L18: 1372000 | M18: =ROUND((L18)+((L18)*4.4%),-2)*12 -> 17188800 | N18: =ROUND(((M18/12)*6)+(((M18/12)*6)*3%),-2) -> 8852200
A19: DELEGACIÓN | B19: 267617450 | C19: 3352708800 | D19: 1726644800 | H19: 15 | I19: REGISTRADURIA ESPECIAL MEDELLÍN | J19: ANTIOQUIA | K19: ESPECIAL | L19: 1903430 | M19: =ROUND((L19)+((L19)*4.4%),-2)*12 -> 23846400 | N19: =ROUND(((M19/12)*6)+(((M19/12)*6)*3%),-2) -> 12280900
A20: ESPECIAL | B20: 95834990 | C20: 1200624000 | D20: 618320700 | H20: 16 | I20: REGISTRADURIA MUNICIPAL ANDES | J20: ANTIOQUIA | K20: MUNICIPAL | L20: 520140 | M20: =ROUND((L20)+((L20)*4.4%),-2)*12 -> 6516000 | N20: =ROUND(((M20/12)*6)+(((M20/12)*6)*3%),-2) -> 3355700
A21: MUNICIPAL | B21: 149008170 | C21: 1866783600 | D21: 961392800 | H21: 17 | I21: REGISTRADURIA MUNICIPAL APARTADO | J21: ANTIOQUIA | K21: MUNICIPAL | L21: 520140 | M21: =ROUND((L21)+((L21)*4.4%),-2)*12 -> 6516000 | N21: =ROUND(((M21/12)*6)+(((M21/12)*6)*3%),-2) -> 3355700
A22: AUXILIAR | B22: 59633400 | C22: 747094800 | D22: 384753100 | H22: 18 | I22: REGISTRADURIA MUNICIPAL BARBOSA | J22: ANTIOQUIA | K22: MUNICIPAL | L22: 1482140 | M22: =ROUND((L22)+((L22)*4.4%),-2)*12 -> 18568800 | N22: =ROUND(((M22/12)*6)+(((M22/12)*6)*3%),-2) -> 9562900
A23: DISTRITO | B23: 62424290 | C23: 782055600 | D23: 402758300 | H23: 19 | I23: REGISTRADURIA MUNICIPAL BOLIVAR | J23: ANTIOQUIA | K23: MUNICIPAL | L23: 740570 | M23: =ROUND((L23)+((L23)*4.4%),-2)*12 -> 9278400 | N23: =ROUND(((M23/12)*6)+(((M23/12)*6)*3%),-2) -> 4778400
A24: CENTRALES | B24: 57787200 | C24: 723951600 | D24: 372837900 | H24: 20 | I24: REGISTRADURIA MUNICIPAL CALDAS | J24: ANTIOQUIA | K24: MUNICIPAL | L24: 630430 | M24: =ROUND((L24)+((L24)*4.4%),-2)*12 -> 7898400 | N24: =ROUND(((M24/12)*6)+(((M24/12)*6)*3%),-2) -> 4067700
A25: Total general | B25: 692305500 | C25: 8673218400 | D25: 4466707600 | H25: 21 | I25: REGISTRADURIA MUNICIPAL CAREPA | J25: ANTIOQUIA | K25: MUNICIPAL | L25: 839430 | M25: =ROUND((L25)+((L25)*4.4%),-2)*12 -> 10516800 | N25: =ROUND(((M25/12)*6)+(((M25/12)*6)*3%),-2) -> 5416200
H26: 22 | I26: REGISTRADURIA MUNICIPAL CARMEN DE VIBORAL | J26: ANTIOQUIA | K26: MUNICIPAL | L26: 520140 | M26: =ROUND((L26)+((L26)*4.4%),-2)*12 -> 6516000 | N26: =ROUND(((M26/12)*6)+(((M26/12)*6)*3%),-2) -> 3355700
H27: 23 | I27: REGISTRADURIA MUNICIPAL CAUCASIA | J27: ANTIOQUIA | K27: MUNICIPAL | L27: 839430 | M27: =ROUND((L27)+((L27)*4.4%),-2)*12 -> 10516800 | N27: =ROUND(((M27/12)*6)+(((M27/12)*6)*3%),-2) -> 5416200
H28: 24 | I28: REGISTRADURIA MUNICIPAL CHIGORODO | J28: ANTIOQUIA | K28: MUNICIPAL | L28: 1050570 | M28: =ROUND((L28)+((L28)*4.4%),-2)*12 -> 13161600 | N28: =ROUND(((M28/12)*6)+(((M28/12)*6)*3%),-2) -> 6778200
H29: 25 | I29: REGISTRADURIA MUNICIPAL COPACABANA | J29: ANTIOQUIA | K29: MUNICIPAL | L29: 740570 | M29: =ROUND((L29)+((L29)*4.4%),-2)*12 -> 9278400 | N29: =ROUND(((M29/12)*6)+(((M29/12)*6)*3%),-2) -> 4778400
H30: 26 | I30: REGISTRADURIA MUNICIPAL EL BAGRE | J30: ANTIOQUIA | K30: MUNICIPAL | L30: 520140 | M30: =ROUND((L30)+((L30)*4.4%),-2)*12 -> 6516000 | N30: =ROUND(((M30/12)*6)+(((M30/12)*6)*3%),-2) -> 3355700
H31: 27 | I31: REGISTRADURIA MUNICIPAL GIRARDOTA | J31: ANTIOQUIA | K31: MUNICIPAL | L31: 839430 | M31: =ROUND((L31)+((L31)*4.4%),-2)*12 -> 10516800 | N31: =ROUND(((M31/12)*6)+(((M31/12)*6)*3%),-2) -> 5416200
H32: 28 | I32: REGISTRADURIA MUNICIPAL LA CEJA | J32: ANTIOQUIA | K32: MUNICIPAL | L32: 630430 | M32: =ROUND((L32)+((L32)*4.4%),-2)*12 -> 7898400 | N32: =ROUND(((M32/12)*6)+(((M32/12)*6)*3%),-2) -> 4067700
H33: 29 | I33: REGISTRADURIA MUNICIPAL LA ESTRELLA | J33: ANTIOQUIA | K33: MUNICIPAL | L33: 740570 | M33: =ROUND((L33)+((L33)*4.4%),-2)*12 -> 9278400 | N33: =ROUND(((M33/12)*6)+(((M33/12)*6)*3%),-2) -> 4778400
H34: 30 | I34: REGISTRADURIA MUNICIPAL MARINILLA | J34: ANTIOQUIA | K34: MUNICIPAL | L34: 520140 | M34: =ROUND((L34)+((L34)*4.4%),-2)*12 -> 6516000 | N34: =ROUND(((M34/12)*6)+(((M34/12)*6)*3%),-2) -> 3355700
H35: 31 | I35: REGISTRADURIA MUNICIPAL PUERTO BERRIO | J35: ANTIOQUIA | K35: MUNICIPAL | L35: 520140 | M35: =ROUND((L35)+((L35)*4.4%),-2)*12 -> 6516000 | N35: =ROUND(((M35/12)*6)+(((M35/12)*6)*3%),-2) -> 3355700
H36: 32 | I36: REGISTRADURIA MUNICIPAL RIONEGRO | J36: ANTIOQUIA | K36: MUNICIPAL | L36: 973290 | M36: =ROUND((L36)+((L36)*4.4%),-2)*12 -> 12193200 | N36: =ROUND(((M36/12)*6)+(((M36/12)*6)*3%),-2) -> 6279500
H37: 33 | I37: REGISTRADURIA MUNICIPAL SABANETA | J37: ANTIOQUIA | K37: MUNICIPAL | L37: 951710 | M37: =ROUND((L37)+((L37)*4.4%),-2)*12 -> 11923200 | N37: =ROUND(((M37/12)*6)+(((M37/12)*6)*3%),-2) -> 6140400
... H85: 81 | I85: GRUPO COORD FIRMA CENSO ELECTORAL | J85: BOGOTA - CAN | K85: CENTRALES | L85: 1692290 | M85: =ROUND((L85)+((L85)*4.4%),-2)*12 -> 21201600 | N85: =ROUND(((M85/12)*6)+(((M85/12)*6)*3%),-2) -> 10918800
H86: 82 | I86: GRUPO DE ALMACEN E INVENTARIOS | J86: BOGOTA - CAN | K86: CENTRALES | L86: 12833290 | M86: =ROUND((L86)+((L86)*4.4%),-2)*12 -> 160776000 | N86: =(ROUND(((M86/12)*6)+(((M86/12)*6)*3%),-2))+3800 -> 82803400
H87: 83 | I87: GRUPO DE ARCHIVO Y CORRESPONDENCIA | J87: BOGOTA - CAN | K87: CENTRALES | L87: 520140 | M87: =ROUND((L87)+((L87)*4.4%),-2)*12 -> 6516000 | N87: =ROUND(((M87/12)*6)+(((M87/12)*6)*3%),-2) -> 3355700
...

Sheet RD
A1: ORD | B1: DEPENDENCIAS - CENTROS DE COSTO | C1: DELEGACIÓN | D1: TIPO | E1: PP BASE | F1: 2026 1,5 Meses | G1: 2027 (4,8%) 12 Meses | H1: 2028 (3%) 7 Meses | J1: TOTAL SERVIDORES | K1: ASIGNACIÓN POR SERVIDOR | L1: Asignación sugerida base mes 2026 | M1: Diferencia
A2: 1 | B2: DELEGACIÓN AMAZONAS | C2: AMAZONAS | D2: DELEGACIÓN | E2: 2013710 | F2: 3020565 | G2: 25324800 | H2: 15216000 | J2: 21 | K2: =+J2*$E$36 -> 1599307.5 | L2: 2500000 | M2: =+L2-E2 -> 486290
A3: 3 | B3: DELEGACIÓN ANTIOQUIA | C3: ANTIOQUIA | D3: DELEGACIÓN | E3: 17694430 | F3: 26541645 | G3: 222525600 | H3: 133700800 | J3: 394 | K3: =+J3*$E$36 -> 30006054 | L3: 29217450 | M3: =+L3-E3 -> 11523020
A4: 42 | B4: DELEGACIÓN ARAUCA | C4: ARAUCA | D4: DELEGACIÓN | E4: 7945430 | F4: 11918145 | G4: 99921600 | H4: 60036200 | J4: 45 | K4: =+J4*$E$36 -> 3427087.4 | L4: =ROUND(J4*$E$36,-5) -> 3400000 | M4: =+L4-E4 -> -4545430
A5: 46 | B5: DELEGACIÓN ATLANTICO | C5: ATLANTICO | D5: DELEGACIÓN | E5: 6883430 | F5: 10325145 | G5: 86565600 | H5: 52011500 | J5: 153 | K5: =+J5*$E$36 -> 11652097 | L5: 11000000 | M5: =+L5-E5 -> 4116570
A6: 121 | B6: DELEGACIÓN BOLIVAR | C6: BOLIVAR | D6: DELEGACIÓN | E6: 9316290 | F6: 13974435 | G6: 117162000 | H6: 70394800 | J6: 164 | K6: =+J6*$E$36 -> 12489830 | L6: 12000000 | M6: =+L6-E6 -> 2683710
A7: 133 | B7: DELEGACIÓN BOYACA | C7: BOYACA | D7: DELEGACIÓN | E7: 13344710 | F7: 20017065 | G7: 167823600 | H7: 100834000 | J7: 182 | K7: =+J7*$E$36 -> 13860665 | L7: =ROUND(J7*$E$36,-5) -> 13900000 | M7: =+L7-E7 -> 555290
A8: 146 | B8: DELEGACIÓN CALDAS | C8: CALDAS | D8: DELEGACIÓN | E8: 6883430 | F8: 10325145 | G8: 86565600 | H8: 52011500 | J8: 102 | K8: =+J8*$E$36 -> 7768064.9 | L8: =ROUND(J8*$E$36,-5) -> 7800000 | M8: =+L8-E8 -> 916570
A9: 155 | B9: DELEGACIÓN CAQUETA | C9: CAQUETA | D9: DELEGACIÓN | E9: 12293000 | F9: 18439500 | G9: 154597200 | H9: 92887200 | J9: 52 | K9: =+J9*$E$36 -> 3960189.9 | L9: =ROUND(J9*$E$36,-5) -> 4000000 | M9: =+L9-E9 -> -8293000
A10: 158 | B10: DELEGACIÓN CASANARE | C10: CASANARE | D10: DELEGACIÓN | E10: 3540140 | F10: 5310210 | G10: 44521200 | H10: 26749800 | J10: 47 | K10: =+J10*$E$36 -> 3579402.4 | L10: =ROUND(J10*$E$36,-5) -> 3600000 | M10: =+L10-E10 -> 59860
A11: 162 | B11: DELEGACIÓN CAUCA | C11: CAUCA | D11: DELEGACIÓN | E11: 9848860 | F11: 14773290 | G11: 123859200 | H11: 74418700 | J11: 125 | K11: =+J11*$E$36 -> 9519687.3 | L11: =ROUND(J11*$E$36,-5) -> 9500000 | M11: =+L11-E11 -> -348860
A12: 166 | B12: DELEGACIÓN CESAR | C12: CESAR | D12: DELEGACIÓN | E12: 9749000 | F12: 14623500 | G12: 122604000 | H12: 73664600 | J12: 113 | K12: =+J12*$E$36 -> 8605797.3 | L12: =ROUND(J12*$E$36,-5) -> 8600000 | M12: =+L12-E12 -> -1149000
A13: 175 | B13: DELEGACIÓN CHOCO | C13: CHOCO | D13: DELEGACIÓN | E13: 8055570 | F13: 12083355 | G13: 101306400 | H13: 60868300 | J13: 77 | K13: =+J13*$E$36 -> 5864127.4 | L13: =ROUND(J13*$E$36,-5) -> 5900000 | M13: =+L13-E13 -> -2155570
A14: 177 | B14: DELEGACIÓN CORDOBA | C14: CORDOBA | D14: DELEGACIÓN | E14: 6671290 | F14: 10006935 | G14: 83898000 | H14: 50408700 | J14: 124 | K14: =+J14*$E$36 -> 9443529.8 | L14: 9000000 | M14: =+L14-E14 -> 2328710
A15: 189 | B15: DELEGACIÓN CUNDINAMARCA | C15: CUNDINAMARCA | D15: DELEGACIÓN | E15: 21192290 | F15: 31788435 | G15: 266514000 | H15: 160130500 | J15: 246 | K15: =+J15*$E$36 -> 18734745 | L15: =ROUND(J15*$E$36,-5) -> 18700000 | M15: =+L15-E15 -> -2492290
A16: 234 | B16: DELEGACIÓN GUAINIA | C16: GUAINIA | D16: DELEGACIÓN | E16: 2832570 | F16: 4248855 | G16: 35622000 | H16: 21402900 | J16: 21 | K16: =+J16*$E$36 -> 1599307.5 | L16: 2500000 | M16: =+L16-E16 -> -332570
A17: 237 | B17: DELEGACIÓN GUAVIARE | C17: GUAVIARE | D17: DELEGACIÓN | E17: 5764860 | F17: 8647290 | G17: 72499200 | H17: 43559900 | J17: 26 | K17: =+J17*$E$36 -> 1980095 | L17: 2500000 | M17: =+L17-E17 -> -3264860
A18: 239 | B18: DELEGACIÓN HUILA | C18: HUILA | D18: DELEGACIÓN | E18: 9538860 | F18: 14308290 | G18: 119960400 | H18: 72076200 | J18: 106 | K18: =+J18*$E$36 -> 8072694.8 | L18: =ROUND(J18*$E$36,-5) -> 8100000 | M18: =+L18-E18 -> -1438860
A19: 245 | B19: DELEGACIÓN GUAJIRA | C19: LA GUAJIRA | D19: DELEGACIÓN | E19: 4425860 | F19: 6638790 | G19: 55659600 | H19: 33442100 | J19: 82 | K19: =+J19*$E$36 -> 6244914.9 | L19: 6000000 | M19: =+L19-E19 -> 1574140
A20: 252 | B20: DELEGACIÓN MAGDALENA | C20: MAGDALENA | D20: DELEGACIÓN | E20: 5289000 | F20: 7933500 | G20: 66514800 | H20: 39964300 | J20: 115 | K20: =+J20*$E$36 -> 8758112.3 | L20: 8000000 | M20: =+L20-E20 -> 2711000
A21: 260 | B21: DELEGACIÓN META | C21: META | D21: DELEGACIÓN | E21: 9848860 | F21: 14773290 | G21: 123859200 | H21: 74418700 | J21: 104 | K21: =+J21*$E$36 -> 7920379.9 | L21: =ROUND(J21*$E$36,-5) -> 7900000 | M21: =+L21-E21 -> -1948860
A22: 265 | B22: DELEGACIÓN NARIÑO | C22: NARIÑO | D22: DELEGACIÓN | E22: 10579140 | F22: 15868710 | G22: 133042800 | H22: 79936500 | J22: 152 | K22: =+J22*$E$36 -> 11575940 | L22: 11000000 | M22: =+L22-E22 -> 420860
A23: 272 | B23: DELEGACIÓN NORTE DE SANTANDER | C23: NORTE DE SANTANDER | D23: DELEGACIÓN | E23: 10300000 | F23: 15450000 | G23: 129532800 | H23: 77827600 | J23: 128 | K23: =+J23*$E$36 -> 9748159.8 | L23: =ROUND(J23*$E$36,-5) -> 9700000 | M23: =+L23-E23 -> -600000
A24: 279 | B24: DELEGACIÓN PUTUMAYO | C24: PUTUMAYO | D24: DELEGACIÓN | E24: 4591710 | F24: 6887565 | G24: 57745200 | H24: 34695200 | J24: 54 | K24: =+J24*$E$36 -> 4112504.9 | L24: =ROUND(J24*$E$36,-5) -> 4100000 | M24: =+L24-E24 -> -491710
A25: 283 | B25: DELEGACIÓN QUINDIO | C25: QUINDIO | D25: DELEGACIÓN | E25: 4835860 | F25: 7253790 | G25: 60816000 | H25: 36540300 | J25: 56 | K25: =+J25*$E$36 -> 4264819.9 | L25: =ROUND(J25*$E$36,-5) -> 4300000 | M25: =+L25-E25 -> -535860
A26: 290 | B26: DELEGACIÓN RISARALDA | C26: RISARALDA | D26: DELEGACIÓN | E26: 7412860 | F26: 11119290 | G26: 93224400 | H26: 56012300 | J26: 87 | K26: =+J26*$E$36 -> 6625702.4 | L26: =ROUND(J26*$E$36,-5) -> 6600000 | M26: =+L26-E26 -> -812860
A27: 296 | B27: DELEGACIÓN SAN ANDRES | C27: SAN ANDRES | D27: DELEGACIÓN | E27: 2645000 | F27: 3967500 | G27: 33264000 | H27: 19986100 | J27: 17 | K27: =+J27*$E$36 -> 1294677.5 | L27: 2500000 | M27: =+L27-E27 -> -145000
A28: 298 | B28: DELEGACIÓN SANTANDER | C28: SANTANDER | D28: DELEGACIÓN | E28: 13344710 | F28: 20017065 | G28: 167823600 | H28: 100834000 | J28: 202 | K28: =+J28*$E$36 -> 15383815 | L28: 15000000 | M28: =+L28-E28 -> 1655290
A29: 313 | B29: DELEGACIÓN SUCRE | C29: SUCRE | D29: DELEGACIÓN | E29: 10810860 | F29: 16216290 | G29: 135957600 | H29: 81687900 | J29: 89 | K29: =+J29*$E$36 -> 6778017.4 | L29: =ROUND(J29*$E$36,-5) -> 6800000 | M29: =+L29-E29 -> -4010860
A30: 319 | B30: DELEGACIÓN TOLIMA | C30: TOLIMA | D30: DELEGACIÓN | E30: 9107290 | F30: 13660935 | G30: 114532800 | H30: 68815100 | J30: 131 | K30: =+J30*$E$36 -> 9976632.3 | L30: =ROUND(J30*$E$36,-5) -> 10000000 | M30: =+L30-E30 -> 892710
A31: 329 | B31: DELEGACIÓN VALLE | C31: VALLE | D31: DELEGACIÓN | E31: 13135570 | F31: 19703355 | G31: 165193200 | H31: 99253600 | J31: 251 | K31: =+J31*$E$36 -> 19115532 | L31: 18500000 | M31: =+L31-E31 -> 5364430
A32: 354 | B32: DELEGACIÓN VAUPES | C32: VAUPES | D32: DELEGACIÓN | E32: 3175430 | F32: 4763145 | G32: 39934800 | H32: 23994200 | J32: 17 | K32: =+J32*$E$36 -> 1294677.5 | L32: 2500000 | M32: =+L32-E32 -> -675430
A33: 356 | B33: DELEGACIÓN VICHADA | C33: VICHADA | D33: DELEGACIÓN | E33: 4547430 | F33: 6821145 | G33: 57188400 | H33: 34360700 | J33: 31 | K33: =+J33*$E$36 -> 2360882.5 | L33: 2500000 | M33: =+L33-E33 -> -2047430
A34: TOTAL POR VIGENCIAS | E34: =SUM(E2:E33) -> 267617450 | F34: =SUM(F2:F33) -> 401426175 | G34: =SUM(G2:G33) -> 3365559600 | H34: =SUM(H2:H33) -> 2022140200 | J34: =SUM(J2:J33) -> 3514 | K34: =SUM(K2:K33) -> 2.6761745e+08 | L34: =SUM(L2:L33) -> 267617450 | M34: =SUM(M2:M33) -> 0
E36: =+E34/J34 -> 76157.499

Sheet ANEXO No. 02
B1: ANEXO No. 02
B2: FONDO ROTATORIO DE LA REGISTRADURÍA NACIONAL DEL ESTADO CIVIL Nit 899-999-737-9
B3: LISTADO DE PRODUCTOS PARA LA VIGENCIA 2026-2028
B4: DETALLES ESPECIFICACIONES TÉCNICAS PRODUCTOS
B6: ITEM | C6: CATEGORÍA | D6: RUBRO | E6: DESCRIPCION | F6: MARCA | G6: REFERENCIA CTO | H6: PRESENTACION | I6: MEDIDA
A7: 1 | B7: 1 | C7: ASEO | D7: A-02-02-01-003-004 | E7: ALCOHOL ANTISEPTICO 70% ENVASE PLASTICO X 750 ML - | G7: ALCOHOL BOTELLA PLASTICA 70 GL * 750 CC | H7: 750 CC | I7: UNIDAD
A8: 6 | B8: 2 | C8: ASEO | D8: A-02-02-01-003-004 | E8: AMBIENTADOR EN AEROSOL VARIAS AROMAS * 400 CM3 | G8: AMBIENTADOR EN AEROSOL *400 VARIAS AROMAS | H8: 400 CM | I8: UNIDAD
A9: 8 | B9: 3 | C9: ASEO | D9: A-02-02-01-003-006 | E9: ATOMIZADOR INDUSTRIAL BLANCO CON PISTOLA DE 1000 CC UND | G9: ATOMIZADOR INDUSTRIAL BLANCO CON PISTOLA DE 1000 CC UND | H9: 1000 CC | I9: UNIDAD
A10: 9 | B10: 4 | C10: ASEO | D10: A-02-02-01-003-006 | E10: BALDE PLASTICO OV 12L largo33cm, ancho33cm Y alto30cm | G10: BALDE PLASTICO DE 12 LITROS | H10: N/A | I10: UNIDAD
A11: 10 | B11: 5 | C11: ASEO | D11: A-02-02-01-003-005 | E11: BAYETILLA BLANCA 36X60Cm x6un Algodón 100% | G11: BAYETILLA BLANCA 36X60Cm x6un Algodón 100% | H11: PAQUETE X 6 UND | I11: PAQUETE
A12: 11 | B12: 6 | C12: ASEO | D12: A-02-02-01-003-005 | E12: BAYETILLA ROJA 36X60Cm x6un Algodón 100% | G12: BAYETILLA ROJA 36X60Cm x6un Algodón 100% | H12: PAQUETE X 6 UND | I12: PAQUETE
A13: 12 | B13: 7 | C13: ASEO | D13: A-02-02-01-003-006 | E13: DISOLVENTE PARA RESINA C*55 GALONES | G13: DISOLVENTE PARA RESINA C*55 GALONES | H13: 55 GL | I13: CANECA
A14: 13 | B14: 8 | C14: ASEO | D14: A-02-02-01-003-005 | E14: BLANQUEADOR LIQUIDO * 3000 CC | G14: BLANQUEADOR LIQUIDO * 3000 CC | H14: 3000 CC | I14: UNIDAD
A15: 14 | B15: 9 | C15: ASEO | D15: A-02-02-01-003-006 | E15: BOLSA PLAST. NEGRA CALIBRE 2.5 65*90 CM PAQUETE * 50 UNIDAD | G15: BOLSA PLAST. NEGRA CALIBRE 2.5 65*90 PAQUETE * 50 UNIDAD | H15: PAQUETE X 50 UND | I15: PAQUETE
A16: 15 | B16: 10 | C16: ASEO | D16: A-02-02-01-003-006 | E16: BOLSA PLASTICA POLIPROPILENO BAJA DENSIDAD COLOR BLANCO 60 X70 CALIBRE 180 | G16: BOLSA PLASTICA POLIPROPILENO BAJA DENSIDAD COLOR BLANCO CALIBRE 60 X70 CALIBRE 180 | H16: PAQUETE X 10 UND | I16: PAQUETE
A17: 16 | B17: 11 | C17: ASEO | D17: A-02-02-01-003-006 | E17: BOLSA PLASTICA POLIPROPILENO BAJA DENSIDAD COLOR ROJA 60 X70 CAL 180 | G17: BOLSA PLASTICA POLIPROPILENO BAJA DENSIDAD COLOR ROJA 60 X70 CALIBRE 180 X 10 UNIDADES | H17: PAQUETE X 10 UND | I17: PAQUETE
A18: 17 | B18: 12 | C18: ASEO | D18: A-02-02-01-003-006 | E18: BOLSA PLASTICA POLIPROPILENO BAJA DENSIDAD COLOR VERDE 60 X70 CALIBRE 180 | G18: BOLSA PLASTICA POLIPROPILENO BAJA DENSIDAD COLOR VERDE CALIBRE 60 X70 CALIBRE 180 | H18: PAQUETE X 10 UND | I18: PAQUETE
... A43: 44 | B43: 37 | C43: ASEO | D43: A-02-02-01-003-006 | E43: ESCOBA SUAVE CON CABO STANDART DE MADERA | G43: ESCOBA SUAVE CON CABO STANDART DE MADERA | H43: N/A | I43: UNIDAD
A44: 46 | B44: 38 | C44: ASEO | D44: A-02-02-01-003-005 | E44: ESPONJILLA ABRASIVA VERDE | G44: ESPONJILLA ABRASIVA VERDE | I44: UNIDAD
A45: 47 | B45: 39 | C45: ASEO | D45: A-02-02-01-003-006 | E45: GUANTE DE CAUCHO CALIBRE 25 TALLA 8 COLOR NEGRO | G45: GUANTE DE CAUCHO CALIBRE 25 TALLA 8 COLOR NEGRO | H45: PAR | I45: PAR
A46: 48 | B46: 40 | C46: ASEO | D46: A-02-02-01-003-006 | E46: GUANTE DE CAUCHO CALIBRE 25 TALLA 7.1/2 COLOR NEGRO | G46: GUANTE DE CAUCHO CALIBRE 25 TALLA 7.1/2 COLOR NEGRO | H46: PAR | I46: PAR
A47: 49 | B47: 41 | C47: ASEO | D47: A-02-02-01-003-006 | E47: GUANTE DE CAUCHO CALIBRE 25 TALLA 8.1/2 COLOR NEGRO | G47: GUANTE DE CAUCHO CALIBRE 25 TALLA 8.1/2 COLOR NEGRO | H47: PAR | I47: PAR
A48: 50 | B48: 42 | C48: ASEO | D48: A-02-02-01-003-006 | E48: GUANTE NYLON POLIURETANO NEGRO TALLA 10 | G48: GUANTE NYLON POLIURETANO NEGRO TALLA 10 | H48: PAR | I48: PAR
A49: 51 | B49: 43 | C49: ASEO | D49: A-02-02-01-003-006 | E49: GUANTES DE 100% NITRILO PARA EXAMEN TALLA M*100 COLOR AZUL AQL 1,5 | G49: GUANTES DE NITRILO PARA EXAMEN TALLA M*100 | H49: 100 UND | I49: CAJA
A50: 52 | B50: 44 | C50: ASEO | D50: A-02-02-01-003-006 | E50: GUANTE DE CAUCHO CALIBRE 25 TALLA 9 COLOR NEGRO | G50: GUANTE DE CAUCHO CALIBRE 25 TALLA 9 COLOR NEGRO | H50: PAR | I50: PAR
A51: 53 | B51: 45 | C51: ASEO | D51: A-02-02-01-003-006 | E51: GUANTE NYLON POLIURETANO NEGRO TALLA 8 | G51: GUANTE NYLON POLIURETANO NEGRO TALLA 8 | H51: PAR | I51: PAR
A52: 54 | B52: 46 | C52: ASEO | D52: A-02-02-01-003-006 | E52: GUANTE NYLON POLIURETANO NEGRO TALLA 9 CALIBRE 35 | G52: GUANTE NYLON POLIURETANO NEGRO TALLA 9 | H52: PAR | I52: PAR
A53: 55 | B53: 47 | C53: ASEO | D53: A-02-02-01-003-005 | E53: JABON BARRA | G53: JABON BARRA | H53: 300 GR | I53: UNIDAD
A54: 56 | B54: 48 | C54: ASEO | D54: A-02-02-01-003-005 | E54: JABON LIQUIDO ANTIBACTERIAL POR 1000 ML FRASCO | G54: JABON LIQUIDO ANTIBACTERIAL POR 1000 ML FRASCO | H54: 1000 ML | I54: UNIDAD
A55: 57 | B55: 49 | C55: ASEO | D55: A-02-02-01-003-005 | E55: JABON LIQUIDO PARA MANOS X 500 CC FRASCO | G55: JABON LIQUIDO PARA MANOS X 500 CC FRASCO | H55: 500 CC | I55: UNIDAD
A56: 60 | B56: 50 | C56: ASEO | D56: A-02-02-01-003-005 | E56: JABON ESPUMA DERMO BOLSA X 800ML -7006 - DISPENSADOR | G56: JABON ESPUMA DERMO BOLSA X 800 ML - DISPENSADOR | H56: 800 CC | I56: UNIDAD
... A91: 103 | B91: 85 | C91: CAFETERIA | D91: A-02-02-01-003-002 | E91: VASO CARTON 7 ONZAS PAQUETE *50 UNID | G91: VASO CARTON 7 ONZAS PAQUETE *50 UNID | H91: PAQUETE X 50 UND | I91: PAQUETE
A92: 105 | B92: 86 | C92: IMPRESOS | D92: A-02-02-01-003-006 | E92: ADHESIVO SEGURIDAD CONTROL RECAUDOS | G92: ADHESIVO SEGURIDAD CONTROL RECAUDOS | I92: UNIDAD
A93: 106 | B93: 87 | C93: ELEMENTOS DE OFICINA | D93: A-02-02-01-003-005 | E93: ALMOHADILLA DACTILAR TINTA PEMANENTE | G93: ALMOHADILLA DACTILAR TINTA PEMANENTE | I93: UNIDAD
A94: 108 | B94: 88 | C94: ELEMENTOS DE OFICINA | D94: A-02-02-01-003-005 | E94: ALMOHADILLA PARA SELLOS - FIELTRO REINTENTABLE | G94: ALMOHADILLA PARA SELLOS - FIELTRO REINTENTABLE | I94: UNIDAD
A95: 109 | B95: 89 | C95: ELEMENTOS DE OFICINA | D95: A-02-02-01-003-006 | E95: BANDA DE CAUCHO REF: 22 CAJA | G95: BANDA DE CAUCHO REF: 22 CAJA | I95: CAJA
A96: 110 | B96: 90 | C96: ELEMENTOS DE OFICINA | D96: A-02-02-01-003-001 | E96: BANDEJA DE MADERA TRIPLE | G96: BANDEJA DE MADERA TRIPLE | I96: UNIDAD
A97: 111 | B97: 91 | C97: ELEMENTOS DE OFICINA | D97: A-02-02-01-003-006 | E97: BISTURÍ DE HOJA GRANDE | G97: BISTURÍ DE HOJA GRANDE | I97: UNIDAD
A98: 112 | B98: 92 | C98: ELEMENTOS DE OFICINA | D98: A-02-02-01-003-002 | E98: BLOCK CARTA CUADRICUALADO 80 HOJAS | G98: BLOCK CARTA CUADRICULADO 80 HOJAS | I98: UNIDAD
A99: 113 | B99: 93 | C99: ELEMENTOS DE OFICINA | D99: A-02-02-01-003-006 | E99: BOLIGRAFO NEGRO PLUS | G99: ESFERO PLUS NEGRO | I99: UNIDAD
...

Sheet ANEXO No. 03
B1: ANEXO No. 03
B2: FONDO ROTATORIO DE LA REGISTRADURÍA NACIONAL DEL ESTADO CIVIL Nit 899-999-737-9
B3: ANÁLISIS DETALLADO DEL MERCADO PARA LA VIGENCIA 2026-2028
B4: DETALLES | J4: COTIZACIÓN SUMIMAS 2026 | L4: OTRAS COTIZACIONES (Abr-2026): Catalogo Virtual CCE, HOMECENTER, ALKOSTO, ÉXITO, PANAMERICANA; MERCADO LIBRE, EASY, HP. | N4: COTIZADO EN: | O4: PRECIO UNITARIO DE REFERENCIA JUL-2026 | R4: COSTO HISTORICO CONTRATO 133 DE 2025
J5: DISTRIBUCIÓN NACIONAL | K5: DISTRIBUCIÓN EN BOGOTÁ | L5: DISTRIBUCIÓN NACIONAL | M5: DISTRIBUCIÓN EN BOGOTÁ | O5: DISTRIBUCIÓN NACIONAL | P5: DISTRIBUCIÓN EN BOGOTÁ | R5: DISTRIBUCIÓN NACIONAL | S5: DISTRIBUCIÓN EN BOGOTÁ
B6: ITEM | C6: CATEGORÍA | D6: RUBRO PP | E6: DESCRIPCIÓN | F6: MARCA | G6: REFERENCIA | H6: PRESENTACIÓN | I6: MEDIDA | J6: V. UNIT. INCLUIDO IVA | K6: V. UNIT. INCLUIDO IVA | L6: V. UNIT. INCLUIDO IVA | M6: V. UNIT. INCLUIDO IVA | O6: V. UNIT. INCLUIDO IVA | P6: V. UNIT. INCLUIDO IVA | R6: V. UNIT. INCLUIDO IVA | S6: V. UNIT. INCLUIDO IVA
A7: 1 | B7: 1 | C7: ASEO | D7: A-02-02-01-003-004 | E7: ALCOHOL ANTISEPTICO 70% ENVASE PLASTICO X 750 ML - | G7: ALCOHOL BOTELLA PLASTICA 70 GL * 750 CC | H7: 750 CC | I7: UNIDAD | J7: 17493 | K7: 16618.35 | L7: 19110 | M7: 18200 | N7: TVCCE | O7: =ROUND((J7+L7)/2,-2) -> 18300 | P7: =ROUND((K7+M7)/2,-2) -> 17400 | R7: 12150 | S7: 11572 | T7: =(O7-R7)/R7 -> 0.50617284 | U7: =(P7-S7)/S7 -> 0.50362945
A8: 6 | B8: 2 | C8: ASEO | D8: A-02-02-01-003-004 | E8: AMBIENTADOR EN AEROSOL VARIAS AROMAS * 400 CM3 | G8: AMBIENTADOR EN AEROSOL *400 VARIAS AROMAS | H8: 400 CM | I8: UNIDAD | J8: 21241.5 | K8: 20180.02 | L8: 12600 | M8: 12000 | N8: TVCCE | O8: =ROUND((J8+L8)/2,-2) -> 16900 | P8: =ROUND((K8+M8)/2,-2) -> 16100 | R8: 16332 | S8: 15553 | T8: =(O8-R8)/R8 -> 0.034778349 | U8: =(P8-S8)/S8 -> 0.035170064
A9: 8 | B9: 3 | C9: ASEO | D9: A-02-02-01-003-006 | E9: ATOMIZADOR INDUSTRIAL BLANCO CON PISTOLA DE 1000 CC UND | G9: ATOMIZADOR INDUSTRIAL BLANCO CON PISTOLA DE 1000 CC UND | H9: 1000 CC | I9: UNIDAD | J9: 14280 | K9: 13566 | L9: 11195.52 | M9: 10662.4 | N9: TVCCE | O9: =ROUND((J9+L9)/2,-2) -> 12700 | P9: =ROUND((K9+M9)/2,-2) -> 12100 | R9: 16044 | S9: 15280 | T9: =(O9-R9)/R9 -> -0.20842683 | U9: =(P9-S9)/S9 -> -0.20811518
A10: 9 | B10: 4 | C10: ASEO | D10: A-02-02-01-003-006 | E10: BALDE PLASTICO OV 12L largo33cm, ancho33cm Y alto30cm | G10: BALDE PLASTICO DE 12 LITROS | H10: N/A | I10: UNIDAD | J10: 16660 | K10: 15827 | L10: 14869.05 | M10: 14161 | N10: TVCCE | O10: =ROUND((J10+L10)/2,-2) -> 15800 | P10: =ROUND((K10+M10)/2,-2) -> 15000 | R10: 12305 | S10: 11718 | T10: =(O10-R10)/R10 -> 0.28403088 | U10: =(P10-S10)/S10 -> 0.28008193
A11: 10 | B11: 5 | C11: ASEO | D11: A-02-02-01-003-005 | E11: BAYETILLA BLANCA 36X60Cm x6un Algodón 100% | G11: BAYETILLA BLANCA 36X60Cm x6un Algodón 100% | H11: PAQUETE X 6 UND | I11: PAQUETE | J11: 29750 | K11: 28262.5 | L11: 31395 | M11: 29900 | N11: TVCCE | O11: =ROUND((J11+L11)/2,-2) -> 30600 | P11: =ROUND((K11+M11)/2,-2) -> 29100 | R11: 64697 | S11: 61617 | T11: =(O11-R11)/R11 -> -0.52702598 | U11: =(P11-S11)/S11 -> -0.52772774
A12: 11 | B12: 6 | C12: ASEO | D12: A-02-02-01-003-005 | E12: BAYETILLA ROJA 36X60Cm x6un Algodón 100% | G12: BAYETILLA ROJA 36X60Cm x6un Algodón 100% | H12: PAQUETE X 6 UND | I12: PAQUETE | J12: 29750 | K12: 28262.5 | L12: 31395 | M12: 29900 | N12: TVCCE | O12: =ROUND((J12+L12)/2,-2) -> 30600 | P12: =ROUND((K12+M12)/2,-2) -> 29100 | R12: 64697 | S12: 61617 | T12: =(O12-R12)/R12 -> -0.52702598 | U12: =(P12-S12)/S12 -> -0.52772774
A13: 12 | B13: 7 | C13: ASEO | D13: A-02-02-01-003-006 | E13: DISOLVENTE PARA RESINA C*55 GALONES | G13: DISOLVENTE PARA RESINA C*55 GALONES | H13: 55 GL | I13: CANECA | J13: 4076118.9 | K13: 3872313.5 | L13: 74045 | M13: 70521 | N13: PRECIO CONTRATO ACTUAL | O13: 74045 | P13: 70521 | R13: 74045 | S13: 70521 | T13: =(O13-R13)/R13 -> 0 | U13: =(P13-S13)/S13 -> 0
A14: 13 | B14: 8 | C14: ASEO | D14: A-02-02-01-003-005 | E14: BLANQUEADOR LIQUIDO * 3000 CC | G14: BLANQUEADOR LIQUIDO * 3000 CC | H14: 3000 CC | I14: UNIDAD | J14: 21420 | K14: 20349 | L14: 18795 | M14: 17900 | N14: TVCCE | O14: =ROUND((J14+L14)/2,-2) -> 20100 | P14: =ROUND((K14+M14)/2,-2) -> 19100 | R14: 18647 | S14: 17760 | T14: =(O14-R14)/R14 -> 0.077921381 | U14: =(P14-S14)/S14 -> 0.07545045
A15: 14 | B15: 9 | C15: ASEO | D15: A-02-02-01-003-006 | E15: BOLSA PLAST. NEGRA CALIBRE 2.5 65*90 CM PAQUETE * 50 UNIDAD | G15: BOLSA PLAST. NEGRA CALIBRE 2.5 65*90 PAQUETE * 50 UNIDAD | H15: PAQUETE X 50 UND | I15: PAQUETE | J15: 71400 | K15: 67830 | L15: 46356.45 | M15: 44149 | N15: TVCCE | O15: =ROUND((J15+L15)/2,-2) -> 58900 | P15: =ROUND((K15+M15)/2,-2) -> 56000 | R15: 40490 | S15: 38561 | T15: =(O15-R15)/R15 -> 0.45468017 | U15: =(P15-S15)/S15 -> 0.4522445
A16: 15 | B16: 10 | C16: ASEO | D16: A-02-02-01-003-006 | E16: BOLSA PLASTICA POLIPROPILENO BAJA DENSIDAD COLOR BLANCO 60 X70 CALIBRE 180 | G16: BOLSA PLASTICA POLIPROPILENO BAJA DENSIDAD COLOR BLANCO CALIBRE 60 X70 CALIBRE 180 | H16: PAQUETE X 10 UND | I16: PAQUETE | J16: 7497 | K16: 7122.15 | L16: 7056 | M16: 6720 | N16: TVCCE | O16: =ROUND((J16+L16)/2,-2) -> 7300 | P16: =ROUND((K16+M16)/2,-2) -> 6900 | R16: 4310 | S16: 4080 | T16: =(O16-R16)/R16 -> 0.6937355 | U16: =(P16-S16)/S16 -> 0.69117647
A17: 16 | B17: 11 | C17: ASEO | D17: A-02-02-01-003-006 | E17: BOLSA PLASTICA POLIPROPILENO BAJA DENSIDAD COLOR ROJA 60 X70 CAL 180 | G17: BOLSA PLASTICA POLIPROPILENO BAJA DENSIDAD COLOR ROJA 60 X70 CALIBRE 180 X 10 UNIDADES | H17: PAQUETE X 10 UND | I17: PAQUETE | J17: 10495.8 | K17: 9971.01 | L17: 5176.5 | M17: 4930 | N17: TVCCE | O17: =ROUND((J17+L17)/2,-2) -> 7800 | P17: =ROUND((K17+M17)/2,-2) -> 7500 | R17: 2813 | S17: 2678 | T17: =(O17-R17)/R17 -> 1.7728404 | U17: =(P17-S17)/S17 -> 1.8005975
A18: 17 | B18: 12 | C18: ASEO | D18: A-02-02-01-003-006 | E18: BOLSA PLASTICA POLIPROPILENO BAJA DENSIDAD COLOR VERDE 60 X70 CALIBRE 180 | G18: BOLSA PLASTICA POLIPROPILENO BAJA DENSIDAD COLOR VERDE CALIBRE 60 X70 CALIBRE 180 | H18: PAQUETE X 10 UND | I18: PAQUETE | J18: 7497 | K18: 7122.15 | L18: 7056 | M18: 6720 | N18: TVCCE | O18: =ROUND((J18+L18)/2,-2) -> 7300 | P18: =ROUND((K18+M18)/2,-2) -> 6900 | R18: 4310 | S18: 4080 | T18: =(O18-R18)/R18 -> 0.6937355 | U18: =(P18-S18)/S18 -> 0.69117647
A19: 18 | B19: 13 | C19: ASEO | D19: A-02-02-01-003-006 | E19: BOLSA PLASTICA BAJA REC 56*76CM C-2 ROJA PAQ*6 | G19: BOLSA PLASTICA BAJA REC 56*76CM C-2 ROJA PAQ*6 | H19: PAQUETE X 6 UND | I19: PAQUETE | J19: 4748.1 | K19: 4511.29 | L19: 2873.85 | M19: 2737 | N19: TVCCE | O19: =ROUND((J19+L19)/2,-2) -> 3800 | P19: =ROUND((K19+M19)/2,-2) -> 3600 | R19: 1671 | S19: 1591 | T19: =(O19-R19)/R19 -> 1.2740874 | U19: =(P19-S19)/S19 -> 1.2627278
A20: 19 | B20: 14 | C20: ASEO | D20: A-02-02-01-003-006 | E20: Bolsa plástica transparente calibre 3 (70*100 cms.) paquete por 10 UN | G20: Bolsa plástica transparente calibre 3 (70*100 cms.) paquete por 10 UN | H20: PAQUETE X 10 UND | I20: PAQUETE | J20: 26489.4 | K20: 25164.93 | L20: 21166.53 | M20: 20158.6 | N20: TVCCE | O20: =ROUND((J20+L20)/2,-2) -> 23800 | P20: =ROUND((K20+M20)/2,-2) -> 22700 | R20: 14710 | S20: 14007 | T20: =(O20-R20)/R20 -> 0.61794697 | U20: =(P20-S20)/S20 -> 0.62061826
A21: 20 | B21: 15 | C21: ASEO | D21: A-02-02-01-003-005 | E21: BRILLADOR CON ARMAZON Y MANGO MEDIDA STANDART 100cm y Cabo Aluminio 150cm | G21: BRILLADOR CON ARMAZON Y MANGO 1 METRO | H21: N/A | I21: UNIDAD | J21: 107457 | K21: 102084.15 | L21: 127174.11 | M21: 121118.2 | N21: TVCCE | O21: =ROUND((J21+L21)/2,-2) -> 117300 | P21: =ROUND((K21+M21)/2,-2) -> 111600 | R21: 91924 | S21: 87547 | T21: =(O21-R21)/R21 -> 0.27605413 | U21: =(P21-S21)/S21 -> 0.27474385
A22: 21 | B22: 16 | C22: ASEO | D22: A-02-02-01-003-005 | E22: BRILLAMETAL CREMA X 70 GR | G22: BRILLAMETAL CREMA X 70 GRS | H22: 70 GR | I22: UNIDAD | J22: 32130 | K22: 30523.5 | L22: 18375 | M22: 17500 | N22: TVCCE | O22: =ROUND((J22+L22)/2,-2) -> 25300 | P22: =ROUND((K22+M22)/2,-2) -> 24000 | R22: 32476 | S22: 30929 | T22: =(O22-R22)/R22 -> -0.22096317 | U22: =(P22-S22)/S22 -> -0.22402923
A23: 22 | B23: 17 | C23: ASEO | D23: A-02-02-01-003-006 | E23: CEPILLO DE MANO TIPO PLANCHA CON MANGO DE PLASTICO SOLIDO DE 3,18 CM DE LONGITUD | G23: CEPILLO DE MANO TIPO PLANCHA | H23: N/A | I23: UNIDAD | J23: 4403 | K23: 4182.85 | L23: 6247.5 | M23: 5950 | N23: TVCCE | O23: =ROUND((J23+L23)/2,-2) -> 5300 | P23: =ROUND((K23+M23)/2,-2) -> 5100 | R23: 4302 | S23: 4097 | T23: =(O23-R23)/R23 -> 0.23198512 | U23: =(P23-S23)/S23 -> 0.24481328
A24: 23 | B24: 18 | C24: ASEO | D24: A-02-02-01-003-006 | E24: CHUPA PARA BAÑO PLASTICO | G24: CHUPA PARA BAÑO | H24: N/A | I24: UNIDAD | J24: 12852 | K24: 12209.4 | L24: 15878.1 | M24: 15122 | N24: TVCCE | O24: =ROUND((J24+L24)/2,-2) -> 14400 | P24: =ROUND((K24+M24)/2,-2) -> 13700 | R24: 12950 | S24: 12333 | T24: =(O24-R24)/R24 -> 0.11196911 | U24: =(P24-S24)/S24 -> 0.11084083
A25: 24 | B25: 19 | C25: ASEO | D25: A-02-02-01-003-006 | E25: CHURRUSCO PARA BAÑO CON BASE | G25: CHURRUSCO PARA BAÑO CON BASE | H25: N/A | I25: UNIDAD | J25: 11781 | K25: 11191.95 | L25: 11613 | M25: 11060 | N25: TVCCE | O25: =ROUND((J25+L25)/2,-2) -> 11700 | P25: =ROUND((K25+M25)/2,-2) -> 11100 | R25: 11818 | S25: 11255 | T25: =(O25-R25)/R25 -> -0.009984769 | U25: =(P25-S25)/S25 -> -0.013771657
... A43: 44 | B43: 37 | C43: ASEO | D43: A-02-02-01-003-006 | E43: ESCOBA SUAVE CON CABO STANDART DE MADERA | G43: ESCOBA SUAVE CON CABO STANDART DE MADERA | H43: N/A | I43: UNIDAD | J43: 15708 | K43: 14922.6 | L43: 14504.49 | M43: 13813.8 | N43: TVCCE | O43: =ROUND((J43+L43)/2,-2) -> 15100 | P43: =ROUND((K43+M43)/2,-2) -> 14400 | R43: 15758 | S43: 15007 | T43: =(O43-R43)/R43 -> -0.041756568 | U43: =(P43-S43)/S43 -> -0.040447791
A44: 46 | B44: 38 | C44: ASEO | D44: A-02-02-01-003-005 | E44: ESPONJILLA ABRASIVA VERDE | G44: ESPONJILLA ABRASIVA VERDE | I44: UNIDAD | J44: 1071 | K44: 1017.45 | L44: 1014.3 | M44: 966 | N44: TVCCE | O44: =ROUND((J44+L44)/2,-2) -> 1000 | P44: =ROUND((K44+M44)/2,-2) -> 1000 | R44: 1031 | S44: 981 | T44: =(O44-R44)/R44 -> -0.030067895 | U44: =(P44-S44)/S44 -> 0.019367992
A45: 47 | B45: 39 | C45: ASEO | D45: A-02-02-01-003-006 | E45: GUANTE DE CAUCHO CALIBRE 25 TALLA 8 COLOR NEGRO | G45: GUANTE DE CAUCHO CALIBRE 25 TALLA 8 COLOR NEGRO | H45: PAR | I45: PAR | J45: 9871.05 | K45: 9377.2 | L45: 10641.33 | M45: 10134.6 | N45: TVCCE | O45: =ROUND((J45+L45)/2,-2) -> 10300 | P45: =ROUND((K45+M45)/2,-2) -> 9800 | R45: 9819 | S45: 9351 | T45: =(O45-R45)/R45 -> 0.048986659 | U45: =(P45-S45)/S45 -> 0.048016255
A46: 48 | B46: 40 | C46: ASEO | D46: A-02-02-01-003-006 | E46: GUANTE DE CAUCHO CALIBRE 25 TALLA 7.1/2 COLOR NEGRO | G46: GUANTE DE CAUCHO CALIBRE 25 TALLA 7.1/2 COLOR NEGRO | H46: PAR | I46: PAR | J46: 9871.05 | K46: 9377.2 | L46: 10641.33 | M46: 10134.6 | N46: TVCCE | O46: =ROUND((J46+L46)/2,-2) -> 10300 | P46: =ROUND((K46+M46)/2,-2) -> 9800 | R46: 9819 | S46: 9351 | T46: =(O46-R46)/R46 -> 0.048986659 | U46: =(P46-S46)/S46 -> 0.048016255
A47: 49 | B47: 41 | C47: ASEO | D47: A-02-02-01-003-006 | E47: GUANTE DE CAUCHO CALIBRE 25 TALLA 8.1/2 COLOR NEGRO | G47: GUANTE DE CAUCHO CALIBRE 25 TALLA 8.1/2 COLOR NEGRO | H47: PAR | I47: PAR | J47: 9871.05 | K47: 9377.2 | L47: 10641.33 | M47: 10134.6 | N47: TVCCE | O47: =ROUND((J47+L47)/2,-2) -> 10300 | P47: =ROUND((K47+M47)/2,-2) -> 9800 | R47: 9819 | S47: 9351 | T47: =(O47-R47)/R47 -> 0.048986659 | U47: =(P47-S47)/S47 -> 0.048016255
A48: 50 | B48: 42 | C48: ASEO | D48: A-02-02-01-003-006 | E48: GUANTE NYLON POLIURETANO NEGRO TALLA 10 | G48: GUANTE NYLON POLIURETANO NEGRO TALLA 10 | H48: PAR | I48: PAR | J48: 18326 | K48: 17409.7 | L48: 24402 | M48: 23240 | N48: TVCCE | O48: =ROUND((J48+L48)/2,-2) -> 21400 | P48: =ROUND((K48+M48)/2,-2) -> 20300 | R48: 18384 | S48: 17508 | T48: =(O48-R48)/R48 -> 0.1640557 | U48: =(P48-S48)/S48 -> 0.15946996
A49: 51 | B49: 43 | C49: ASEO | D49: A-02-02-01-003-006 | E49: GUANTES DE 100% NITRILO PARA EXAMEN TALLA M*100 COLOR AZUL AQL 1,5 | G49: GUANTES DE NITRILO PARA EXAMEN TALLA M*100 | H49: 100 UND | I49: CAJA | J49: 65450 | K49: 62177.5 | L49: 58359 | M49: 55580 | N49: TVCCE | O49: =ROUND((J49+L49)/2,-2) -> 61900 | P49: =ROUND((K49+M49)/2,-2) -> 58900 | R49: 65941 | S49: 62801 | T49: =(O49-R49)/R49 -> -0.061282055 | U49: =(P49-S49)/S49 -> -0.062116845
A50: 52 | B50: 44 | C50: ASEO | D50: A-02-02-01-003-006 | E50: GUANTE DE CAUCHO CALIBRE 25 TALLA 9 COLOR NEGRO | G50: GUANTE DE CAUCHO CALIBRE 25 TALLA 9 COLOR NEGRO | H50: PAR | I50: PAR | J50: 9871.05 | K50: 9377.2 | L50: 10641.33 | M50: 10134.6 | N50: TVCCE | O50: =ROUND((J50+L50)/2,-2) -> 10300 | P50: =ROUND((K50+M50)/2,-2) -> 9800 | R50: 8716 | S50: 8300 | T50: =(O50-R50)/R50 -> 0.18173474 | U50: =(P50-S50)/S50 -> 0.18072289
A51: 53 | B51: 45 | C51: ASEO | D51: A-02-02-01-003-006 | E51: GUANTE NYLON POLIURETANO NEGRO TALLA 8 | G51: GUANTE NYLON POLIURETANO NEGRO TALLA 8 | H51: PAR | I51: PAR | J51: 8621.55 | K51: 8190.77 | L51: 17430 | M51: 16600 | N51: TVCCE | O51: =ROUND((J51+L51)/2,-2) -> 13000 | P51: =ROUND((K51+M51)/2,-2) -> 12400 | R51: 7999 | S51: 7618 | T51: =(O51-R51)/R51 -> 0.62520315 | U51: =(P51-S51)/S51 -> 0.62772381
A52: 54 | B52: 46 | C52: ASEO | D52: A-02-02-01-003-006 | E52: GUANTE NYLON POLIURETANO NEGRO TALLA 9 CALIBRE 35 | G52: GUANTE NYLON POLIURETANO NEGRO TALLA 9 | H52: PAR | I52: PAR | J52: 8621.55 | K52: 8190.77 | L52: 17430 | M52: 16600 | N52: TVCCE | O52: =ROUND((J52+L52)/2,-2) -> 13000 | P52: =ROUND((K52+M52)/2,-2) -> 12400 | R52: 7999 | S52: 7618 | T52: =(O52-R52)/R52 -> 0.62520315 | U52: =(P52-S52)/S52 -> 0.62772381
A53: 55 | B53: 47 | C53: ASEO | D53: A-02-02-01-003-005 | E53: JABON BARRA | G53: JABON BARRA | H53: 300 GR | I53: UNIDAD | J53: 7497 | K53: 7122.15 | L53: 7560 | M53: 7200 | N53: TVCCE | O53: =ROUND((J53+L53)/2,-2) -> 7500 | P53: =ROUND((K53+M53)/2,-2) -> 7200 | R53: 7503 | S53: 7145 | T53: =(O53-R53)/R53 -> -0.00039984006 | U53: =(P53-S53)/S53 -> 0.0076976907
A54: 56 | B54: 48 | C54: ASEO | D54: A-02-02-01-003-005 | E54: JABON LIQUIDO ANTIBACTERIAL POR 1000 ML FRASCO | G54: JABON LIQUIDO ANTIBACTERIAL POR 1000 ML FRASCO | H54: 1000 ML | I54: UNIDAD | J54: 27846 | K54: 26453.7 | L54: 42630 | M54: 40600 | N54: TVCCE | O54: =ROUND((J54+L54)/2,-2) -> 35200 | P54: =ROUND((K54+M54)/2,-2) -> 33500 | R54: 27917 | S54: 26588 | T54: =(O54-R54)/R54 -> 0.26088047 | U54: =(P54-S54)/S54 -> 0.2599669
A55: 57 | B55: 49 | C55: ASEO | D55: A-02-02-01-003-005 | E55: JABON LIQUIDO PARA MANOS X 500 CC FRASCO | G55: JABON LIQUIDO PARA MANOS X 500 CC FRASCO | H55: 500 CC | I55: UNIDAD | J55: 17136 | K55: 16279.2 | L55: 18795 | M55: 17900 | N55: TVCCE | O55: =ROUND((J55+L55)/2,-2) -> 18000 | P55: =ROUND((K55+M55)/2,-2) -> 17100 | R55: 17213 | S55: 16395 | T55: =(O55-R55)/R55 -> 0.045721257 | U55: =(P55-S55)/S55 -> 0.043000915
A56: 59 | B56: 50 | C56: ASEO | D56: A-02-02-01-003-005 | E56: JABON ESPUMA DERMO BOLSA X 800ML -7006 - DISPENSADOR | G56: JABON ESPUMA DERMO BOLSA X 800 ML - DISPENSADOR | H56: 800 CC | I56: UNIDAD | J56: 113050 | K56: 107397.5 | L56: 131197.5 | M56: 124950 | N56: TVCCE | O56: =ROUND((J56+L56)/2,-2) -> 122100 | P56: =ROUND((K56+M56)/2,-2) -> 116200 | R56: 100654 | S56: 95860 | T56: =(O56-R56)/R56 -> 0.21306654 | U56: =(P56-S56)/S56 -> 0.21218444
... A65: 69 | B65: 59 | C65: ASEO | D65: A-02-02-01-003-002 | E65: PAPEL HIGIENICO BLANCO 28 a 30 MTS | G65: PAPEL HIGIENICO BLANCO*30MTS UNIDAD | H65: 28 - 30 MT | I65: UNIDAD | J65: 6664 | K65: 6330.8 | L65: 8211 | M65: 6900 | N65: TVCCE | O65: =ROUND((J65+L65)/2,-2) -> 7400 | P65: =ROUND((K65+M65)/2,-2) -> 6600 | R65: 6600 | S65: 6284 | T65: =(O65-R65)/R65 -> 0.12121212 | U65: =(P65-S65)/S65 -> 0.050286442
...

Sheet ANEXO No. 04
A1: ANEXO No. 04
A2: FONDO ROTATORIO DE LA REGISTRADURÍA NACIONAL DEL ESTADO CIVIL Nit 899-999-737-9
A3: COTIZACIÓN DE INSUMOS PARA LA VIGENCIA 2026-2028 (SUMIMAS)
A4: DETALLES | I4: DISTRIBUCIÓN NACIONAL | L4: DISTRIBUCIÓN EN BOGOTÁ
