Workbook
Name contratación: 'IDENTIFICACION Y ANALISIS'!$B$42:$B$47
Name ejecución: 'IDENTIFICACION Y ANALISIS'!$B$52:$B$76
Name OPCIONES: 'ASIGNACION Y TRATAMIENTO'!$B$53:$B$55
Name planeación: 'IDENTIFICACION Y ANALISIS'!$B$21:$B$31
Name selección: 'IDENTIFICACION Y ANALISIS'!$B$34:$B$40

Sheet CONTEXTO
C1: MATRIZ DE RIESGOS EN CONTRATACIÓN | F1: Código: GCO-GCI-F164 Versión: 01 Vigencia: 16 diciembre de 2021 Caso HOLA: 206942
B5: ESTABLECER EL CONTEXTO
B6: El punto inicial es identificar el contexto en el cual interactúa la Entidad Estatal para conocer el ambiente social, económico y político, e identificar (i) sus propios Riesgos; (ii) los Riesgos comunes a sus Procesos de Contratación; y (iii) los Riesgos del Proceso de Contratación en particular. (Aplica igual para contratos interadministrativos) En este paso la Entidad Estatal debe identificar los aspectos que se mencionan a continuación y los posibles efectos adversos que estos pueden generar.
B7: Objeto del Proceso de Contratación: PRESTAR SERVICIOS PARA REALIZAR ACCIONES DE FORTALECIMIENTO DE LA CULTURA, IDENTIDAD, ORGANIZACIÓN Y TERRITORIO DEL PUEBLO MUYSCA DE LA LOCALIDAD DE SUBA
B8: Partícipes del Proceso de Contratación: Profesionales de Planeación, Contratación, Presupuesto - Financiera y Despacho Alcalde Local
B9: Ciudadanía que se beneficia del Proceso de Contratación: Comunidad en general de Localidad de Chapinero
B10: Capacidad de la Entidad Estatal entendida como la disponibilidad de recursos y conocimientos para el Proceso de Contratación: La disponibilidad de la Entidad de sus recursos y el conocimiento de su equipo humano se refleja en los diferentes funcionarios que participarán en las diversas etapas del proceso de selección: participan las áreas que requieren los procesos de contratación (Etapa de Estudios previos), el área de Contratos de la Secretaría General (Etapa contractual), los evaluadores designados, idóneos y con experiencia en el tema.
B11: Suficiencia del presupuesto oficial del Proceso de Contratación: De acuerdo al Plan de contratación para la vigencia 2024, se estimaron los recursos necesarios para el desarrollo del proceso de la contratación, el cual tendrá el soporte presupuestal suficiente para su desarrollo.
B12: Condiciones geográficas y de acceso del lugar en el cual se debe cumplir el objeto del Proceso de Contratación: El desarrollo de este proyecto se llevara acabo en la Localidad de Chapinero en espacios urbanos con buenas posibilidades.
B13: Entorno socio ambiental: Si aplican
B14: Condiciones políticas: Si aplican
B15: Factores ambientales: El contratista debe manejar normas ambientales para el destino final de algunos repuestos que se retiran cuando se hace mantenimiento correctivo al sistema.
B16: Sector del objeto del Proceso de Contratación y su mercado: Todos los clientes (entidades privadas, Estatales y Gubernamentales), alrededor en todo el Territorio Nacional Colombiano y el exterior, quienes solicitan equipos y servicios de seguridad y control de acceso, con niveles elevados de flujo peatonal.
... B18: Experiencia propia y de otras Entidades Estatales en Procesos de Contratación del mismo tipo: La Entidad contrata anualmente el proceso de Apoyo Logístico para medicina ancestral,toda vez que estas experiencias destacan la importancia de un enfoque colaborativo y respetuoso, asegurando que las comunidades sean protagonistas en los procesos de contratación y que sus conocimientos sean valorados y protegidos

Sheet IDENTIFICACION Y ANALISIS
C2: MATRIZ DE RIESGOS DE CONTRATACIÓN | F2: Código: GCO-GCI-F164 Versión: 01 Vigencia: 16 diciembre de 2021 Caso HOLA: 206942
B6: DEFINICIONES
B7: RIESGO: evento que puede generar efectos adversos y de distinta magnitud en el logro de los objetivos del Proceso de Contratación o en la ejecución de un contrato
B8: RIESGOS PREVISIBLES: Son los posibles hechos o circunstancias que por la naturaleza del contrato y de la actividad a ejecutar es factible su ocurrencia.
B9: ETAPA DE PLANEACIÓN: Está comprendida entre la elaboración del Plan Anual de Adquisiciones y la fecha en la cual decide continuar o no con el Proceso de Contratación
B10: ETAPA DE SELECCIÓN: Está comprendida entre el acto de Apertura del Proceso de Contratación y la Adjudicación o la declaración de desierto del Proceso de Contratación
B11: ETAPA DE CONTRATACIÓN: Una vez adjudicado el contrato objeto del Proceso de Contratación, inicia la etapa de contratación en la cual se debe cumplir con el cronograma previsto para la celebración del contrato, el registro presupuestal, la publicación en el SECOP y el cumplimiento de los requisitos para el perfeccionamiento, ejecución y pago.
B12: ETAPA DE EJECUCIÓN: Inicia una vez cumplidos los requisitos previstos para iniciar la ejecución del contrato respectivo y termina con el vencimiento del plazo del contrato o la fecha de liquidación si hay lugar a ella.
B13: RIESGO GENERAL: Es un riesgo de todos los procesos de contratación adelantados por la Entidad Estatal, por lo cual está presente en toda su actividad contractual.
B14: RIEGO ESPECIFICO: Es un riesgo propio del proceso de contratación objeto de análisis.
B15: INSTRUCCIONES PARA LA IDENTIFICACIÓN, ANALISIS, EVALUACIÓN , ASIGNACIÓN Y TRATAMIENTO DE RIESGOS EN LA CONTRATACIÓN
B16: 1) Identifique los riesgos previsibles que le apliquen al objeto contractual que se adelante; En caso de identificar otro riesgo inclúyalo en la proforma e informe al Área de Contratos de la Secretaría General para que sea actualizada en el SIG.
B17: ETAPAS | D17: CLASE | E17: FUENTE | F17: TIPO
B18: PLANEACIÓN
B19: Inadecuada descripción del bien o servicio requerido | D19: General | E19: Interno | F19: Operacionales
B20: Inadecuada elaboración de estudios y diseños | D20: General | E20: Interno | F20: Operacionales
B21: Inadecuada escogencia de la modalidad de contratación | D21: General | E21: Interno | F21: Operacionales
B22: Requisitos habilitantes inapropiados para el proceso de contratacion directa | D22: General | E22: Interno | F22: Operacionales
B23: Inadecuado análisis económico estimativo del valor del contrato | D23: General | E23: Interno | F23: Economicos
B24: Requisitos habilitantes que impidan la selección objetiva | D24: General | E24: Interno | F24: Operacionales
B25: Falta de profundidad en el estudio de sector no identificandose claramente aspectos de oferta y demanda | D25: General | E25: Interno | F25: Economicos
B26: Ausencia de fundamentación de la justificación y conveniencia de la contratación | D26: General | E26: Interno | F26: Operacionales
B27: Inadecuada identificación de las condiciones contractuales | D27: General | E27: Interno | F27: Operacionales
B28: No aprobación o demoras en la expedición vigencias futuras | D28: General | E28: Interno | F28: Operacionales
B29: Proyección de la propuesta económica por parte del proponente que conlleven a pérdidas o baja utilidad en la ejecución del contrato. | D29: General | E29: Externo | F29: Economicos
B30: Proyección de la propuesta económica por parte del proponente que sirve como fuente de construcción del presupuesto oficial con valores que superan la realidad del mercado | D30: General | E30: Externo | F30: Economicos
... B32: Que ninguno de los proponentes cumplan los requisitos habilitantes establecidos en el pliego de condiciones. | D32: General | E32: Interno | F32: Operacionales
B33: SELECCIÓN
B34: Inadecuado manejo administrativo del proceso contractual | D34: General | E34: Interno | F34: Operacionales
B35: Falta de claridad en la elaboración de los actos administrativos | D35: General | E35: Interno | F35: Operacionales
B36: Contestación inoportuna a todas las observaciones formuladas a los documentos de la contratación | D36: General | E36: Interno | F36: Operacionales
B37: No publicación de la documentación del proceso de selección en el SECOP | D37: General | E37: Interno | F37: Operacionales
B38: Confabulacion de los proponentes (Colusión) | D38: General | E38: Externo | F38: Operacionales
B39: Documentacion no pertiente para el proceso de selección
B40: Selección de ofertas con precios artificialmente bajos. | D40: General | E40: Interno | F40: Operacionales
B41: CONTRATACIÓN
B42: Riesgo de que no se firme el contrato. | D42: Especifico | E42: Interno | F42: Operacionales
B43: Falta de constitución o constitución tardía de la garantía única. Aceptación de garantías que no se ajustan a lo contemplado en el contrato | D43: Especifico | E43: Externo | F43: Operacionales
B44: Falta de solicitud o solicitud tardía del registro presupuestal | D44: Especifico | E44: Interno | F44: Operacionales
B45: Celebración de contratos sin el lleno de los requisitos legales. | D45: General | E45: Interno | F45: Operacionales
...

Sheet EVALUACION
D1: MATRIZ DE RIESGOS DE CONTRATACIÓN | K1: Código: GCO-GCI-F164 Versión: 01 Vigencia: 16 diciembre de 2021 Caso HOLA: 206942
B5: Objeto Contractual: PRESTAR LOS SERVICIOS PARA REALIZAR ACCIONES DE FORTALECIMIENTO DE LA CULTURA, IDENTIDAD Y TERRITORIO DEL PUEBLO MUYSCA DE LA LOCALIDAD DE SUBA
B6: INSTRUCCIONES PARA LA IDENTIFICACIÓN, ANALISIS, EVALUACIÓN , ASIGNACIÓN Y TRATAMIENTO DE RIESGOS EN LA CONTRATACIÓN
B7: 1) Seleccione el tipo de calificación (Cualitativa ó Monetaria)
B8: 2) Seleccione la(s) etapas y los riesgos que aplican al objeto contractual
B9: 3) Asigne la probabilidad de ocurrencia del riesgo, de conformidad con la tabla de probabilidad
B10: 4) Asigne el impacto que generaría la materialización del riesgo, de conformidad con la tabla de impacto
B11: 5) Al realizar las anteriores actividades se obtendrá la calificación total y la valoración del riesgo (prioridad) , traslde al formato evaluación con controles, los que tengan un nivel de criticidad diferente a bajo.
B12: 6) Continúe en la hoja de evaluación de controles
B14: CALIFICACIÓN | H14: Cualitativa
B15: ETAPA | C15: Descripción (Que puede pasar y, cómo puede ocurrir) | H15: Consecuencias de la ocurrencia del evento | I15: Probabilidad de Ocurrencia | J15: Impacto | K15: Calificación Total | L15: Prioridad
A16: 1 | B16: PLANEACIÓN | C16: Inadecuada descripción del bien o servicio requerido | H16: Se publique proceso de contratación que induzca al error de los proponentes y que no satisfaga las necesidades de la Entidad | I16: 3 | J16: 3 | K16: =+I16+J16 -> 6 | L16: =IF(K16<=4,"BAJO",IF(K16=5,"MEDIO",IF(K16=6,"ALTO",IF(K16=7,"ALTO","EXTREMO")))) -> ALTO
A17: 2 | B17: PLANEACIÓN | C17: Inadecuada elaboración de estudios y diseños | H17: Se publique proceso de contratación que induzca al error de los proponentes y que no satisfaga las necesidades de la Entidad | I17: 1 | J17: 1 | K17: =+I17+J17 -> 2 | L17: =IF(K17<=4,"BAJO",IF(K17=5,"MEDIO",IF(K17=6,"ALTO",IF(K17=7,"ALTO","EXTREMO")))) -> BAJO
A18: 3 | B18: PLANEACIÓN | C18: Inadecuada escogencia de la modalidad de contratación | H18: El proceso contractual no se ajuste a la normativa y a las condiciones reales de la contratación requrida | I18: 2 | J18: 4 | K18: =+I18+J18 -> 6 | L18: =IF(K18<=4,"BAJO",IF(K18=5,"MEDIO",IF(K18=6,"ALTO",IF(K18=7,"ALTO","EXTREMO")))) -> ALTO
A19: 4 | B19: PLANEACIÓN | C19: Requisitos habilitantes inapropiados para el proceso de selección | H19: El proceso de selección de proponentes esté viciado | I19: 2 | J19: 3 | K19: =+I19+J19 -> 5 | L19: =IF(K19<=4,"BAJO",IF(K19=5,"MEDIO",IF(K19=6,"ALTO",IF(K19=7,"ALTO","EXTREMO")))) -> MEDIO
A20: 5 | B20: PLANEACIÓN | C20: Inadecuado análisis económico estimativo del valor del contrato | H20: Publicar un proceso no atractivo a los posibles oferentes o que induzca al desequilibrio económico del adjudicatario | I20: 4 | J20: 3 | K20: =+I20+J20 -> 7 | L20: =IF(K20<=4,"BAJO",IF(K20=5,"MEDIO",IF(K20=6,"ALTO",IF(K20=7,"ALTO","EXTREMO")))) -> ALTO
A21: 6 | B21: PLANEACIÓN | C21: Ausencia de fundamentación de la justificación y conveniencia de la contratación | H21: El proceso contractual no se ajuste a las necesidades reales de la Entidad | I21: 2 | J21: 3 | K21: =+I21+J21 -> 5 | L21: =IF(K21<=4,"BAJO",IF(K21=5,"MEDIO",IF(K21=6,"ALTO",IF(K21=7,"ALTO","EXTREMO")))) -> MEDIO
A22: 7 | B22: PLANEACIÓN | C22: Inadecuada identificación de las condiciones contractuales | H22: El proceso una vez adjudicado no cumpla con el objetivo para el cual fue creado | I22: 2 | J22: 3 | K22: =+I22+J22 -> 5 | L22: =IF(K22<=4,"BAJO",IF(K22=5,"MEDIO",IF(K22=6,"ALTO",IF(K22=7,"ALTO","EXTREMO")))) -> MEDIO
A23: 8 | B23: PLANEACIÓN | C23: Proyección de la propuesta económica por parte del proponente que sirve como fuente de construcción del presupuesto oficial con valores que superan la realidad del mercado | H23: El presupuesto del proceso se calcule con valores erroneos que induzcan a una sobrevaloración del presupuesto oficial del proceso de contratación | I23: 4 | J23: 3 | K23: =+I23+J23 -> 7 | L23: =IF(K23<=4,"BAJO",IF(K23=5,"MEDIO",IF(K23=6,"ALTO",IF(K23=7,"ALTO","EXTREMO")))) -> ALTO
A24: 9 | B24: SELECCIÓN | C24: No publicación de la documentación del proceso de selección en el SECOP | H24: Falta de claridad en el proceso lo que induce al error a los proponentes en la preparación de sus ofertas No se presenten proponentes interesados en el proceso con posibilidad de declaración de desierto | I24: 3 | J24: 4 | K24: =+I24+J24 -> 7 | L24: =IF(K24<=4,"BAJO",IF(K24=5,"MEDIO",IF(K24=6,"ALTO",IF(K24=7,"ALTO","EXTREMO")))) -> ALTO
A25: 10 | B25: SELECCIÓN | C25: Inadecuada evaluación de las ofertas y/o verificación de requisitos habilitantes | H25: proceso de evaluación errado que induzca a la mala selección del adjudicatario poniendo en riesgo el cumplimiento de las condiciones exigidas en el proceso y demanda de nulidad sobre la adjudicación | I25: 3 | J25: 3 | K25: =+I25+J25 -> 6 | L25: =IF(K25<=4,"BAJO",IF(K25=5,"MEDIO",IF(K25=6,"ALTO",IF(K25=7,"ALTO","EXTREMO")))) -> ALTO
A26: 11 | B26: CONTRATACIÓN | C26: Riesgo de que no se firme el contrato. | H26: Proyectos y recursos sin ejecución Necesidades insatisfechas en la Entidad lo que podría generar afectación en su cumplimiento misional | I26: 3 | J26: 4 | K26: =+I26+J26 -> 7 | L26: =IF(K26<=4,"BAJO",IF(K26=5,"MEDIO",IF(K26=6,"ALTO",IF(K26=7,"ALTO","EXTREMO")))) -> ALTO
A27: 12 | B27: CONTRATACIÓN | C27: Falta de constitución o constitución tardía de la garantía única. Aceptación de garantías que no se ajustan a lo contemplado en el contrato | H27: Detrimento para la entidad contratante por la imposibilidad de dar inicio a la ejecución del contrato o afectaciones legales, jurídicas, fiscales , penales sobre la entidad y los responsables del proceso | I27: 3 | J27: 4 | K27: =+I27+J27 -> 7 | L27: =IF(K27<=4,"BAJO",IF(K27=5,"MEDIO",IF(K27=6,"ALTO",IF(K27=7,"ALTO","EXTREMO")))) -> ALTO
... A37: 22 | B37: EJECUCIÓN | C37: Incumplimiento derivado del trámite de los permisos con autoridades civiles, ambientales, la obtención de los mismos, paz y salvos | H37: Afetcación sobre el cumplimiento de la planificaicón de las actividades del proyecto, generando retrasos en su ejecución y posibles sobrecostos. Necesidad de replanificar el plan de trabajo | I37: 2 | J37: 3 | K37: =+I37+J37 -> 5 | L37: =IF(K37<=4,"BAJO",IF(K37=5,"MEDIO",IF(K37=6,"ALTO",IF(K37=7,"ALTO","EXTREMO")))) -> MEDIO
B40: Probabilidad | C40: Catagoria | E40: Valoración | G40: Impacto | H40: Categoria | I40: Valoración
C41: Raro (puede ocurrir excepcionalmente) | E41: 1 | H41: Insignificante | I41: 1
C42: Improbable (puede ocurrir ocasionalmente) | E42: 2 | H42: Menor | I42: 2
C43: Posible (puede ocurrir en cualquier momento futuro) | E43: 3 | H43: Moderado | I43: 3
C44: Probable (probablemente va a ocurrir) | E44: 4 | H44: Mayor | I44: 4
C45: Casi cierto (ocurre en la mayoria de circunstancias) | E45: 5 | H45: Catastrófico | I45: 5
C47: Valoración del Riesgo
C48: Calificación Cualitativa | F48: Obstruye la ejecución del contrato de manera intrascendente. | G48: Dificulta la ejecución del contrato de manera baja, aplicando medidas mínimas se pueden lograr el objeto contractual | H48: Afecta la ejecución del contrato sin alterar el beneficio para las partes | I48: Obstruye la ejecución del contrato sustancialmente pero aun así permite la consecución del objeto contractual | K48: Perturba la ejecución del contrato de manera grave imposibilitando la consecución del objeto contractual.
C49: Calificación Monetaria | F49: Los sobrecostos no representan más del uno por ciento (1%) del valor del contrato. | G49: Los sobrecostos no representan más del cinco por ciento (5%) del valor del contrato. | H49: Genera un impacto sobre el valor del contrato entre el cinco (5%) y el quince por ciento (15%). | I49: Incrementa el valor del contrato entre el quince (15%) y el treinta por ciento (30%). | K49: Impacto sobre el valor del contrato en más del treinta por ciento (30%).
C50: Categoría | E50: Valoración | F50: Insignificante | G50: Menor | H50: Moderado | I50: Mayor | K50: Catastrófico
F51: 1 | G51: 2 | H51: 3 | I51: 4 | K51: 5
C52: Raro (puede ocurrir excepcionalmente) | E52: 1 | F52: 2 | G52: 3 | H52: 4 | I52: 5 | K52: 6
C53: Improbable (puede ocurrir ocasionalmente) | E53: 2 | F53: 3 | G53: 4 | H53: 5 | I53: 6 | K53: 7
C54: Posible (puede ocurrir en cualquier momento futuro) | E54: 3 | F54: 4 | G54: 5 | H54: 6 | I54: 7 | K54: 8
C55: Probable (probablemente va a ocurrir) | E55: 4 | F55: 5 | G55: 6 | H55: 7 | I55: 8 | K55: 9
C56: Casi cierto (ocurre en la mayoria de circunstancias) | E56: 5 | F56: 6 | G56: 7 | H56: 8 | I56: 9 | K56: 10
...

Sheet EVALUACION CON CONTROLES
E2: MATRIZ DE RIESGOS DE CONTRATACIÓN | Q2: Código: GCO-GCI-F164 Versión: 01 Vigencia: 16 diciembre de 2021 Caso HOLA: 206942
B6: =+EVALUACION!B5 -> Objeto Contractual: PRESTAR LOS SERVICIOS PARA REALIZAR ACCIONES DE FORTALECIMIENTO DE LA CULTURA, IDENTIDAD Y TERRITORIO DEL PUEBLO MUYSCA DE LA LOCALIDAD DE SUBA
B7: INSTRUCCIONES PARA LA IDENTIFICACIÓN, ANALISIS, EVALUACIÓN , ASIGNACIÓN Y TRATAMIENTO DE RIESGOS EN LA CONTRATACIÓN
B8: 1) Describa el tratamiento/controles a ser implementados
B9: 2) Teniendo en cuenta el tratamiento descrito, asigne la probabilidad de ocurrencia del riesgo, de conformidad con la tabla de probabilidad
B10: 3) Teniendo en cuenta el tratamiento descrito, asigne el impacto que generaría la materialización del riesgo, de conformidad con la tabla de impacto
B11: 4) Al realizar las anteriores actividades se obtendrá la calificación total y la valoración del riesgo (prioridad)
B12: 5) Diligencie la información de las démas columnas
B13: 7) Continúe en la hoja de asignación y tratamiento
B15: ETAPA | C15: Descripción (Que puede pasar y, cómo puede ocurrir) | G15: Tratamiento/Controles a ser implementados | I15: Probabilidad de Ocurrencia | J15: Impacto | K15: Calificación Total | L15: Prioridad | M15: ¿Afecta el equilibrio económico del contrato? | N15: Persona responsable por implementar el tratamiento | O15: Fecha estimada en que se inicia el tratamiento | P15: Fecha estimada en que se completa el tratamiento | Q15: ¿Cómo se realiza el monitoreo? | R15: Periodicidad ¿Cuándo?
A16: 1 | B16: =+EVALUACION!B16 -> PLANEACIÓN | C16: =+EVALUACION!C16 -> Inadecuada descripción del bien o servicio requerido | G16: La contratación y los documentos que la sustentan debe estar alineada con el Plan de Desarrollo Local, los procesos y PAA de la entidad y debe pasar por Comité de Contratación | I16: 1 | J16: 2 | K16: =+I16+J16 -> 3 | L16: =IF(K16<=4,"BAJO",IF(K16=5,"MEDIO",IF(K16=6,"ALTO",IF(K16=7,"ALTO","EXTREMO")))) -> BAJO | M16: SI | N16: Gestor de Proyecto | O16: Formulación | P16: Estructuración de documentos del proceso | Q16: Revisión documantl del proceso - Planeación y Contrataciópn y presentación de la información a Comité de Contratación | R16: Cada vez que se requiera
A17: 2 | B17: =EVALUACION!B17 -> PLANEACIÓN | C17: =+EVALUACION!C17 -> Inadecuada elaboración de estudios y diseños | G17: Secretaria de Gobierno ha establecido procesos y formatos que orientan la formulación de los procesos de contratación y es menester de los profesionales de Planeación acatar y cumplir estos procedimientos y revisiones por parte de Contratación, Planeación y Comité de Contratación | I17: 2 | J17: 2 | K17: =+I17+J17 -> 4 | L17: =IF(K17<=4,"BAJO",IF(K17=5,"MEDIO",IF(K17=6,"ALTO",IF(K17=7,"ALTO","EXTREMO")))) -> BAJO | M17: SI | N17: Gestor de Proyecto Oficina de Planeación | O17: Formulación | P17: Estructuración de documentos del proceso | Q17: Revisión documantl del proceso - Planeación y Contrataciópn y presentación de la información a Comité de Contratación | R17: Cada vez que se requiera
A18: 3 | B18: =EVALUACION!B18 -> PLANEACIÓN | C18: =+EVALUACION!C18 -> Inadecuada escogencia de la modalidad de contratación | G18: Secretaria de Gobierno ha establecido procesos y formatos que orientan la formulación de los procesos de contratación y es menester de los profesionales de Planeación acatar y cumplir estos procedimientos y revisiones por parte de Contratación, Planeación y Comité de Contratación | I18: 2 | J18: 2 | K18: =+I18+J18 -> 4 | L18: =IF(K18<=4,"BAJO",IF(K18=5,"MEDIO",IF(K18=6,"ALTO",IF(K18=7,"ALTO","EXTREMO")))) -> BAJO | M18: SI | N18: Gestor de Proyecto Oficina de Planeación Oficina de Contratación | O18: Formulación | P18: Estructuración de documentos del proceso | Q18: Revisión documantl del proceso - Planeación y Contrataciópn y presentación de la información a Comité de Contratación | R18: Cada vez que se requiera
A19: 4 | B19: =EVALUACION!B19 -> PLANEACIÓN | C19: =+EVALUACION!C19 -> Requisitos habilitantes inapropiados para el proceso de selección | G19: La definición de los requisitos habilitantes y demás requerinientos del proceso de contratación deben ser establecidos con base en la normativa, tomando como referncia la necesidad de la entidad y buscando referentes similares como puntos de comparación (de la entidad y de otras entidades) | I19: 2 | J19: 2 | K19: =+I19+J19 -> 4 | L19: =IF(K19<=4,"BAJO",IF(K19=5,"MEDIO",IF(K19=6,"ALTO",IF(K19=7,"ALTO","EXTREMO")))) -> BAJO | M19: SI | N19: Gestor de Proyecto Oficina de Planeación Oficina de Contratación | O19: Formulación | P19: Estructuración de documentos del proceso | Q19: Revisión documantl del proceso - Planeación y Contrataciópn y presentación de la información a Comité de Contratación | R19: Cada vez que se requiera
A20: 5 | B20: =EVALUACION!B20 -> PLANEACIÓN | C20: =+EVALUACION!C20 -> Inadecuado análisis económico estimativo del valor del contrato | G20: Secretaria de Gobierno ha establecido procesos y formatos que orientan la formulación de los procesos de contratación y es menester de los profesionales de Planeación acatar y cumplir estos procedimientos y revisiones por parte de Contratación, Planeación y Comité de Contratación | I20: 2 | J20: 2 | K20: =+I20+J20 -> 4 | L20: =IF(K20<=4,"BAJO",IF(K20=5,"MEDIO",IF(K20=6,"ALTO",IF(K20=7,"ALTO","EXTREMO")))) -> BAJO | M20: SI | N20: Gestor de Proyecto Oficina de Planeación | O20: Formulación | P20: Estructuración de documentos del proceso | Q20: Revisión documantl del proceso - Planeación y Contrataciópn y presentación de la información a Comité de Contratación | R20: Cada vez que se requiera
A21: 6 | B21: =+EVALUACION!B21 -> PLANEACIÓN | C21: =+EVALUACION!C21 -> Ausencia de fundamentación de la justificación y conveniencia de la contratación | G21: Secretaria de Gobierno ha establecido procesos y formatos que orientan la formulación de los procesos de contratación y es menester de los profesionales de Planeación acatar y cumplir estos procedimientos y revisiones por parte de Contratación, Planeación y Comité de Contratación | I21: 2 | J21: 2 | K21: =+I21+J21 -> 4 | L21: =IF(K21<=4,"BAJO",IF(K21=5,"MEDIO",IF(K21=6,"ALTO",IF(K21=7,"ALTO","EXTREMO")))) -> BAJO | M21: SI | N21: Gestor de Proyecto Oficina de Planeación Oficina de Contratación | O21: Formulación | P21: Estructuración de documentos del proceso | Q21: Revisión documantl del proceso - Planeación y Contrataciópn y presentación de la información a Comité de Contratación | R21: Cada vez que se requiera
A22: 7 | B22: =+EVALUACION!B22 -> PLANEACIÓN | C22: =+EVALUACION!C22 -> Inadecuada identificación de las condiciones contractuales | G22: El proceso de formulación de los procesos contractuales tienen diferentes etapas de formulación y revisiones, en donde se pueden evidenciar y corregir las fallas u omisiones cometidas en el proceso | I22: 2 | J22: 2 | K22: =+I22+J22 -> 4 | L22: =IF(K22<=4,"BAJO",IF(K22=5,"MEDIO",IF(K22=6,"ALTO",IF(K22=7,"ALTO","EXTREMO")))) -> BAJO | M22: SI | N22: Gestor de Proyecto Oficina de Planeación Oficina de Contratación | O22: Formulación | P22: Estructuración de documentos del proceso | Q22: Revisión documantl del proceso - Planeación y Contrataciópn y presentación de la información a Comité de Contratación | R22: Cada vez que se requiera
A23: 8 | B23: =+EVALUACION!B23 -> PLANEACIÓN | C23: =+EVALUACION!C23 -> Proyección de la propuesta económica por parte del proponente que sirve como fuente de construcción del presupuesto oficial con valores que superan la realidad del mercado | G23: Secretaria de Gobierno ha establecido procesos y formatos que orientan la formulación de los procesos de contratación y es menester de los profesionales de Planeación acatar y cumplir estos procedimientos y revisiones por parte de Contratación, Planeación y Comité de Contratación. De ahí que la definición del estudio del sector y estudio de mercados con análisis de precios unittarios son fundamentales en el proceso | I23: 3 | J23: 2 | K23: =+I23+J23 -> 5 | L23: =IF(K23<=4,"BAJO",IF(K23=5,"MEDIO",IF(K23=6,"ALTO",IF(K23=7,"ALTO","EXTREMO")))) -> MEDIO | M23: SI | N23: Gestor de Proyecto Oficina de Planeación Oficina de Contratación | O23: Formulación | P23: Estructuración de documentos del proceso | Q23: Revisión documantal del proceso - Planeación y Contrataciópn y presentación de la información a Comité de Contratación | R23: Cada vez que se requiera
A24: 9 | B24: =+EVALUACION!B24 -> SELECCIÓN | C24: =+EVALUACION!C24 -> No publicación de la documentación del proceso de selección en el SECOP | G24: Secretaria de Gobierno ha establecido procesos y formatos que orientan el paso a paso del proceso de contratación. Así mismo el proceso de contratación está planificado de tal manera que hayan diferentes actores participando y se evidencie la completitud de los pasos para seguir en el proceso. así mismo, la plataforma SECOP ha definido manuales de usuario que orientan la forma en que se gestiona la información en la herramienta. | I24: 2 | J24: 3 | K24: =+I24+J24 -> 5 | L24: =IF(K24<=4,"BAJO",IF(K24=5,"MEDIO",IF(K24=6,"ALTO",IF(K24=7,"ALTO","EXTREMO")))) -> MEDIO | M24: SI | N24: Gestor de Proyecto Oficina de Planeación Oficina de Contratación | O24: En cada de proceso de contratación | P24: Apertura y desarrollo del proceso de contratación en la plataforma SECOP | Q24: Revisión y seguimiento por parte de Abogado designado y Coordinador de Contratación | R24: Cada vez que se requiera
A25: 10 | B25: =+EVALUACION!B25 -> SELECCIÓN | C25: =EVALUACION!C25 -> Inadecuada evaluación de las ofertas y/o verificación de requisitos habilitantes | G25: Análisis cuidadoso y soportado en evidencias de cada una de las ofertas presentadas por los proponentes al momento de evaluar las propuestas del proceso con apego total a lo establecido en documento de Pliego de condiciones / documentos precontractuales | I25: 2 | J25: 3 | K25: =+I25+J25 -> 5 | L25: =IF(K25<=4,"BAJO",IF(K25=5,"MEDIO",IF(K25=6,"ALTO",IF(K25=7,"ALTO","EXTREMO")))) -> MEDIO | M25: NO | N25: Gestor de Proyecto Oficina de Planeación Oficina de Contratación | O25: En cada de proceso de contratación | P25: Apertura y desarrollo del proceso de contratación en la plataforma SECOP | Q25: Evaluación de las ofertas llaegadas con los soportes por parte de Comité Evaluador | R25: Cada vez que se evalue un proceso de contratación
A26: 11 | B26: =+EVALUACION!B26 -> CONTRATACIÓN | C26: =+EVALUACION!C26 -> Riesgo de que no se firme el contrato. | G26: Seguimiento permanente al proceso y los resultados. Contacto inmediato con contratista adjudicatario | I26: 1 | J26: 3 | K26: =+I26+J26 -> 4 | L26: =IF(K26<=4,"BAJO",IF(K26=5,"MEDIO",IF(K26=6,"ALTO",IF(K26=7,"ALTO","EXTREMO")))) -> BAJO | M26: NO | N26: Contratación Area dueña del proceso | O26: Posterior a la adjudicación del proceso | P26: Posterior a la adjudicación del proceso | Q26: Seguimiento al cronograma establecido en el proceso y puesta en marcha | R26: Cada contratación
A27: 12 | B27: =+EVALUACION!B27 -> CONTRATACIÓN | C27: =+EVALUACION!C27 -> Falta de constitución o constitución tardía de la garantía única. Aceptación de garantías que no se ajustan a lo contemplado en el contrato | G27: Seguimiento permanente al proceso y los resultados. Contacto inmediato con contratista adjudicatario | I27: 1 | J27: 3 | K27: =+I27+J27 -> 4 | L27: =IF(K27<=4,"BAJO",IF(K27=5,"MEDIO",IF(K27=6,"ALTO",IF(K27=7,"ALTO","EXTREMO")))) -> BAJO | M27: SI | N27: Contratación Area dueña del proceso | O27: Posterior a la adjudicación del proceso | P27: Posterior a la adjudicación del proceso | Q27: Seguimiento al cronograma establecido en el proceso y puesta en marcha | R27: Cada contratación
A28: 13 | B28: =+EVALUACION!B28 -> CONTRATACIÓN | C28: =+EVALUACION!C28 -> Celebración de contratos sin el lleno de los requisitos legales. | G28: Secretaria de Gobierno ha establecido procesos y formatos que orientan el paso a paso del proceso de contratación. Así mismo el proceso de contratación está planificado de tal manera que hayan diferentes actores participando y se evidencie la completitud de los pasos para seguir en el proceso. así mismo, la plataforma SECOP ha definido manuales de usuario que orientan la forma en que se gestiona la inforamción en la herramienta. | I28: 2 | J28: 2 | K28: =+I28+J28 -> 4 | L28: =IF(K28<=4,"BAJO",IF(K28=5,"MEDIO",IF(K28=6,"ALTO",IF(K28=7,"ALTO","EXTREMO")))) -> BAJO | M28: SI | N28: Contratación | O28: Definicion del proceso de contratación y ejecucioónd e las etapas recontractuales y contractuales | P28: inicia la ejecución dcl contrato | Q28: Revisión y seguimiento por parte de Abogado designado y Coordinador de Contratación | R28: Cada contratación
A29: 14 | B29: =+EVALUACION!B29 -> CONTRATACIÓN | C29: =+EVALUACION!C29 -> Falta de solicitud o solicitud tardía del registro presupuestal | G29: Seguimiento permanente al proceso contratcual y poscontractual al interior de la Entidad | I29: 1 | J29: =+EVALUACION!J29 -> 3 | K29: =+I29+J29 -> 4 | L29: =IF(K29<=4,"BAJO",IF(K29=5,"MEDIO",IF(K29=6,"ALTO",IF(K29=7,"ALTO","EXTREMO")))) -> BAJO | M29: SI | N29: Contratación Area dueña del proceso Presupuesto | O29: Posterior a la adjudicación del proceso | P29: A la suscripción de acta de inicio | Q29: Seguimiento al cronograma establecido en el proceso y puesta en marcha | R29: Cada contratación
A30: 15 | B30: =+EVALUACION!B30 -> EJECUCIÓN | C30: =+EVALUACION!C30 -> Variación en la disponibilidad o en el costo de los insumos necesarios para prestar los servicios. | G30: Solicitud de compromiso del Contratista Adjudicatario de mantener las condiciones pactadas en cantidad, calidad y especificaciones. Ejecutar el contrato en los tiempos previstos | I30: =+EVALUACION!I30 -> 2 | J30: 2 | K30: =+I30+J30 -> 4 | L30: =IF(K30<=4,"BAJO",IF(K30=5,"MEDIO",IF(K30=6,"ALTO",IF(K30=7,"ALTO","EXTREMO")))) -> BAJO | M30: SI | N30: Gestor de Proyecto / Apoyo a la Supervisión / Comité Técnico de Seguimiento | O30: Al inicio del proceso y en Comités de Seguimiento | P30: Permanentemente | Q30: Solicitud de información al contratista y Comité Técnico de Seguimiento | R30: permanente en la ejecución contractual
A31: 16 | B31: =+EVALUACION!B31 -> EJECUCIÓN | C31: =+EVALUACION!C31 -> Factores políticos, de orden público o macroeconómicos. | G31: Monitoreo permanente de la situación y contexto del país, ciudad, localidad en aspectos sociales, políticos, económicos de acuerdo con las actividades previstas en el contrato, gestionando su ejecución en el momento en que las condiciones seam las mas adecuadas | I31: 2 | J31: 2 | K31: =+I31+J31 -> 4 | L31: =IF(K31<=4,"BAJO",IF(K31=5,"MEDIO",IF(K31=6,"ALTO",IF(K31=7,"ALTO","EXTREMO")))) -> BAJO | M31: SI | N31: Gestor de Proyecto / Apoyo a la Supervisión / Comité Técnico de Seguimiento | O31: Al inicio del proceso y en Comités de Seguimiento | P31: Permanentemente | Q31: Solicitud de información al contratista y Comité Técnico de Seguimiento | R31: permanente en la ejecución contractual
A32: 17 | B32: =+EVALUACION!B32 -> EJECUCIÓN | C32: =EVALUACION!C32 -> Incumplimiento de compromisos adquiridos por el contratista seleccionado con sus subcontratistas, suministradores de bienes y servicios. | G32: Solicitud de compromiso del Contratista Adjudicatario de mantener las condiciones pactadas en cantidad, calidad y especificaciones. Ejecutar el contrato en los tiempos previstos | I32: 2 | J32: 2 | K32: =+I32+J32 -> 4 | L32: =IF(K32<=4,"BAJO",IF(K32=5,"MEDIO",IF(K32=6,"ALTO",IF(K32=7,"ALTO","EXTREMO")))) -> BAJO | M32: SI | N32: Gestor de Proyecto / Apoyo a la Supervisión / Comité Técnico de Seguimiento | O32: Al inicio del proceso y en Comités de Seguimiento | P32: Permanentemente | Q32: Solicitud de información al contratista y Comité Técnico de Seguimiento | R32: permanente en la ejecución contractual
A33: 18 | B33: =+EVALUACION!B33 -> EJECUCIÓN | C33: =+EVALUACION!C33 -> Defecto en la instalación de equipos utilizados en el desarrollo de las actividades | G33: Realización de pruebas técnicas con los equipos previo a su uso. | I33: 2 | J33: 1 | K33: =+I33+J33 -> 3 | L33: =IF(K33<=4,"BAJO",IF(K33=5,"MEDIO",IF(K33=6,"ALTO",IF(K33=7,"ALTO","EXTREMO")))) -> BAJO | M33: NO | N33: Gestor de Proyecto / Apoyo a la Supervisión / Comité Técnico de Seguimiento | O33: En cada instalacion | P33: Al cierre del contrato | Q33: Verificación de cumplimiento de entregas / especificaciones | R33: permanente en la ejecución contractual
A34: 19 | B34: =+EVALUACION!B34 -> EJECUCIÓN | C34: =+EVALUACION!C34 -> Oposición por parte de la comunidad comunidad de la Localidad para el desarrollo de las actividades previstas en el proyecto | G34: Desarrollo de ejercicios de socialización del proyecto y convocatoria abierta a la comunidad de acuerdo con las especificaciones dadas en el proceso de formulación | I34: 2 | J34: =+EVALUACION!J34 -> 2 | K34: =+I34+J34 -> 4 | L34: =IF(K34<=4,"BAJO",IF(K34=5,"MEDIO",IF(K34=6,"ALTO",IF(K34=7,"ALTO","EXTREMO")))) -> BAJO | M34: NO | N34: Gestor de Proyecto / Apoyo a la Supervisión / Comité Técnico de Seguimiento | O34: En la planificación de ejecución de cada intervención / actividad | P34: Al cierre del contrato | Q34: Verificación de cumplimiento de entregas / especificaciones | R34: permanente en la ejecución contractual
A35: 20 | B35: =+EVALUACION!B35 -> EJECUCIÓN | C35: =+EVALUACION!C35 -> Eventos naturales tales como lluvias, inundaciones y sequias entre otros | G35: Monitoreo permanente de la situación climática y condiciones naturales, de tal manea que se puedan planificar las actividades en periodos de mayor estabilidad o condiciones favorables | I35: 2 | J35: =+EVALUACION!J35 -> 2 | K35: =+I35+J35 -> 4 | L35: =IF(K35<=4,"BAJO",IF(K35=5,"MEDIO",IF(K35=6,"ALTO",IF(K35=7,"ALTO","EXTREMO")))) -> BAJO | M35: SI | N35: Gestor de Proyecto / Apoyo a la Supervisión / Comité Técnico de Seguimiento | O35: Cada planificación y ejecución de las actividades del contrato | P35: Al cierre del contrato | Q35: Verificación de cronograma y ejecucción de hitos del proyecto | R35: permanente en la ejecución contractual
A36: 21 | B36: =+EVALUACION!B36 -> EJECUCIÓN | C36: =+EVALUACION!C36 -> No afluencia de público de acuerdo con el aforo esperado | G36: Diseñar y ejecutar u na estrategia de comunicación y difusión de los eventos a través de medios y canales institucionales, comunitarios y con las instancias de participación de la Localidad | I36: 2 | J36: 2 | K36: =+I36+J36 -> 4 | L36: =IF(K36<=4,"BAJO",IF(K36=5,"MEDIO",IF(K36=6,"ALTO",IF(K36=7,"ALTO","EXTREMO")))) -> BAJO | M36: SI | N36: Gestor de Proyecto / Apoyo a la Supervisión / Comité Técnico de Seguimiento | O36: Cada planificación y ejecución de las actividades del contrato | P36: Al cierre del contrato | Q36: Verificación de cronograma y ejecucción de hitos del proyecto | R36: permanente en la ejecución contractual
A37: 22 | B37: =+EVALUACION!B37 -> EJECUCIÓN | C37: =+EVALUACION!C37 -> Incumplimiento derivado del trámite de los permisos con autoridades civiles, ambientales, la obtención de los mismos, paz y salvos | G37: Monitoreo permanente del cumplimiento de las actividades y las actividades precedentes para asegurar el cumplimiento y normal desarrollo de las mismas | I37: =+EVALUACION!I37 -> 2 | J37: 2 | K37: =+I37+J37 -> 4 | L37: =IF(K37<=4,"BAJO",IF(K37=5,"MEDIO",IF(K37=6,"ALTO",IF(K37=7,"ALTO","EXTREMO")))) -> BAJO | M37: SI | N37: Gestor de Proyecto / Apoyo a la Supervisión / Comité Técnico de Seguimiento | O37: Cada planificación y ejecución de las actividades del contrato | P37: Al cierre del contrato | Q37: Verificación de cronograma y ejecucción de hitos del proyecto | R37: permanente en la ejecución contractual
C39: Categoria del Riesgo | H39: Impacto del Riesgo
B40: Probabilidad | C40: Catagoria | F40: Valoración | H40: Categoria | J40: Valoración | N40: Categoria del Riesgo
C41: Raro (puede ocurrir excepcionalmente) | F41: 1 | H41: Insignificante | J41: 1 | N41: Valoración del Riesgo | P41: Categoría
C42: Improbable (puede ocurrir ocasionalmente) | F42: 2 | H42: Menor | J42: 2 | N42: 8, 9 y 10 | P42: Riesgo extremo
C43: Posible (puede ocurrir en cualquier momento futuro) | F43: 3 | H43: Moderado | J43: 3 | N43: 6 y 7 | P43: Riesgo alto
C44: Probable (probablemente va a ocurrir) | F44: 4 | H44: Mayor | J44: 4 | N44: 5 | P44: Riesgo medio
C45: Casi cierto (ocurre en la mayoria de circunstancias) | F45: 5 | H45: Catastrófico | J45: 5 | N45: 2, 3 y 4 | P45: Riesgo bajo
C47: Valoración del Riesgo
...

Sheet ASIGNACION Y TRATAMIENTO
D2: MATRIZ DE RIESGOS DE CONTRATACIÓN | W2: Código: GCO-GCI-F164 Versión: 01 Vigencia: 16 diciembre de 2021 Caso HOLA: 206942
B6: =+EVALUACION!B5 -> Objeto Contractual: PRESTAR LOS SERVICIOS PARA REALIZAR ACCIONES DE FORTALECIMIENTO DE LA CULTURA, IDENTIDAD Y TERRITORIO DEL PUEBLO MUYSCA DE LA LOCALIDAD DE SUBA
B7: IDENTIFICACIÓN, ANALISIS, EVALUACIÓN , ASIGNACIÓN Y TRATAMIENTO DE RIESGOS EN LA CONTRATACIÓN
B8: Esta matriz es un documento anexo del Estudio Previo
B10: No | C10: Descripción (Que puede pasar y, cómo puede ocurrir) | D10: Etapa | E10: Clase | F10: Fuente | G10: Consecuencias de la ocurrencia del evento | H10: Probabilidad | I10: Impacto | J10: Calificación total | K10: Prioridad | L10: ¿A quien se le asigna? | M10: % | N10: Tratamiento/Controles a ser implementados | O10: Probabilidad | P10: Impacto | Q10: Calificación total | R10: Prioridad | S10: ¿Afecta el equilibrio económico del contrato? | T10: Persona responsable por implementar el tratamiento | U10: Fecha estimada en que se inicia el tratamiento | V10: Fecha estimada en que se completa el tratamiento | W10: ¿Cómo se realiza el monitoreo | X10: Periodicidad ¿Cuándo?
B11: 1 | C11: =EVALUACION!C16 -> Inadecuada descripción del bien o servicio requerido | D11: =+'EVALUACION CON CONTROLES'!B16 -> PLANEACIÓN | E11: General | F11: Interno | G11: =+EVALUACION!H16 -> Se publique proceso de contratación que induzca al error de los proponentes y que no satisfaga las necesidades de la Entidad | H11: =+EVALUACION!I16 -> 3 | I11: =+EVALUACION!J16 -> 3 | J11: =+EVALUACION!K16 -> 6 | K11: =+EVALUACION!L16 -> ALTO | L11: SDG | M11: 1 | N11: =+'EVALUACION CON CONTROLES'!G16 -> La contratación y los documentos que la sustentan debe estar alineada con el Plan de Desarrollo Local, los procesos y PAA de la entidad y debe pasar por Comité de Contratación | O11: =+'EVALUACION CON CONTROLES'!I16 -> 1 | P11: =+'EVALUACION CON CONTROLES'!J16 -> 2 | Q11: =+'EVALUACION CON CONTROLES'!K16 -> 3 | R11: =+'EVALUACION CON CONTROLES'!L16 -> BAJO | S11: =+'EVALUACION CON CONTROLES'!M16 -> SI | T11: =+'EVALUACION CON CONTROLES'!N16 -> Gestor de Proyecto | U11: =+'EVALUACION CON CONTROLES'!O16 -> Formulación | V11: =+'EVALUACION CON CONTROLES'!P16 -> Estructuración de documentos del proceso | ... X11: =+'EVALUACION CON CONTROLES'!R16 -> Cada vez que se requiera
B12: 2 | C12: =EVALUACION!C17 -> Inadecuada elaboración de estudios y diseños | D12: =+'EVALUACION CON CONTROLES'!B17 -> PLANEACIÓN | E12: =VLOOKUP(C15,'IDENTIFICACION Y ANALISIS'!$B$21:$F$76,3,FALSE) -> General | F12: Interno | G12: =+EVALUACION!H17 -> Se publique proceso de contratación que induzca al error de los proponentes y que no satisfaga las necesidades de la Entidad | H12: =+EVALUACION!I17 -> 1 | I12: =+EVALUACION!J17 -> 1 | J12: =+EVALUACION!K17 -> 2 | K12: =+EVALUACION!L17 -> BAJO | L12: SDG | M12: 1 | N12: =+'EVALUACION CON CONTROLES'!G17 -> Secretaria de Gobierno ha establecido procesos y formatos que orientan la formulación de los procesos de contratación y es menester de los profesionales de Planeación acatar y cumplir estos procedimientos y revisiones por parte de Contratación, Planeación y Comité de Contratación | O12: =+'EVALUACION CON CONTROLES'!I17 -> 2 | P12: =+'EVALUACION CON CONTROLES'!J17 -> 2 | Q12: =+'EVALUACION CON CONTROLES'!K17 -> 4 | R12: =+'EVALUACION CON CONTROLES'!L17 -> BAJO | S12: =+'EVALUACION CON CONTROLES'!M17 -> SI | T12: =+'EVALUACION CON CONTROLES'!N17 -> Gestor de Proyecto Oficina de Planeación | U12: =+'EVALUACION CON CONTROLES'!O17 -> Formulación | V12: =+'EVALUACION CON CONTROLES'!P17 -> Estructuración de documentos del proceso | ... X12: =+'EVALUACION CON CONTROLES'!R17 -> Cada vez que se requiera
B13: 3 | C13: =EVALUACION!C18 -> Inadecuada escogencia de la modalidad de contratación | D13: =+'EVALUACION CON CONTROLES'!B18 -> PLANEACIÓN | E13: =VLOOKUP(C16,'IDENTIFICACION Y ANALISIS'!$B$21:$F$76,3,FALSE) -> General | F13: =VLOOKUP(C16,'IDENTIFICACION Y ANALISIS'!$B$21:$F$76,4,FALSE) -> Interno | G13: =+EVALUACION!H18 -> El proceso contractual no se ajuste a la normativa y a las condiciones reales de la contratación requrida | H13: =+EVALUACION!I18 -> 2 | I13: =+EVALUACION!J18 -> 4 | J13: =+EVALUACION!K18 -> 6 | K13: =+EVALUACION!L18 -> ALTO | L13: SDG | M13: 1 | N13: =+'EVALUACION CON CONTROLES'!G18 -> Secretaria de Gobierno ha establecido procesos y formatos que orientan la formulación de los procesos de contratación y es menester de los profesionales de Planeación acatar y cumplir estos procedimientos y revisiones por parte de Contratación, Planeación y Comité de Contratación | O13: =+'EVALUACION CON CONTROLES'!I18 -> 2 | P13: =+'EVALUACION CON CONTROLES'!J18 -> 2 | Q13: =+'EVALUACION CON CONTROLES'!K18 -> 4 | R13: =+'EVALUACION CON CONTROLES'!L18 -> BAJO | S13: =+'EVALUACION CON CONTROLES'!M18 -> SI | T13: =+'EVALUACION CON CONTROLES'!N18 -> Gestor de Proyecto Oficina de Planeación Oficina de Contratación | U13: =+'EVALUACION CON CONTROLES'!O18 -> Formulación | V13: =+'EVALUACION CON CONTROLES'!P18 -> Estructuración de documentos del proceso | ... X13: =+'EVALUACION CON CONTROLES'!R18 -> Cada vez que se requiera
B14: 4 | C14: =EVALUACION!C19 -> Requisitos habilitantes inapropiados para el proceso de selección | D14: =+'EVALUACION CON CONTROLES'!B19 -> PLANEACIÓN | E14: =VLOOKUP(C17,'IDENTIFICACION Y ANALISIS'!$B$21:$F$76,3,FALSE) -> General | F14: =VLOOKUP(C17,'IDENTIFICACION Y ANALISIS'!$B$21:$F$76,4,FALSE) -> Interno | G14: =+EVALUACION!H19 -> El proceso de selección de proponentes esté viciado | H14: =+EVALUACION!I19 -> 2 | I14: =+EVALUACION!J19 -> 3 | J14: =+EVALUACION!K19 -> 5 | K14: =+EVALUACION!L19 -> MEDIO | L14: SDG | M14: 1 | N14: =+'EVALUACION CON CONTROLES'!G19 -> La definición de los requisitos habilitantes y demás requerinientos del proceso de contratación deben ser establecidos con base en la normativa, tomando como referncia la necesidad de la entidad y buscando referentes similares como puntos de comparación (de la entidad y de otras entidades) | O14: =+'EVALUACION CON CONTROLES'!I19 -> 2 | P14: =+'EVALUACION CON CONTROLES'!J19 -> 2 | Q14: =+'EVALUACION CON CONTROLES'!K19 -> 4 | R14: =+'EVALUACION CON CONTROLES'!L19 -> BAJO | S14: =+'EVALUACION CON CONTROLES'!M19 -> SI | T14: =+'EVALUACION CON CONTROLES'!N19 -> Gestor de Proyecto Oficina de Planeación Oficina de Contratación | U14: =+'EVALUACION CON CONTROLES'!O19 -> Formulación | V14: =+'EVALUACION CON CONTROLES'!P19 -> Estructuración de documentos del proceso | ... X14: =+'EVALUACION CON CONTROLES'!R19 -> Cada vez que se requiera
B15: 5 | C15: =EVALUACION!C20 -> Inadecuado análisis económico estimativo del valor del contrato | D15: =+'EVALUACION CON CONTROLES'!B20 -> PLANEACIÓN | E15: =VLOOKUP(C18,'IDENTIFICACION Y ANALISIS'!$B$20:$F$76,3,FALSE) -> General | F15: Interno | G15: =+EVALUACION!H20 -> Publicar un proceso no atractivo a los posibles oferentes o que induzca al desequilibrio económico del adjudicatario | H15: =+EVALUACION!I20 -> 4 | I15: =+EVALUACION!J20 -> 3 | J15: =+EVALUACION!K20 -> 7 | K15: =+EVALUACION!L20 -> ALTO | L15: SDG | M15: 1 | N15: =+'EVALUACION CON CONTROLES'!G20 -> Secretaria de Gobierno ha establecido procesos y formatos que orientan la formulación de los procesos de contratación y es menester de los profesionales de Planeación acatar y cumplir estos procedimientos y revisiones por parte de Contratación, Planeación y Comité de Contratación | O15: =+'EVALUACION CON CONTROLES'!I20 -> 2 | P15: =+'EVALUACION CON CONTROLES'!J20 -> 2 | Q15: =+'EVALUACION CON CONTROLES'!K20 -> 4 | R15: =+'EVALUACION CON CONTROLES'!L20 -> BAJO | S15: =+'EVALUACION CON CONTROLES'!M20 -> SI | T15: =+'EVALUACION CON CONTROLES'!N20 -> Gestor de Proyecto Oficina de Planeación | U15: =+'EVALUACION CON CONTROLES'!O20 -> Formulación | V15: =+'EVALUACION CON CONTROLES'!P20 -> Estructuración de documentos del proceso | ... X15: =+'EVALUACION CON CONTROLES'!R20 -> Cada vez que se requiera
B16: 8 | C16: =EVALUACION!C21 -> Ausencia de fundamentación de la justificación y conveniencia de la contratación | D16: =+'EVALUACION CON CONTROLES'!B21 -> PLANEACIÓN | E16: General | F16: Interno | G16: =+EVALUACION!H21 -> El proceso contractual no se ajuste a las necesidades reales de la Entidad | H16: =+EVALUACION!I21 -> 2 | I16: =+EVALUACION!J21 -> 3 | J16: =+EVALUACION!K21 -> 5 | K16: =+EVALUACION!L21 -> MEDIO | L16: SDG | M16: 1 | N16: =+'EVALUACION CON CONTROLES'!G21 -> Secretaria de Gobierno ha establecido procesos y formatos que orientan la formulación de los procesos de contratación y es menester de los profesionales de Planeación acatar y cumplir estos procedimientos y revisiones por parte de Contratación, Planeación y Comité de Contratación | O16: =+'EVALUACION CON CONTROLES'!I21 -> 2 | P16: =+'EVALUACION CON CONTROLES'!J21 -> 2 | Q16: =+'EVALUACION CON CONTROLES'!K21 -> 4 | R16: =+'EVALUACION CON CONTROLES'!L21 -> BAJO | S16: =+'EVALUACION CON CONTROLES'!M21 -> SI | T16: =+'EVALUACION CON CONTROLES'!N21 -> Gestor de Proyecto Oficina de Planeación Oficina de Contratación | U16: =+'EVALUACION CON CONTROLES'!O21 -> Formulación | V16: =+'EVALUACION CON CONTROLES'!P21 -> Estructuración de documentos del proceso | ... X16: =+'EVALUACION CON CONTROLES'!R21 -> Cada vez que se requiera
B17: 9 | C17: =EVALUACION!C22 -> Inadecuada identificación de las condiciones contractuales | D17: =+'EVALUACION CON CONTROLES'!B22 -> PLANEACIÓN | E17: General | F17: Interno | G17: =+EVALUACION!H22 -> El proceso una vez adjudicado no cumpla con el objetivo para el cual fue creado | H17: =+EVALUACION!I22 -> 2 | I17: =+EVALUACION!J22 -> 3 | J17: =+EVALUACION!K22 -> 5 | K17: =+EVALUACION!L22 -> MEDIO | L17: SDG | M17: 1 | N17: =+'EVALUACION CON CONTROLES'!G22 -> El proceso de formulación de los procesos contractuales tienen diferentes etapas de formulación y revisiones, en donde se pueden evidenciar y corregir las fallas u omisiones cometidas en el proceso | O17: =+'EVALUACION CON CONTROLES'!I22 -> 2 | P17: =+'EVALUACION CON CONTROLES'!J22 -> 2 | Q17: =+'EVALUACION CON CONTROLES'!K22 -> 4 | R17: =+'EVALUACION CON CONTROLES'!L22 -> BAJO | S17: =+'EVALUACION CON CONTROLES'!M22 -> SI | T17: =+'EVALUACION CON CONTROLES'!N22 -> Gestor de Proyecto Oficina de Planeación Oficina de Contratación | U17: =+'EVALUACION CON CONTROLES'!O22 -> Formulación | V17: =+'EVALUACION CON CONTROLES'!P22 -> Estructuración de documentos del proceso | ... X17: =+'EVALUACION CON CONTROLES'!R22 -> Cada vez que se requiera
B18: 10 | C18: =EVALUACION!C23 -> Proyección de la propuesta económica por parte del proponente que sirve como fuente de construcción del presupuesto oficial con valores que superan la realidad del mercado | D18: =+'EVALUACION CON CONTROLES'!B23 -> PLANEACIÓN | E18: General | F18: Externo | G18: =+EVALUACION!H23 -> El presupuesto del proceso se calcule con valores erroneos que induzcan a una sobrevaloración del presupuesto oficial del proceso de contratación | H18: =+EVALUACION!I23 -> 4 | I18: =+EVALUACION!J23 -> 3 | J18: =+EVALUACION!K23 -> 7 | K18: =+EVALUACION!L23 -> ALTO | L18: CONTRATISTA | M18: 1 | N18: =+'EVALUACION CON CONTROLES'!G23 -> Secretaria de Gobierno ha establecido procesos y formatos que orientan la formulación de los procesos de contratación y es menester de los profesionales de Planeación acatar y cumplir estos procedimientos y revisiones por parte de Contratación, Planeación y Comité de Contratación. De ahí que la definición del estudio del sector y estudio de mercados con análisis de precios unittarios son fundamentales en el proceso | O18: =+'EVALUACION CON CONTROLES'!I23 -> 3 | P18: =+'EVALUACION CON CONTROLES'!J23 -> 2 | Q18: =+'EVALUACION CON CONTROLES'!K23 -> 5 | R18: =+'EVALUACION CON CONTROLES'!L23 -> MEDIO | S18: =+'EVALUACION CON CONTROLES'!M23 -> SI | T18: Gestor de Proyecto Oficina de Planeación | U18: =+'EVALUACION CON CONTROLES'!O23 -> Formulación | V18: =+'EVALUACION CON CONTROLES'!P23 -> Estructuración de documentos del proceso | W18: =+'EVALUACION CON CONTROLES'!Q23 -> Revisión documantal del proceso - Planeación y Contrataciópn y presentación de la información a Comité de Contratación | X18: =+'EVALUACION CON CONTROLES'!R23 -> Cada vez que se requiera
B19: 11 | C19: =EVALUACION!C24 -> No publicación de la documentación del proceso de selección en el SECOP | D19: =+'EVALUACION CON CONTROLES'!B24 -> SELECCIÓN | E19: =VLOOKUP(C20,'IDENTIFICACION Y ANALISIS'!$B$21:$F$76,3,FALSE) -> Especifico | F19: =VLOOKUP(C20,'IDENTIFICACION Y ANALISIS'!$B$21:$F$76,4,FALSE) -> Interno | G19: =+EVALUACION!H24 -> Falta de claridad en el proceso lo que induce al error a los proponentes en la preparación de sus ofertas No se presenten proponentes interesados en el proceso con posibilidad de declaración de desierto | H19: =+EVALUACION!I24 -> 3 | I19: =+EVALUACION!J24 -> 4 | J19: =+EVALUACION!K24 -> 7 | K19: =+EVALUACION!L24 -> ALTO | L19: SDG | M19: 1 | N19: =+'EVALUACION CON CONTROLES'!G24 -> Secretaria de Gobierno ha establecido procesos y formatos que orientan el paso a paso del proceso de contratación. Así mismo el proceso de contratación está planificado de tal manera que hayan diferentes actores participando y se evidencie la completitud de los pasos para seguir en el proceso. así mismo, la plataforma SECOP ha definido manuales de usuario que orientan la forma en que se gestiona la información en la herramienta. | O19: =+'EVALUACION CON CONTROLES'!I24 -> 2 | P19: =+'EVALUACION CON CONTROLES'!J24 -> 3 | Q19: =+'EVALUACION CON CONTROLES'!K24 -> 5 | R19: =+'EVALUACION CON CONTROLES'!L24 -> MEDIO | S19: =+'EVALUACION CON CONTROLES'!M24 -> SI | T19: =+'EVALUACION CON CONTROLES'!N24 -> Gestor de Proyecto Oficina de Planeación Oficina de Contratación | U19: =+'EVALUACION CON CONTROLES'!O24 -> En cada de proceso de contratación | V19: =+'EVALUACION CON CONTROLES'!P24 -> Apertura y desarrollo del proceso de contratación en la plataforma SECOP | ... X19: =+'EVALUACION CON CONTROLES'!R24 -> Cada vez que se requiera
B20: 12 | C20: =EVALUACION!C26 -> Riesgo de que no se firme el contrato. | D20: =+'EVALUACION CON CONTROLES'!B26 -> CONTRATACIÓN | E20: =VLOOKUP(C24,'IDENTIFICACION Y ANALISIS'!$B$21:$F$76,3,FALSE) -> General | F20: Externo | G20: =+EVALUACION!H26 -> Proyectos y recursos sin ejecución Necesidades insatisfechas en la Entidad lo que podría generar afectación en su cumplimiento misional | H20: =+EVALUACION!I26 -> 3 | I20: =+EVALUACION!J26 -> 4 | J20: =+EVALUACION!K26 -> 7 | K20: =+EVALUACION!L26 -> ALTO | L20: CONTRATISTA | M20: 1 | N20: =+'EVALUACION CON CONTROLES'!G26 -> Seguimiento permanente al proceso y los resultados. Contacto inmediato con contratista adjudicatario | O20: =+'EVALUACION CON CONTROLES'!I26 -> 1 | P20: =+'EVALUACION CON CONTROLES'!J26 -> 3 | Q20: =+'EVALUACION CON CONTROLES'!K26 -> 4 | R20: =+'EVALUACION CON CONTROLES'!L26 -> BAJO | S20: =+'EVALUACION CON CONTROLES'!M26 -> NO | T20: Contratación Area dueña del proceso | U20: =+'EVALUACION CON CONTROLES'!O26 -> Posterior a la adjudicación del proceso | V20: =+'EVALUACION CON CONTROLES'!P26 -> Posterior a la adjudicación del proceso | W20: =+'EVALUACION CON CONTROLES'!Q26 -> Seguimiento al cronograma establecido en el proceso y puesta en marcha | X20: =+'EVALUACION CON CONTROLES'!R26 -> Cada contratación
B21: 13 | C21: =EVALUACION!C27 -> Falta de constitución o constitución tardía de la garantía única. Aceptación de garantías que no se ajustan a lo contemplado en el contrato | D21: =+'EVALUACION CON CONTROLES'!B27 -> CONTRATACIÓN | E21: =VLOOKUP(C25,'IDENTIFICACION Y ANALISIS'!$B$21:$F$76,3,FALSE) -> General | F21: Externo | G21: =+EVALUACION!H27 -> Detrimento para la entidad contratante por la imposibilidad de dar inicio a la ejecución del contrato o afectaciones legales, jurídicas, fiscales , penales sobre la entidad y los responsables del proceso | H21: =+EVALUACION!I27 -> 3 | I21: =+EVALUACION!J27 -> 4 | J21: =+EVALUACION!K27 -> 7 | K21: =+EVALUACION!L27 -> ALTO | L21: CONTRATISTA | M21: 1 | N21: =+'EVALUACION CON CONTROLES'!G27 -> Seguimiento permanente al proceso y los resultados. Contacto inmediato con contratista adjudicatario | O21: =+'EVALUACION CON CONTROLES'!I27 -> 1 | P21: =+'EVALUACION CON CONTROLES'!J27 -> 3 | Q21: =+'EVALUACION CON CONTROLES'!K27 -> 4 | R21: =+'EVALUACION CON CONTROLES'!L27 -> BAJO | S21: =+'EVALUACION CON CONTROLES'!M27 -> SI | T21: =+'EVALUACION CON CONTROLES'!N27 -> Contratación Area dueña del proceso | U21: =+'EVALUACION CON CONTROLES'!O27 -> Posterior a la adjudicación del proceso | V21: =+'EVALUACION CON CONTROLES'!P27 -> Posterior a la adjudicación del proceso | ... X21: =+'EVALUACION CON CONTROLES'!R27 -> Cada contratación
B22: 14 | C22: =EVALUACION!C28 -> Celebración de contratos sin el lleno de los requisitos legales. | D22: =+'EVALUACION CON CONTROLES'!B28 -> CONTRATACIÓN | E22: =VLOOKUP(C26,'IDENTIFICACION Y ANALISIS'!$B$21:$F$76,3,FALSE) -> General | F22: Interno | G22: =+EVALUACION!H28 -> Incumplimiento de la Ley con posibilidad de hallazos por parte de los Entes de Control y apertura de procesos disciplinarios, fiscales y penales para el Supervisor / Ordenador del Gasto | H22: =+EVALUACION!I28 -> 3 | I22: =+EVALUACION!J28 -> 5 | J22: =+EVALUACION!K28 -> 8 | K22: =+EVALUACION!L28 -> EXTREMO | L22: CONTRATISTA Y SDG | M22: 0.5 | N22: =+'EVALUACION CON CONTROLES'!G28 -> Secretaria de Gobierno ha establecido procesos y formatos que orientan el paso a paso del proceso de contratación. Así mismo el proceso de contratación está planificado de tal manera que hayan diferentes actores participando y se evidencie la completitud de los pasos para seguir en el proceso. así mismo, la plataforma SECOP ha definido manuales de usuario que orientan la forma en que se gestiona la inforamción en la herramienta. | O22: =+'EVALUACION CON CONTROLES'!I28 -> 2 | P22: =+'EVALUACION CON CONTROLES'!J28 -> 2 | Q22: =+'EVALUACION CON CONTROLES'!K28 -> 4 | R22: =+'EVALUACION CON CONTROLES'!L28 -> BAJO | S22: =+'EVALUACION CON CONTROLES'!M28 -> SI | T22: =+'EVALUACION CON CONTROLES'!N28 -> Contratación | U22: =+'EVALUACION CON CONTROLES'!O28 -> Definicion del proceso de contratación y ejecucioónd e las etapas recontractuales y contractuales | V22: =+'EVALUACION CON CONTROLES'!P28 -> inicia la ejecución dcl contrato | ... X22: =+'EVALUACION CON CONTROLES'!R28 -> Cada contratación
B23: 15 | C23: =EVALUACION!C29 -> Falta de solicitud o solicitud tardía del registro presupuestal | D23: =+'EVALUACION CON CONTROLES'!B29 -> CONTRATACIÓN | E23: =VLOOKUP(C26,'IDENTIFICACION Y ANALISIS'!$B$21:$F$76,3,FALSE) -> General | F23: Interno | G23: =+EVALUACION!H29 -> Imposibilidad de suscribir el inicio del contrato afectando el horizonte de ejecución y tiempo de respuesta a las necesidades que suscitaron la contratación | H23: =+EVALUACION!I29 -> 3 | I23: =+EVALUACION!J29 -> 3 | J23: =+EVALUACION!K29 -> 6 | K23: =+EVALUACION!L29 -> ALTO | L23: SDG | M23: 1 | N23: =+'EVALUACION CON CONTROLES'!G29 -> Seguimiento permanente al proceso contratcual y poscontractual al interior de la Entidad | O23: =+'EVALUACION CON CONTROLES'!I29 -> 1 | P23: =+'EVALUACION CON CONTROLES'!J29 -> 3 | Q23: =+'EVALUACION CON CONTROLES'!K29 -> 4 | R23: =+'EVALUACION CON CONTROLES'!L29 -> BAJO | S23: =+'EVALUACION CON CONTROLES'!M29 -> SI | T23: =+'EVALUACION CON CONTROLES'!N29 -> Contratación Area dueña del proceso Presupuesto | U23: =+'EVALUACION CON CONTROLES'!O29 -> Posterior a la adjudicación del proceso | V23: =+'EVALUACION CON CONTROLES'!P29 -> A la suscripción de acta de inicio | ... X23: =+'EVALUACION CON CONTROLES'!R29 -> Cada contratación
B24: 16 | C24: =EVALUACION!C30 -> Variación en la disponibilidad o en el costo de los insumos necesarios para prestar los servicios. | D24: =+'EVALUACION CON CONTROLES'!B30 -> EJECUCIÓN | E24: Especifico | F24: Externo | G24: =+EVALUACION!H30 -> Ejecución parcial del contrato puede afectar el cumplimiento del objeto o afectación económico del contratista causada por un desequilibrio económico del contrato | H24: =+EVALUACION!I30 -> 2 | I24: =+EVALUACION!J30 -> 3 | J24: =+EVALUACION!K30 -> 5 | K24: =+EVALUACION!L30 -> MEDIO | L24: CONTRATISTA | M24: 1 | N24: =+'EVALUACION CON CONTROLES'!G30 -> Solicitud de compromiso del Contratista Adjudicatario de mantener las condiciones pactadas en cantidad, calidad y especificaciones. Ejecutar el contrato en los tiempos previstos | O24: =+'EVALUACION CON CONTROLES'!I30 -> 2 | P24: =+'EVALUACION CON CONTROLES'!J30 -> 2 | Q24: =+'EVALUACION CON CONTROLES'!K30 -> 4 | R24: =+'EVALUACION CON CONTROLES'!L30 -> BAJO | S24: =+'EVALUACION CON CONTROLES'!M30 -> SI | T24: =+'EVALUACION CON CONTROLES'!N30 -> Gestor de Proyecto / Apoyo a la Supervisión / Comité Técnico de Seguimiento | U24: =+'EVALUACION CON CONTROLES'!O30 -> Al inicio del proceso y en Comités de Seguimiento | V24: =+'EVALUACION CON CONTROLES'!P30 -> Permanentemente | ... X24: =+'EVALUACION CON CONTROLES'!R30 -> permanente en la ejecución contractual
