Workbook

Sheet MATRIZ DE RIESGOS
H1: UNIDAD PARA LA ATENCIÓN Y REPARACIÓN INTEGRAL A LAS VICTIMAS MATRIZ DE RIESGOS PROCESO DE SELECCIÓN No. LP-XX-2026 OBJETO: PRESTAR LOS SERVICIOS DE VIGILANCIA Y SEGURIDAD PRIVADA, INCLUYENDO CUSTODIA Y MONITOREO CON MEDIOS TECNOLÓGICOS, PARA LA PROTECCIÓN DE LOS BIENES MUEBLES E INMUEBLES, ASÍ COMO PARA GARANTIZAR LA SEGURIDAD DE LOS FUNCIONARIOS, CONTRATISTAS Y VISITANTES EN LAS OFICINAS PRINCIPALES, DIRECCIONES TERRITORIALES Y CENTROS REGIONALES DE ATENCIÓN Y REPARACIÓN A VÍCTIMAS, Y/O EN AQUELLOS LUGARES DONDE HAGA PRESENCIA LA UNIDAD PARA LA ATENCIÓN Y REPARACIÓN INTEGRAL A LAS VÍCTIMAS.
B6: 1. IDENTIFICACIÓN | I6: 2. EVALUACION | M6: 3. ASIGNACION | O6: 4. PLAN DE TRATAMIENTO | U6: 5. EFECTO | Z6: 6. MONITOREO Y REVISIÓN
B7: N° | C7: Clase | D7: Fuente | E7: Etapa | F7: Tipo | G7: DESCRIPCIÓN DEL RIESGO (Qué puede pasar y, como puede ocurrir) | H7: CONSECUENCIA (de la ocurrencia del evento) | I7: Probabilidad | J7: Impacto | K7: Total | L7: Categoría | M7: UARIV | N7: Contratista o Asociado | O7: Tratamiento 1 | P7: Tratamiento 2 | Q7: Tratamiento / Controles a ser implementados | R7: Persona responsable del tratamiento | S7: Fecha de Inicio | T7: Fecha de Fin | U7: Probabilidad | V7: Impacto | W7: Total | X7: Categoría | Y7: Afecta la ejecución del contrato? | Z7: Cómo se realiza el monitoreo? | AA7: Persona responsable del monitoreo | AB7: Periodicidad ¿Cuándo?
B8: 1 | C8: General | D8: Externo | E8: Contratación | F8: Operacionales | G8: Retraso en la Suscripción del Contrato | H8: Afecta la ejecución del contrato, retrasando el inicio cronograma de los servicios | I8: Improbable | J8: Moderado | K8: =IFERROR((VLOOKUP(I8,Tablas!$B$16:$C$20,2,FALSE))+(VLOOKUP(J8,Tablas!$E$16:$F$20,2,FALSE)),0) -> 5 | L8: =IFERROR(VLOOKUP(K8,Tablas!$H$16:$I$25,2,FALSE),"") -> Riesgo Medio | N8: X | O8: Transferir | P8: N/A | Q8: Solicitar al contratista la firma del contrato dentro del plazo establecido en el cronograma contractual o hacer efectiva la poliza de seriedad de la oferta. | R8: CONTRATISTA | S8: ADJUDICACIÓN | T8: ACTA DE INICIO | U8: Raro | V8: Menor | W8: =IFERROR((VLOOKUP(U8,Tablas!$B$16:$C$20,2,FALSE))+(VLOOKUP(V8,Tablas!$E$16:$F$20,2,FALSE)),0) -> 3 | X8: =IFERROR(VLOOKUP(W8,Tablas!$H$16:$I$25,2,FALSE),"") -> Riesgo Bajo | Y8: SI | Z8: Seguimiento por parte del Grupo de Gestión Adminstrativa y Documental para la firma del contrato | AA8: GRUPO DE GESTIÓN ADMINISTRATIVA Y DOCUMENTAL | AB8: POR CADA PROCESO
B9: 2 | C9: General | D9: Externo | E9: Contratación | F9: Operacionales | G9: Demora en la expedición de las garantías solicitadas para el inicio del contrato | H9: Afecta la ejecución del contrato, retrasando el inicio del cronograma y la prestación de los servicios | I9: Improbable | J9: Moderado | K9: =IFERROR((VLOOKUP(I9,Tablas!$B$16:$C$20,2,FALSE))+(VLOOKUP(J9,Tablas!$E$16:$F$20,2,FALSE)),0) -> 5 | L9: =IFERROR(VLOOKUP(K9,Tablas!$H$16:$I$25,2,FALSE),"") -> Riesgo Medio | N9: X | O9: Transferir | P9: N/A | Q9: Solicitar mediante requerimientos escritos, correo electronico y demas medios las garantias del contrato para dar inicio a su ejecución. | R9: CONTRATISTA | S9: ADJUDICACIÓN | T9: ACTA DE INICIO | U9: Raro | V9: Menor | W9: 2 | X9: =IFERROR(VLOOKUP(W9,Tablas!$H$16:$I$25,2,FALSE),"") -> Riesgo Bajo | Y9: SI | Z9: Seguimiento por parte del Grupo de Gestión Adminstrativa y Documental para que el contratista allegue las garantías y estas sean aprobadas por la Subdirección de Contratacion | AA9: GRUPO DE GESTIÓN ADMINISTRATIVA Y DOCUMENTAL | AB9: POR CADA PROCESO
B10: 3 | C10: Específico | D10: Externo | E10: Ejecución | F10: Operacionales | G10: Cambios en el personal y grupo de vigilantes del contratista | H10: Retrasos en la prestación del servicio o la no realizacion del mismo. Falta de personal que actua como supervisor con la entidad para la solución de conflictos | I10: Posible | J10: Moderado | K10: =IFERROR((VLOOKUP(I10,Tablas!$B$16:$C$20,2,FALSE))+(VLOOKUP(J10,Tablas!$E$16:$F$20,2,FALSE)),0) -> 6 | L10: =IFERROR(VLOOKUP(K10,Tablas!$H$16:$I$25,2,FALSE),"") -> Riesgo Alto | N10: X | O10: Redicir la Probabilidad | P10: N/A | Q10: Coordinar con el contratista la priorizacion y reprogramación del servicio ante los posibles evventos | R10: SUPERVISOR DEL CONTRATO Y CONTRATISTA | S10: acta de inicio del contrato | T10: finalización del término contractual | U10: Raro | V10: Menor | W10: =IFERROR((VLOOKUP(U10,Tablas!$B$16:$C$20,2,FALSE))+(VLOOKUP(V10,Tablas!$E$16:$F$20,2,FALSE)),0) -> 3 | X10: =IFERROR(VLOOKUP(W10,Tablas!$H$16:$I$25,2,FALSE),"") -> Riesgo Bajo | Y10: SI | Z10: Realización de inspecciones permantes por parte del supervisor | AA10: SUPERVISOR DEL CONTRATO | AB10: SEMANAL
B11: 4 | C11: Específico | D11: Externo | E11: Ejecución | F11: Operacionales | G11: Fallas en sistemas tecnológicos de monitoreo | H11: Interrupciones eléctricas, fallas en software, obsolescencia de equipos, pérdida de capacidad de reacción, zonas sin vigilancia, incidentes no detectados. | I11: Posible | J11: Moderado | K11: =IFERROR((VLOOKUP(I11,Tablas!$B$16:$C$20,2,FALSE))+(VLOOKUP(J11,Tablas!$E$16:$F$20,2,FALSE)),0) -> 6 | L11: =IFERROR(VLOOKUP(K11,Tablas!$H$16:$I$25,2,FALSE),"") -> Riesgo Alto | N11: X | O11: Redicir la Probabilidad | P11: Reducir las Consecuencias | Q11: Coordinar con el contratista la realización de mantenimientos preventivos y correctivos, con cambio de equipos por obsolescencia. | R11: SUPERVISOR DEL CONTRATO Y CONTRATISTA | S11: DURANTE LA EJECUCIÓN | T11: finalización del término contractual | U11: Raro | V11: Menor | W11: =IFERROR((VLOOKUP(U11,Tablas!$B$16:$C$20,2,FALSE))+(VLOOKUP(V11,Tablas!$E$16:$F$20,2,FALSE)),0) -> 3 | X11: =IFERROR(VLOOKUP(W11,Tablas!$H$16:$I$25,2,FALSE),"") -> Riesgo Bajo | Y11: SI | Z11: Solicitar informe mensual al contratista sobre las rondas de mantenimiento preventivo y correctivo realizadas. | AA11: SUPERVISOR DEL CONTRATO | AB11: MENSUAL
B12: 5 | C12: Específico | D12: Externo | E12: Ejecución | F12: Operacionales | G12: Vulneraciones de ciberseguridad en los sistemas de cámaras y monitoreo | H12: Aacceso indebido a imágenes, manipulación de datos, riesgo reputacional | I12: Posible | J12: Moderado | K12: 6 | L12: =IFERROR(VLOOKUP(K12,Tablas!$H$16:$I$25,2,FALSE),"") -> Riesgo Alto | N12: X | O12: Redicir la Probabilidad | P12: Reducir las Consecuencias | Q12: Solicitar al contratista herramientas y procedimientos para contrarrestar los ataques de ciberseguridad, realizar la configuración desde la OTI de la UARIV con el fin de cubrir los equipos necesarios. | R12: SUPERVISOR DEL CONTRATO Y CONTRATISTA | S12: DURANTE LA EJECUCIÓN | T12: finalización del término contractual | U12: Raro | V12: Menor | W12: =IFERROR((VLOOKUP(U12,Tablas!$B$16:$C$20,2,FALSE))+(VLOOKUP(V12,Tablas!$E$16:$F$20,2,FALSE)),0) -> 3 | X12: =IFERROR(VLOOKUP(W12,Tablas!$H$16:$I$25,2,FALSE),"") -> Riesgo Bajo | Y12: SI | Z12: Solicitar informe mensual al contratista sobre las acciones realizadas frente a la protección de la información contra ataques de ciberseguridad. | AA12: SUPERVISOR DEL CONTRATO | AB12: MENSUAL
B13: 6 | C13: Específico | D13: Externo | E13: Ejecución | F13: Operacionales | G13: Rotación excesiva del personal de vigilancia | H13: Pérdida de continuidad del servicio, personal no entrenado, fallas en control de acceso. | I13: Posible | J13: Moderado | K13: 4 | L13: =IFERROR(VLOOKUP(K13,Tablas!$H$16:$I$25,2,FALSE),"") -> Riesgo Bajo | N13: X | O13: Redicir la Probabilidad | P13: Reducir las Consecuencias | Q13: Solicitar al contratista reporte mensual de la rotación del personal realizada con su respectiva justificación. | R13: SUPERVISOR DEL CONTRATO Y CONTRATISTA | S13: DURANTE LA EJECUCIÓN | T13: finalización del término contractual | U13: Raro | V13: Insignificante | W13: =IFERROR((VLOOKUP(U13,Tablas!$B$16:$C$20,2,FALSE))+(VLOOKUP(V13,Tablas!$E$16:$F$20,2,FALSE)),0) -> 2 | X13: =IFERROR(VLOOKUP(W13,Tablas!$H$16:$I$25,2,FALSE),"") -> Riesgo Bajo | Y13: SI | Z13: Solicitar informe mensual al contratista sobre la rotación del personal realizada junto con su justificación. | AA13: SUPERVISOR DEL CONTRATO | AB13: MENSUAL
B14: 7 | C14: Específico | D14: Externo | E14: Ejecución | F14: Operacionales | G14: Incapacidad del contratista para atender emergencias simultáneas | H14: Vulneraciones de seguridad o en la atención de eventos de afectación de seguridad. | I14: Improbable | J14: Menor | K14: 2 | L14: =IFERROR(VLOOKUP(K14,Tablas!$H$16:$I$25,2,FALSE),"") -> Riesgo Bajo | N14: X | O14: Redicir la Probabilidad | P14: Reducir las Consecuencias | Q14: Solicitar al contratista los planes de contingencia y respuestas a situaciones de afectación de seguridad. | R14: SUPERVISOR DEL CONTRATO Y CONTRATISTA | S14: DURANTE LA EJECUCIÓN | T14: finalización del término contractual | U14: Raro | V14: Insignificante | W14: 1 | X14: =IFERROR(VLOOKUP(W14,Tablas!$H$16:$I$25,2,FALSE),"") -> Riesgo Bajo | Y14: SI | Z14: Solicitar informe al contratista la elaboración de un protocolo para la atención de eventos de seguridad con tiempo de respuesta. | AA14: SUPERVISOR DEL CONTRATO | AB14: MENSUAL
B15: 8 | C15: General | D15: Externo | E15: Ejecución | F15: Económicos | G15: Expedición de regulacion tritubaria - creacion de instrumentos impositivos que se apliquen al contrato | H15: Afecta la ejecución del contrato físico y presupuestal, incrementando los precios ofrecidos, genera desequilibrio contractual | I15: Posible | J15: Mayor | K15: =IFERROR((VLOOKUP(I15,Tablas!$B$16:$C$20,2,FALSE))+(VLOOKUP(J15,Tablas!$E$16:$F$20,2,FALSE)),0) -> 7 | L15: =IFERROR(VLOOKUP(K15,Tablas!$H$16:$I$25,2,FALSE),"") -> Riesgo Alto | M15: X | N15: X | O15: Reducir las Consecuencias | P15: N/A | Q15: Revisar la regulación impositiva o tributaria que impacta economicamente el contrato e identificar si afecta la ecuación financiera del contrato y en caso de que aplique generar las acciones para lograr el equilibrio del contrato | R15: SUPERVISOR DEL CONTRATO | S15: INICIO DEL CONTRATO | T15: TERMINACIÓN DEL CONTRATO | U15: Posible | V15: Menor | W15: =IFERROR((VLOOKUP(U15,Tablas!$B$16:$C$20,2,FALSE))+(VLOOKUP(V15,Tablas!$E$16:$F$20,2,FALSE)),0) -> 5 | X15: =IFERROR(VLOOKUP(W15,Tablas!$H$16:$I$25,2,FALSE),"") -> Riesgo Medio | Y15: SI | Z15: Revisión por partedelsupervisor de la regulación tributaria e impositiva que pueda afectar el contrato e iniciar las acciones para lograr la equilibrio del contrato a través de la modificación contractual si hay lugar a ello | AA15: SUPERVISOR DEL CONTRATO | AB15: MENSUAL
B16: 9 | C16: Específico | D16: Externo | E16: Ejecución | F16: Operacionales | G16: Daños, averías o pérdidas de los bienes de propiedad del contratista, causados en el lugar de ejecución del contrato. | H16: Afecta la ejecución del contrato físico y presupuestal, retrasando el cronograma de los servicios. | I16: Improbable | J16: Moderado | K16: =IFERROR((VLOOKUP(I16,Tablas!$B$16:$C$20,2,FALSE))+(VLOOKUP(J16,Tablas!$E$16:$F$20,2,FALSE)),0) -> 5 | L16: =IFERROR(VLOOKUP(K16,Tablas!$H$16:$I$25,2,FALSE),"") -> Riesgo Medio | N16: X | O16: Evitar | P16: N/A | Q16: Aplicar los procedimientos establecidos por la UARIV frente a la seguridad de los bienes a su cargo. De otro lado el contratista también debe acogerse a estos y aplicar sus propios procedimientos. | R16: SUPERVISOR DEL CONTRATO | S16: INICIO DEL CONTRATO | T16: TERMINACIÓN DEL CONTRATO | U16: Raro | V16: Menor | W16: =IFERROR((VLOOKUP(U16,Tablas!$B$16:$C$20,2,FALSE))+(VLOOKUP(V16,Tablas!$E$16:$F$20,2,FALSE)),0) -> 3 | X16: =IFERROR(VLOOKUP(W16,Tablas!$H$16:$I$25,2,FALSE),"") -> Riesgo Bajo | Y16: SI | Z16: Verificación permanente de los insumos y equipos que utilice el contratista para prestar el servicio y que esten ubicados en las sedes y centros de la UARIV | AA16: SUPERVISOR DEL CONTRATO | AB16: MENSUAL
B17: 10 | C17: Específico | D17: Externo | E17: Ejecución | F17: Operacionales | G17: Cambios regulatorios en la legislacion de vigilancia y seguridad privada, tarifas establecidas por la Superintendencia de Vigilancia o en las normas especificas que afecten la prestación del servicio | H17: Modificacion de los terminos en los que fue adjudicado el contrato | I17: Improbable | J17: Mayor | K17: =IFERROR((VLOOKUP(I17,Tablas!$B$16:$C$20,2,FALSE))+(VLOOKUP(J17,Tablas!$E$16:$F$20,2,FALSE)),0) -> 6 | L17: =IFERROR(VLOOKUP(K17,Tablas!$H$16:$I$25,2,FALSE),"") -> Riesgo Alto | M17: X | N17: X | O17: Reducir las Consecuencias | P17: N/A | Q17: Ajustes o modificacion según los terminos del Contrato. | R17: UARIV Y CONTRATISTA | S17: INICIO DEL CONTRATO | T17: TERMINACIÓN DEL CONTRATO | U17: Improbable | V17: Moderado | W17: =IFERROR((VLOOKUP(U17,Tablas!$B$16:$C$20,2,FALSE))+(VLOOKUP(V17,Tablas!$E$16:$F$20,2,FALSE)),0) -> 5 | X17: =IFERROR(VLOOKUP(W17,Tablas!$H$16:$I$25,2,FALSE),"") -> Riesgo Medio | Y17: SI | Z17: Verificacion permanente de las novedades legislativas relacionadas con el objeto del Contrato | AA17: SUPERVISOR DEL CONTRATO Y CONTRATISTA | AB17: MENSUAL
B18: 11 | C18: Específico | D18: Externo | E18: Ejecución | F18: Operacionales | G18: No atención oportuna y resolución de casos reportados para atención del servicio | H18: Afecta la respuesta a las necesidades de las Direcciones Territoriales y Sede Principal y la ejecucion del contrato. | I18: Posible | J18: Mayor | K18: =IFERROR((VLOOKUP(I18,Tablas!$B$16:$C$20,2,FALSE))+(VLOOKUP(J18,Tablas!$E$16:$F$20,2,FALSE)),0) -> 7 | L18: =IFERROR(VLOOKUP(K18,Tablas!$H$16:$I$25,2,FALSE),"") -> Riesgo Alto | N18: X | O18: Evitar | P18: N/A | Q18: Coordinar con el contratista la priorizacion y reprogramación del servicio | R18: SUPERVISOR DEL CONTRATO | S18: INICIO DEL CONTRATO | T18: TERMINACIÓN DEL CONTRATO | U18: Posible | V18: Menor | W18: =IFERROR((VLOOKUP(U18,Tablas!$B$16:$C$20,2,FALSE))+(VLOOKUP(V18,Tablas!$E$16:$F$20,2,FALSE)),0) -> 5 | X18: =IFERROR(VLOOKUP(W18,Tablas!$H$16:$I$25,2,FALSE),"") -> Riesgo Medio | Y18: SI | Z18: El supervisor del contrato, verificará el cumplimiento de las obligaciones del contratista requerir al contratista en la oportunidad de la respuesta | AA18: SUPERVISOR DEL CONTRATO | AB18: MENSUAL
B19: 12 | C19: Específico | D19: Externo | E19: Ejecución | F19: Operacionales | G19: Accidentes laborales en el sitio de ejecución del contrato por parte del personal que presta el servicio. | H19: Interrupcion y demora en la prestación del servicio | I19: Improbable | J19: Moderado | K19: =IFERROR((VLOOKUP(I19,Tablas!$B$16:$C$20,2,FALSE))+(VLOOKUP(J19,Tablas!$E$16:$F$20,2,FALSE)),0) -> 5 | L19: =IFERROR(VLOOKUP(K19,Tablas!$H$16:$I$25,2,FALSE),"") -> Riesgo Medio | N19: X | O19: Reducir las Consecuencias | P19: N/A | Q19: Implementación permanente del Sistema de Gestión de Seguridad y Salud en el Trabajo, propendiendo, además, por el cumplimiento permanente de la normatividad legal vigente en materia de seguridad social y riesgos laborales | R19: CONTRATISTA | S19: INICIO DEL CONTRATO | T19: TERMINACIÓN DEL CONTRATO | U19: Raro | V19: Menor | W19: =IFERROR((VLOOKUP(U19,Tablas!$B$16:$C$20,2,FALSE))+(VLOOKUP(V19,Tablas!$E$16:$F$20,2,FALSE)),0) -> 3 | X19: =IFERROR(VLOOKUP(W19,Tablas!$H$16:$I$25,2,FALSE),"") -> Riesgo Bajo | Y19: SI | Z19: Verificación documental de la implementación correspondiente al Sistema de Gestión de Seguridad y Salud en el Trabajo, soportes, procedimientos, información documentada, pagos al sistema de seguridad social, etc | AA19: SUPERVISOR DEL CONTRATO | AB19: TRIMESTRAL
B20: 13 | C20: Específico | D20: Externo | E20: Ejecución | F20: Operacionales | G20: Falta en la logística y organización del personal que presta el servicio | H20: Retraso en la asignación del personal requerido para cada una de las Direcciones Territoriales y Sede Principal | I20: Improbable | J20: Moderado | K20: =IFERROR((VLOOKUP(I20,Tablas!$B$16:$C$20,2,FALSE))+(VLOOKUP(J20,Tablas!$E$16:$F$20,2,FALSE)),0) -> 5 | L20: =IFERROR(VLOOKUP(K20,Tablas!$H$16:$I$25,2,FALSE),"") -> Riesgo Medio | N20: X | O20: Reducir las Consecuencias | P20: N/A | Q20: Hacer seguimiento a los cronogramas establecidos, mantener el recurso humano requerido para el cumplimiento del contrato | R20: SUPERVISOR DEL CONTRATO | S20: INICIO DEL CONTRATO | T20: TERMINACIÓN DEL CONTRATO | U20: Improbable | V20: Menor | W20: =IFERROR((VLOOKUP(U20,Tablas!$B$16:$C$20,2,FALSE))+(VLOOKUP(V20,Tablas!$E$16:$F$20,2,FALSE)),0) -> 4 | X20: =IFERROR(VLOOKUP(W20,Tablas!$H$16:$I$25,2,FALSE),"") -> Riesgo Bajo | Y20: SI | Z20: El supervisor del contrato, verificará el cumplimiento a los cronogramas establecidos | AA20: SUPERVISOR DEL CONTRATO | AB20: MENSUAL
B21: 14 | C21: Específico | D21: Externo | E21: Ejecución | F21: Operacionales | G21: Huelgas, paros, motines y demás factores del equipo de trabajo del contratista que puedan afectar el ejercicio común de su actividad, en la prestación del servicio, como parte del contrato suscrito con la UARIV | H21: Interrupción en la prestación del servicio, afectándo la ejecución contractual | I21: Posible | J21: Moderado | K21: =IFERROR((VLOOKUP(I21,Tablas!$B$16:$C$20,2,FALSE))+(VLOOKUP(J21,Tablas!$E$16:$F$20,2,FALSE)),0) -> 6 | L21: =IFERROR(VLOOKUP(K21,Tablas!$H$16:$I$25,2,FALSE),"") -> Riesgo Alto | M21: X | N21: X | O21: Reducir las Consecuencias | P21: N/A | Q21: El contratista deberá tener un plan de contingencia, el cual debe ser aprobado por el supervisor para que este acorde con las necesidades de la Entidad y no causar traumatismo en la prestación del servicio | R21: SUPERVISOR DEL CONTRATO Y CONTRATISTA | S21: INICIO DEL CONTRATO | T21: TERMINACIÓN DEL CONTRATO | U21: Improbable | V21: Menor | W21: =IFERROR((VLOOKUP(U21,Tablas!$B$16:$C$20,2,FALSE))+(VLOOKUP(V21,Tablas!$E$16:$F$20,2,FALSE)),0) -> 4 | X21: =IFERROR(VLOOKUP(W21,Tablas!$H$16:$I$25,2,FALSE),"") -> Riesgo Bajo | Y21: SI | Z21: Revision del plan de contingencia del contratista al inicio de la ejecicion del contrato | AA21: SUPERVISOR DEL CONTRATO | AB21: AL INICIO DEL CONTRATO Y CUANDO SE PRESESNTE LA CONTINGENCIA

Sheet Tablas
B3: CLASE | D3: FUENTE | F3: ETAPA | H3: TIPO DE RIESGO | K3: TRATAMIENTO | L3: TRATAMIENTO2 | N3: ASIGNACIÓN | P3: AFECTA EJECUCION
B4: General | D4: Interno | F4: Planeación | H4: Económicos | K4: Evitar | L4: Evitar | N4: SDIS | P4: SI
B5: Específico | D5: Externo | F5: Selección | H5: Sociales o Políticos | K5: Transferir | L5: Transferir | N5: Contratista o Asociado | P5: NO
F6: Contratación | H6: Operacionales | K6: Aceptar | L6: Aceptar
F7: Ejecución | H7: Financieros | K7: Redicir la Probabilidad | L7: Redicir la Probabilidad
H8: Regulatorios | K8: Reducir las Consecuencias | L8: Reducir las Consecuencias
H9: De la Naturaleza | L9: N/A | O9: RESPONSABLE TRATAMIENTO
H10: Ambientales | O10: SDIS
H11: Tecnológicos | O11: Contratista o Asociado
O12: Supervisión - Contratista o Asociado
B14: PROBABILIDAD | E14: IMPACTO | H14: CATEGORÍA
B15: Categoría | C15: Valoración | E15: Categoría | F15: Valoración | H15: Valoración | I15: Categoría
B16: Raro | C16: 1 | E16: Insignificante | F16: 1 | H16: 1 | I16: Riesgo Bajo
B17: Improbable | C17: 2 | E17: Menor | F17: 2 | H17: 2 | I17: Riesgo Bajo
B18: Posible | C18: 3 | E18: Moderado | F18: 3 | H18: 3 | I18: Riesgo Bajo
B19: Probable | C19: 4 | E19: Mayor | F19: 4 | H19: 4 | I19: Riesgo Bajo
B20: Casi Cierto | C20: 5 | E20: Catastrófico | F20: 5 | H20: 5 | I20: Riesgo Medio
H21: 6 | I21: Riesgo Alto
H22: 7 | I22: Riesgo Alto
H23: 8 | I23: Riesgo Extremo
H24: 9 | I24: Riesgo Extremo
H25: 10 | I25: Riesgo Extremo

Sheet GUIA DE RIESGOS 
A1: GUIA DE RIESGOS DE POSIBLES RIESGOS INHERENTES
A4: ETAPA CONTRACTUAL | B4: EVENTO | C4: CAUSAS | D4: CONSECUENCIAS
A5: Planeación | B5: Inadecuada formulación y elaboración del PAA | C5: Indebida identificación de las necesidades de la entidad en el PAA | D5: Incumplimiento en la satisfacción de las necesidades de la entidad
C6: Incorrecta priorización | D6: Incumplimiento de las metas propuestas por la entidad
C7: Recortes presupuestales
A8: Selección | B8: Adelantar un proceso de selección sin contar con la debida disponibilidad presupuestal | C8: Desconocimiento de la normatividad que rige la contratación estatal | D8: Investigaciones disciplinarias, fiscales y penales
C9: No contar con la disponibilidad presupuestal
B10: Adelantar un proceso contractual sin tener la aprobación correspondiente por parte del comité de contratación o de la instancia correspondiente | C10: Errados procedimientos internos | D10: Investigaciones disciplinarias, fiscales y penales
C11: No contar con actas de comité de contratación
C12: Comité de contratación mal diseñado
B13: Adelantar un proceso contractual sin tener la competencia legal para realizarlo | C13: Desconocimiento de las facultades y delegaciones existentes en la entidad | D13: Investigaciones disciplinarias, fiscales y penales
C14: Desconocimiento de las competencias de la entidad | D14: Nulidad Absoluta del contrato
B15: Aprobar la adquisición de bienes, obras y servicios que no se ajustan a las necesidades o al cumplimiento de los objetivos de la entidad | C15: Indebida descripción de la necesidad a contar | D15: Insatisfacción de las necesidades y objetivos de la entidad
C16: Errada relación entre el objeto y la necesidad a contratar
C17: Indebida maduración o planeación del proceso contractual en tiempos, cantidades, valores, etc. | D17: Investigaciones disciplinarias, fiscales y penales
C18: Elaboración deficiente de los estudios previos, y de los pliegos de condiciones
C19: Elaboración deficiente de análisis del sector | D19: Posible incumplimiento en el objeto del contrato
C20: Errores en las especificaciones técnicas del bien, obra o servicios a contratar
B21: Selección de contratistas que no cuenten con la capacidad financiera y/o técnica y/o jurídica necesarias para la ejecución del contrato | C21: Establecer de manera inadecuada los requisitos de carácter habilitante en los procesos de selección | D21: Investigaciones disciplinarias, fiscales y penales
C22: Incumplimiento del principio de selección objetiva | D22: Demandas
C23: Indebida evaluación de los proponentes en el proceso de selección
C24: Elaboración deficiente de los análisis de sector | D24: pone en riesgo la adecuada ejecución del contrato
C25: Elaboración deficiente de los estudios previos y de los pliegos de condiciones
C26: Inadecuada aplicación de la normatividad vigente, manual de contratación y procedimientos asociados | D26: Sanciones disciplinarias, fiscales y/o penales
B27: Direccionamiento de contratación y/o vinculación a favor de un tercero | C27: Tráfico de influencias | D27: Demandas
C28: Inadecuada elaboración de los documentos previos, tales como estudios previos, pliegos de condiciones, análisis del sector y estudio de mercado | D28: Enriquecimiento ilícito de contratistas y/o funcionarios
D29: Detrimento patrimonial
B30: Pérdida de información, modificación o alteración de las ofertas a evaluar o de los expedientes que soportan los procesos de contratación | C30: Inadecuado manejo de expedientes | D30: Investigaciones disciplinarias, fiscales y penales
C31: Inadecuada custodia de expedientes | D31: Retrasos en la contratación
C32: Inaplicación de los procedimientos y métodos de archivo establecidos por la entidad y la norma | D32: Demandas
B33: Suspensión del procesos de selección | C33: Evidenciar un error en la estructuración de los documentos contractuales | D33: Retrasos en el cumplimiento de las metas de la entidad
C34: Demandas, tutelas y solicitudes de proponentes | D34: Insatisfacción de las necesidades y objetivos de la entidad
C35: Por sugerencia de algún órgano de control, con el propósito de realizar ajustes al proceso de selección directamente relacionados con la normatividad en materia contractual | D35: Investigaciones disciplinarias, fiscales y penales
B36: Retrasos en el proceso de selección | C36: Ampliación de plazos para dar respuesta a las observaciones del proceso | D36: Incumplimiento de metas y objetivos de la entidad
C37: Ampliación de plazos para poder evaluar el proceso de selección, en la eventualidad que se reciban muchas ofertas
B38: Declaratoria de desierta del proceso de selección | C38: Documentos falsos o irregulares presentados por los oferentes y que la entidad no logra evidenciar en el momento de la evaluación | D38: Demandas
C39: No revisión de inhabilidades e incompatibilidades | D39: Investigaciones disciplinarias, fiscales y penales
A40: Contratación | B40: Retraso en la suscripción del contrato | C40: Incumplimiento o retraso del contratista en la firma del contrato | D40: Incumplimiento de las metas propuestas por la entidad
C41: Minuta contractual con errores | D41: Incumplimiento en la satisfacción de las necesidades de la entidad
C42: Demora en la elaboración, revisión y aprobación de la minuta del contrato
...
