Workbook
Name contratación: 'IDENTIFICACION Y ANALISIS'!$B$39:$B$43
Name ejecución: 'IDENTIFICACION Y ANALISIS'!$B$45:$B$68
Name OPCIONES: 'ASIGNACION Y TRATAMIENTO'!#REF!
Name planeación: 'IDENTIFICACION Y ANALISIS'!$B$19:$B$29
Name selección: 'IDENTIFICACION Y ANALISIS'!$B$31:$B$37

Sheet CONTEXTO
C2: MATRIZ DE RIESGOS EN CONTRATACIÓN | F2: Código: GCO-GCI-F164 Versión: 02 Vigencia: 01 de diciembre de 2022 Caso HOLA: 280117
B6: ESTABLECER EL CONTEXTO
B7: El punto inicial es identificar el contexto en el cual interactúa la Entidad Estatal para conocer el ambiente social, económico y político, e identificar (i) sus propios Riesgos; (ii) los Riesgos comunes a sus Procesos de Contratación; y (iii) los Riesgos del Proceso de Contratación en particular. (Aplica igual para contratos interadministrativos) En este paso la Entidad Estatal debe identificar los aspectos que se mencionan a continuación y los posibles efectos adversos que estos pueden generar.
B8: Objeto del Proceso de Contratación
B9: Partícipes del Proceso de Contratación: Agentes externos (Organismos de control, veedurías ciudadanas), agentes internos (supervisores, funcionarios y demás usuarios).
B10: Ciudadanía que se beneficia del Proceso de Contratación: Agentes internos (funcionarios, pasantes) y externos (contratistas, visitantes y usuarios externos en general)
B11: Capacidad de la Entidad Estatal entendida como la disponibilidad de recursos y conocimientos para el Proceso de Contratación: La disponibilidad de la Entidad de sus recursos y el conocimiento de su equipo humano se refleja en los diferentes funcionarios que participarán en las diversas etapas del proceso de selección: participan las áreas que requieren los procesos de contratación (Etapa de Planeación), Dirección de Contratación, Comité Evaluador (Etapa de selección), Dirección de Contratación (Etapa de contratación) y la supervisión y apoyos a la misma (Estapa de Ejecución).
B12: Suficiencia del presupuesto oficial del Proceso de Contratación: De acuerdo al Plan Anual de Adquisiciones se deben estimar los recursos necesarios para el desarrollo del proceso de la contratación, el cual tendrá el soporte presupuestal suficiente para su desarrollo.
B13: Condiciones geográficas y de acceso del lugar en el cual se debe cumplir el objeto del Proceso de Contratación: El suministro, obra o servicio se prestará principalmente en las Sedes de la Entidad, o en el lugar indicado en los estudios previos del proceso.
B14: Entorno socio ambiental: Si aplican
B15: Condiciones políticas: Si aplican
B16: Factores ambientales.
B17: Sector del objeto del Proceso de Contratación y su mercado.
... B19: Experiencia propia y de otras Entidades Estatales en Procesos de Contratación del mismo tipo.

Sheet IDENTIFICACION Y ANALISIS
C2: MATRIZ DE RIESGOS DE CONTRATACIÓN | F2: Código: GCO-GCI-F164 Versión: 02 Vigencia: 01 de diciembre de 2022 Caso HOLA: 280117
B6: DEFINICIONES
B7: RIESGO: Evento que puede generar efectos adversos y de distinta magnitud en el logro de los objetivos del Proceso de Contratación o en la ejecución de un contrato RIESGOS PREVISIBLES: Son los posibles hechos o circunstancias que por la naturaleza del contrato y de la actividad a ejecutar es factible su ocurrencia. ETAPA DE PLANEACIÓN: Está comprendida desde el momento en que se identifican las necesidades que debe satisfacer la Secretaría Distrital de Gobierno y los Fondos de Desarrollo Local, a través del abastecimiento de bienes, obras o servicios, la elaboración del Plan Anual de Adquisiciones y la estructuración de los documentos y estudios previos. ETAPA DE SELECCIÓN: Está comprendida entre el acto de Apertura del Proceso de Contratación y la Adjudicación o la declaración de desierto del Proceso de Contratación ETAPA DE CONTRATACIÓN: Una vez adjudicado el contrato objeto del Proceso de Contratación, inicia la etapa para la celebración del contrato y el cumplimiento de los requisitos para de perfeccionamiento y ejecución. ETAPA DE EJECUCIÓN: Inicia una vez cumplidos los requisitos previstos para iniciar la ejecución del contrato respectivo y termina con el vencimiento del plazo del contrato o la fecha de liquidación si hay lugar a ella. RIESGO GENERAL: Es un riesgo de todos los procesos de contratación adelantados por la Entidad Estatal, por lo cual está presente en toda su actividad contractual. RIEGO ESPECIFICO: Es un riesgo propio del proceso de contratación objeto de análisis. RIESGOS ECONÓMICOS: Son los derivados del comportamiento del mercado, tales como la fluctuación de los precios de los insumos, desabastecimiento y especulación de los mismos, entre otros. RIESGOS SOCIALES O POLÍTICOS: son los derivados de los cambios de las políticas gubernamentales y de cambios en las condiciones sociales que tengan impacto en la ejecución del contrato. RIESGOS OPERACIONALES: Son los asociados a la operatividad del contrato, tales como la suficiencia del presupuesto oficial, del plazo o los derivados de procesos, procedimientos, parámetros, sistemas de información y tecnológicos, equipos humanos o técnicos inadecuados o insuficientes. RIESGOS FINANCIEROS: Son (i) el riesgo de consecución de financiación o riesgo de liquidez para obtener recursos para cumplir con el objeto del contrato, y (ii) el riesgo de las condiciones financieras establecidas para la obtención de los recursos, tales como plazos, tasas, garantías, contragarantías, y refinanciaciones, entre otros. RIESGOS REGULATORIOS: Derivados de cambios regulatorios o reglamentarios que afecten la ecuación económica del contrato. RIESGOS DE LA NATURALEZA: Son los eventos naturales previsibles en los cuales no hay intervención humana que puedan tener impacto en la ejecución del contrato, por ejemplo los temblores, inundaciones, lluvias, sequías, entre otros. RIESGOS AMBIENTALES: Son los derivados de las obligaciones legales o reglamentarias de carácter ambiental, así como de las licencias, planes de manejo o de permisos y autorizaciones ambientales, incluyendo tasas retributivas y compensatorias, obligaciones de mitigación, tareas de monitoreo y control, entre otras. RIESGOS TECNOLÓGICOS: Son los derivados de fallas en los sistemas de comunicación de voz y de datos, suspensión de servicios públicos, nuevos desarrollos tecnológicos o estándares que deben ser tenidos en cuenta para la ejecución del contrato, obsolescencia tecnológica.
B15: INSTRUCCIONES PARA LA IDENTIFICACIÓN, ANALISIS, EVALUACIÓN , ASIGNACIÓN Y TRATAMIENTO DE RIESGOS EN LA CONTRATACIÓN
B16: 1) Identifique los riesgos previsibles que le apliquen al objeto contractual que se adelante. Los relacionados a continuación se establecen de manera general y como proforma. No obstante, si del objeto contractual se identifican otros riesgos diferentes a los aquí determinados, por favor reemplace el texto de la casilla teniendo en cuenta la etapa del proceso. Así mismo, seleccione la clase, fuente y el tipo (Operacional, Económico, Sociales o Políticos, Regulatorios, Financieros, Tecnológicos, De la naturaleza, Ambientales) 2) Continúe en la hoja de "EVALUACIÓN" (SI EXISTEN DUDAS CONCEPTUALES PARA LA ELABORACIÓN DE LA MATRIZ DE RIESGO CONSULTE EL MANUAL PARA LA IDENTIFICACIÓN Y COBERTURA DEL RIESGO EN LOS PROCESOS DE CONTRATACIÓN EXPEDIDO POR COLOMBIA COMPRA EFICIENTE Y LA GUÍA DE RIESGOS PREVISIBLES CONTRACTUALES, EXPEDIDA POR LA VEEDURÍA DISTRITAL)
C17: ETAPAS | D17: CLASE | E17: FUENTE | F17: TIPO
C18: PLANEACIÓN
B19: Inadecuada escogencia de la modalidad de contratación | D19: General | E19: Interno | F19: Operacionales
B20: Requisitos habilitantes inapropiados para el proceso de selección | D20: General | E20: Interno | F20: Operacionales
B21: Inadecuado análisis económico estimativo del valor del contrato | D21: Especifico | E21: Interno | F21: Economicos
B22: Inadecuada descripción del bien o servicio requerido | D22: Especifico | E22: Interno | F22: Operacionales
B23: Inadecuada elaboración de estudios y diseños | D23: General | E23: Interno | F23: Operacionales
B24: Requisitos habilitantes que impidan la selección objetiva | D24: General | E24: Interno | F24: Operacionales
B25: Falta de profundidad en el estudio de sector no identificandose claramente aspectos de oferta y demanda | D25: Especifico | E25: Interno | F25: Economicos
B26: Ausencia de fundamentación de la justificación y conveniencia de la contratación | D26: General | E26: Interno | F26: Operacionales
B27: Inadecuada identificación de las condiciones contractuales | D27: General | E27: Interno | F27: Operacionales
B28: No aprobación o demoras en la expedición vigencias futuras | D28: General | E28: Interno | F28: Operacionales
B29: Apertura de procesos sin disponibilidad presupuestal | D29: Especifico | E29: Interno | F29: Operacionales
C30: SELECCIÓN
B31: Inadecuada evaluación de las ofertas y/o verificación de requisitos habilitantes | D31: Especifico | E31: Interno | F31: Operacionales
B32: | | D32: General | E32: Interno | F32: Operacionales
B33: Falta de claridad en la elaboración de los actos administrativos | D33: General | E33: Interno | F33: Operacionales
B34: Contestación inoportuna a todas las observaciones formuladas a los documentos de la contratación | D34: Especifico | E34: Interno | F34: Operacionales
B35: No publicación de la documentación del proceso de selección en el SECOP | D35: Estatal | E35: Interno | F35: Operacionales
B36: Confabulacion de los proponentes (Colusión) | D36: Especifico | E36: Interno | F36: Operacionales
B37: Selección de ofertas con precios artificialmente bajos. | D37: General | E37: Interno | F37: Operacionales
C38: CONTRATACIÓN
B39: Riesgo de que no se firme el contrato. | D39: Especifico | E39: Interno | F39: Operacionales
B40: Falta de constitución o constitución tardía de la garantía única. Aceptación de garantías que no se ajustan a lo contemplado en el contrato | D40: General | E40: Interno | F40: Operacionales
B41: Falta de solicitud o solicitud tardía del registro presupuestal | D41: General | E41: Interno | F41: Operacionales
B42: No publicación de la documentación del proceso de selección en el SECOP | D42: Especifico | E42: Interno | F42: Operacionales
B43: Presentación de reclamos de terceros sobre la selección del oferente que retrasen el perfeccionamiento del contrato. | D43: Estatal | E43: Interno | F43: Operacionales
C44: EJECUCIÓN
B45: Fluctuaciones del valor de la moneda | D45: General | E45: Interno | F45: Economicos
B46: Cambio de precios en factores de producción. | D46: General | E46: Interno | F46: Economicos
B47: Variación de los precios del mercado | D47: General | E47: Interno | F47: Economicos
B48: Factores políticos o macroeconómicos. | D48: Especifico | E48: Interno | F48: Sociales o Políticos
B49: Cancelación de pedidos. | D49: Especifico | E49: Interno | F49: Economicos
B50: Variación en la disponibilidad o en el costo de los insumos necesarios para prestar los servicios. | D50: General | E50: Interno | F50: Economicos
B51: Incumplimiento de compromisos adquiridos por el contratista seleccionado con sus subcontratistas, suministradores de bienes y servicios. | D51: General | E51: Interno | F51: Economicos
...

Sheet EVALUACION
C2: MATRIZ DE RIESGOS DE CONTRATACIÓN | K2: Código: GCO-GCI-F164 Versión: 02 Vigencia: 01 de diciembre de 2022 Caso HOLA: 280117
B6: Objeto Contractual: “CONTRATAR LA PRESTACIÓN DE SERVICIOS DE ASISTENCIA Y ACOMPAÑAMIENTO TÉCNICO PARA LA IMPLEMENTACIÓN DE PROCESOS CIUDADANOS DE EDUCACIÓN AMBIENTAL (PROCEDA), FORTALECIMIENTO DE PROYECTOS DE AGRICULTURA URBANA Y PERIURBANA, Y DESARROLLO DE ACCIONES PEDAGÓGICAS SOBRE SEPARACIÓN EN LA FUENTE Y RECICLAJE, MEDIANTE PROCESOS DE FORMACIÓN TEÓRICO-PRÁCTICOS, ENTREGA DE INSUMOS, ASISTENCIA TÉCNICA ESPECIALIZADA, FORTALECIMIENTO ORGANIZACIONAL, CAMPAÑAS COMUNICATIVAS Y GENERACIÓN DE CAPACIDADES SOSTENIBLES PARA EL MANEJO AMBIENTAL DEL TERRITORIO
B7: INSTRUCCIONES PARA LA IDENTIFICACIÓN, ANALISIS, EVALUACIÓN , ASIGNACIÓN Y TRATAMIENTO DE RIESGOS EN LA CONTRATACIÓN
B8: 1) Diligencie el objeto contractual y seleccione la(s) etapas y los riesgos que aplican al objeto contractual, de acuerdo a lo definido en la hoja de "IDENTIFICACIÓN Y ANÁLISIS"
B9: 2) Describa las consecuencias de la ocurrencia del Riesgo/evento.
B10: 3) Asigne la probabilidad de ocurrencia del riesgo, de conformidad con la tabla de probabilidad y la valoración del riesgo (Cualitativa o Monetaria)
B11: 4) Asigne el impacto que generaría la materialización del riesgo, de conformidad con la tabla de impacto y la valoración del riesgo (Cualitativa o Monetaria)
B12: 5) Al realizar las anteriores actividades se obtendrá la calificación total y la valoración del riesgo (prioridad).
B13: 6) Continúe en la hoja de "EVALUACIÓN DE CONTROLES"
B15: CALIFICACIÓN | H15: Cualitativa
B16: ETAPA | C16: Descripción (Que puede pasar y, cómo puede ocurrir) | H16: Consecuencias de la ocurrencia del evento | I16: Probabilidad de Ocurrencia | J16: Impacto | K16: Calificación Total | L16: Prioridad
B17: PLANEACIÓN | C17: Que se presenten errores en la estructura de las condiciones contractuales representadas en estudios previos y anexo técnico, así como los demás documentos del presente proceso. | H17: *Desbalance presupuestal del proyecto 2502 *Dificultad para cumplir los objetivos y de las metas del presente contrato. *Demoras, incumplimientos y hasta suspension de actividades. | I17: 1 | J17: 5 | K17: =I17+J17 -> 6 | L17: =IF(K17<=4,"BAJO",IF(K17=5,"MEDIO",IF(K17=6,"ALTO",IF(K17=7,"ALTO","EXTREMO")))) -> ALTO
B18: PLANEACIÓN | C18: Contigencias para el contratista debido a la no entrega de las áreas ha intervenir en campo. | H18: *Declaratoria desierta del proceso o llegada de múltiples observaciones durante el proceso de adjudicación. *Fallas en la ejecución o imposibilidad del cumplimiento de los términos por inviabilidad técnica, jurídica o financiera. | I18: 1 | J18: 4 | K18: =+I18+J18 -> 5 | L18: =IF(K18<=4,"BAJO",IF(K18=5,"MEDIO",IF(K18=6,"ALTO",IF(K18=7,"ALTO","EXTREMO")))) -> MEDIO
B19: SELECCIÓN | C19: Que el proponente no tuviese capacidad técnica, adminsitrativa y/o financiera para cumplir el objeto contractual. | H19: *Detrimento patrimonial al Distrito *Afectación del logro de los objetivos y de las metas del proyecto 2502. *Investigaciones y sanciones. | I19: 1 | J19: 4 | K19: =+I19+J19 -> 5 | L19: =IF(K19<=4,"BAJO",IF(K19=5,"MEDIO",IF(K19=6,"ALTO",IF(K19=7,"ALTO","EXTREMO")))) -> MEDIO
B20: SELECCIÓN | C20: No presentación de proponentes | H20: No permitirá la adjudicacion del contrato en los tiempos determinados y presupuestados. | I20: 1 | J20: 4 | K20: =+I20+J20 -> 5 | L20: =IF(K20<=4,"BAJO",IF(K20=5,"MEDIO",IF(K20=6,"ALTO",IF(K20=7,"ALTO","EXTREMO")))) -> MEDIO
B21: EJECUCIÓN | C21: Contigencias por el contratista en la entrega de las áreas intervenidas en campo. | H21: Retraso y /o incumplimiento de las metas. | I21: 2 | J21: 2 | K21: =+I21+J21 -> 4 | L21: =IF(K21<=4,"BAJO",IF(K21=5,"MEDIO",IF(K21=6,"ALTO",IF(K21=7,"ALTO","EXTREMO")))) -> BAJO
B22: EJECUCIÓN | C22: Retrasos en las intervenciones por labores que dependen de terceros | H22: Retraso en el desarrollo de las acciones y cronogramas previstos. | I22: 3 | J22: 2 | K22: =+I22+J22 -> 5 | L22: =IF(K22<=4,"BAJO",IF(K22=5,"MEDIO",IF(K22=6,"ALTO",IF(K22=7,"ALTO","EXTREMO")))) -> MEDIO
B23: EJECUCIÓN | C23: Imposibilidad de la intervención por factores sociales, intervención o resistencia de la comunidad. | H23: Retraso en el desarrollo de las acciones y cronogramas previstos. Situaciones de encuentro con la comunidad y disociaciones al respecto. Procesos legales. | I23: 1 | J23: 1 | K23: =+I23+J23 -> 2 | L23: =IF(K23<=4,"BAJO",IF(K23=5,"MEDIO",IF(K23=6,"ALTO",IF(K23=7,"ALTO","EXTREMO")))) -> BAJO
B24: EJECUCIÓN | C24: Afectaciones a la integridad o salud física de los operacios o terceros en el desarrollo de las obras o labores. | H24: Demandas de terceros, procesos legales, suspensión del contrato y demoras en la ejecución. | I24: 1 | J24: 3 | K24: =+I24+J24 -> 4 | L24: =IF(K24<=4,"BAJO",IF(K24=5,"MEDIO",IF(K24=6,"ALTO",IF(K24=7,"ALTO","EXTREMO")))) -> BAJO
B25: EJECUCIÓN | C25: Demora en la radicación oportuna de los informes por parte del contratista | H25: Inconvenientes en la ejecución presupuestal y seguimeinto de las labores convenidas. | I25: 4 | J25: 2 | K25: =+I25+J25 -> 6 | L25: =IF(K25<=4,"BAJO",IF(K25=5,"MEDIO",IF(K25=6,"ALTO",IF(K25=7,"ALTO","EXTREMO")))) -> ALTO
B26: EJECUCIÓN | C26: Fluctuación de los precios de los insumos y combustibles, desabasteciomiento de materia prima y especulación de precios. | H26: Retrasos en la ejecución del contrato, posible variación del mismo, imposibilidad del contratista para continuar con la ejecución del convenio, desequilibrio económico. | I26: 1 | J26: 2 | K26: =+I26+J26 -> 3 | L26: =IF(K26<=4,"BAJO",IF(K26=5,"MEDIO",IF(K26=6,"ALTO",IF(K26=7,"ALTO","EXTREMO")))) -> BAJO
B27: EJECUCIÓN | C27: incumplimiento normativo por entregar alimentos (refrigerios/almuerzos) sin el estricto control de la Resolución 2674 de 2013. | H27: Posibles afectaciones a la salud de los participantes por enfermedades transmitidas por alimentos, intoxicaciones o contaminación de los productos suministrados; adopción de medidas sanitarias preventivas y aplicación de sanciones por parte de las autoridades competentes; incumplimiento de las obligaciones contractuales; necesidad de reposición de los alimentos y generación de costos adicionales; posibles reclamaciones por daños ocasionados y afectación de la imagen institucional de la Alcaldía Local, como consecuencia del incumplimiento de los requisitos sanitarios establecidos en la Resolución 2674 de 2013 y demás normativa aplicable. | I27: 1 | J27: 4 | K27: =+I27+J27 -> 5 | L27: =IF(K27<=4,"BAJO",IF(K27=5,"MEDIO",IF(K27=6,"ALTO",IF(K27=7,"ALTO","EXTREMO")))) -> MEDIO
B28: EJECUCIÓN | C28: Desabastecimiento de insumos agrícolas, de papeleria y de ferreteria para el cumplimiento de actividades de entregas de insumos,kits etc. | H28: Retrasos en la implementación y fortalecimiento de las huertas urbanas y periurbanas; interrupción de las actividades de siembra, mantenimiento y producción agrícola; incumplimiento del cronograma y de las metas contractuales; afectación al desarrollo de las iniciativas beneficiarias y a la participación comunitaria; posibles costos adicionales por adquisición y transporte de insumos; disminución de la productividad y pérdida de material vegetal, así como afectación al cumplimiento del objeto contractual y a la satisfacción de la población beneficiaria | I28: 1 | J28: 3 | K28: =+I28+J28 -> 4 | L28: =IF(K28<=4,"BAJO",IF(K28=5,"MEDIO",IF(K28=6,"ALTO",IF(K28=7,"ALTO","EXTREMO")))) -> BAJO
B29: EJECUCIÓN | C29: Presencia de plagas y enfermedades en el material vegetal vivo | H29: Afectación fitosanitaria de las plantas, disminución de su calidad y viabilidad, retraso en el establecimiento y desarrollo de las huertas urbanas y periurbanas, pérdida o mortalidad del material vegetal suministrado, propagación de plagas y enfermedades a los cultivos existentes, incremento de los costos de reposición y control fitosanitario, incumplimiento de las metas y obligaciones contractuales, y afectación a la sostenibilidad de las iniciativas agrícolas beneficiarias. | I29: 1 | J29: 2 | K29: =+I29+J29 -> 3 | L29: =IF(K29<=4,"BAJO",IF(K29=5,"MEDIO",IF(K29=6,"ALTO",IF(K29=7,"ALTO","EXTREMO")))) -> BAJO
K30: =+I30+J30 -> 0 | L30: =IF(K30<=4,"BAJO",IF(K30=5,"MEDIO",IF(K30=6,"ALTO",IF(K30=7,"ALTO","EXTREMO")))) -> BAJO
K31: =+I31+J31 -> 0 | L31: =IF(K31<=4,"BAJO",IF(K31=5,"MEDIO",IF(K31=6,"ALTO",IF(K31=7,"ALTO","EXTREMO")))) -> BAJO
K32: =+I32+J32 -> 0 | L32: =IF(K32<=4,"BAJO",IF(K32=5,"MEDIO",IF(K32=6,"ALTO",IF(K32=7,"ALTO","EXTREMO")))) -> BAJO
K33: =+I33+J33 -> 0 | L33: =IF(K33<=4,"BAJO",IF(K33=5,"MEDIO",IF(K33=6,"ALTO",IF(K33=7,"ALTO","EXTREMO")))) -> BAJO
K34: =+I34+J34 -> 0 | L34: =IF(K34<=4,"BAJO",IF(K34=5,"MEDIO",IF(K34=6,"ALTO",IF(K34=7,"ALTO","EXTREMO")))) -> BAJO
K35: =+I35+J35 -> 0 | L35: =IF(K35<=4,"BAJO",IF(K35=5,"MEDIO",IF(K35=6,"ALTO",IF(K35=7,"ALTO","EXTREMO")))) -> BAJO
K36: =+I36+J36 -> 0 | L36: =IF(K36<=4,"BAJO",IF(K36=5,"MEDIO",IF(K36=6,"ALTO",IF(K36=7,"ALTO","EXTREMO")))) -> BAJO
B39: Probabilidad | C39: Catagoria | E39: Valoración | G39: Impacto | H39: Categoria | I39: Valoración
C40: Raro (puede ocurrir excepcionalmente) | E40: 1 | H40: Insignificante | I40: 1
C41: Improbable (puede ocurrir ocasionalmente) | E41: 2 | H41: Menor | I41: 2
C42: Posible (puede ocurrir en cualquier momento futuro) | E42: 3 | H42: Moderado | I42: 3
C43: Probable (probablemente va a ocurrir) | E43: 4 | H43: Mayor | I43: 4
C44: Casi cierto (ocurre en la mayoria de circunstancias) | E44: 5 | H44: Catastrófico | I44: 5
C46: Valoración del Riesgo
C47: Calificación Cualitativa | F47: Obstruye la ejecución del contrato de manera intrascendente. | G47: Dificulta la ejecución del contrato de manera baja, aplicando medidas mínimas se pueden lograr el objeto contractual | H47: Afecta la ejecución del contrato sin alterar el beneficio para las partes | I47: Obstruye la ejecución del contrato sustancialmente pero aun así permite la consecución del objeto contractual | K47: Perturba la ejecución del contrato de manera grave imposibilitando la consecución del objeto contractual.
C48: Calificación Monetaria | F48: Los sobrecostos no representan más del uno por ciento (1%) del valor del contrato. | G48: Los sobrecostos no representan más del cinco por ciento (5%) del valor del contrato. | H48: Genera un impacto sobre el valor del contrato entre el cinco (5%) y el quince por ciento (15%). | I48: Incrementa el valor del contrato entre el quince (15%) y el treinta por ciento (30%). | K48: Impacto sobre el valor del contrato en más del treinta por ciento (30%).
...

Sheet EVALUACION CON CONTROLES
C2: MATRIZ DE RIESGOS DE CONTRATACIÓN | Q2: Código: GCO-GCI-F164 Versión: 02 Vigencia: 01 de diciembre de 2022 Caso HOLA: 280117
B6: =+EVALUACION!B6 -> Objeto Contractual: “CONTRATAR LA PRESTACIÓN DE SERVICIOS DE ASISTENCIA Y ACOMPAÑAMIENTO TÉCNICO PARA LA IMPLEMENTACIÓN DE PROCESOS CIUDADANOS DE EDUCACIÓN AMBIENTAL (PROCEDA), FORTALECIMIENTO DE PROYECTOS DE AGRICULTURA URBANA Y PERIURBANA, Y DESARROLLO DE ACCIONES PEDAGÓGICAS SOBRE SEPARACIÓN EN LA FUENTE Y RECICLAJE, MEDIANTE PROCESOS DE FORMACIÓN TEÓRICO-PRÁCTICOS, ENTREGA DE INSUMOS, ASISTENCIA TÉCNICA ESPECIALIZADA, FORTALECIMIENTO ORGANIZACIONAL, CAMPAÑAS COMUNICATIVAS Y GENERACIÓN DE CAPACIDADES SOSTENIBLES PARA EL MANEJO AMBIENTAL DEL TERRITORIO
B7: INSTRUCCIONES PARA LA IDENTIFICACIÓN, ANALISIS, EVALUACIÓN , ASIGNACIÓN Y TRATAMIENTO DE RIESGOS EN LA CONTRATACIÓN
B8: 1) Describa el tratamiento/controles a ser implementados
B9: 2) Diligencie la información de las siguientes columnas, de acuerdo con el análisis realizado a cada riesgo: Afecta el equilibrio económico, persona responsable de implementar el tratamiento, fecha estimada de inicio del tratamiento, fecha estimada en la que se completa el tratamiento, cómo se realiza el monitoreo y la periodicidad.
B10: 3) Continúe en la hoja de "ASIGNACIÓN Y TRATAMIENTO" y diligencie las siguientes casillas: A quien se le asigna y el porcentaje que asume cada una de las partes en caso de que sea compartido.
B15: ETAPA | C15: Descripción (Que puede pasar y, cómo puede ocurrir) | G15: Tratamiento/Controles a ser implementados | I15: Probabilidad de Ocurrencia | J15: Impacto | K15: Calificación Total | L15: Prioridad | M15: ¿Afecta el equilibrio económico del contrato? | N15: Persona responsable por implementar el tratamiento | O15: Fecha estimada en que se inicia el tratamiento | P15: Fecha estimada en que se completa el tratamiento | Q15: ¿Cómo se realiza el monitoreo? | R15: Periodicidad ¿Cuándo?
B16: =+EVALUACION!B17 -> PLANEACIÓN | C16: =+EVALUACION!C17 -> Que se presenten errores en la estructura de las condiciones contractuales representadas en estudios previos y anexo técnico, así como los demás documentos del presente proceso. | G16: Revisión exhaustiva previa a la apertura del proceso; validación jurídica y técnica; comité técnico de verificación. | I16: =+EVALUACION!I17 -> 1 | J16: =+EVALUACION!J17 -> 5 | K16: =+I16+J16 -> 6 | L16: =IF(K16<=4,"BAJO",IF(K16=5,"MEDIO",IF(K16=6,"ALTO",IF(K16=7,"ALTO","EXTREMO")))) -> ALTO | M16: SI | N16: FDLSC | O16: Desde la fase precontractual del proceso | P16: Antes de la publicación del proceso. | Q16: Al momento de la evaluación del proceso y revision de actas | R16: Una Vez antes del inicio del proceso
B17: =+EVALUACION!B18 -> PLANEACIÓN | C17: =+EVALUACION!C18 -> Contigencias para el contratista debido a la no entrega de las áreas ha intervenir en campo. | G17: Revisión técnica, jurídica y financiera de los documentos formulados. Realización de los comités técnicos internos de la administración para la revisión detallada de los documentos pre contractuales. | I17: =+EVALUACION!I18 -> 1 | J17: =+EVALUACION!J18 -> 4 | K17: =+I17+J17 -> 5 | L17: =IF(K17<=4,"BAJO",IF(K17=5,"MEDIO",IF(K17=6,"ALTO",IF(K17=7,"ALTO","EXTREMO")))) -> MEDIO | M17: SI | N17: Contratista y FDLSC | O17: Desde la estructuración del proceso | P17: Inicio de actividades en campo. | Q17: Actas de campo, informes de avance. | R17: SEMANAL
B18: =+EVALUACION!B19 -> SELECCIÓN | C18: =+EVALUACION!C19 -> Que el proponente no tuviese capacidad técnica, adminsitrativa y/o financiera para cumplir el objeto contractual. | G18: *Verificación de requistos e idoneidad. *Exigencia degarantias al contratista con la suscripción de pólizas de calidad y cumplimiento. | I18: =+EVALUACION!I19 -> 1 | J18: =+EVALUACION!J19 -> 4 | K18: =+I18+J18 -> 5 | L18: =IF(K18<=4,"BAJO",IF(K18=5,"MEDIO",IF(K18=6,"ALTO",IF(K18=7,"ALTO","EXTREMO")))) -> MEDIO | M18: SI | N18: FDLSC | O18: Desde la evaluacion pre selección del contratista | P18: Adjudicacion del contrato | Q18: Al momento de la evaluación del proceso de adjudicacion del contrato y revision de actas | R18: ANTES DE INICIAR EL CONTRATO Y MENSUAL
B19: =+EVALUACION!B20 -> SELECCIÓN | C19: =+EVALUACION!C20 -> No presentación de proponentes | G19: Realización de estudio de mercado y adecuada tasación de precios. | I19: =+EVALUACION!I20 -> 1 | J19: =+EVALUACION!J20 -> 4 | K19: =+I19+J19 -> 5 | L19: =IF(K19<=4,"BAJO",IF(K19=5,"MEDIO",IF(K19=6,"ALTO",IF(K19=7,"ALTO","EXTREMO")))) -> MEDIO | M19: SI | N19: FDLSC | O19: En el proceso precontractual, desde la proyección del estudio previo, anexo técnico y demás documentos del proyecto. | P19: Antes del cierre de ofertas | Q19: Aplicando el formato establecido en el anexo técnico, estudios previos y la presente matriz de riesgo. | R19: Una Vez antes del inicio del proceso
B20: =+EVALUACION!B21 -> EJECUCIÓN | C20: =+EVALUACION!C21 -> Contigencias por el contratista en la entrega de las áreas intervenidas en campo. | G20: Seguimiento permanente y solicitud al contratista de la trazabilidad del proceso así como la posible gestión de una prorroga. Suscripción de pólizas de cumplimiento. | I20: =+EVALUACION!I21 -> 2 | J20: =+EVALUACION!J21 -> 2 | K20: =+I20+J20 -> 4 | L20: =IF(K20<=4,"BAJO",IF(K20=5,"MEDIO",IF(K20=6,"ALTO",IF(K20=7,"ALTO","EXTREMO")))) -> BAJO | M20: SI | N20: Contratista | O20: A partir del momento en que se da inicio a las entregas y ejecución del contrato. | P20: A partir del momento en que se concluye las entregas y ejecución del contrato. | Q20: Dentro del mismo tiempo de la afectación | R20: Dentro del periodo de ocurrencia
B21: =+EVALUACION!B22 -> EJECUCIÓN | C21: =+EVALUACION!C22 -> Retrasos en las intervenciones por labores que dependen de terceros | G21: Seguimiento permanente al avance de contrato. Gestión interinsitucional para apoyar al contratista en trámites o gestiones con terceros. Respuesta oportuna a imprevistos de las partes. | I21: =+EVALUACION!I22 -> 3 | J21: =+EVALUACION!J22 -> 2 | K21: =+I21+J21 -> 5 | L21: =IF(K21<=4,"BAJO",IF(K21=5,"MEDIO",IF(K21=6,"ALTO",IF(K21=7,"ALTO","EXTREMO")))) -> MEDIO | M21: SI | N21: Contratista y FDLSC | O21: A partir del inicio del contrato | P21: hasta su terminación y/o liquidación. | Q21: A través de los comités técnicos de avance mensual y mediante canales abiertos de comunicación permanente. | R21: MENSUAL
B22: =+EVALUACION!B23 -> EJECUCIÓN | C22: =+EVALUACION!C23 -> Imposibilidad de la intervención por factores sociales, intervención o resistencia de la comunidad. | G22: Selección de lugares de intervención con viabilidad técnica y mantenimiento de canales de comunicación abiertos a la comunidad de forma permanente. Contar con un profesional social de apoyo en las intervenciones y espacios de socializaciones a la comunidad. | I22: =+EVALUACION!I23 -> 1 | J22: =+EVALUACION!J23 -> 1 | K22: =+I22+J22 -> 2 | L22: =IF(K22<=4,"BAJO",IF(K22=5,"MEDIO",IF(K22=6,"ALTO",IF(K22=7,"ALTO","EXTREMO")))) -> BAJO | M22: SI | N22: Contratista y FDLSC | O22: A partir del inicio del contrato | P22: hasta su terminación y/o liquidación. | Q22: A través de los comités técnicos de avance mensual y mediante canales abiertos de comunicación permanente. | R22: MENSUAL
B23: =+EVALUACION!B24 -> EJECUCIÓN | C23: =+EVALUACION!C24 -> Afectaciones a la integridad o salud física de los operacios o terceros en el desarrollo de las obras o labores. | G23: Exigencia del cumplimiento del plan de riesgos laborales y uso de EPP. Cumplimiento de aportes al sistema de seguridad social y salud. Pólizas de responsabilidad civil extracontractual. | I23: =+EVALUACION!I24 -> 1 | J23: =+EVALUACION!J24 -> 3 | K23: =+I23+J23 -> 4 | L23: =IF(K23<=4,"BAJO",IF(K23=5,"MEDIO",IF(K23=6,"ALTO",IF(K23=7,"ALTO","EXTREMO")))) -> BAJO | M23: SI | N23: Contratista y FDLSC | O23: A partir del inicio del contrato | P23: hasta su terminación y/o liquidación. | Q23: A través de los comités técnicos de avance mensual y mediante canales abiertos de comunicación permanente. | R23: SEMANAL Y MENSUAL.
B24: =+EVALUACION!B25 -> EJECUCIÓN | C24: =+EVALUACION!C25 -> Demora en la radicación oportuna de los informes por parte del contratista | G24: Establecimiento y seguimiento de cronogramas. Requerimientos oportunos al contratista. | I24: =+EVALUACION!I25 -> 4 | J24: =+EVALUACION!J25 -> 2 | K24: =+I24+J24 -> 6 | L24: =IF(K24<=4,"BAJO",IF(K24=5,"MEDIO",IF(K24=6,"ALTO",IF(K24=7,"ALTO","EXTREMO")))) -> ALTO | M24: SI | N24: Contratista y FDLSC | O24: A partir del inicio del contrato | P24: hasta su terminación y/o liquidación. | Q24: A través de los comités técnicos de avance mensual y mediante canales abiertos de comunicación permanente. | R24: MENSUAL
B25: EJECUCION | C25: =+EVALUACION!C26 -> Fluctuación de los precios de los insumos y combustibles, desabasteciomiento de materia prima y especulación de precios. | G25: Revisión periódica del mercado en materia de fluctuación de precios | I25: =+EVALUACION!I26 -> 1 | J25: =+EVALUACION!J26 -> 2 | K25: =+I25+J25 -> 3 | L25: =IF(K25<=4,"BAJO",IF(K25=5,"MEDIO",IF(K25=6,"ALTO",IF(K25=7,"ALTO","EXTREMO")))) -> BAJO | M25: SI | N25: Contratista | O25: A partir del inicio del contrato | P25: hasta su terminación y/o liquidación. | Q25: A través de los comités técnicos de avance mensual y mediante canales abiertos de comunicación permanente. | R25: MENSUAL
B26: =+EVALUACION!B27 -> EJECUCIÓN | I26: =+EVALUACION!I27 -> 1 | J26: =+EVALUACION!J27 -> 4 | K26: =+I26+J26 -> 5 | L26: =IF(K26<=4,"BAJO",IF(K26=5,"MEDIO",IF(K26=6,"ALTO",IF(K26=7,"ALTO","EXTREMO")))) -> MEDIO
B27: =+EVALUACION!B28 -> EJECUCIÓN | I27: =+EVALUACION!I28 -> 1 | J27: =+EVALUACION!J28 -> 3 | K27: =+I27+J27 -> 4 | L27: =IF(K27<=4,"BAJO",IF(K27=5,"MEDIO",IF(K27=6,"ALTO",IF(K27=7,"ALTO","EXTREMO")))) -> BAJO
B28: =+EVALUACION!B29 -> EJECUCIÓN | C28: =+EVALUACION!C29 -> Presencia de plagas y enfermedades en el material vegetal vivo | I28: =+EVALUACION!I29 -> 1 | J28: =+EVALUACION!J29 -> 2 | K28: =+I28+J28 -> 3 | L28: =IF(K28<=4,"BAJO",IF(K28=5,"MEDIO",IF(K28=6,"ALTO",IF(K28=7,"ALTO","EXTREMO")))) -> BAJO
B29: =+EVALUACION!B30 -> 0 | C29: =+EVALUACION!C30 -> 0 | I29: =+EVALUACION!I30 -> 0 | J29: =+EVALUACION!J30 -> 0 | K29: =+I29+J29 -> 0 | L29: =IF(K29<=4,"BAJO",IF(K29=5,"MEDIO",IF(K29=6,"ALTO",IF(K29=7,"ALTO","EXTREMO")))) -> BAJO
B30: =+EVALUACION!B31 -> 0 | C30: =+EVALUACION!C31 -> 0 | I30: =+EVALUACION!I31 -> 0 | J30: =+EVALUACION!J31 -> 0 | K30: =+I30+J30 -> 0 | L30: =IF(K30<=4,"BAJO",IF(K30=5,"MEDIO",IF(K30=6,"ALTO",IF(K30=7,"ALTO","EXTREMO")))) -> BAJO
B31: =+EVALUACION!B32 -> 0 | C31: =+EVALUACION!C32 -> 0 | I31: =+EVALUACION!I32 -> 0 | J31: =+EVALUACION!J32 -> 0 | K31: =+I31+J31 -> 0 | L31: =IF(K31<=4,"BAJO",IF(K31=5,"MEDIO",IF(K31=6,"ALTO",IF(K31=7,"ALTO","EXTREMO")))) -> BAJO
B32: =+EVALUACION!B33 -> 0 | C32: =+EVALUACION!C33 -> 0 | I32: =+EVALUACION!I33 -> 0 | J32: =+EVALUACION!J33 -> 0 | K32: =+I32+J32 -> 0 | L32: =IF(K32<=4,"BAJO",IF(K32=5,"MEDIO",IF(K32=6,"ALTO",IF(K32=7,"ALTO","EXTREMO")))) -> BAJO
B33: =+EVALUACION!B34 -> 0 | C33: =+EVALUACION!C34 -> 0 | I33: =+EVALUACION!I34 -> 0 | J33: =+EVALUACION!J34 -> 0 | K33: =+I33+J33 -> 0 | L33: =IF(K33<=4,"BAJO",IF(K33=5,"MEDIO",IF(K33=6,"ALTO",IF(K33=7,"ALTO","EXTREMO")))) -> BAJO
B34: =+EVALUACION!B35 -> 0 | C34: =+EVALUACION!C35 -> 0 | I34: =+EVALUACION!I35 -> 0 | J34: =+EVALUACION!J35 -> 0 | K34: =+I34+J34 -> 0 | L34: =IF(K34<=4,"BAJO",IF(K34=5,"MEDIO",IF(K34=6,"ALTO",IF(K34=7,"ALTO","EXTREMO")))) -> BAJO
B35: =+EVALUACION!B36 -> 0 | C35: =+EVALUACION!C36 -> 0 | I35: =+EVALUACION!I36 -> 0 | J35: =+EVALUACION!J36 -> 0 | K35: =+I35+J35 -> 0 | L35: =IF(K35<=4,"BAJO",IF(K35=5,"MEDIO",IF(K35=6,"ALTO",IF(K35=7,"ALTO","EXTREMO")))) -> BAJO
B36: =EVALUACION!B27 -> EJECUCIÓN | C36: =EVALUACION!C27 -> incumplimiento normativo por entregar alimentos (refrigerios/almuerzos) sin el estricto control de la Resolución 2674 de 2013. | G36: Entrega de soportes de compra, procedencia y trazabilidad de los alimentos, cuando corresponda. Verificación de las condiciones sanitarias del proveedor y del establecimiento donde se preparan los alimentos. | I36: 1 | J36: 4 | K36: =+I36+J36 -> 5 | L36: =IF(K36<=4,"BAJO",IF(K36=5,"MEDIO",IF(K36=6,"ALTO",IF(K36=7,"ALTO","EXTREMO")))) -> MEDIO | M36: SI | N36: Contratista | O36: A partir del inicio del contrato | P36: hasta su terminación y/o liquidación. | Q36: A través de los comités técnicos de avance mensual y mediante canales abiertos de comunicación permanente. | R36: MENSUAL
B37: =EVALUACION!B28 -> EJECUCIÓN | C37: =EVALUACION!C28 -> Desabastecimiento de insumos agrícolas, de papeleria y de ferreteria para el cumplimiento de actividades de entregas de insumos,kits etc. | G37: elaborar y presentar a la supervisión una programación de adquisición y entrega de los insumos agrícolas, de papelería y de ferretería requeridos para la ejecución de las actividades contractuales, verificando previamente su disponibilidad y tiempos de entrega. | I37: 1 | J37: 3 | K37: =+I37+J37 -> 4 | L37: =IF(K37<=4,"BAJO",IF(K37=5,"MEDIO",IF(K37=6,"ALTO",IF(K37=7,"ALTO","EXTREMO")))) -> BAJO | M37: SI | N37: Contratista | O37: A partir del inicio del contrato | P37: hasta su terminación y/o liquidación. | Q37: A través de los comités técnicos de avance mensual y mediante canales abiertos de comunicación permanente. | R37: MENSUAL
B38: =EVALUACION!B29 -> EJECUCIÓN | C38: =EVALUACION!C29 -> Presencia de plagas y enfermedades en el material vegetal vivo | G38: el material vegetal suministrado cumpla con las condiciones de calidad y sanidad requeridas, mediante la adquisición a proveedores confiables y la verificación fitosanitaria previa a su entrega. Asimismo, deberá inspeccionar las plantas para identificar oportunamente la presencia de plagas, enfermedades o daños que puedan comprometer su viabilidad, y garantizar condiciones adecuadas de almacenamiento, transporte y manipulación. | I38: 1 | J38: 2 | K38: =+I38+J38 -> 3 | L38: =IF(K38<=4,"BAJO",IF(K38=5,"MEDIO",IF(K38=6,"ALTO",IF(K38=7,"ALTO","EXTREMO")))) -> BAJO | M38: SI | N38: Contratista | O38: A partir del inicio del contrato | P38: hasta su terminación y/o liquidación. | Q38: A través de los comités técnicos de avance mensual y mediante canales abiertos de comunicación permanente. | R38: MENSUAL
C58: Categoria del Riesgo | H58: Impacto del Riesgo
B59: Probabilidad | C59: Catagoria | F59: Valoración | H59: Categoria | J59: Valoración | N59: Categoria del Riesgo
C60: Raro (puede ocurrir excepcionalmente) | F60: 1 | H60: Insignificante | J60: 1 | N60: Valoración del Riesgo | P60: Categoría
C61: Improbable (puede ocurrir ocasionalmente) | F61: 2 | H61: Menor | J61: 2 | N61: 8, 9 y 10 | P61: Riesgo extremo
C62: Posible (puede ocurrir en cualquier momento futuro) | F62: 3 | H62: Moderado | J62: 3 | N62: 6 y 7 | P62: Riesgo alto
C63: Probable (probablemente va a ocurrir) | F63: 4 | H63: Mayor | J63: 4 | N63: 5 | P63: Riesgo medio
C64: Casi cierto (ocurre en la mayoria de circunstancias) | F64: 5 | H64: Catastrófico | J64: 5 | N64: 2, 3 y 4 | P64: Riesgo bajo
C66: Valoración del Riesgo
C67: Calificación Cualitativa | G67: Obstruye la ejecución del contrato de manera intrascendente. | I67: Dificulta la ejecución del contrato de manera baja, aplicando medidas mínimas se pueden lograr el objeto contractual | L67: Afecta la ejecución del contrato sin alterar el beneficio para las partes | N67: Obstruye la ejecución del contrato sustancialmente pero aun así permite la consecución del objeto contractual | P67: Perturba la ejecución del contrato de manera grave imposibilitando la consecución del objeto contractual.
C68: Calificación Monetaria | G68: Los sobrecostos no representan más del uno por ciento (1%) del valor del contrato. | I68: Los sobrecostos no representan más del cinco por ciento (5%) del valor del contrato. | L68: Genera un impacto sobre el valor del contrato entre el cinco (5%) y el quince por ciento (15%). | N68: Incrementa el valor del contrato entre el quince (15%) y el treinta por ciento (30%). | P68: Impacto sobre el valor del contrato en más del treinta por ciento (30%).
...

Sheet ASIGNACION Y TRATAMIENTO
C2: MATRIZ DE RIESGOS DE CONTRATACIÓN | W2: Código: GCO-GCI-F164 Versión: 02 Vigencia: 01 de diciembre de 2022 Caso HOLA: 280117
B6: =+EVALUACION!B6 -> Objeto Contractual: “CONTRATAR LA PRESTACIÓN DE SERVICIOS DE ASISTENCIA Y ACOMPAÑAMIENTO TÉCNICO PARA LA IMPLEMENTACIÓN DE PROCESOS CIUDADANOS DE EDUCACIÓN AMBIENTAL (PROCEDA), FORTALECIMIENTO DE PROYECTOS DE AGRICULTURA URBANA Y PERIURBANA, Y DESARROLLO DE ACCIONES PEDAGÓGICAS SOBRE SEPARACIÓN EN LA FUENTE Y RECICLAJE, MEDIANTE PROCESOS DE FORMACIÓN TEÓRICO-PRÁCTICOS, ENTREGA DE INSUMOS, ASISTENCIA TÉCNICA ESPECIALIZADA, FORTALECIMIENTO ORGANIZACIONAL, CAMPAÑAS COMUNICATIVAS Y GENERACIÓN DE CAPACIDADES SOSTENIBLES PARA EL MANEJO AMBIENTAL DEL TERRITORIO
B7: Esta matriz es un documento anexo del Estudio Previo
B10: No | C10: Descripción (Que puede pasar y, cómo puede ocurrir) | D10: Etapa | E10: Clase | F10: Fuente | G10: Consecuencias de la ocurrencia del evento | H10: Probabilidad | I10: Impacto | J10: Calificación total | K10: Prioridad | L10: ¿A quien se le asigna? | M10: % | N10: Tratamiento/Controles a ser implementados | O10: Probabilidad | P10: Impacto | Q10: Calificación total | R10: Prioridad | S10: ¿Afecta el equilibrio económico del contrato? | T10: Persona responsable por implementar el tratamiento | U10: Fecha estimada en que se inicia el tratamiento | V10: Fecha estimada en que se completa el tratamiento | W10: ¿Cómo se realiza el monitoreo | X10: Periodicidad ¿Cuándo?
B11: 1 | C11: =+'EVALUACION CON CONTROLES'!C16:F16 -> Que se presenten errores en la estructura de las condiciones contractuales representadas en estudios previos y anexo técnico, así como los demás documentos del presente proceso. | D11: =+'EVALUACION CON CONTROLES'!B16 -> PLANEACIÓN | E11: =+'IDENTIFICACION Y ANALISIS'!D19 -> General | F11: =+'IDENTIFICACION Y ANALISIS'!E19 -> Interno | G11: =+EVALUACION!H17 -> *Desbalance presupuestal del proyecto 2502 *Dificultad para cumplir los objetivos y de las metas del presente contrato. *Demoras, incumplimientos y hasta suspension de actividades. | H11: =+EVALUACION!I17 -> 1 | J11: =+EVALUACION!K17 -> 6 | K11: =+EVALUACION!L17 -> ALTO | L11: SDG | M11: 1 | N11: =+'EVALUACION CON CONTROLES'!G16 -> Revisión exhaustiva previa a la apertura del proceso; validación jurídica y técnica; comité técnico de verificación. | O11: =+'EVALUACION CON CONTROLES'!I16 -> 1 | P11: =+'EVALUACION CON CONTROLES'!J16 -> 5 | Q11: =+'EVALUACION CON CONTROLES'!K16 -> 6 | R11: =+'EVALUACION CON CONTROLES'!L16 -> ALTO | S11: =+'EVALUACION CON CONTROLES'!M16 -> SI | T11: =+'EVALUACION CON CONTROLES'!N16 -> FDLSC | U11: =+'EVALUACION CON CONTROLES'!O16 -> Desde la fase precontractual del proceso | V11: =+'EVALUACION CON CONTROLES'!P16 -> Antes de la publicación del proceso. | ... X11: =+'EVALUACION CON CONTROLES'!R16 -> Una Vez antes del inicio del proceso
B12: 2 | C12: =+'EVALUACION CON CONTROLES'!C17:F17 -> Contigencias para el contratista debido a la no entrega de las áreas ha intervenir en campo. | D12: =+'EVALUACION CON CONTROLES'!B17 -> PLANEACIÓN | E12: =+'IDENTIFICACION Y ANALISIS'!D20 -> General | F12: =+'IDENTIFICACION Y ANALISIS'!E20 -> Interno | G12: =+EVALUACION!H18 -> *Declaratoria desierta del proceso o llegada de múltiples observaciones durante el proceso de adjudicación. *Fallas en la ejecución o imposibilidad del cumplimiento de los términos por inviabilidad técnica, jurídica o financiera. | H12: =+EVALUACION!I18 -> 1 | I12: =+EVALUACION!J18 -> 4 | J12: =+EVALUACION!K18 -> 5 | K12: =+EVALUACION!L18 -> MEDIO | L12: SDG | M12: 1 | N12: =+'EVALUACION CON CONTROLES'!G17 -> Revisión técnica, jurídica y financiera de los documentos formulados. Realización de los comités técnicos internos de la administración para la revisión detallada de los documentos pre contractuales. | O12: =+'EVALUACION CON CONTROLES'!I17 -> 1 | P12: =+'EVALUACION CON CONTROLES'!J17 -> 4 | Q12: =+'EVALUACION CON CONTROLES'!K17 -> 5 | R12: =+'EVALUACION CON CONTROLES'!L17 -> MEDIO | S12: =+'EVALUACION CON CONTROLES'!M17 -> SI | T12: =+'EVALUACION CON CONTROLES'!N17 -> Contratista y FDLSC | U12: =+'EVALUACION CON CONTROLES'!O17 -> Desde la estructuración del proceso | V12: =+'EVALUACION CON CONTROLES'!P17 -> Inicio de actividades en campo. | ... X12: =+'EVALUACION CON CONTROLES'!R17 -> SEMANAL
B13: 3 | C13: =+'EVALUACION CON CONTROLES'!C18:F18 -> Que el proponente no tuviese capacidad técnica, adminsitrativa y/o financiera para cumplir el objeto contractual. | D13: =+'EVALUACION CON CONTROLES'!B18 -> SELECCIÓN | E13: =+'IDENTIFICACION Y ANALISIS'!D21 -> Especifico | F13: =+'IDENTIFICACION Y ANALISIS'!E21 -> Interno | G13: =+EVALUACION!H19 -> *Detrimento patrimonial al Distrito *Afectación del logro de los objetivos y de las metas del proyecto 2502. *Investigaciones y sanciones. | H13: =+EVALUACION!I19 -> 1 | I13: =+EVALUACION!J19 -> 4 | J13: =+EVALUACION!K19 -> 5 | K13: =+EVALUACION!L19 -> MEDIO | L13: SDG | M13: 1 | N13: =+'EVALUACION CON CONTROLES'!G18 -> *Verificación de requistos e idoneidad. *Exigencia degarantias al contratista con la suscripción de pólizas de calidad y cumplimiento. | O13: =+'EVALUACION CON CONTROLES'!I18 -> 1 | P13: =+'EVALUACION CON CONTROLES'!J18 -> 4 | Q13: =+'EVALUACION CON CONTROLES'!K18 -> 5 | R13: =+'EVALUACION CON CONTROLES'!L18 -> MEDIO | S13: =+'EVALUACION CON CONTROLES'!M18 -> SI | T13: =+'EVALUACION CON CONTROLES'!N18 -> FDLSC | U13: =+'EVALUACION CON CONTROLES'!O18 -> Desde la evaluacion pre selección del contratista | V13: =+'EVALUACION CON CONTROLES'!P18 -> Adjudicacion del contrato | ... X13: =+'EVALUACION CON CONTROLES'!R18 -> ANTES DE INICIAR EL CONTRATO Y MENSUAL
B14: 4 | C14: =+'EVALUACION CON CONTROLES'!C19:F19 -> No presentación de proponentes | D14: =+'EVALUACION CON CONTROLES'!B19 -> SELECCIÓN | E14: =+'IDENTIFICACION Y ANALISIS'!D22 -> Especifico | F14: =+'IDENTIFICACION Y ANALISIS'!E22 -> Interno | G14: =+EVALUACION!H20 -> No permitirá la adjudicacion del contrato en los tiempos determinados y presupuestados. | H14: =+EVALUACION!I20 -> 1 | I14: =+EVALUACION!J20 -> 4 | J14: =+EVALUACION!K20 -> 5 | K14: =+EVALUACION!L20 -> MEDIO | L14: SDG | M14: 1 | N14: =+'EVALUACION CON CONTROLES'!G19 -> Realización de estudio de mercado y adecuada tasación de precios. | O14: =+'EVALUACION CON CONTROLES'!I19 -> 1 | P14: =+'EVALUACION CON CONTROLES'!J19 -> 4 | Q14: =+'EVALUACION CON CONTROLES'!K19 -> 5 | R14: =+'EVALUACION CON CONTROLES'!L19 -> MEDIO | S14: =+'EVALUACION CON CONTROLES'!M19 -> SI | T14: =+'EVALUACION CON CONTROLES'!N19 -> FDLSC | U14: =+'EVALUACION CON CONTROLES'!O19 -> En el proceso precontractual, desde la proyección del estudio previo, anexo técnico y demás documentos del proyecto. | V14: =+'EVALUACION CON CONTROLES'!P19 -> Antes del cierre de ofertas | ... X14: =+'EVALUACION CON CONTROLES'!R19 -> Una Vez antes del inicio del proceso
B15: 5 | C15: =+'EVALUACION CON CONTROLES'!C20:F20 -> Contigencias por el contratista en la entrega de las áreas intervenidas en campo. | D15: =+'EVALUACION CON CONTROLES'!B20 -> EJECUCIÓN | E15: =+'IDENTIFICACION Y ANALISIS'!D23 -> General | F15: =+'IDENTIFICACION Y ANALISIS'!E23 -> Interno | G15: =+EVALUACION!H21 -> Retraso y /o incumplimiento de las metas. | H15: =+EVALUACION!I21 -> 2 | I15: =+EVALUACION!J21 -> 2 | J15: =+EVALUACION!K21 -> 4 | K15: =+EVALUACION!L21 -> BAJO | L15: CONTRATISTA | M15: 1 | N15: =+'EVALUACION CON CONTROLES'!G20 -> Seguimiento permanente y solicitud al contratista de la trazabilidad del proceso así como la posible gestión de una prorroga. Suscripción de pólizas de cumplimiento. | O15: =+'EVALUACION CON CONTROLES'!I20 -> 2 | P15: =+'EVALUACION CON CONTROLES'!J20 -> 2 | Q15: =+'EVALUACION CON CONTROLES'!K20 -> 4 | R15: =+'EVALUACION CON CONTROLES'!L20 -> BAJO | S15: =+'EVALUACION CON CONTROLES'!M20 -> SI | T15: =+'EVALUACION CON CONTROLES'!N20 -> Contratista | U15: =+'EVALUACION CON CONTROLES'!O20 -> A partir del momento en que se da inicio a las entregas y ejecución del contrato. | V15: =+'EVALUACION CON CONTROLES'!P20 -> A partir del momento en que se concluye las entregas y ejecución del contrato. | ... X15: =+'EVALUACION CON CONTROLES'!R20 -> Dentro del periodo de ocurrencia
B16: 6 | C16: =+'EVALUACION CON CONTROLES'!C21:F21 -> Retrasos en las intervenciones por labores que dependen de terceros | D16: =+'EVALUACION CON CONTROLES'!B21 -> EJECUCIÓN | E16: =+'IDENTIFICACION Y ANALISIS'!D24 -> General | F16: =+'IDENTIFICACION Y ANALISIS'!E24 -> Interno | G16: =+EVALUACION!H22 -> Retraso en el desarrollo de las acciones y cronogramas previstos. | H16: =+EVALUACION!I22 -> 3 | I16: =+EVALUACION!J22 -> 2 | J16: =+EVALUACION!K22 -> 5 | K16: =+EVALUACION!L22 -> MEDIO | L16: CONTRATISTA | M16: 1 | N16: =+'EVALUACION CON CONTROLES'!G21 -> Seguimiento permanente al avance de contrato. Gestión interinsitucional para apoyar al contratista en trámites o gestiones con terceros. Respuesta oportuna a imprevistos de las partes. | O16: =+'EVALUACION CON CONTROLES'!I21 -> 3 | P16: =+'EVALUACION CON CONTROLES'!J21 -> 2 | Q16: =+'EVALUACION CON CONTROLES'!K21 -> 5 | R16: =+'EVALUACION CON CONTROLES'!L21 -> MEDIO | S16: =+'EVALUACION CON CONTROLES'!M21 -> SI | T16: =+'EVALUACION CON CONTROLES'!N21 -> Contratista y FDLSC | U16: =+'EVALUACION CON CONTROLES'!O21 -> A partir del inicio del contrato | V16: =+'EVALUACION CON CONTROLES'!P21 -> hasta su terminación y/o liquidación. | ... X16: =+'EVALUACION CON CONTROLES'!R21 -> MENSUAL
B17: 7 | C17: =+'EVALUACION CON CONTROLES'!C22:F22 -> Imposibilidad de la intervención por factores sociales, intervención o resistencia de la comunidad. | D17: =+'EVALUACION CON CONTROLES'!B22 -> EJECUCIÓN | E17: =+'IDENTIFICACION Y ANALISIS'!D25 -> Especifico | F17: =+'IDENTIFICACION Y ANALISIS'!E25 -> Interno | G17: =+EVALUACION!H23 -> Retraso en el desarrollo de las acciones y cronogramas previstos. Situaciones de encuentro con la comunidad y disociaciones al respecto. Procesos legales. | H17: =+EVALUACION!I23 -> 1 | I17: =+EVALUACION!J23 -> 1 | J17: =+EVALUACION!K23 -> 2 | K17: =+EVALUACION!L23 -> BAJO | L17: SDG | M17: 1 | N17: =+'EVALUACION CON CONTROLES'!G22 -> Selección de lugares de intervención con viabilidad técnica y mantenimiento de canales de comunicación abiertos a la comunidad de forma permanente. Contar con un profesional social de apoyo en las intervenciones y espacios de socializaciones a la comunidad. | O17: =+'EVALUACION CON CONTROLES'!I22 -> 1 | P17: =+'EVALUACION CON CONTROLES'!J22 -> 1 | Q17: =+'EVALUACION CON CONTROLES'!K22 -> 2 | R17: =+'EVALUACION CON CONTROLES'!L22 -> BAJO | S17: =+'EVALUACION CON CONTROLES'!M22 -> SI | T17: =+'EVALUACION CON CONTROLES'!N22 -> Contratista y FDLSC | U17: =+'EVALUACION CON CONTROLES'!O22 -> A partir del inicio del contrato | V17: =+'EVALUACION CON CONTROLES'!P22 -> hasta su terminación y/o liquidación. | ... X17: =+'EVALUACION CON CONTROLES'!R22 -> MENSUAL
B18: 8 | C18: =+'EVALUACION CON CONTROLES'!C23:F23 -> Afectaciones a la integridad o salud física de los operacios o terceros en el desarrollo de las obras o labores. | D18: =+'EVALUACION CON CONTROLES'!B23 -> EJECUCIÓN | E18: =+'IDENTIFICACION Y ANALISIS'!D26 -> General | F18: =+'IDENTIFICACION Y ANALISIS'!E26 -> Interno | G18: =+EVALUACION!H24 -> Demandas de terceros, procesos legales, suspensión del contrato y demoras en la ejecución. | H18: =+EVALUACION!I24 -> 1 | I18: =+EVALUACION!J24 -> 3 | J18: =+EVALUACION!K24 -> 4 | K18: =+EVALUACION!L24 -> BAJO | L18: CONTRATISTA | M18: 1 | N18: =+'EVALUACION CON CONTROLES'!G23 -> Exigencia del cumplimiento del plan de riesgos laborales y uso de EPP. Cumplimiento de aportes al sistema de seguridad social y salud. Pólizas de responsabilidad civil extracontractual. | O18: =+'EVALUACION CON CONTROLES'!I23 -> 1 | P18: =+'EVALUACION CON CONTROLES'!J23 -> 3 | Q18: =+'EVALUACION CON CONTROLES'!K23 -> 4 | R18: =+'EVALUACION CON CONTROLES'!L23 -> BAJO | S18: =+'EVALUACION CON CONTROLES'!M23 -> SI | T18: =+'EVALUACION CON CONTROLES'!N23 -> Contratista y FDLSC | U18: =+'EVALUACION CON CONTROLES'!O23 -> A partir del inicio del contrato | V18: =+'EVALUACION CON CONTROLES'!P23 -> hasta su terminación y/o liquidación. | ... X18: =+'EVALUACION CON CONTROLES'!R23 -> SEMANAL Y MENSUAL.
B19: 9 | C19: =+'EVALUACION CON CONTROLES'!C24:F24 -> Demora en la radicación oportuna de los informes por parte del contratista | D19: =+'EVALUACION CON CONTROLES'!B24 -> EJECUCIÓN | E19: =+'IDENTIFICACION Y ANALISIS'!D27 -> General | F19: =+'IDENTIFICACION Y ANALISIS'!E27 -> Interno | G19: =+EVALUACION!H25 -> Inconvenientes en la ejecución presupuestal y seguimeinto de las labores convenidas. | H19: =+EVALUACION!I25 -> 4 | I19: =+EVALUACION!J25 -> 2 | J19: =+EVALUACION!K25 -> 6 | K19: =+EVALUACION!L25 -> ALTO | L19: CONTRATISTA | M19: 1 | N19: =+'EVALUACION CON CONTROLES'!G24 -> Establecimiento y seguimiento de cronogramas. Requerimientos oportunos al contratista. | O19: =+'EVALUACION CON CONTROLES'!I24 -> 4 | P19: =+'EVALUACION CON CONTROLES'!J24 -> 2 | Q19: =+'EVALUACION CON CONTROLES'!K24 -> 6 | R19: =+'EVALUACION CON CONTROLES'!L24 -> ALTO | S19: =+'EVALUACION CON CONTROLES'!M24 -> SI | T19: =+'EVALUACION CON CONTROLES'!N24 -> Contratista y FDLSC | U19: =+'EVALUACION CON CONTROLES'!O24 -> A partir del inicio del contrato | V19: =+'EVALUACION CON CONTROLES'!P24 -> hasta su terminación y/o liquidación. | ... X19: =+'EVALUACION CON CONTROLES'!R24 -> MENSUAL
B20: 10 | C20: =+'EVALUACION CON CONTROLES'!C25:F25 -> Fluctuación de los precios de los insumos y combustibles, desabasteciomiento de materia prima y especulación de precios. | D20: =+'EVALUACION CON CONTROLES'!B25 -> EJECUCION | E20: =+'IDENTIFICACION Y ANALISIS'!D28 -> General | F20: =+'IDENTIFICACION Y ANALISIS'!E28 -> Interno | G20: =+EVALUACION!H26 -> Retrasos en la ejecución del contrato, posible variación del mismo, imposibilidad del contratista para continuar con la ejecución del convenio, desequilibrio económico. | H20: =+EVALUACION!I26 -> 1 | I20: =+EVALUACION!J26 -> 2 | J20: =+EVALUACION!K26 -> 3 | K20: =+EVALUACION!L26 -> BAJO | L20: CONTRATISTA | M20: 1 | N20: =+'EVALUACION CON CONTROLES'!G25 -> Revisión periódica del mercado en materia de fluctuación de precios | O20: =+'EVALUACION CON CONTROLES'!I25 -> 1 | P20: =+'EVALUACION CON CONTROLES'!J25 -> 2 | Q20: =+'EVALUACION CON CONTROLES'!K25 -> 3 | R20: =+'EVALUACION CON CONTROLES'!L25 -> BAJO | S20: =+'EVALUACION CON CONTROLES'!M25 -> SI | T20: =+'EVALUACION CON CONTROLES'!N25 -> Contratista | U20: =+'EVALUACION CON CONTROLES'!O25 -> A partir del inicio del contrato | V20: =+'EVALUACION CON CONTROLES'!P25 -> hasta su terminación y/o liquidación. | ... X20: =+'EVALUACION CON CONTROLES'!R25 -> MENSUAL
B31: 10 | C31: =+'EVALUACION CON CONTROLES'!C36:F36 -> incumplimiento normativo por entregar alimentos (refrigerios/almuerzos) sin el estricto control de la Resolución 2674 de 2013. | D31: =+'EVALUACION CON CONTROLES'!B36 -> EJECUCIÓN | E31: =+'IDENTIFICACION Y ANALISIS'!D39 -> Especifico | F31: =+'IDENTIFICACION Y ANALISIS'!E39 -> Interno | G31: =EVALUACION!H27 -> Posibles afectaciones a la salud de los participantes por enfermedades transmitidas por alimentos, intoxicaciones o contaminación de los productos suministrados; adopción de medidas sanitarias preventivas y aplicación de sanciones por parte de las autoridades competentes; incumplimiento de las obligaciones contractuales; necesidad de reposición de los alimentos y generación de costos adicionales; posibles reclamaciones por daños ocasionados y afectación de la imagen institucional de la Alcaldía Local, como consecuencia del incumplimiento de los requisitos sanitarios establecidos en la Resolución 2674 de 2013 y demás normativa aplicable. | H31: 1 | I31: 4 | J31: =+EVALUACION!K37 -> 0 | K31: =EVALUACION!L27 -> MEDIO | L31: CONTRATISTA | M31: 1 | N31: =+'EVALUACION CON CONTROLES'!G36 -> Entrega de soportes de compra, procedencia y trazabilidad de los alimentos, cuando corresponda. Verificación de las condiciones sanitarias del proveedor y del establecimiento donde se preparan los alimentos. | O31: =+'EVALUACION CON CONTROLES'!I36 -> 1 | P31: =+'EVALUACION CON CONTROLES'!J36 -> 4 | Q31: =+'EVALUACION CON CONTROLES'!K36 -> 5 | R31: =+'EVALUACION CON CONTROLES'!L36 -> MEDIO | S31: =+'EVALUACION CON CONTROLES'!M36 -> SI | T31: =+'EVALUACION CON CONTROLES'!N36 -> Contratista | U31: =+'EVALUACION CON CONTROLES'!O36 -> A partir del inicio del contrato | V31: =+'EVALUACION CON CONTROLES'!P36 -> hasta su terminación y/o liquidación. | ... X31: =+'EVALUACION CON CONTROLES'!R36 -> MENSUAL
B32: 10 | C32: =+'EVALUACION CON CONTROLES'!C37:F37 -> Desabastecimiento de insumos agrícolas, de papeleria y de ferreteria para el cumplimiento de actividades de entregas de insumos,kits etc. | D32: =+'EVALUACION CON CONTROLES'!B37 -> EJECUCIÓN | E32: =+'IDENTIFICACION Y ANALISIS'!D40 -> General | F32: =+'IDENTIFICACION Y ANALISIS'!E40 -> Interno | G32: =EVALUACION!H28 -> Retrasos en la implementación y fortalecimiento de las huertas urbanas y periurbanas; interrupción de las actividades de siembra, mantenimiento y producción agrícola; incumplimiento del cronograma y de las metas contractuales; afectación al desarrollo de las iniciativas beneficiarias y a la participación comunitaria; posibles costos adicionales por adquisición y transporte de insumos; disminución de la productividad y pérdida de material vegetal, así como afectación al cumplimiento del objeto contractual y a la satisfacción de la población beneficiaria | H32: 1 | I32: 3 | J32: =+EVALUACION!K38 -> 0 | K32: =EVALUACION!L28 -> BAJO | L32: CONTRATISTA | M32: 1 | N32: =+'EVALUACION CON CONTROLES'!G37 -> elaborar y presentar a la supervisión una programación de adquisición y entrega de los insumos agrícolas, de papelería y de ferretería requeridos para la ejecución de las actividades contractuales, verificando previamente su disponibilidad y tiempos de entrega. | O32: =+'EVALUACION CON CONTROLES'!I37 -> 1 | P32: =+'EVALUACION CON CONTROLES'!J37 -> 3 | Q32: =+'EVALUACION CON CONTROLES'!K37 -> 4 | R32: =+'EVALUACION CON CONTROLES'!L37 -> BAJO | S32: =+'EVALUACION CON CONTROLES'!M37 -> SI | T32: =+'EVALUACION CON CONTROLES'!N37 -> Contratista | U32: =+'EVALUACION CON CONTROLES'!O37 -> A partir del inicio del contrato | V32: =+'EVALUACION CON CONTROLES'!P37 -> hasta su terminación y/o liquidación. | ... X32: =+'EVALUACION CON CONTROLES'!R37 -> MENSUAL
B33: 10 | C33: =+'EVALUACION CON CONTROLES'!C38:F38 -> Presencia de plagas y enfermedades en el material vegetal vivo | D33: =+'EVALUACION CON CONTROLES'!B38 -> EJECUCIÓN | E33: =+'IDENTIFICACION Y ANALISIS'!D41 -> General | F33: =+'IDENTIFICACION Y ANALISIS'!E41 -> Interno | G33: =EVALUACION!H29 -> Afectación fitosanitaria de las plantas, disminución de su calidad y viabilidad, retraso en el establecimiento y desarrollo de las huertas urbanas y periurbanas, pérdida o mortalidad del material vegetal suministrado, propagación de plagas y enfermedades a los cultivos existentes, incremento de los costos de reposición y control fitosanitario, incumplimiento de las metas y obligaciones contractuales, y afectación a la sostenibilidad de las iniciativas agrícolas beneficiarias. | H33: 1 | I33: 2 | J33: =+EVALUACION!K39 -> 0 | K33: =EVALUACION!L29 -> BAJO | L33: CONTRATISTA | M33: 1 | N33: =+'EVALUACION CON CONTROLES'!G38 -> el material vegetal suministrado cumpla con las condiciones de calidad y sanidad requeridas, mediante la adquisición a proveedores confiables y la verificación fitosanitaria previa a su entrega. Asimismo, deberá inspeccionar las plantas para identificar oportunamente la presencia de plagas, enfermedades o daños que puedan comprometer su viabilidad, y garantizar condiciones adecuadas de almacenamiento, transporte y manipulación. | O33: =+'EVALUACION CON CONTROLES'!I38 -> 1 | P33: =+'EVALUACION CON CONTROLES'!J38 -> 2 | Q33: =+'EVALUACION CON CONTROLES'!K38 -> 3 | R33: =+'EVALUACION CON CONTROLES'!L38 -> BAJO | S33: =+'EVALUACION CON CONTROLES'!M38 -> SI | T33: =+'EVALUACION CON CONTROLES'!N38 -> Contratista | U33: =+'EVALUACION CON CONTROLES'!O38 -> A partir del inicio del contrato | V33: =+'EVALUACION CON CONTROLES'!P38 -> hasta su terminación y/o liquidación. | ... X33: =+'EVALUACION CON CONTROLES'!R38 -> MENSUAL
F50: Categoria | J50: Impacto del Riesgo
E51: Probabilidad | F51: Catagoria | G51: Valoración | J51: Categoria | L51: Valoración
F52: Raro (puede ocurrir excepcionalmente) | G52: 1 | J52: Insignificante | L52: 1
F53: Improbable (puede ocurrir ocasionalmente) | G53: 2 | J53: Menor | L53: 2
F54: Posible (puede ocurrir en cualquier momento futuro) | G54: 3 | J54: Moderado | L54: 3
F55: Probable (probablemente va a ocurrir) | G55: 4 | J55: Mayor | L55: 4
F56: Casi cierto (ocurre en la mayoria de circunstancias) | G56: 5 | J56: Catastrófico | L56: 5
D58: Valoración del Riesgo
D59: Catagoria | E59: Valoración | F59: Insignificante | H59: Menor | J59: Moderado | K59: Mayor | L59: Catastrófico | P59: Categoria del Riesgo
F60: 1 | H60: 2 | J60: 3 | K60: 4 | L60: 5 | P60: Valoración del Riesgo | S60: Categoría
D61: Raro (puede ocurrir excepcionalmente) | E61: 1 | F61: 2 | H61: 3 | J61: 4 | K61: 5 | L61: 6 | P61: 8, 9 y 10 | S61: Riesgo extremo
D62: Improbable (puede ocurrir ocasionalmente) | E62: 2 | F62: 3 | H62: 4 | J62: 5 | K62: 6 | L62: 7 | P62: 6 y 7 | S62: Riesgo alto
D63: Posible (puede ocurrir en cualquier momento futuro) | E63: 3 | F63: 4 | H63: 5 | J63: 6 | K63: 7 | L63: 8 | P63: 5 | S63: Riesgo medio
D64: Probable (probablemente va a ocurrir) | E64: 4 | F64: 5 | H64: 6 | J64: 7 | K64: 8 | L64: 9 | P64: 2, 3 y 4 | S64: Riesgo bajo
D65: Casi cierto (ocurre en la mayoria de circunstancias) | E65: 5 | F65: 6 | H65: 7 | J65: 8 | K65: 9 | L65: 10
