Workbook
Name contratación: 'IDENTIFICACION Y ANALISIS'!$B$25:$B$25
Name ejecución: 'IDENTIFICACION Y ANALISIS'!$B$27:$B$41
Name OPCIONES: 'ASIGNACION Y TRATAMIENTO'!$B$52:$B$54
Name OPCIONES: 'ASIGNACION Y TRATAMIENTO'!$B$52:$B$54
Name OPCIONES: #REF!
Name planeación: 'IDENTIFICACION Y ANALISIS'!#REF!
Name selección: 'IDENTIFICACION Y ANALISIS'!$B$23:$B$23

Sheet CONTEXTO
C2: MATRIZ DE RIESGOS EN CONTRATACIÓN | F2: Código: GCO-GCI-F164 Versión: 02 Vigencia: 01 de diciembre de 2022 Caso HOLA: 280117
B6: ESTABLECER EL CONTEXTO
B7: El punto inicial es identificar el contexto en el cual interactúa la Entidad Estatal para conocer el ambiente social, económico y político, e identificar (i) sus propios Riesgos; (ii) los Riesgos comunes a sus Procesos de Contratación; y (iii) los Riesgos del Proceso de Contratación en particular. (Aplica igual para contratos interadministrativos) En este paso la Entidad Estatal debe identificar los aspectos que se mencionan a continuación y los posibles efectos adversos que estos pueden generar.
B8: Objeto del Proceso de Contratación: CONTRATAR A MONTO AGOTABLE LA ADQUISICIÓN, SUMINISTRO, TRANSPORTE, Y ENTREGA DE ELEMENTOS PARA LA DOTACIÓN DE UNIDADES OPERATIVAS DE ATENCIÓN A INFANCIA, JUVENTUD, PERSONA MAYOR, PERSONA CON DISCAPACIDAD Y CENTROS DE DESARROLLO COMUNITARIO, EN LA LOCALIDAD DE SAN CRISTÓBAL, EN EL MARCO DEL PROYECTO DE INVERSIÓN 2791 CRECIENDO JUNTOS: ATENCIÓN INTEGRAL Y OPORTUNIDADES PARA LA COMUNIDAD
B9: Partícipes del Proceso de Contratación: Agentes externos (Organismos de control, veedurías ciudadanas), agentes internos (supervisores, funcionarios y demás usuarios).
B10: Ciudadanía que se beneficia del Proceso de Contratación: INFANCIA, JUVENTUD, PERSONA MAYOR, PERSONA CON DISCAPACIDAD
B11: Capacidad de la Entidad Estatal entendida como la disponibilidad de recursos y conocimientos para el Proceso de Contratación: La disponibilidad de la Entidad de sus recursos y el conocimiento de su equipo humano se refleja en los diferentes funcionarios que participarán en las diversas etapas del proceso de selección: participan las áreas que requieren los procesos de contratación (Etapa de Planeación), Dirección de Contratación, Comité Evaluador (Etapa de selección), Dirección de Contratación (Etapa de contratación) y la supervisión y apoyos a la misma (Estapa de Ejecución).
B12: Suficiencia del presupuesto oficial del Proceso de Contratación: De acuerdo al Plan Anual de Adquisiciones se deben estimar los recursos necesarios para el desarrollo del proceso de la contratación, el cual tendrá el soporte presupuestal suficiente para su desarrollo.
B13: Condiciones geográficas y de acceso del lugar en el cual se debe cumplir el objeto del Proceso de Contratación: El suministro, obra o servicio se prestará principalmente en las Sedes de la Entidad, o en el lugar indicado en los estudios previos del proceso.
B14: Entorno socio ambiental: Integración social
B15: Condiciones políticas: Si aplican
B16: Factores ambientales.
B17: Sector del objeto del Proceso de Contratación y su mercado.
... B19: Experiencia propia y de otras Entidades Estatales en Procesos de Contratación del mismo tipo.

Sheet IDENTIFICACION Y ANALISIS
C2: MATRIZ DE RIESGOS DE CONTRATACIÓN | F2: Código: GCO-GCI-F164 Versión: 02 Vigencia: 01 de diciembre de 2022 Caso HOLA: 280117
B6: DEFINICIONES
B7: RIESGO: Evento que puede generar efectos adversos y de distinta magnitud en el logro de los objetivos del Proceso de Contratación o en la ejecución de un contrato RIESGOS PREVISIBLES: Son los posibles hechos o circunstancias que por la naturaleza del contrato y de la actividad a ejecutar es factible su ocurrencia. ETAPA DE PLANEACIÓN: Está comprendida desde el momento en que se identifican las necesidades que debe satisfacer la Secretaría Distrital de Gobierno y los Fondos de Desarrollo Local, a través del abastecimiento de bienes, obras o servicios, la elaboración del Plan Anual de Adquisiciones y la estructuración de los documentos y estudios previos. ETAPA DE SELECCIÓN: Está comprendida entre el acto de Apertura del Proceso de Contratación y la Adjudicación o la declaración de desierto del Proceso de Contratación ETAPA DE CONTRATACIÓN: Una vez adjudicado el contrato objeto del Proceso de Contratación, inicia la etapa para la celebración del contrato y el cumplimiento de los requisitos para de perfeccionamiento y ejecución. ETAPA DE EJECUCIÓN: Inicia una vez cumplidos los requisitos previstos para iniciar la ejecución del contrato respectivo y termina con el vencimiento del plazo del contrato o la fecha de liquidación si hay lugar a ella. RIESGO GENERAL: Es un riesgo de todos los procesos de contratación adelantados por la Entidad Estatal, por lo cual está presente en toda su actividad contractual. RIEGO ESPECIFICO: Es un riesgo propio del proceso de contratación objeto de análisis. RIESGOS ECONÓMICOS: Son los derivados del comportamiento del mercado, tales como la fluctuación de los precios de los insumos, desabastecimiento y especulación de los mismos, entre otros. RIESGOS SOCIALES O POLÍTICOS: son los derivados de los cambios de las políticas gubernamentales y de cambios en las condiciones sociales que tengan impacto en la ejecución del contrato. RIESGOS OPERACIONALES: Son los asociados a la operatividad del contrato, tales como la suficiencia del presupuesto oficial, del plazo o los derivados de procesos, procedimientos, parámetros, sistemas de información y tecnológicos, equipos humanos o técnicos inadecuados o insuficientes. RIESGOS FINANCIEROS: Son (i) el riesgo de consecución de financiación o riesgo de liquidez para obtener recursos para cumplir con el objeto del contrato, y (ii) el riesgo de las condiciones financieras establecidas para la obtención de los recursos, tales como plazos, tasas, garantías, contragarantías, y refinanciaciones, entre otros. RIESGOS REGULATORIOS: Derivados de cambios regulatorios o reglamentarios que afecten la ecuación económica del contrato. RIESGOS DE LA NATURALEZA: Son los eventos naturales previsibles en los cuales no hay intervención humana que puedan tener impacto en la ejecución del contrato, por ejemplo los temblores, inundaciones, lluvias, sequías, entre otros. RIESGOS AMBIENTALES: Son los derivados de las obligaciones legales o reglamentarias de carácter ambiental, así como de las licencias, planes de manejo o de permisos y autorizaciones ambientales, incluyendo tasas retributivas y compensatorias, obligaciones de mitigación, tareas de monitoreo y control, entre otras. RIESGOS TECNOLÓGICOS: Son los derivados de fallas en los sistemas de comunicación de voz y de datos, suspensión de servicios públicos, nuevos desarrollos tecnológicos o estándares que deben ser tenidos en cuenta para la ejecución del contrato, obsolescencia tecnológica.
B15: INSTRUCCIONES PARA LA IDENTIFICACIÓN, ANALISIS, EVALUACIÓN , ASIGNACIÓN Y TRATAMIENTO DE RIESGOS EN LA CONTRATACIÓN
B16: 1) Identifique los riesgos previsibles que le apliquen al objeto contractual que se adelante. Los relacionados a continuación se establecen de manera general y como proforma. No obstante, si del objeto contractual se identifican otros riesgos diferentes a los aquí determinados, por favor reemplace el texto de la casilla teniendo en cuenta la etapa del proceso. Así mismo, seleccione la clase, fuente y el tipo (Operacional, Económico, Sociales o Políticos, Regulatorios, Financieros, Tecnológicos, De la naturaleza, Ambientales) 2) Continúe en la hoja de "EVALUACIÓN" (SI EXISTEN DUDAS CONCEPTUALES PARA LA ELABORACIÓN DE LA MATRIZ DE RIESGO CONSULTE EL MANUAL PARA LA IDENTIFICACIÓN Y COBERTURA DEL RIESGO EN LOS PROCESOS DE CONTRATACIÓN EXPEDIDO POR COLOMBIA COMPRA EFICIENTE Y LA GUÍA DE RIESGOS PREVISIBLES CONTRACTUALES, EXPEDIDA POR LA VEEDURÍA DISTRITAL)
B17: ETAPAS | D17: CLASE | E17: FUENTE | F17: TIPO
B18: PLANEACIÓN
B19: Inconsistencias entre el anexo técnico, estudios previos, análisis del sector, estudio de mercado, fichas técnicas y matriz de riesgos. | D19: Específico | E19: Interno | F19: Operacional
B20: Presupuesto oficial o precios unitarios insuficientes, desactualizados o sin soporte verificable frente al comportamiento del mercado. | D20: Específico | E20: Interno | F20: Económico
B21: SELECCIÓN
B22: Baja pluralidad de oferentes por especificaciones técnicas cerradas, referencias comerciales, requisitos habilitantes desproporcionados o códigos UNSPSC restrictivos. | D22: Específico | E22: Interno | F22: Operacional
B23: Presentación de ofertas artificialmente bajas que no cubran costos reales de adquisición, transporte, garantías, instalación o reposición. | D23: Específico | E23: Externo | F23: Económico
B24: CONTRATACIÓN
B25: Demora del adjudicatario en la entrega de documentos para perfeccionamiento, legalización, garantías, RUT o soportes requeridos. | D25: General | E25: Externo | F25: Operacional
B26: EJECUCIÓN
B27: Variación de precios de bienes tecnológicos, audiovisuales o importados por cambios en TRM, costos internacionales o disponibilidad de componentes. | D27: Especifico | E27: Interno | F27: Operacional
B28: Incremento de costos de transporte, combustibles, cargue, descargue, bodegaje o distribución urbana en las unidades operativas priorizadas. | D28: Especifico | E28: Interno | F28: Operacional
B29: Desabastecimiento temporal de inventarios, cambios de referencias comerciales o indisponibilidad de bienes requeridos en el mercado. | D29: Especifico | E29: Interno | F29: Operacional
B30: Entrega de bienes que no cumplen fichas técnicas, calidad mínima, garantía, seguridad, compatibilidad, dimensiones o condiciones equivalentes superiores. | D30: General | E30: Interno | F30: Operacional
B31: Demoras en entregas por falta de coordinación con SDIS, disponibilidad de sedes, horarios de recibo, responsables de almacén o accesibilidad a las unidades. | D31: Específico | E31: Externo | F31: Económico
B32: Daño, pérdida, deterioro o faltantes durante embalaje, transporte, cargue, descargue o instalación de bienes. | D32: Específico | E32: Externo | F32: Económico
B33: Equipos tecnológicos o audiovisuales con licencias, seriales, accesorios, conectividad, compatibilidad eléctrica o software incompletos o no verificables. | D33: Específico | E33: Externo | F33: Económico
B34: Soportes incompletos de remisiones, facturas, garantías, ingreso a almacén, seriales, actas de recibo o consolidado por unidad operativa. | D34: Específico | E34: Externo | F34: Técnico
B35: Demoras en avales, validaciones o articulación interinstitucional con SDIS frente a bienes priorizados, sitios de entrega o responsables de recibo. | D35: Específico | E35: Mixto | F35: Operacional
B36: Cierre temporal, cambio de operación o restricción de acceso a alguna unidad operativa por decisiones administrativas, sociales o de seguridad. | D36: Específico | E36: Externo | F36: Operacional
B37: Lluvias, restricciones de movilidad, bloqueos, alteraciones del orden público o eventos naturales que dificulten la distribución de bienes. | D37: Específico | E37: Externo | F37: Tecnológico
B38: Manejo inadecuado de empaques, residuos, cartón, plásticos o elementos de embalaje generados por la entrega de dotaciones. | D38: General | E38: Mixto | F38: Operacional
... B41: Uso inadecuado de la modalidad de monto agotable, adquisición de bienes no priorizados o agotamiento del presupuesto sin cubrir dotaciones críticas. | D41: Específico | E41: Externo | F41: Social o Político
B46: General
B47: Estatal
B48: Especifico
B50: Interno
B51: Externo

Sheet EVALUACION
C2: MATRIZ DE RIESGOS DE CONTRATACIÓN | K2: Código: GCO-GCI-F164 Versión: 02 Vigencia: 01 de diciembre de 2022 Caso HOLA: 280117
B6: OBJETO CONTRACTUAL: “CONTRATAR A MONTO AGOTABLE EL SUMINISTRO DE BIENES, QUE COMPRENDE SU ADQUISICIÓN, ALISTAMIENTO, TRANSPORTE, ENTREGA Y DEMÁS ACTIVIDADES COMPLEMENTARIAS REQUERIDAS PARA LA DOTACIÓN DE LAS UNIDADES OPERATIVAS DE ATENCIÓN SOCIAL, LOS CENTROS DE DESARROLLO COMUNITARIO Y LAS ORGANIZACIONES COMUNALES PRIORIZADAS EN LOS PROYECTOS DE INVERSIÓN 2791 'CRECIENDO JUNTOS: ATENCIÓN INTEGRAL Y OPORTUNIDADES PARA LA COMUNIDAD' Y 2409 'SAN CRISTÓBAL INCIDENTE', DE CONFORMIDAD CON LAS ESPECIFICACIONES TÉCNICAS DEFINIDAS POR EL FONDO DE DESARROLLO LOCAL DE SAN CRISTÓBAL."
B7: INSTRUCCIONES PARA LA IDENTIFICACIÓN, ANALISIS, EVALUACIÓN , ASIGNACIÓN Y TRATAMIENTO DE RIESGOS EN LA CONTRATACIÓN
B8: 1) Diligencie el objeto contractual y seleccione la(s) etapas y los riesgos que aplican al objeto contractual, de acuerdo a lo definido en la hoja de "IDENTIFICACIÓN Y ANÁLISIS"
B9: 2) Describa las consecuencias de la ocurrencia del Riesgo/evento.
B10: 3) Asigne la probabilidad de ocurrencia del riesgo, de conformidad con la tabla de probabilidad y la valoración del riesgo (Cualitativa o Monetaria)
B11: 4) Asigne el impacto que generaría la materialización del riesgo, de conformidad con la tabla de impacto y la valoración del riesgo (Cualitativa o Monetaria)
B12: 5) Al realizar las anteriores actividades se obtendrá la calificación total y la valoración del riesgo (prioridad).
B13: 6) Continúe en la hoja de "EVALUACIÓN DE CONTROLES"
B15: CALIFICACIÓN | H15: Cualitativa
B16: ETAPA | C16: Descripción (Que puede pasar y, cómo puede ocurrir) | H16: Consecuencias de la ocurrencia del evento | I16: Probabilidad de Ocurrencia | J16: Impacto | K16: Calificación Total | L16: Prioridad
B17: PLANEACIÓN | C17: Inconsistencias entre el anexo técnico, estudios previos, análisis del sector, estudio de mercado, fichas técnicas y matriz de riesgos. | H17: Observaciones de contratación, devolución del proceso, retraso en apertura y riesgo de ajustes posteriores al objeto, plazo, valor o obligaciones. | I17: 3 | J17: 4 | K17: =I17+J17 -> 7 | L17: =IF(K17<=4,"BAJO",IF(K17=5,"MEDIO",IF(K17=6,"ALTO",IF(K17=7,"ALTO","EXTREMO")))) -> ALTO
B18: PLANEACIÓN | C18: Presupuesto oficial o precios unitarios insuficientes, desactualizados o sin soporte verificable frente al comportamiento del mercado. | H18: Ofertas inviables, declaratoria desierta, dificultad para adjudicar, adquisición incompleta de bienes o afectación de metas del Proyecto 2791 y 2409. | I18: 3 | J18: 4 | K18: =+I18+J18 -> 7 | L18: =IF(K18<=4,"BAJO",IF(K18=5,"MEDIO",IF(K18=6,"ALTO",IF(K18=7,"ALTO","EXTREMO")))) -> ALTO
B19: SELECCIÓN | C19: Baja pluralidad de oferentes por especificaciones técnicas cerradas, referencias comerciales, requisitos habilitantes desproporcionados o códigos UNSPSC restrictivos. | H19: Menor competencia, observaciones al pliego, riesgo de direccionamiento, declaratoria desierta o reducción de eficiencia económica de la subasta inversa. | I19: 3 | J19: 3 | K19: =+I19+J19 -> 6 | L19: =IF(K19<=4,"BAJO",IF(K19=5,"MEDIO",IF(K19=6,"ALTO",IF(K19=7,"ALTO","EXTREMO")))) -> ALTO
B20: SELECCIÓN | C20: Presentación de ofertas artificialmente bajas que no cubran costos reales de adquisición, transporte, garantías, instalación o reposición. | H20: Riesgo de incumplimiento, entrega de bienes de menor calidad, solicitudes de modificación contractual o afectación de la ecuación económica. | I20: 3 | J20: 4 | K20: =+I20+J20 -> 7 | L20: =IF(K20<=4,"BAJO",IF(K20=5,"MEDIO",IF(K20=6,"ALTO",IF(K20=7,"ALTO","EXTREMO")))) -> ALTO
B21: CONTRATACIÓN | C21: Demora del adjudicatario en la entrega de documentos para perfeccionamiento, legalización, garantías, RUT o soportes requeridos. | H21: Retraso en acta de inicio, disminución del tiempo efectivo de ejecución y afectación del cronograma de entregas. | I21: 2 | J21: 3 | K21: =+I21+J21 -> 5 | L21: =IF(K21<=4,"BAJO",IF(K21=5,"MEDIO",IF(K21=6,"ALTO",IF(K21=7,"ALTO","EXTREMO")))) -> MEDIO
B22: EJECUCIÓN | C22: Variación de precios de bienes tecnológicos, audiovisuales o importados por cambios en TRM, costos internacionales o disponibilidad de componentes. | H22: Aumento de costos del contratista, riesgo de sustitución de bienes, demoras en entrega o solicitudes de modificación de condiciones. | I22: 3 | J22: 4 | K22: =+I22+J22 -> 7 | L22: =IF(K22<=4,"BAJO",IF(K22=5,"MEDIO",IF(K22=6,"ALTO",IF(K22=7,"ALTO","EXTREMO")))) -> ALTO
B23: EJECUCIÓN | C23: Incremento de costos de transporte, combustibles, cargue, descargue, bodegaje o distribución urbana en las unidades operativas priorizadas. | H23: Afectación de tiempos de entrega, costos logísticos y disponibilidad operativa del contratista. | I23: 3 | J23: 3 | K23: =+I23+J23 -> 6 | L23: =IF(K23<=4,"BAJO",IF(K23=5,"MEDIO",IF(K23=6,"ALTO",IF(K23=7,"ALTO","EXTREMO")))) -> ALTO
B24: EJECUCIÓN | C24: Desabastecimiento temporal de inventarios, cambios de referencias comerciales o indisponibilidad de bienes requeridos en el mercado. | H24: Retrasos, entregas parciales incompletas, necesidad de sustitución técnica y riesgo de incumplimiento de metas de dotación. | I24: 4 | J24: 4 | K24: =+I24+J24 -> 8 | L24: =IF(K24<=4,"BAJO",IF(K24=5,"MEDIO",IF(K24=6,"ALTO",IF(K24=7,"ALTO","EXTREMO")))) -> EXTREMO
B25: EJECUCIÓN | C25: Entrega de bienes que no cumplen fichas técnicas, calidad mínima, garantía, seguridad, compatibilidad, dimensiones o condiciones equivalentes superiores. | H25: Rechazo de bienes, retraso en pagos, necesidad de reposición, afectación de servicios sociales y posible detrimento patrimonial. | I25: 3 | J25: 4 | K25: =+I25+J25 -> 7 | L25: =IF(K25<=4,"BAJO",IF(K25=5,"MEDIO",IF(K25=6,"ALTO",IF(K25=7,"ALTO","EXTREMO")))) -> ALTO
B26: EJECUCIÓN | C26: Demoras en entregas por falta de coordinación con SDIS, disponibilidad de sedes, horarios de recibo, responsables de almacén o accesibilidad a las unidades. | H26: Incumplimiento del cronograma, acumulación de entregas, afectación de población beneficiaria y retraso en la ejecución financiera. | I26: 3 | J26: 4 | K26: =+I26+J26 -> 7 | L26: =IF(K26<=4,"BAJO",IF(K26=5,"MEDIO",IF(K26=6,"ALTO",IF(K26=7,"ALTO","EXTREMO")))) -> ALTO
B27: EJECUCIÓN | C27: Daño, pérdida, deterioro o faltantes durante embalaje, transporte, cargue, descargue o instalación de bienes. | H27: Reposiciones, retrasos, reclamaciones, afectación de calidad y posibles costos adicionales para el contratista. | I27: 2 | J27: 4 | K27: =+I27+J27 -> 6 | L27: =IF(K27<=4,"BAJO",IF(K27=5,"MEDIO",IF(K27=6,"ALTO",IF(K27=7,"ALTO","EXTREMO")))) -> ALTO
B28: EJECUCIÓN | C28: Equipos tecnológicos o audiovisuales con licencias, seriales, accesorios, conectividad, compatibilidad eléctrica o software incompletos o no verificables. | H28: Imposibilidad de uso institucional, rechazo de bienes, pérdida de funcionalidad, riesgos de legalidad de software y retraso en recibo a satisfacción. | I28: 3 | J28: 4 | K28: =+I28+J28 -> 7 | L28: =IF(K28<=4,"BAJO",IF(K28=5,"MEDIO",IF(K28=6,"ALTO",IF(K28=7,"ALTO","EXTREMO")))) -> ALTO
B29: EJECUCIÓN | C29: Soportes incompletos de remisiones, facturas, garantías, ingreso a almacén, seriales, actas de recibo o consolidado por unidad operativa. | H29: Retraso en pagos, dificultades de inventario, observaciones de control, problemas en liquidación y trazabilidad insuficiente del gasto. | I29: 3 | J29: 3 | K29: =+I29+J29 -> 6 | L29: =IF(K29<=4,"BAJO",IF(K29=5,"MEDIO",IF(K29=6,"ALTO",IF(K29=7,"ALTO","EXTREMO")))) -> ALTO
... B36: EJECUCIÓN | C36: Persistencia de novedades de calidad, reposición, garantías, almacén o soportes documentales que impidan el cierre y liquidación oportuna. | H36: Retraso en liquidación, saldos sin liberar, reclamaciones pendientes y observaciones administrativas o fiscales. | I36: 2 | J36: 3 | K36: =+I36+J36 -> 5 | L36: =IF(K36<=4,"BAJO",IF(K36=5,"MEDIO",IF(K36=6,"ALTO",IF(K36=7,"ALTO","EXTREMO")))) -> MEDIO
B39: Probabilidad | C39: Categoria | E39: Valoración | G39: Impacto | H39: Categoria | I39: Valoración
C40: Raro (puede ocurrir excepcionalmente) | E40: 1 | H40: Insignificante | I40: 1
C41: Improbable (puede ocurrir ocasionalmente) | E41: 2 | H41: Menor | I41: 2
C42: Posible (puede ocurrir en cualquier momento futuro) | E42: 3 | H42: Moderado | I42: 3
C43: Probable (probablemente va a ocurrir) | E43: 4 | H43: Mayor | I43: 4
C44: Casi cierto (ocurre en la mayoria de circunstancias) | E44: 5 | H44: Catastrófico | I44: 5
C46: Valoración del Riesgo
C47: Calificación Cualitativa | F47: Obstruye la ejecución del contrato de manera intrascendente. | G47: Dificulta la ejecución del contrato de manera baja, aplicando medidas mínimas se pueden lograr el objeto contractual | H47: Afecta la ejecución del contrato sin alterar el beneficio para las partes | I47: Obstruye la ejecución del contrato sustancialmente pero aun así permite la consecución del objeto contractual | K47: Perturba la ejecución del contrato de manera grave imposibilitando la consecución del objeto contractual.
C48: Calificación Monetaria | F48: Los sobrecostos no representan más del uno por ciento (1%) del valor del contrato. | G48: Los sobrecostos no representan más del cinco por ciento (5%) del valor del contrato. | H48: Genera un impacto sobre el valor del contrato entre el cinco (5%) y el quince por ciento (15%). | I48: Incrementa el valor del contrato entre el quince (15%) y el treinta por ciento (30%). | K48: Impacto sobre el valor del contrato en más del treinta por ciento (30%).
C49: Categoría | E49: Valoración | F49: Insignificante | G49: Menor | H49: Moderado | I49: Mayor | K49: Catastrófico
F50: 1 | G50: 2 | H50: 3 | I50: 4 | K50: 5
C51: Raro (puede ocurrir excepcionalmente) | E51: 1 | F51: 2 | G51: 3 | H51: 4 | I51: 5 | K51: 6
C52: Improbable (puede ocurrir ocasionalmente) | E52: 2 | F52: 3 | G52: 4 | H52: 5 | I52: 6 | K52: 7
C53: Posible (puede ocurrir en cualquier momento futuro) | E53: 3 | F53: 4 | G53: 5 | H53: 6 | I53: 7 | K53: 8
C54: Probable (probablemente va a ocurrir) | E54: 4 | F54: 5 | G54: 6 | H54: 7 | I54: 8 | K54: 9
...

Sheet EVALUACION CON CONTROLES
C2: MATRIZ DE RIESGOS DE CONTRATACIÓN | Q2: Código: GCO-GCI-F164 Versión: 02 Vigencia: 01 de diciembre de 2022 Caso HOLA: 280117
B6: =EVALUACION!B6 -> OBJETO CONTRACTUAL: “CONTRATAR A MONTO AGOTABLE EL SUMINISTRO DE BIENES, QUE COMPRENDE SU ADQUISICIÓN, ALISTAMIENTO, TRANSPORTE, ENTREGA Y DEMÁS ACTIVIDADES COMPLEMENTARIAS REQUERIDAS PARA LA DOTACIÓN DE LAS UNIDADES OPERATIVAS DE ATENCIÓN SOCIAL, LOS CENTROS DE DESARROLLO COMUNITARIO Y LAS ORGANIZACIONES COMUNALES PRIORIZADAS EN LOS PROYECTOS DE INVERSIÓN 2791 'CRECIENDO JUNTOS: ATENCIÓN INTEGRAL Y OPORTUNIDADES PARA LA COMUNIDAD' Y 2409 'SAN CRISTÓBAL INCIDENTE', DE CONFORMIDAD CON LAS ESPECIFICACIONES TÉCNICAS DEFINIDAS POR EL FONDO DE DESARROLLO LOCAL DE SAN CRISTÓBAL."
B7: INSTRUCCIONES PARA LA IDENTIFICACIÓN, ANALISIS, EVALUACIÓN , ASIGNACIÓN Y TRATAMIENTO DE RIESGOS EN LA CONTRATACIÓN
B8: 1) Describa el tratamiento/controles a ser implementados
B9: 2) Diligencie la información de las siguientes columnas, de acuerdo con el análisis realizado a cada riesgo: Afecta el equilibrio económico, persona responsable de implementar el tratamiento, fecha estimada de inicio del tratamiento, fecha estimada en la que se completa el tratamiento, cómo se realiza el monitoreo y la periodicidad.
B10: 3) Continúe en la hoja de "ASIGNACIÓN Y TRATAMIENTO" y diligencie las siguientes casillas: A quien se le asigna y el porcentaje que asume cada una de las partes en caso de que sea compartido.
B15: ETAPA | C15: Descripción (Que puede pasar y, cómo puede ocurrir) | G15: Tratamiento/Controles a ser implementados | I15: Probabilidad de Ocurrencia | J15: Impacto | K15: Calificación Total | L15: Prioridad | M15: ¿Afecta el equilibrio económico del contrato? | N15: Persona responsable por implementar el tratamiento | O15: Fecha estimada en que se inicia el tratamiento | P15: Fecha estimada en que se completa el tratamiento | Q15: ¿Cómo se realiza el monitoreo? | R15: Periodicidad ¿Cuándo?
B16: PLANEACIÓN | C16: Inconsistencias entre el anexo técnico, estudios previos, análisis del sector, estudio de mercado, fichas técnicas y matriz de riesgos. | G16: =+EVALUACION!H17 -> Observaciones de contratación, devolución del proceso, retraso en apertura y riesgo de ajustes posteriores al objeto, plazo, valor o obligaciones. | I16: =+EVALUACION!I17 -> 3 | J16: =+EVALUACION!J17 -> 4 | K16: =+I16+J16 -> 7 | L16: =IF(K16<=4,"BAJO",IF(K16=5,"MEDIO",IF(K16=6,"ALTO",IF(K16=7,"ALTO","EXTREMO")))) -> ALTO | M16: No | N16: FDLSC | O16: ETAPA DE PLANEACIÓN | P16: Apertura del proceso | Q16: Lista de chequeo documental, actas de revisión y versiones finales aprobadas. | R16: Semanal durante estructuración
B17: PLANEACIÓN | C17: Presupuesto oficial o precios unitarios insuficientes, desactualizados o sin soporte verificable frente al comportamiento del mercado. | G17: =+EVALUACION!H18 -> Ofertas inviables, declaratoria desierta, dificultad para adjudicar, adquisición incompleta de bienes o afectación de metas del Proyecto 2791 y 2409. | I17: =+EVALUACION!I18 -> 3 | J17: =+EVALUACION!J18 -> 4 | K17: =+I17+J17 -> 7 | L17: =IF(K17<=4,"BAJO",IF(K17=5,"MEDIO",IF(K17=6,"ALTO",IF(K17=7,"ALTO","EXTREMO")))) -> ALTO | M17: No | N17: FDLSC | O17: ETAPA DE SELECCIÓN | P17: Publicación de pliego definitivo | Q17: Cuadro de precios, estudio de mercado, acta de revisión de presupuesto y trazabilidad de fuentes. | R17: Previo a apertura y antes de adjudicación
B18: SELECCIÓN | C18: Baja pluralidad de oferentes por especificaciones técnicas cerradas, referencias comerciales, requisitos habilitantes desproporcionados o códigos UNSPSC restrictivos. | G18: =+EVALUACION!H19 -> Menor competencia, observaciones al pliego, riesgo de direccionamiento, declaratoria desierta o reducción de eficiencia económica de la subasta inversa. | I18: =+EVALUACION!I19 -> 3 | J18: =+EVALUACION!J19 -> 3 | K18: =+I18+J18 -> 6 | L18: =IF(K18<=4,"BAJO",IF(K18=5,"MEDIO",IF(K18=6,"ALTO",IF(K18=7,"ALTO","EXTREMO")))) -> ALTO | M18: Si | N18: FDLSC CONTRATISTA | O18: ETAPA DE CONTRATACIÓN | P18: Cierre de observaciones al pliego | Q18: Observaciones recibidas, respuestas publicadas y actas de ajuste. | R18: Durante etapa de observaciones
B19: SELECCIÓN | C19: Presentación de ofertas artificialmente bajas que no cubran costos reales de adquisición, transporte, garantías, instalación o reposición. | P19: Adjudicación | Q19: Informe de evaluación económica y requerimientos de aclaración. | R19: Durante evaluación y subasta
B20: CONTRATACIÓN | C20: Demora del adjudicatario en la entrega de documentos para perfeccionamiento, legalización, garantías, RUT o soportes requeridos. | P20: Acta de inicio | Q20: Control de requisitos de perfeccionamiento y aprobación de garantías. | R20: Diario hasta acta de inicio
B21: EJECUCIÓN | C21: Variación de precios de bienes tecnológicos, audiovisuales o importados por cambios en TRM, costos internacionales o disponibilidad de componentes. | P21: Entrega final | Q21: Cronograma, remisiones, soportes técnicos, certificaciones de disponibilidad y actas de comité. | R21: Durante la ejecución (Quincenal)
B22: EJECUCIÓN | C22: Incremento de costos de transporte, combustibles, cargue, descargue, bodegaje o distribución urbana en las unidades operativas priorizadas. | P22: Cada entrega parcial | Q22: Plan logístico, cronograma de rutas, actas de entrega y remisiones. | R22: Por cada entrega
B23: EJECUCIÓN | C23: Desabastecimiento temporal de inventarios, cambios de referencias comerciales o indisponibilidad de bienes requeridos en el mercado. | P23: Entrega final | Q23: Comités técnicos, reporte de inventarios, actas de aprobación de equivalencias y seguimiento de novedades. | R23: Durante la ejecución (Quincenal)
B24: EJECUCIÓN | C24: Entrega de bienes que no cumplen fichas técnicas, calidad mínima, garantía, seguridad, compatibilidad, dimensiones o condiciones equivalentes superiores. | P24: Recibo a satisfacción | Q24: Lista de chequeo por ítem, actas de recibo, registro fotográfico, seriales y garantías. | R24: Por cada entrega
B25: EJECUCIÓN | C25: Demoras en entregas por falta de coordinación con SDIS, disponibilidad de sedes, horarios de recibo, responsables de almacén o accesibilidad a las unidades. | P25: Cada entrega | Q25: Cronograma aprobado, comunicaciones, actas de reunión y actas de entrega. | R25: Semanal durante entregas
B26: EJECUCIÓN | C26: Daño, pérdida, deterioro o faltantes durante embalaje, transporte, cargue, descargue o instalación de bienes. | P26: Entrega e instalación | Q26: Remisiones, registro fotográfico, actas de novedades y actas de reposición. | R26: Por cada entrega
B27: EJECUCIÓN | C27: Equipos tecnológicos o audiovisuales con licencias, seriales, accesorios, conectividad, compatibilidad eléctrica o software incompletos o no verificables. | P27: Recibo a satisfacción | Q27: Checklist tecnológico, seriales, pruebas de funcionamiento y soportes de licenciamiento. | R27: Por cada entrega tecnológica
B28: EJECUCIÓN | C28: Soportes incompletos de remisiones, facturas, garantías, ingreso a almacén, seriales, actas de recibo o consolidado por unidad operativa. | P28: Liquidación | Q28: Matriz de entregas, actas, remisiones, informes, almacén y certificaciones. | R28: Mensual y por pago
B29: EJECUCIÓN | C29: Demoras en avales, validaciones o articulación interinstitucional con SDIS frente a bienes priorizados, sitios de entrega o responsables de recibo. | P29: Durante ejecución | Q29: Actas de validación, comunicaciones oficiales y actas de comité. | R29: Mensual o cuando se requiera
B30: EJECUCIÓN | C30: Cierre temporal, cambio de operación o restricción de acceso a alguna unidad operativa por decisiones administrativas, sociales o de seguridad. | P30: Superada la novedad | Q30: Actas de novedad, comunicaciones y ajustes al cronograma. | R30: Cuando ocurra la novedad
... B32: EJECUCIÓN | C32: Manejo inadecuado de empaques, residuos, cartón, plásticos o elementos de embalaje generados por la entrega de dotaciones. | P32: Final de cada entrega | Q32: Registro fotográfico y acta de recibo con verificación de limpieza y disposición de residuos. | R32: Por cada entrega
B33: EJECUCIÓN | C33: No ampliación oportuna de garantías, pólizas, calidad de bienes o responsabilidad civil cuando haya prórrogas, suspensiones o novedades contractuales. | G33: =+EVALUACION!H20 -> Riesgo de incumplimiento, entrega de bienes de menor calidad, solicitudes de modificación contractual o afectación de la ecuación económica. | I33: =+EVALUACION!I20 -> 3 | J33: =+EVALUACION!J20 -> 4 | K33: =+I33+J33 -> 7 | L33: =IF(K33<=4,"BAJO",IF(K33=5,"MEDIO",IF(K33=6,"ALTO",IF(K33=7,"ALTO","EXTREMO")))) -> ALTO | M33: Si | N33: FDLSC CONTRATISTA | O33: ETAPA PLANEACIÓN | P33: Liquidación | Q33: Cuadro de control de garantías, pólizas aprobadas y comunicaciones de requerimiento. | R33: Mensual y ante modificación
B34: EJECUCIÓN | C34: Uso inadecuado de la modalidad de monto agotable, adquisición de bienes no priorizados o agotamiento del presupuesto sin cubrir dotaciones críticas. | G34: =+EVALUACION!H21 -> Retraso en acta de inicio, disminución del tiempo efectivo de ejecución y afectación del cronograma de entregas. | I34: =+EVALUACION!I21 -> 2 | J34: =+EVALUACION!J21 -> 3 | K34: =+I34+J34 -> 5 | L34: =IF(K34<=4,"BAJO",IF(K34=5,"MEDIO",IF(K34=6,"ALTO",IF(K34=7,"ALTO","EXTREMO")))) -> MEDIO | M34: Si | N34: FDLSC | O34: ETAPA PLANEACIÓN | P34: Cierre financiero | Q34: Matriz de saldos, órdenes de pedido, actas de comité e informes físico-financieros. | R34: Mensual y antes de cada pedido
B35: EJECUCIÓN | C35: Persistencia de novedades de calidad, reposición, garantías, almacén o soportes documentales que impidan el cierre y liquidación oportuna. | G35: =+EVALUACION!H22 -> Aumento de costos del contratista, riesgo de sustitución de bienes, demoras en entrega o solicitudes de modificación de condiciones. | I35: =+EVALUACION!I22 -> 3 | J35: =+EVALUACION!J22 -> 4 | K35: =+I35+J35 -> 7 | L35: =IF(K35<=4,"BAJO",IF(K35=5,"MEDIO",IF(K35=6,"ALTO",IF(K35=7,"ALTO","EXTREMO")))) -> ALTO | M35: Si | N35: FDLSC CONTRATISTA | O35: INICO EJECUCIÓN | P35: Liquidación | Q35: Informe final, actas de recibo, certificación de garantías y acta de liquidación. | R35: Último mes y liquidación
C37: Categoria del Riesgo | H37: Impacto del Riesgo
B38: Probabilidad | C38: Catagoria | F38: Valoración | H38: Categoria | J38: Valoración | N38: Categoria del Riesgo
C39: Raro (puede ocurrir excepcionalmente) | F39: 1 | H39: Insignificante | J39: 1 | N39: Valoración del Riesgo | P39: Categoría
C40: Improbable (puede ocurrir ocasionalmente) | F40: 2 | H40: Menor | J40: 2 | N40: 8, 9 y 10 | P40: Riesgo extremo
C41: Posible (puede ocurrir en cualquier momento futuro) | F41: 3 | H41: Moderado | J41: 3 | N41: 6 y 7 | P41: Riesgo alto
C42: Probable (probablemente va a ocurrir) | F42: 4 | H42: Mayor | J42: 4 | N42: 5 | P42: Riesgo medio
C43: Casi cierto (ocurre en la mayoria de circunstancias) | F43: 5 | H43: Catastrófico | J43: 5 | N43: 2, 3 y 4 | P43: Riesgo bajo
C45: Valoración del Riesgo
C46: Calificación Cualitativa | G46: Obstruye la ejecución del contrato de manera intrascendente. | I46: Dificulta la ejecución del contrato de manera baja, aplicando medidas mínimas se pueden lograr el objeto contractual | L46: Afecta la ejecución del contrato sin alterar el beneficio para las partes | N46: Obstruye la ejecución del contrato sustancialmente pero aun así permite la consecución del objeto contractual | P46: Perturba la ejecución del contrato de manera grave imposibilitando la consecución del objeto contractual.
C47: Calificación Monetaria | G47: Los sobrecostos no representan más del uno por ciento (1%) del valor del contrato. | I47: Los sobrecostos no representan más del cinco por ciento (5%) del valor del contrato. | L47: Genera un impacto sobre el valor del contrato entre el cinco (5%) y el quince por ciento (15%). | N47: Incrementa el valor del contrato entre el quince (15%) y el treinta por ciento (30%). | P47: Impacto sobre el valor del contrato en más del treinta por ciento (30%).
C48: Catagoria | F48: Valoración | G48: Insignificante | I48: Menor | L48: Moderado | N48: Mayor | P48: Catastrófico
G49: 1 | I49: 2 | L49: 3 | N49: 4 | P49: 5
C50: Raro (puede ocurrir excepcionalmente) | F50: 1 | G50: 2 | I50: 3 | L50: 4 | N50: 5 | P50: 6
C51: Improbable (puede ocurrir ocasionalmente) | F51: 2 | G51: 3 | I51: 4 | L51: 5 | N51: 6 | P51: 7
...

Sheet ASIGNACION Y TRATAMIENTO
C2: MATRIZ DE RIESGOS DE CONTRATACIÓN | W2: Código: GCO-GCI-F164 Versión: 02 Vigencia: 01 de diciembre de 2022 Caso HOLA: 280117
B6: =EVALUACION!B6 -> OBJETO CONTRACTUAL: “CONTRATAR A MONTO AGOTABLE EL SUMINISTRO DE BIENES, QUE COMPRENDE SU ADQUISICIÓN, ALISTAMIENTO, TRANSPORTE, ENTREGA Y DEMÁS ACTIVIDADES COMPLEMENTARIAS REQUERIDAS PARA LA DOTACIÓN DE LAS UNIDADES OPERATIVAS DE ATENCIÓN SOCIAL, LOS CENTROS DE DESARROLLO COMUNITARIO Y LAS ORGANIZACIONES COMUNALES PRIORIZADAS EN LOS PROYECTOS DE INVERSIÓN 2791 'CRECIENDO JUNTOS: ATENCIÓN INTEGRAL Y OPORTUNIDADES PARA LA COMUNIDAD' Y 2409 'SAN CRISTÓBAL INCIDENTE', DE CONFORMIDAD CON LAS ESPECIFICACIONES TÉCNICAS DEFINIDAS POR EL FONDO DE DESARROLLO LOCAL DE SAN CRISTÓBAL."
B10: No | C10: Descripción (Que puede pasar y, cómo puede ocurrir) | D10: Etapa | E10: Clase | F10: Fuente | G10: Consecuencias de la ocurrencia del evento | H10: Probabilidad | I10: Impacto | J10: Calificación total | K10: Prioridad | L10: ¿A quien se le asigna? | M10: % | N10: Tratamiento/Controles a ser implementados | O10: Probabilidad | P10: Impacto | Q10: Calificación total | R10: Prioridad | S10: ¿Afecta el equilibrio económico del contrato? | T10: Persona responsable por implementar el tratamiento | U10: Fecha estimada en que se inicia el tratamiento | V10: Fecha estimada en que se completa el tratamiento | W10: ¿Cómo se realiza el monitoreo | X10: Periodicidad ¿Cuándo?
B11: 1 | C11: Inconsistencias entre el anexo técnico, estudios previos, análisis del sector, estudio de mercado, fichas técnicas y matriz de riesgos. | D11: =+'EVALUACION CON CONTROLES'!B16 -> PLANEACIÓN | E11: Específico | F11: Interno | G11: Observaciones de contratación, devolución del proceso, retraso en apertura y riesgo de ajustes posteriores al objeto, plazo, valor o obligaciones. | H11: 3 | I11: 4 | J11: 7 | K11: ALTO | L11: FDLSC | M11: 100% | N11: Validación cruzada de documentos; lista de chequeo precontractual; revisión técnica, jurídica, financiera y de planeación antes de comité. | O11: 2 | P11: 3 | Q11: 5 | R11: MEDIO | S11: No | T11: Equipo de planeación / contratación | U11: Planeación | V11: Apertura del proceso | W11: Lista de chequeo documental, actas de revisión y versiones finales aprobadas. | X11: Semanal durante estructuración
B12: 2 | C12: Presupuesto oficial o precios unitarios insuficientes, desactualizados o sin soporte verificable frente al comportamiento del mercado. | D12: Planeación | E12: Específico | F12: Interno | G12: Ofertas inviables, declaratoria desierta, dificultad para adjudicar, adquisición incompleta de bienes o afectación de metas del Proyecto 2791. | H12: 3 | I12: 4 | J12: 7 | K12: ALTO | L12: FDLSC | M12: 100% | N12: Soportar precios unitarios con cotizaciones, antecedentes SECOP, análisis de IPC, IPP, TRM, combustibles y costos logísticos; definir topes por ítem y reglas de monto agotable. | O12: 2 | P12: 3 | Q12: 5 | R12: MEDIO | S12: Sí | T12: Equipo estructurador / área financiera | U12: Planeación | V12: Publicación de pliego definitivo | W12: Cuadro de precios, estudio de mercado, acta de revisión de presupuesto y trazabilidad de fuentes. | X12: Previo a apertura y antes de adjudicación
B13: 3 | C13: Baja pluralidad de oferentes por especificaciones técnicas cerradas, referencias comerciales, requisitos habilitantes desproporcionados o códigos UNSPSC restrictivos. | D13: Selección | E13: Específico | F13: Interno | G13: Menor competencia, observaciones al pliego, riesgo de direccionamiento, declaratoria desierta o reducción de eficiencia económica de la subasta inversa. | H13: 3 | I13: 3 | J13: 6 | K13: ALTO | L13: FDLSC | M13: 100% | N13: Redactar fichas técnicas por desempeño mínimo, incluir “equivalente o superior”, revisar UNSPSC y ajustar requisitos habilitantes conforme al análisis del sector. | O13: 2 | P13: 2 | Q13: 4 | R13: BAJO | S13: No | T13: Comité estructurador / contratación | U13: Planeación | V13: Cierre de observaciones al pliego | W13: Observaciones recibidas, respuestas publicadas y actas de ajuste. | X13: Durante etapa de observaciones
B14: 4 | C14: Presentación de ofertas artificialmente bajas que no cubran costos reales de adquisición, transporte, garantías, instalación o reposición. | D14: Selección | E14: Específico | F14: Externo | G14: Riesgo de incumplimiento, entrega de bienes de menor calidad, solicitudes de modificación contractual o afectación de la ecuación económica. | H14: 3 | I14: 4 | J14: 7 | K14: ALTO | L14: FDLSC / Contratista | M14: 50%/50% | N14: Aplicar verificación de precios artificialmente bajos; exigir desagregación de precios unitarios; verificar que los valores incluyan IVA, transporte, garantías y costos logísticos. | O14: 2 | P14: 3 | Q14: 5 | R14: MEDIO | S14: Sí | T14: Comité evaluador / proponente | U14: Evaluación | V14: Adjudicación | W14: Informe de evaluación económica y requerimientos de aclaración. | X14: Durante evaluación y subasta
B15: 5 | C15: Demora del adjudicatario en la entrega de documentos para perfeccionamiento, legalización, garantías, RUT o soportes requeridos. | D15: Contratación | E15: General | F15: Externo | G15: Retraso en acta de inicio, disminución del tiempo efectivo de ejecución y afectación del cronograma de entregas. | H15: 2 | I15: 3 | J15: 5 | K15: MEDIO | L15: Contratista | M15: 1 | N15: Establecer plazos claros para legalización; requerimientos oportunos; control de documentos; aplicación de consecuencias contractuales si procede. | O15: 1 | P15: 3 | Q15: 4 | R15: BAJO | S15: No | T15: Contratista / contratación | U15: Adjudicación | V15: Acta de inicio | W15: Control de requisitos de perfeccionamiento y aprobación de garantías. | X15: Diario hasta acta de inicio
B16: 6 | C16: Variación de precios de bienes tecnológicos, audiovisuales o importados por cambios en TRM, costos internacionales o disponibilidad de componentes. | D16: Ejecución | E16: Específico | F16: Externo | G16: Aumento de costos del contratista, riesgo de sustitución de bienes, demoras en entrega o solicitudes de modificación de condiciones. | H16: 3 | I16: 4 | J16: 7 | K16: ALTO | L16: Contratista | M16: 1 | N16: Exigir oferta con precios firmes; permitir únicamente bienes equivalentes o superiores aprobados por supervisión; verificar inventario y tiempos de entrega desde el inicio. | O16: 2 | P16: 3 | Q16: 5 | R16: MEDIO | S16: Sí, si es extraordinario e imprevisible | T16: Contratista / supervisión | U16: Inicio ejecución | V16: Entrega final | W16: Cronograma, remisiones, soportes técnicos, certificaciones de disponibilidad y actas de comité. | X16: Quincenal
B17: 7 | C17: Incremento de costos de transporte, combustibles, cargue, descargue, bodegaje o distribución urbana en las unidades operativas priorizadas. | D17: Ejecución | E17: Específico | F17: Externo | G17: Afectación de tiempos de entrega, costos logísticos y disponibilidad operativa del contratista. | H17: 3 | I17: 3 | J17: 6 | K17: ALTO | L17: Contratista | M17: 1 | N17: El contratista debe incorporar costos logísticos en la oferta; plan de entregas por sede; rutas y ventanas de entrega coordinadas con supervisión. | O17: 2 | P17: 2 | Q17: 4 | R17: BAJO | S17: No | T17: Contratista | U17: Inicio ejecución | V17: Cada entrega parcial | W17: Plan logístico, cronograma de rutas, actas de entrega y remisiones. | X17: Por cada entrega
B18: 8 | C18: Desabastecimiento temporal de inventarios, cambios de referencias comerciales o indisponibilidad de bienes requeridos en el mercado. | D18: Ejecución | E18: Específico | F18: Externo | G18: Retrasos, entregas parciales incompletas, necesidad de sustitución técnica y riesgo de incumplimiento de metas de dotación. | H18: 4 | I18: 4 | J18: 8 | K18: EXTREMO | L18: Contratista | M18: 1 | N18: Solicitar plan de abastecimiento; aceptación previa de equivalentes o superiores; control de sustituciones; cronograma de entregas y procedimiento de novedades. | O18: 3 | P18: 4 | Q18: 7 | R18: ALTO | S18: Sí, si supera condiciones normales de mercado | T18: Contratista / supervisión | U18: Inicio ejecución | V18: Entrega final | W18: Comités técnicos, reporte de inventarios, actas de aprobación de equivalencias y seguimiento de novedades. | X18: Quincenal
B19: 9 | C19: Entrega de bienes que no cumplen fichas técnicas, calidad mínima, garantía, seguridad, compatibilidad, dimensiones o condiciones equivalentes superiores. | D19: Ejecución | E19: Específico | F19: Externo | G19: Rechazo de bienes, retraso en pagos, necesidad de reposición, afectación de servicios sociales y posible detrimento patrimonial. | H19: 3 | I19: 4 | J19: 7 | K19: ALTO | L19: Contratista | M19: 1 | N19: Verificación técnica antes del recibo; revisión de muestras cuando aplique; actas de rechazo; reposición sin costo; exigencia de garantías y manuales. | O19: 3 | P19: 2 | Q19: 5 | R19: MEDIO | S19: Sí | T19: Contratista / supervisión técnica | U19: Cada entrega | V19: Recibo a satisfacción | W19: Lista de chequeo por ítem, actas de recibo, registro fotográfico, seriales y garantías. | X19: Por cada entrega
B20: 10 | C20: Demoras en entregas por falta de coordinación con SDIS, disponibilidad de sedes, horarios de recibo, responsables de almacén o accesibilidad a las unidades. | D20: Ejecución | E20: Específico | F20: Mixto | G20: Incumplimiento del cronograma, acumulación de entregas, afectación de población beneficiaria y retraso en la ejecución financiera. | H20: 3 | I20: 4 | J20: 7 | K20: ALTO | L20: FDLSC / Contratista | M20: 30%/70% | N20: Plan de entregas aprobado; confirmación previa de sedes y responsables; ventanas horarias; comunicación con SDIS; actas de comité técnico. | O20: 2 | P20: 3 | Q20: 5 | R20: MEDIO | S20: No | T20: Contratista / supervisión / SDIS | U20: Inicio ejecución | V20: Cada entrega | W20: Cronograma aprobado, comunicaciones, actas de reunión y actas de entrega. | X20: Semanal durante entregas
B21: 11 | C21: Daño, pérdida, deterioro o faltantes durante embalaje, transporte, cargue, descargue o instalación de bienes. | D21: Ejecución | E21: Específico | F21: Externo | G21: Reposiciones, retrasos, reclamaciones, afectación de calidad y posibles costos adicionales para el contratista. | H21: 2 | I21: 4 | J21: 6 | K21: ALTO | L21: Contratista | M21: 1 | N21: Embalaje adecuado; personal idóneo; seguro o garantía de transporte; revisión contra remisión; acta de novedades y reposición inmediata. | O21: 2 | P21: 3 | Q21: 5 | R21: MEDIO | S21: No | T21: Contratista | U21: Alistamiento | V21: Entrega e instalación | W21: Remisiones, registro fotográfico, actas de novedades y actas de reposición. | X21: Por cada entrega
B22: 12 | C22: Equipos tecnológicos o audiovisuales con licencias, seriales, accesorios, conectividad, compatibilidad eléctrica o software incompletos o no verificables. | D22: Ejecución | E22: Específico | F22: Externo | G22: Imposibilidad de uso institucional, rechazo de bienes, pérdida de funcionalidad, riesgos de legalidad de software y retraso en recibo a satisfacción. | H22: 3 | I22: 4 | J22: 7 | K22: ALTO | L22: Contratista | M22: 1 | N22: Exigir licencias legales cuando aplique, seriales, manuales, garantías, pruebas de funcionamiento y certificación de instalación o puesta en marcha. | O22: 2 | P22: 3 | Q22: 5 | R22: MEDIO | S22: Sí | T22: Contratista / supervisión técnica | U22: Entrega de equipos | V22: Recibo a satisfacción | W22: Checklist tecnológico, seriales, pruebas de funcionamiento y soportes de licenciamiento. | X22: Por cada entrega tecnológica
B23: 13 | C23: Soportes incompletos de remisiones, facturas, garantías, ingreso a almacén, seriales, actas de recibo o consolidado por unidad operativa. | D23: Ejecución | E23: General | F23: Mixto | G23: Retraso en pagos, dificultades de inventario, observaciones de control, problemas en liquidación y trazabilidad insuficiente del gasto. | H23: 3 | I23: 3 | J23: 6 | K23: ALTO | L23: FDLSC / Contratista | M23: 40% / 60% | N23: Definir paquete documental por pago; revisión previa por supervisión; matriz de trazabilidad por ítem, sede y acta; no tramitar pagos sin soportes completos. | O23: 2 | P23: 2 | Q23: 4 | R23: BAJO | S23: No | T23: Contratista / supervisión | U23: Primera entrega | V23: Liquidación | W23: Matriz de entregas, actas, remisiones, informes, almacén y certificaciones. | X23: Mensual y por pago
B24: 14 | C24: Demoras en avales, validaciones o articulación interinstitucional con SDIS frente a bienes priorizados, sitios de entrega o responsables de recibo. | D24: Ejecución | E24: Específico | F24: Interno | G24: Reprogramación de entregas, retraso en ejecución, riesgo de adquirir bienes no pertinentes o dificultades de recibo. | H24: 2 | I24: 3 | J24: 5 | K24: MEDIO | L24: FDLSC | M24: 100% | N24: Concertación previa con SDIS; actas de validación técnica; actualización de responsables de recibo; comité técnico de seguimiento. | O24: 2 | P24: 2 | Q24: 4 | R24: BAJO | S24: No | T24: FDLSC / SDIS | U24: Planeación | V24: Durante ejecución | W24: Actas de validación, comunicaciones oficiales y actas de comité. | X24: Mensual o cuando se requiera
B25: 15 | C25: Cierre temporal, cambio de operación o restricción de acceso a alguna unidad operativa por decisiones administrativas, sociales o de seguridad. | D25: Ejecución | E25: Específico | F25: Externo | G25: Reprogramación de entregas, suspensión parcial de actividades, almacenamiento temporal de bienes o retraso en cumplimiento de metas. | H25: 2 | I25: 4 | J25: 6 | K25: ALTO | L25: FDLSC / Contratista | M25: 50% /50% | N25: Definir sedes alternas o reprogramación; actas de novedad; coordinación con SDIS; manejo de bienes en almacén cuando aplique. | O25: 1 | P25: 3 | Q25: 4 | R25: BAJO | S25: Sí, si genera suspensión o mayor permanencia | T25: Supervisión / contratista / SDIS | U25: Ejecución | V25: Superada la novedad | W25: Actas de novedad, comunicaciones y ajustes al cronograma. | X25: Cuando ocurra la novedad
B26: 16 | C26: Lluvias, restricciones de movilidad, bloqueos, alteraciones del orden público o eventos naturales que dificulten la distribución de bienes. | D26: Ejecución | E26: Específico | F26: Externo | G26: Retrasos logísticos, modificación de rutas, entregas parciales o necesidad de reprogramar cronograma. | H26: 2 | I26: 3 | J26: 5 | K26: MEDIO | L26: Contratista | M26: 1 | N26: Plan logístico flexible; seguimiento a movilidad y clima; rutas alternas; comunicación previa con supervisión y sedes. | O26: 2 | P26: 2 | Q26: 4 | R26: BAJO | S26: No, salvo fuerza mayor acreditada | T26: Contratista | U26: Cada entrega | V26: Entrega final | W26: Reportes logísticos, actas de novedad y reprogramaciones aprobadas. | X26: Por cada entrega
B27: 17 | C27: Manejo inadecuado de empaques, residuos, cartón, plásticos o elementos de embalaje generados por la entrega de dotaciones. | D27: Ejecución | E27: Específico | F27: Externo | G27: Afectación ambiental, molestias en las sedes, incumplimiento de buenas prácticas y observaciones de supervisión. | H27: 2 | I27: 2 | J27: 4 | K27: BAJO | L27: Contratista | M27: 1 | N27: Retiro de empaques; disposición adecuada de residuos; uso de embalaje responsable; entrega limpia de espacios intervenidos. | O27: 1 | P27: 2 | Q27: 3 | R27: BAJO | S27: No | T27: Contratista | U27: Cada entrega | V27: Final de cada entrega | W27: Registro fotográfico y acta de recibo con verificación de limpieza y disposición de residuos. | X27: Por cada entrega
B28: 18 | C28: No ampliación oportuna de garantías, pólizas, calidad de bienes o responsabilidad civil cuando haya prórrogas, suspensiones o novedades contractuales. | D28: Ejecución | E28: General | F28: Externo | G28: Riesgo de ejecución sin cobertura, observaciones jurídicas, retraso en liquidación y desprotección de la entidad. | H28: 2 | I28: 4 | J28: 6 | K28: ALTO | L28: Contratista | M28: 1 | N28: Control de vigencias; requerimiento previo de ampliación; no suscribir modificaciones sin garantías actualizadas; verificación por supervisión y contratación. | O28: 2 | P28: 3 | Q28: 5 | R28: MEDIO | S28: Sí | T28: Contratista / contratación | U28: Modificación o suspensión | V28: Liquidación | W28: Cuadro de control de garantías, pólizas aprobadas y comunicaciones de requerimiento. | X28: Mensual y ante modificación
B29: 19 | C29: Uso inadecuado de la modalidad de monto agotable, adquisición de bienes no priorizados o agotamiento del presupuesto sin cubrir dotaciones críticas. | D29: Ejecución | E29: Específico | F29: Mixto | G29: Incumplimiento de metas, baja pertinencia de la inversión, observaciones de control y afectación de unidades operativas priorizadas. | H29: 3 | I29: 4 | J29: 7 | K29: ALTO | L29: FDLSC / Contratista | M29: 70% / 30% | N29: Reglas de priorización; autorización previa de pedidos; precios unitarios adjudicados; seguimiento a saldos; comité técnico; trazabilidad por ítem y sede. | O29: 2 | P29: 3 | Q29: 5 | R29: MEDIO | S29: Sí | T29: Supervisión / comité técnico | U29: Inicio ejecución | V29: Cierre financiero | W29: Matriz de saldos, órdenes de pedido, actas de comité e informes físico-financieros. | X29: Mensual y antes de cada pedido
B30: 20 | C30: Persistencia de novedades de calidad, reposición, garantías, almacén o soportes documentales que impidan el cierre y liquidación oportuna. | D30: Liquidación | E30: General | F30: Mixto | G30: Retraso en liquidación, saldos sin liberar, reclamaciones pendientes y observaciones administrativas o fiscales. | H30: 2 | I30: 3 | J30: 5 | K30: MEDIO | L30: FDLSC / Contratista | M30: 40% / 60% | N30: Cierre de novedades antes del pago final; acta de recibo final; consolidado de garantías; matriz de bienes; revisión de almacén y supervisión. | O30: 2 | P30: 1 | Q30: 3 | R30: BAJO | S30: No | T30: Contratista / supervisión | U30: Último mes de ejecución | V30: Liquidación | W30: Informe final, actas de recibo, certificación de garantías y acta de liquidación. | X30: Último mes y liquidación
F32: Categoria | J32: Impacto del Riesgo
E33: Probabilidad | F33: Catagoria | G33: Valoración | J33: Categoria | L33: Valoración
F34: Raro (puede ocurrir excepcionalmente) | G34: 1 | J34: Insignificante | L34: 1
F35: Improbable (puede ocurrir ocasionalmente) | G35: 2 | J35: Menor | L35: 2
F36: Posible (puede ocurrir en cualquier momento futuro) | G36: 3 | J36: Moderado | L36: 3
F37: Probable (probablemente va a ocurrir) | G37: 4 | J37: Mayor | L37: 4
F38: Casi cierto (ocurre en la mayoria de circunstancias) | G38: 5 | J38: Catastrófico | L38: 5
D40: Valoración del Riesgo
D41: Catagoria | E41: Valoración | F41: Insignificante | H41: Menor | J41: Moderado | K41: Mayor | L41: Catastrófico | P41: Categoria del Riesgo
F42: 1 | H42: 2 | J42: 3 | K42: 4 | L42: 5 | P42: Valoración del Riesgo | S42: Categoría
D43: Raro (puede ocurrir excepcionalmente) | E43: 1 | F43: 2 | H43: 3 | J43: 4 | K43: 5 | L43: 6 | P43: 8, 9 y 10 | S43: Riesgo extremo
D44: Improbable (puede ocurrir ocasionalmente) | E44: 2 | F44: 3 | H44: 4 | J44: 5 | K44: 6 | L44: 7 | P44: 6 y 7 | S44: Riesgo alto
D45: Posible (puede ocurrir en cualquier momento futuro) | E45: 3 | F45: 4 | H45: 5 | J45: 6 | K45: 7 | L45: 8 | P45: 5 | S45: Riesgo medio
D46: Probable (probablemente va a ocurrir) | E46: 4 | F46: 5 | H46: 6 | J46: 7 | K46: 8 | L46: 9 | P46: 2, 3 y 4 | S46: Riesgo bajo
D47: Casi cierto (ocurre en la mayoria de circunstancias) | E47: 5 | F47: 6 | H47: 7 | J47: 8 | K47: 9 | L47: 10
B52: CONTRATISTA
B53: SDG
...
