Workbook
Name OLE_LINK1: 'REPUESTOS ATL'!#REF!

Sheet MTO PREVENTICO ATL
B1: OFERTA ECONÓMICA
B2: SECCIONAL ATLÁNTICO
B3: MANTENIMIENTOS PREVENTIVOS | E3: VALORES SELECCIONADOS ESTUDIO | F3: OFERTA ECONOMICA
B4: ÍTEM | C4: DESCRIPCIÓN | D4: CANT. EQUIPOS | E4: VALOR MTO. X EQUIPO INCLUIDO IVA | F4: VALOR MTO. X EQUIPO INCLUIDO IVA
B5: PRECIO BARRANQUILLA
B6: 1 | C6: MANTENIMIENTO DE ACONDICIONADOR DE AIRE TIPO MINISPLIT DE 9000 BTU - 12000 BTU - 18000 BTU - 24000 BTU | D6: 1 | E6: 152357
B7: 2 | C7: MANTENIMIENTO DE ACONDICIONADOR DE AIRE TIPO MINISPLIT DE 36000 BTU | D7: 1 | E7: 224815
B8: 3 | C8: MANTENIMIENTO DE ACONDICIONADOR DE AIRE TIPO CENTRAL DE 36000 BTU - 60.000 BTU PISO TECHO O DESCARGA VERTICAL | D8: 1 | E8: 342245
B9: 4 | C9: MANTENIMIENTO DE ACONDICIONADOR DE AIRE TIPO CENTRAL DE 20 TON PISO TECHO O DESCARGA VERTICAL | D9: 1 | E9: 1356138
B10: PRECIO BARANOA
B11: 1 | C11: MANTENIMIENTO DE ACONDICIONADOR DE AIRE TIPO MINISPLIT DE 12000 BTU - 18000 BTU - 24000 BTU | D11: 1 | E11: 205325
B12: 2 | C12: MANTENIMIENTO DE ACONDICIONADOR DE AIRE TIPO CENTRAL DE 36000 BTU - 60.000 BTU PISO TECHO O DESCARGA VERTICAL | D12: 1 | E12: 419320
B13: PRECIO MALAMBO
B14: 1 | C14: MANTENIMIENTO DE ACONDICIONADOR DE AIRE TIPO MINISPLIT DE 12000 BTU - 18000 BTU - 24000 BTU | D14: 1 | E14: 176566
B15: 2 | C15: MANTENIMIENTO DE ACONDICIONADOR DE AIRE TIPO MINISPLIT DE 36000 BTU | D15: 1 | E15: 321411
B16: PRECIO PUERTO COLOMBIA
B17: 1 | C17: MANTENIMIENTO DE ACONDICIONADOR DE AIRE TIPO MINISPLIT DE 12000 BTU - 18000 BTU - 24000 BTU | D17: 1 | E17: 177893
B18: PRECIO SABANALARGA
B19: 1 | C19: MANTENIMIENTO DE ACONDICIONADOR DE AIRE TIPO MINISPLIT DE 12000 BTU - 18000 BTU - 24000 BTU | D19: 1 | E19: 180053
B20: 2 | C20: MANTENIMIENTO DE ACONDICIONADOR DE AIRE TIPO CENTRAL DE 36000 BTU - 60.000 BTU PISO TECHO O DESCARGA VERTICAL | D20: 1 | E20: 433539
B21: PRECIO SANTO TOMAS
B22: 1 | C22: MANTENIMIENTO DE ACONDICIONADOR DE AIRE TIPO MINISPLIT DE 12000 BTU - 18000 BTU - 24000 BTU | D22: 1 | E22: 189674
B23: PRECIO CAMPO DE LA CRUZ
B24: 1 | C24: MANTENIMIENTO DE ACONDICIONADOR DE AIRE TIPO MINISPLIT DE 12000 BTU - 18000 BTU - 24000 BTU | D24: 1 | E24: 208442
B25: 2 | C25: MANTENIMIENTO DE ACONDICIONADOR DE AIRE TIPO CENTRAL DE 36000 BTU - 60.000 BTU PISO TECHO O DESCARGA VERTICAL | D25: 1 | E25: 625200
B26: PRECIO SOLEDAD
B27: 1 | C27: MANTENIMIENTO DE ACONDICIONADOR DE AIRE TIPO MINISPLIT DE 12000 BTU - 18000 BTU - 24000 BTU | D27: 1 | E27: 169415
B28: 2 | C28: MANTENIMIENTO DE ACONDICIONADOR DE AIRE TIPO MINISPLIT DE 36000 BTU | D28: 1 | E28: 240443
B29: 3 | C29: MANTENIMIENTO DE ACONDICIONADOR DE AIRE TIPO CASSETTE DE 24000 BTU - 36000 BTU | D29: 1 | E29: 284264
B30: 4 | C30: MANTENIMIENTO DE ACONDICIONADOR DE AIRE TIPO CASSETTE DE 60000 BTU | D30: 1 | E30: 374338
B31: TOTAL | E31: =SUM(E6:E30) -> 6081438 | F31: =SUM(F6:F30) -> 0
B33: NOTA | C33: DENTRO DE LOS COSTOS SE INCLUYE LOS INSUMOS Y LA MANO DE OBRA NECESARIA PARA REALIZAR CADA MANTENIMIENTO PREVENTIVO

Sheet MANO OBRA CORRECTIVOS ATL
B1: ANEXO OFERTA ECONOMICA
B2: SECCIONAL ATLÁNTICO
B3: MANO DE OBRA MANTENIMIENTO CORRECTIVO | D3: TECHOS PRESUPUESTALES | E3: OFERTA ECONOMICA | F3: TECHOS PRESUPUESTALES | G3: OFERTA ECONOMICA | H3: TECHOS PRESUPUESTALES | I3: OFERTA ECONOMICA | J3: TECHOS PRESUPUESTALES | K3: OFERTA ECONOMICA | L3: TECHOS PRESUPUESTALES | M3: OFERTA ECONOMICA | N3: TECHOS PRESUPUESTALES | O3: OFERTA ECONOMICA | P3: TECHOS PRESUPUESTALES | Q3: OFERTA ECONOMICA | R3: TECHOS PRESUPUESTALES | S3: OFERTA ECONOMICA
B4: ÍTEM | C4: DESCRIPCIÓN | D4: V. UNITARIO Mano de Obra Incluido IVA BARRANQUILLA | E4: V. UNITARIO Mano de Obra Incluido IVA BARRANQUILLA | F4: V. UNITARIO Mano de Obra Incluido IVA BARANOA | G4: V. UNITARIO Mano de Obra Incluido IVA BARANOA | H4: V. UNITARIO Mano de Obra Incluido IVA MALAMBO | I4: V. UNITARIO Mano de Obra Incluido IVA MALAMBO | J4: V. UNITARIO Mano de Obra Incluido IVA PUERTO COLOMBIA | K4: V. UNITARIO Mano de Obra Incluido IVA PUERTO COLOMBIA | L4: V. UNITARIO Mano de Obra Incluido IVA SABANALARGA | M4: V. UNITARIO Mano de Obra Incluido IVA SABANALARGA | N4: V. UNITARIO Mano de Obra Incluido IVA SANTO TOMAS | O4: V. UNITARIO Mano de Obra Incluido IVA SANTO TOMAS | P4: V. UNITARIO Mano de Obra Incluido IVA SANTO DE LA CRUZ | Q4: V. UNITARIO Mano de Obra Incluido IVA SANTO DE LA CRUZ | R4: V. UNITARIO Mano de Obra Incluido IVA SOLEDAD | S4: V. UNITARIO Mano de Obra Incluido IVA SOLEDAD
B5: 1 | C5: INSTALACIÓN O CAMBIO DE PROTECTOR ELECTRÓNICO DE VOLTAJE | D5: 108107 | F5: 116386 | H5: 115821 | J5: 125979 | L5: 135388 | N5: 128554 | P5: 162433 | R5: 110322
B6: 2 | C6: CAMBIO DE CAPACITOR DE ACONDICIONADOR DE AIRE | D6: 115404 | F6: 128149 | H6: 122647 | J6: 131721 | L6: 140040 | N6: 132222 | P6: 168210 | R6: 116862
B7: 3 | C7: CAMBIO DE UNIDAD COMPRESORA DE AIRE TIPO MINI SPLIT, INCLUYE MANO DE OBRA DE: CARGA COMPLETA DE REFRIGERANTE, LIMPIEZA DE TUBERÍA DE COBRE CON NITRÓGENO, CAMBIO DE FILTRO SECADOR. INSUMOS: NITRÓGENO, SOLDADURA | D7: 503274 | F7: 529048 | H7: 517032 | J7: 533100 | L7: 568708 | N7: 549918 | P7: 654567 | R7: 500349
B8: 4 | C8: CAMBIO DE UNIDAD COMPRESORA DE AIRE TIPO CENTRAL, INCLUYE MANO DE OBRA DE: CARGA COMPLETA DE REFRIGERANTE, LIMPIEZA DE TUBERÍA DE COBRE CON NITRÓGENO, CAMBIO DE FILTRO SECADOR. INSUMOS: NITRÓGENO, SOLDADURA | D8: 850530 | F8: 954279 | H8: N/A | J8: N/A | L8: 996902 | N8: N/A | P8: 1290700 | R8: 846582
B9: 5 | C9: CAMBIO TARJETA ELECTRÓNICA DE ACONDICIONADOR DE AIRE | D9: 151592 | F9: 162276 | H9: 160886 | J9: 169317 | L9: 192056 | N9: 172097 | P9: 214028 | R9: 153485
B10: 6 | C10: UBICACIÓN Y CORRECCIÓN DE FUGA DE GAS REFRIGERANTE Y ACEITE EN EL SISTEMA MINI SPLIT O CENTRAL, INCLUYE MANO DE OBRA DE: VACÍO, CARGA COMPLETA DE REFRIGERANTE, LIMPIEZA DE TUBERÍA DE COBRE CON NITRÓGENO, INSTALACIÓN DE FILTRO SECADOR. INSUMOS: NITRÓGENO, SOLDADURA Y DEMÁS ACTIVIDADES QUE GARANTICEN SU CORRECTO FUNCIONAMIENTO | D10: 468496 | F10: 506644 | H10: 498004 | J10: 516782 | L10: 552222 | N10: 543903 | P10: 675895 | R10: 493021
B11: 7 | C11: DESMOTE DE ACONDICIONADOR DE AIRE TIPO CENTRAL DE 60.000 BTU | D11: 283045 | F11: 329685 | H11: N/A | J11: N/A | L11: 335748 | N11: N/A | P11: 388025 | R11: 313592
B12: 8 | C12: DESMOTE DE ACONDICIONADOR DE AIRE TIPO MINI SPLIT | D12: 183166 | F12: 199919 | H12: 200874 | J12: 205433 | L12: 248618 | N12: 236655 | P12: 289912 | R12: 188686
B13: 9 | C13: INSTALACIÓN DE ACONDICIONADOR DE AIRE TIPO CENTRAL DE 60.000 BTU INCLUYE MANO DE OBRA DE: VACÍO, CARGA COMPLETA DE REFRIGERANTE, LIMPIEZA DE TUBERÍA DE COBRE CON NITRÓGENO, INSTALACIÓN DE FILTRO SECADOR. INSUMOS: NITRÓGENO, SOLDADURA Y DEMÁS ACTIVIDADES QUE GARANTICEN SU CORRECTO FUNCIONAMIENTO | D13: 843225 | F13: 913477 | H13: N/A | J13: N/A | L13: 977065 | N13: N/A | P13: 1319775 | R13: 855030
B14: 10 | C14: INSTALACIÓN DE ACONDICIONADOR DE AIRE TIPO MINI SPLIT (12000-18000-24000 BTU) INCLUYE MANO DE OBRA DE: VACÍO, CARGA COMPLETA DE REFRIGERANTE, LIMPIEZA DE TUBERÍA DE COBRE CON NITRÓGENO, INSTALACIÓN DE FILTRO SECADOR. INSUMOS: NITRÓGENO, SOLDADURA Y DEMÁS ACTIVIDADES QUE GARANTICEN SU CORRECTO FUNCIONAMIENTO | D14: 385696 | F14: 414119 | H14: 406203 | J14: 427084 | L14: 479708 | N14: 445471 | P14: 559773 | R14: 388464
B15: 11 | C15: REPARACIÓN TARJETA ELECTRÓNICA ORIGINAL DE ACONDICIONADOR DE AIRE | D15: 222009 | F15: 233139 | H15: 237267 | J15: 246534 | L15: 272223 | N15: 261600 | P15: 313216 | R15: 230890
B16: 12 | C16: REUBICACIÓN CONDENSADORA ACONDICIONADOR DE AIRE TIPO MINI SPLIT INCLUYE MANO DE OBRA DE: VACÍO, CARGA COMPLETA DE REFRIGERANTE, LIMPIEZA DE TUBERÍA DE COBRE CON NITRÓGENO, INSTALACIÓN DE FILTRO SECADOR. INSUMOS: NITRÓGENO, SOLDADURA Y DEMÁS ACTIVIDADES QUE GARANTICEN SU CORRECTO FUNCIONAMIENTO | D16: 345240 | F16: 357220 | H16: 357127 | J16: 372473 | L16: 392590 | N16: 380519 | P16: 445515 | R16: 350903
B17: 13 | C17: REUBICACIÓN MANEJADORA ACONDICIONADOR DE AIRE TIPO CENTRAL INCLUYE MANO DE OBRA DE: VACÍO, CARGA COMPLETA DE REFRIGERANTE, LIMPIEZA DE TUBERÍA DE COBRE CON NITRÓGENO, INSTALACIÓN DE FILTRO SECADOR. INSUMOS: NITRÓGENO, SOLDADURA Y DEMÁS ACTIVIDADES QUE GARANTICEN SU CORRECTO FUNCIONAMIENTO | D17: 526795 | F17: 583399 | H17: N/A | J17: N/A | L17: 583136 | N17: N/A | P17: 818217 | R17: 533390
B18: 14 | C18: REUBICACIÓN MANEJADORA ACONDICIONADOR DE AIRE TIPO MINI SPLIT INCLUYE MANO DE OBRA DE: VACÍO, CARGA COMPLETA DE REFRIGERANTE, LIMPIEZA DE TUBERÍA DE COBRE CON NITRÓGENO, INSTALACIÓN DE FILTRO SECADOR. INSUMOS: NITRÓGENO, SOLDADURA Y DEMÁS ACTIVIDADES QUE GARANTICEN SU CORRECTO FUNCIONAMIENTO | D18: 263525 | F18: 273839 | H18: 273627 | J18: 278212 | L18: 301475 | N18: 293298 | P18: 342257 | R18: 268175
B19: 15 | C19: CAMBIO DE CONDENSADORA DE AIRE TIPO MINI SPLIT INCLUYE MANO DE OBRA DE: VACÍO, CARGA COMPLETA DE REFRIGERANTE, LIMPIEZA DE TUBERÍA DE COBRE CON NITRÓGENO, INSTALACIÓN DE FILTRO SECADOR. INSUMOS: NITRÓGENO, SOLDADURA Y DEMÁS ACTIVIDADES QUE GARANTICEN SU CORRECTO FUNCIONAMIENTO | D19: 313338 | F19: 326857 | H19: 326536 | J19: 329339 | L19: 351536 | N19: 339740 | P19: 410851 | R19: 317001
B20: 16 | C20: CAMBIO DE CONDENSADORA DE AIRE TIPO CENTRAL INCLUYE MANO DE OBRA DE: VACÍO, CARGA COMPLETA DE REFRIGERANTE, LIMPIEZA DE TUBERÍA DE COBRE CON NITRÓGENO, INSTALACIÓN DE FILTRO SECADOR. INSUMOS: NITRÓGENO, SOLDADURA Y DEMÁS ACTIVIDADES QUE GARANTICEN SU CORRECTO FUNCIONAMIENTO | D20: 607254 | F20: 686834 | H20: N/A | J20: N/A | L20: 698269 | N20: N/A | P20: 894341 | R20: 622854
B21: 17 | C21: CAMBIO MOTOR VENTILADOR DE ACONDICIONADOR DE AIRE | D21: 173915 | F21: 187298 | H21: 190226 | J21: 196425 | L21: 220842 | N21: 208094 | P21: 276963 | R21: 177305
B22: 18 | C22: CAMBIO TRANSFORMADOR DE ACONDICIONADOR DE AIRES | D22: 126030 | F22: 151488 | H22: N/A | J22: N/A | L22: 151463 | N22: N/A | P22: 171729 | R22: 129836
B23: 19 | C23: CAMBIO BALINERA DE MOTOR VENTILADOR | D23: 152904 | F23: 166061 | H23: 164777 | J23: 168690 | L23: 185018 | N23: 174591 | P23: 216443 | R23: 155645
B24: 20 | C24: CAMBIO CONTACTOR DE ACONDICIONADOR DE AIRES | D24: 133354 | F24: 146575 | H24: N/A | J24: N/A | L24: 162597 | N24: N/A | P24: 164892 | R24: 137274
B25: 21 | C25: CAMBIO FAN RELAY ACONDICIONADOR DE AIRE | D25: 111689 | F25: 132562 | H25: N/A | J25: N/A | L25: 135145 | N25: N/A | P25: 156418 | R25: 117005
B26: 22 | C26: CAMBIO PRESOSTATO DE ACONDICIONADOR DE AIRE | D26: 125082 | F26: 137810 | H26: N/A | J26: N/A | L26: 152107 | N26: N/A | P26: 188963 | R26: 128817
B27: 23 | C27: CAMBIO TEMPORIZADOR DE ACONDICIONADOR DE AIRE | D27: 118408 | F27: 145749 | H27: N/A | J27: N/A | L27: 147060 | N27: N/A | P27: 170354 | R27: 123233
B28: 24 | C28: SUMINISTRO E INSTALACIÓN A TODO COSTO DE DUCTERIA EN LAMINA DE PORÓN (METRO CUADRADO). INCLUYE MATERIALES NECESARIOS: LÁMINA DE PORÓN, CINTA FOIL, ENTRE OTROS. | D28: 166352 | F28: 186096 | H28: N/A | J28: N/A | L28: 197521 | N28: N/A | P28: 320100 | R28: 170853
B29: 25 | C29: SUMINISTRO E INSTALACIÓN A TODO COSTO DE DUCTERIA EN FIBRA DE VIDRIO (METRO CUADRADO). INCLUYE MATERIALES NECESARIOS: LÁMINAS, CINTA, ENTRE OTROS. | D29: 183288 | F29: 200396 | H29: N/A | J29: N/A | L29: 216316 | N29: N/A | P29: 316150 | R29: 189198
B30: 26 | C30: SUMINISTRO E INSTALACIÓN A TODO COSTO DE DUCTERIA GALVANIZADA (METRO CUADRADO). INCLUYE MATERIALES NECESARIOS: LÁMINAS, CINTA, ENTRE OTROS. | D30: 283685 | F30: 309649 | H30: N/A | J30: N/A | L30: 324182 | N30: N/A | P30: 536575 | R30: 288934
B31: 27 | C31: CAMBIO DE TERMOSTATO | D31: 154900 | F31: 83000 | H31: N/A | J31: N/A | L31: 173425 | N31: N/A | P31: 182650 | R31: 154900
C32: TOTAL | D32: =SUM(D5:D31) -> 7900303 | E32: =SUM(E5:E31) -> 0 | F32: =SUM(F5:F31) -> 8561954 | G32: =SUM(G5:G31) -> 0 | H32: =SUM(H5:H31) -> 3571027 | I32: =SUM(I5:I31) -> 0 | J32: =SUM(J5:J31) -> 3701089 | K32: =SUM(K5:K31) -> 0 | ... S32: =SUM(S5:S31) -> 0
C34: TOTAL | D34: =+D32+F32+H32+J32+L32+N32+P32+R32 -> 56603953 | E34: =+E32+G32+I32+K32+M32+O32+Q32+S32 -> 0

Sheet REPUESTOS ATL
B2: ANEXO OFERTA ECONOMICA
B3: SECCIONAL ATLÁNTICO
B4: REPUESTOS CORRECTIVOS | E4: TECHOS PRESUPUESTALES | F4: OFERTA ECONOMICA
B5: ÍTEM | C5: DESCRIPCIÓN | D5: UNIDAD DE MEDIDA | E5: VALOR REPUESTO INCLUIDO IVA | F5: VALOR REPUESTO INCLUIDO IVA
B6: 1 | C6: CAPACITOR DE MARCHA 5 MFD 440V | D6: UND | E6: 23690
B7: 2 | C7: CAPACITOR DE MARCHA 10 MFD 440V | D7: UND | E7: 24908
B8: 3 | C8: CAPACITOR DE MARCHA 15 MFD 440V | D8: UND | E8: 26652
B9: 4 | C9: CAPACITOR DE MARCHA 30 MFD 370V | D9: UND | E9: 40285
B10: 5 | C10: CAPACITOR DE MARCHA 35 MFD 440V | D10: UND | E10: 42611
B11: 6 | C11: CAPACITOR DE MARCHA 40 MFD 440V | D11: UND | E11: 45375
B12: 7 | C12: CAPACITOR DE MARCHA 45 MFD 440V | D12: UND | E12: 47215
B13: 8 | C13: CAPACITOR DE MARCHA 45+5 MFD 440V | D13: UND | E13: 51687
B14: 9 | C14: CAPACITOR DE MARCHA 5 MFD 370V | D14: UND | E14: 23382
B15: 10 | C15: CAPACITOR DE MARCHA 50 MFD 440V | D15: UND | E15: 52799
B16: 11 | C16: CAPACITOR DE MARCHA 55 MFD 440V | D16: UND | E16: 55379
B17: 12 | C17: CAPACITOR DE MARCHA 60 MFD (+5-5) 440V | D17: UND | E17: 58127
... B99: 94 | C99: CINTA FOIL | D99: UND | E99: 42325
B100: TOTAL | E100: =SUM(E6:E99) -> 38463700 | F100: =SUM(F6:F99) -> 0

Sheet TOTAL
B2: ANEXO OFERTA ECONOMICA
B3: SECCIONAL ATLÁNTICO | D3: TECHOS PRESUPUESTALES | E3: OFERTA ECONOMICA
B4: ITEM | C4: DESCRIPCIÓN | D4: VALOR TOTAL | E4: VALOR TOTAL
B5: 1 | C5: MANTENIMIENTO PREVENTIVO | D5: =+'MTO PREVENTICO ATL'!E31 -> 6081438 | E5: =+'MTO PREVENTICO ATL'!F31 -> 0
B6: 2 | C6: MANO DE OBRA MANTENIMIENTO CORRECTIVO | D6: =+'MANO OBRA CORRECTIVOS ATL'!D34 -> 56603953 | E6: =+'MANO OBRA CORRECTIVOS ATL'!E34 -> 0
B7: 3 | C7: REPUESTOS | D7: =+'REPUESTOS ATL'!E100 -> 38463700 | E7: =+'REPUESTOS ATL'!F100 -> 0
B8: TOTAL | D8: =SUM(D5:D7) -> 101149091 | E8: =SUM(E5:E7) -> 0
