Workbook
Name OLE_LINK1: 'REPUESTOS BOL'!#REF!

Sheet MTO PREVENTICO BOL
B2: ANEXO OFERTA ECONÓMICA
B3: SECCIONAL BOLÍVAR
B4: MANTENIMIENTOS PREVENTIVOS | E4: TECHOS PRESUPUESTALES | F4: OFERTA ECONOMICA
B5: ÍTEM | C5: DESCRIPCIÓN | D5: CANT. EQUIPOS | E5: VALOR MTO. X EQUIPO INCLUIDO IVA | F5: VALOR MTO. X EQUIPO INCLUIDO IVA
B6: PRECIO ARJONA
B7: 1 | C7: MANTENIMIENTO DE ACONDICIONADOR DE AIRE TIPO MINISPLIT DE 9000 BTU - 12000 BTU - 18000 BTU - 24000 BTU | D7: 1 | E7: 184040
B8: PRECIO CALAMAR
B9: 1 | C9: MANTENIMIENTO DE ACONDICIONADOR DE AIRE TIPO MINISPLIT DE 9000 BTU - 12000 BTU - 18000 BTU - 24000 BTU | D9: 1 | E9: 201522
B10: PRECIO CARMEN DE BOLIVAR
B11: 1 | C11: MANTENIMIENTO DE ACONDICIONADOR DE AIRE TIPO MINISPLIT DE 9000 BTU - 12000 BTU - 18000 BTU - 24000 BTU | D11: 1 | E11: 202592
B12: 2 | C12: MANTENIMIENTO DE ACONDICIONADOR DE AIRE TIPO CASSETTE DE 60000 BTU | D12: 1 | E12: 439188
B13: 3 | C13: MANTENIMIENTO DE ACONDICIONADOR DE AIRE TIPO CENTRAL DE 36000 BTU - 60.000 BTU PISO TECHO O DESCARGA VERTICAL | D13: 1 | E13: 441810
B14: PRECIO CARTAGENA
B15: 1 | C15: MANTENIMIENTO DE ACONDICIONADOR DE AIRE TIPO MINISPLIT DE 9000 BTU - 12000 BTU - 18000 BTU - 24000 BTU | D15: 1 | E15: 170533
B16: 2 | C16: MANTENIMIENTO DE ACONDICIONADOR DE AIRE TIPO MINISPLIT DE 36000 BTU | D16: 1 | E16: 241348
B17: 3 | C17: MANTENIMIENTO DE ACONDICIONADOR DE AIRE TIPO PISO TECHO O DESCARGA HORIZONTAL DE 18.000 BTU | D17: 1 | E17: 255026
B18: 4 | C18: MANTENIMIENTO DE ACONDICIONADOR DE AIRE TIPO CASSETTE DE 60000 BTU | D18: 1 | E18: 343346
B19: 5 | C19: MANTENIMIENTO DE ACONDICIONADOR DE AIRE TIPO CASSETTE DE 12000 BTU - 18000 BTU - 24000 BTU | D19: 1 | E19: 230757
B20: 6 | C20: MANTENIMIENTO AIRES PORTATILES 12.000 BTU | D20: 1 | E20: 145543
B21: 7 | C21: MANTENIMIENTO DE ACONDICIONADOR DE AIRE TIPO CENTRAL DE 60000 BTU | D21: 1 | E21: 367557
B22: 8 | C22: MANTENIMIENTO DE ACONDICIONADOR DE AIRE TIPO CENTRAL "PAQUETE" DE 120.000 BTU | D22: 1 | E22: 721775
B23: 9 | C23: TIPO 5 (SOLO CONDENSADORAS MULTI - V - CANTIDAD 2) | D23: 1 | E23: 718154
B24: 10 | C24: MANTENIMIENTO A UNIDADES CONDENSADORA COMPLEMENTARIAS DE CHILLERS | D24: 1 | E24: 453628
B25: 11 | C25: MANTENIMIENTO MOTOR DE 50 HP INCLUYE CAMBIO DE RODAMIENTOS, LIMPIEZA GENERAL, REVISIÓN DE CONEXIONES ELECTRICAS, REVISIÓN Y AJUSTE DE POLEAS, VERIFICACIÓN CONSUMO ELÉCTRICO, AJUSTE GENERAL O CAMBIO DE CORREAS | D25: 1 | E25: 989546
B26: 12 | C26: CORTINA DE AIRE 1,80 M A 110 V | D26: 1 | E26: 2244958
B27: 13 | C27: CORTINA DE AIRE 1,20 M A 110 V | D27: 1 | E27: 1108525
B28: PRECIO SEDE URI CANAPOTE EN CARTAGENA (INCLUYE SISTEMA DE REFRIGERACIÓN VRF)
B29: 1 | C29: MANTENIMIENTO DE ACONDICIONADOR DE AIRE TIPO MINISPLIT DE 12000 BTU - 18000 BTU - 24000 BTU | D29: 1 | E29: 182792
B30: 2 | C30: TIPO 2 (SOLO MANEJADORA CASSETTE) | D30: 1 | E30: 199677
B31: 3 | C31: TIPO 4 (SOLO MANEJADORA PISO TECHO DE 48.000 BTU) | D31: 1 | E31: 311971
B32: 4 | C32: TIPO 5 (SOLO CONDENSADORAS MULTI - V - CANTIDAD 7) | D32: 1 | E32: 1293103
B33: 5 | C33: TIPO 6 (SISTEMA DE VENTILACIÓN DE SUMINISTRO) | D33: 1 | E33: 789443
B34: 6 | C34: TIPO 7 (SISTEMA DE EXTRACCIÓN DE SUMINISTRO) | D34: 1 | E34: 815082
B35: PRECIO SEDE HOCOL CARTAGENA (SISTEMA DE REFRIGERACIÓN VRF)
B36: 1 | C36: TIPO 2 (SOLO MANEJADORA CASSETTE) | D36: 1 | E36: 205838
B37: 2 | C37: TIPO 3 (SOLO MANEJADORA Y FICHA TÉCNICA) | D37: 1 | E37: 259423
B38: 3 | C38: TIPO 5 (SOLO CONDENSADORAS MULTI - V - CANTIDAD 2) | D38: 1 | E38: 997413
B39: PRECIO CLEMENCIA
B40: 1 | C40: MANTENIMIENTO DE ACONDICIONADOR DE AIRE TIPO MINISPLIT DE 12000 BTU - 18000 BTU - 24000 BTU | D40: 1 | E40: 195610
B41: PRECIO MAGANGUÉ
B42: 1 | C42: MANTENIMIENTO DE ACONDICIONADOR DE AIRE TIPO MINISPLIT DE 12000 BTU - 18000 BTU - 24000 BTU | D42: 1 | E42: 220832
B43: PRECIO MARIA LA BAJA
B44: 1 | C44: MANTENIMIENTO DE ACONDICIONADOR DE AIRE TIPO MINISPLIT DE 12000 BTU - 18000 BTU - 24000 BTU | D44: 1 | E44: 196694
B45: PRECIO MOMPÓX
B46: 1 | C46: MANTENIMIENTO DE ACONDICIONADOR DE AIRE TIPO MINISPLIT DE 12000 BTU - 18000 BTU - 24000 BTU | D46: 1 | E46: 235881
B47: PRECIO PINILLOS
B48: 1 | C48: MANTENIMIENTO DE ACONDICIONADOR DE AIRE TIPO MINISPLIT DE 12000 BTU - 18000 BTU - 24000 BTU | D48: 1 | E48: 236203
B49: PRECIO SAN JUAN NEPOMUCENO
B50: 1 | C50: MANTENIMIENTO DE ACONDICIONADOR DE AIRE TIPO MINISPLIT DE 12000 BTU - 18000 BTU - 24000 BTU | D50: 1 | E50: 199553
B51: PRECIO SAN MARTÍN DE LOBA
B52: 1 | C52: MANTENIMIENTO DE ACONDICIONADOR DE AIRE TIPO MINISPLIT DE 12000 BTU - 18000 BTU - 24000 BTU | D52: 1 | E52: 237858
B53: PRECIO SAN MARTÍN DE LIMA
B54: 1 | C54: MANTENIMIENTO DE ACONDICIONADOR DE AIRE TIPO MINISPLIT DE 12000 BTU - 18000 BTU - 24000 BTU | D54: 1 | E54: 275750
B55: PRECIO TIQUISIO
B56: 1 | C56: MANTENIMIENTO DE ACONDICIONADOR DE AIRE TIPO MINISPLIT DE 12000 BTU - 18000 BTU - 24000 BTU | D56: 1 | E56: 280919
B57: PRECIO TURBACO
B58: 1 | C58: MANTENIMIENTO DE ACONDICIONADOR DE AIRE TIPO MINISPLIT DE 12000 BTU - 18000 BTU - 24000 BTU | D58: 1 | E58: 185548
B59: PRECIO SANTA ROSA DEL SUR
B60: 1 | C60: MANTENIMIENTO DE ACONDICIONADOR DE AIRE TIPO MINISPLIT DE 12000 BTU - 18000 BTU - 24000 BTU | D60: 1 | E60: 287000
B61: PRECIO SIMITÍ
B62: 1 | C62: MANTENIMIENTO DE ACONDICIONADOR DE AIRE TIPO MINISPLIT DE 12000 BTU - 18000 BTU - 24000 BTU | D62: 1 | E62: 287000
B63: PRECIO SAN PABLO
B64: 1 | C64: MANTENIMIENTO DE ACONDICIONADOR DE AIRE TIPO MINISPLIT DE 12000 BTU - 18000 BTU - 24000 BTU | D64: 1 | E64: 287000
B65: PRECIO RIO VIEJO
B66: 1 | C66: MANTENIMIENTO DE ACONDICIONADOR DE AIRE TIPO MINISPLIT DE 12000 BTU - 18000 BTU - 24000 BTU | D66: 1 | E66: 281375
B67: TOTAL | E67: =SUM(E7:E66) -> 17921813 | F67: =SUM(F7:F66) -> 0
B69: NOTA | C69: DENTRO DE LOS COSTOS SE INCLUYE LOS INSUMOS Y LA MANO DE OBRA NECESARIA PARA REALIZAR CADA MANTENIMIENTO PREVENTIVO

Sheet MANO OBRA CORRECTIVOS BOL
B2: ANEXO OFERTA ECONÓMICA
B3: SECCIONAL BOLÍVAR
B4: MANO DE OBRA MANTENIMIENTO CORRECTIVO | D4: TECHOS PRESUPUESTALES | E4: OFERTA ECONOMICA | F4: TECHOS PRESUPUESTALES | G4: OFERTA ECONOMICA | H4: TECHOS PRESUPUESTALES | I4: OFERTA ECONOMICA | J4: TECHOS PRESUPUESTALES | K4: OFERTA ECONOMICA | L4: TECHOS PRESUPUESTALES | M4: OFERTA ECONOMICA | N4: TECHOS PRESUPUESTALES | O4: OFERTA ECONOMICA | P4: TECHOS PRESUPUESTALES | Q4: OFERTA ECONOMICA | R4: TECHOS PRESUPUESTALES | S4: OFERTA ECONOMICA | T4: TECHOS PRESUPUESTALES | U4: OFERTA ECONOMICA | V4: TECHOS PRESUPUESTALES | W4: OFERTA ECONOMICA | X4: TECHOS PRESUPUESTALES | Y4: OFERTA ECONOMICA | Z4: TECHOS PRESUPUESTALES | AA4: OFERTA ECONOMICA | AB4: TECHOS PRESUPUESTALES | AC4: OFERTA ECONOMICA | AD4: TECHOS PRESUPUESTALES | AE4: OFERTA ECONOMICA | AF4: TECHOS PRESUPUESTALES | AG4: OFERTA ECONOMICA | AH4: TECHOS PRESUPUESTALES | AI4: OFERTA ECONOMICA | AJ4: TECHOS PRESUPUESTALES | AK4: OFERTA ECONOMICA | AL4: TECHOS PRESUPUESTALES | AM4: OFERTA ECONOMICA
B5: ÍTEM | C5: DESCRIPCIÓN | D5: V. UNITARIO Mano de Obra Incluido IVA ARJONA | E5: V. UNITARIO Mano de Obra Incluido IVA ARJONA | F5: V. UNITARIO Mano de Obra Incluido IVA CALAMAR | G5: V. UNITARIO Mano de Obra Incluido IVA CALAMAR | H5: V. UNITARIO Mano de Obra Incluido IVA CARMEN DE BOLÍVAR | I5: V. UNITARIO Mano de Obra Incluido IVA CARMEN DE BOLÍVAR | J5: V. UNITARIO Mano de Obra Incluido IVA CARTAGENA | K5: V. UNITARIO Mano de Obra Incluido IVA CARTAGENA | L5: V. UNITARIO Mano de Obra Incluido IVA CLEMENCIA | M5: V. UNITARIO Mano de Obra Incluido IVA CLEMENCIA | N5: V. UNITARIO Mano de Obra Incluido IVA MAGANGUÉ | O5: V. UNITARIO Mano de Obra Incluido IVA MAGANGUÉ | P5: V. UNITARIO Mano de Obra Incluido IVA MARÍA LA BAJA | Q5: V. UNITARIO Mano de Obra Incluido IVA MARÍA LA BAJA | R5: V. UNITARIO Mano de Obra Incluido IVA MOMPOX | S5: V. UNITARIO Mano de Obra Incluido IVA MOMPOX | T5: V. UNITARIO Mano de Obra Incluido IVA PINILLOS | U5: V. UNITARIO Mano de Obra Incluido IVA PINILLOS | V5: V. UNITARIO Mano de Obra Incluido IVA SAN JUAN NEPOMUCENO | W5: V. UNITARIO Mano de Obra Incluido IVA SAN JUAN NEPOMUCENO | X5: V. UNITARIO Mano de Obra Incluido IVA SAN MARTÍN DE LOBA | Y5: V. UNITARIO Mano de Obra Incluido IVA SAN MARTÍN DE LOBA | Z5: V. UNITARIO Mano de Obra Incluido IVA SAN MARTÍN DE LIMA | AA5: V. UNITARIO Mano de Obra Incluido IVA SAN MARTÍN DE LIMA | AB5: V. UNITARIO Mano de Obra Incluido IVA TIQUISIO | AC5: V. UNITARIO Mano de Obra Incluido IVA TIQUISIO | AD5: V. UNITARIO Mano de Obra Incluido IVA TURBACO | AE5: V. UNITARIO Mano de Obra Incluido IVA TURBACO | AF5: V. UNITARIO Mano de Obra Incluido IVA SANTA ROSA DEL SUR | AG5: V. UNITARIO Mano de Obra Incluido IVA SANTA ROSA DEL SUR | AH5: V. UNITARIO Mano de Obra Incluido IVA SIMITÍ | AI5: V. UNITARIO Mano de Obra Incluido IVA SIMITÍ | AJ5: V. UNITARIO Mano de Obra Incluido IVA SAN PABLO | AK5: V. UNITARIO Mano de Obra Incluido IVA SAN PABLO | AL5: V. UNITARIO Mano de Obra Incluido IVA RÍO VIEJO | AM5: V. UNITARIO Mano de Obra Incluido IVA RÍO VIEJO
B6: 1 | C6: INSTALACIÓN O CAMBIO DE PROTECTOR ELECTRÓNICO DE VOLTAJE | D6: 126914 | F6: 146027 | H6: 150318 | J6: 122764 | L6: 139760 | N6: 165403 | P6: 148602 | R6: 159423 | T6: 178299 | V6: 148011 | X6: 171216 | Z6: 182209 | AB6: 196221 | AD6: 128768 | AF6: 184984 | AH6: 184984 | AJ6: 184984 | AL6: 183609
B7: 2 | C7: CAMBIO DE CAPACITOR DE ACONDICIONADOR DE AIRE | D7: 132585 | F7: 151915 | H7: 152393 | J7: 130660 | L7: 146667 | N7: 165946 | P7: 152348 | R7: 171365 | T7: 182117 | V7: 126150 | X7: 173669 | Z7: 157725 | AB7: 204148 | AD7: 135467 | AF7: 164100 | AH7: 164100 | AJ7: 164100 | AL7: 160950
B8: 3 | C8: CAMBIO DE UNIDAD COMPRESORA DE AIRE TIPO MINI SPLIT, INCLUYE MANO DE OBRA DE: CARGA COMPLETA DE REFRIGERANTE, LIMPIEZA DE TUBERÍA DE COBRE CON NITRÓGENO, CAMBIO DE FILTRO SECADOR. INSUMOS: NITRÓGENO, SOLDADURA | D8: 580871 | F8: 626994 | H8: 653102 | J8: 560040 | L8: 593656 | N8: 718158 | P8: 637329 | R8: 731554 | T8: 763344 | V8: 766575 | X8: 737771 | Z8: 913500 | AB8: 827860 | AD8: 586243 | AF8: 928075 | AH8: 928075 | AJ8: 928075 | AL8: 920800
B9: 4 | C9: CAMBIO DE UNIDAD COMPRESORA DE AIRE TIPO CENTRAL, INCLUYE MANO DE OBRA DE: CARGA COMPLETA DE REFRIGERANTE, LIMPIEZA DE TUBERÍA DE COBRE CON NITRÓGENO, CAMBIO DE FILTRO SECADOR. INSUMOS: NITRÓGENO, SOLDADURA | D9: N/A | F9: N/A | H9: 1290700 | J9: 886652 | L9: N/A | N9: N/A | P9: N/A | R9: N/A | T9: N/A | V9: N/A | X9: N/A | Z9: N/A | AB9: N/A | AD9: N/A | AF9: N/A | AH9: N/A | AJ9: N/A | AL9: N/A
B10: 5 | C10: CAMBIO TARJETA ELECTRÓNICA DE ACONDICIONADOR DE AIRE | D10: 169610 | F10: 191188 | H10: 194253 | J10: 164602 | L10: 182205 | N10: 214566 | P10: 190821 | R10: 222064 | T10: 232342 | V10: 210075 | X10: 223863 | Z10: 260475 | AB10: 253571 | AD10: 171629 | AF10: 264375 | AH10: 264375 | AJ10: 264375 | AL10: 262425
B11: 6 | C11: UBICACIÓN Y CORRECCIÓN DE FUGA DE GAS REFRIGERANTE Y ACEITE EN EL SISTEMA MINI SPLIT O CENTRAL, INCLUYE MANO DE OBRA DE: VACÍO, CARGA COMPLETA DE REFRIGERANTE, LIMPIEZA DE TUBERÍA DE COBRE CON NITRÓGENO, INSTALACIÓN DE FILTRO SECADOR. INSUMOS: NITRÓGENO, SOLDADURA Y DEMÁS ACTIVIDADES QUE GARANTICEN SU CORRECTO FUNCIONAMIENTO | D11: 574439 | F11: 642539 | H11: 655580 | J11: 549962 | L11: 608296 | N11: 710711 | P11: 646980 | R11: 722779 | T11: 760632 | V11: 640694 | X11: 728838 | Z11: 751506 | AB11: 839967 | AD11: 583491 | AF11: 763831 | AH11: 763831 | AJ11: 763831 | AL11: 757656
B12: 7 | C12: DESMOTE DE ACONDICIONADOR DE AIRE TIPO CENTRAL DE 60.000 BTU | D12: N/A | F12: N/A | H12: 388025 | J12: 310426 | L12: N/A | N12: N/A | P12: N/A | R12: N/A | T12: N/A | V12: N/A | X12: N/A | Z12: N/A | AB12: N/A | AD12: N/A | AF12: N/A | AH12: N/A | AJ12: N/A | AL12: N/A
B13: 8 | C13: DESMOTE DE ACONDICIONADOR DE AIRE TIPO MINI SPLIT | D13: 210100 | F13: 235860 | H13: 236657 | J13: 204797 | L13: 228150 | N13: 250349 | P13: 238971 | R13: 255203 | T13: 268923 | V13: 232925 | X13: 257424 | Z13: 257250 | AB13: 297891 | AD13: 213234 | AF13: 262100 | AH13: 262100 | AJ13: 262100 | AL13: 259675
B14: 9 | C14: INSTALACIÓN DE ACONDICIONADOR DE AIRE TIPO CENTRAL DE 60.000 BTU INCLUYE MANO DE OBRA DE: VACÍO, CARGA COMPLETA DE REFRIGERANTE, LIMPIEZA DE TUBERÍA DE COBRE CON NITRÓGENO, INSTALACIÓN DE FILTRO SECADOR. INSUMOS: NITRÓGENO, SOLDADURA Y DEMÁS ACTIVIDADES QUE GARANTICEN SU CORRECTO FUNCIONAMIENTO | D14: N/A | F14: N/A | H14: 1017321 | J14: 887504 | L14: N/A | N14: N/A | P14: N/A | R14: N/A | T14: N/A | V14: N/A | X14: N/A | Z14: N/A | AB14: N/A | AD14: N/A | AF14: N/A | AH14: N/A | AJ14: N/A | AL14: N/A
B15: 10 | C15: INSTALACIÓN DE ACONDICIONADOR DE AIRE TIPO MINI SPLIT (12000-18000-24000 BTU) INCLUYE MANO DE OBRA DE: VACÍO, CARGA COMPLETA DE REFRIGERANTE, LIMPIEZA DE TUBERÍA DE COBRE CON NITRÓGENO, INSTALACIÓN DE FILTRO SECADOR. INSUMOS: NITRÓGENO, SOLDADURA Y DEMÁS ACTIVIDADES QUE GARANTICEN SU CORRECTO FUNCIONAMIENTO | D15: 436591 | F15: 491110 | H15: 492832 | J15: 429289 | L15: 472993 | N15: 519503 | P15: 493706 | R15: 528051 | T15: 548464 | V15: 541624 | X15: 531103 | Z15: 596749 | AB15: 595479 | AD15: 442337 | AF15: 607774 | AH15: 607774 | AJ15: 607774 | AL15: 602249
B16: 11 | C16: REPARACIÓN TARJETA ELECTRÓNICA ORIGINAL DE ACONDICIONADOR DE AIRE | D16: 240285 | F16: 254049 | H16: 262139 | J16: 235049 | L16: 246780 | N16: 279461 | P16: 260836 | R16: 286899 | T16: 300345 | V16: 320143 | X16: 290180 | Z16: 362293 | AB16: 326189 | AD16: 243340 | AF16: 370718 | AH16: 370718 | AJ16: 370718 | AL16: 366493
B17: 12 | C17: REUBICACIÓN CONDENSADORA ACONDICIONADOR DE AIRE TIPO MINI SPLIT INCLUYE MANO DE OBRA DE: VACÍO, CARGA COMPLETA DE REFRIGERANTE, LIMPIEZA DE TUBERÍA DE COBRE CON NITRÓGENO, INSTALACIÓN DE FILTRO SECADOR. INSUMOS: NITRÓGENO, SOLDADURA Y DEMÁS ACTIVIDADES QUE GARANTICEN SU CORRECTO FUNCIONAMIENTO | D17: 388937 | F17: 419023 | H17: 422184 | J17: 383186 | L17: 409604 | N17: 448151 | P17: 423212 | R17: 458143 | T17: 477464 | V17: 494562 | X17: 462008 | Z17: 556187 | AB17: 519369 | AD17: 395281 | AF17: 568512 | AH17: 568512 | AJ17: 568512 | AL17: 562337
B18: 13 | C18: REUBICACIÓN MANEJADORA ACONDICIONADOR DE AIRE TIPO CENTRAL INCLUYE MANO DE OBRA DE: VACÍO, CARGA COMPLETA DE REFRIGERANTE, LIMPIEZA DE TUBERÍA DE COBRE CON NITRÓGENO, INSTALACIÓN DE FILTRO SECADOR. INSUMOS: NITRÓGENO, SOLDADURA Y DEMÁS ACTIVIDADES QUE GARANTICEN SU CORRECTO FUNCIONAMIENTO | D18: N/A | F18: N/A | H18: 818217 | J18: 579654 | L18: N/A | N18: N/A | P18: N/A | R18: N/A | T18: N/A | V18: N/A | X18: N/A | Z18: N/A | AB18: N/A | AD18: N/A | AF18: N/A | AH18: N/A | AJ18: N/A | AL18: N/A
B19: 14 | C19: REUBICACIÓN MANEJADORA ACONDICIONADOR DE AIRE TIPO MINI SPLIT INCLUYE MANO DE OBRA DE: VACÍO, CARGA COMPLETA DE REFRIGERANTE, LIMPIEZA DE TUBERÍA DE COBRE CON NITRÓGENO, INSTALACIÓN DE FILTRO SECADOR. INSUMOS: NITRÓGENO, SOLDADURA Y DEMÁS ACTIVIDADES QUE GARANTICEN SU CORRECTO FUNCIONAMIENTO | D19: 299942 | F19: 321002 | H19: 328238 | J19: 293967 | L19: 312767 | N19: 348906 | P19: 327565 | R19: 357419 | T19: 373828 | V19: 395220 | X19: 361143 | Z19: 443870 | AB19: 406414 | AD19: 304057 | AF19: 453595 | AH19: 453595 | AJ19: 453595 | AL19: 448720
B20: 15 | C20: CAMBIO DE CONDENSADORA DE AIRE TIPO MINI SPLIT INCLUYE MANO DE OBRA DE: VACÍO, CARGA COMPLETA DE REFRIGERANTE, LIMPIEZA DE TUBERÍA DE COBRE CON NITRÓGENO, INSTALACIÓN DE FILTRO SECADOR. INSUMOS: NITRÓGENO, SOLDADURA Y DEMÁS ACTIVIDADES QUE GARANTICEN SU CORRECTO FUNCIONAMIENTO | D20: 327261 | F20: 350795 | H20: 358638 | J20: 318273 | L20: 340007 | N20: 384689 | P20: 356579 | R20: 395871 | T20: 415328 | V20: 418082 | X20: 400689 | Z20: 482932 | AB20: 453145 | AD20: 331803 | AF20: 495907 | AH20: 495907 | AJ20: 495907 | AL20: 489407
B21: 16 | C21: CAMBIO DE CONDENSADORA DE AIRE TIPO CENTRAL INCLUYE MANO DE OBRA DE: VACÍO, CARGA COMPLETA DE REFRIGERANTE, LIMPIEZA DE TUBERÍA DE COBRE CON NITRÓGENO, INSTALACIÓN DE FILTRO SECADOR. INSUMOS: NITRÓGENO, SOLDADURA Y DEMÁS ACTIVIDADES QUE GARANTICEN SU CORRECTO FUNCIONAMIENTO | D21: N/A | F21: N/A | H21: 894341 | J21: 619619 | L21: N/A | N21: N/A | P21: N/A | R21: N/A | T21: N/A | V21: N/A | X21: N/A | Z21: N/A | AB21: N/A | AD21: N/A | AF21: N/A | AH21: N/A | AJ21: N/A | AL21: N/A
B22: 17 | C22: CAMBIO MOTOR VENTILADOR DE ACONDICIONADOR DE AIRE | D22: 202049 | F22: 230300 | H22: 233304 | J22: 194814 | L22: 218097 | N22: 253748 | P22: 228946 | R22: 258212 | T22: 270316 | V22: 253225 | X22: 260324 | Z22: 297599 | AB22: 295580 | AD22: 204376 | AF22: 302449 | AH22: 302449 | AJ22: 302449 | AL22: 300024
B23: 18 | C23: CAMBIO TRANSFORMADOR DE ACONDICIONADOR DE AIRES | D23: N/A | F23: N/A | H23: 171729 | J23: 141325 | L23: N/A | N23: N/A | P23: N/A | R23: N/A | T23: N/A | V23: N/A | X23: N/A | Z23: N/A | AB23: N/A | AD23: N/A | AF23: N/A | AH23: N/A | AJ23: N/A | AL23: N/A
B24: 19 | C24: CAMBIO BALINERA DE MOTOR VENTILADOR | D24: 179656 | F24: 198716 | H24: 206609 | J24: 170237 | L24: 187432 | N24: 226763 | P24: 203060 | R24: 230644 | T24: 241334 | V24: 221797 | X24: 232448 | Z24: 264867 | AB24: 263910 | AD24: 181891 | AF24: 269092 | AH24: 269092 | AJ24: 269092 | AL24: 266967
B25: 20 | C25: CAMBIO CONTACTOR DE ACONDICIONADOR DE AIRES | D25: N/A | F25: N/A | H25: 180291 | J25: 152952 | L25: N/A | N25: N/A | P25: N/A | R25: N/A | T25: N/A | V25: N/A | X25: N/A | Z25: N/A | AB25: N/A | AD25: N/A | AF25: N/A | AH25: N/A | AJ25: N/A | AL25: N/A
B26: 21 | C26: CAMBIO FAN RELAY ACONDICIONADOR DE AIRE | D26: N/A | F26: N/A | H26: 156418 | J26: 125283 | L26: N/A | N26: N/A | P26: N/A | R26: N/A | T26: N/A | V26: N/A | X26: N/A | Z26: N/A | AB26: N/A | AD26: N/A | AF26: N/A | AH26: N/A | AJ26: N/A | AL26: N/A
B27: 22 | C27: CAMBIO PRESOSTATO DE ACONDICIONADOR DE AIRE | D27: N/A | F27: N/A | H27: 170566 | J27: 139939 | L27: N/A | N27: N/A | P27: N/A | R27: N/A | T27: N/A | V27: N/A | X27: N/A | Z27: N/A | AB27: N/A | AD27: N/A | AF27: N/A | AH27: N/A | AJ27: N/A | AL27: N/A
B28: 23 | C28: CAMBIO TEMPORIZADOR DE ACONDICIONADOR DE AIRE | D28: N/A | F28: N/A | H28: 170354 | J28: 131998 | L28: N/A | N28: N/A | P28: N/A | R28: N/A | T28: N/A | V28: N/A | X28: N/A | Z28: N/A | AB28: N/A | AD28: N/A | AF28: N/A | AH28: N/A | AJ28: N/A | AL28: N/A
B29: 24 | C29: SUMINISTRO E INSTALACIÓN A TODO COSTO DE DUCTERIA EN LAMINA DE PORÓN (METRO CUADRADO). INCLUYE MATERIALES NECESARIOS: LÁMINA DE PORÓN, CINTA FOIL, ENTRE OTROS. | D29: N/A | F29: N/A | H29: 204169 | J29: 173842 | L29: N/A | N29: N/A | P29: N/A | R29: N/A | T29: N/A | V29: N/A | X29: N/A | Z29: N/A | AB29: N/A | AD29: N/A | AF29: N/A | AH29: N/A | AJ29: N/A | AL29: N/A
B30: 25 | C30: SUMINISTRO E INSTALACIÓN A TODO COSTO DE DUCTERIA EN FIBRA DE VIDRIO (METRO CUADRADO). INCLUYE MATERIALES NECESARIOS: LÁMINAS, CINTA, ENTRE OTROS. | D30: N/A | F30: N/A | H30: 235306 | J30: 198316 | L30: N/A | N30: N/A | P30: N/A | R30: N/A | T30: N/A | V30: N/A | X30: N/A | Z30: N/A | AB30: N/A | AD30: N/A | AF30: N/A | AH30: N/A | AJ30: N/A | AL30: N/A
B31: 26 | C31: SUMINISTRO E INSTALACIÓN A TODO COSTO DE DUCTERIA GALVANIZADA (METRO CUADRADO). INCLUYE MATERIALES NECESARIOS: LÁMINAS, CINTA, ENTRE OTROS. | D31: N/A | F31: N/A | H31: 340155 | J31: 296112 | L31: N/A | N31: N/A | P31: N/A | R31: N/A | T31: N/A | V31: N/A | X31: N/A | Z31: N/A | AB31: N/A | AD31: N/A | AF31: N/A | AH31: N/A | AJ31: N/A | AL31: N/A
B32: 27 | C32: CAMBIO DE TERMOSTATO | D32: N/A | F32: N/A | H32: 182650 | J32: 77450 | L32: N/A | N32: N/A | P32: N/A | R32: N/A | T32: N/A | V32: N/A | X32: N/A | Z32: N/A | AB32: N/A | AD32: N/A | AF32: N/A | AH32: N/A | AJ32: N/A | AL32: N/A
C33: TOTAL | D33: =SUM(D6:D32) -> 3869240 | E33: =SUM(E6:E32) -> 0 | F33: =SUM(F6:F32) -> 4259518 | G33: =SUM(G6:G32) -> 0 | H33: =SUM(H6:H32) -> 10566489 | I33: =SUM(I6:I32) -> 0 | J33: =SUM(J6:J32) -> 8478712 | K33: =SUM(K6:K32) -> 0 | ... AM33: =SUM(AM6:AM32) -> 0
C35: TOTAL | D35: =+D33+F33+H33+J33+L33+N33+P33+R33+T33+V33+X33+Z33+AB33+AD33+AF33+AH33+AJ33+AL33 -> 97062475 | E35: =+E33+G33+I33+K33+M33+O33+Q33+S33+U33+W33+Y33+AA33+AC33+AE33+AG33+AI33+AK33+AM33 -> 0

Sheet REPUESTOS BOL
B2: ANEXO OFERTA ECONÓMICA
B3: SECCIONAL BOLÍVAR
B4: REPUESTOS CORRECTIVOS | E4: VALORES SELECCIONADOS ESTUDIO | F4: OFERTA ECONOMICA
B5: ÍTEM | C5: DESCRIPCIÓN | D5: UNIDAD DE MEDIDA | E5: VALOR REPUESTO INCLUIDO IVA | F5: VALOR REPUESTO INCLUIDO IVA
B6: 1 | C6: CAPACITOR DE MARCHA 5 MFD 440V | D6: UND | E6: 37631
B7: 2 | C7: CAPACITOR DE MARCHA 10 MFD 440V | D7: UND | E7: 28094
B8: 3 | C8: CAPACITOR DE MARCHA 15 MFD 440V | D8: UND | E8: 29853
B9: 4 | C9: CAPACITOR DE MARCHA 30 MFD 370V | D9: UND | E9: 48315
B10: 5 | C10: CAPACITOR DE MARCHA 35 MFD 440V | D10: UND | E10: 50233
B11: 6 | C11: CAPACITOR DE MARCHA 40 MFD 440V | D11: UND | E11: 52978
B12: 7 | C12: CAPACITOR DE MARCHA 45 MFD 440V | D12: UND | E12: 54579
B13: 8 | C13: CAPACITOR DE MARCHA 45+5 MFD 440V | D13: UND | E13: 59176
B14: 9 | C14: CAPACITOR DE MARCHA 5 MFD 370V | D14: UND | E14: 27333
B15: 10 | C15: CAPACITOR DE MARCHA 50 MFD 440V | D15: UND | E15: 61128
B16: 11 | C16: CAPACITOR DE MARCHA 55 MFD 440V | D16: UND | E16: 63781
B17: 12 | C17: CAPACITOR DE MARCHA 60 MFD (+5-5) 440V | D17: UND | E17: 66518
... B99: 94 | C99: CINTA FOIL | D99: UND | E99: 42950
B100: TOTAL | E100: =SUM(E6:E99) -> 44660833 | F100: =SUM(F6:F99) -> 0

Sheet TOTAL
B2: ANEXO OFERTA ECONOMICA
B3: SECCIONAL BOLÍVAR | D3: TECHOS PRESUPUESTALES | E3: OFERTA ECONOMICA
B4: ITEM | C4: DESCRIPCIÓN | D4: VALOR TOTAL | E4: VALOR TOTAL
B5: 1 | C5: MANTENIMIENTO PREVENTIVO | D5: =+'MTO PREVENTICO BOL'!E67 -> 17921813 | E5: =+'MTO PREVENTICO BOL'!F67 -> 0
B6: 2 | C6: MANO DE OBRA MANTENIMIENTO CORRECTIVO | D6: =+'MANO OBRA CORRECTIVOS BOL'!D35 -> 97062475 | E6: =+'MANO OBRA CORRECTIVOS BOL'!E35 -> 0
B7: 3 | C7: REPUESTOS | D7: =+'REPUESTOS BOL'!E100 -> 44660833 | E7: =+'REPUESTOS BOL'!F100 -> 0
B8: TOTAL | D8: =SUM(D5:D7) -> 159645121 | E8: =SUM(E5:E7) -> 0
