Workbook
Name OLE_LINK1: 'REPUESTOS GUA'!#REF!

Sheet MTO PREVENTICO GUA
B2: ANEXO OFERTA ECONÓMICA
B3: SECCIONAL LA GUAJIRA
B4: MANTENIMIENTOS PREVENTIVOS | E4: TECHOS PRESUPUESTALES | F4: OFERTA ECONOMICA
B5: ÍTEM | C5: DESCRIPCIÓN | D5: CANT. EQUIPOS | E5: VALOR MTO. X EQUIPO INCLUIDO IVA | F5: VALOR MTO. X EQUIPO INCLUIDO IVA
B6: PRECIO MAICAO
B7: 1 | C7: MANTENIMIENTO DE ACONDICIONADOR DE AIRE TIPO MINISPLIT DE 9000 BTU - 12000 BTU - 18000 BTU - 24000 BTU | D7: 1 | E7: 197050
B8: 2 | C8: MANTENIMIENTO DE ACONDICIONADOR DE AIRE TIPO CENTRAL DE 36000 BTU - 60.000 BTU PISO TECHO O DESCARGA VERTICAL | D8: 1 | E8: 411113
B9: PRECIO URIBIA
B10: 1 | C10: MANTENIMIENTO DE ACONDICIONADOR DE AIRE TIPO MINISPLIT DE 9000 BTU - 12000 BTU - 18000 BTU - 24000 BTU | D10: 1 | E10: 232663
B11: PRECIO RIOHACHA
B12: 1 | C12: MANTENIMIENTO DE ACONDICIONADOR DE AIRE TIPO MINISPLIT DE 12000 BTU - 18000 BTU - 24000 BTU | D12: 1 | E12: 179550
B13: 2 | C13: MANTENIMIENTO DE ACONDICIONADOR DE AIRE TIPO MINISPLIT DE 36000 BTU | D13: 1 | E13: 254025
B14: PRECIO DIBULLA
B15: 1 | C15: MANTENIMIENTO DE ACONDICIONADOR DE AIRE TIPO MINISPLIT DE 12000 BTU - 18000 BTU - 24000 BTU | D15: 1 | E15: 209413
B16: PRECIO FONSECA
B17: 1 | C17: MANTENIMIENTO DE ACONDICIONADOR DE AIRE TIPO MINISPLIT DE 12000 BTU - 18000 BTU - 24000 BTU | D17: 1 | E17: 205663
B18: PRECIO SAN JUAN
B19: 1 | C19: MANTENIMIENTO DE ACONDICIONADOR DE AIRE TIPO MINISPLIT DE 12000 BTU - 18000 BTU - 24000 BTU | D19: 1 | E19: 208425
B20: PRECIO ALBANIA
B21: 1 | C21: MANTENIMIENTO DE ACONDICIONADOR DE AIRE TIPO MINISPLIT DE 12000 BTU - 18000 BTU - 24000 BTU | D21: 1 | E21: 214250
B22: 2 | C22: MANTENIMIENTO DE ACONDICIONADOR DE AIRE TIPO CENTRAL DE 36000 BTU - 60.000 BTU PISO TECHO O DESCARGA VERTICAL | D22: 1 | E22: 598625
B23: PRECIO VILLANUEVA
B24: 1 | C24: MANTENIMIENTO DE ACONDICIONADOR DE AIRE TIPO MINISPLIT DE 12000 BTU - 18000 BTU - 24000 BTU | D24: 1 | E24: 210075
B25: TOTAL | E25: =SUM(E7:E24) -> 2920852 | F25: =SUM(F7:F24) -> 0
B27: NOTA | C27: DENTRO DE LOS COSTOS SE INCLUYE LOS INSUMOS Y LA MANO DE OBRA NECESARIA PARA REALIZAR CADA MANTENIMIENTO PREVENTIVO

Sheet MANO OBRA CORRECTIVOS GUA
B2: SECCIONAL LA GUAJIRA
B3: MANO DE OBRA MANTENIMIENTO CORRECTIVO | D3: VALORES SELECCIONADOS ESTUDIO | E3: OFERTA ECONOMICA | F3: VALORES SELECCIONADOS ESTUDIO | G3: OFERTA ECONOMICA | H3: VALORES SELECCIONADOS ESTUDIO | I3: OFERTA ECONOMICA | J3: VALORES SELECCIONADOS ESTUDIO | K3: OFERTA ECONOMICA | L3: VALORES SELECCIONADOS ESTUDIO | M3: OFERTA ECONOMICA | N3: VALORES SELECCIONADOS ESTUDIO | O3: OFERTA ECONOMICA | P3: VALORES SELECCIONADOS ESTUDIO | Q3: OFERTA ECONOMICA | R3: VALORES SELECCIONADOS ESTUDIO | S3: OFERTA ECONOMICA
B4: ÍTEM | C4: DESCRIPCIÓN | D4: V. UNITARIO Mano de Obra Incluido IVA MAICAO | E4: V. UNITARIO Mano de Obra Incluido IVA MAICAO | F4: V. UNITARIO Mano de Obra Incluido IVA URIBIA | G4: V. UNITARIO Mano de Obra Incluido IVA URIBIA | H4: V. UNITARIO Mano de Obra Incluido IVA RIOHACHA | I4: V. UNITARIO Mano de Obra Incluido IVA RIOHACHA | J4: V. UNITARIO Mano de Obra Incluido IVA DIBULLA | K4: V. UNITARIO Mano de Obra Incluido IVA DIBULLA | L4: V. UNITARIO Mano de Obra Incluido IVA FONSECA | M4: V. UNITARIO Mano de Obra Incluido IVA FONSECA | N4: V. UNITARIO Mano de Obra Incluido IVA SAN JUAN | O4: V. UNITARIO Mano de Obra Incluido IVA SAN JUAN | P4: V. UNITARIO Mano de Obra Incluido IVA ALBANIA | Q4: V. UNITARIO Mano de Obra Incluido IVA ALBANIA | R4: V. UNITARIO Mano de Obra Incluido IVA VILLANUEVA | S4: V. UNITARIO Mano de Obra Incluido IVA VILLANUEVA
B5: 1 | C5: INSTALACIÓN O CAMBIO DE PROTECTOR ELECTRÓNICO DE VOLTAJE | D5: 159593 | F5: 196381 | H5: 141843 | J5: 173293 | L5: 164218 | N5: 165331 | P5: 143886 | R5: 167168
B6: 2 | C6: CAMBIO DE CAPACITOR DE ACONDICIONADOR DE AIRE | D6: 142250 | F6: 174388 | H6: 129663 | J6: 156100 | L6: 145500 | N6: 146175 | P6: 123000 | R6: 147713
B7: 3 | C7: CAMBIO DE UNIDAD COMPRESORA DE AIRE TIPO MINI SPLIT, INCLUYE MANO DE OBRA DE: CARGA COMPLETA DE REFRIGERANTE, LIMPIEZA DE TUBERÍA DE COBRE CON NITRÓGENO, CAMBIO DE FILTRO SECADOR. INSUMOS: NITRÓGENO, SOLDADURA | D7: 704088 | F7: 850750 | H7: 645475 | J7: 747925 | L7: 726188 | N7: 733338 | P7: 744675 | R7: 742650
B8: 4 | C8: CAMBIO DE UNIDAD COMPRESORA DE AIRE TIPO CENTRAL, INCLUYE MANO DE OBRA DE: CARGA COMPLETA DE REFRIGERANTE, LIMPIEZA DE TUBERÍA DE COBRE CON NITRÓGENO, CAMBIO DE FILTRO SECADOR. INSUMOS: NITRÓGENO, SOLDADURA | D8: 1165250 | F8: N/A | H8: N/A | J8: N/A | L8: N/A | N8: N/A | P8: 1231200 | R8: N/A
B9: 5 | C9: CAMBIO TARJETA ELECTRÓNICA DE ACONDICIONADOR DE AIRE | D9: 186813 | F9: 226888 | H9: 168550 | J9: 198175 | L9: 193075 | N9: 194850 | P9: 204225 | R9: 197063
B10: 6 | C10: UBICACIÓN Y CORRECCIÓN DE FUGA DE GAS REFRIGERANTE Y ACEITE EN EL SISTEMA MINI SPLIT O CENTRAL, INCLUYE MANO DE OBRA DE: VACÍO, CARGA COMPLETA DE REFRIGERANTE, LIMPIEZA DE TUBERÍA DE COBRE CON NITRÓGENO, INSTALACIÓN DE FILTRO SECADOR. INSUMOS: NITRÓGENO, SOLDADURA Y DEMÁS ACTIVIDADES QUE GARANTICEN SU CORRECTO FUNCIONAMIENTO | D10: 613222 | F10: 740753 | H10: 553347 | J10: 662060 | L10: 633410 | N10: 638535 | P10: 622244 | R10: 647635
B11: 7 | C11: DESMOTE DE ACONDICIONADOR DE AIRE TIPO CENTRAL DE 60.000 BTU | D11: 336875 | F11: N/A | H11: N/A | J11: N/A | L11: N/A | N11: N/A | P11: 377650 | R11: N/A
B12: 8 | C12: DESMOTE DE ACONDICIONADOR DE AIRE TIPO MINI SPLIT | D12: 211450 | F12: 240175 | H12: 172413 | J12: 224850 | L12: 214125 | N12: 214100 | P12: 230500 | R12: 215375
B13: 9 | C13: INSTALACIÓN DE ACONDICIONADOR DE AIRE TIPO CENTRAL DE 60.000 BTU INCLUYE MANO DE OBRA DE: VACÍO, CARGA COMPLETA DE REFRIGERANTE, LIMPIEZA DE TUBERÍA DE COBRE CON NITRÓGENO, INSTALACIÓN DE FILTRO SECADOR. INSUMOS: NITRÓGENO, SOLDADURA Y DEMÁS ACTIVIDADES QUE GARANTICEN SU CORRECTO FUNCIONAMIENTO | D13: 1240700 | F13: N/A | H13: N/A | J13: N/A | L13: N/A | N13: N/A | P13: 1246800 | R13: N/A
B14: 10 | C14: INSTALACIÓN DE ACONDICIONADOR DE AIRE TIPO MINI SPLIT (12000-18000-24000 BTU) INCLUYE MANO DE OBRA DE: VACÍO, CARGA COMPLETA DE REFRIGERANTE, LIMPIEZA DE TUBERÍA DE COBRE CON NITRÓGENO, INSTALACIÓN DE FILTRO SECADOR. INSUMOS: NITRÓGENO, SOLDADURA Y DEMÁS ACTIVIDADES QUE GARANTICEN SU CORRECTO FUNCIONAMIENTO | D14: 442750 | F14: 498500 | H14: 381175 | J14: 459463 | L14: 450962 | N14: 451375 | P14: 531500 | R14: 454925
B15: 11 | C15: REPARACIÓN TARJETA ELECTRÓNICA ORIGINAL DE ACONDICIONADOR DE AIRE | D15: 253209 | F15: 289772 | H15: 243722 | J15: 268784 | L15: 257822 | N15: 258684 | P15: 315918 | R15: 260647
B16: 12 | C16: REUBICACIÓN CONDENSADORA ACONDICIONADOR DE AIRE TIPO MINI SPLIT INCLUYE MANO DE OBRA DE: VACÍO, CARGA COMPLETA DE REFRIGERANTE, LIMPIEZA DE TUBERÍA DE COBRE CON NITRÓGENO, INSTALACIÓN DE FILTRO SECADOR. INSUMOS: NITRÓGENO, SOLDADURA Y DEMÁS ACTIVIDADES QUE GARANTICEN SU CORRECTO FUNCIONAMIENTO | D16: 399706 | F16: 450044 | H16: 374981 | J16: 419169 | L16: 406319 | N16: 407544 | P16: 488412 | R16: 410794
B17: 13 | C17: REUBICACIÓN MANEJADORA ACONDICIONADOR DE AIRE TIPO CENTRAL INCLUYE MANO DE OBRA DE: VACÍO, CARGA COMPLETA DE REFRIGERANTE, LIMPIEZA DE TUBERÍA DE COBRE CON NITRÓGENO, INSTALACIÓN DE FILTRO SECADOR. INSUMOS: NITRÓGENO, SOLDADURA Y DEMÁS ACTIVIDADES QUE GARANTICEN SU CORRECTO FUNCIONAMIENTO | D17: 633146 | F17: N/A | H17: N/A | J17: N/A | L17: N/A | N17: N/A | P17: 798092 | R17: N/A
B18: 14 | C18: REUBICACIÓN MANEJADORA ACONDICIONADOR DE AIRE TIPO MINI SPLIT INCLUYE MANO DE OBRA DE: VACÍO, CARGA COMPLETA DE REFRIGERANTE, LIMPIEZA DE TUBERÍA DE COBRE CON NITRÓGENO, INSTALACIÓN DE FILTRO SECADOR. INSUMOS: NITRÓGENO, SOLDADURA Y DEMÁS ACTIVIDADES QUE GARANTICEN SU CORRECTO FUNCIONAMIENTO | D18: 329135 | F18: 375835 | H18: 317848 | J18: 351435 | L18: 334898 | N18: 335473 | P18: 390370 | R18: 338135
B19: 15 | C19: CAMBIO DE CONDENSADORA DE AIRE TIPO MINI SPLIT INCLUYE MANO DE OBRA DE: VACÍO, CARGA COMPLETA DE REFRIGERANTE, LIMPIEZA DE TUBERÍA DE COBRE CON NITRÓGENO, INSTALACIÓN DE FILTRO SECADOR. INSUMOS: NITRÓGENO, SOLDADURA Y DEMÁS ACTIVIDADES QUE GARANTICEN SU CORRECTO FUNCIONAMIENTO | D19: 341991 | F19: 393429 | H19: 326666 | J19: 361204 | L19: 348979 | N19: 350516 | P19: 411582 | R19: 353616
B20: 16 | C20: CAMBIO DE CONDENSADORA DE AIRE TIPO CENTRAL INCLUYE MANO DE OBRA DE: VACÍO, CARGA COMPLETA DE REFRIGERANTE, LIMPIEZA DE TUBERÍA DE COBRE CON NITRÓGENO, INSTALACIÓN DE FILTRO SECADOR. INSUMOS: NITRÓGENO, SOLDADURA Y DEMÁS ACTIVIDADES QUE GARANTICEN SU CORRECTO FUNCIONAMIENTO | D20: 702346 | F20: N/A | H20: N/A | J20: N/A | L20: N/A | N20: N/A | P20: 870991 | R20: N/A
B21: 17 | C21: CAMBIO MOTOR VENTILADOR DE ACONDICIONADOR DE AIRE | D21: 218575 | F21: 260200 | H21: 194338 | J21: 231425 | L21: 226250 | N21: 229025 | P21: 245950 | R21: 231900
B22: 18 | C22: CAMBIO TRANSFORMADOR DE ACONDICIONADOR DE AIRES | D22: 169752 | F22: N/A | H22: N/A | J22: N/A | L22: N/A | N22: N/A | P22: 162504 | R22: N/A
B23: 19 | C23: CAMBIO BALINERA DE MOTOR VENTILADOR | D23: 201861 | F23: 243971 | H23: 180324 | J23: 216686 | L23: 208849 | N23: 210649 | P23: 215422 | R23: 213611
B24: 20 | C24: CAMBIO CONTACTOR DE ACONDICIONADOR DE AIRES | D24: 170571 | F24: N/A | H24: N/A | J24: N/A | L24: N/A | N24: N/A | P24: 156642 | R24: N/A
B25: 21 | C25: CAMBIO FAN RELAY ACONDICIONADOR DE AIRE | D25: 161784 | F25: N/A | H25: N/A | J25: N/A | L25: N/A | N25: N/A | P25: 148168 | R25: N/A
B26: 22 | C26: CAMBIO PRESOSTATO DE ACONDICIONADOR DE AIRE | D26: 177919 | F26: N/A | H26: N/A | J26: N/A | L26: N/A | N26: N/A | P26: 178238 | R26: N/A
B27: 23 | C27: CAMBIO TEMPORIZADOR DE ACONDICIONADOR DE AIRE | D27: 167965 | F27: N/A | H27: N/A | J27: N/A | L27: N/A | N27: N/A | P27: 161129 | R27: N/A
B28: 24 | C28: SUMINISTRO E INSTALACIÓN A TODO COSTO DE DUCTERIA EN LAMINA DE PORÓN (METRO CUADRADO). INCLUYE MATERIALES NECESARIOS: LÁMINA DE PORÓN, CINTA FOIL, ENTRE OTROS. | D28: 217988 | F28: N/A | H28: N/A | J28: N/A | L28: N/A | N28: N/A | P28: 301775 | R28: N/A
B29: 25 | C29: SUMINISTRO E INSTALACIÓN A TODO COSTO DE DUCTERIA EN FIBRA DE VIDRIO (METRO CUADRADO). INCLUYE MATERIALES NECESARIOS: LÁMINAS, CINTA, ENTRE OTROS. | D29: 250000 | F29: N/A | H29: N/A | J29: N/A | L29: N/A | N29: N/A | P29: 300100 | R29: N/A
B30: 26 | C30: SUMINISTRO E INSTALACIÓN A TODO COSTO DE DUCTERIA GALVANIZADA (METRO CUADRADO). INCLUYE MATERIALES NECESARIOS: LÁMINAS, CINTA, ENTRE OTROS. | D30: 371075 | F30: N/A | H30: N/A | J30: N/A | L30: N/A | N30: N/A | P30: 509350 | R30: N/A
B31: 27 | C31: CAMBIO DE TERMOSTATO | D31: 173425 | F31: N/A | H31: N/A | J31: N/A | L31: N/A | N31: N/A | P31: 173425 | R31: N/A
C32: TOTAL | D32: =SUM(D5:D31) -> 10143439 | E32: =SUM(E5:E31) -> 0 | F32: =SUM(F5:F31) -> 4941086 | G32: =SUM(G5:G31) -> 0 | H32: =SUM(H5:H31) -> 3830345 | I32: =SUM(I5:I31) -> 0 | J32: =SUM(J5:J31) -> 4470569 | K32: =SUM(K5:K31) -> 0 | ... S32: =SUM(S5:S31) -> 0
C34: TOTAL | D34: =+D32+F32+H32+J32+L32+N32+P32+R32 -> 47696609 | E34: =+E32+G32+I32+K32+M32+O32+Q32+S32 -> 0

Sheet REPUESTOS GUA
B2: SECCIONAL LA GUAJIRA
B3: REPUESTOS CORRECTIVOS | E3: TECHOS PRESUPUESTALES | F3: OFERTA ECONOMICA
B4: ÍTEM | C4: DESCRIPCIÓN | D4: UNIDAD DE MEDIDA | E4: VALOR REPUESTO INCLUIDO IVA | F4: VALOR REPUESTO INCLUIDO IVA
B5: 1 | C5: CAPACITOR DE MARCHA 5 MFD 440V | D5: UND | E5: 29253
B6: 2 | C6: CAPACITOR DE MARCHA 10 MFD 440V | D6: UND | E6: 30321
B7: 3 | C7: CAPACITOR DE MARCHA 15 MFD 440V | D7: UND | E7: 32057
B8: 4 | C8: CAPACITOR DE MARCHA 30 MFD 370V | D8: UND | E8: 53517
B9: 5 | C9: CAPACITOR DE MARCHA 35 MFD 440V | D9: UND | E9: 55502
B10: 6 | C10: CAPACITOR DE MARCHA 40 MFD 440V | D10: UND | E10: 58350
B11: 7 | C11: CAPACITOR DE MARCHA 45 MFD 440V | D11: UND | E11: 59935
B12: 8 | C12: CAPACITOR DE MARCHA 45+5 MFD 440V | D12: UND | E12: 64506
B13: 9 | C13: CAPACITOR DE MARCHA 5 MFD 370V | D13: UND | E13: 36935
B14: 10 | C14: CAPACITOR DE MARCHA 50 MFD 440V | D14: UND | E14: 67617
B15: 11 | C15: CAPACITOR DE MARCHA 55 MFD 440V | D15: UND | E15: 70485
B16: 12 | C16: CAPACITOR DE MARCHA 60 MFD (+5-5) 440V | D16: UND | E16: 73211
... B98: 94 | C98: CINTA FOIL | D98: UND | E98: 43550
B99: TOTAL | E99: =SUM(E5:E98) -> 42600193 | F99: =SUM(F5:F98) -> 0

Sheet TOTAL
B2: SECCIONAL LA GUAJIRA | D2: TECHOS PRESUPUESTALES | E2: OFERTA ECONOMICA
B3: ITEM | C3: DESCRIPCIÓN | D3: VALOR TOTAL | E3: VALOR TOTAL
B4: 1 | C4: MANTENIMIENTO PREVENTIVO | D4: =+'MTO PREVENTICO GUA'!E25 -> 2920852 | E4: =+'MTO PREVENTICO GUA'!F25 -> 0
B5: 2 | C5: MANO DE OBRA MANTENIMIENTO CORRECTIVO | D5: =+'MANO OBRA CORRECTIVOS GUA'!D34 -> 47696609 | E5: =+'MANO OBRA CORRECTIVOS GUA'!E34 -> 0
B6: 3 | C6: REPUESTOS | D6: =+'REPUESTOS GUA'!E99 -> 42600193 | E6: =+'REPUESTOS GUA'!F99 -> 0
B7: TOTAL | D7: =SUM(D4:D6) -> 93217654 | E7: =SUM(E4:E6) -> 0
