Workbook
Name OLE_LINK1: 'REPUESTOS MAG'!#REF!

Sheet MTO PREVENTICO MAG
B2: ANEXO OFERTA ECONÓMICA
B3: SECCIONAL MAGDALENA
B4: MANTENIMIENTOS PREVENTIVOS | E4: TECHOS PRESUPUESTALES | F4: OFERTA ECONOMICA
B5: ÍTEM | C5: DESCRIPCIÓN | D5: CANT. EQUIPOS | E5: VALOR MTO. X EQUIPO INCLUIDO IVA | F5: VALOR MTO. X EQUIPO INCLUIDO IVA
B6: PRECIO SANTA MARTA
B7: 1 | C7: MANTENIMIENTO DE ACONDICIONADOR DE AIRE TIPO MINISPLIT DE 12000 BTU - 18000 BTU - 24000 BTU | D7: 1 | E7: 190933
B8: 2 | C8: MANTENIMIENTO DE ACONDICIONADOR DE AIRE TIPO MINISPLIT O PISO TECHO DE 36000 BTU | D8: 1 | E8: 260200
B9: 3 | C9: MANTENIMIENTO DE ACONDICIONADOR DE AIRE TIPO CENTRAL DE 60.000 BTU PISO TECHO O DESCARGA VERTICAL | D9: 1 | E9: 358646
B10: PRECIO CIÉNAGA MAGDALENA | E10: 0
B11: 1 | C11: MANTENIMIENTO DE ACONDICIONADOR DE AIRE TIPO MINISPLIT DE 12000 BTU - 18000 BTU - 24000 BTU | D11: 1 | E11: 209924
B12: 2 | C12: MANTENIMIENTO DE ACONDICIONADOR DE AIRE TIPO MINISPLIT O PISO TECHO DE 36000 BTU | D12: 1 | E12: 176500
B13: 3 | C13: MANTENIMIENTO DE ACONDICIONADOR DE AIRE TIPO CENTRAL DE 60.000 BTU PISO TECHO O DESCARGA VERTICAL | D13: 1 | E13: 418402
B14: PRECIO FUNDACIÓN MAGDALENA | E14: 0
B15: 1 | C15: MANTENIMIENTO DE ACONDICIONADOR DE AIRE TIPO MINISPLIT DE 12000 BTU - 18000 BTU - 24000 BTU | D15: 1 | E15: 225603
B16: 2 | C16: MANTENIMIENTO DE ACONDICIONADOR DE AIRE TIPO MINISPLIT O PISO TECHO DE 36000 BTU | D16: 1 | E16: 329263
B17: PRECIO PIVIJAY MAGDALENA | E17: 0
B18: 1 | C18: MANTENIMIENTO DE ACONDICIONADOR DE AIRE TIPO MINISPLIT DE 12000 BTU - 18000 BTU - 24000 BTU | D18: 1 | E18: 237133
B19: PRECIO CHIBOLO MAGDALENA | E19: 0
B20: 1 | C20: MANTENIMIENTO DE ACONDICIONADOR DE AIRE TIPO MINISPLIT DE 12000 BTU - 18000 BTU - 24000 BTU | D20: 1 | E20: 262748
B21: PRECIO PLATO MAGDALENA | E21: 0
B22: 1 | C22: MANTENIMIENTO DE ACONDICIONADOR DE AIRE TIPO MINISPLIT DE 12000 BTU - 18000 BTU - 24000 BTU | D22: 1 | E22: 245665
B23: PRECIO EL BANCO MAGDALENA | E23: 0
B24: 1 | C24: MANTENIMIENTO DE ACONDICIONADOR DE AIRE TIPO MINISPLIT DE 12000 BTU - 18000 BTU - 24000 BTU | D24: 1 | E24: 262664
B25: PRECIO SANTA ANA MAGDALENA | E25: 0
B26: 1 | C26: MANTENIMIENTO DE ACONDICIONADOR DE AIRE TIPO MINISPLIT DE 12000 BTU - 18000 BTU - 24000 BTU | D26: 1 | E26: 272156
B27: TOTAL | E27: =SUM(E7:E26) -> 3449837 | F27: =SUM(F7:F26) -> 0
B29: NOTA | C29: DENTRO DE LOS COSTOS SE INCLUYE LOS INSUMOS Y LA MANO DE OBRA NECESARIA PARA REALIZAR CADA MANTENIMIENTO PREVENTIVO

Sheet MANO OBRA CORRECTIVOS MAG
B2: SECCIONALMAGDALENA
B3: MANO DE OBRA MANTENIMIENTO CORRECTIVO | D3: TECHOS PRESUPUESTALES | E3: OFERTA ECONOMICA | F3: TECHOS PRESUPUESTALES | G3: OFERTA ECONOMICA | H3: TECHOS PRESUPUESTALES | I3: OFERTA ECONOMICA | J3: TECHOS PRESUPUESTALES | K3: OFERTA ECONOMICA | L3: TECHOS PRESUPUESTALES | M3: OFERTA ECONOMICA | N3: TECHOS PRESUPUESTALES | O3: OFERTA ECONOMICA | P3: TECHOS PRESUPUESTALES | Q3: OFERTA ECONOMICA | R3: TECHOS PRESUPUESTALES | S3: OFERTA ECONOMICA
B4: ÍTEM | C4: DESCRIPCIÓN | D4: V. UNITARIO Mano de Obra Incluido IVA SANTA MARTA | E4: V. UNITARIO Mano de Obra Incluido IVA SANTA MARTA | F4: V. UNITARIO Mano de Obra Incluido IVA CIÉNAGA | G4: V. UNITARIO Mano de Obra Incluido IVA CIÉNAGA | H4: V. UNITARIO Mano de Obra Incluido IVA FUNDACIÓN | I4: V. UNITARIO Mano de Obra Incluido IVA FUNDACIÓN | J4: V. UNITARIO Mano de Obra Incluido IVA PIVIJAY | K4: V. UNITARIO Mano de Obra Incluido IVA PIVIJAY | L4: V. UNITARIO Mano de Obra Incluido IVA PLATO | M4: V. UNITARIO Mano de Obra Incluido IVA PLATO | N4: V. UNITARIO Mano de Obra Incluido IVA EL BANCO | O4: V. UNITARIO Mano de Obra Incluido IVA EL BANCO | P4: V. UNITARIO Mano de Obra Incluido IVA SANTA ANA | Q4: V. UNITARIO Mano de Obra Incluido IVA SANTA ANA | R4: V. UNITARIO Mano de Obra Incluido IVA CHIBOLO | S4: V. UNITARIO Mano de Obra Incluido IVA CHIBOLO
B5: 1 | C5: INSTALACIÓN O CAMBIO DE PROTECTOR ELECTRÓNICO DE VOLTAJE | D5: 160822 | F5: 176466 | H5: 195423 | J5: 205629 | L5: 219151 | N5: 228584 | P5: 229663 | R5: 222619
B6: 2 | C6: CAMBIO DE CAPACITOR DE ACONDICIONADOR DE AIRE | D6: 157527 | F6: 164801 | H6: 182109 | J6: 193723 | L6: 204045 | N6: 212116 | P6: 211392 | R6: 205485
B7: 3 | C7: CAMBIO DE UNIDAD COMPRESORA DE AIRE TIPO MINI SPLIT, INCLUYE MANO DE OBRA DE: CARGA COMPLETA DE REFRIGERANTE, LIMPIEZA DE TUBERÍA DE COBRE CON NITRÓGENO, CAMBIO DE FILTRO SECADOR. INSUMOS: NITRÓGENO, SOLDADURA | D7: 768862 | F7: 810856 | H7: 855105 | J7: 904250 | L7: 927459 | N7: 953667 | P7: 950868 | R7: 928768
B8: 4 | C8: CAMBIO DE UNIDAD COMPRESORA DE AIRE TIPO CENTRAL, INCLUYE MANO DE OBRA DE: CARGA COMPLETA DE REFRIGERANTE, LIMPIEZA DE TUBERÍA DE COBRE CON NITRÓGENO, CAMBIO DE FILTRO SECADOR. INSUMOS: NITRÓGENO, SOLDADURA | D8: 1186877 | F8: 1246688 | H8: N/A | J8: N/A | L8: N/A | N8: N/A | P8: N/A | R8: N/A
B9: 5 | C9: CAMBIO TARJETA ELECTRÓNICA DE ACONDICIONADOR DE AIRE | D9: 223839 | F9: 235804 | H9: 253092 | J9: 270615 | L9: 277578 | N9: 290533 | P9: 290278 | R9: 279083
B10: 6 | C10: CAMBIO DE AISLAMIENTO TERMICO DE TUBERIAS DE REFRIGERACION EQUIPO MINI SPLIT | D10: 93030 | F10: 197685 | H10: 105855 | J10: 226860 | L10: 238560 | N10: 267735 | P10: 261885 | R10: 238560
B11: 7 | C11: UBICACIÓN Y CORRECCIÓN DE FUGA DE GAS REFRIGERANTE Y ACEITE EN EL SISTEMA MINI SPLIT O CENTRAL, INCLUYE MANO DE OBRA DE: VACÍO, CARGA COMPLETA DE REFRIGERANTE, LIMPIEZA DE TUBERÍA DE COBRE CON NITRÓGENO, INSTALACIÓN DE FILTRO SECADOR. INSUMOS: NITRÓGENO, SOLDADURA Y DEMÁS ACTIVIDADES QUE GARANTICEN SU CORRECTO FUNCIONAMIENTO | D11: 707431 | F11: 743721 | H11: 799591 | J11: 832595 | L11: 857440 | N11: 877814 | P11: 886913 | R11: 876879
B12: 8 | C12: DESMOTE DE ACONDICIONADOR DE AIRE TIPO CENTRAL DE 60.000 BTU | D12: 367145 | F12: 397400 | H12: N/A | J12: N/A | L12: N/A | N12: N/A | P12: N/A | R12: N/A
B13: 9 | C13: DESMOTE DE ACONDICIONADOR DE AIRE TIPO MINI SPLIT | D13: 241596 | F13: 255285 | H13: 278972 | J13: 287305 | L13: 290842 | N13: 297192 | P13: 296883 | R13: 292413
B14: 10 | C14: INSTALACIÓN DE ACONDICIONADOR DE AIRE TIPO CENTRAL DE 60.000 BTU INCLUYE MANO DE OBRA DE: VACÍO, CARGA COMPLETA DE REFRIGERANTE, LIMPIEZA DE TUBERÍA DE COBRE CON NITRÓGENO, INSTALACIÓN DE FILTRO SECADOR. INSUMOS: NITRÓGENO, SOLDADURA Y DEMÁS ACTIVIDADES QUE GARANTICEN SU CORRECTO FUNCIONAMIENTO | D14: 1183661 | F14: 1241616 | H14: N/A | J14: N/A | L14: N/A | N14: N/A | P14: N/A | R14: N/A
B15: 11 | C15: INSTALACIÓN DE ACONDICIONADOR DE AIRE TIPO MINI SPLIT (12000-18000-24000 BTU) INCLUYE MANO DE OBRA DE: VACÍO, CARGA COMPLETA DE REFRIGERANTE, LIMPIEZA DE TUBERÍA DE COBRE CON NITRÓGENO, INSTALACIÓN DE FILTRO SECADOR. INSUMOS: NITRÓGENO, SOLDADURA Y DEMÁS ACTIVIDADES QUE GARANTICEN SU CORRECTO FUNCIONAMIENTO | D15: 537021 | F15: 576204 | H15: 622091 | J15: 650310 | L15: 656935 | N15: 670907 | P15: 669531 | R15: 658899
B16: 12 | C16: REPARACIÓN TARJETA ELECTRÓNICA ORIGINAL DE ACONDICIONADOR DE AIRE | D16: 318188 | F16: 328696 | H16: 342451 | J16: 367443 | L16: 372899 | N16: 383568 | P16: 382449 | R16: 374470
B17: 13 | C17: REUBICACIÓN CONDENSADORA ACONDICIONADOR DE AIRE TIPO MINI SPLIT INCLUYE MANO DE OBRA DE: VACÍO, CARGA COMPLETA DE REFRIGERANTE, LIMPIEZA DE TUBERÍA DE COBRE CON NITRÓGENO, INSTALACIÓN DE FILTRO SECADOR. INSUMOS: NITRÓGENO, SOLDADURA Y DEMÁS ACTIVIDADES QUE GARANTICEN SU CORRECTO FUNCIONAMIENTO | D17: 476929 | F17: 503381 | H17: 528440 | J17: 556153 | L17: 564737 | N17: 581643 | P17: 582560 | R17: 570628
B18: 14 | C18: REUBICACIÓN MANEJADORA ACONDICIONADOR DE AIRE TIPO CENTRAL INCLUYE MANO DE OBRA DE: VACÍO, CARGA COMPLETA DE REFRIGERANTE, LIMPIEZA DE TUBERÍA DE COBRE CON NITRÓGENO, INSTALACIÓN DE FILTRO SECADOR. INSUMOS: NITRÓGENO, SOLDADURA Y DEMÁS ACTIVIDADES QUE GARANTICEN SU CORRECTO FUNCIONAMIENTO | D18: 815764 | F18: 845908 | H18: N/A | J18: N/A | L18: N/A | N18: N/A | P18: N/A | R18: N/A
B19: 15 | C19: REUBICACIÓN MANEJADORA ACONDICIONADOR DE AIRE TIPO MINI SPLIT INCLUYE MANO DE OBRA DE: VACÍO, CARGA COMPLETA DE REFRIGERANTE, LIMPIEZA DE TUBERÍA DE COBRE CON NITRÓGENO, INSTALACIÓN DE FILTRO SECADOR. INSUMOS: NITRÓGENO, SOLDADURA Y DEMÁS ACTIVIDADES QUE GARANTICEN SU CORRECTO FUNCIONAMIENTO | D19: 391225 | F19: 417228 | H19: 435828 | J19: 461919 | L19: 469203 | N19: 483002 | P19: 485813 | R19: 478497
B20: 16 | C20: CAMBIO DE CONDENSADORA DE AIRE TIPO MINI SPLIT INCLUYE MANO DE OBRA DE: VACÍO, CARGA COMPLETA DE REFRIGERANTE, LIMPIEZA DE TUBERÍA DE COBRE CON NITRÓGENO, INSTALACIÓN DE FILTRO SECADOR. INSUMOS: NITRÓGENO, SOLDADURA Y DEMÁS ACTIVIDADES QUE GARANTICEN SU CORRECTO FUNCIONAMIENTO | D20: 445456 | F20: 473019 | H20: 493700 | J20: 521629 | L20: 530342 | N20: 548125 | P20: 551171 | R20: 541861
B21: 17 | C21: CAMBIO DE CONDENSADORA DE AIRE TIPO CENTRAL INCLUYE MANO DE OBRA DE: VACÍO, CARGA COMPLETA DE REFRIGERANTE, LIMPIEZA DE TUBERÍA DE COBRE CON NITRÓGENO, INSTALACIÓN DE FILTRO SECADOR. INSUMOS: NITRÓGENO, SOLDADURA Y DEMÁS ACTIVIDADES QUE GARANTICEN SU CORRECTO FUNCIONAMIENTO | D21: 900866 | F21: 933551 | H21: N/A | J21: N/A | L21: N/A | N21: N/A | P21: N/A | R21: N/A
B22: 18 | C22: CAMBIO MOTOR VENTILADOR DE ACONDICIONADOR DE AIRE | D22: 240140 | F22: 268359 | H22: 287737 | J22: 394419 | L22: 410203 | N22: 418619 | P22: 423350 | R22: 418973
B23: 19 | C23: CAMBIO TRANSFORMADOR DE ACONDICIONADOR DE AIRES | D23: 184434 | F23: 208682 | H23: N/A | J23: N/A | L23: N/A | N23: N/A | P23: N/A | R23: N/A
B24: 20 | C24: CAMBIO BALINERA DE MOTOR VENTILADOR | D24: 219037 | F24: 244486 | H24: 262795 | J24: 271728 | L24: 279112 | N24: 287287 | P24: 287796 | R24: 281403
B25: 21 | C25: CAMBIO CONTACTOR DE ACONDICIONADOR DE AIRES | D25: 187490 | F25: 209221 | H25: 224381 | J25: 231118 | L25: 236328 | N25: 246968 | P25: 246280 | R25: 238488
B26: 22 | C26: CAMBIO FAN RELAY ACONDICIONADOR DE AIRE | D26: 161981 | F26: 177691 | H26: N/A | J26: N/A | L26: N/A | N26: N/A | P26: N/A | R26: N/A
B27: 23 | C27: CAMBIO PRESOSTATO DE ACONDICIONADOR DE AIRE | D27: 182891 | F27: 207982 | H27: 227719 | J27: 235376 | L27: 239113 | N27: 243903 | P27: 244246 | R27: 241273
B28: 24 | C28: CAMBIO TEMPORIZADOR DE ACONDICIONADOR DE AIRE | D28: 170329 | F28: 196148 | H28: N/A | J28: N/A | L28: N/A | N28: N/A | P28: N/A | R28: N/A
B29: 25 | C29: SUMINISTRO E INSTALACIÓN A TODO COSTO DE DUCTERIA EN LAMINA DE PORÓN (METRO CUADRADO) | D29: 163769 | F29: 189241 | H29: N/A | J29: N/A | L29: N/A | N29: N/A | P29: N/A | R29: N/A
B30: 26 | C30: SUMINISTRO E INSTALACIÓN A TODO COSTO DE DUCTERIA EN FIBRA DE VIDRIO (METRO CUADRADO) | D30: 235495 | F30: 246335 | H30: N/A | J30: N/A | L30: N/A | N30: N/A | P30: N/A | R30: N/A
B31: 27 | C31: SUMINISTRO E INSTALACIÓN A TODO COSTO DE DUCTERIA GALVANIZADA (METRO CUADRADO) | D31: 269429 | F31: 278810 | H31: 291721 | J31: 297883 | L31: 303337 | N31: 315276 | P31: 313602 | R31: 304907
B32: 28 | C32: DESMONTE Y MONTAJE DE DIVISIÓN MIXTA (PANEL VIDRIO) DE 2.40 X 2.20 METROS PARA REALIZAR EL MANTENIMIENTO PREVENTIVO DE ACONDICIONADORES TIPO MINI SPLIT. | D32: 283016 | F32: N/A | H32: N/A | J32: N/A | L32: N/A | N32: N/A | P32: N/A | R32: N/A
C33: TOTAL | D33: =SUM(D5:D32) -> 11274250 | E33: =SUM(E5:E32) -> 0 | F33: =SUM(F5:F32) -> 11775264 | G33: =SUM(G5:G32) -> 0 | H33: =SUM(H5:H32) -> 6387010 | I33: =SUM(I5:I32) -> 0 | J33: =SUM(J5:J32) -> 6908955 | K33: =SUM(K5:K32) -> 0 | ... S33: =SUM(S5:S32) -> 0
C35: TOTAL | D35: =+D33+F33+H33+J33+L33+N33+P33+R33 -> 65197588 | E35: =+E33+G33+I33+K33+M33+O33+Q33+S33 -> 0

Sheet REPUESTOS MAG
B2: SECCIONAL MAGDALENA
B3: REPUESTOS CORRECTIVOS | E3: TECHOS PRESUPUESTALES | F3: OFERTA ECONOMICA
B4: ÍTEM | C4: DESCRIPCIÓN | D4: UNIDAD DE MEDIDA | E4: VALOR REPUESTO INCLUIDO IVA | F4: VALOR REPUESTO INCLUIDO IVA
B5: 1 | C5: CAPACITOR DE MARCHA 5 MFD 440V | D5: UND | E5: 30770
B6: 2 | C6: CAPACITOR DE MARCHA 10 MFD 440V | D6: UND | E6: 32614
B7: 3 | C7: CAPACITOR DE MARCHA 15 MFD 440V | D7: UND | E7: 34527
B8: 4 | C8: CAPACITOR DE MARCHA 30 MFD 370V | D8: UND | E8: 57492
B9: 5 | C9: CAPACITOR DE MARCHA 35 MFD 440V | D9: UND | E9: 59821
B10: 6 | C10: CAPACITOR DE MARCHA 40 MFD 440V | D10: UND | E10: 62815
B11: 7 | C11: CAPACITOR DE MARCHA 45 MFD 440V | D11: UND | E11: 65043
B12: 8 | C12: CAPACITOR DE MARCHA 1,5 MFD 440V | D12: UND | E12: 39387
B13: 9 | C13: CAPACITOR DE MARCHA 2,0 MFD 440V | D13: UND | E13: 39017
B14: 10 | C14: CAPACITOR DE MARCHA 3,0 MFD 440V | D14: UND | E14: 39017
B15: 11 | C15: CAPACITOR DE MARCHA 45+5 MFD 440V | D15: UND | E15: 71384
B16: 12 | C16: CAPACITOR DE MARCHA 5 MFD 370V | D16: UND | E16: 30597
... B113: 109 | C113: REJILLAS DIFUSORAS DE ALUMINIO 12"X12" DE CUATRO VIAS MOVILES | D113: UND | E113: 255909
B114: TOTAL | E114: =SUM(E5:E113) -> 59221981 | F114: =SUM(F5:F113) -> 0

Sheet TOTAL
B2: SECCIONAL ATLÁNTICO | D2: TECHOS PRESUPUESTALES | E2: OFERTA ECONOMICA
B3: ITEM | C3: DESCRIPCIÓN | D3: VALOR TOTAL | E3: VALOR TOTAL
B4: 1 | C4: MANTENIMIENTO PREVENTIVO | D4: =+'MTO PREVENTICO MAG'!E27 -> 3449837 | E4: =+'MTO PREVENTICO MAG'!F27 -> 0
B5: 2 | C5: MANO DE OBRA MANTENIMIENTO CORRECTIVO | D5: =+'MANO OBRA CORRECTIVOS MAG'!D35 -> 65197588 | E5: =+'MANO OBRA CORRECTIVOS MAG'!E35 -> 0
B6: 3 | C6: REPUESTOS | D6: =+'REPUESTOS MAG'!E114 -> 59221981 | E6: =+'REPUESTOS MAG'!F114 -> 0
B7: TOTAL | D7: =SUM(D4:D6) -> 127869406 | E7: =SUM(E4:E6) -> 0
