Workbook
Name OLE_LINK1: 'REPUESTOS CES'!#REF!

Sheet MTO PREVENTICO CES
B2: ANEXO OFERTA ECONÓMICA
B3: SECCIONAL CESAR
B4: MANTENIMIENTOS PREVENTIVOS | E4: TECHOS PRESUPUESTALES | F4: OFERTA ECONOMICA
B5: ÍTEM | C5: DESCRIPCIÓN | D5: CANT. EQUIPOS | E5: VALOR MTO. X EQUIPO INCLUIDO IVA | F5: VALOR MTO. X EQUIPO INCLUIDO IVA
B6: PRECIO BOSCONIA
B7: 1 | C7: MANTENIMIENTO DE ACONDICIONADOR DE AIRE TIPO MINISPLIT DE 18000 BTU | D7: 1 | E7: 254565
B8: 2 | C8: MANTENIMIENTO DE ACONDICIONADOR DE AIRE TIPO MINISPLIT DE 24000 BTU | D8: 1 | E8: 266040
B9: 3 | C9: MANTENIMIENTO DE ACONDICIONADOR DE AIRE TIPO MINISPLIT DE 12OOO BTU | D9: 1 | E9: 243090
B10: PRECIO VALLEDUPAR
B11: 1 | C11: MANTENIMIENTO DE ACONDICIONADOR DE AIRE TIPO MINISPLIT DE 24000 BTU | D11: 1 | E11: 228481
B12: 2 | C12: MANTENIMIENTO DE ACONDICIONADOR DE AIRE TIPO MINISPLIT DE 18000 BTU | D12: 1 | E12: 218768
B13: 3 | C13: MANTENIMIENTO DE ACONDICIONADOR DE AIRE TIPO MINISPLIT DE 12000 BTU | D13: 1 | E13: 209018
B14: 4 | C14: MANTENIMIENTO DE ACONDICIONADOR DE AIRE TIPO CENTRALES-CONFORFRES DE DE 60000 BTU - TIPO PISO TECHO | D14: 1 | E14: 401417
B15: 5 | C15: MANTENIMIENTO DE ACONDICIONADOR DE AIRE TIPO MINISPLIT DE 36000 BTU -MIRAGE | D15: 1 | E15: 282750
B16: 6 | C16: MANTENIMIENTO DE ACONDICIONADOR DE AIRE TIPO MINISPLIT DE 9000 BTU- WESTINGHOUSE | D16: 1 | E16: 142725
B17: PRECIO LA PAZ
B18: 1 | C18: MANTENIMIENTO DE ACONDICIONADOR DE AIRE TIPO MINISPLIT DE 24000 BTU | D18: 1 | E18: 226039
B19: 2 | C19: MANTENIMIENTO DE ACONDICIONADOR DE AIRE TIPO MINISPLIT DE 12000 BTU | D19: 1 | E19: 205602
B20: 3 | C20: MANTENIMIENTO DE ACONDICIONADOR DE AIRE TIPO MINISPLIT DE 18000 BTU | D20: 1 | E20: 215802
B21: PRECIO CODAZZI
B22: 1 | C22: MANTENIMIENTO DE ACONDICIONADOR DE AIRE TIPO MINISPLIT DE 12000 BTU | D22: 1 | E22: 227822
B23: 2 | C23: MANTENIMIENTO DE ACONDICIONADOR DE AIRE TIPO MINISPLIT DE 18000 BTU | D23: 1 | E23: 238997
B24: PRECIO CHIRIGUANA
B25: 1 | C25: MANTENIMIENTO DE ACONDICIONADOR DE AIRE TIPO MINISPLIT DE 24000 BTU | D25: 1 | E25: 268615
B26: 2 | C26: MANTENIMIENTO DE ACONDICIONADOR DE AIRE TIPO MINISPLIT DE 12000 BTU | D26: 1 | E26: 243340
B27: PRECIO PAILITAS
B28: 1 | C28: MANTENIMIENTO DE ACONDICIONADOR DE AIRE TIPO MINISPLIT DE 24000 BTU | D28: 1 | E28: 295381
B29: 2 | C29: MANTENIMIENTO DE ACONDICIONADOR DE AIRE TIPO MINISPLIT DE 12000 BTU | D29: 1 | E29: 268531
B30: PRECIO PUEBLO BELLO
B31: 1 | C31: MANTENIMIENTO DE ACONDICIONADOR DE AIRE TIPO MINISPLIT DE 18000 BTU | D31: 1 | E31: 314334
B32: 2 | C32: MANTENIMIENTO DE ACONDICIONADOR DE AIRE TIPO MINISPLIT DE 12000 BTU | D32: 1 | E32: 303159
B33: EL PASO CESAR
B34: 1 | C34: MANTENIMIENTO DE ACONDICIONADOR DE AIRE TIPO MINISPLIT DE12000 BTU | D34: 1 | E34: 296660
B35: JAGUA DE IBIRICO
B36: 1 | C36: MANTENIMIENTO DE ACONDICIONADOR DE AIRE TIPO MINISPLIT DE 24000 BTU | D36: 1 | E36: 330847
B37: 2 | C37: MANTENIMIENTO DE ACONDICIONADOR DE AIRE TIPO MINISPLIT DE 12000 BTU | D37: 1 | E37: 308459
B38: PRECIO CURUMANI
B39: 1 | C39: MANTENIMIENTO DE ACONDICIONADOR DE AIRE TIPO MINISPLIT DE 18000 BTU | D39: 1 | E39: 265605
B40: 2 | C40: MANTENIMIENTO DE ACONDICIONADOR DE AIRE TIPO MINISPLIT DE 24000 BTU | D40: 1 | E40: 278730
B41: 3 | C41: MANTENIMIENTO DE ACONDICIONADOR DE AIRE TIPO MINISPLIT DE 12000 BTU | D41: 1 | E41: 252480
B42: SAN ALBERTO
B43: 1 | C43: MANTENIMIENTO DE ACONDICIONADOR DE AIRE TIPO MINISPLIT DE 12000 BTU | D43: 1 | E43: 197300
B44: PRECIO AGUACHCA
B45: 1 | C45: MANTENIMIENTO DE ACONDICIONADOR DE AIRE TIPO MINISPLIT DE 18000 BTU | D45: 1 | E45: 240275
B46: 2 | C46: MANTENIMIENTO DE ACONDICIONADOR DE AIRE TIPO CASSET DE 36000 BTU | D46: 1 | E46: 312350
B47: 3 | C47: MANTENIMIENTO DE ACONDICIONADOR DE AIRE TIPO 9.500/10,500 BTU | D47: 1 | E47: 203825
B48: 4 | C48: MANTENIMIENTO DE ACONDICIONADOR DE AIRE TIPO MINISPLIT DE 7,500/8,500 BTU | D48: 1 | E48: 196550
B49: 5 | C49: MANTENIMIENTO DE ACONDICIONADOR DE AIRE TIPO MINISPLIT DE 12000 BTU | D49: 1 | E49: 211100
B50: TOTAL | E50: =SUM(E7:E49) -> 8148657 | F50: =SUM(F7:F49) -> 0
B52: NOTA | C52: DENTRO DE LOS COSTOS SE INCLUYE LOS INSUMOS Y LA MANO DE OBRA NECESARIA PARA REALIZAR CADA MANTENIMIENTO PREVENTIVO

Sheet MANO OBRA CORRECTIVOS CES
B2: SECCIONAL CESAR
B3: MANO DE OBRA MANTENIMIENTO CORRECTIVO | D3: TECHOS PRESUPUESTALES | E3: OFERTA ECONOMICA | F3: TECHOS PRESUPUESTALES | G3: OFERTA ECONOMICA | H3: TECHOS PRESUPUESTALES | I3: OFERTA ECONOMICA | J3: TECHOS PRESUPUESTALES | K3: OFERTA ECONOMICA | L3: TECHOS PRESUPUESTALES | M3: OFERTA ECONOMICA | N3: TECHOS PRESUPUESTALES | O3: OFERTA ECONOMICA | P3: TECHOS PRESUPUESTALES | Q3: OFERTA ECONOMICA | R3: TECHOS PRESUPUESTALES | S3: OFERTA ECONOMICA | T3: TECHOS PRESUPUESTALES | U3: OFERTA ECONOMICA | V3: TECHOS PRESUPUESTALES | W3: OFERTA ECONOMICA | X3: TECHOS PRESUPUESTALES | Y3: OFERTA ECONOMICA | Z3: TECHOS PRESUPUESTALES | AA3: OFERTA ECONOMICA
B4: ÍTEM | C4: DESCRIPCIÓN | D4: V. UNITARIO Mano de Obra Incluido IVA BOSCONIA | E4: V. UNITARIO Mano de Obra Incluido IVA BOSCONIA | F4: V. UNITARIO Mano de Obra Incluido IVA VALLEDUPAR | G4: V. UNITARIO Mano de Obra Incluido IVA VALLEDUPAR | H4: V. UNITARIO Mano de Obra Incluido IVA LA PAZ | I4: V. UNITARIO Mano de Obra Incluido IVA LA PAZ | J4: V. UNITARIO Mano de Obra Incluido IVA CODAZZI | K4: V. UNITARIO Mano de Obra Incluido IVA CODAZZI | L4: V. UNITARIO Mano de Obra Incluido IVA CHIRIGUANA | M4: V. UNITARIO Mano de Obra Incluido IVA CHIRIGUANA | N4: V. UNITARIO Mano de Obra Incluido IVA PAILITAS | O4: V. UNITARIO Mano de Obra Incluido IVA PAILITAS | P4: V. UNITARIO Mano de Obra Incluido IVA PUEBLO BELLO | Q4: V. UNITARIO Mano de Obra Incluido IVA PUEBLO BELLO | R4: V. UNITARIO Mano de Obra Incluido IVA EL PASO CESAR | S4: V. UNITARIO Mano de Obra Incluido IVA EL PASO CESAR | T4: V. UNITARIO Mano de Obra Incluido IVA JAGUA DE IBIRICO | U4: V. UNITARIO Mano de Obra Incluido IVA JAGUA DE IBIRICO | V4: V. UNITARIO Mano de Obra Incluido IVA CURUMANI | W4: V. UNITARIO Mano de Obra Incluido IVA CURUMANI | X4: V. UNITARIO Mano de Obra Incluido IVA SAN ALBERTO | Y4: V. UNITARIO Mano de Obra Incluido IVA SAN ALBERTO | Z4: V. UNITARIO Mano de Obra Incluido IVA AGUACHICA | AA4: V. UNITARIO Mano de Obra Incluido IVA AGUACHICA
B5: 1 | C5: INSTALACIÓN O CAMBIO DE PROTECTOR ELECTRÓNICO DE VOLTAJE | D5: 200028 | F5: 145340 | H5: 168542 | J5: 205337 | L5: 235474 | N5: 255967 | P5: 248801 | R5: 254574 | T5: 266215 | V5: 234710 | X5: 225533 | Z5: 221408
B6: 2 | C6: CAMBIO DE CAPACITOR DE ACONDICIONADOR DE AIRE | D6: 322424 | F6: 138071 | H6: 155481 | J6: 183938 | L6: 207886 | N6: 226125 | P6: 218647 | R6: 232663 | T6: 309840 | V6: 230525 | X6: 176919 | Z6: 173769
B7: 3 | C7: CAMBIO DE UNIDAD COMPRESORA DE AIRE TIPO MINI SPLIT, INCLUYE MANO DE OBRA DE: CARGA COMPLETA DE REFRIGERANTE, LIMPIEZA DE TUBERÍA DE COBRE CON NITRÓGENO, CAMBIO DE FILTRO SECADOR. INSUMOS: NITRÓGENO, SOLDADURA | D7: 875763 | F7: 690308 | H7: 622607 | J7: 707335 | L7: 720311 | N7: 887504 | P7: 783037 | R7: 822537 | T7: 871718 | V7: 855221 | X7: 984398 | Z7: 962498
B8: 4 | C8: CAMBIO DE UNIDAD COMPRESORA DE AIRE TIPO CENTRAL, INCLUYE MANO DE OBRA DE: CARGA COMPLETA DE REFRIGERANTE, LIMPIEZA DE TUBERÍA DE COBRE CON NITRÓGENO, CAMBIO DE FILTRO SECADOR. INSUMOS: NITRÓGENO, SOLDADURA | D8: 780757.83 | F8: 991787 | H8: 959573.71 | J8: 843097.31 | L8: N/A | M8: N/A | N8: N/A | O8: N/A | P8: N/A | Q8: N/A | R8: N/A | S8: N/A | T8: N/A | U8: N/A | V8: N/A | W8: N/A | X8: N/A | Y8: N/A | Z8: N/A | AA8: N/A
B9: 5 | C9: CAMBIO TARJETA ELECTRÓNICA DE ACONDICIONADOR DE AIRE | D9: 366033 | F9: 197651 | H9: 216845 | J9: 261442 | L9: 289249 | N9: 315917 | P9: 309232 | R9: 319672 | T9: 385105 | V9: 322094 | X9: 278660 | Z9: 272810
B10: 6 | C10: UBICACIÓN Y CORRECCIÓN DE FUGA DE GAS REFRIGERANTE Y ACEITE EN EL SISTEMA MINI SPLIT O CENTRAL, INCLUYE MANO DE OBRA DE: VACÍO, CARGA COMPLETA DE REFRIGERANTE, LIMPIEZA DE TUBERÍA DE COBRE CON NITRÓGENO, INSTALACIÓN DE FILTRO SECADOR. INSUMOS: NITRÓGENO, SOLDADURA Y DEMÁS ACTIVIDADES QUE GARANTICEN SU CORRECTO FUNCIONAMIENTO | D10: 689263 | F10: 648752 | H10: 681581 | J10: 753603 | L10: 840098 | N10: 916168 | P10: 934667 | R10: 951065 | T10: 835337 | V10: 935800 | X10: 863569 | Z10: 845044
B11: 7 | C11: DESMOTE DE ACONDICIONADOR DE AIRE TIPO CENTRAL DE 60.000 BTU | D11: 284944.43 | F11: 282433 | H11: 276110.9 | J11: N/A | K11: N/A | L11: N/A | M11: N/A | N11: N/A | O11: N/A | P11: N/A | Q11: N/A | R11: N/A | S11: N/A | T11: N/A | U11: N/A | V11: N/A | W11: N/A | X11: N/A | Y11: N/A | Z11: N/A | AA11: N/A
B12: 8 | C12: DESMOTE DE ACONDICIONADOR DE AIRE TIPO MINI SPLIT | D12: 511486 | F12: 228928 | H12: 246472 | J12: 285605 | L12: 340882 | N12: 365570 | P12: 350498 | R12: 354689 | T12: 474991 | V12: 366733 | X12: 333583 | Z12: 326233
B13: 9 | C13: INSTALACIÓN DE ACONDICIONADOR DE AIRE TIPO CENTRAL DE 60.000 BTU INCLUYE MANO DE OBRA DE: VACÍO, CARGA COMPLETA DE REFRIGERANTE, LIMPIEZA DE TUBERÍA DE COBRE CON NITRÓGENO, INSTALACIÓN DE FILTRO SECADOR. INSUMOS: NITRÓGENO, SOLDADURA Y DEMÁS ACTIVIDADES QUE GARANTICEN SU CORRECTO FUNCIONAMIENTO | D13: 581246.25 | F13: 870073 | H13: 785300.79 | J13: 675260.25 | L13: N/A | M13: N/A | N13: N/A | O13: N/A | P13: 740754.56 | R13: N/A | S13: N/A | T13: N/A | U13: N/A | V13: N/A | W13: N/A | X13: N/A | Y13: N/A | Z13: N/A | AA13: N/A
B14: 10 | C14: INSTALACIÓN DE ACONDICIONADOR DE AIRE TIPO MINI SPLIT (12000-18000-24000 BTU) INCLUYE MANO DE OBRA DE: VACÍO, CARGA COMPLETA DE REFRIGERANTE, LIMPIEZA DE TUBERÍA DE COBRE CON NITRÓGENO, INSTALACIÓN DE FILTRO SECADOR. INSUMOS: NITRÓGENO, SOLDADURA Y DEMÁS ACTIVIDADES QUE GARANTICEN SU CORRECTO FUNCIONAMIENTO | D14: 469591 | F14: 482475 | H14: 515370 | J14: 579914 | L14: 655783 | N14: 710354 | P14: 706490 | R14: 726655 | T14: 647965 | V14: 726416 | X14: 732924 | Z14: 716349
B15: 11 | C15: REPARACIÓN TARJETA ELECTRÓNICA ORIGINAL DE ACONDICIONADOR DE AIRE | D15: 419484 | F15: 277229 | H15: 311531 | J15: 370119 | L15: 404320 | N15: 447022 | P15: 445308 | R15: 466230 | T15: 482671 | V15: 458786 | X15: 494942 | Z15: 490742
B16: 12 | C16: REUBICACIÓN CONDENSADORA ACONDICIONADOR DE AIRE TIPO MINI SPLIT INCLUYE MANO DE OBRA DE: VACÍO, CARGA COMPLETA DE REFRIGERANTE, LIMPIEZA DE TUBERÍA DE COBRE CON NITRÓGENO, INSTALACIÓN DE FILTRO SECADOR. INSUMOS: NITRÓGENO, SOLDADURA Y DEMÁS ACTIVIDADES QUE GARANTICEN SU CORRECTO FUNCIONAMIENTO | D16: 649235 | F16: 489063 | H16: 509414 | J16: 502680 | L16: 594199 | N16: 605876 | P16: 559394 | R16: 596646 | T16: 630957 | V16: 606299 | X16: 749560 | Z16: 740662
B17: 13 | C17: REUBICACIÓN MANEJADORA ACONDICIONADOR DE AIRE TIPO CENTRAL INCLUYE MANO DE OBRA DE: VACÍO, CARGA COMPLETA DE REFRIGERANTE, LIMPIEZA DE TUBERÍA DE COBRE CON NITRÓGENO, INSTALACIÓN DE FILTRO SECADOR. INSUMOS: NITRÓGENO, SOLDADURA Y DEMÁS ACTIVIDADES QUE GARANTICEN SU CORRECTO FUNCIONAMIENTO | D17: 489377.54 | F17: 599153 | H17: 505656.48 | J17: N/A | K17: N/A | L17: N/A | M17: N/A | N17: N/A | O17: N/A | P17: N/A | Q17: N/A | R17: N/A | S17: N/A | T17: N/A | U17: N/A | V17: N/A | W17: N/A | X17: N/A | Y17: N/A | Z17: N/A | AA17: N/A
B18: 14 | C18: REUBICACIÓN MANEJADORA ACONDICIONADOR DE AIRE TIPO MINI SPLIT INCLUYE MANO DE OBRA DE: VACÍO, CARGA COMPLETA DE REFRIGERANTE, LIMPIEZA DE TUBERÍA DE COBRE CON NITRÓGENO, INSTALACIÓN DE FILTRO SECADOR. INSUMOS: NITRÓGENO, SOLDADURA Y DEMÁS ACTIVIDADES QUE GARANTICEN SU CORRECTO FUNCIONAMIENTO | D18: 463663 | F18: 417138 | H18: 465976 | J18: 514824 | L18: 537551 | N18: 621330 | P18: 490103 | R18: 523224 | T18: 510496 | V18: 527993 | X18: 606483 | Z18: 591858
B19: 15 | C19: CAMBIO DE CONDENSADORA DE AIRE TIPO MINI SPLIT INCLUYE MANO DE OBRA DE: VACÍO, CARGA COMPLETA DE REFRIGERANTE, LIMPIEZA DE TUBERÍA DE COBRE CON NITRÓGENO, INSTALACIÓN DE FILTRO SECADOR. INSUMOS: NITRÓGENO, SOLDADURA Y DEMÁS ACTIVIDADES QUE GARANTICEN SU CORRECTO FUNCIONAMIENTO | D19: 688698 | F19: 420847 | H19: 486331 | J19: 554244 | L19: 592653 | N19: 648683 | P19: 533013 | R19: 577337 | T19: 616733 | V19: 567096 | X19: 649564 | Z19: 643089
B20: 16 | C20: CAMBIO DE CONDENSADORA DE AIRE TIPO CENTRAL INCLUYE MANO DE OBRA DE: VACÍO, CARGA COMPLETA DE REFRIGERANTE, LIMPIEZA DE TUBERÍA DE COBRE CON NITRÓGENO, INSTALACIÓN DE FILTRO SECADOR. INSUMOS: NITRÓGENO, SOLDADURA Y DEMÁS ACTIVIDADES QUE GARANTICEN SU CORRECTO FUNCIONAMIENTO | D20: 405711.4 | F20: 616452 | H20: 474612.93 | J20: 533797.58 | L20: N/A | M20: N/A | N20: N/A | O20: N/A | P20: N/A | Q20: N/A | R20: N/A | S20: N/A | T20: N/A | U20: N/A | V20: N/A | W20: N/A | X20: N/A | Y20: N/A | Z20: N/A | AA20: N/A
B21: 17 | C21: CAMBIO MOTOR VENTILADOR DE ACONDICIONADOR DE AIRE | D21: 303107 | F21: 232120 | H21: 261469 | J21: 304074 | L21: 335163 | N21: 370233 | P21: 372519 | R21: 386368 | T21: 360439 | V21: 380015 | X21: 347402 | Z21: 340052
B22: 18 | C22: CAMBIO TRANSFORMADOR DE ACONDICIONADOR DE AIRES | D22: 310687.86 | F22: 166634 | H22: 257939.07 | J22: N/A | K22: N/A | L22: N/A | M22: N/A | N22: N/A | O22: N/A | P22: N/A | Q22: N/A | R22: N/A | S22: N/A | T22: N/A | U22: N/A | V22: N/A | W22: N/A | X22: N/A | Y22: N/A | Z22: N/A | AA22: N/A
B23: 19 | C23: CAMBIO BALINERA DE MOTOR VENTILADOR | D23: 264516 | F23: 201518 | H23: 227699 | J23: 261505 | L23: 293904 | N23: 325947 | P23: 330687 | R23: 338845 | T23: 336965 | V23: 341503 | X23: 305421 | Z23: 299046
B24: 20 | C24: CAMBIO CONTACTOR DE ACONDICIONADOR DE AIRES | D24: 307280.64 | F24: 173928 | H24: 248222.18 | J24: N/A | K24: N/A | L24: N/A | M24: N/A | N24: N/A | O24: N/A | P24: N/A | Q24: N/A | R24: N/A | S24: N/A | T24: N/A | U24: N/A | V24: N/A | W24: N/A | X24: N/A | Y24: N/A | Z24: N/A | AA24: N/A
B25: 21 | C25: CAMBIO FAN RELAY ACONDICIONADOR DE AIRE | D25: 276994.25 | F25: 152844 | H25: 238883.88 | J25: N/A | K25: N/A | L25: N/A | M25: N/A | N25: N/A | O25: N/A | P25: N/A | Q25: N/A | R25: N/A | S25: N/A | T25: N/A | U25: N/A | V25: N/A | W25: N/A | X25: N/A | Y25: N/A | Z25: N/A | AA25: N/A
B26: 22 | C26: CAMBIO PRESOSTATO DE ACONDICIONADOR DE AIRE | D26: 252260.37 | F26: 161404 | H26: 198249.64 | J26: N/A | K26: N/A | L26: N/A | M26: N/A | N26: N/A | O26: N/A | P26: N/A | Q26: N/A | R26: N/A | S26: N/A | T26: N/A | U26: N/A | V26: N/A | W26: N/A | X26: N/A | Y26: N/A | Z26: N/A | AA26: N/A
B27: 23 | C27: CAMBIO TEMPORIZADOR DE ACONDICIONADOR DE AIRE | D27: 221216.82 | F27: 154653 | H27: 221469.21 | J27: N/A | K27: N/A | L27: N/A | M27: N/A | N27: N/A | O27: N/A | P27: N/A | Q27: N/A | R27: N/A | S27: N/A | T27: N/A | U27: N/A | V27: N/A | W27: N/A | X27: N/A | Y27: N/A | Z27: N/A | AA27: N/A
B28: 24 | C28: SUMINISTRO E INSTALACIÓN A TODO COSTO DE DUCTERIA EN LAMINA DE PORÓN (METRO CUADRADO). INCLUYE MATERIALES NECESARIOS: LÁMINA DE PORÓN, CINTA FOIL, ENTRE OTROS. | D28: 220081.08 | F28: 211586 | H28: 185377.93 | J28: N/A | K28: N/A | L28: N/A | M28: N/A | N28: N/A | O28: N/A | P28: N/A | Q28: N/A | R28: N/A | S28: N/A | T28: N/A | U28: N/A | V28: N/A | W28: N/A | X28: N/A | Y28: N/A | Z28: N/A | AA28: N/A
B29: 25 | C29: SUMINISTRO E INSTALACIÓN A TODO COSTO DE DUCTERIA EN FIBRA DE VIDRIO (METRO CUADRADO). INCLUYE MATERIALES NECESARIOS: LÁMINAS, CINTA, ENTRE OTROS. | D29: 242795.87 | F29: 220064 | H29: 210364.2 | J29: N/A | K29: N/A | L29: N/A | M29: N/A | N29: N/A | O29: N/A | P29: N/A | Q29: N/A | R29: N/A | S29: N/A | T29: N/A | U29: N/A | V29: N/A | W29: N/A | X29: N/A | Y29: N/A | Z29: N/A | AA29: N/A
B30: 26 | C30: SUMINISTRO E INSTALACIÓN A TODO COSTO DE DUCTERIA GALVANIZADA (METRO CUADRADO). INCLUYE MATERIALES NECESARIOS: LÁMINAS, CINTA, ENTRE OTROS. | D30: 355107.89 | F30: 361593 | H30: 309552.12 | J30: N/A | K30: N/A | L30: N/A | M30: N/A | N30: N/A | O30: N/A | P30: N/A | Q30: N/A | R30: N/A | S30: N/A | T30: N/A | U30: N/A | V30: N/A | W30: N/A | X30: N/A | Y30: N/A | Z30: N/A | AA30: N/A
B31: 27 | C31: CAMBIO DE TERMOSTATO | D31: N/A | F31: 154900 | H31: N/A | J31: N/A | K31: N/A | L31: N/A | M31: N/A | N31: N/A | O31: N/A | P31: N/A | Q31: N/A | R31: N/A | S31: N/A | T31: N/A | U31: N/A | V31: N/A | W31: N/A | X31: N/A | Y31: N/A | Z31: N/A | AA31: N/A
C32: TOTAL | D32: =SUM(D5:D31) -> 10951753 | E32: =SUM(E5:E31) -> 0 | F32: =SUM(F5:F31) -> 9686944 | G32: =SUM(G5:G31) -> 0 | H32: =SUM(H5:H31) -> 9740631 | I32: =SUM(I5:I31) -> 0 | J32: =SUM(J5:J31) -> 7536775.1 | K32: =SUM(K5:K31) -> 0 | ... AA32: =SUM(AA5:AA31) -> 0
C34: TOTAL | D34: =+D32+F32+H32+J32+L32+N32+P32+R32+T32+V32+X32+Z32 -> 90889069 | E34: =+E32+G32+I32+K32+M32+O32+Q32+S32+U32+W32+Y32+AA32 -> 0

Sheet REPUESTOS CES
B2: SECCIONAL CESAR
B3: REPUESTOS CORRECTIVOS | E3: TECHOS PRESUPUESTALES | F3: OFERTA ECONOMICA
B4: ÍTEM | C4: DESCRIPCIÓN | D4: UNIDAD DE MEDIDA | E4: VALOR REPUESTO INCLUIDO IVA | F4: VALOR REPUESTO INCLUIDO IVA
B5: 1 | C5: CAPACITOR DE MARCHA 5 MFD 440V | D5: UND | E5: 31970
B6: 2 | C6: CAPACITOR DE MARCHA 10 MFD 440V | D6: UND | E6: 32324
B7: 3 | C7: CAPACITOR DE MARCHA 15 MFD 440V | D7: UND | E7: 34144
B8: 4 | C8: CAPACITOR DE MARCHA 30 MFD 370V | D8: UND | E8: 57386
B9: 5 | C9: CAPACITOR DE MARCHA 35 MFD 440V | D9: UND | E9: 59479
B10: 6 | C10: CAPACITOR DE MARCHA 40 MFD 440V | D10: UND | E10: 62434
B11: 7 | C11: CAPACITOR DE MARCHA 45 MFD 440V | D11: UND | E11: 64366
B12: 8 | C12: CAPACITOR DE MARCHA 45+5 MFD 440V | D12: UND | E12: 69750
B13: 9 | C13: CAPACITOR DE MARCHA 5 MFD 370V | D13: UND | E13: 31136
B14: 10 | C14: CAPACITOR DE MARCHA 50 MFD 440V | D14: UND | E14: 72282
B15: 11 | C15: CAPACITOR DE MARCHA 55 MFD 440V | D15: UND | E15: 75209
B16: 12 | C16: CAPACITOR DE MARCHA 60 MFD (+5-5) 440V | D16: UND | E16: 78243
... B102: 98 | C102: VALVULAS DE ALTA Y BAJA PRESION | D102: UND | E102: 448725
B103: TOTAL | E103: =SUM(E5:E102) -> 47467180 | F103: =SUM(F5:F102) -> 0

Sheet TOTAL
B2: SECCIONAL CESAR | D2: TECHOS PRESUPUESTALES | E2: OFERTA ECONOMICA
B3: ITEM | C3: DESCRIPCIÓN | D3: VALOR TOTAL | E3: VALOR TOTAL
B4: 1 | C4: MANTENIMIENTO PREVENTIVO | D4: =+'MTO PREVENTICO CES'!E50 -> 8148657 | E4: =+'MTO PREVENTICO CES'!F50 -> 0
B5: 2 | C5: MANO DE OBRA MANTENIMIENTO CORRECTIVO | D5: =+'MANO OBRA CORRECTIVOS CES'!D34 -> 90889069 | E5: =+'MANO OBRA CORRECTIVOS CES'!E34 -> 0
B6: 3 | C6: REPUESTOS | D6: =+'REPUESTOS CES'!E103 -> 47467180 | E6: =+'REPUESTOS CES'!F103 -> 0
B7: TOTAL | D7: =SUM(D4:D6) -> 1.4650491e+08 | E7: =SUM(E4:E6) -> 0
