Workbook
Name OLE_LINK1: 'REPUESTOS ATL'!#REF!

Sheet MTO PREVENTICO ATL
B1: ANEXO ESTUDIO DEL SECTOR
B5: SECCIONAL ATLÁNTICO
B6: MANTENIMIENTOS PREVENTIVOS | E6: COTIZACION 1 | F6: COTIZACION 2 | G6: COTIZACION 3 | I6: VALOR COTIZACIÓN HÁBIL MÁS BAJA | J6: PROMEDIO | K6: MEDIA ARITMETICA BAJA | M6: ANALISIS DE COTIZACIONES | N6: COSTOS HISTORICOS DE CONTRATACIÓN | P6: VALOR COTIZACIÓN HÁBIL MÁS BAJA | Q6: PROMEDIO | R6: MEDIA ARITMETICA BAJA | T6: VALORES SELECCIONADOS ESTUDIO
B7: ÍTEM | C7: DESCRIPCIÓN | D7: CANT. EQUIPOS | E7: VALOR MTO. X EQUIPO INCLUIDO IVA | F7: VALOR MTO. X EQUIPO INCLUIDO IVA | G7: VALOR MTO. X EQUIPO INCLUIDO IVA | I7: VALOR MTO. X EQUIPO INCLUIDO IVA | J7: VALOR MTO. X EQUIPO INCLUIDO IVA | K7: VALOR MTO. X EQUIPO INCLUIDO IVA | M7: VALOR MTO. X EQUIPO INCLUIDO IVA | N7: VALOR MTO. X EQUIPO INCLUIDO IVA | P7: VALOR MTO. X EQUIPO INCLUIDO IVA | Q7: VALOR MTO. X EQUIPO INCLUIDO IVA | R7: VALOR MTO. X EQUIPO INCLUIDO IVA | T7: VALOR MTO. X EQUIPO INCLUIDO IVA
B8: PRECIO BARRANQUILLA
B9: 1 | C9: MANTENIMIENTO DE ACONDICIONADOR DE AIRE TIPO MINISPLIT DE 9000 BTU - 12000 BTU - 18000 BTU - 24000 BTU | D9: 1 | E9: 142700 | F9: 240000 | I9: =+MIN(E9:G9) -> 142700 | J9: =+ROUND(AVERAGE(E9:G9),0) -> 191350 | K9: =+ROUND(AVERAGE(I9:J9),0) -> 167025 | M9: =+K9 -> 167025 | N9: 137688 | P9: =+MIN(M9:N9) -> 137688 | Q9: =+ROUND(AVERAGE(M9:N9),0) -> 152357 | R9: =+ROUND(AVERAGE(P9:Q9),0) -> 145023 | T9: =+Q9 -> 152357
B10: 2 | C10: MANTENIMIENTO DE ACONDICIONADOR DE AIRE TIPO MINISPLIT DE 36000 BTU | D10: 1 | E10: 227000 | F10: 450000 | I10: =+MIN(E10:G10) -> 227000 | J10: =+ROUND(AVERAGE(E10:G10),0) -> 338500 | K10: =+ROUND(AVERAGE(I10:J10),0) -> 282750 | M10: =+K10 -> 282750 | N10: 166879 | P10: =+MIN(M10:N10) -> 166879 | Q10: =+ROUND(AVERAGE(M10:N10),0) -> 224815 | R10: =+ROUND(AVERAGE(P10:Q10),0) -> 195847 | T10: =+Q10 -> 224815
B11: 3 | C11: MANTENIMIENTO DE ACONDICIONADOR DE AIRE TIPO CENTRAL DE 36000 BTU - 60.000 BTU PISO TECHO O DESCARGA VERTICAL | D11: 1 | E11: 492900 | F11: 450000 | I11: =+MIN(E11:G11) -> 450000 | J11: =+ROUND(AVERAGE(E11:G11),0) -> 471450 | K11: =+ROUND(AVERAGE(I11:J11),0) -> 460725 | M11: =+K11 -> 460725 | N11: 223765.86 | P11: =+MIN(M11:N11) -> 223765.86 | Q11: =+ROUND(AVERAGE(M11:N11),0) -> 342245 | R11: =+ROUND(AVERAGE(P11:Q11),0) -> 283005 | T11: =+Q11 -> 342245
B12: 4 | C12: MANTENIMIENTO DE ACONDICIONADOR DE AIRE TIPO CENTRAL DE 20 TON PISO TECHO O DESCARGA VERTICAL | D12: 1 | E12: 1880800 | F12: 1181250 | I12: =+MIN(E12:G12) -> 1181250 | J12: =+ROUND(AVERAGE(E12:G12),0) -> 1531025 | K12: =+ROUND(AVERAGE(I12:J12),0) -> 1356138 | M12: =+K12 -> 1356138 | P12: =+MIN(M12:N12) -> 1356138 | Q12: =+ROUND(AVERAGE(M12:N12),0) -> 1356138 | R12: =+ROUND(AVERAGE(P12:Q12),0) -> 1356138 | T12: =+Q12 -> 1356138
B13: PRECIO BARANOA | M13: =+K13 -> 0
B14: 1 | C14: MANTENIMIENTO DE ACONDICIONADOR DE AIRE TIPO MINISPLIT DE 12000 BTU - 18000 BTU - 24000 BTU | D14: 1 | E14: 167100 | F14: 320000 | I14: =+MIN(E14:G14) -> 167100 | J14: =+ROUND(AVERAGE(E14:G14),0) -> 243550 | K14: =+ROUND(AVERAGE(I14:J14),0) -> 205325 | M14: =+K14 -> 205325 | P14: =+MIN(M14:N14) -> 205325 | Q14: =+ROUND(AVERAGE(M14:N14),0) -> 205325 | R14: =+ROUND(AVERAGE(P14:Q14),0) -> 205325 | T14: =+Q14 -> 205325
B15: 2 | C15: MANTENIMIENTO DE ACONDICIONADOR DE AIRE TIPO CENTRAL DE 36000 BTU - 60.000 BTU PISO TECHO O DESCARGA VERTICAL | D15: 1 | E15: 552000 | F15: 620000 | I15: =+MIN(E15:G15) -> 552000 | J15: =+ROUND(AVERAGE(E15:G15),0) -> 586000 | K15: =+ROUND(AVERAGE(I15:J15),0) -> 569000 | M15: =+K15 -> 569000 | N15: 269640.89 | P15: =+MIN(M15:N15) -> 269640.89 | Q15: =+ROUND(AVERAGE(M15:N15),0) -> 419320 | R15: =+ROUND(AVERAGE(P15:Q15),0) -> 344480 | T15: =+Q15 -> 419320
B16: PRECIO MALAMBO | M16: =+K16 -> 0
B17: 1 | C17: MANTENIMIENTO DE ACONDICIONADOR DE AIRE TIPO MINISPLIT DE 12000 BTU - 18000 BTU - 24000 BTU | D17: 1 | E17: 156600 | F17: 320000 | I17: =+MIN(E17:G17) -> 156600 | J17: =+ROUND(AVERAGE(E17:G17),0) -> 238300 | K17: =+ROUND(AVERAGE(I17:J17),0) -> 197450 | M17: =+K17 -> 197450 | N17: 155681.7 | P17: =+MIN(M17:N17) -> 155681.7 | Q17: =+ROUND(AVERAGE(M17:N17),0) -> 176566 | R17: =+ROUND(AVERAGE(P17:Q17),0) -> 166124 | T17: =+Q17 -> 176566
B18: 2 | C18: MANTENIMIENTO DE ACONDICIONADOR DE AIRE TIPO MINISPLIT DE 36000 BTU | D18: 1 | E18: 238300 | F18: 620000 | I18: =+MIN(E18:G18) -> 238300 | J18: =+ROUND(AVERAGE(E18:G18),0) -> 429150 | K18: =+ROUND(AVERAGE(I18:J18),0) -> 333725 | M18: =+K18 -> 333725 | N18: 309097.08 | P18: =+MIN(M18:N18) -> 309097.08 | Q18: =+ROUND(AVERAGE(M18:N18),0) -> 321411 | R18: =+ROUND(AVERAGE(P18:Q18),0) -> 315254 | T18: =+Q18 -> 321411
B19: PRECIO PUERTO COLOMBIA | M19: =+K19 -> 0
B20: 1 | C20: MANTENIMIENTO DE ACONDICIONADOR DE AIRE TIPO MINISPLIT DE 12000 BTU - 18000 BTU - 24000 BTU | D20: 1 | E20: 156600 | F20: 320000 | I20: =+MIN(E20:G20) -> 156600 | J20: =+ROUND(AVERAGE(E20:G20),0) -> 238300 | K20: =+ROUND(AVERAGE(I20:J20),0) -> 197450 | M20: =+K20 -> 197450 | N20: 158336.36 | P20: =+MIN(M20:N20) -> 158336.36 | Q20: =+ROUND(AVERAGE(M20:N20),0) -> 177893 | R20: =+ROUND(AVERAGE(P20:Q20),0) -> 168115 | T20: =+Q20 -> 177893
B21: PRECIO SABANALARGA | M21: =+K21 -> 0
B22: 1 | C22: MANTENIMIENTO DE ACONDICIONADOR DE AIRE TIPO MINISPLIT DE 12000 BTU - 18000 BTU - 24000 BTU | D22: 1 | E22: 179000 | F22: 320000 | I22: =+MIN(E22:G22) -> 179000 | J22: =+ROUND(AVERAGE(E22:G22),0) -> 249500 | K22: =+ROUND(AVERAGE(I22:J22),0) -> 214250 | M22: =+K22 -> 214250 | N22: 145855.15 | P22: =+MIN(M22:N22) -> 145855.15 | Q22: =+ROUND(AVERAGE(M22:N22),0) -> 180053 | R22: =+ROUND(AVERAGE(P22:Q22),0) -> 162954 | T22: =+Q22 -> 180053
B23: 2 | C23: MANTENIMIENTO DE ACONDICIONADOR DE AIRE TIPO CENTRAL DE 36000 BTU - 60.000 BTU PISO TECHO O DESCARGA VERTICAL | D23: 1 | E23: 591500 | F23: 620000 | I23: =+MIN(E23:G23) -> 591500 | J23: =+ROUND(AVERAGE(E23:G23),0) -> 605750 | K23: =+ROUND(AVERAGE(I23:J23),0) -> 598625 | M23: =+K23 -> 598625 | N23: 268453.28 | P23: =+MIN(M23:N23) -> 268453.28 | Q23: =+ROUND(AVERAGE(M23:N23),0) -> 433539 | R23: =+ROUND(AVERAGE(P23:Q23),0) -> 350996 | T23: =+Q23 -> 433539
B24: PRECIO SANTO TOMAS | M24: =+K24 -> 0
B25: 1 | C25: MANTENIMIENTO DE ACONDICIONADOR DE AIRE TIPO MINISPLIT DE 12000 BTU - 18000 BTU - 24000 BTU | D25: 1 | E25: 167100 | F25: 320000 | I25: =+MIN(E25:G25) -> 167100 | J25: =+ROUND(AVERAGE(E25:G25),0) -> 243550 | K25: =+ROUND(AVERAGE(I25:J25),0) -> 205325 | M25: =+K25 -> 205325 | N25: 174022.88 | P25: =+MIN(M25:N25) -> 174022.88 | Q25: =+ROUND(AVERAGE(M25:N25),0) -> 189674 | R25: =+ROUND(AVERAGE(P25:Q25),0) -> 181848 | T25: =+Q25 -> 189674
B26: PRECIO CAMPO DE LA CRUZ | M26: =+K26 -> 0
B27: 1 | C27: MANTENIMIENTO DE ACONDICIONADOR DE AIRE TIPO MINISPLIT DE 12000 BTU - 18000 BTU - 24000 BTU | D27: 1 | E27: 193900 | F27: 320000 | I27: =+MIN(E27:G27) -> 193900 | J27: =+ROUND(AVERAGE(E27:G27),0) -> 256950 | K27: =+ROUND(AVERAGE(I27:J27),0) -> 225425 | M27: =+K27 -> 225425 | N27: 191459.99 | P27: =+MIN(M27:N27) -> 191459.99 | Q27: =+ROUND(AVERAGE(M27:N27),0) -> 208442 | R27: =+ROUND(AVERAGE(P27:Q27),0) -> 199951 | T27: =+Q27 -> 208442
B28: 2 | C28: MANTENIMIENTO DE ACONDICIONADOR DE AIRE TIPO CENTRAL DE 36000 BTU - 60.000 BTU PISO TECHO O DESCARGA VERTICAL | D28: 1 | E28: 640800 | F28: 620000 | I28: =+MIN(E28:G28) -> 620000 | J28: =+ROUND(AVERAGE(E28:G28),0) -> 630400 | K28: =+ROUND(AVERAGE(I28:J28),0) -> 625200 | M28: =+K28 -> 625200 | P28: =+MIN(M28:N28) -> 625200 | Q28: =+ROUND(AVERAGE(M28:N28),0) -> 625200 | R28: =+ROUND(AVERAGE(P28:Q28),0) -> 625200 | T28: =+Q28 -> 625200
B29: PRECIO SOLEDAD | M29: =+K29 -> 0
B30: 1 | C30: MANTENIMIENTO DE ACONDICIONADOR DE AIRE TIPO MINISPLIT DE 12000 BTU - 18000 BTU - 24000 BTU | D30: 1 | E30: 149200 | F30: 320000 | I30: =+MIN(E30:G30) -> 149200 | J30: =+ROUND(AVERAGE(E30:G30),0) -> 234600 | K30: =+ROUND(AVERAGE(I30:J30),0) -> 191900 | M30: =+K30 -> 191900 | N30: 146930.78 | P30: =+MIN(M30:N30) -> 146930.78 | Q30: =+ROUND(AVERAGE(M30:N30),0) -> 169415 | R30: =+ROUND(AVERAGE(P30:Q30),0) -> 158173 | T30: =+Q30 -> 169415
B31: 2 | C31: MANTENIMIENTO DE ACONDICIONADOR DE AIRE TIPO MINISPLIT DE 36000 BTU | D31: 1 | E31: 227000 | F31: 620000 | I31: =+MIN(E31:G31) -> 227000 | J31: =+ROUND(AVERAGE(E31:G31),0) -> 423500 | K31: =+ROUND(AVERAGE(I31:J31),0) -> 325250 | M31: =+K31 -> 325250 | N31: 155635.47 | P31: =+MIN(M31:N31) -> 155635.47 | Q31: =+ROUND(AVERAGE(M31:N31),0) -> 240443 | R31: =+ROUND(AVERAGE(P31:Q31),0) -> 198039 | T31: =+Q31 -> 240443
B32: 3 | C32: MANTENIMIENTO DE ACONDICIONADOR DE AIRE TIPO CASSETTE DE 24000 BTU - 36000 BTU | D32: 1 | E32: 252900 | F32: 620000 | I32: =+MIN(E32:G32) -> 252900 | J32: =+ROUND(AVERAGE(E32:G32),0) -> 436450 | K32: =+ROUND(AVERAGE(I32:J32),0) -> 344675 | M32: =+K32 -> 344675 | N32: 223852.16 | P32: =+MIN(M32:N32) -> 223852.16 | Q32: =+ROUND(AVERAGE(M32:N32),0) -> 284264 | R32: =+ROUND(AVERAGE(P32:Q32),0) -> 254058 | T32: =+Q32 -> 284264
B33: 4 | C33: MANTENIMIENTO DE ACONDICIONADOR DE AIRE TIPO CASSETTE DE 60000 BTU | D33: 1 | E33: 428000 | F33: 620000 | I33: =+MIN(E33:G33) -> 428000 | J33: =+ROUND(AVERAGE(E33:G33),0) -> 524000 | K33: =+ROUND(AVERAGE(I33:J33),0) -> 476000 | M33: =+K33 -> 476000 | N33: 272676.7 | P33: =+MIN(M33:N33) -> 272676.7 | Q33: =+ROUND(AVERAGE(M33:N33),0) -> 374338 | R33: =+ROUND(AVERAGE(P33:Q33),0) -> 323507 | T33: =+Q33 -> 374338
B34: TOTAL | E34: =SUM(E9:E33) -> 6843400 | F34: =SUM(F9:F33) -> 8901250 | G34: =SUM(G9:G33) -> 0 | M34: =SUM(M9:M33) -> 6976238 | N34: =SUM(N9:N33) -> 2999975.3 | T34: =SUM(T9:T33) -> 6081438
B36: NOTA | C36: DENTRO DE LOS COSTOS SE INCLUYE LOS INSUMOS Y LA MANO DE OBRA NECESARIA PARA REALIZAR CADA MANTENIMIENTO PREVENTIVO

Sheet MANO OBRA CORRECTIVOS ATL
B2: SECCIONAL ATLÁNTICO
B3: MANO DE OBRA MANTENIMIENTO CORRECTIVO | D3: COTIZACION 1 | E3: COTIZACION 2 | F3: COTIZACION 3 | G3: ANALISIS DE COTIZACIONES | H3: COSTOS HISTORICOS DE CONTRATACIÓN | I3: VALORES SELECCIONADOS ESTUDIO | J3: COTIZACION 1 | K3: COTIZACION 2 | L3: COTIZACION 3 | M3: ANALISIS DE COTIZACIONES | N3: COSTOS HISTORICOS DE CONTRATACIÓN | O3: VALORES SELECCIONADOS ESTUDIO | P3: COTIZACION 1 | Q3: COTIZACION 2 | R3: COTIZACION 3 | S3: ANALISIS DE COTIZACIONES | T3: COSTOS HISTORICOS DE CONTRATACIÓN | U3: VALORES SELECCIONADOS ESTUDIO | V3: COTIZACION 1 | W3: COTIZACION 2 | X3: COTIZACION 3 | Y3: ANALISIS DE COTIZACIONES | Z3: COSTOS HISTORICOS DE CONTRATACIÓN | AA3: VALORES SELECCIONADOS ESTUDIO | AB3: COTIZACION 1 | AC3: COTIZACION 2 | AD3: COTIZACION 3 | AE3: ANALISIS DE COTIZACIONES | AF3: COSTOS HISTORICOS DE CONTRATACIÓN | AG3: VALORES SELECCIONADOS ESTUDIO | AH3: COTIZACION 1 | AI3: COTIZACION 2 | AJ3: COTIZACION 3 | AK3: ANALISIS DE COTIZACIONES | AL3: COSTOS HISTORICOS DE CONTRATACIÓN | AM3: VALORES SELECCIONADOS ESTUDIO | AN3: COTIZACION 1 | AO3: COTIZACION 2 | AP3: COTIZACION 3 | AQ3: ANALISIS DE COTIZACIONES | AR3: COSTOS HISTORICOS DE CONTRATACIÓN | AS3: VALORES SELECCIONADOS ESTUDIO | AT3: COTIZACION 1 | AU3: COTIZACION 2 | AV3: COTIZACION 3 | AW3: ANALISIS DE COTIZACIONES | AX3: COSTOS HISTORICOS DE CONTRATACIÓN | AY3: VALORES SELECCIONADOS ESTUDIO
B4: ÍTEM | C4: DESCRIPCIÓN | D4: V. UNITARIO Mano de Obra Incluido IVA BARRANQUILLA | E4: V. UNITARIO Mano de Obra Incluido IVA BARRANQUILLA | F4: V. UNITARIO Mano de Obra Incluido IVA BARRANQUILLA | G4: V. UNITARIO Mano de Obra Incluido IVA BARRANQUILLA | H4: V. UNITARIO Mano de Obra Incluido IVA BARRANQUILLA | I4: V. UNITARIO Mano de Obra Incluido IVA BARRANQUILLA | J4: V. UNITARIO Mano de Obra Incluido IVA BARANOA | K4: V. UNITARIO Mano de Obra Incluido IVA BARANOA | L4: V. UNITARIO Mano de Obra Incluido IVA BARANOA | M4: V. UNITARIO Mano de Obra Incluido IVA BARANOA | N4: V. UNITARIO Mano de Obra Incluido IVA BARANOA | O4: V. UNITARIO Mano de Obra Incluido IVA BARANOA | P4: V. UNITARIO Mano de Obra Incluido IVA MALAMBO | Q4: V. UNITARIO Mano de Obra Incluido IVA MALAMBO | R4: V. UNITARIO Mano de Obra Incluido IVA MALAMBO | S4: V. UNITARIO Mano de Obra Incluido IVA MALAMBO | T4: V. UNITARIO Mano de Obra Incluido IVA MALAMBO | U4: V. UNITARIO Mano de Obra Incluido IVA MALAMBO | V4: V. UNITARIO Mano de Obra Incluido IVA PUERTO COLOMBIA | W4: V. UNITARIO Mano de Obra Incluido IVA PUERTO COLOMBIA | X4: V. UNITARIO Mano de Obra Incluido IVA PUERTO COLOMBIA | Y4: V. UNITARIO Mano de Obra Incluido IVA PUERTO COLOMBIA | Z4: V. UNITARIO Mano de Obra Incluido IVA PUERTO COLOMBIA | AA4: V. UNITARIO Mano de Obra Incluido IVA PUERTO COLOMBIA | AB4: V. UNITARIO Mano de Obra Incluido IVA SABANALARGA | AC4: V. UNITARIO Mano de Obra Incluido IVA SABANALARGA | AD4: V. UNITARIO Mano de Obra Incluido IVA SABANALARGA | AE4: V. UNITARIO Mano de Obra Incluido IVA SABANALARGA | AF4: V. UNITARIO Mano de Obra Incluido IVA SABANALARGA | AG4: V. UNITARIO Mano de Obra Incluido IVA SABANALARGA | AH4: V. UNITARIO Mano de Obra Incluido IVA SANTO TOMAS | AI4: V. UNITARIO Mano de Obra Incluido IVA SANTO TOMAS | AJ4: V. UNITARIO Mano de Obra Incluido IVA SANTO TOMAS | AK4: V. UNITARIO Mano de Obra Incluido IVA SANTO TOMAS | AL4: V. UNITARIO Mano de Obra Incluido IVA SANTO TOMAS | AM4: V. UNITARIO Mano de Obra Incluido IVA SANTO TOMAS | AN4: V. UNITARIO Mano de Obra Incluido IVA SANTO DE LA CRUZ | AO4: V. UNITARIO Mano de Obra Incluido IVA SANTO DE LA CRUZ | AP4: V. UNITARIO Mano de Obra Incluido IVA SANTO DE LA CRUZ | AQ4: V. UNITARIO Mano de Obra Incluido IVA SANTO DE LA CRUZ | AR4: V. UNITARIO Mano de Obra Incluido IVA SANTO DE LA CRUZ | AS4: V. UNITARIO Mano de Obra Incluido IVA SANTO DE LA CRUZ | AT4: V. UNITARIO Mano de Obra Incluido IVA SOLEDAD | AU4: V. UNITARIO Mano de Obra Incluido IVA SOLEDAD | AV4: V. UNITARIO Mano de Obra Incluido IVA SOLEDAD | AW4: V. UNITARIO Mano de Obra Incluido IVA SOLEDAD | AX4: V. UNITARIO Mano de Obra Incluido IVA SOLEDAD | AY4: V. UNITARIO Mano de Obra Incluido IVA SOLEDAD
B5: 1 | C5: INSTALACIÓN O CAMBIO DE PROTECTOR ELECTRÓNICO DE VOLTAJE | D5: 110300 | E5: 178645 | G5: =+ROUND(AVERAGE(AVERAGE(D5:F5),MIN(D5:F5)),0) -> 127386 | H5: 88828.962 | I5: =+ROUND(AVERAGE(G5:H5),0) -> 108107 | J5: 123500 | K5: 178645 | M5: =+ROUND(AVERAGE(AVERAGE(J5:L5),MIN(J5:L5)),0) -> 137286 | N5: 95486.983 | O5: =+ROUND(AVERAGE(M5:N5),0) -> 116386 | P5: 115800 | Q5: 178645 | S5: =+ROUND(AVERAGE(AVERAGE(P5:R5),MIN(P5:R5)),0) -> 131511 | T5: 100130.16 | U5: =+ROUND(AVERAGE(S5:T5),0) -> 115821 | V5: 115800 | W5: 178645 | Y5: =+ROUND(AVERAGE(AVERAGE(V5:X5),MIN(V5:X5)),0) -> 131511 | Z5: 120447.09 | AA5: =+ROUND(AVERAGE(Y5:Z5),0) -> 125979 | AB5: 132300 | AC5: 178645 | AE5: =+ROUND(AVERAGE(AVERAGE(AB5:AD5),MIN(AB5:AD5)),0) -> 143886 | AF5: 126890.1 | AG5: =+ROUND(AVERAGE(AE5:AF5),0) -> 135388 | AH5: 123500 | AI5: 178645 | AK5: =+ROUND(AVERAGE(AVERAGE(AH5:AJ5),MIN(AH5:AJ5)),0) -> 137286 | AL5: 119821.14 | AM5: =+ROUND(AVERAGE(AK5:AL5),0) -> 128554 | AN5: 143300 | AO5: 178645 | AQ5: =+ROUND(AVERAGE(AVERAGE(AN5:AP5),MIN(AN5:AP5)),0) -> 152136 | AR5: 172730.82 | AS5: =+ROUND(AVERAGE(AQ5:AR5),0) -> 162433 | AT5: 110300 | AU5: 178645 | AW5: =+ROUND(AVERAGE(AVERAGE(AT5:AV5),MIN(AT5:AV5)),0) -> 127386 | AX5: 93257.127 | AY5: =+ROUND(AVERAGE(AW5:AX5),0) -> 110322
B6: 2 | C6: CAMBIO DE CAPACITOR DE ACONDICIONADOR DE AIRE | D6: 84300 | E6: 188399 | G6: =+ROUND(AVERAGE(AVERAGE(D6:F6),MIN(D6:F6)),0) -> 110325 | H6: 120483.2 | I6: =+ROUND(AVERAGE(G6:H6),0) -> 115404 | J6: 94400 | K6: 188399 | M6: =+ROUND(AVERAGE(AVERAGE(J6:L6),MIN(J6:L6)),0) -> 117900 | N6: 138398.22 | O6: =+ROUND(AVERAGE(M6:N6),0) -> 128149 | P6: 88500 | Q6: 188399 | S6: =+ROUND(AVERAGE(AVERAGE(P6:R6),MIN(P6:R6)),0) -> 113475 | T6: 131818.55 | U6: =+ROUND(AVERAGE(S6:T6),0) -> 122647 | V6: 88500 | W6: 188399 | Y6: =+ROUND(AVERAGE(AVERAGE(V6:X6),MIN(V6:X6)),0) -> 113475 | Z6: 149967.05 | AA6: =+ROUND(AVERAGE(Y6:Z6),0) -> 131721 | AB6: 101200 | AC6: 188399 | AE6: =+ROUND(AVERAGE(AVERAGE(AB6:AD6),MIN(AB6:AD6)),0) -> 123000 | AF6: 157080.94 | AG6: =+ROUND(AVERAGE(AE6:AF6),0) -> 140040 | AH6: 94400 | AI6: 188399 | AK6: =+ROUND(AVERAGE(AVERAGE(AH6:AJ6),MIN(AH6:AJ6)),0) -> 117900 | AL6: 146543.19 | AM6: =+ROUND(AVERAGE(AK6:AL6),0) -> 132222 | AN6: 109600 | AO6: 188399 | AQ6: =+ROUND(AVERAGE(AVERAGE(AN6:AP6),MIN(AN6:AP6)),0) -> 129300 | AR6: 207119.15 | AS6: =+ROUND(AVERAGE(AQ6:AR6),0) -> 168210 | AT6: 84300 | AU6: 188399 | AW6: =+ROUND(AVERAGE(AVERAGE(AT6:AV6),MIN(AT6:AV6)),0) -> 110325 | AX6: 123398.99 | AY6: =+ROUND(AVERAGE(AW6:AX6),0) -> 116862
B7: 3 | C7: CAMBIO DE UNIDAD COMPRESORA DE AIRE TIPO MINI SPLIT, INCLUYE MANO DE OBRA DE: CARGA COMPLETA DE REFRIGERANTE, LIMPIEZA DE TUBERÍA DE COBRE CON NITRÓGENO, CAMBIO DE FILTRO SECADOR. INSUMOS: NITRÓGENO, SOLDADURA | D7: 583700 | E7: 877500 | G7: =+ROUND(AVERAGE(AVERAGE(D7:F7),MIN(D7:F7)),0) -> 657150 | H7: 349397.51 | I7: =+ROUND(AVERAGE(G7:H7),0) -> 503274 | J7: 653700 | K7: 877500 | M7: =+ROUND(AVERAGE(AVERAGE(J7:L7),MIN(J7:L7)),0) -> 709650 | N7: 348446.13 | O7: =+ROUND(AVERAGE(M7:N7),0) -> 529048 | P7: 612900 | Q7: 877500 | S7: =+ROUND(AVERAGE(AVERAGE(P7:R7),MIN(P7:R7)),0) -> 679050 | T7: 355014.49 | U7: =+ROUND(AVERAGE(S7:T7),0) -> 517032 | V7: 612900 | W7: 877500 | Y7: =+ROUND(AVERAGE(AVERAGE(V7:X7),MIN(V7:X7)),0) -> 679050 | Z7: 387149.82 | AA7: =+ROUND(AVERAGE(Y7:Z7),0) -> 533100 | AB7: 700400 | AC7: 877500 | AE7: =+ROUND(AVERAGE(AVERAGE(AB7:AD7),MIN(AB7:AD7)),0) -> 744675 | AF7: 392741.9 | AG7: =+ROUND(AVERAGE(AE7:AF7),0) -> 568708 | AH7: 653700 | AI7: 877500 | AK7: =+ROUND(AVERAGE(AVERAGE(AH7:AJ7),MIN(AH7:AJ7)),0) -> 709650 | AL7: 390186.61 | AM7: =+ROUND(AVERAGE(AK7:AL7),0) -> 549918 | AN7: 758800 | AO7: 877500 | AQ7: =+ROUND(AVERAGE(AVERAGE(AN7:AP7),MIN(AN7:AP7)),0) -> 788475 | AR7: 520659.75 | AS7: =+ROUND(AVERAGE(AQ7:AR7),0) -> 654567 | AT7: 583700 | AU7: 877500 | AW7: =+ROUND(AVERAGE(AVERAGE(AT7:AV7),MIN(AT7:AV7)),0) -> 657150 | AX7: 343548.08 | AY7: =+ROUND(AVERAGE(AW7:AX7),0) -> 500349
B8: 4 | C8: CAMBIO DE UNIDAD COMPRESORA DE AIRE TIPO CENTRAL, INCLUYE MANO DE OBRA DE: CARGA COMPLETA DE REFRIGERANTE, LIMPIEZA DE TUBERÍA DE COBRE CON NITRÓGENO, CAMBIO DE FILTRO SECADOR. INSUMOS: NITRÓGENO, SOLDADURA | D8: 1011700 | E8: 1282500 | G8: =+ROUND(AVERAGE(AVERAGE(D8:F8),MIN(D8:F8)),0) -> 1079400 | H8: 621660.98 | I8: =+ROUND(AVERAGE(G8:H8),0) -> 850530 | J8: 1133100 | K8: 1282500 | M8: =+ROUND(AVERAGE(AVERAGE(J8:L8),MIN(J8:L8)),0) -> 1170450 | N8: 738108.59 | O8: =+ROUND(AVERAGE(M8:N8),0) -> 954279 | P8: N/A | Q8: N/A | R8: N/A | S8: N/A | T8: N/A | U8: N/A | V8: N/A | W8: N/A | X8: N/A | Y8: N/A | Z8: N/A | AA8: N/A | AB8: 1214100 | AC8: 1282500 | AE8: =+ROUND(AVERAGE(AVERAGE(AB8:AD8),MIN(AB8:AD8)),0) -> 1231200 | AF8: 762603.28 | AG8: =+ROUND(AVERAGE(AE8:AF8),0) -> 996902 | AH8: N/A | AI8: N/A | AJ8: N/A | AK8: N/A | AL8: N/A | AM8: N/A | AN8: 1315300 | AO8: 1282500 | AQ8: =+ROUND(AVERAGE(AVERAGE(AN8:AP8),MIN(AN8:AP8)),0) -> 1290700 | AR8: N/A | AS8: =+ROUND(AVERAGE(AQ8:AR8),0) -> 1290700 | AT8: 1011700 | AU8: 1282500 | AW8: =+ROUND(AVERAGE(AVERAGE(AT8:AV8),MIN(AT8:AV8)),0) -> 1079400 | AX8: 613763.5 | AY8: =+ROUND(AVERAGE(AW8:AX8),0) -> 846582
B9: 5 | C9: CAMBIO TARJETA ELECTRÓNICA DE ACONDICIONADOR DE AIRE | D9: 155700 | E9: 256500 | G9: =+ROUND(AVERAGE(AVERAGE(D9:F9),MIN(D9:F9)),0) -> 180900 | H9: 122283.44 | I9: =+ROUND(AVERAGE(G9:H9),0) -> 151592 | J9: 174300 | K9: 256500 | M9: =+ROUND(AVERAGE(AVERAGE(J9:L9),MIN(J9:L9)),0) -> 194850 | N9: 129701.91 | O9: =+ROUND(AVERAGE(M9:N9),0) -> 162276 | P9: 163400 | Q9: 256500 | S9: =+ROUND(AVERAGE(AVERAGE(P9:R9),MIN(P9:R9)),0) -> 186675 | T9: 135096.4 | U9: =+ROUND(AVERAGE(S9:T9),0) -> 160886 | V9: 163400 | W9: 256500 | Y9: =+ROUND(AVERAGE(AVERAGE(V9:X9),MIN(V9:X9)),0) -> 186675 | Z9: 151958.13 | AA9: =+ROUND(AVERAGE(Y9:Z9),0) -> 169317 | AB9: 186800 | AC9: 256500 | AE9: =+ROUND(AVERAGE(AVERAGE(AB9:AD9),MIN(AB9:AD9)),0) -> 204225 | AF9: 179887.99 | AG9: =+ROUND(AVERAGE(AE9:AF9),0) -> 192056 | AH9: 174300 | AI9: 256500 | AK9: =+ROUND(AVERAGE(AVERAGE(AH9:AJ9),MIN(AH9:AJ9)),0) -> 194850 | AL9: 149343.9 | AM9: =+ROUND(AVERAGE(AK9:AL9),0) -> 172097 | AN9: 202300 | AO9: 256500 | AQ9: =+ROUND(AVERAGE(AVERAGE(AN9:AP9),MIN(AN9:AP9)),0) -> 215850 | AR9: 212206.58 | AS9: =+ROUND(AVERAGE(AQ9:AR9),0) -> 214028 | AT9: 155700 | AU9: 256500 | AW9: =+ROUND(AVERAGE(AVERAGE(AT9:AV9),MIN(AT9:AV9)),0) -> 180900 | AX9: 126069.88 | AY9: =+ROUND(AVERAGE(AW9:AX9),0) -> 153485
B10: 6 | C10: UBICACIÓN Y CORRECCIÓN DE FUGA DE GAS REFRIGERANTE Y ACEITE EN EL SISTEMA MINI SPLIT O CENTRAL, INCLUYE MANO DE OBRA DE: VACÍO, CARGA COMPLETA DE REFRIGERANTE, LIMPIEZA DE TUBERÍA DE COBRE CON NITRÓGENO, INSTALACIÓN DE FILTRO SECADOR. INSUMOS: NITRÓGENO, SOLDADURA Y DEMÁS ACTIVIDADES QUE GARANTICEN SU CORRECTO FUNCIONAMIENTO | D10: 492900 | E10: 714474 | G10: =+ROUND(AVERAGE(AVERAGE(D10:F10),MIN(D10:F10)),0) -> 548294 | H10: 388698.52 | I10: =+ROUND(AVERAGE(G10:H10),0) -> 468496 | J10: 552000 | K10: 714474 | M10: =+ROUND(AVERAGE(AVERAGE(J10:L10),MIN(J10:L10)),0) -> 592619 | N10: 420669.47 | O10: =+ROUND(AVERAGE(M10:N10),0) -> 506644 | P10: 517500 | Q10: 714474 | S10: =+ROUND(AVERAGE(AVERAGE(P10:R10),MIN(P10:R10)),0) -> 566744 | T10: 429263.67 | U10: =+ROUND(AVERAGE(S10:T10),0) -> 498004 | V10: 517500 | W10: 714474 | Y10: =+ROUND(AVERAGE(AVERAGE(V10:X10),MIN(V10:X10)),0) -> 566744 | Z10: 466820.58 | AA10: =+ROUND(AVERAGE(Y10:Z10),0) -> 516782 | AB10: 591500 | AC10: 714474 | AE10: =+ROUND(AVERAGE(AVERAGE(AB10:AD10),MIN(AB10:AD10)),0) -> 622244 | AF10: 482199.92 | AG10: =+ROUND(AVERAGE(AE10:AF10),0) -> 552222 | AH10: 552000 | AI10: 714474 | AK10: =+ROUND(AVERAGE(AVERAGE(AH10:AJ10),MIN(AH10:AJ10)),0) -> 592619 | AL10: 495187.42 | AM10: =+ROUND(AVERAGE(AK10:AL10),0) -> 543903 | AN10: 640800 | AO10: 714474 | AQ10: =+ROUND(AVERAGE(AVERAGE(AN10:AP10),MIN(AN10:AP10)),0) -> 659219 | AR10: 692571.08 | AS10: =+ROUND(AVERAGE(AQ10:AR10),0) -> 675895 | AT10: 492900 | AU10: 714474 | AW10: =+ROUND(AVERAGE(AVERAGE(AT10:AV10),MIN(AT10:AV10)),0) -> 548294 | AX10: 437747.67 | AY10: =+ROUND(AVERAGE(AW10:AX10),0) -> 493021
B11: 7 | C11: DESMOTE DE ACONDICIONADOR DE AIRE TIPO CENTRAL DE 60.000 BTU | D11: 415100 | E11: 337500 | G11: =+ROUND(AVERAGE(AVERAGE(D11:F11),MIN(D11:F11)),0) -> 356900 | H11: 209190.65 | I11: =+ROUND(AVERAGE(G11:H11),0) -> 283045 | J11: 464900 | K11: 337500 | M11: =+ROUND(AVERAGE(AVERAGE(J11:L11),MIN(J11:L11)),0) -> 369350 | N11: 290019.3 | O11: =+ROUND(AVERAGE(M11:N11),0) -> 329685 | P11: N/A | Q11: N/A | R11: N/A | S11: N/A | T11: N/A | U11: N/A | V11: N/A | W11: N/A | X11: N/A | Y11: N/A | Z11: N/A | AA11: N/A | AB11: 498100 | AC11: 337500 | AE11: =+ROUND(AVERAGE(AVERAGE(AB11:AD11),MIN(AB11:AD11)),0) -> 377650 | AF11: 293846.62 | AG11: =+ROUND(AVERAGE(AE11:AF11),0) -> 335748 | AH11: N/A | AI11: N/A | AJ11: N/A | AK11: N/A | AL11: N/A | AM11: N/A | AN11: 539600 | AO11: 337500 | AQ11: =+ROUND(AVERAGE(AVERAGE(AN11:AP11),MIN(AN11:AP11)),0) -> 388025 | AR11: N/A | AS11: =+ROUND(AVERAGE(AQ11:AR11),0) -> 388025 | AT11: 415100 | AU11: 337500 | AW11: =+ROUND(AVERAGE(AVERAGE(AT11:AV11),MIN(AT11:AV11)),0) -> 356900 | AX11: 270284.95 | AY11: =+ROUND(AVERAGE(AW11:AX11),0) -> 313592
B12: 8 | C12: DESMOTE DE ACONDICIONADOR DE AIRE TIPO MINI SPLIT | D12: 194600 | E12: 229500 | G12: =+ROUND(AVERAGE(AVERAGE(D12:F12),MIN(D12:F12)),0) -> 203325 | H12: 163006.85 | I12: =+ROUND(AVERAGE(G12:H12),0) -> 183166 | J12: 217900 | K12: 229500 | M12: =+ROUND(AVERAGE(AVERAGE(J12:L12),MIN(J12:L12)),0) -> 220800 | N12: 179037.16 | O12: =+ROUND(AVERAGE(M12:N12),0) -> 199919 | P12: 204300 | Q12: 229500 | S12: =+ROUND(AVERAGE(AVERAGE(P12:R12),MIN(P12:R12)),0) -> 210600 | T12: 191148.61 | U12: =+ROUND(AVERAGE(S12:T12),0) -> 200874 | V12: 204300 | W12: 229500 | Y12: =+ROUND(AVERAGE(AVERAGE(V12:X12),MIN(V12:X12)),0) -> 210600 | Z12: 200266.76 | AA12: =+ROUND(AVERAGE(Y12:Z12),0) -> 205433 | AB12: 233500 | AC12: 229500 | AE12: =+ROUND(AVERAGE(AVERAGE(AB12:AD12),MIN(AB12:AD12)),0) -> 230500 | AF12: 266735 | AG12: =+ROUND(AVERAGE(AE12:AF12),0) -> 248618 | AH12: 217900 | AI12: 229500 | AK12: =+ROUND(AVERAGE(AVERAGE(AH12:AJ12),MIN(AH12:AJ12)),0) -> 220800 | AL12: 252510.96 | AM12: =+ROUND(AVERAGE(AK12:AL12),0) -> 236655 | AN12: 252900 | AO12: 229500 | AQ12: =+ROUND(AVERAGE(AVERAGE(AN12:AP12),MIN(AN12:AP12)),0) -> 235350 | AR12: 344473.21 | AS12: =+ROUND(AVERAGE(AQ12:AR12),0) -> 289912 | AT12: 194600 | AU12: 229500 | AW12: =+ROUND(AVERAGE(AVERAGE(AT12:AV12),MIN(AT12:AV12)),0) -> 203325 | AX12: 174047.07 | AY12: =+ROUND(AVERAGE(AW12:AX12),0) -> 188686
B13: 9 | C13: INSTALACIÓN DE ACONDICIONADOR DE AIRE TIPO CENTRAL DE 60.000 BTU INCLUYE MANO DE OBRA DE: VACÍO, CARGA COMPLETA DE REFRIGERANTE, LIMPIEZA DE TUBERÍA DE COBRE CON NITRÓGENO, INSTALACIÓN DE FILTRO SECADOR. INSUMOS: NITRÓGENO, SOLDADURA Y DEMÁS ACTIVIDADES QUE GARANTICEN SU CORRECTO FUNCIONAMIENTO | D13: 972800 | E13: 1485000 | G13: =+ROUND(AVERAGE(AVERAGE(D13:F13),MIN(D13:F13)),0) -> 1100850 | H13: 585599.33 | I13: =+ROUND(AVERAGE(G13:H13),0) -> 843225 | J13: 1089600 | K13: 1485000 | M13: =+ROUND(AVERAGE(AVERAGE(J13:L13),MIN(J13:L13)),0) -> 1188450 | N13: 638504.76 | O13: =+ROUND(AVERAGE(M13:N13),0) -> 913477 | P13: N/A | Q13: N/A | R13: N/A | S13: N/A | T13: N/A | U13: N/A | V13: N/A | W13: N/A | X13: N/A | Y13: N/A | Z13: N/A | AA13: N/A | AB13: 1167400 | AC13: 1485000 | AE13: =+ROUND(AVERAGE(AVERAGE(AB13:AD13),MIN(AB13:AD13)),0) -> 1246800 | AF13: 707330.29 | AG13: =+ROUND(AVERAGE(AE13:AF13),0) -> 977065 | AH13: N/A | AI13: N/A | AJ13: N/A | AK13: N/A | AL13: N/A | AM13: N/A | AN13: 1264700 | AO13: 1485000 | AQ13: =+ROUND(AVERAGE(AVERAGE(AN13:AP13),MIN(AN13:AP13)),0) -> 1319775 | AR13: N/A | AS13: =+ROUND(AVERAGE(AQ13:AR13),0) -> 1319775 | AT13: 972800 | AU13: 1485000 | AW13: =+ROUND(AVERAGE(AVERAGE(AT13:AV13),MIN(AT13:AV13)),0) -> 1100850 | AX13: 609210.5 | AY13: =+ROUND(AVERAGE(AW13:AX13),0) -> 855030
B14: 10 | C14: INSTALACIÓN DE ACONDICIONADOR DE AIRE TIPO MINI SPLIT (12000-18000-24000 BTU) INCLUYE MANO DE OBRA DE: VACÍO, CARGA COMPLETA DE REFRIGERANTE, LIMPIEZA DE TUBERÍA DE COBRE CON NITRÓGENO, INSTALACIÓN DE FILTRO SECADOR. INSUMOS: NITRÓGENO, SOLDADURA Y DEMÁS ACTIVIDADES QUE GARANTICEN SU CORRECTO FUNCIONAMIENTO | D14: 441000 | E14: 538398 | G14: =+ROUND(AVERAGE(AVERAGE(D14:F14),MIN(D14:F14)),0) -> 465350 | H14: 306042.13 | I14: =+ROUND(AVERAGE(G14:H14),0) -> 385696 | J14: 493900 | K14: 538398 | M14: =+ROUND(AVERAGE(AVERAGE(J14:L14),MIN(J14:L14)),0) -> 505025 | N14: 323213.72 | O14: =+ROUND(AVERAGE(M14:N14),0) -> 414119 | P14: 463100 | Q14: 538398 | S14: =+ROUND(AVERAGE(AVERAGE(P14:R14),MIN(P14:R14)),0) -> 481925 | T14: 330481.72 | U14: =+ROUND(AVERAGE(S14:T14),0) -> 406203 | V14: 463100 | W14: 538398 | Y14: =+ROUND(AVERAGE(AVERAGE(V14:X14),MIN(V14:X14)),0) -> 481925 | Z14: 372243.26 | AA14: =+ROUND(AVERAGE(Y14:Z14),0) -> 427084 | AB14: 529200 | AC14: 538398 | AE14: =+ROUND(AVERAGE(AVERAGE(AB14:AD14),MIN(AB14:AD14)),0) -> 531500 | AF14: 427916.92 | AG14: =+ROUND(AVERAGE(AE14:AF14),0) -> 479708 | AH14: 493900 | AI14: 538398 | AK14: =+ROUND(AVERAGE(AVERAGE(AH14:AJ14),MIN(AH14:AJ14)),0) -> 505025 | AL14: 385916.28 | AM14: =+ROUND(AVERAGE(AK14:AL14),0) -> 445471 | AN14: 573300 | AO14: 538398 | AQ14: =+ROUND(AVERAGE(AVERAGE(AN14:AP14),MIN(AN14:AP14)),0) -> 547124 | AR14: 572422.23 | AS14: =+ROUND(AVERAGE(AQ14:AR14),0) -> 559773 | AT14: 441000 | AU14: 538398 | AW14: =+ROUND(AVERAGE(AVERAGE(AT14:AV14),MIN(AT14:AV14)),0) -> 465350 | AX14: 311577.65 | AY14: =+ROUND(AVERAGE(AW14:AX14),0) -> 388464
B15: 11 | C15: REPARACIÓN TARJETA ELECTRÓNICA ORIGINAL DE ACONDICIONADOR DE AIRE | D15: 337200 | E15: 286324 | G15: =+ROUND(AVERAGE(AVERAGE(D15:F15),MIN(D15:F15)),0) -> 299043 | H15: 144974.16 | I15: =+ROUND(AVERAGE(G15:H15),0) -> 222009 | J15: 377700 | K15: 286324 | M15: =+ROUND(AVERAGE(AVERAGE(J15:L15),MIN(J15:L15)),0) -> 309168 | N15: 157110.83 | O15: =+ROUND(AVERAGE(M15:N15),0) -> 233139 | P15: 354100 | Q15: 286324 | S15: =+ROUND(AVERAGE(AVERAGE(P15:R15),MIN(P15:R15)),0) -> 303268 | T15: 171265.77 | U15: =+ROUND(AVERAGE(S15:T15),0) -> 237267 | V15: 354100 | W15: 286324 | Y15: =+ROUND(AVERAGE(AVERAGE(V15:X15),MIN(V15:X15)),0) -> 303268 | Z15: 189800.93 | AA15: =+ROUND(AVERAGE(Y15:Z15),0) -> 246534 | AB15: 404700 | AC15: 286324 | AE15: =+ROUND(AVERAGE(AVERAGE(AB15:AD15),MIN(AB15:AD15)),0) -> 315918 | AF15: 228527.14 | AG15: =+ROUND(AVERAGE(AE15:AF15),0) -> 272223 | AH15: 377700 | AI15: 286324 | AK15: =+ROUND(AVERAGE(AVERAGE(AH15:AJ15),MIN(AH15:AJ15)),0) -> 309168 | AL15: 214031.31 | AM15: =+ROUND(AVERAGE(AK15:AL15),0) -> 261600 | AN15: 438400 | AO15: 286324 | AQ15: =+ROUND(AVERAGE(AVERAGE(AN15:AP15),MIN(AN15:AP15)),0) -> 324343 | AR15: 302089.66 | AS15: =+ROUND(AVERAGE(AQ15:AR15),0) -> 313216 | AT15: 337200 | AU15: 286324 | AW15: =+ROUND(AVERAGE(AVERAGE(AT15:AV15),MIN(AT15:AV15)),0) -> 299043 | AX15: 162736.94 | AY15: =+ROUND(AVERAGE(AW15:AX15),0) -> 230890
B16: 12 | C16: REUBICACIÓN CONDENSADORA ACONDICIONADOR DE AIRE TIPO MINI SPLIT INCLUYE MANO DE OBRA DE: VACÍO, CARGA COMPLETA DE REFRIGERANTE, LIMPIEZA DE TUBERÍA DE COBRE CON NITRÓGENO, INSTALACIÓN DE FILTRO SECADOR. INSUMOS: NITRÓGENO, SOLDADURA Y DEMÁS ACTIVIDADES QUE GARANTICEN SU CORRECTO FUNCIONAMIENTO | D16: 492900 | E16: 454049 | G16: =+ROUND(AVERAGE(AVERAGE(D16:F16),MIN(D16:F16)),0) -> 463762 | H16: 226717.25 | I16: =+ROUND(AVERAGE(G16:H16),0) -> 345240 | J16: 552000 | K16: 454049 | M16: =+ROUND(AVERAGE(AVERAGE(J16:L16),MIN(J16:L16)),0) -> 478537 | N16: 235903.16 | O16: =+ROUND(AVERAGE(M16:N16),0) -> 357220 | P16: 517500 | Q16: 454049 | S16: =+ROUND(AVERAGE(AVERAGE(P16:R16),MIN(P16:R16)),0) -> 469912 | T16: 244341.91 | U16: =+ROUND(AVERAGE(S16:T16),0) -> 357127 | V16: 517500 | W16: 454049 | Y16: =+ROUND(AVERAGE(AVERAGE(V16:X16),MIN(V16:X16)),0) -> 469912 | Z16: 275034.39 | AA16: =+ROUND(AVERAGE(Y16:Z16),0) -> 372473 | AB16: 591500 | AC16: 454049 | AE16: =+ROUND(AVERAGE(AVERAGE(AB16:AD16),MIN(AB16:AD16)),0) -> 488412 | AF16: 296768.43 | AG16: =+ROUND(AVERAGE(AE16:AF16),0) -> 392590 | AH16: 552000 | AI16: 454049 | AK16: =+ROUND(AVERAGE(AVERAGE(AH16:AJ16),MIN(AH16:AJ16)),0) -> 478537 | AL16: 282500.17 | AM16: =+ROUND(AVERAGE(AK16:AL16),0) -> 380519 | AN16: 640800 | AO16: 454049 | AQ16: =+ROUND(AVERAGE(AVERAGE(AN16:AP16),MIN(AN16:AP16)),0) -> 500737 | AR16: 390293.7 | AS16: =+ROUND(AVERAGE(AQ16:AR16),0) -> 445515 | AT16: 492900 | AU16: 454049 | AW16: =+ROUND(AVERAGE(AVERAGE(AT16:AV16),MIN(AT16:AV16)),0) -> 463762 | AX16: 238043.35 | AY16: =+ROUND(AVERAGE(AW16:AX16),0) -> 350903
B17: 13 | C17: REUBICACIÓN MANEJADORA ACONDICIONADOR DE AIRE TIPO CENTRAL INCLUYE MANO DE OBRA DE: VACÍO, CARGA COMPLETA DE REFRIGERANTE, LIMPIEZA DE TUBERÍA DE COBRE CON NITRÓGENO, INSTALACIÓN DE FILTRO SECADOR. INSUMOS: NITRÓGENO, SOLDADURA Y DEMÁS ACTIVIDADES QUE GARANTICEN SU CORRECTO FUNCIONAMIENTO | D17: 804200 | E17: 742456 | G17: =+ROUND(AVERAGE(AVERAGE(D17:F17),MIN(D17:F17)),0) -> 757892 | H17: 295697.5 | I17: =+ROUND(AVERAGE(G17:H17),0) -> 526795 | J17: 900700 | K17: 742456 | M17: =+ROUND(AVERAGE(AVERAGE(J17:L17),MIN(J17:L17)),0) -> 782017 | N17: 384781.33 | O17: =+ROUND(AVERAGE(M17:N17),0) -> 583399 | P17: N/A | Q17: N/A | R17: N/A | S17: N/A | T17: N/A | U17: N/A | V17: N/A | W17: N/A | X17: N/A | Y17: N/A | Z17: N/A | AA17: N/A | AB17: 965000 | AC17: 742456 | AE17: =+ROUND(AVERAGE(AVERAGE(AB17:AD17),MIN(AB17:AD17)),0) -> 798092 | AF17: 368180.27 | AG17: =+ROUND(AVERAGE(AE17:AF17),0) -> 583136 | AH17: N/A | AI17: N/A | AJ17: N/A | AK17: N/A | AL17: N/A | AM17: N/A | AN17: 1045500 | AO17: 742456 | AQ17: =+ROUND(AVERAGE(AVERAGE(AN17:AP17),MIN(AN17:AP17)),0) -> 818217 | AR17: N/A | AS17: =+ROUND(AVERAGE(AQ17:AR17),0) -> 818217 | AT17: 804200 | AU17: 742456 | AW17: =+ROUND(AVERAGE(AVERAGE(AT17:AV17),MIN(AT17:AV17)),0) -> 757892 | AX17: 308888.19 | AY17: =+ROUND(AVERAGE(AW17:AX17),0) -> 533390
B18: 14 | C18: REUBICACIÓN MANEJADORA ACONDICIONADOR DE AIRE TIPO MINI SPLIT INCLUYE MANO DE OBRA DE: VACÍO, CARGA COMPLETA DE REFRIGERANTE, LIMPIEZA DE TUBERÍA DE COBRE CON NITRÓGENO, INSTALACIÓN DE FILTRO SECADOR. INSUMOS: NITRÓGENO, SOLDADURA Y DEMÁS ACTIVIDADES QUE GARANTICEN SU CORRECTO FUNCIONAMIENTO | D18: 389100 | E18: 364827 | G18: =+ROUND(AVERAGE(AVERAGE(D18:F18),MIN(D18:F18)),0) -> 370895 | H18: 156154.67 | I18: =+ROUND(AVERAGE(G18:H18),0) -> 263525 | J18: 435800 | K18: 364827 | M18: =+ROUND(AVERAGE(AVERAGE(J18:L18),MIN(J18:L18)),0) -> 382570 | N18: 165108.13 | O18: =+ROUND(AVERAGE(M18:N18),0) -> 273839 | P18: 408600 | Q18: 364827 | S18: =+ROUND(AVERAGE(AVERAGE(P18:R18),MIN(P18:R18)),0) -> 375770 | T18: 171483.07 | U18: =+ROUND(AVERAGE(S18:T18),0) -> 273627 | V18: 408600 | W18: 364827 | Y18: =+ROUND(AVERAGE(AVERAGE(V18:X18),MIN(V18:X18)),0) -> 375770 | Z18: 180654.03 | AA18: =+ROUND(AVERAGE(Y18:Z18),0) -> 278212 | AB18: 467000 | AC18: 364827 | AE18: =+ROUND(AVERAGE(AVERAGE(AB18:AD18),MIN(AB18:AD18)),0) -> 390370 | AF18: 212580.99 | AG18: =+ROUND(AVERAGE(AE18:AF18),0) -> 301475 | AH18: 435800 | AI18: 364827 | AK18: =+ROUND(AVERAGE(AVERAGE(AH18:AJ18),MIN(AH18:AJ18)),0) -> 382570 | AL18: 204025.18 | AM18: =+ROUND(AVERAGE(AK18:AL18),0) -> 293298 | AN18: 505900 | AO18: 364827 | AQ18: =+ROUND(AVERAGE(AVERAGE(AN18:AP18),MIN(AN18:AP18)),0) -> 400095 | AR18: 284418.71 | AS18: =+ROUND(AVERAGE(AQ18:AR18),0) -> 342257 | AT18: 389100 | AU18: 364827 | AW18: =+ROUND(AVERAGE(AVERAGE(AT18:AV18),MIN(AT18:AV18)),0) -> 370895 | AX18: 165454.32 | AY18: =+ROUND(AVERAGE(AW18:AX18),0) -> 268175
B19: 15 | C19: CAMBIO DE CONDENSADORA DE AIRE TIPO MINI SPLIT INCLUYE MANO DE OBRA DE: VACÍO, CARGA COMPLETA DE REFRIGERANTE, LIMPIEZA DE TUBERÍA DE COBRE CON NITRÓGENO, INSTALACIÓN DE FILTRO SECADOR. INSUMOS: NITRÓGENO, SOLDADURA Y DEMÁS ACTIVIDADES QUE GARANTICEN SU CORRECTO FUNCIONAMIENTO | D19: 518800 | E19: 341243 | G19: =+ROUND(AVERAGE(AVERAGE(D19:F19),MIN(D19:F19)),0) -> 385632 | H19: 241044.44 | I19: =+ROUND(AVERAGE(G19:H19),0) -> 313338 | J19: 581100 | K19: 341243 | M19: =+ROUND(AVERAGE(AVERAGE(J19:L19),MIN(J19:L19)),0) -> 401207 | N19: 252507.53 | O19: =+ROUND(AVERAGE(M19:N19),0) -> 326857 | P19: 544800 | Q19: 341243 | S19: =+ROUND(AVERAGE(AVERAGE(P19:R19),MIN(P19:R19)),0) -> 392132 | T19: 260939.64 | U19: =+ROUND(AVERAGE(S19:T19),0) -> 326536 | V19: 544800 | W19: 341243 | Y19: =+ROUND(AVERAGE(AVERAGE(V19:X19),MIN(V19:X19)),0) -> 392132 | Z19: 266545.83 | AA19: =+ROUND(AVERAGE(Y19:Z19),0) -> 329339 | AB19: 622600 | AC19: 341243 | AE19: =+ROUND(AVERAGE(AVERAGE(AB19:AD19),MIN(AB19:AD19)),0) -> 411582 | AF19: 291490.99 | AG19: =+ROUND(AVERAGE(AE19:AF19),0) -> 351536 | AH19: 581100 | AI19: 341243 | AK19: =+ROUND(AVERAGE(AVERAGE(AH19:AJ19),MIN(AH19:AJ19)),0) -> 401207 | AL19: 278272.08 | AM19: =+ROUND(AVERAGE(AK19:AL19),0) -> 339740 | AN19: 674500 | AO19: 341243 | AQ19: =+ROUND(AVERAGE(AVERAGE(AN19:AP19),MIN(AN19:AP19)),0) -> 424557 | AR19: 397145.16 | AS19: =+ROUND(AVERAGE(AQ19:AR19),0) -> 410851 | AT19: 518800 | AU19: 341243 | AW19: =+ROUND(AVERAGE(AVERAGE(AT19:AV19),MIN(AT19:AV19)),0) -> 385632 | AX19: 248369.1 | AY19: =+ROUND(AVERAGE(AW19:AX19),0) -> 317001
B20: 16 | C20: CAMBIO DE CONDENSADORA DE AIRE TIPO CENTRAL INCLUYE MANO DE OBRA DE: VACÍO, CARGA COMPLETA DE REFRIGERANTE, LIMPIEZA DE TUBERÍA DE COBRE CON NITRÓGENO, INSTALACIÓN DE FILTRO SECADOR. INSUMOS: NITRÓGENO, SOLDADURA Y DEMÁS ACTIVIDADES QUE GARANTICEN SU CORRECTO FUNCIONAMIENTO | D20: 933900 | E20: 787755 | G20: =+ROUND(AVERAGE(AVERAGE(D20:F20),MIN(D20:F20)),0) -> 824291 | H20: 390217.33 | I20: =+ROUND(AVERAGE(G20:H20),0) -> 607254 | J20: 1046000 | K20: 787755 | M20: =+ROUND(AVERAGE(AVERAGE(J20:L20),MIN(J20:L20)),0) -> 852316 | N20: 521351.29 | O20: =+ROUND(AVERAGE(M20:N20),0) -> 686834 | P20: N/A | Q20: N/A | R20: N/A | S20: N/A | T20: N/A | U20: N/A | V20: N/A | W20: N/A | X20: N/A | Y20: N/A | Z20: N/A | AA20: N/A | AB20: 1120700 | AC20: 787755 | AE20: =+ROUND(AVERAGE(AVERAGE(AB20:AD20),MIN(AB20:AD20)),0) -> 870991 | AF20: 525547 | AG20: =+ROUND(AVERAGE(AE20:AF20),0) -> 698269 | AH20: N/A | AI20: N/A | AJ20: N/A | AK20: N/A | AL20: N/A | AM20: N/A | AN20: 1214100 | AO20: 787755 | AQ20: =+ROUND(AVERAGE(AVERAGE(AN20:AP20),MIN(AN20:AP20)),0) -> 894341 | AR20: N/A | AS20: =+ROUND(AVERAGE(AQ20:AR20),0) -> 894341 | AT20: 933900 | AU20: 787755 | AW20: =+ROUND(AVERAGE(AVERAGE(AT20:AV20),MIN(AT20:AV20)),0) -> 824291 | AX20: 421417.05 | AY20: =+ROUND(AVERAGE(AW20:AX20),0) -> 622854
B21: 17 | C21: CAMBIO MOTOR VENTILADOR DE ACONDICIONADOR DE AIRE | D21: 194600 | E21: 283298 | G21: =+ROUND(AVERAGE(AVERAGE(D21:F21),MIN(D21:F21)),0) -> 216775 | H21: 131054.58 | I21: =+ROUND(AVERAGE(G21:H21),0) -> 173915 | J21: 217900 | K21: 283298 | M21: =+ROUND(AVERAGE(AVERAGE(J21:L21),MIN(J21:L21)),0) -> 234250 | N21: 140346.44 | O21: =+ROUND(AVERAGE(M21:N21),0) -> 187298 | P21: 204300 | Q21: 283298 | S21: =+ROUND(AVERAGE(AVERAGE(P21:R21),MIN(P21:R21)),0) -> 224050 | T21: 156402.9 | U21: =+ROUND(AVERAGE(S21:T21),0) -> 190226 | V21: 204300 | W21: 283298 | Y21: =+ROUND(AVERAGE(AVERAGE(V21:X21),MIN(V21:X21)),0) -> 224050 | Z21: 168800.14 | AA21: =+ROUND(AVERAGE(Y21:Z21),0) -> 196425 | AB21: 233500 | AC21: 283298 | AE21: =+ROUND(AVERAGE(AVERAGE(AB21:AD21),MIN(AB21:AD21)),0) -> 245950 | AF21: 195734.31 | AG21: =+ROUND(AVERAGE(AE21:AF21),0) -> 220842 | AH21: 217900 | AI21: 283298 | AK21: =+ROUND(AVERAGE(AVERAGE(AH21:AJ21),MIN(AH21:AJ21)),0) -> 234250 | AL21: 181938.94 | AM21: =+ROUND(AVERAGE(AK21:AL21),0) -> 208094 | AN21: 252900 | AO21: 283298 | AQ21: =+ROUND(AVERAGE(AVERAGE(AN21:AP21),MIN(AN21:AP21)),0) -> 260500 | AR21: 293425.41 | AS21: =+ROUND(AVERAGE(AQ21:AR21),0) -> 276963 | AT21: 194600 | AU21: 283298 | AW21: =+ROUND(AVERAGE(AVERAGE(AT21:AV21),MIN(AT21:AV21)),0) -> 216775 | AX21: 137835.05 | AY21: =+ROUND(AVERAGE(AW21:AX21),0) -> 177305
B22: 18 | C22: CAMBIO TRANSFORMADOR DE ACONDICIONADOR DE AIRES | D22: 123200 | E22: 206317 | G22: =+ROUND(AVERAGE(AVERAGE(D22:F22),MIN(D22:F22)),0) -> 143979 | H22: 108080.36 | I22: =+ROUND(AVERAGE(G22:H22),0) -> 126030 | J22: 138000 | K22: 206317 | M22: =+ROUND(AVERAGE(AVERAGE(J22:L22),MIN(J22:L22)),0) -> 155079 | N22: 147896.49 | O22: =+ROUND(AVERAGE(M22:N22),0) -> 151488 | P22: N/A | Q22: N/A | R22: N/A | S22: N/A | T22: N/A | U22: N/A | V22: N/A | W22: N/A | X22: N/A | Y22: N/A | Z22: N/A | AA22: N/A | AB22: 147900 | AC22: 206317 | AE22: =+ROUND(AVERAGE(AVERAGE(AB22:AD22),MIN(AB22:AD22)),0) -> 162504 | AF22: 140422.09 | AG22: =+ROUND(AVERAGE(AE22:AF22),0) -> 151463 | AH22: N/A | AI22: N/A | AJ22: N/A | AK22: N/A | AL22: N/A | AM22: N/A | AN22: 160200 | AO22: 206317 | AQ22: =+ROUND(AVERAGE(AVERAGE(AN22:AP22),MIN(AN22:AP22)),0) -> 171729 | AR22: N/A | AS22: =+ROUND(AVERAGE(AQ22:AR22),0) -> 171729 | AT22: 123200 | AU22: 206317 | AW22: =+ROUND(AVERAGE(AVERAGE(AT22:AV22),MIN(AT22:AV22)),0) -> 143979 | AX22: 115693.91 | AY22: =+ROUND(AVERAGE(AW22:AX22),0) -> 129836
B23: 19 | C23: CAMBIO BALINERA DE MOTOR VENTILADOR | D23: 168600 | E23: 254789 | G23: =+ROUND(AVERAGE(AVERAGE(D23:F23),MIN(D23:F23)),0) -> 190147 | H23: 115661.12 | I23: =+ROUND(AVERAGE(G23:H23),0) -> 152904 | J23: 188900 | K23: 254789 | M23: =+ROUND(AVERAGE(AVERAGE(J23:L23),MIN(J23:L23)),0) -> 205372 | N23: 126750.63 | O23: =+ROUND(AVERAGE(M23:N23),0) -> 166061 | P23: 177100 | Q23: 254789 | S23: =+ROUND(AVERAGE(AVERAGE(P23:R23),MIN(P23:R23)),0) -> 196522 | T23: 133032.58 | U23: =+ROUND(AVERAGE(S23:T23),0) -> 164777 | V23: 177100 | W23: 254789 | Y23: =+ROUND(AVERAGE(AVERAGE(V23:X23),MIN(V23:X23)),0) -> 196522 | Z23: 140857.83 | AA23: =+ROUND(AVERAGE(Y23:Z23),0) -> 168690 | AB23: 202300 | AC23: 254789 | AE23: =+ROUND(AVERAGE(AVERAGE(AB23:AD23),MIN(AB23:AD23)),0) -> 215422 | AF23: 154614.69 | AG23: =+ROUND(AVERAGE(AE23:AF23),0) -> 185018 | AH23: 188900 | AI23: 254789 | AK23: =+ROUND(AVERAGE(AVERAGE(AH23:AJ23),MIN(AH23:AJ23)),0) -> 205372 | AL23: 143810.77 | AM23: =+ROUND(AVERAGE(AK23:AL23),0) -> 174591 | AN23: 219200 | AO23: 254789 | AQ23: =+ROUND(AVERAGE(AVERAGE(AN23:AP23),MIN(AN23:AP23)),0) -> 228097 | AR23: 204789.78 | AS23: =+ROUND(AVERAGE(AQ23:AR23),0) -> 216443 | AT23: 168600 | AU23: 254789 | AW23: =+ROUND(AVERAGE(AVERAGE(AT23:AV23),MIN(AT23:AV23)),0) -> 190147 | AX23: 121142.78 | AY23: =+ROUND(AVERAGE(AW23:AX23),0) -> 155645
B24: 20 | C24: CAMBIO CONTACTOR DE ACONDICIONADOR DE AIRES | D24: 110300 | E24: 229666 | G24: =+ROUND(AVERAGE(AVERAGE(D24:F24),MIN(D24:F24)),0) -> 140142 | H24: 126565.08 | I24: =+ROUND(AVERAGE(G24:H24),0) -> 133354 | J24: 123500 | K24: 229666 | M24: =+ROUND(AVERAGE(AVERAGE(J24:L24),MIN(J24:L24)),0) -> 150042 | N24: 143108.13 | O24: =+ROUND(AVERAGE(M24:N24),0) -> 146575 | P24: N/A | Q24: N/A | R24: N/A | S24: N/A | T24: N/A | U24: N/A | V24: N/A | W24: N/A | X24: N/A | Y24: N/A | Z24: N/A | AA24: N/A | AB24: 132300 | AC24: 229666 | AE24: =+ROUND(AVERAGE(AVERAGE(AB24:AD24),MIN(AB24:AD24)),0) -> 156642 | AF24: 168551.71 | AG24: =+ROUND(AVERAGE(AE24:AF24),0) -> 162597 | AH24: N/A | AI24: N/A | AJ24: N/A | AK24: N/A | AL24: N/A | AM24: N/A | AN24: 143300 | AO24: 229666 | AQ24: =+ROUND(AVERAGE(AVERAGE(AN24:AP24),MIN(AN24:AP24)),0) -> 164892 | AR24: N/A | AS24: =+ROUND(AVERAGE(AQ24:AR24),0) -> 164892 | AT24: 110300 | AU24: 229666 | AW24: =+ROUND(AVERAGE(AVERAGE(AT24:AV24),MIN(AT24:AV24)),0) -> 140142 | AX24: 134405.59 | AY24: =+ROUND(AVERAGE(AW24:AX24),0) -> 137274
B25: 21 | C25: CAMBIO FAN RELAY ACONDICIONADOR DE AIRE | D25: 110300 | E25: 195770 | G25: =+ROUND(AVERAGE(AVERAGE(D25:F25),MIN(D25:F25)),0) -> 131668 | H25: 91710.507 | I25: =+ROUND(AVERAGE(G25:H25),0) -> 111689 | J25: 123500 | K25: 195770 | M25: =+ROUND(AVERAGE(AVERAGE(J25:L25),MIN(J25:L25)),0) -> 141568 | N25: 123556.1 | O25: =+ROUND(AVERAGE(M25:N25),0) -> 132562 | P25: N/A | Q25: N/A | R25: N/A | S25: N/A | T25: N/A | U25: N/A | V25: N/A | W25: N/A | X25: N/A | Y25: N/A | Z25: N/A | AA25: N/A | AB25: 132300 | AC25: 195770 | AE25: =+ROUND(AVERAGE(AVERAGE(AB25:AD25),MIN(AB25:AD25)),0) -> 148168 | AF25: 122122.39 | AG25: =+ROUND(AVERAGE(AE25:AF25),0) -> 135145 | AH25: N/A | AI25: N/A | AJ25: N/A | AK25: N/A | AL25: N/A | AM25: N/A | AN25: 143300 | AO25: 195770 | AQ25: =+ROUND(AVERAGE(AVERAGE(AN25:AP25),MIN(AN25:AP25)),0) -> 156418 | AR25: N/A | AS25: =+ROUND(AVERAGE(AQ25:AR25),0) -> 156418 | AT25: 110300 | AU25: 195770 | AW25: =+ROUND(AVERAGE(AVERAGE(AT25:AV25),MIN(AT25:AV25)),0) -> 131668 | AX25: 102341.76 | AY25: =+ROUND(AVERAGE(AW25:AX25),0) -> 117005
B26: 22 | C26: CAMBIO PRESOSTATO DE ACONDICIONADOR DE AIRE | D26: 142700 | E26: 199350 | G26: =+ROUND(AVERAGE(AVERAGE(D26:F26),MIN(D26:F26)),0) -> 156863 | H26: 93301.957 | I26: =+ROUND(AVERAGE(G26:H26),0) -> 125082 | J26: 159800 | K26: 199350 | M26: =+ROUND(AVERAGE(AVERAGE(J26:L26),MIN(J26:L26)),0) -> 169688 | N26: 105931.44 | O26: =+ROUND(AVERAGE(M26:N26),0) -> 137810 | P26: N/A | Q26: N/A | R26: N/A | S26: N/A | T26: N/A | U26: N/A | V26: N/A | W26: N/A | X26: N/A | Y26: N/A | Z26: N/A | AA26: N/A | AB26: 171200 | AC26: 199350 | AE26: =+ROUND(AVERAGE(AVERAGE(AB26:AD26),MIN(AB26:AD26)),0) -> 178238 | AF26: 125976.9 | AG26: =+ROUND(AVERAGE(AE26:AF26),0) -> 152107 | AH26: N/A | AI26: N/A | AJ26: N/A | AK26: N/A | AL26: N/A | AM26: N/A | AN26: 185500 | AO26: 199350 | AQ26: =+ROUND(AVERAGE(AVERAGE(AN26:AP26),MIN(AN26:AP26)),0) -> 188963 | AR26: N/A | AS26: =+ROUND(AVERAGE(AQ26:AR26),0) -> 188963 | AT26: 142700 | AU26: 199350 | AW26: =+ROUND(AVERAGE(AVERAGE(AT26:AV26),MIN(AT26:AV26)),0) -> 156863 | AX26: 100771.89 | AY26: =+ROUND(AVERAGE(AW26:AX26),0) -> 128817
B27: 23 | C27: CAMBIO TEMPORIZADOR DE ACONDICIONADOR DE AIRE | D27: 123200 | E27: 200816 | G27: =+ROUND(AVERAGE(AVERAGE(D27:F27),MIN(D27:F27)),0) -> 142604 | H27: 94211.831 | I27: =+ROUND(AVERAGE(G27:H27),0) -> 118408 | J27: 138000 | K27: 200816 | M27: =+ROUND(AVERAGE(AVERAGE(J27:L27),MIN(J27:L27)),0) -> 153704 | N27: 137794.47 | O27: =+ROUND(AVERAGE(M27:N27),0) -> 145749 | P27: N/A | Q27: N/A | R27: N/A | S27: N/A | T27: N/A | U27: N/A | V27: N/A | W27: N/A | X27: N/A | Y27: N/A | Z27: N/A | AA27: N/A | AB27: 147900 | AC27: 200816 | AE27: =+ROUND(AVERAGE(AVERAGE(AB27:AD27),MIN(AB27:AD27)),0) -> 161129 | AF27: 132991.9 | AG27: =+ROUND(AVERAGE(AE27:AF27),0) -> 147060 | AH27: N/A | AI27: N/A | AJ27: N/A | AK27: N/A | AL27: N/A | AM27: N/A | AN27: 160200 | AO27: 200816 | AQ27: =+ROUND(AVERAGE(AVERAGE(AN27:AP27),MIN(AN27:AP27)),0) -> 170354 | AR27: N/A | AS27: =+ROUND(AVERAGE(AQ27:AR27),0) -> 170354 | AT27: 123200 | AU27: 200816 | AW27: =+ROUND(AVERAGE(AVERAGE(AT27:AV27),MIN(AT27:AV27)),0) -> 142604 | AX27: 103862.64 | AY27: =+ROUND(AVERAGE(AW27:AX27),0) -> 123233
B28: 24 | C28: SUMINISTRO E INSTALACIÓN A TODO COSTO DE DUCTERIA EN LAMINA DE PORÓN (METRO CUADRADO). INCLUYE MATERIALES NECESARIOS: LÁMINA DE PORÓN, CINTA FOIL, ENTRE OTROS. | D28: 246400 | E28: 320000 | G28: =+ROUND(AVERAGE(AVERAGE(D28:F28),MIN(D28:F28)),0) -> 264800 | H28: 67904.345 | I28: =+ROUND(AVERAGE(G28:H28),0) -> 166352 | J28: 276000 | K28: 320000 | M28: =+ROUND(AVERAGE(AVERAGE(J28:L28),MIN(J28:L28)),0) -> 287000 | N28: 85192.786 | O28: =+ROUND(AVERAGE(M28:N28),0) -> 186096 | P28: N/A | Q28: N/A | R28: N/A | S28: N/A | T28: N/A | U28: N/A | V28: N/A | W28: N/A | X28: N/A | Y28: N/A | Z28: N/A | AA28: N/A | AB28: 295700 | AC28: 320000 | AE28: =+ROUND(AVERAGE(AVERAGE(AB28:AD28),MIN(AB28:AD28)),0) -> 301775 | AF28: 93267.089 | AG28: =+ROUND(AVERAGE(AE28:AF28),0) -> 197521 | AH28: N/A | AI28: N/A | AJ28: N/A | AK28: N/A | AL28: N/A | AM28: N/A | AN28: 320400 | AO28: 320000 | AQ28: =+ROUND(AVERAGE(AVERAGE(AN28:AP28),MIN(AN28:AP28)),0) -> 320100 | AR28: N/A | AS28: =+ROUND(AVERAGE(AQ28:AR28),0) -> 320100 | AT28: 246400 | AU28: 320000 | AW28: =+ROUND(AVERAGE(AVERAGE(AT28:AV28),MIN(AT28:AV28)),0) -> 264800 | AX28: 76905.957 | AY28: =+ROUND(AVERAGE(AW28:AX28),0) -> 170853
B29: 25 | C29: SUMINISTRO E INSTALACIÓN A TODO COSTO DE DUCTERIA EN FIBRA DE VIDRIO (METRO CUADRADO). INCLUYE MATERIALES NECESARIOS: LÁMINAS, CINTA, ENTRE OTROS. | D29: 214000 | E29: 430000 | G29: =+ROUND(AVERAGE(AVERAGE(D29:F29),MIN(D29:F29)),0) -> 268000 | H29: 98575.242 | I29: =+ROUND(AVERAGE(G29:H29),0) -> 183288 | J29: 239700 | K29: 430000 | M29: =+ROUND(AVERAGE(AVERAGE(J29:L29),MIN(J29:L29)),0) -> 287275 | N29: 113516.77 | O29: =+ROUND(AVERAGE(M29:N29),0) -> 200396 | P29: N/A | Q29: N/A | R29: N/A | S29: N/A | T29: N/A | U29: N/A | V29: N/A | W29: N/A | X29: N/A | Y29: N/A | Z29: N/A | AA29: N/A | AB29: 256800 | AC29: 430000 | AE29: =+ROUND(AVERAGE(AVERAGE(AB29:AD29),MIN(AB29:AD29)),0) -> 300100 | AF29: 132531.15 | AG29: =+ROUND(AVERAGE(AE29:AF29),0) -> 216316 | AH29: N/A | AI29: N/A | AJ29: N/A | AK29: N/A | AL29: N/A | AM29: N/A | AN29: 278200 | AO29: 430000 | AQ29: =+ROUND(AVERAGE(AVERAGE(AN29:AP29),MIN(AN29:AP29)),0) -> 316150 | AR29: N/A | AS29: =+ROUND(AVERAGE(AQ29:AR29),0) -> 316150 | AT29: 214000 | AU29: 430000 | AW29: =+ROUND(AVERAGE(AVERAGE(AT29:AV29),MIN(AT29:AV29)),0) -> 268000 | AX29: 110395.31 | AY29: =+ROUND(AVERAGE(AW29:AX29),0) -> 189198
B30: 26 | C30: SUMINISTRO E INSTALACIÓN A TODO COSTO DE DUCTERIA GALVANIZADA (METRO CUADRADO). INCLUYE MATERIALES NECESARIOS: LÁMINAS, CINTA, ENTRE OTROS. | D30: 363200 | E30: 730000 | G30: =+ROUND(AVERAGE(AVERAGE(D30:F30),MIN(D30:F30)),0) -> 454900 | H30: 112469.92 | I30: =+ROUND(AVERAGE(G30:H30),0) -> 283685 | J30: 406800 | K30: 730000 | M30: =+ROUND(AVERAGE(AVERAGE(J30:L30),MIN(J30:L30)),0) -> 487600 | N30: 131697.65 | O30: =+ROUND(AVERAGE(M30:N30),0) -> 309649 | P30: N/A | Q30: N/A | R30: N/A | S30: N/A | T30: N/A | U30: N/A | V30: N/A | W30: N/A | X30: N/A | Y30: N/A | Z30: N/A | AA30: N/A | AB30: 435800 | AC30: 730000 | AE30: =+ROUND(AVERAGE(AVERAGE(AB30:AD30),MIN(AB30:AD30)),0) -> 509350 | AF30: 139014 | AG30: =+ROUND(AVERAGE(AE30:AF30),0) -> 324182 | AH30: N/A | AI30: N/A | AJ30: N/A | AK30: N/A | AL30: N/A | AM30: N/A | AN30: 472100 | AO30: 730000 | AQ30: =+ROUND(AVERAGE(AVERAGE(AN30:AP30),MIN(AN30:AP30)),0) -> 536575 | AR30: N/A | AS30: =+ROUND(AVERAGE(AQ30:AR30),0) -> 536575 | AT30: 363200 | AU30: 730000 | AW30: =+ROUND(AVERAGE(AVERAGE(AT30:AV30),MIN(AT30:AV30)),0) -> 454900 | AX30: 122967.51 | AY30: =+ROUND(AVERAGE(AW30:AX30),0) -> 288934
B31: 27 | C31: CAMBIO DE TERMOSTATO | D31: 123200 | E31: 250000 | G31: =+ROUND(AVERAGE(AVERAGE(D31:F31),MIN(D31:F31)),0) -> 154900 | I31: =+ROUND(AVERAGE(G31:H31),0) -> 154900 | J31: 138000 | K31: 250000 | M31: =+ROUND(AVERAGE(AVERAGE(J31:L31),MIN(J31:L31)),0) -> 166000 | N31: 0 | O31: =+ROUND(AVERAGE(M31:N31),0) -> 83000 | P31: N/A | Q31: N/A | R31: N/A | S31: N/A | T31: N/A | U31: N/A | V31: N/A | W31: N/A | X31: N/A | Y31: N/A | Z31: N/A | AA31: N/A | AB31: 147900 | AC31: 250000 | AE31: =+ROUND(AVERAGE(AVERAGE(AB31:AD31),MIN(AB31:AD31)),0) -> 173425 | AG31: =+ROUND(AVERAGE(AE31:AF31),0) -> 173425 | AH31: N/A | AI31: N/A | AJ31: N/A | AK31: N/A | AL31: N/A | AM31: N/A | AN31: 160200 | AO31: 250000 | AQ31: =+ROUND(AVERAGE(AVERAGE(AN31:AP31),MIN(AN31:AP31)),0) -> 182650 | AS31: =+ROUND(AVERAGE(AQ31:AR31),0) -> 182650 | AT31: 123200 | AU31: 250000 | AW31: =+ROUND(AVERAGE(AVERAGE(AT31:AV31),MIN(AT31:AV31)),0) -> 154900 | AY31: =+ROUND(AVERAGE(AW31:AX31),0) -> 154900
C32: TOTAL | D32: =SUM(D5:D31) -> 9857900 | E32: =SUM(E5:E31) -> 12365076 | F32: =SUM(F5:F31) -> 0 | G32: =SUM(G5:G31) -> 10196173 | H32: =SUM(H5:H31) -> 5449531.9 | I32: =SUM(I5:I31) -> 7900303 | J32: =SUM(J5:J31) -> 11040700 | K32: =SUM(K5:K31) -> 12365076 | ... AY32: =SUM(AY5:AY31) -> 8062606
C34: TOTAL | D34: =+D32+J32+P32+V32+AB32+AH32+AN32+AT32 -> 68808300 | E34: =+E32+K32+Q32+W32+AC32+AI32+AO32+AU32 -> 76729218 | F34: =+F32+L32+R32+X32+AD32+AJ32+AP32+AV32 -> 0 | G34: =+G32+M32+S32+Y32+AE32+AK32+AQ32+AW32 -> 67463041 | H34: =+H32+N32+T32+Z32+AF32+AL32+AR32+AX32 -> 38342761 | I34: =+I32+O32+U32+AA32+AG32+AM32+AS32+AY32 -> 56603953

Sheet REPUESTOS ATL
B2: SECCIONAL ATLÁNTICO
B3: REPUESTOS CORRECTIVOS | E3: COTIZACION 1 | F3: COTIZACION 2 | G3: COTIZACION 3 | I3: VALOR COTIZACIÓN HÁBIL MÁS BAJA | J3: PROMEDIO | K3: MEDIA ARITMETICA BAJA | M3: ANALISIS DE COTIZACIONES | N3: COSTOS HISTORICOS DE CONTRATACIÓN | P3: VALOR COTIZACIÓN HÁBIL MÁS BAJA | Q3: PROMEDIO | R3: MEDIA ARITMETICA BAJA | T3: VALORES SELECCIONADOS ESTUDIO
B4: ÍTEM | C4: DESCRIPCIÓN | D4: UNIDAD DE MEDIDA | E4: VALOR REPUESTO INCLUIDO IVA | F4: VALOR REPUESTO INCLUIDO IVA | G4: VALOR REPUESTO INCLUIDO IVA | I4: VALOR REPUESTO INCLUIDO IVA | J4: VALOR REPUESTO INCLUIDO IVA | K4: VALOR REPUESTO INCLUIDO IVA | M4: VALOR REPUESTO INCLUIDO IVA | N4: VALOR REPUESTO INCLUIDO IVA | P4: VALOR REPUESTO INCLUIDO IVA | Q4: VALOR REPUESTO INCLUIDO IVA | R4: VALOR REPUESTO INCLUIDO IVA | T4: VALOR REPUESTO INCLUIDO IVA
B5: 1 | C5: CAPACITOR DE MARCHA 5 MFD 440V | D5: UND | E5: 36300 | F5: 37474 | I5: =+MIN(E5:G5) -> 36300 | J5: =+ROUND(AVERAGE(E5:G5),0) -> 36887 | K5: =+ROUND(AVERAGE(I5:J5),0) -> 36594 | M5: =+K5 -> 36594 | N5: 10785.775 | P5: =+MIN(M5:N5) -> 10785.775 | Q5: =+ROUND(AVERAGE(M5:N5),0) -> 23690 | R5: =+ROUND(AVERAGE(P5:Q5),0) -> 17238 | T5: =+Q5 -> 23690
B6: 2 | C6: CAPACITOR DE MARCHA 10 MFD 440V | D6: UND | E6: 41500 | F6: 36021 | I6: =+MIN(E6:G6) -> 36021 | J6: =+ROUND(AVERAGE(E6:G6),0) -> 38761 | K6: =+ROUND(AVERAGE(I6:J6),0) -> 37391 | M6: =+K6 -> 37391 | N6: 12425.866 | P6: =+MIN(M6:N6) -> 12425.866 | Q6: =+ROUND(AVERAGE(M6:N6),0) -> 24908 | R6: =+ROUND(AVERAGE(P6:Q6),0) -> 18667 | T6: =+Q6 -> 24908
B7: 3 | C7: CAPACITOR DE MARCHA 15 MFD 440V | D7: UND | E7: 49300 | F7: 37017 | I7: =+MIN(E7:G7) -> 37017 | J7: =+ROUND(AVERAGE(E7:G7),0) -> 43159 | K7: =+ROUND(AVERAGE(I7:J7),0) -> 40088 | M7: =+K7 -> 40088 | N7: 13215.516 | P7: =+MIN(M7:N7) -> 13215.516 | Q7: =+ROUND(AVERAGE(M7:N7),0) -> 26652 | R7: =+ROUND(AVERAGE(P7:Q7),0) -> 19934 | T7: =+Q7 -> 26652
B8: 4 | C8: CAPACITOR DE MARCHA 30 MFD 370V | D8: UND | E8: 54500 | F8: 72030 | I8: =+MIN(E8:G8) -> 54500 | J8: =+ROUND(AVERAGE(E8:G8),0) -> 63265 | K8: =+ROUND(AVERAGE(I8:J8),0) -> 58883 | M8: =+K8 -> 58883 | N8: 21687.906 | P8: =+MIN(M8:N8) -> 21687.906 | Q8: =+ROUND(AVERAGE(M8:N8),0) -> 40285 | R8: =+ROUND(AVERAGE(P8:Q8),0) -> 30986 | T8: =+Q8 -> 40285
B9: 5 | C9: CAPACITOR DE MARCHA 35 MFD 440V | D9: UND | E9: 57100 | F9: 74014 | I9: =+MIN(E9:G9) -> 57100 | J9: =+ROUND(AVERAGE(E9:G9),0) -> 65557 | K9: =+ROUND(AVERAGE(I9:J9),0) -> 61329 | M9: =+K9 -> 61329 | N9: 23892.779 | P9: =+MIN(M9:N9) -> 23892.779 | Q9: =+ROUND(AVERAGE(M9:N9),0) -> 42611 | R9: =+ROUND(AVERAGE(P9:Q9),0) -> 33252 | T9: =+Q9 -> 42611
B10: 6 | C10: CAPACITOR DE MARCHA 40 MFD 440V | D10: UND | E10: 62300 | F10: 75693 | I10: =+MIN(E10:G10) -> 62300 | J10: =+ROUND(AVERAGE(E10:G10),0) -> 68997 | K10: =+ROUND(AVERAGE(I10:J10),0) -> 65649 | M10: =+K10 -> 65649 | N10: 25101.44 | P10: =+MIN(M10:N10) -> 25101.44 | Q10: =+ROUND(AVERAGE(M10:N10),0) -> 45375 | R10: =+ROUND(AVERAGE(P10:Q10),0) -> 35238 | T10: =+Q10 -> 45375
B11: 7 | C11: CAPACITOR DE MARCHA 45 MFD 440V | D11: UND | E11: 64900 | F11: 77178 | I11: =+MIN(E11:G11) -> 64900 | J11: =+ROUND(AVERAGE(E11:G11),0) -> 71039 | K11: =+ROUND(AVERAGE(I11:J11),0) -> 67970 | M11: =+K11 -> 67970 | N11: 26459.14 | P11: =+MIN(M11:N11) -> 26459.14 | Q11: =+ROUND(AVERAGE(M11:N11),0) -> 47215 | R11: =+ROUND(AVERAGE(P11:Q11),0) -> 36837 | T11: =+Q11 -> 47215
B12: 8 | C12: CAPACITOR DE MARCHA 45+5 MFD 440V | D12: UND | E12: 72600 | F12: 80741 | I12: =+MIN(E12:G12) -> 72600 | J12: =+ROUND(AVERAGE(E12:G12),0) -> 76671 | K12: =+ROUND(AVERAGE(I12:J12),0) -> 74636 | M12: =+K12 -> 74636 | N12: 28737.227 | P12: =+MIN(M12:N12) -> 28737.227 | Q12: =+ROUND(AVERAGE(M12:N12),0) -> 51687 | R12: =+ROUND(AVERAGE(P12:Q12),0) -> 40212 | T12: =+Q12 -> 51687
B13: 9 | C13: CAPACITOR DE MARCHA 5 MFD 370V | D13: UND | E13: 36300 | F13: 35913 | I13: =+MIN(E13:G13) -> 35913 | J13: =+ROUND(AVERAGE(E13:G13),0) -> 36107 | K13: =+ROUND(AVERAGE(I13:J13),0) -> 36010 | M13: =+K13 -> 36010 | N13: 10754.398 | P13: =+MIN(M13:N13) -> 10754.398 | Q13: =+ROUND(AVERAGE(M13:N13),0) -> 23382 | R13: =+ROUND(AVERAGE(P13:Q13),0) -> 17068 | T13: =+Q13 -> 23382
B14: 10 | C14: CAPACITOR DE MARCHA 50 MFD 440V | D14: UND | E14: 70000 | F14: 89532 | I14: =+MIN(E14:G14) -> 70000 | J14: =+ROUND(AVERAGE(E14:G14),0) -> 79766 | K14: =+ROUND(AVERAGE(I14:J14),0) -> 74883 | M14: =+K14 -> 74883 | N14: 30715.272 | P14: =+MIN(M14:N14) -> 30715.272 | Q14: =+ROUND(AVERAGE(M14:N14),0) -> 52799 | R14: =+ROUND(AVERAGE(P14:Q14),0) -> 41757 | T14: =+Q14 -> 52799
B15: 11 | C15: CAPACITOR DE MARCHA 55 MFD 440V | D15: UND | E15: 75200 | F15: 91080 | I15: =+MIN(E15:G15) -> 75200 | J15: =+ROUND(AVERAGE(E15:G15),0) -> 83140 | K15: =+ROUND(AVERAGE(I15:J15),0) -> 79170 | M15: =+K15 -> 79170 | N15: 31588.593 | P15: =+MIN(M15:N15) -> 31588.593 | Q15: =+ROUND(AVERAGE(M15:N15),0) -> 55379 | R15: =+ROUND(AVERAGE(P15:Q15),0) -> 43484 | T15: =+Q15 -> 55379
B16: 12 | C16: CAPACITOR DE MARCHA 60 MFD (+5-5) 440V | D16: UND | E16: 80400 | F16: 92587 | I16: =+MIN(E16:G16) -> 80400 | J16: =+ROUND(AVERAGE(E16:G16),0) -> 86494 | K16: =+ROUND(AVERAGE(I16:J16),0) -> 83447 | M16: =+K16 -> 83447 | N16: 32806.405 | P16: =+MIN(M16:N16) -> 32806.405 | Q16: =+ROUND(AVERAGE(M16:N16),0) -> 58127 | R16: =+ROUND(AVERAGE(P16:Q16),0) -> 45467 | T16: =+Q16 -> 58127
... B95: 91 | C95: REJILLA DIFUSORA DE ALUMINIO 12"X12" DE CUATRO VÍAS MÓVILES | D95: UND | E95: 188100 | F95: 337500 | I95: =+MIN(E95:G95) -> 188100 | J95: =+ROUND(AVERAGE(E95:G95),0) -> 262800 | K95: =+ROUND(AVERAGE(I95:J95),0) -> 225450 | M95: =+K95 -> 225450 | N95: 146182.55 | P95: =+MIN(M95:N95) -> 146182.55 | Q95: =+ROUND(AVERAGE(M95:N95),0) -> 185816 | R95: =+ROUND(AVERAGE(P95:Q95),0) -> 165999 | T95: =+Q95 -> 185816
B96: 92 | C96: CINTA AISLANTE | D96: UND | E96: 15600 | F96: 15000 | I96: =+MIN(E96:G96) -> 15000 | J96: =+ROUND(AVERAGE(E96:G96),0) -> 15300 | K96: =+ROUND(AVERAGE(I96:J96),0) -> 15150 | M96: =+K96 -> 15150 | P96: =+MIN(M96:N96) -> 15150 | Q96: =+ROUND(AVERAGE(M96:N96),0) -> 15150 | R96: =+ROUND(AVERAGE(P96:Q96),0) -> 15150 | T96: =+Q96 -> 15150
B97: 93 | C97: CINTA VINILO | D97: UND | E97: 18200 | F97: 20000 | I97: =+MIN(E97:G97) -> 18200 | J97: =+ROUND(AVERAGE(E97:G97),0) -> 19100 | K97: =+ROUND(AVERAGE(I97:J97),0) -> 18650 | M97: =+K97 -> 18650 | P97: =+MIN(M97:N97) -> 18650 | Q97: =+ROUND(AVERAGE(M97:N97),0) -> 18650 | R97: =+ROUND(AVERAGE(P97:Q97),0) -> 18650 | T97: =+Q97 -> 18650
B98: 94 | C98: CINTA FOIL | D98: UND | E98: 49300 | F98: 40000 | I98: =+MIN(E98:G98) -> 40000 | J98: =+ROUND(AVERAGE(E98:G98),0) -> 44650 | K98: =+ROUND(AVERAGE(I98:J98),0) -> 42325 | M98: =+K98 -> 42325 | P98: =+MIN(M98:N98) -> 42325 | Q98: =+ROUND(AVERAGE(M98:N98),0) -> 42325 | R98: =+ROUND(AVERAGE(P98:Q98),0) -> 42325 | T98: =+Q98 -> 42325
B99: TOTAL | E99: =SUM(E5:E98) -> 53943100 | F99: =SUM(F5:F98) -> 47266529 | G99: =SUM(G5:G98) -> 0 | I99: =SUM(I5:I98) -> 43442549 | J99: =SUM(J5:J98) -> 50604837 | K99: =SUM(K5:K98) -> 47023714 | M99: =SUM(M5:M98) -> 47023714 | N99: =SUM(N5:N98) -> 29827561 | P99: =SUM(P5:P98) -> 29852157 | Q99: =SUM(Q5:Q98) -> 38463700 | R99: =SUM(R5:R98) -> 34157932 | T99: =SUM(T5:T98) -> 38463700

Sheet TOTAL
B2: SECCIONAL ATLÁNTICO | D2: COTIZACION 1 | E2: COTIZACION 2 | F2: COTIZACIÓN 2 | G2: VALORES SELECCIONADOS ESTUDIO
B3: ITEM | C3: DESCRIPCIÓN | D3: VALOR TOTAL | E3: VALOR TOTAL | F3: VALOR TOTAL | G3: VALOR TOTAL
B4: 1 | C4: MANTENIMIENTO PREVENTIVO | D4: =+'MTO PREVENTICO ATL'!E34 -> 6843400 | E4: =+'MTO PREVENTICO ATL'!F34 -> 8901250 | F4: =+'MTO PREVENTICO ATL'!G34 -> 0 | G4: =+'MTO PREVENTICO ATL'!T34 -> 6081438
B5: 2 | C5: MANO DE OBRA MANTENIMIENTO CORRECTIVO | D5: =+'MANO OBRA CORRECTIVOS ATL'!D34 -> 68808300 | E5: =+'MANO OBRA CORRECTIVOS ATL'!E34 -> 76729218 | F5: =+'MANO OBRA CORRECTIVOS ATL'!F34 -> 0 | G5: =+'MANO OBRA CORRECTIVOS ATL'!I34 -> 56603953
B6: 3 | C6: REPUESTOS | D6: =+'REPUESTOS ATL'!E99 -> 53943100 | E6: =+'REPUESTOS ATL'!F99 -> 47266529 | F6: =+'REPUESTOS ATL'!G99 -> 0 | G6: =+'REPUESTOS ATL'!T99 -> 38463700
B7: TOTAL | D7: =SUM(D4:D6) -> 129594800 | E7: =SUM(E4:E6) -> 132896997 | F7: =SUM(F4:F6) -> 0 | G7: =SUM(G4:G6) -> 101149091
