Workbook
Name OLE_LINK1: 'REPUESTOS GUA'!#REF!

Sheet MTO PREVENTICO GUA
B1: ANEXO ESTUDIO DEL SECTOR
B5: SECCIONAL LA GUAJIRA
B6: MANTENIMIENTOS PREVENTIVOS | E6: COTIZACION 1 | F6: COTIZACION 2 | G6: COTIZACION 3 | I6: VALOR COTIZACIÓN HÁBIL MÁS BAJA | J6: PROMEDIO | K6: MEDIA ARITMETICA BAJA | M6: ANALISIS DE COTIZACIONES | N6: COSTOS HISTORICOS DE CONTRATACIÓN | P6: VALOR COTIZACIÓN HÁBIL MÁS BAJA | Q6: PROMEDIO | R6: MEDIA ARITMETICA BAJA | T6: VALORES SELECCIONADOS ESTUDIO
B7: ÍTEM | C7: DESCRIPCIÓN | D7: CANT. EQUIPOS | E7: VALOR MTO. X EQUIPO INCLUIDO IVA | F7: VALOR MTO. X EQUIPO INCLUIDO IVA | G7: VALOR MTO. X EQUIPO INCLUIDO IVA | I7: VALOR MTO. X EQUIPO INCLUIDO IVA | J7: VALOR MTO. X EQUIPO INCLUIDO IVA | K7: VALOR MTO. X EQUIPO INCLUIDO IVA | M7: VALOR MTO. X EQUIPO INCLUIDO IVA | N7: VALOR MTO. X EQUIPO INCLUIDO IVA | P7: VALOR MTO. X EQUIPO INCLUIDO IVA | Q7: VALOR MTO. X EQUIPO INCLUIDO IVA | R7: VALOR MTO. X EQUIPO INCLUIDO IVA | T7: VALOR MTO. X EQUIPO INCLUIDO IVA
B8: PRECIO MAICAO
B9: 1 | C9: MANTENIMIENTO DE ACONDICIONADOR DE AIRE TIPO MINISPLIT DE 9000 BTU - 12000 BTU - 18000 BTU - 24000 BTU | D9: 1 | E9: 171200 | F9: 320000 | I9: =+MIN(E9:G9) -> 171200 | J9: =+ROUND(AVERAGE(E9:G9),0) -> 245600 | K9: =+ROUND(AVERAGE(I9:J9),0) -> 208400 | M9: =+K9 -> 208400 | N9: 185700 | P9: =+MIN(M9:N9) -> 185700 | Q9: =+ROUND(AVERAGE(M9:N9),0) -> 197050 | R9: =+ROUND(AVERAGE(P9:Q9),0) -> 191375 | T9: =+Q9 -> 197050
B10: 2 | C10: MANTENIMIENTO DE ACONDICIONADOR DE AIRE TIPO CENTRAL DE 36000 BTU - 60.000 BTU PISO TECHO O DESCARGA VERTICAL | D10: 1 | E10: 591500 | F10: 620000 | I10: =+MIN(E10:G10) -> 591500 | J10: =+ROUND(AVERAGE(E10:G10),0) -> 605750 | K10: =+ROUND(AVERAGE(I10:J10),0) -> 598625 | M10: =+K10 -> 598625 | N10: 223600 | P10: =+MIN(M10:N10) -> 223600 | Q10: =+ROUND(AVERAGE(M10:N10),0) -> 411113 | R10: =+ROUND(AVERAGE(P10:Q10),0) -> 317357 | T10: =+Q10 -> 411113
B11: PRECIO URIBIA | M11: =+K11 -> 0
B12: 1 | C12: MANTENIMIENTO DE ACONDICIONADOR DE AIRE TIPO MINISPLIT DE 9000 BTU - 12000 BTU - 18000 BTU - 24000 BTU | D12: 1 | E12: 228300 | F12: 320000 | I12: =+MIN(E12:G12) -> 228300 | J12: =+ROUND(AVERAGE(E12:G12),0) -> 274150 | K12: =+ROUND(AVERAGE(I12:J12),0) -> 251225 | M12: =+K12 -> 251225 | N12: 214100 | P12: =+MIN(M12:N12) -> 214100 | Q12: =+ROUND(AVERAGE(M12:N12),0) -> 232663 | R12: =+ROUND(AVERAGE(P12:Q12),0) -> 223382 | T12: =+Q12 -> 232663
B13: PRECIO RIOHACHA | M13: =+K13 -> 0
B14: 1 | C14: MANTENIMIENTO DE ACONDICIONADOR DE AIRE TIPO MINISPLIT DE 12000 BTU - 18000 BTU - 24000 BTU | D14: 1 | E14: 149200 | F14: 240000 | I14: =+MIN(E14:G14) -> 149200 | J14: =+ROUND(AVERAGE(E14:G14),0) -> 194600 | K14: =+ROUND(AVERAGE(I14:J14),0) -> 171900 | M14: =+K14 -> 171900 | N14: 187200 | P14: =+MIN(M14:N14) -> 171900 | Q14: =+ROUND(AVERAGE(M14:N14),0) -> 179550 | R14: =+ROUND(AVERAGE(P14:Q14),0) -> 175725 | T14: =+Q14 -> 179550
B15: 2 | C15: MANTENIMIENTO DE ACONDICIONADOR DE AIRE TIPO MINISPLIT DE 36000 BTU | D15: 1 | E15: 227000 | F15: 450000 | I15: =+MIN(E15:G15) -> 227000 | J15: =+ROUND(AVERAGE(E15:G15),0) -> 338500 | K15: =+ROUND(AVERAGE(I15:J15),0) -> 282750 | M15: =+K15 -> 282750 | N15: 225300 | P15: =+MIN(M15:N15) -> 225300 | Q15: =+ROUND(AVERAGE(M15:N15),0) -> 254025 | R15: =+ROUND(AVERAGE(P15:Q15),0) -> 239663 | T15: =+Q15 -> 254025
B16: PRECIO DIBULLA | M16: =+K16 -> 0
B17: 1 | C17: MANTENIMIENTO DE ACONDICIONADOR DE AIRE TIPO MINISPLIT DE 12000 BTU - 18000 BTU - 24000 BTU | D17: 1 | E17: 167100 | F17: 320000 | I17: =+MIN(E17:G17) -> 167100 | J17: =+ROUND(AVERAGE(E17:G17),0) -> 243550 | K17: =+ROUND(AVERAGE(I17:J17),0) -> 205325 | M17: =+K17 -> 205325 | N17: 213500 | P17: =+MIN(M17:N17) -> 205325 | Q17: =+ROUND(AVERAGE(M17:N17),0) -> 209413 | R17: =+ROUND(AVERAGE(P17:Q17),0) -> 207369 | T17: =+Q17 -> 209413
B18: PRECIO FONSECA | M18: =+K18 -> 0
B19: 1 | C19: MANTENIMIENTO DE ACONDICIONADOR DE AIRE TIPO MINISPLIT DE 12000 BTU - 18000 BTU - 24000 BTU | D19: 1 | E19: 193900 | F19: 320000 | I19: =+MIN(E19:G19) -> 193900 | J19: =+ROUND(AVERAGE(E19:G19),0) -> 256950 | K19: =+ROUND(AVERAGE(I19:J19),0) -> 225425 | M19: =+K19 -> 225425 | N19: 185900 | P19: =+MIN(M19:N19) -> 185900 | Q19: =+ROUND(AVERAGE(M19:N19),0) -> 205663 | R19: =+ROUND(AVERAGE(P19:Q19),0) -> 195782 | T19: =+Q19 -> 205663
B20: PRECIO SAN JUAN | M20: =+K20 -> 0 | P20: =+MIN(M20:N20) -> 0 | Q20: =+ROUND(AVERAGE(M20:N20),0) -> 0
B21: 1 | C21: MANTENIMIENTO DE ACONDICIONADOR DE AIRE TIPO MINISPLIT DE 12000 BTU - 18000 BTU - 24000 BTU | D21: 1 | E21: 201400 | F21: 320000 | I21: =+MIN(E21:G21) -> 201400 | J21: =+ROUND(AVERAGE(E21:G21),0) -> 260700 | K21: =+ROUND(AVERAGE(I21:J21),0) -> 231050 | M21: =+K21 -> 231050 | N21: 185800 | P21: =+MIN(M21:N21) -> 185800 | Q21: =+ROUND(AVERAGE(M21:N21),0) -> 208425 | R21: =+ROUND(AVERAGE(P21:Q21),0) -> 197113 | T21: =+Q21 -> 208425
B22: PRECIO ALBANIA | M22: =+K22 -> 0 | P22: =+MIN(M22:N22) -> 0 | Q22: =+ROUND(AVERAGE(M22:N22),0) -> 0
B23: 1 | C23: MANTENIMIENTO DE ACONDICIONADOR DE AIRE TIPO MINISPLIT DE 12000 BTU - 18000 BTU - 24000 BTU | D23: 1 | E23: 179000 | F23: 320000 | I23: =+MIN(E23:G23) -> 179000 | J23: =+ROUND(AVERAGE(E23:G23),0) -> 249500 | K23: =+ROUND(AVERAGE(I23:J23),0) -> 214250 | M23: =+K23 -> 214250 | P23: =+MIN(M23:N23) -> 214250 | Q23: =+ROUND(AVERAGE(M23:N23),0) -> 214250 | R23: =+ROUND(AVERAGE(P23:Q23),0) -> 214250 | T23: =+Q23 -> 214250
B24: 2 | C24: MANTENIMIENTO DE ACONDICIONADOR DE AIRE TIPO CENTRAL DE 36000 BTU - 60.000 BTU PISO TECHO O DESCARGA VERTICAL | D24: 1 | E24: 591500 | F24: 620000 | I24: =+MIN(E24:G24) -> 591500 | J24: =+ROUND(AVERAGE(E24:G24),0) -> 605750 | K24: =+ROUND(AVERAGE(I24:J24),0) -> 598625 | M24: =+K24 -> 598625 | P24: =+MIN(M24:N24) -> 598625 | Q24: =+ROUND(AVERAGE(M24:N24),0) -> 598625 | R24: =+ROUND(AVERAGE(P24:Q24),0) -> 598625 | T24: =+Q24 -> 598625
B25: PRECIO VILLANUEVA | M25: =+K25 -> 0 | P25: =+MIN(M25:N25) -> 0 | Q25: =+ROUND(AVERAGE(M25:N25),0) -> 0
B26: 1 | C26: MANTENIMIENTO DE ACONDICIONADOR DE AIRE TIPO MINISPLIT DE 12000 BTU - 18000 BTU - 24000 BTU | D26: 1 | E26: 205800 | F26: 320000 | I26: =+MIN(E26:G26) -> 205800 | J26: =+ROUND(AVERAGE(E26:G26),0) -> 262900 | K26: =+ROUND(AVERAGE(I26:J26),0) -> 234350 | M26: =+K26 -> 234350 | N26: 185800 | P26: =+MIN(M26:N26) -> 185800 | Q26: =+ROUND(AVERAGE(M26:N26),0) -> 210075 | R26: =+ROUND(AVERAGE(P26:Q26),0) -> 197938 | T26: =+Q26 -> 210075
B27: TOTAL | E27: =SUM(E9:E26) -> 2905900 | F27: =SUM(F9:F26) -> 4170000 | G27: =SUM(G9:G26) -> 0 | M27: =SUM(M9:M26) -> 3221925 | N27: =SUM(N9:N26) -> 1806900 | T27: =SUM(T9:T26) -> 2920852
B29: NOTA | C29: DENTRO DE LOS COSTOS SE INCLUYE LOS INSUMOS Y LA MANO DE OBRA NECESARIA PARA REALIZAR CADA MANTENIMIENTO PREVENTIVO

Sheet MANO OBRA CORRECTIVOS GUA
B2: SECCIONAL LA GUAJIRA
B3: MANO DE OBRA MANTENIMIENTO CORRECTIVO | D3: COTIZACION 1 | E3: COTIZACION 2 | F3: COTIZACION 3 | G3: ANALISIS DE COTIZACIONES | H3: COSTOS HISTORICOS DE CONTRATACIÓN | I3: VALORES SELECCIONADOS ESTUDIO | J3: COTIZACION 1 | K3: COTIZACION 2 | L3: COTIZACION 3 | M3: ANALISIS DE COTIZACIONES | N3: COSTOS HISTORICOS DE CONTRATACIÓN | O3: VALORES SELECCIONADOS ESTUDIO | P3: COTIZACION 1 | Q3: COTIZACION 2 | R3: COTIZACION 3 | S3: ANALISIS DE COTIZACIONES | T3: COSTOS HISTORICOS DE CONTRATACIÓN | U3: VALORES SELECCIONADOS ESTUDIO | V3: COTIZACION 1 | W3: COTIZACION 2 | X3: COTIZACION 3 | Y3: ANALISIS DE COTIZACIONES | Z3: COSTOS HISTORICOS DE CONTRATACIÓN | AA3: VALORES SELECCIONADOS ESTUDIO | AB3: COTIZACION 1 | AC3: COTIZACION 2 | AD3: COTIZACION 3 | AE3: ANALISIS DE COTIZACIONES | AF3: COSTOS HISTORICOS DE CONTRATACIÓN | AG3: VALORES SELECCIONADOS ESTUDIO | AH3: COTIZACION 1 | AI3: COTIZACION 2 | AJ3: COTIZACION 3 | AK3: ANALISIS DE COTIZACIONES | AL3: COSTOS HISTORICOS DE CONTRATACIÓN | AM3: VALORES SELECCIONADOS ESTUDIO | AN3: COTIZACION 1 | AO3: COTIZACION 2 | AP3: COTIZACION 3 | AQ3: ANALISIS DE COTIZACIONES | AR3: COSTOS HISTORICOS DE CONTRATACIÓN | AS3: VALORES SELECCIONADOS ESTUDIO | AT3: COTIZACION 1 | AU3: COTIZACION 2 | AV3: COTIZACION 3 | AW3: ANALISIS DE COTIZACIONES | AX3: COSTOS HISTORICOS DE CONTRATACIÓN | AY3: VALORES SELECCIONADOS ESTUDIO
B4: ÍTEM | C4: DESCRIPCIÓN | D4: V. UNITARIO Mano de Obra Incluido IVA MAICAO | E4: V. UNITARIO Mano de Obra Incluido IVA MAICAO | F4: V. UNITARIO Mano de Obra Incluido IVA MAICAO | G4: V. UNITARIO Mano de Obra Incluido IVA MAICAO | H4: V. UNITARIO Mano de Obra Incluido IVA MAICAO | I4: V. UNITARIO Mano de Obra Incluido IVA MAICAO | J4: V. UNITARIO Mano de Obra Incluido IVA URIBIA | K4: V. UNITARIO Mano de Obra Incluido IVA URIBIA | L4: V. UNITARIO Mano de Obra Incluido IVA URIBIA | M4: V. UNITARIO Mano de Obra Incluido IVA URIBIA | N4: V. UNITARIO Mano de Obra Incluido IVA URIBIA | O4: V. UNITARIO Mano de Obra Incluido IVA URIBIA | P4: V. UNITARIO Mano de Obra Incluido IVA RIOHACHA | Q4: V. UNITARIO Mano de Obra Incluido IVA RIOHACHA | R4: V. UNITARIO Mano de Obra Incluido IVA RIOHACHA | S4: V. UNITARIO Mano de Obra Incluido IVA RIOHACHA | T4: V. UNITARIO Mano de Obra Incluido IVA RIOHACHA | U4: V. UNITARIO Mano de Obra Incluido IVA RIOHACHA | V4: V. UNITARIO Mano de Obra Incluido IVA DIBULLA | W4: V. UNITARIO Mano de Obra Incluido IVA DIBULLA | X4: V. UNITARIO Mano de Obra Incluido IVA DIBULLA | Y4: V. UNITARIO Mano de Obra Incluido IVA DIBULLA | Z4: V. UNITARIO Mano de Obra Incluido IVA DIBULLA | AA4: V. UNITARIO Mano de Obra Incluido IVA DIBULLA | AB4: V. UNITARIO Mano de Obra Incluido IVA FONSECA | AC4: V. UNITARIO Mano de Obra Incluido IVA FONSECA | AD4: V. UNITARIO Mano de Obra Incluido IVA FONSECA | AE4: V. UNITARIO Mano de Obra Incluido IVA FONSECA | AF4: V. UNITARIO Mano de Obra Incluido IVA FONSECA | AG4: V. UNITARIO Mano de Obra Incluido IVA FONSECA | AH4: V. UNITARIO Mano de Obra Incluido IVA SAN JUAN | AI4: V. UNITARIO Mano de Obra Incluido IVA SAN JUAN | AJ4: V. UNITARIO Mano de Obra Incluido IVA SAN JUAN | AK4: V. UNITARIO Mano de Obra Incluido IVA SAN JUAN | AL4: V. UNITARIO Mano de Obra Incluido IVA SAN JUAN | AM4: V. UNITARIO Mano de Obra Incluido IVA SAN JUAN | AN4: V. UNITARIO Mano de Obra Incluido IVA ALBANIA | AO4: V. UNITARIO Mano de Obra Incluido IVA ALBANIA | AP4: V. UNITARIO Mano de Obra Incluido IVA ALBANIA | AQ4: V. UNITARIO Mano de Obra Incluido IVA ALBANIA | AR4: V. UNITARIO Mano de Obra Incluido IVA ALBANIA | AS4: V. UNITARIO Mano de Obra Incluido IVA ALBANIA | AT4: V. UNITARIO Mano de Obra Incluido IVA VILLANUEVA | AU4: V. UNITARIO Mano de Obra Incluido IVA VILLANUEVA | AV4: V. UNITARIO Mano de Obra Incluido IVA VILLANUEVA | AW4: V. UNITARIO Mano de Obra Incluido IVA VILLANUEVA | AX4: V. UNITARIO Mano de Obra Incluido IVA VILLANUEVA | AY4: V. UNITARIO Mano de Obra Incluido IVA VILLANUEVA
B5: 1 | C5: INSTALACIÓN O CAMBIO DE PROTECTOR ELECTRÓNICO DE VOLTAJE | D5: 132300 | E5: 178645 | G5: =+ROUND(AVERAGE(AVERAGE(D5:F5),MIN(D5:F5)),0) -> 143886 | H5: 175300 | I5: =+ROUND(AVERAGE(G5:H5),0) -> 159593 | J5: 176400 | K5: 178645 | M5: =+ROUND(AVERAGE(AVERAGE(J5:L5),MIN(J5:L5)),0) -> 176961 | N5: 215800 | O5: =+ROUND(AVERAGE(M5:N5),0) -> 196381 | P5: 110300 | Q5: 178645 | S5: =+ROUND(AVERAGE(AVERAGE(P5:R5),MIN(P5:R5)),0) -> 127386 | T5: 156300 | U5: =+ROUND(AVERAGE(S5:T5),0) -> 141843 | V5: 123500 | W5: 178645 | Y5: =+ROUND(AVERAGE(AVERAGE(V5:X5),MIN(V5:X5)),0) -> 137286 | Z5: 209300 | AA5: =+ROUND(AVERAGE(Y5:Z5),0) -> 173293 | AB5: 143300 | AC5: 178645 | AE5: =+ROUND(AVERAGE(AVERAGE(AB5:AD5),MIN(AB5:AD5)),0) -> 152136 | AF5: 176300 | AG5: =+ROUND(AVERAGE(AE5:AF5),0) -> 164218 | AH5: 148800 | AI5: 178645 | AK5: =+ROUND(AVERAGE(AVERAGE(AH5:AJ5),MIN(AH5:AJ5)),0) -> 156261 | AL5: 174400 | AM5: =+ROUND(AVERAGE(AK5:AL5),0) -> 165331 | AN5: 132300 | AO5: 178645 | AQ5: =+ROUND(AVERAGE(AVERAGE(AN5:AP5),MIN(AN5:AP5)),0) -> 143886 | AS5: =+ROUND(AVERAGE(AQ5:AR5),0) -> 143886 | AT5: 152100 | AU5: 178645 | AW5: =+ROUND(AVERAGE(AVERAGE(AT5:AV5),MIN(AT5:AV5)),0) -> 158736 | AX5: 175600 | AY5: =+ROUND(AVERAGE(AW5:AX5),0) -> 167168
B6: 2 | C6: CAMBIO DE CAPACITOR DE ACONDICIONADOR DE AIRE | D6: 101200 | E6: 188399 | G6: =+ROUND(AVERAGE(AVERAGE(D6:F6),MIN(D6:F6)),0) -> 123000 | H6: 161500 | I6: =+ROUND(AVERAGE(G6:H6),0) -> 142250 | J6: 134900 | K6: 188399 | M6: =+ROUND(AVERAGE(AVERAGE(J6:L6),MIN(J6:L6)),0) -> 148275 | N6: 200500 | O6: =+ROUND(AVERAGE(M6:N6),0) -> 174388 | P6: 84300 | Q6: 188399 | S6: =+ROUND(AVERAGE(AVERAGE(P6:R6),MIN(P6:R6)),0) -> 110325 | T6: 149000 | U6: =+ROUND(AVERAGE(S6:T6),0) -> 129663 | V6: 94400 | W6: 188399 | Y6: =+ROUND(AVERAGE(AVERAGE(V6:X6),MIN(V6:X6)),0) -> 117900 | Z6: 194300 | AA6: =+ROUND(AVERAGE(Y6:Z6),0) -> 156100 | AB6: 109600 | AC6: 188399 | AE6: =+ROUND(AVERAGE(AVERAGE(AB6:AD6),MIN(AB6:AD6)),0) -> 129300 | AF6: 161700 | AG6: =+ROUND(AVERAGE(AE6:AF6),0) -> 145500 | AH6: 113800 | AI6: 188399 | AK6: =+ROUND(AVERAGE(AVERAGE(AH6:AJ6),MIN(AH6:AJ6)),0) -> 132450 | AL6: 159900 | AM6: =+ROUND(AVERAGE(AK6:AL6),0) -> 146175 | AN6: 101200 | AO6: 188399 | AQ6: =+ROUND(AVERAGE(AVERAGE(AN6:AP6),MIN(AN6:AP6)),0) -> 123000 | AS6: =+ROUND(AVERAGE(AQ6:AR6),0) -> 123000 | AT6: 116300 | AU6: 188399 | AW6: =+ROUND(AVERAGE(AVERAGE(AT6:AV6),MIN(AT6:AV6)),0) -> 134325 | AX6: 161100 | AY6: =+ROUND(AVERAGE(AW6:AX6),0) -> 147713
B7: 3 | C7: CAMBIO DE UNIDAD COMPRESORA DE AIRE TIPO MINI SPLIT, INCLUYE MANO DE OBRA DE: CARGA COMPLETA DE REFRIGERANTE, LIMPIEZA DE TUBERÍA DE COBRE CON NITRÓGENO, CAMBIO DE FILTRO SECADOR. INSUMOS: NITRÓGENO, SOLDADURA | D7: 700400 | E7: 877500 | G7: =+ROUND(AVERAGE(AVERAGE(D7:F7),MIN(D7:F7)),0) -> 744675 | H7: 663500 | I7: =+ROUND(AVERAGE(G7:H7),0) -> 704088 | J7: 933900 | K7: 877500 | M7: =+ROUND(AVERAGE(AVERAGE(J7:L7),MIN(J7:L7)),0) -> 891600 | N7: 809900 | O7: =+ROUND(AVERAGE(M7:N7),0) -> 850750 | P7: 583700 | Q7: 877500 | S7: =+ROUND(AVERAGE(AVERAGE(P7:R7),MIN(P7:R7)),0) -> 657150 | T7: 633800 | U7: =+ROUND(AVERAGE(S7:T7),0) -> 645475 | V7: 653700 | W7: 877500 | Y7: =+ROUND(AVERAGE(AVERAGE(V7:X7),MIN(V7:X7)),0) -> 709650 | Z7: 786200 | AA7: =+ROUND(AVERAGE(Y7:Z7),0) -> 747925 | AB7: 758800 | AC7: 877500 | AE7: =+ROUND(AVERAGE(AVERAGE(AB7:AD7),MIN(AB7:AD7)),0) -> 788475 | AF7: 663900 | AG7: =+ROUND(AVERAGE(AE7:AF7),0) -> 726188 | AH7: 788000 | AI7: 877500 | AK7: =+ROUND(AVERAGE(AVERAGE(AH7:AJ7),MIN(AH7:AJ7)),0) -> 810375 | AL7: 656300 | AM7: =+ROUND(AVERAGE(AK7:AL7),0) -> 733338 | AN7: 700400 | AO7: 877500 | AQ7: =+ROUND(AVERAGE(AVERAGE(AN7:AP7),MIN(AN7:AP7)),0) -> 744675 | AS7: =+ROUND(AVERAGE(AQ7:AR7),0) -> 744675 | AT7: 805500 | AU7: 877500 | AW7: =+ROUND(AVERAGE(AVERAGE(AT7:AV7),MIN(AT7:AV7)),0) -> 823500 | AX7: 661800 | AY7: =+ROUND(AVERAGE(AW7:AX7),0) -> 742650
B8: 4 | C8: CAMBIO DE UNIDAD COMPRESORA DE AIRE TIPO CENTRAL, INCLUYE MANO DE OBRA DE: CARGA COMPLETA DE REFRIGERANTE, LIMPIEZA DE TUBERÍA DE COBRE CON NITRÓGENO, CAMBIO DE FILTRO SECADOR. INSUMOS: NITRÓGENO, SOLDADURA | D8: 1214100 | E8: 1282500 | G8: =+ROUND(AVERAGE(AVERAGE(D8:F8),MIN(D8:F8)),0) -> 1231200 | H8: 1099300 | I8: =+ROUND(AVERAGE(G8:H8),0) -> 1165250 | J8: N/A | K8: N/A | L8: N/A | M8: N/A | N8: N/A | O8: N/A | P8: N/A | Q8: N/A | R8: N/A | S8: N/A | T8: 1071900 | U8: N/A | V8: N/A | W8: N/A | X8: N/A | Y8: N/A | Z8: N/A | AA8: N/A | AB8: N/A | AC8: N/A | AD8: N/A | AE8: N/A | AF8: N/A | AG8: N/A | AH8: N/A | AI8: N/A | AJ8: N/A | AK8: N/A | AL8: N/A | AM8: N/A | AN8: 1214100 | AO8: 1282500 | AQ8: =+ROUND(AVERAGE(AVERAGE(AN8:AP8),MIN(AN8:AP8)),0) -> 1231200 | AS8: =+ROUND(AVERAGE(AQ8:AR8),0) -> 1231200 | AT8: N/A | AU8: N/A | AV8: N/A | AW8: N/A | AX8: N/A | AY8: N/A
B9: 5 | C9: CAMBIO TARJETA ELECTRÓNICA DE ACONDICIONADOR DE AIRE | D9: 186800 | E9: 256500 | G9: =+ROUND(AVERAGE(AVERAGE(D9:F9),MIN(D9:F9)),0) -> 204225 | H9: 169400 | I9: =+ROUND(AVERAGE(G9:H9),0) -> 186813 | J9: 249000 | K9: 256500 | M9: =+ROUND(AVERAGE(AVERAGE(J9:L9),MIN(J9:L9)),0) -> 250875 | N9: 202900 | O9: =+ROUND(AVERAGE(M9:N9),0) -> 226888 | P9: 155700 | Q9: 256500 | S9: =+ROUND(AVERAGE(AVERAGE(P9:R9),MIN(P9:R9)),0) -> 180900 | T9: 156200 | U9: =+ROUND(AVERAGE(S9:T9),0) -> 168550 | V9: 174300 | W9: 256500 | Y9: =+ROUND(AVERAGE(AVERAGE(V9:X9),MIN(V9:X9)),0) -> 194850 | Z9: 201500 | AA9: =+ROUND(AVERAGE(Y9:Z9),0) -> 198175 | AB9: 202300 | AC9: 256500 | AE9: =+ROUND(AVERAGE(AVERAGE(AB9:AD9),MIN(AB9:AD9)),0) -> 215850 | AF9: 170300 | AG9: =+ROUND(AVERAGE(AE9:AF9),0) -> 193075 | AH9: 210100 | AI9: 256500 | AK9: =+ROUND(AVERAGE(AVERAGE(AH9:AJ9),MIN(AH9:AJ9)),0) -> 221700 | AL9: 168000 | AM9: =+ROUND(AVERAGE(AK9:AL9),0) -> 194850 | AN9: 186800 | AO9: 256500 | AQ9: =+ROUND(AVERAGE(AVERAGE(AN9:AP9),MIN(AN9:AP9)),0) -> 204225 | AS9: =+ROUND(AVERAGE(AQ9:AR9),0) -> 204225 | AT9: 214800 | AU9: 256500 | AW9: =+ROUND(AVERAGE(AVERAGE(AT9:AV9),MIN(AT9:AV9)),0) -> 225225 | AX9: 168900 | AY9: =+ROUND(AVERAGE(AW9:AX9),0) -> 197063
B10: 6 | C10: UBICACIÓN Y CORRECCIÓN DE FUGA DE GAS REFRIGERANTE Y ACEITE EN EL SISTEMA MINI SPLIT O CENTRAL, INCLUYE MANO DE OBRA DE: VACÍO, CARGA COMPLETA DE REFRIGERANTE, LIMPIEZA DE TUBERÍA DE COBRE CON NITRÓGENO, INSTALACIÓN DE FILTRO SECADOR. INSUMOS: NITRÓGENO, SOLDADURA Y DEMÁS ACTIVIDADES QUE GARANTICEN SU CORRECTO FUNCIONAMIENTO | D10: 591500 | E10: 714474 | G10: =+ROUND(AVERAGE(AVERAGE(D10:F10),MIN(D10:F10)),0) -> 622244 | H10: 604200 | I10: =+ROUND(AVERAGE(G10:H10),0) -> 613222 | J10: 788600 | K10: 714474 | M10: =+ROUND(AVERAGE(AVERAGE(J10:L10),MIN(J10:L10)),0) -> 733006 | N10: 748500 | O10: =+ROUND(AVERAGE(M10:N10),0) -> 740753 | P10: 492900 | Q10: 714474 | S10: =+ROUND(AVERAGE(AVERAGE(P10:R10),MIN(P10:R10)),0) -> 548294 | T10: 558400 | U10: =+ROUND(AVERAGE(S10:T10),0) -> 553347 | V10: 552000 | W10: 714474 | Y10: =+ROUND(AVERAGE(AVERAGE(V10:X10),MIN(V10:X10)),0) -> 592619 | Z10: 731500 | AA10: =+ROUND(AVERAGE(Y10:Z10),0) -> 662060 | AB10: 640800 | AC10: 714474 | AE10: =+ROUND(AVERAGE(AVERAGE(AB10:AD10),MIN(AB10:AD10)),0) -> 659219 | AF10: 607600 | AG10: =+ROUND(AVERAGE(AE10:AF10),0) -> 633410 | AH10: 665400 | AI10: 714474 | AK10: =+ROUND(AVERAGE(AVERAGE(AH10:AJ10),MIN(AH10:AJ10)),0) -> 677669 | AL10: 599400 | AM10: =+ROUND(AVERAGE(AK10:AL10),0) -> 638535 | AN10: 591500 | AO10: 714474 | AQ10: =+ROUND(AVERAGE(AVERAGE(AN10:AP10),MIN(AN10:AP10)),0) -> 622244 | AS10: =+ROUND(AVERAGE(AQ10:AR10),0) -> 622244 | AT10: 680200 | AU10: 714474 | AW10: =+ROUND(AVERAGE(AVERAGE(AT10:AV10),MIN(AT10:AV10)),0) -> 688769 | AX10: 606500 | AY10: =+ROUND(AVERAGE(AW10:AX10),0) -> 647635
B11: 7 | C11: DESMOTE DE ACONDICIONADOR DE AIRE TIPO CENTRAL DE 60.000 BTU | D11: 498100 | E11: 337500 | G11: =+ROUND(AVERAGE(AVERAGE(D11:F11),MIN(D11:F11)),0) -> 377650 | H11: 296100 | I11: =+ROUND(AVERAGE(G11:H11),0) -> 336875 | J11: N/A | K11: N/A | L11: N/A | M11: N/A | N11: N/A | O11: N/A | P11: N/A | Q11: N/A | R11: N/A | S11: N/A | T11: 274100 | U11: N/A | V11: N/A | W11: N/A | X11: N/A | Y11: N/A | Z11: N/A | AA11: N/A | AB11: N/A | AC11: N/A | AD11: N/A | AE11: N/A | AF11: N/A | AG11: N/A | AH11: N/A | AI11: N/A | AJ11: N/A | AK11: N/A | AL11: N/A | AM11: N/A | AN11: 498100 | AO11: 337500 | AQ11: =+ROUND(AVERAGE(AVERAGE(AN11:AP11),MIN(AN11:AP11)),0) -> 377650 | AS11: =+ROUND(AVERAGE(AQ11:AR11),0) -> 377650 | AT11: N/A | AU11: N/A | AV11: N/A | AW11: N/A | AX11: N/A | AY11: N/A
B12: 8 | C12: DESMOTE DE ACONDICIONADOR DE AIRE TIPO MINI SPLIT | D12: 233500 | E12: 229500 | G12: =+ROUND(AVERAGE(AVERAGE(D12:F12),MIN(D12:F12)),0) -> 230500 | H12: 192400 | I12: =+ROUND(AVERAGE(G12:H12),0) -> 211450 | J12: 311300 | K12: 229500 | M12: =+ROUND(AVERAGE(AVERAGE(J12:L12),MIN(J12:L12)),0) -> 249950 | N12: 230400 | O12: =+ROUND(AVERAGE(M12:N12),0) -> 240175 | P12: 194600 | Q12: 229500 | S12: =+ROUND(AVERAGE(AVERAGE(P12:R12),MIN(P12:R12)),0) -> 203325 | T12: 141500 | U12: =+ROUND(AVERAGE(S12:T12),0) -> 172413 | V12: 217900 | W12: 229500 | Y12: =+ROUND(AVERAGE(AVERAGE(V12:X12),MIN(V12:X12)),0) -> 220800 | Z12: 228900 | AA12: =+ROUND(AVERAGE(Y12:Z12),0) -> 224850 | AB12: 252900 | AC12: 229500 | AE12: =+ROUND(AVERAGE(AVERAGE(AB12:AD12),MIN(AB12:AD12)),0) -> 235350 | AF12: 192900 | AG12: =+ROUND(AVERAGE(AE12:AF12),0) -> 214125 | AH12: 262700 | AI12: 229500 | AK12: =+ROUND(AVERAGE(AVERAGE(AH12:AJ12),MIN(AH12:AJ12)),0) -> 237800 | AL12: 190400 | AM12: =+ROUND(AVERAGE(AK12:AL12),0) -> 214100 | AN12: 233500 | AO12: 229500 | AQ12: =+ROUND(AVERAGE(AVERAGE(AN12:AP12),MIN(AN12:AP12)),0) -> 230500 | AS12: =+ROUND(AVERAGE(AQ12:AR12),0) -> 230500 | AT12: 268500 | AU12: 229500 | AW12: =+ROUND(AVERAGE(AVERAGE(AT12:AV12),MIN(AT12:AV12)),0) -> 239250 | AX12: 191500 | AY12: =+ROUND(AVERAGE(AW12:AX12),0) -> 215375
B13: 9 | C13: INSTALACIÓN DE ACONDICIONADOR DE AIRE TIPO CENTRAL DE 60.000 BTU INCLUYE MANO DE OBRA DE: VACÍO, CARGA COMPLETA DE REFRIGERANTE, LIMPIEZA DE TUBERÍA DE COBRE CON NITRÓGENO, INSTALACIÓN DE FILTRO SECADOR. INSUMOS: NITRÓGENO, SOLDADURA Y DEMÁS ACTIVIDADES QUE GARANTICEN SU CORRECTO FUNCIONAMIENTO | D13: 1167400 | E13: 1485000 | G13: =+ROUND(AVERAGE(AVERAGE(D13:F13),MIN(D13:F13)),0) -> 1246800 | H13: 1234600 | I13: =+ROUND(AVERAGE(G13:H13),0) -> 1240700 | J13: N/A | K13: N/A | L13: N/A | M13: N/A | N13: N/A | O13: N/A | P13: N/A | Q13: N/A | R13: N/A | S13: N/A | T13: 1179100 | U13: N/A | V13: N/A | W13: N/A | X13: N/A | Y13: N/A | Z13: N/A | AA13: N/A | AB13: N/A | AC13: N/A | AD13: N/A | AE13: N/A | AF13: N/A | AG13: N/A | AH13: N/A | AI13: N/A | AJ13: N/A | AK13: N/A | AL13: N/A | AM13: N/A | AN13: 1167400 | AO13: 1485000 | AQ13: =+ROUND(AVERAGE(AVERAGE(AN13:AP13),MIN(AN13:AP13)),0) -> 1246800 | AS13: =+ROUND(AVERAGE(AQ13:AR13),0) -> 1246800 | AT13: N/A | AU13: N/A | AV13: N/A | AW13: N/A | AX13: N/A | AY13: N/A
B14: 10 | C14: INSTALACIÓN DE ACONDICIONADOR DE AIRE TIPO MINI SPLIT (12000-18000-24000 BTU) INCLUYE MANO DE OBRA DE: VACÍO, CARGA COMPLETA DE REFRIGERANTE, LIMPIEZA DE TUBERÍA DE COBRE CON NITRÓGENO, INSTALACIÓN DE FILTRO SECADOR. INSUMOS: NITRÓGENO, SOLDADURA Y DEMÁS ACTIVIDADES QUE GARANTICEN SU CORRECTO FUNCIONAMIENTO | D14: 529200 | E14: 538398 | G14: =+ROUND(AVERAGE(AVERAGE(D14:F14),MIN(D14:F14)),0) -> 531500 | H14: 354000 | I14: =+ROUND(AVERAGE(G14:H14),0) -> 442750 | J14: 705600 | K14: 538398 | M14: =+ROUND(AVERAGE(AVERAGE(J14:L14),MIN(J14:L14)),0) -> 580199 | N14: 416800 | O14: =+ROUND(AVERAGE(M14:N14),0) -> 498500 | P14: 441000 | Q14: 538398 | S14: =+ROUND(AVERAGE(AVERAGE(P14:R14),MIN(P14:R14)),0) -> 465350 | T14: 297000 | U14: =+ROUND(AVERAGE(S14:T14),0) -> 381175 | V14: 493900 | W14: 538398 | Y14: =+ROUND(AVERAGE(AVERAGE(V14:X14),MIN(V14:X14)),0) -> 505025 | Z14: 413900 | AA14: =+ROUND(AVERAGE(Y14:Z14),0) -> 459463 | AB14: 573300 | AC14: 538398 | AE14: =+ROUND(AVERAGE(AVERAGE(AB14:AD14),MIN(AB14:AD14)),0) -> 547124 | AF14: 354800 | AG14: =+ROUND(AVERAGE(AE14:AF14),0) -> 450962 | AH14: 595400 | AI14: 538398 | AK14: =+ROUND(AVERAGE(AVERAGE(AH14:AJ14),MIN(AH14:AJ14)),0) -> 552649 | AL14: 350100 | AM14: =+ROUND(AVERAGE(AK14:AL14),0) -> 451375 | AN14: 529200 | AO14: 538398 | AQ14: =+ROUND(AVERAGE(AVERAGE(AN14:AP14),MIN(AN14:AP14)),0) -> 531500 | AS14: =+ROUND(AVERAGE(AQ14:AR14),0) -> 531500 | AT14: 608600 | AU14: 538398 | AW14: =+ROUND(AVERAGE(AVERAGE(AT14:AV14),MIN(AT14:AV14)),0) -> 555949 | AX14: 353900 | AY14: =+ROUND(AVERAGE(AW14:AX14),0) -> 454925
B15: 11 | C15: REPARACIÓN TARJETA ELECTRÓNICA ORIGINAL DE ACONDICIONADOR DE AIRE | D15: 404700 | E15: 286324 | G15: =+ROUND(AVERAGE(AVERAGE(D15:F15),MIN(D15:F15)),0) -> 315918 | H15: 190500 | I15: =+ROUND(AVERAGE(G15:H15),0) -> 253209 | J15: 539600 | K15: 286324 | M15: =+ROUND(AVERAGE(AVERAGE(J15:L15),MIN(J15:L15)),0) -> 349643 | N15: 229900 | O15: =+ROUND(AVERAGE(M15:N15),0) -> 289772 | P15: 337200 | Q15: 286324 | S15: =+ROUND(AVERAGE(AVERAGE(P15:R15),MIN(P15:R15)),0) -> 299043 | T15: 188400 | U15: =+ROUND(AVERAGE(S15:T15),0) -> 243722 | V15: 377700 | W15: 286324 | Y15: =+ROUND(AVERAGE(AVERAGE(V15:X15),MIN(V15:X15)),0) -> 309168 | Z15: 228400 | AA15: =+ROUND(AVERAGE(Y15:Z15),0) -> 268784 | AB15: 438400 | AC15: 286324 | AE15: =+ROUND(AVERAGE(AVERAGE(AB15:AD15),MIN(AB15:AD15)),0) -> 324343 | AF15: 191300 | AG15: =+ROUND(AVERAGE(AE15:AF15),0) -> 257822 | AH15: 455300 | AI15: 286324 | AK15: =+ROUND(AVERAGE(AVERAGE(AH15:AJ15),MIN(AH15:AJ15)),0) -> 328568 | AL15: 188800 | AM15: =+ROUND(AVERAGE(AK15:AL15),0) -> 258684 | AN15: 404700 | AO15: 286324 | AQ15: =+ROUND(AVERAGE(AVERAGE(AN15:AP15),MIN(AN15:AP15)),0) -> 315918 | AS15: =+ROUND(AVERAGE(AQ15:AR15),0) -> 315918 | AT15: 465400 | AU15: 286324 | AW15: =+ROUND(AVERAGE(AVERAGE(AT15:AV15),MIN(AT15:AV15)),0) -> 331093 | AX15: 190200 | AY15: =+ROUND(AVERAGE(AW15:AX15),0) -> 260647
B16: 12 | C16: REUBICACIÓN CONDENSADORA ACONDICIONADOR DE AIRE TIPO MINI SPLIT INCLUYE MANO DE OBRA DE: VACÍO, CARGA COMPLETA DE REFRIGERANTE, LIMPIEZA DE TUBERÍA DE COBRE CON NITRÓGENO, INSTALACIÓN DE FILTRO SECADOR. INSUMOS: NITRÓGENO, SOLDADURA Y DEMÁS ACTIVIDADES QUE GARANTICEN SU CORRECTO FUNCIONAMIENTO | D16: 591500 | E16: 454049 | G16: =+ROUND(AVERAGE(AVERAGE(D16:F16),MIN(D16:F16)),0) -> 488412 | H16: 311000 | I16: =+ROUND(AVERAGE(G16:H16),0) -> 399706 | J16: 788600 | K16: 454049 | M16: =+ROUND(AVERAGE(AVERAGE(J16:L16),MIN(J16:L16)),0) -> 537687 | N16: 362400 | O16: =+ROUND(AVERAGE(M16:N16),0) -> 450044 | P16: 492900 | Q16: 454049 | S16: =+ROUND(AVERAGE(AVERAGE(P16:R16),MIN(P16:R16)),0) -> 463762 | T16: 286200 | U16: =+ROUND(AVERAGE(S16:T16),0) -> 374981 | V16: 552000 | W16: 454049 | Y16: =+ROUND(AVERAGE(AVERAGE(V16:X16),MIN(V16:X16)),0) -> 478537 | Z16: 359800 | AA16: =+ROUND(AVERAGE(Y16:Z16),0) -> 419169 | AB16: 640800 | AC16: 454049 | AE16: =+ROUND(AVERAGE(AVERAGE(AB16:AD16),MIN(AB16:AD16)),0) -> 500737 | AF16: 311900 | AG16: =+ROUND(AVERAGE(AE16:AF16),0) -> 406319 | AH16: 665400 | AI16: 454049 | AK16: =+ROUND(AVERAGE(AVERAGE(AH16:AJ16),MIN(AH16:AJ16)),0) -> 506887 | AL16: 308200 | AM16: =+ROUND(AVERAGE(AK16:AL16),0) -> 407544 | AN16: 591500 | AO16: 454049 | AQ16: =+ROUND(AVERAGE(AVERAGE(AN16:AP16),MIN(AN16:AP16)),0) -> 488412 | AS16: =+ROUND(AVERAGE(AQ16:AR16),0) -> 488412 | AT16: 680200 | AU16: 454049 | AW16: =+ROUND(AVERAGE(AVERAGE(AT16:AV16),MIN(AT16:AV16)),0) -> 510587 | AX16: 311000 | AY16: =+ROUND(AVERAGE(AW16:AX16),0) -> 410794
B17: 13 | C17: REUBICACIÓN MANEJADORA ACONDICIONADOR DE AIRE TIPO CENTRAL INCLUYE MANO DE OBRA DE: VACÍO, CARGA COMPLETA DE REFRIGERANTE, LIMPIEZA DE TUBERÍA DE COBRE CON NITRÓGENO, INSTALACIÓN DE FILTRO SECADOR. INSUMOS: NITRÓGENO, SOLDADURA Y DEMÁS ACTIVIDADES QUE GARANTICEN SU CORRECTO FUNCIONAMIENTO | D17: 965000 | E17: 742456 | G17: =+ROUND(AVERAGE(AVERAGE(D17:F17),MIN(D17:F17)),0) -> 798092 | H17: 468200 | I17: =+ROUND(AVERAGE(G17:H17),0) -> 633146 | J17: N/A | K17: N/A | L17: N/A | M17: N/A | N17: N/A | O17: N/A | P17: N/A | Q17: N/A | R17: N/A | S17: N/A | T17: 464600 | U17: N/A | V17: N/A | W17: N/A | X17: N/A | Y17: N/A | Z17: N/A | AA17: N/A | AB17: N/A | AC17: N/A | AD17: N/A | AE17: N/A | AF17: N/A | AG17: N/A | AH17: N/A | AI17: N/A | AJ17: N/A | AK17: N/A | AL17: N/A | AM17: N/A | AN17: 965000 | AO17: 742456 | AQ17: =+ROUND(AVERAGE(AVERAGE(AN17:AP17),MIN(AN17:AP17)),0) -> 798092 | AS17: =+ROUND(AVERAGE(AQ17:AR17),0) -> 798092 | AT17: N/A | AU17: N/A | AV17: N/A | AW17: N/A | AX17: N/A | AY17: N/A
B18: 14 | C18: REUBICACIÓN MANEJADORA ACONDICIONADOR DE AIRE TIPO MINI SPLIT INCLUYE MANO DE OBRA DE: VACÍO, CARGA COMPLETA DE REFRIGERANTE, LIMPIEZA DE TUBERÍA DE COBRE CON NITRÓGENO, INSTALACIÓN DE FILTRO SECADOR. INSUMOS: NITRÓGENO, SOLDADURA Y DEMÁS ACTIVIDADES QUE GARANTICEN SU CORRECTO FUNCIONAMIENTO | D18: 467000 | E18: 364827 | G18: =+ROUND(AVERAGE(AVERAGE(D18:F18),MIN(D18:F18)),0) -> 390370 | H18: 267900 | I18: =+ROUND(AVERAGE(G18:H18),0) -> 329135 | J18: 622600 | K18: 364827 | M18: =+ROUND(AVERAGE(AVERAGE(J18:L18),MIN(J18:L18)),0) -> 429270 | N18: 322400 | O18: =+ROUND(AVERAGE(M18:N18),0) -> 375835 | P18: 389100 | Q18: 364827 | S18: =+ROUND(AVERAGE(AVERAGE(P18:R18),MIN(P18:R18)),0) -> 370895 | T18: 264800 | U18: =+ROUND(AVERAGE(S18:T18),0) -> 317848 | V18: 435800 | W18: 364827 | Y18: =+ROUND(AVERAGE(AVERAGE(V18:X18),MIN(V18:X18)),0) -> 382570 | Z18: 320300 | AA18: =+ROUND(AVERAGE(Y18:Z18),0) -> 351435 | AB18: 505900 | AC18: 364827 | AE18: =+ROUND(AVERAGE(AVERAGE(AB18:AD18),MIN(AB18:AD18)),0) -> 400095 | AF18: 269700 | AG18: =+ROUND(AVERAGE(AE18:AF18),0) -> 334898 | AH18: 525300 | AI18: 364827 | AK18: =+ROUND(AVERAGE(AVERAGE(AH18:AJ18),MIN(AH18:AJ18)),0) -> 404945 | AL18: 266000 | AM18: =+ROUND(AVERAGE(AK18:AL18),0) -> 335473 | AN18: 467000 | AO18: 364827 | AQ18: =+ROUND(AVERAGE(AVERAGE(AN18:AP18),MIN(AN18:AP18)),0) -> 390370 | AS18: =+ROUND(AVERAGE(AQ18:AR18),0) -> 390370 | AT18: 537000 | AU18: 364827 | AW18: =+ROUND(AVERAGE(AVERAGE(AT18:AV18),MIN(AT18:AV18)),0) -> 407870 | AX18: 268400 | AY18: =+ROUND(AVERAGE(AW18:AX18),0) -> 338135
B19: 15 | C19: CAMBIO DE CONDENSADORA DE AIRE TIPO MINI SPLIT INCLUYE MANO DE OBRA DE: VACÍO, CARGA COMPLETA DE REFRIGERANTE, LIMPIEZA DE TUBERÍA DE COBRE CON NITRÓGENO, INSTALACIÓN DE FILTRO SECADOR. INSUMOS: NITRÓGENO, SOLDADURA Y DEMÁS ACTIVIDADES QUE GARANTICEN SU CORRECTO FUNCIONAMIENTO | D19: 622600 | E19: 341243 | G19: =+ROUND(AVERAGE(AVERAGE(D19:F19),MIN(D19:F19)),0) -> 411582 | H19: 272400 | I19: =+ROUND(AVERAGE(G19:H19),0) -> 341991 | J19: 830100 | K19: 341243 | M19: =+ROUND(AVERAGE(AVERAGE(J19:L19),MIN(J19:L19)),0) -> 463457 | N19: 323400 | O19: =+ROUND(AVERAGE(M19:N19),0) -> 393429 | P19: 518800 | Q19: 341243 | S19: =+ROUND(AVERAGE(AVERAGE(P19:R19),MIN(P19:R19)),0) -> 385632 | T19: 267700 | U19: =+ROUND(AVERAGE(S19:T19),0) -> 326666 | V19: 581100 | W19: 341243 | Y19: =+ROUND(AVERAGE(AVERAGE(V19:X19),MIN(V19:X19)),0) -> 401207 | Z19: 321200 | AA19: =+ROUND(AVERAGE(Y19:Z19),0) -> 361204 | AB19: 674500 | AC19: 341243 | AE19: =+ROUND(AVERAGE(AVERAGE(AB19:AD19),MIN(AB19:AD19)),0) -> 424557 | AF19: 273400 | AG19: =+ROUND(AVERAGE(AE19:AF19),0) -> 348979 | AH19: 700400 | AI19: 341243 | AK19: =+ROUND(AVERAGE(AVERAGE(AH19:AJ19),MIN(AH19:AJ19)),0) -> 431032 | AL19: 270000 | AM19: =+ROUND(AVERAGE(AK19:AL19),0) -> 350516 | AN19: 622600 | AO19: 341243 | AQ19: =+ROUND(AVERAGE(AVERAGE(AN19:AP19),MIN(AN19:AP19)),0) -> 411582 | AS19: =+ROUND(AVERAGE(AQ19:AR19),0) -> 411582 | AT19: 716000 | AU19: 341243 | AW19: =+ROUND(AVERAGE(AVERAGE(AT19:AV19),MIN(AT19:AV19)),0) -> 434932 | AX19: 272300 | AY19: =+ROUND(AVERAGE(AW19:AX19),0) -> 353616
B20: 16 | C20: CAMBIO DE CONDENSADORA DE AIRE TIPO CENTRAL INCLUYE MANO DE OBRA DE: VACÍO, CARGA COMPLETA DE REFRIGERANTE, LIMPIEZA DE TUBERÍA DE COBRE CON NITRÓGENO, INSTALACIÓN DE FILTRO SECADOR. INSUMOS: NITRÓGENO, SOLDADURA Y DEMÁS ACTIVIDADES QUE GARANTICEN SU CORRECTO FUNCIONAMIENTO | D20: 1120700 | E20: 787755 | G20: =+ROUND(AVERAGE(AVERAGE(D20:F20),MIN(D20:F20)),0) -> 870991 | H20: 533700 | I20: =+ROUND(AVERAGE(G20:H20),0) -> 702346 | J20: N/A | K20: N/A | L20: N/A | M20: N/A | N20: N/A | O20: N/A | P20: N/A | Q20: N/A | R20: N/A | S20: N/A | T20: 505500 | U20: N/A | V20: N/A | W20: N/A | X20: N/A | Y20: N/A | Z20: N/A | AA20: N/A | AB20: N/A | AC20: N/A | AD20: N/A | AE20: N/A | AF20: N/A | AG20: N/A | AH20: N/A | AI20: N/A | AJ20: N/A | AK20: N/A | AL20: N/A | AM20: N/A | AN20: 1120700 | AO20: 787755 | AQ20: =+ROUND(AVERAGE(AVERAGE(AN20:AP20),MIN(AN20:AP20)),0) -> 870991 | AS20: =+ROUND(AVERAGE(AQ20:AR20),0) -> 870991 | AT20: N/A | AU20: N/A | AV20: N/A | AW20: N/A | AX20: N/A | AY20: N/A
B21: 17 | C21: CAMBIO MOTOR VENTILADOR DE ACONDICIONADOR DE AIRE | D21: 233500 | E21: 283298 | G21: =+ROUND(AVERAGE(AVERAGE(D21:F21),MIN(D21:F21)),0) -> 245950 | H21: 191200 | I21: =+ROUND(AVERAGE(G21:H21),0) -> 218575 | J21: 311300 | K21: 283298 | M21: =+ROUND(AVERAGE(AVERAGE(J21:L21),MIN(J21:L21)),0) -> 290299 | N21: 230100 | O21: =+ROUND(AVERAGE(M21:N21),0) -> 260200 | P21: 194600 | Q21: 283298 | S21: =+ROUND(AVERAGE(AVERAGE(P21:R21),MIN(P21:R21)),0) -> 216775 | T21: 171900 | U21: =+ROUND(AVERAGE(S21:T21),0) -> 194338 | V21: 217900 | W21: 283298 | Y21: =+ROUND(AVERAGE(AVERAGE(V21:X21),MIN(V21:X21)),0) -> 234250 | Z21: 228600 | AA21: =+ROUND(AVERAGE(Y21:Z21),0) -> 231425 | AB21: 252900 | AC21: 283298 | AE21: =+ROUND(AVERAGE(AVERAGE(AB21:AD21),MIN(AB21:AD21)),0) -> 260500 | AF21: 192000 | AG21: =+ROUND(AVERAGE(AE21:AF21),0) -> 226250 | AH21: 262700 | AI21: 283298 | AK21: =+ROUND(AVERAGE(AVERAGE(AH21:AJ21),MIN(AH21:AJ21)),0) -> 267850 | AL21: 190200 | AM21: =+ROUND(AVERAGE(AK21:AL21),0) -> 229025 | AN21: 233500 | AO21: 283298 | AQ21: =+ROUND(AVERAGE(AVERAGE(AN21:AP21),MIN(AN21:AP21)),0) -> 245950 | AS21: =+ROUND(AVERAGE(AQ21:AR21),0) -> 245950 | AT21: 268500 | AU21: 283298 | AW21: =+ROUND(AVERAGE(AVERAGE(AT21:AV21),MIN(AT21:AV21)),0) -> 272200 | AX21: 191600 | AY21: =+ROUND(AVERAGE(AW21:AX21),0) -> 231900
B22: 18 | C22: CAMBIO TRANSFORMADOR DE ACONDICIONADOR DE AIRES | D22: 147900 | E22: 206317 | G22: =+ROUND(AVERAGE(AVERAGE(D22:F22),MIN(D22:F22)),0) -> 162504 | H22: 177000 | I22: =+ROUND(AVERAGE(G22:H22),0) -> 169752 | J22: N/A | K22: N/A | L22: N/A | M22: N/A | N22: 218300 | O22: N/A | P22: N/A | Q22: N/A | R22: N/A | S22: N/A | T22: 159800 | U22: N/A | V22: N/A | W22: N/A | X22: N/A | Y22: N/A | Z22: 211600 | AA22: N/A | AB22: N/A | AC22: N/A | AD22: N/A | AE22: N/A | AF22: 177800 | AG22: N/A | AH22: N/A | AI22: N/A | AJ22: N/A | AK22: N/A | AL22: 176000 | AM22: N/A | AN22: 147900 | AO22: 206317 | AQ22: =+ROUND(AVERAGE(AVERAGE(AN22:AP22),MIN(AN22:AP22)),0) -> 162504 | AS22: =+ROUND(AVERAGE(AQ22:AR22),0) -> 162504 | AT22: N/A | AU22: N/A | AV22: N/A | AW22: N/A | AX22: 177700 | AY22: N/A
B23: 19 | C23: CAMBIO BALINERA DE MOTOR VENTILADOR | D23: 202300 | E23: 254789 | G23: =+ROUND(AVERAGE(AVERAGE(D23:F23),MIN(D23:F23)),0) -> 215422 | H23: 188300 | I23: =+ROUND(AVERAGE(G23:H23),0) -> 201861 | J23: 269800 | K23: 254789 | M23: =+ROUND(AVERAGE(AVERAGE(J23:L23),MIN(J23:L23)),0) -> 258542 | N23: 229400 | O23: =+ROUND(AVERAGE(M23:N23),0) -> 243971 | P23: 168600 | Q23: 254789 | S23: =+ROUND(AVERAGE(AVERAGE(P23:R23),MIN(P23:R23)),0) -> 190147 | T23: 170500 | U23: =+ROUND(AVERAGE(S23:T23),0) -> 180324 | V23: 188900 | W23: 254789 | Y23: =+ROUND(AVERAGE(AVERAGE(V23:X23),MIN(V23:X23)),0) -> 205372 | Z23: 228000 | AA23: =+ROUND(AVERAGE(Y23:Z23),0) -> 216686 | AB23: 219200 | AC23: 254789 | AE23: =+ROUND(AVERAGE(AVERAGE(AB23:AD23),MIN(AB23:AD23)),0) -> 228097 | AF23: 189600 | AG23: =+ROUND(AVERAGE(AE23:AF23),0) -> 208849 | AH23: 227600 | AI23: 254789 | AK23: =+ROUND(AVERAGE(AVERAGE(AH23:AJ23),MIN(AH23:AJ23)),0) -> 234397 | AL23: 186900 | AM23: =+ROUND(AVERAGE(AK23:AL23),0) -> 210649 | AN23: 202300 | AO23: 254789 | AQ23: =+ROUND(AVERAGE(AVERAGE(AN23:AP23),MIN(AN23:AP23)),0) -> 215422 | AS23: =+ROUND(AVERAGE(AQ23:AR23),0) -> 215422 | AT23: 232700 | AU23: 254789 | AW23: =+ROUND(AVERAGE(AVERAGE(AT23:AV23),MIN(AT23:AV23)),0) -> 238222 | AX23: 189000 | AY23: =+ROUND(AVERAGE(AW23:AX23),0) -> 213611
B24: 20 | C24: CAMBIO CONTACTOR DE ACONDICIONADOR DE AIRES | D24: 132300 | E24: 229666 | G24: =+ROUND(AVERAGE(AVERAGE(D24:F24),MIN(D24:F24)),0) -> 156642 | H24: 184500 | I24: =+ROUND(AVERAGE(G24:H24),0) -> 170571 | J24: N/A | K24: N/A | L24: N/A | M24: N/A | N24: N/A | O24: N/A | P24: N/A | Q24: N/A | R24: N/A | S24: N/A | T24: 166000 | U24: N/A | V24: N/A | W24: N/A | X24: N/A | Y24: N/A | Z24: N/A | AA24: N/A | AB24: N/A | AC24: N/A | AD24: N/A | AE24: N/A | AF24: N/A | AG24: N/A | AH24: N/A | AI24: N/A | AJ24: N/A | AK24: N/A | AL24: N/A | AM24: N/A | AN24: 132300 | AO24: 229666 | AQ24: =+ROUND(AVERAGE(AVERAGE(AN24:AP24),MIN(AN24:AP24)),0) -> 156642 | AS24: =+ROUND(AVERAGE(AQ24:AR24),0) -> 156642 | AT24: N/A | AU24: N/A | AV24: N/A | AW24: N/A | AX24: N/A | AY24: N/A
B25: 21 | C25: CAMBIO FAN RELAY ACONDICIONADOR DE AIRE | D25: 132300 | E25: 195770 | G25: =+ROUND(AVERAGE(AVERAGE(D25:F25),MIN(D25:F25)),0) -> 148168 | H25: 175400 | I25: =+ROUND(AVERAGE(G25:H25),0) -> 161784 | J25: N/A | K25: N/A | L25: N/A | M25: N/A | N25: N/A | O25: N/A | P25: N/A | Q25: N/A | R25: N/A | S25: N/A | T25: 158400 | U25: N/A | V25: N/A | W25: N/A | X25: N/A | Y25: N/A | Z25: N/A | AA25: N/A | AB25: N/A | AC25: N/A | AD25: N/A | AE25: N/A | AF25: N/A | AG25: N/A | AH25: N/A | AI25: N/A | AJ25: N/A | AK25: N/A | AL25: N/A | AM25: N/A | AN25: 132300 | AO25: 195770 | AQ25: =+ROUND(AVERAGE(AVERAGE(AN25:AP25),MIN(AN25:AP25)),0) -> 148168 | AS25: =+ROUND(AVERAGE(AQ25:AR25),0) -> 148168 | AT25: N/A | AU25: N/A | AV25: N/A | AW25: N/A | AX25: N/A | AY25: N/A
B26: 22 | C26: CAMBIO PRESOSTATO DE ACONDICIONADOR DE AIRE | D26: 171200 | E26: 199350 | G26: =+ROUND(AVERAGE(AVERAGE(D26:F26),MIN(D26:F26)),0) -> 178238 | H26: 177600 | I26: =+ROUND(AVERAGE(G26:H26),0) -> 177919 | J26: N/A | K26: N/A | L26: N/A | M26: N/A | N26: N/A | O26: N/A | P26: N/A | Q26: N/A | R26: N/A | S26: N/A | T26: 159000 | U26: N/A | V26: N/A | W26: N/A | X26: N/A | Y26: N/A | Z26: N/A | AA26: N/A | AB26: N/A | AC26: N/A | AD26: N/A | AE26: N/A | AF26: N/A | AG26: N/A | AH26: N/A | AI26: N/A | AJ26: N/A | AK26: N/A | AL26: N/A | AM26: N/A | AN26: 171200 | AO26: 199350 | AQ26: =+ROUND(AVERAGE(AVERAGE(AN26:AP26),MIN(AN26:AP26)),0) -> 178238 | AS26: =+ROUND(AVERAGE(AQ26:AR26),0) -> 178238 | AT26: N/A | AU26: N/A | AV26: N/A | AW26: N/A | AX26: N/A | AY26: N/A
B27: 23 | C27: CAMBIO TEMPORIZADOR DE ACONDICIONADOR DE AIRE | D27: 147900 | E27: 200816 | G27: =+ROUND(AVERAGE(AVERAGE(D27:F27),MIN(D27:F27)),0) -> 161129 | H27: 174800 | I27: =+ROUND(AVERAGE(G27:H27),0) -> 167965 | J27: N/A | K27: N/A | L27: N/A | M27: N/A | N27: N/A | O27: N/A | P27: N/A | Q27: N/A | R27: N/A | S27: N/A | T27: 157400 | U27: N/A | V27: N/A | W27: N/A | X27: N/A | Y27: N/A | Z27: N/A | AA27: N/A | AB27: N/A | AC27: N/A | AD27: N/A | AE27: N/A | AF27: N/A | AG27: N/A | AH27: N/A | AI27: N/A | AJ27: N/A | AK27: N/A | AL27: N/A | AM27: N/A | AN27: 147900 | AO27: 200816 | AQ27: =+ROUND(AVERAGE(AVERAGE(AN27:AP27),MIN(AN27:AP27)),0) -> 161129 | AS27: =+ROUND(AVERAGE(AQ27:AR27),0) -> 161129 | AT27: N/A | AU27: N/A | AV27: N/A | AW27: N/A | AX27: N/A | AY27: N/A
B28: 24 | C28: SUMINISTRO E INSTALACIÓN A TODO COSTO DE DUCTERIA EN LAMINA DE PORÓN (METRO CUADRADO). INCLUYE MATERIALES NECESARIOS: LÁMINA DE PORÓN, CINTA FOIL, ENTRE OTROS. | D28: 295700 | E28: 320000 | G28: =+ROUND(AVERAGE(AVERAGE(D28:F28),MIN(D28:F28)),0) -> 301775 | H28: 134200 | I28: =+ROUND(AVERAGE(G28:H28),0) -> 217988 | J28: N/A | K28: N/A | L28: N/A | M28: N/A | N28: N/A | O28: N/A | P28: N/A | Q28: N/A | R28: N/A | S28: N/A | T28: 132800 | U28: N/A | V28: N/A | W28: N/A | X28: N/A | Y28: N/A | Z28: N/A | AA28: N/A | AB28: N/A | AC28: N/A | AD28: N/A | AE28: N/A | AF28: N/A | AG28: N/A | AH28: N/A | AI28: N/A | AJ28: N/A | AK28: N/A | AL28: N/A | AM28: N/A | AN28: 295700 | AO28: 320000 | AQ28: =+ROUND(AVERAGE(AVERAGE(AN28:AP28),MIN(AN28:AP28)),0) -> 301775 | AS28: =+ROUND(AVERAGE(AQ28:AR28),0) -> 301775 | AT28: N/A | AU28: N/A | AV28: N/A | AW28: N/A | AX28: N/A | AY28: N/A
B29: 25 | C29: SUMINISTRO E INSTALACIÓN A TODO COSTO DE DUCTERIA EN FIBRA DE VIDRIO (METRO CUADRADO). INCLUYE MATERIALES NECESARIOS: LÁMINAS, CINTA, ENTRE OTROS. | D29: 256800 | E29: 430000 | G29: =+ROUND(AVERAGE(AVERAGE(D29:F29),MIN(D29:F29)),0) -> 300100 | H29: 199900 | I29: =+ROUND(AVERAGE(G29:H29),0) -> 250000 | J29: N/A | K29: N/A | L29: N/A | M29: N/A | N29: N/A | O29: N/A | P29: N/A | Q29: N/A | R29: N/A | S29: N/A | T29: 199900 | U29: N/A | V29: N/A | W29: N/A | X29: N/A | Y29: N/A | Z29: N/A | AA29: N/A | AB29: N/A | AC29: N/A | AD29: N/A | AE29: N/A | AF29: N/A | AG29: N/A | AH29: N/A | AI29: N/A | AJ29: N/A | AK29: N/A | AL29: N/A | AM29: N/A | AN29: 256800 | AO29: 430000 | AQ29: =+ROUND(AVERAGE(AVERAGE(AN29:AP29),MIN(AN29:AP29)),0) -> 300100 | AS29: =+ROUND(AVERAGE(AQ29:AR29),0) -> 300100 | AT29: N/A | AU29: N/A | AV29: N/A | AW29: N/A | AX29: N/A | AY29: N/A
B30: 26 | C30: SUMINISTRO E INSTALACIÓN A TODO COSTO DE DUCTERIA GALVANIZADA (METRO CUADRADO). INCLUYE MATERIALES NECESARIOS: LÁMINAS, CINTA, ENTRE OTROS. | D30: 435800 | E30: 730000 | G30: =+ROUND(AVERAGE(AVERAGE(D30:F30),MIN(D30:F30)),0) -> 509350 | H30: 232800 | I30: =+ROUND(AVERAGE(G30:H30),0) -> 371075 | J30: N/A | K30: N/A | L30: N/A | M30: N/A | N30: N/A | O30: N/A | P30: N/A | Q30: N/A | R30: N/A | S30: N/A | T30: 230800 | U30: N/A | V30: N/A | W30: N/A | X30: N/A | Y30: N/A | Z30: N/A | AA30: N/A | AB30: N/A | AC30: N/A | AD30: N/A | AE30: N/A | AF30: N/A | AG30: N/A | AH30: N/A | AI30: N/A | AJ30: N/A | AK30: N/A | AL30: N/A | AM30: N/A | AN30: 435800 | AO30: 730000 | AQ30: =+ROUND(AVERAGE(AVERAGE(AN30:AP30),MIN(AN30:AP30)),0) -> 509350 | AS30: =+ROUND(AVERAGE(AQ30:AR30),0) -> 509350 | AT30: N/A | AU30: N/A | AV30: N/A | AW30: N/A | AX30: N/A | AY30: N/A
B31: 27 | C31: CAMBIO DE TERMOSTATO | D31: 147900 | E31: 250000 | G31: =+ROUND(AVERAGE(AVERAGE(D31:F31),MIN(D31:F31)),0) -> 173425 | I31: =+ROUND(AVERAGE(G31:H31),0) -> 173425 | J31: N/A | K31: N/A | L31: N/A | M31: N/A | N31: N/A | O31: N/A | P31: N/A | Q31: N/A | R31: N/A | S31: N/A | T31: N/A | U31: N/A | V31: N/A | W31: N/A | X31: N/A | Y31: N/A | Z31: N/A | AA31: N/A | AB31: N/A | AC31: N/A | AD31: N/A | AE31: N/A | AF31: N/A | AG31: N/A | AH31: N/A | AI31: N/A | AJ31: N/A | AK31: N/A | AL31: N/A | AM31: N/A | AN31: 147900 | AO31: 250000 | AQ31: =+ROUND(AVERAGE(AVERAGE(AN31:AP31),MIN(AN31:AP31)),0) -> 173425 | AS31: =+ROUND(AVERAGE(AQ31:AR31),0) -> 173425 | AT31: N/A | AU31: N/A | AV31: N/A | AW31: N/A | AX31: N/A | AY31: N/A
C32: TOTAL | D32: =SUM(D5:D31) -> 11829600 | E32: =SUM(E5:E31) -> 12365076 | F32: =SUM(F5:F31) -> 0 | G32: =SUM(G5:G31) -> 11283748 | H32: =SUM(H5:H31) -> 8829700 | I32: =SUM(I5:I31) -> 10143439 | J32: =SUM(J5:J31) -> 6661700 | K32: =SUM(K5:K31) -> 4967946 | ... AY32: =SUM(AY5:AY31) -> 4381232
C34: TOTAL | D34: =+D32+J32+P32+V32+AB32+AH32+AN32+AT32 -> 55927100 | E34: =+E32+K32+Q32+W32+AC32+AI32+AO32+AU32 -> 54537828 | F34: =+F32+L32+R32+X32+AD32+AJ32+AP32+AV32 -> 0 | G34: =+G32+M32+S32+Y32+AE32+AK32+AQ32+AW32 -> 51484502 | H34: =+H32+N32+T32+Z32+AF32+AL32+AR32+AX32 -> 38272200 | I34: =+I32+O32+U32+AA32+AG32+AM32+AS32+AY32 -> 47696609

Sheet REPUESTOS GUA
B2: SECCIONAL LA GUAJIRA
B3: REPUESTOS CORRECTIVOS | E3: COTIZACION 1 | F3: COTIZACION 2 | G3: COTIZACION 3 | I3: VALOR COTIZACIÓN HÁBIL MÁS BAJA | J3: PROMEDIO | K3: MEDIA ARITMETICA BAJA | M3: ANALISIS DE COTIZACIONES | N3: COSTOS HISTORICOS DE CONTRATACIÓN | P3: VALOR COTIZACIÓN HÁBIL MÁS BAJA | Q3: PROMEDIO | R3: MEDIA ARITMETICA BAJA | T3: VALORES SELECCIONADOS ESTUDIO
B4: ÍTEM | C4: DESCRIPCIÓN | D4: UNIDAD DE MEDIDA | E4: VALOR REPUESTO INCLUIDO IVA | F4: VALOR REPUESTO INCLUIDO IVA | G4: VALOR REPUESTO INCLUIDO IVA | I4: VALOR REPUESTO INCLUIDO IVA | J4: VALOR REPUESTO INCLUIDO IVA | K4: VALOR REPUESTO INCLUIDO IVA | M4: VALOR REPUESTO INCLUIDO IVA | N4: VALOR REPUESTO INCLUIDO IVA | P4: VALOR REPUESTO INCLUIDO IVA | Q4: VALOR REPUESTO INCLUIDO IVA | R4: VALOR REPUESTO INCLUIDO IVA | T4: VALOR REPUESTO INCLUIDO IVA
B5: 1 | C5: CAPACITOR DE MARCHA 5 MFD 440V | D5: UND | E5: 40000 | F5: 37474 | I5: =+MIN(E5:G5) -> 37474 | J5: =+ROUND(AVERAGE(E5:G5),0) -> 38737 | K5: =+ROUND(AVERAGE(I5:J5),0) -> 38106 | M5: =+K5 -> 38106 | N5: 20400 | P5: =+MIN(M5:N5) -> 20400 | Q5: =+ROUND(AVERAGE(M5:N5),0) -> 29253 | R5: =+ROUND(AVERAGE(P5:Q5),0) -> 24827 | T5: =+Q5 -> 29253
B6: 2 | C6: CAPACITOR DE MARCHA 10 MFD 440V | D6: UND | E6: 45700 | F6: 36021 | I6: =+MIN(E6:G6) -> 36021 | J6: =+ROUND(AVERAGE(E6:G6),0) -> 40861 | K6: =+ROUND(AVERAGE(I6:J6),0) -> 38441 | M6: =+K6 -> 38441 | N6: 22200 | P6: =+MIN(M6:N6) -> 22200 | Q6: =+ROUND(AVERAGE(M6:N6),0) -> 30321 | R6: =+ROUND(AVERAGE(P6:Q6),0) -> 26261 | T6: =+Q6 -> 30321
B7: 3 | C7: CAPACITOR DE MARCHA 15 MFD 440V | D7: UND | E7: 54200 | F7: 37017 | I7: =+MIN(E7:G7) -> 37017 | J7: =+ROUND(AVERAGE(E7:G7),0) -> 45609 | K7: =+ROUND(AVERAGE(I7:J7),0) -> 41313 | M7: =+K7 -> 41313 | N7: 22800 | P7: =+MIN(M7:N7) -> 22800 | Q7: =+ROUND(AVERAGE(M7:N7),0) -> 32057 | R7: =+ROUND(AVERAGE(P7:Q7),0) -> 27429 | T7: =+Q7 -> 32057
B8: 4 | C8: CAPACITOR DE MARCHA 30 MFD 370V | D8: UND | E8: 59900 | F8: 72030 | I8: =+MIN(E8:G8) -> 59900 | J8: =+ROUND(AVERAGE(E8:G8),0) -> 65965 | K8: =+ROUND(AVERAGE(I8:J8),0) -> 62933 | M8: =+K8 -> 62933 | N8: 44100 | P8: =+MIN(M8:N8) -> 44100 | Q8: =+ROUND(AVERAGE(M8:N8),0) -> 53517 | R8: =+ROUND(AVERAGE(P8:Q8),0) -> 48809 | T8: =+Q8 -> 53517
B9: 5 | C9: CAPACITOR DE MARCHA 35 MFD 440V | D9: UND | E9: 62800 | F9: 74014 | I9: =+MIN(E9:G9) -> 62800 | J9: =+ROUND(AVERAGE(E9:G9),0) -> 68407 | K9: =+ROUND(AVERAGE(I9:J9),0) -> 65604 | M9: =+K9 -> 65604 | N9: 45400 | P9: =+MIN(M9:N9) -> 45400 | Q9: =+ROUND(AVERAGE(M9:N9),0) -> 55502 | R9: =+ROUND(AVERAGE(P9:Q9),0) -> 50451 | T9: =+Q9 -> 55502
B10: 6 | C10: CAPACITOR DE MARCHA 40 MFD 440V | D10: UND | E10: 68500 | F10: 75693 | I10: =+MIN(E10:G10) -> 68500 | J10: =+ROUND(AVERAGE(E10:G10),0) -> 72097 | K10: =+ROUND(AVERAGE(I10:J10),0) -> 70299 | M10: =+K10 -> 70299 | N10: 46400 | P10: =+MIN(M10:N10) -> 46400 | Q10: =+ROUND(AVERAGE(M10:N10),0) -> 58350 | R10: =+ROUND(AVERAGE(P10:Q10),0) -> 52375 | T10: =+Q10 -> 58350
B11: 7 | C11: CAPACITOR DE MARCHA 45 MFD 440V | D11: UND | E11: 71300 | F11: 77178 | I11: =+MIN(E11:G11) -> 71300 | J11: =+ROUND(AVERAGE(E11:G11),0) -> 74239 | K11: =+ROUND(AVERAGE(I11:J11),0) -> 72770 | M11: =+K11 -> 72770 | N11: 47100 | P11: =+MIN(M11:N11) -> 47100 | Q11: =+ROUND(AVERAGE(M11:N11),0) -> 59935 | R11: =+ROUND(AVERAGE(P11:Q11),0) -> 53518 | T11: =+Q11 -> 59935
B12: 8 | C12: CAPACITOR DE MARCHA 45+5 MFD 440V | D12: UND | E12: 79900 | F12: 80741 | I12: =+MIN(E12:G12) -> 79900 | J12: =+ROUND(AVERAGE(E12:G12),0) -> 80321 | K12: =+ROUND(AVERAGE(I12:J12),0) -> 80111 | M12: =+K12 -> 80111 | N12: 48900 | P12: =+MIN(M12:N12) -> 48900 | Q12: =+ROUND(AVERAGE(M12:N12),0) -> 64506 | R12: =+ROUND(AVERAGE(P12:Q12),0) -> 56703 | T12: =+Q12 -> 64506
B13: 9 | C13: CAPACITOR DE MARCHA 5 MFD 370V | D13: UND | E13: 40000 | F13: 35913 | I13: =+MIN(E13:G13) -> 35913 | J13: =+ROUND(AVERAGE(E13:G13),0) -> 37957 | K13: =+ROUND(AVERAGE(I13:J13),0) -> 36935 | M13: =+K13 -> 36935 | P13: =+MIN(M13:N13) -> 36935 | Q13: =+ROUND(AVERAGE(M13:N13),0) -> 36935 | R13: =+ROUND(AVERAGE(P13:Q13),0) -> 36935 | T13: =+Q13 -> 36935
B14: 10 | C14: CAPACITOR DE MARCHA 50 MFD 440V | D14: UND | E14: 77000 | F14: 89532 | I14: =+MIN(E14:G14) -> 77000 | J14: =+ROUND(AVERAGE(E14:G14),0) -> 83266 | K14: =+ROUND(AVERAGE(I14:J14),0) -> 80133 | M14: =+K14 -> 80133 | N14: 55100 | P14: =+MIN(M14:N14) -> 55100 | Q14: =+ROUND(AVERAGE(M14:N14),0) -> 67617 | R14: =+ROUND(AVERAGE(P14:Q14),0) -> 61359 | T14: =+Q14 -> 67617
B15: 11 | C15: CAPACITOR DE MARCHA 55 MFD 440V | D15: UND | E15: 82800 | F15: 91080 | I15: =+MIN(E15:G15) -> 82800 | J15: =+ROUND(AVERAGE(E15:G15),0) -> 86940 | K15: =+ROUND(AVERAGE(I15:J15),0) -> 84870 | M15: =+K15 -> 84870 | N15: 56100 | P15: =+MIN(M15:N15) -> 56100 | Q15: =+ROUND(AVERAGE(M15:N15),0) -> 70485 | R15: =+ROUND(AVERAGE(P15:Q15),0) -> 63293 | T15: =+Q15 -> 70485
B16: 12 | C16: CAPACITOR DE MARCHA 60 MFD (+5-5) 440V | D16: UND | E16: 88500 | F16: 92587 | I16: =+MIN(E16:G16) -> 88500 | J16: =+ROUND(AVERAGE(E16:G16),0) -> 90544 | K16: =+ROUND(AVERAGE(I16:J16),0) -> 89522 | M16: =+K16 -> 89522 | N16: 56900 | P16: =+MIN(M16:N16) -> 56900 | Q16: =+ROUND(AVERAGE(M16:N16),0) -> 73211 | R16: =+ROUND(AVERAGE(P16:Q16),0) -> 65056 | T16: =+Q16 -> 73211
B17: 13 | C17: CAPACITOR DE MARCHA 7.5 MFD 370V | D17: UND | E17: 42800 | F17: 75069 | I17: =+MIN(E17:G17) -> 42800 | J17: =+ROUND(AVERAGE(E17:G17),0) -> 58935 | K17: =+ROUND(AVERAGE(I17:J17),0) -> 50868 | M17: =+K17 -> 50868 | N17: 25700 | P17: =+MIN(M17:N17) -> 25700 | Q17: =+ROUND(AVERAGE(M17:N17),0) -> 38284 | R17: =+ROUND(AVERAGE(P17:Q17),0) -> 31992 | T17: =+Q17 -> 38284
B18: 14 | C18: CAPACITOR DE MARCHA 70 MFD 440V | D18: UND | E18: 97000 | F18: 95755 | I18: =+MIN(E18:G18) -> 95755 | J18: =+ROUND(AVERAGE(E18:G18),0) -> 96378 | K18: =+ROUND(AVERAGE(I18:J18),0) -> 96067 | M18: =+K18 -> 96067 | N18: 58300 | P18: =+MIN(M18:N18) -> 58300 | Q18: =+ROUND(AVERAGE(M18:N18),0) -> 77184 | R18: =+ROUND(AVERAGE(P18:Q18),0) -> 67742 | T18: =+Q18 -> 77184
B19: 15 | C19: CAPACITOR DUAL 25+5 MFD 440V | D19: UND | E19: 65600 | F19: 76825 | I19: =+MIN(E19:G19) -> 65600 | J19: =+ROUND(AVERAGE(E19:G19),0) -> 71213 | K19: =+ROUND(AVERAGE(I19:J19),0) -> 68407 | M19: =+K19 -> 68407 | N19: 51000 | P19: =+MIN(M19:N19) -> 51000 | Q19: =+ROUND(AVERAGE(M19:N19),0) -> 59704 | R19: =+ROUND(AVERAGE(P19:Q19),0) -> 55352 | T19: =+Q19 -> 59704
B20: 16 | C20: CAPACITOR DUAL 35+5 MFD 440V | D20: UND | E20: 74200 | F20: 80000 | I20: =+MIN(E20:G20) -> 74200 | J20: =+ROUND(AVERAGE(E20:G20),0) -> 77100 | K20: =+ROUND(AVERAGE(I20:J20),0) -> 75650 | M20: =+K20 -> 75650 | N20: 51600 | P20: =+MIN(M20:N20) -> 51600 | Q20: =+ROUND(AVERAGE(M20:N20),0) -> 63625 | R20: =+ROUND(AVERAGE(P20:Q20),0) -> 57613 | T20: =+Q20 -> 63625
B21: 17 | C21: CAPACITOR DE 80 MFD 440V | D21: UND | E21: 105600 | F21: 90000 | I21: =+MIN(E21:G21) -> 90000 | J21: =+ROUND(AVERAGE(E21:G21),0) -> 97800 | K21: =+ROUND(AVERAGE(I21:J21),0) -> 93900 | M21: =+K21 -> 93900 | N21: 56900 | P21: =+MIN(M21:N21) -> 56900 | Q21: =+ROUND(AVERAGE(M21:N21),0) -> 75400 | R21: =+ROUND(AVERAGE(P21:Q21),0) -> 66150 | T21: =+Q21 -> 75400
B22: 18 | C22: TRANSFORMADOR 40 VA 110-220V SALIDA 24V | D22: UND | E22: 111300 | F22: 150000 | I22: =+MIN(E22:G22) -> 111300 | J22: =+ROUND(AVERAGE(E22:G22),0) -> 130650 | K22: =+ROUND(AVERAGE(I22:J22),0) -> 120975 | M22: =+K22 -> 120975 | N22: 89100 | P22: =+MIN(M22:N22) -> 89100 | Q22: =+ROUND(AVERAGE(M22:N22),0) -> 105038 | R22: =+ROUND(AVERAGE(P22:Q22),0) -> 97069 | T22: =+Q22 -> 105038
B23: 19 | C23: CONTACTOR 2P X 30 AMP 110V | D23: UND | E23: 111300 | F23: 159239 | I23: =+MIN(E23:G23) -> 111300 | J23: =+ROUND(AVERAGE(E23:G23),0) -> 135270 | K23: =+ROUND(AVERAGE(I23:J23),0) -> 123285 | M23: =+K23 -> 123285 | P23: =+MIN(M23:N23) -> 123285 | Q23: =+ROUND(AVERAGE(M23:N23),0) -> 123285 | R23: =+ROUND(AVERAGE(P23:Q23),0) -> 123285 | T23: =+Q23 -> 123285
B24: 20 | C24: CONTACTOR 2P X 30 AMP 24V | D24: UND | E24: 111300 | F24: 153353 | I24: =+MIN(E24:G24) -> 111300 | J24: =+ROUND(AVERAGE(E24:G24),0) -> 132327 | K24: =+ROUND(AVERAGE(I24:J24),0) -> 121814 | M24: =+K24 -> 121814 | P24: =+MIN(M24:N24) -> 121814 | Q24: =+ROUND(AVERAGE(M24:N24),0) -> 121814 | R24: =+ROUND(AVERAGE(P24:Q24),0) -> 121814 | T24: =+Q24 -> 121814
B25: 21 | C25: CONTACTOR 2P X 40 AMP 220V | D25: UND | E25: 125600 | F25: 174136 | I25: =+MIN(E25:G25) -> 125600 | J25: =+ROUND(AVERAGE(E25:G25),0) -> 149868 | K25: =+ROUND(AVERAGE(I25:J25),0) -> 137734 | M25: =+K25 -> 137734 | N25: 148100 | P25: =+MIN(M25:N25) -> 137734 | Q25: =+ROUND(AVERAGE(M25:N25),0) -> 142917 | R25: =+ROUND(AVERAGE(P25:Q25),0) -> 140326 | T25: =+Q25 -> 142917
B26: 22 | C26: CONTACTOR 2P X 40 AMP 24V | D26: UND | E26: 125600 | F26: 174194 | I26: =+MIN(E26:G26) -> 125600 | J26: =+ROUND(AVERAGE(E26:G26),0) -> 149897 | K26: =+ROUND(AVERAGE(I26:J26),0) -> 137749 | M26: =+K26 -> 137749 | N26: 148100 | P26: =+MIN(M26:N26) -> 137749 | Q26: =+ROUND(AVERAGE(M26:N26),0) -> 142925 | R26: =+ROUND(AVERAGE(P26:Q26),0) -> 140337 | T26: =+Q26 -> 142925
B27: 23 | C27: CONTACTOR 3P X 30 AMP 24V | D27: UND | E27: 135500 | F27: 178497 | I27: =+MIN(E27:G27) -> 135500 | J27: =+ROUND(AVERAGE(E27:G27),0) -> 156999 | K27: =+ROUND(AVERAGE(I27:J27),0) -> 146250 | M27: =+K27 -> 146250 | P27: =+MIN(M27:N27) -> 146250 | Q27: =+ROUND(AVERAGE(M27:N27),0) -> 146250 | R27: =+ROUND(AVERAGE(P27:Q27),0) -> 146250 | T27: =+Q27 -> 146250
B28: 24 | C28: CONTACTOR DE 3X40 AMP 220 V | D28: UND | E28: 149800 | F28: 191333 | I28: =+MIN(E28:G28) -> 149800 | J28: =+ROUND(AVERAGE(E28:G28),0) -> 170567 | K28: =+ROUND(AVERAGE(I28:J28),0) -> 160184 | M28: =+K28 -> 160184 | P28: =+MIN(M28:N28) -> 160184 | Q28: =+ROUND(AVERAGE(M28:N28),0) -> 160184 | R28: =+ROUND(AVERAGE(P28:Q28),0) -> 160184 | T28: =+Q28 -> 160184
B29: 25 | C29: CONTACTOR 3P X 40 AMP 110V | D29: UND | E29: 149800 | F29: 184548 | I29: =+MIN(E29:G29) -> 149800 | J29: =+ROUND(AVERAGE(E29:G29),0) -> 167174 | K29: =+ROUND(AVERAGE(I29:J29),0) -> 158487 | M29: =+K29 -> 158487 | P29: =+MIN(M29:N29) -> 158487 | Q29: =+ROUND(AVERAGE(M29:N29),0) -> 158487 | R29: =+ROUND(AVERAGE(P29:Q29),0) -> 158487 | T29: =+Q29 -> 158487
B30: 26 | C30: CONTACTOR 3P X 40 AMP 24V | D30: UND | E30: 149800 | F30: 184273 | I30: =+MIN(E30:G30) -> 149800 | J30: =+ROUND(AVERAGE(E30:G30),0) -> 167037 | K30: =+ROUND(AVERAGE(I30:J30),0) -> 158419 | M30: =+K30 -> 158419 | P30: =+MIN(M30:N30) -> 158419 | Q30: =+ROUND(AVERAGE(M30:N30),0) -> 158419 | R30: =+ROUND(AVERAGE(P30:Q30),0) -> 158419 | T30: =+Q30 -> 158419
B31: 27 | C31: CONTACTOR 3P X 50 AMP 24V | D31: UND | E31: 178400 | F31: 210053 | I31: =+MIN(E31:G31) -> 178400 | J31: =+ROUND(AVERAGE(E31:G31),0) -> 194227 | K31: =+ROUND(AVERAGE(I31:J31),0) -> 186314 | M31: =+K31 -> 186314 | P31: =+MIN(M31:N31) -> 186314 | Q31: =+ROUND(AVERAGE(M31:N31),0) -> 186314 | R31: =+ROUND(AVERAGE(P31:Q31),0) -> 186314 | T31: =+Q31 -> 186314
B32: 28 | C32: CONTACTOR 3P X 60 AMP 120V | D32: UND | E32: 206900 | F32: 221310 | I32: =+MIN(E32:G32) -> 206900 | J32: =+ROUND(AVERAGE(E32:G32),0) -> 214105 | K32: =+ROUND(AVERAGE(I32:J32),0) -> 210503 | M32: =+K32 -> 210503 | P32: =+MIN(M32:N32) -> 210503 | Q32: =+ROUND(AVERAGE(M32:N32),0) -> 210503 | R32: =+ROUND(AVERAGE(P32:Q32),0) -> 210503 | T32: =+Q32 -> 210503
B33: 29 | C33: CONTACTOR 3P X 60 AMP 24V | D33: UND | E33: 206900 | F33: 259388 | I33: =+MIN(E33:G33) -> 206900 | J33: =+ROUND(AVERAGE(E33:G33),0) -> 233144 | K33: =+ROUND(AVERAGE(I33:J33),0) -> 220022 | M33: =+K33 -> 220022 | P33: =+MIN(M33:N33) -> 220022 | Q33: =+ROUND(AVERAGE(M33:N33),0) -> 220022 | R33: =+ROUND(AVERAGE(P33:Q33),0) -> 220022 | T33: =+Q33 -> 220022
B34: 30 | C34: FILTRO SECADOR SOLDABLE 7/8" | D34: UND | E34: 125600 | F34: 201828 | I34: =+MIN(E34:G34) -> 125600 | J34: =+ROUND(AVERAGE(E34:G34),0) -> 163714 | K34: =+ROUND(AVERAGE(I34:J34),0) -> 144657 | M34: =+K34 -> 144657 | N34: 109900 | P34: =+MIN(M34:N34) -> 109900 | Q34: =+ROUND(AVERAGE(M34:N34),0) -> 127279 | R34: =+ROUND(AVERAGE(P34:Q34),0) -> 118590 | T34: =+Q34 -> 127279
B35: 31 | C35: FILTRO SECADOR SOLDABLE 1/2" | D35: UND | E35: 74200 | F35: 138881 | I35: =+MIN(E35:G35) -> 74200 | J35: =+ROUND(AVERAGE(E35:G35),0) -> 106541 | K35: =+ROUND(AVERAGE(I35:J35),0) -> 90371 | M35: =+K35 -> 90371 | N35: 86800 | P35: =+MIN(M35:N35) -> 86800 | Q35: =+ROUND(AVERAGE(M35:N35),0) -> 88586 | R35: =+ROUND(AVERAGE(P35:Q35),0) -> 87693 | T35: =+Q35 -> 88586
B36: 32 | C36: FILTRO SECADOR ROSCABLE 1/2" | D36: UND | E36: 82800 | F36: 147623 | I36: =+MIN(E36:G36) -> 82800 | J36: =+ROUND(AVERAGE(E36:G36),0) -> 115212 | K36: =+ROUND(AVERAGE(I36:J36),0) -> 99006 | M36: =+K36 -> 99006 | N36: 87100 | P36: =+MIN(M36:N36) -> 87100 | Q36: =+ROUND(AVERAGE(M36:N36),0) -> 93053 | R36: =+ROUND(AVERAGE(P36:Q36),0) -> 90077 | T36: =+Q36 -> 93053
B37: 33 | C37: FILTRO SECADOR SOLDABLE 3/8" | D37: UND | E37: 64200 | F37: 135416 | I37: =+MIN(E37:G37) -> 64200 | J37: =+ROUND(AVERAGE(E37:G37),0) -> 99808 | K37: =+ROUND(AVERAGE(I37:J37),0) -> 82004 | M37: =+K37 -> 82004 | N37: 81600 | P37: =+MIN(M37:N37) -> 81600 | Q37: =+ROUND(AVERAGE(M37:N37),0) -> 81802 | R37: =+ROUND(AVERAGE(P37:Q37),0) -> 81701 | T37: =+Q37 -> 81802
B38: 34 | C38: FILTRO SECADOR SOLDABLE 5/8" | D38: UND | E38: 88500 | F38: 145572 | I38: =+MIN(E38:G38) -> 88500 | J38: =+ROUND(AVERAGE(E38:G38),0) -> 117036 | K38: =+ROUND(AVERAGE(I38:J38),0) -> 102768 | M38: =+K38 -> 102768 | N38: 88300 | P38: =+MIN(M38:N38) -> 88300 | Q38: =+ROUND(AVERAGE(M38:N38),0) -> 95534 | R38: =+ROUND(AVERAGE(P38:Q38),0) -> 91917 | T38: =+Q38 -> 95534
B39: 35 | C39: FILTRO SECADOR 1-1/8" | D39: UND | E39: 178400 | F39: 210507 | I39: =+MIN(E39:G39) -> 178400 | J39: =+ROUND(AVERAGE(E39:G39),0) -> 194454 | K39: =+ROUND(AVERAGE(I39:J39),0) -> 186427 | M39: =+K39 -> 186427 | P39: =+MIN(M39:N39) -> 186427 | Q39: =+ROUND(AVERAGE(M39:N39),0) -> 186427 | R39: =+ROUND(AVERAGE(P39:Q39),0) -> 186427 | T39: =+Q39 -> 186427
B40: 36 | C40: FILTRO SECADOR 1-3/8" | D40: UND | E40: 235400 | F40: 213045 | I40: =+MIN(E40:G40) -> 213045 | J40: =+ROUND(AVERAGE(E40:G40),0) -> 224223 | K40: =+ROUND(AVERAGE(I40:J40),0) -> 218634 | M40: =+K40 -> 218634 | P40: =+MIN(M40:N40) -> 218634 | Q40: =+ROUND(AVERAGE(M40:N40),0) -> 218634 | R40: =+ROUND(AVERAGE(P40:Q40),0) -> 218634 | T40: =+Q40 -> 218634
B41: 37 | C41: MANGUERA RUBATEX 1 1/8" X 1/2" | D41: UND | E41: 45700 | F41: 38008 | I41: =+MIN(E41:G41) -> 38008 | J41: =+ROUND(AVERAGE(E41:G41),0) -> 41854 | K41: =+ROUND(AVERAGE(I41:J41),0) -> 39931 | M41: =+K41 -> 39931 | N41: 23100 | P41: =+MIN(M41:N41) -> 23100 | Q41: =+ROUND(AVERAGE(M41:N41),0) -> 31516 | R41: =+ROUND(AVERAGE(P41:Q41),0) -> 27308 | T41: =+Q41 -> 31516
B42: 38 | C42: MANGUERA RUBATEX 1 3/8" X 1/2" | D42: UND | E42: 54200 | F42: 39029 | I42: =+MIN(E42:G42) -> 39029 | J42: =+ROUND(AVERAGE(E42:G42),0) -> 46615 | K42: =+ROUND(AVERAGE(I42:J42),0) -> 42822 | M42: =+K42 -> 42822 | N42: 23500 | P42: =+MIN(M42:N42) -> 23500 | Q42: =+ROUND(AVERAGE(M42:N42),0) -> 33161 | R42: =+ROUND(AVERAGE(P42:Q42),0) -> 28331 | T42: =+Q42 -> 33161
B43: 39 | C43: MANGUERA RUBATEX 3/4" X 1/2" | D43: UND | E43: 31400 | F43: 38329 | I43: =+MIN(E43:G43) -> 31400 | J43: =+ROUND(AVERAGE(E43:G43),0) -> 34865 | K43: =+ROUND(AVERAGE(I43:J43),0) -> 33133 | M43: =+K43 -> 33133 | N43: 24400 | P43: =+MIN(M43:N43) -> 24400 | Q43: =+ROUND(AVERAGE(M43:N43),0) -> 28767 | R43: =+ROUND(AVERAGE(P43:Q43),0) -> 26584 | T43: =+Q43 -> 28767
B44: 40 | C44: RUBATEX ¾×⅞. INCLUYE CINTA | D44: UND | E44: 48500 | F44: 22000 | I44: =+MIN(E44:G44) -> 22000 | J44: =+ROUND(AVERAGE(E44:G44),0) -> 35250 | K44: =+ROUND(AVERAGE(I44:J44),0) -> 28625 | M44: =+K44 -> 28625 | N44: 23500 | P44: =+MIN(M44:N44) -> 23500 | Q44: =+ROUND(AVERAGE(M44:N44),0) -> 26063 | R44: =+ROUND(AVERAGE(P44:Q44),0) -> 24782 | T44: =+Q44 -> 26063
B45: 41 | C45: RUBATEX ¾×⅞. INCLUYE CINTA | D45: UND | E45: 48500 | F45: 22000 | I45: =+MIN(E45:G45) -> 22000 | J45: =+ROUND(AVERAGE(E45:G45),0) -> 35250 | K45: =+ROUND(AVERAGE(I45:J45),0) -> 28625 | M45: =+K45 -> 28625 | N45: 23800 | P45: =+MIN(M45:N45) -> 23800 | Q45: =+ROUND(AVERAGE(M45:N45),0) -> 26213 | R45: =+ROUND(AVERAGE(P45:Q45),0) -> 25007 | T45: =+Q45 -> 26213
B46: 42 | C46: BREAKER DE 3X50 AMP | D46: UND | E46: 192600 | F46: 159208 | I46: =+MIN(E46:G46) -> 159208 | J46: =+ROUND(AVERAGE(E46:G46),0) -> 175904 | K46: =+ROUND(AVERAGE(I46:J46),0) -> 167556 | M46: =+K46 -> 167556 | N46: 76600 | P46: =+MIN(M46:N46) -> 76600 | Q46: =+ROUND(AVERAGE(M46:N46),0) -> 122078 | R46: =+ROUND(AVERAGE(P46:Q46),0) -> 99339 | T46: =+Q46 -> 122078
B47: 43 | C47: BREAKER DE 2X20 AMP | D47: UND | E47: 59900 | F47: 95742 | I47: =+MIN(E47:G47) -> 59900 | J47: =+ROUND(AVERAGE(E47:G47),0) -> 77821 | K47: =+ROUND(AVERAGE(I47:J47),0) -> 68861 | M47: =+K47 -> 68861 | N47: 65700 | P47: =+MIN(M47:N47) -> 65700 | Q47: =+ROUND(AVERAGE(M47:N47),0) -> 67281 | R47: =+ROUND(AVERAGE(P47:Q47),0) -> 66491 | T47: =+Q47 -> 67281
B48: 44 | C48: BREAKER DE 2X50 AMP | D48: UND | E48: 102700 | F48: 133089 | I48: =+MIN(E48:G48) -> 102700 | J48: =+ROUND(AVERAGE(E48:G48),0) -> 117895 | K48: =+ROUND(AVERAGE(I48:J48),0) -> 110298 | M48: =+K48 -> 110298 | N48: 74900 | P48: =+MIN(M48:N48) -> 74900 | Q48: =+ROUND(AVERAGE(M48:N48),0) -> 92599 | R48: =+ROUND(AVERAGE(P48:Q48),0) -> 83750 | T48: =+Q48 -> 92599
B49: 45 | C49: CABLE ENCAUCHETADO 4X14 | D49: METRO | E49: 25700 | F49: 43379 | I49: =+MIN(E49:G49) -> 25700 | J49: =+ROUND(AVERAGE(E49:G49),0) -> 34540 | K49: =+ROUND(AVERAGE(I49:J49),0) -> 30120 | M49: =+K49 -> 30120 | N49: 24300 | P49: =+MIN(M49:N49) -> 24300 | Q49: =+ROUND(AVERAGE(M49:N49),0) -> 27210 | R49: =+ROUND(AVERAGE(P49:Q49),0) -> 25755 | T49: =+Q49 -> 27210
B50: 46 | C50: CABLE ENCAUCHETADO 3X12 | D50: METRO | E50: 22800 | F50: 34595 | I50: =+MIN(E50:G50) -> 22800 | J50: =+ROUND(AVERAGE(E50:G50),0) -> 28698 | K50: =+ROUND(AVERAGE(I50:J50),0) -> 25749 | M50: =+K50 -> 25749 | N50: 21900 | P50: =+MIN(M50:N50) -> 21900 | Q50: =+ROUND(AVERAGE(M50:N50),0) -> 23825 | R50: =+ROUND(AVERAGE(P50:Q50),0) -> 22863 | T50: =+Q50 -> 23825
B51: 47 | C51: PROTECTOR ELECTRÓNICO DE VOLTAJE BIFÁSICO PARA ACONDICIONADOR DE AIRE TIPO MINI SPLIT | D51: UND | E51: 178400 | F51: 391500 | I51: =+MIN(E51:G51) -> 178400 | J51: =+ROUND(AVERAGE(E51:G51),0) -> 284950 | K51: =+ROUND(AVERAGE(I51:J51),0) -> 231675 | M51: =+K51 -> 231675 | N51: 230600 | P51: =+MIN(M51:N51) -> 230600 | Q51: =+ROUND(AVERAGE(M51:N51),0) -> 231138 | R51: =+ROUND(AVERAGE(P51:Q51),0) -> 230869 | T51: =+Q51 -> 231138
B52: 48 | C52: PROTECTOR ELECTRÓNICO DE VOLTAJE TRIFÁSICO PARA ACONDICIONADOR DE AIRE TIPO SPLIT MENOR O IGUAL A 5 TR | D52: UND | E52: 264000 | F52: 446806 | I52: =+MIN(E52:G52) -> 264000 | J52: =+ROUND(AVERAGE(E52:G52),0) -> 355403 | K52: =+ROUND(AVERAGE(I52:J52),0) -> 309702 | M52: =+K52 -> 309702 | N52: 256400 | P52: =+MIN(M52:N52) -> 256400 | Q52: =+ROUND(AVERAGE(M52:N52),0) -> 283051 | R52: =+ROUND(AVERAGE(P52:Q52),0) -> 269726 | T52: =+Q52 -> 283051
... B57: 53 | C57: TUBERÍA COBRE FLEXIBLE 1/4" | D57: METRO | E57: 25700 | F57: 42891 | I57: =+MIN(E57:G57) -> 25700 | J57: =+ROUND(AVERAGE(E57:G57),0) -> 34296 | K57: =+ROUND(AVERAGE(I57:J57),0) -> 29998 | M57: =+K57 -> 29998 | N57: 26200 | P57: =+MIN(M57:N57) -> 26200 | Q57: =+ROUND(AVERAGE(M57:N57),0) -> 28099 | R57: =+ROUND(AVERAGE(P57:Q57),0) -> 27150 | T57: =+Q57 -> 28099
B58: 54 | C58: TUBERÍA COBRE FLEXIBLE 3/4" | D58: METRO | E58: 79900 | F58: 79445 | I58: =+MIN(E58:G58) -> 79445 | J58: =+ROUND(AVERAGE(E58:G58),0) -> 79673 | K58: =+ROUND(AVERAGE(I58:J58),0) -> 79559 | M58: =+K58 -> 79559 | P58: =+MIN(M58:N58) -> 79559 | Q58: =+ROUND(AVERAGE(M58:N58),0) -> 79559 | R58: =+ROUND(AVERAGE(P58:Q58),0) -> 79559 | T58: =+Q58 -> 79559
B59: 55 | C59: TUBERÍA COBRE FLEXIBLE 3/8" | D59: METRO | E59: 34200 | F59: 48431 | I59: =+MIN(E59:G59) -> 34200 | J59: =+ROUND(AVERAGE(E59:G59),0) -> 41316 | K59: =+ROUND(AVERAGE(I59:J59),0) -> 37758 | M59: =+K59 -> 37758 | N59: 29700 | P59: =+MIN(M59:N59) -> 29700 | Q59: =+ROUND(AVERAGE(M59:N59),0) -> 33729 | R59: =+ROUND(AVERAGE(P59:Q59),0) -> 31715 | T59: =+Q59 -> 33729
B60: 56 | C60: TUBERÍA COBRE FLEXIBLE 5/8" | D60: METRO | E60: 59900 | F60: 75491 | I60: =+MIN(E60:G60) -> 59900 | J60: =+ROUND(AVERAGE(E60:G60),0) -> 67696 | K60: =+ROUND(AVERAGE(I60:J60),0) -> 63798 | M60: =+K60 -> 63798 | N60: 48000 | P60: =+MIN(M60:N60) -> 48000 | Q60: =+ROUND(AVERAGE(M60:N60),0) -> 55899 | R60: =+ROUND(AVERAGE(P60:Q60),0) -> 51950 | T60: =+Q60 -> 55899
B61: 57 | C61: TUBERÍA COBRE FLEXIBLE 7/8" | D61: METRO | E61: 97000 | F61: 107546 | I61: =+MIN(E61:G61) -> 97000 | J61: =+ROUND(AVERAGE(E61:G61),0) -> 102273 | K61: =+ROUND(AVERAGE(I61:J61),0) -> 99637 | M61: =+K61 -> 99637 | N61: 54900 | P61: =+MIN(M61:N61) -> 54900 | Q61: =+ROUND(AVERAGE(M61:N61),0) -> 77269 | R61: =+ROUND(AVERAGE(P61:Q61),0) -> 66085 | T61: =+Q61 -> 77269
B62: 58 | C62: TUBERÍA COBRE RÍGIDA 1-1/8" | D62: METRO | E62: 139800 | F62: 139130 | I62: =+MIN(E62:G62) -> 139130 | J62: =+ROUND(AVERAGE(E62:G62),0) -> 139465 | K62: =+ROUND(AVERAGE(I62:J62),0) -> 139298 | M62: =+K62 -> 139298 | N62: 72100 | P62: =+MIN(M62:N62) -> 72100 | Q62: =+ROUND(AVERAGE(M62:N62),0) -> 105699 | R62: =+ROUND(AVERAGE(P62:Q62),0) -> 88900 | T62: =+Q62 -> 105699
B63: 59 | C63: TUBERÍA COBRE RÍGIDA 3/8" | D63: METRO | E63: 37100 | F63: 71391 | I63: =+MIN(E63:G63) -> 37100 | J63: =+ROUND(AVERAGE(E63:G63),0) -> 54246 | K63: =+ROUND(AVERAGE(I63:J63),0) -> 45673 | M63: =+K63 -> 45673 | P63: =+MIN(M63:N63) -> 45673 | Q63: =+ROUND(AVERAGE(M63:N63),0) -> 45673 | R63: =+ROUND(AVERAGE(P63:Q63),0) -> 45673 | T63: =+Q63 -> 45673
B64: 60 | C64: TUBERÍA COBRE RÍGIDA 7/8" | D64: METRO | E64: 105600 | F64: 109126 | I64: =+MIN(E64:G64) -> 105600 | J64: =+ROUND(AVERAGE(E64:G64),0) -> 107363 | K64: =+ROUND(AVERAGE(I64:J64),0) -> 106482 | M64: =+K64 -> 106482 | P64: =+MIN(M64:N64) -> 106482 | Q64: =+ROUND(AVERAGE(M64:N64),0) -> 106482 | R64: =+ROUND(AVERAGE(P64:Q64),0) -> 106482 | T64: =+Q64 -> 106482
B65: 61 | C65: TARJETAS ELECTRÓNICA UNIVERSAL PARA ACONDICIONADOR DE AIRE TIPO MINI SPLIT | D65: UND | E65: 264000 | F65: 540593 | I65: =+MIN(E65:G65) -> 264000 | J65: =+ROUND(AVERAGE(E65:G65),0) -> 402297 | K65: =+ROUND(AVERAGE(I65:J65),0) -> 333149 | M65: =+K65 -> 333149 | N65: 317700 | P65: =+MIN(M65:N65) -> 317700 | Q65: =+ROUND(AVERAGE(M65:N65),0) -> 325425 | R65: =+ROUND(AVERAGE(P65:Q65),0) -> 321563 | T65: =+Q65 -> 325425
B66: 62 | C66: COMPRESOR 1 TR ROTATIVO 12 KBTU 220V 1PH 60 HZ REFRIGERANTE R 22 | D66: UND | E66: 1212800 | F66: 1257861 | I66: =+MIN(E66:G66) -> 1212800 | J66: =+ROUND(AVERAGE(E66:G66),0) -> 1235331 | K66: =+ROUND(AVERAGE(I66:J66),0) -> 1224066 | M66: =+K66 -> 1224066 | N66: 758800 | P66: =+MIN(M66:N66) -> 758800 | Q66: =+ROUND(AVERAGE(M66:N66),0) -> 991433 | R66: =+ROUND(AVERAGE(P66:Q66),0) -> 875117 | T66: =+Q66 -> 991433
B67: 63 | C67: COMPRESOR 1 TR ROTATIVO 12 KBTU 220V 1PH 60 HZ REFRIGERANTE 410 | D67: UND | E67: 1269900 | F67: 1282134 | I67: =+MIN(E67:G67) -> 1269900 | J67: =+ROUND(AVERAGE(E67:G67),0) -> 1276017 | K67: =+ROUND(AVERAGE(I67:J67),0) -> 1272959 | M67: =+K67 -> 1272959 | N67: 800000 | P67: =+MIN(M67:N67) -> 800000 | Q67: =+ROUND(AVERAGE(M67:N67),0) -> 1036480 | R67: =+ROUND(AVERAGE(P67:Q67),0) -> 918240 | T67: =+Q67 -> 1036480
B68: 64 | C68: COMPRESOR 1.5 TR ROTATIVO 18 KBTU 220V 1 PH REFRIGERANTE R 22 | D68: UND | E68: 1498200 | F68: 1423843 | I68: =+MIN(E68:G68) -> 1423843 | J68: =+ROUND(AVERAGE(E68:G68),0) -> 1461022 | K68: =+ROUND(AVERAGE(I68:J68),0) -> 1442433 | M68: =+K68 -> 1442433 | N68: 853300 | P68: =+MIN(M68:N68) -> 853300 | Q68: =+ROUND(AVERAGE(M68:N68),0) -> 1147867 | R68: =+ROUND(AVERAGE(P68:Q68),0) -> 1000584 | T68: =+Q68 -> 1147867
B69: 65 | C69: COMPRESOR 1.5 TR ROTATIVO 18 KBTU 220V 1 PH REFRIGERANTE 410 | D69: UND | E69: 1555200 | F69: 1456702 | I69: =+MIN(E69:G69) -> 1456702 | J69: =+ROUND(AVERAGE(E69:G69),0) -> 1505951 | K69: =+ROUND(AVERAGE(I69:J69),0) -> 1481327 | M69: =+K69 -> 1481327 | N69: 910700 | P69: =+MIN(M69:N69) -> 910700 | Q69: =+ROUND(AVERAGE(M69:N69),0) -> 1196014 | R69: =+ROUND(AVERAGE(P69:Q69),0) -> 1053357 | T69: =+Q69 -> 1196014
B70: 66 | C70: COMPRESOR 2 TR ROTATIVO 24 KBTU 220V 60 HZ REFRIGERANTE R 22 | D70: UND | E70: 1926200 | F70: 1663131 | I70: =+MIN(E70:G70) -> 1663131 | J70: =+ROUND(AVERAGE(E70:G70),0) -> 1794666 | K70: =+ROUND(AVERAGE(I70:J70),0) -> 1728899 | M70: =+K70 -> 1728899 | N70: 993700 | P70: =+MIN(M70:N70) -> 993700 | Q70: =+ROUND(AVERAGE(M70:N70),0) -> 1361300 | R70: =+ROUND(AVERAGE(P70:Q70),0) -> 1177500 | T70: =+Q70 -> 1361300
B71: 67 | C71: COMPRESOR 2 TR ROTATIVO 24 KBTU 220V 60 HZ REFRIGERANTE 410 | D71: UND | E71: 1997500 | F71: 1689398 | I71: =+MIN(E71:G71) -> 1689398 | J71: =+ROUND(AVERAGE(E71:G71),0) -> 1843449 | K71: =+ROUND(AVERAGE(I71:J71),0) -> 1766424 | M71: =+K71 -> 1766424 | N71: 1042800 | P71: =+MIN(M71:N71) -> 1042800 | Q71: =+ROUND(AVERAGE(M71:N71),0) -> 1404612 | R71: =+ROUND(AVERAGE(P71:Q71),0) -> 1223706 | T71: =+Q71 -> 1404612
B72: 68 | C72: COMPRESOR 3 TR ROTATIVO 36 KBTU 220V 3PH 60 HZ REFRIGERANTE R 22 | D72: UND | E72: 2568300 | F72: 2237873 | I72: =+MIN(E72:G72) -> 2237873 | J72: =+ROUND(AVERAGE(E72:G72),0) -> 2403087 | K72: =+ROUND(AVERAGE(I72:J72),0) -> 2320480 | M72: =+K72 -> 2320480 | N72: 1811200 | P72: =+MIN(M72:N72) -> 1811200 | Q72: =+ROUND(AVERAGE(M72:N72),0) -> 2065840 | R72: =+ROUND(AVERAGE(P72:Q72),0) -> 1938520 | T72: =+Q72 -> 2065840
B73: 69 | C73: COMPRESOR 3 TR ROTATIVO 36 KBTU 220V 3PH 60 HZ REFRIGERANTE 410 | D73: UND | E73: 2653900 | F73: 2275099 | I73: =+MIN(E73:G73) -> 2275099 | J73: =+ROUND(AVERAGE(E73:G73),0) -> 2464500 | K73: =+ROUND(AVERAGE(I73:J73),0) -> 2369800 | M73: =+K73 -> 2369800 | N73: 1902000 | P73: =+MIN(M73:N73) -> 1902000 | Q73: =+ROUND(AVERAGE(M73:N73),0) -> 2135900 | R73: =+ROUND(AVERAGE(P73:Q73),0) -> 2018950 | T73: =+Q73 -> 2135900
B74: 70 | C74: COMPRESOR 3 TR ROTATIVO 36 KBTU 220V 1PH 60 HZ REFRIGERANTE R 22 | D74: UND | E74: 2710900 | F74: 2245069 | I74: =+MIN(E74:G74) -> 2245069 | J74: =+ROUND(AVERAGE(E74:G74),0) -> 2477985 | K74: =+ROUND(AVERAGE(I74:J74),0) -> 2361527 | M74: =+K74 -> 2361527 | P74: =+MIN(M74:N74) -> 2361527 | Q74: =+ROUND(AVERAGE(M74:N74),0) -> 2361527 | R74: =+ROUND(AVERAGE(P74:Q74),0) -> 2361527 | T74: =+Q74 -> 2361527
B75: 71 | C75: COMPRESOR 3 TR ROTATIVO 36 KBTU 220V 1PH 60 HZ REFRIGERANTE 410 | D75: UND | E75: 2796500 | F75: 2281898 | I75: =+MIN(E75:G75) -> 2281898 | J75: =+ROUND(AVERAGE(E75:G75),0) -> 2539199 | K75: =+ROUND(AVERAGE(I75:J75),0) -> 2410549 | M75: =+K75 -> 2410549 | P75: =+MIN(M75:N75) -> 2410549 | Q75: =+ROUND(AVERAGE(M75:N75),0) -> 2410549 | R75: =+ROUND(AVERAGE(P75:Q75),0) -> 2410549 | T75: =+Q75 -> 2410549
B76: 72 | C76: COMPRESOR 5 TR SCROLL R-22 220V / 1PH 60 HZ REFRIGERANTE R 22 | D76: UND | E76: 4066400 | F76: 3319567 | I76: =+MIN(E76:G76) -> 3319567 | J76: =+ROUND(AVERAGE(E76:G76),0) -> 3692984 | K76: =+ROUND(AVERAGE(I76:J76),0) -> 3506276 | M76: =+K76 -> 3506276 | N76: 2419000 | P76: =+MIN(M76:N76) -> 2419000 | Q76: =+ROUND(AVERAGE(M76:N76),0) -> 2962638 | R76: =+ROUND(AVERAGE(P76:Q76),0) -> 2690819 | T76: =+Q76 -> 2962638
B77: 73 | C77: BLOWER DE LAMINA GALVANIZADA 10-1/2" X 10-1/2" X 1/2" | D77: UND | E77: 235400 | F77: 303186 | I77: =+MIN(E77:G77) -> 235400 | J77: =+ROUND(AVERAGE(E77:G77),0) -> 269293 | K77: =+ROUND(AVERAGE(I77:J77),0) -> 252347 | M77: =+K77 -> 252347 | P77: =+MIN(M77:N77) -> 252347 | Q77: =+ROUND(AVERAGE(M77:N77),0) -> 252347 | R77: =+ROUND(AVERAGE(P77:Q77),0) -> 252347 | T77: =+Q77 -> 252347
B78: 74 | C78: BLOWER DE LAMINA GALVANIZADA 12" X 12" X 1" | D78: UND | E78: 278200 | F78: 288434 | I78: =+MIN(E78:G78) -> 278200 | J78: =+ROUND(AVERAGE(E78:G78),0) -> 283317 | K78: =+ROUND(AVERAGE(I78:J78),0) -> 280759 | M78: =+K78 -> 280759 | P78: =+MIN(M78:N78) -> 280759 | Q78: =+ROUND(AVERAGE(M78:N78),0) -> 280759 | R78: =+ROUND(AVERAGE(P78:Q78),0) -> 280759 | T78: =+Q78 -> 280759
B79: 75 | C79: BOMBA DE CONDENSADO PARA MINI SPLIT | D79: UND | E79: 349600 | F79: 658296 | I79: =+MIN(E79:G79) -> 349600 | J79: =+ROUND(AVERAGE(E79:G79),0) -> 503948 | K79: =+ROUND(AVERAGE(I79:J79),0) -> 426774 | M79: =+K79 -> 426774 | N79: 401700 | P79: =+MIN(M79:N79) -> 401700 | Q79: =+ROUND(AVERAGE(M79:N79),0) -> 414237 | R79: =+ROUND(AVERAGE(P79:Q79),0) -> 407969 | T79: =+Q79 -> 414237
B80: 76 | C80: CONDENSADORA DE 5TR 220V 1 PH 60 HZ REFRIGERANTE 410, DESCARGA VERTICAL | D80: UND | E80: 10273000 | F80: 5538694 | I80: =+MIN(E80:G80) -> 5538694 | J80: =+ROUND(AVERAGE(E80:G80),0) -> 7905847 | K80: =+ROUND(AVERAGE(I80:J80),0) -> 6722271 | M80: =+K80 -> 6722271 | N80: 933500 | P80: =+MIN(M80:N80) -> 933500 | Q80: =+ROUND(AVERAGE(M80:N80),0) -> 3827886 | R80: =+ROUND(AVERAGE(P80:Q80),0) -> 2380693 | T80: =+Q80 -> 3827886
B81: 77 | C81: CONDENSADORA DE 5TR 220V 3 PH 60 HZ REFRIGERANTE 410, DESCARGA VERTICAL | D81: UND | E81: 10701100 | F81: 5616315 | I81: =+MIN(E81:G81) -> 5616315 | J81: =+ROUND(AVERAGE(E81:G81),0) -> 8158708 | K81: =+ROUND(AVERAGE(I81:J81),0) -> 6887512 | M81: =+K81 -> 6887512 | P81: =+MIN(M81:N81) -> 6887512 | Q81: =+ROUND(AVERAGE(M81:N81),0) -> 6887512 | R81: =+ROUND(AVERAGE(P81:Q81),0) -> 6887512 | T81: =+Q81 -> 6887512
B82: 78 | C82: HÉLICE EN LAMINA GALVANIZADA 20" BUJE 1/2" 4 ASPAS GIRO DERECHO | D82: UND | E82: 135500 | F82: 191391 | I82: =+MIN(E82:G82) -> 135500 | J82: =+ROUND(AVERAGE(E82:G82),0) -> 163446 | K82: =+ROUND(AVERAGE(I82:J82),0) -> 149473 | M82: =+K82 -> 149473 | P82: =+MIN(M82:N82) -> 149473 | Q82: =+ROUND(AVERAGE(M82:N82),0) -> 149473 | R82: =+ROUND(AVERAGE(P82:Q82),0) -> 149473 | T82: =+Q82 -> 149473
B83: 79 | C83: HÉLICE EN LAMINA GALVANIZADA 22" BUJE 1/2" 4 ASPAS GIRO DERECHO | D83: UND | E83: 156900 | F83: 197784 | I83: =+MIN(E83:G83) -> 156900 | J83: =+ROUND(AVERAGE(E83:G83),0) -> 177342 | K83: =+ROUND(AVERAGE(I83:J83),0) -> 167121 | M83: =+K83 -> 167121 | P83: =+MIN(M83:N83) -> 167121 | Q83: =+ROUND(AVERAGE(M83:N83),0) -> 167121 | R83: =+ROUND(AVERAGE(P83:Q83),0) -> 167121 | T83: =+Q83 -> 167121
B84: 80 | C84: HÉLICE EN LAMINA GALVANIZADA 24" BUJE 1/2" 4 ASPAS GIRO DERECHO | D84: UND | E84: 178400 | F84: 368059 | I84: =+MIN(E84:G84) -> 178400 | J84: =+ROUND(AVERAGE(E84:G84),0) -> 273230 | K84: =+ROUND(AVERAGE(I84:J84),0) -> 225815 | M84: =+K84 -> 225815 | P84: =+MIN(M84:N84) -> 225815 | Q84: =+ROUND(AVERAGE(M84:N84),0) -> 225815 | R84: =+ROUND(AVERAGE(P84:Q84),0) -> 225815 | T84: =+Q84 -> 225815
B85: 81 | C85: MOTOR 1/2 HP P/BLOWER 1075 RPM 1PH 3 VEL 220 V 60 HZ | D85: UND | E85: 577900 | F85: 360654 | I85: =+MIN(E85:G85) -> 360654 | J85: =+ROUND(AVERAGE(E85:G85),0) -> 469277 | K85: =+ROUND(AVERAGE(I85:J85),0) -> 414966 | M85: =+K85 -> 414966 | N85: 571300 | P85: =+MIN(M85:N85) -> 414966 | Q85: =+ROUND(AVERAGE(M85:N85),0) -> 493133 | R85: =+ROUND(AVERAGE(P85:Q85),0) -> 454050 | T85: =+Q85 -> 493133
B86: 82 | C86: MOTOR 1/2 HP P/CONDENSADOR 1075 RPM EJE 1/2 208-230V 1 PH 60 HZ | D86: UND | E86: 542200 | F86: 359165 | I86: =+MIN(E86:G86) -> 359165 | J86: =+ROUND(AVERAGE(E86:G86),0) -> 450683 | K86: =+ROUND(AVERAGE(I86:J86),0) -> 404924 | M86: =+K86 -> 404924 | N86: 578500 | P86: =+MIN(M86:N86) -> 404924 | Q86: =+ROUND(AVERAGE(M86:N86),0) -> 491712 | R86: =+ROUND(AVERAGE(P86:Q86),0) -> 448318 | T86: =+Q86 -> 491712
B87: 83 | C87: MOTOR 1/5 HP 1075 RPM 3 VELOCIDADES 110V | D87: UND | E87: 413800 | F87: 266958 | I87: =+MIN(E87:G87) -> 266958 | J87: =+ROUND(AVERAGE(E87:G87),0) -> 340379 | K87: =+ROUND(AVERAGE(I87:J87),0) -> 303669 | M87: =+K87 -> 303669 | P87: =+MIN(M87:N87) -> 303669 | Q87: =+ROUND(AVERAGE(M87:N87),0) -> 303669 | R87: =+ROUND(AVERAGE(P87:Q87),0) -> 303669 | T87: =+Q87 -> 303669
B88: 84 | C88: MOTOR 1/6 HP 1075 RPM 2 EJES 220 V 60 HZ | D88: UND | E88: 378100 | F88: 317105 | I88: =+MIN(E88:G88) -> 317105 | J88: =+ROUND(AVERAGE(E88:G88),0) -> 347603 | K88: =+ROUND(AVERAGE(I88:J88),0) -> 332354 | M88: =+K88 -> 332354 | P88: =+MIN(M88:N88) -> 332354 | Q88: =+ROUND(AVERAGE(M88:N88),0) -> 332354 | R88: =+ROUND(AVERAGE(P88:Q88),0) -> 332354 | T88: =+Q88 -> 332354
B89: 85 | C89: MOTOR 3/4 HP P/CONDENSADOR 1075 RPM C/BALINERA EJE 1/2 220V 1PH 60HZ | D89: UND | E89: 741900 | F89: 454030 | I89: =+MIN(E89:G89) -> 454030 | J89: =+ROUND(AVERAGE(E89:G89),0) -> 597965 | K89: =+ROUND(AVERAGE(I89:J89),0) -> 525998 | M89: =+K89 -> 525998 | N89: 587500 | P89: =+MIN(M89:N89) -> 525998 | Q89: =+ROUND(AVERAGE(M89:N89),0) -> 556749 | R89: =+ROUND(AVERAGE(P89:Q89),0) -> 541374 | T89: =+Q89 -> 556749
B90: 86 | C90: MOTOR 3/4 HP P/MANEJADORA 1075 RPM D1076 1 EJE 3 VEL 208-230V 1 PH 60 HZ | D90: UND | E90: 770500 | F90: 444612 | I90: =+MIN(E90:G90) -> 444612 | J90: =+ROUND(AVERAGE(E90:G90),0) -> 607556 | K90: =+ROUND(AVERAGE(I90:J90),0) -> 526084 | M90: =+K90 -> 526084 | N90: 490000 | P90: =+MIN(M90:N90) -> 490000 | Q90: =+ROUND(AVERAGE(M90:N90),0) -> 508042 | R90: =+ROUND(AVERAGE(P90:Q90),0) -> 499021 | T90: =+Q90 -> 508042
B91: 87 | C91: TEMPORIZADOR ELECTRÓNICO 1 A 8MIN | D91: UND | E91: 192600 | F91: 64463 | I91: =+MIN(E91:G91) -> 64463 | J91: =+ROUND(AVERAGE(E91:G91),0) -> 128532 | K91: =+ROUND(AVERAGE(I91:J91),0) -> 96498 | M91: =+K91 -> 96498 | N91: 122700 | P91: =+MIN(M91:N91) -> 96498 | Q91: =+ROUND(AVERAGE(M91:N91),0) -> 109599 | R91: =+ROUND(AVERAGE(P91:Q91),0) -> 103049 | T91: =+Q91 -> 109599
B92: 88 | C92: TERMOSTATO NO PROGRAMABLE DIGITAL 1 ETAPA | D92: UND | E92: 206900 | F92: 236294 | I92: =+MIN(E92:G92) -> 206900 | J92: =+ROUND(AVERAGE(E92:G92),0) -> 221597 | K92: =+ROUND(AVERAGE(I92:J92),0) -> 214249 | M92: =+K92 -> 214249 | P92: =+MIN(M92:N92) -> 214249 | Q92: =+ROUND(AVERAGE(M92:N92),0) -> 214249 | R92: =+ROUND(AVERAGE(P92:Q92),0) -> 214249 | T92: =+Q92 -> 214249
B93: 89 | C93: TERMOSTATO PROGRAMABLE DIGITAL 1 ETAPA | D93: UND | E93: 278200 | F93: 384624 | I93: =+MIN(E93:G93) -> 278200 | J93: =+ROUND(AVERAGE(E93:G93),0) -> 331412 | K93: =+ROUND(AVERAGE(I93:J93),0) -> 304806 | M93: =+K93 -> 304806 | P93: =+MIN(M93:N93) -> 304806 | Q93: =+ROUND(AVERAGE(M93:N93),0) -> 304806 | R93: =+ROUND(AVERAGE(P93:Q93),0) -> 304806 | T93: =+Q93 -> 304806
B94: 90 | C94: TERMOSTATO AMBIENTE ANÁLOGO | D94: UND | E94: 135500 | F94: 157508 | I94: =+MIN(E94:G94) -> 135500 | J94: =+ROUND(AVERAGE(E94:G94),0) -> 146504 | K94: =+ROUND(AVERAGE(I94:J94),0) -> 141002 | M94: =+K94 -> 141002 | N94: 231000 | P94: =+MIN(M94:N94) -> 141002 | Q94: =+ROUND(AVERAGE(M94:N94),0) -> 186001 | R94: =+ROUND(AVERAGE(P94:Q94),0) -> 163502 | T94: =+Q94 -> 186001
B95: 91 | C95: REJILLA DIFUSORA DE ALUMINIO 12"X12" DE CUATRO VÍAS MÓVILES | D95: UND | E95: 206900 | F95: 337500 | I95: =+MIN(E95:G95) -> 206900 | J95: =+ROUND(AVERAGE(E95:G95),0) -> 272200 | K95: =+ROUND(AVERAGE(I95:J95),0) -> 239550 | M95: =+K95 -> 239550 | N95: 217600 | P95: =+MIN(M95:N95) -> 217600 | Q95: =+ROUND(AVERAGE(M95:N95),0) -> 228575 | R95: =+ROUND(AVERAGE(P95:Q95),0) -> 223088 | T95: =+Q95 -> 228575
B96: 92 | C96: CINTA AISLANTE | D96: UND | E96: 17100 | F96: 15000 | I96: =+MIN(E96:G96) -> 15000 | J96: =+ROUND(AVERAGE(E96:G96),0) -> 16050 | K96: =+ROUND(AVERAGE(I96:J96),0) -> 15525 | M96: =+K96 -> 15525 | P96: =+MIN(M96:N96) -> 15525 | Q96: =+ROUND(AVERAGE(M96:N96),0) -> 15525 | R96: =+ROUND(AVERAGE(P96:Q96),0) -> 15525 | T96: =+Q96 -> 15525
B97: 93 | C97: CINTA VINILO | D97: UND | E97: 20000 | F97: 20000 | I97: =+MIN(E97:G97) -> 20000 | J97: =+ROUND(AVERAGE(E97:G97),0) -> 20000 | K97: =+ROUND(AVERAGE(I97:J97),0) -> 20000 | M97: =+K97 -> 20000 | P97: =+MIN(M97:N97) -> 20000 | Q97: =+ROUND(AVERAGE(M97:N97),0) -> 20000 | R97: =+ROUND(AVERAGE(P97:Q97),0) -> 20000 | T97: =+Q97 -> 20000
B98: 94 | C98: CINTA FOIL | D98: UND | E98: 54200 | F98: 40000 | I98: =+MIN(E98:G98) -> 40000 | J98: =+ROUND(AVERAGE(E98:G98),0) -> 47100 | K98: =+ROUND(AVERAGE(I98:J98),0) -> 43550 | M98: =+K98 -> 43550 | P98: =+MIN(M98:N98) -> 43550 | Q98: =+ROUND(AVERAGE(M98:N98),0) -> 43550 | R98: =+ROUND(AVERAGE(P98:Q98),0) -> 43550 | T98: =+Q98 -> 43550
B99: TOTAL | E99: =SUM(E5:E98) -> 59338400 | F99: =SUM(F5:F98) -> 47266529 | G99: =SUM(G5:G98) -> 0 | I99: =SUM(I5:I98) -> 44409098 | J99: =SUM(J5:J98) -> 53302487 | K99: =SUM(K5:K98) -> 48855814 | M99: =SUM(M5:M98) -> 48855814 | N99: =SUM(N5:N98) -> 20216300 | P99: =SUM(P5:P98) -> 35814473 | Q99: =SUM(Q5:Q98) -> 42600193 | R99: =SUM(R5:R98) -> 39207351 | T99: =SUM(T5:T98) -> 42600193

Sheet TOTAL
B2: SECCIONAL LA GUAJIRA | D2: COTIZACION 1 | E2: COTIZACION 2 | F2: COTIZACIÓN 2 | G2: VALORES SELECCIONADOS ESTUDIO
B3: ITEM | C3: DESCRIPCIÓN | D3: VALOR TOTAL | E3: VALOR TOTAL | F3: VALOR TOTAL | G3: VALOR TOTAL
B4: 1 | C4: MANTENIMIENTO PREVENTIVO | D4: =+'MTO PREVENTICO GUA'!E27 -> 2905900 | E4: =+'MTO PREVENTICO GUA'!F27 -> 4170000 | F4: =+'MTO PREVENTICO GUA'!G27 -> 0 | G4: =+'MTO PREVENTICO GUA'!T27 -> 2920852
B5: 2 | C5: MANO DE OBRA MANTENIMIENTO CORRECTIVO | D5: =+'MANO OBRA CORRECTIVOS GUA'!D34 -> 55927100 | E5: =+'MANO OBRA CORRECTIVOS GUA'!E34 -> 54537828 | F5: =+'MANO OBRA CORRECTIVOS GUA'!F34 -> 0 | G5: =+'MANO OBRA CORRECTIVOS GUA'!I34 -> 47696609
B6: 3 | C6: REPUESTOS | D6: =+'REPUESTOS GUA'!E99 -> 59338400 | E6: =+'REPUESTOS GUA'!F99 -> 47266529 | F6: =+'REPUESTOS GUA'!G99 -> 0 | G6: =+'REPUESTOS GUA'!T99 -> 42600193
B7: TOTAL | D7: =SUM(D4:D6) -> 118171400 | E7: =SUM(E4:E6) -> 105974357 | F7: =SUM(F4:F6) -> 0 | G7: =SUM(G4:G6) -> 93217654
