Workbook
Name OLE_LINK1: 'REPUESTOS CES'!#REF!

Sheet MTO PREVENTICO CES
B1: ANEXO ESTUDIO DEL SECTOR
B5: SECCIONAL CESAR
B6: MANTENIMIENTOS PREVENTIVOS | E6: COTIZACION 1 | F6: COTIZACION 2 | G6: COTIZACION 3 | I6: VALOR COTIZACIÓN HÁBIL MÁS BAJA | J6: PROMEDIO | K6: MEDIA ARITMETICA BAJA | M6: ANALISIS DE COTIZACIONES | N6: COSTOS HISTORICOS DE CONTRATACIÓN | P6: VALOR COTIZACIÓN HÁBIL MÁS BAJA | Q6: PROMEDIO | R6: MEDIA ARITMETICA BAJA | T6: VALORES SELECCIONADOS ESTUDIO
B7: ÍTEM | C7: DESCRIPCIÓN | D7: CANT. EQUIPOS | E7: VALOR MTO. X EQUIPO INCLUIDO IVA | F7: VALOR MTO. X EQUIPO INCLUIDO IVA | G7: VALOR MTO. X EQUIPO INCLUIDO IVA | I7: VALOR MTO. X EQUIPO INCLUIDO IVA | J7: VALOR MTO. X EQUIPO INCLUIDO IVA | K7: VALOR MTO. X EQUIPO INCLUIDO IVA | M7: VALOR MTO. X EQUIPO INCLUIDO IVA | N7: VALOR MTO. X EQUIPO INCLUIDO IVA | P7: VALOR MTO. X EQUIPO INCLUIDO IVA | Q7: VALOR MTO. X EQUIPO INCLUIDO IVA | R7: VALOR MTO. X EQUIPO INCLUIDO IVA | T7: VALOR MTO. X EQUIPO INCLUIDO IVA
B8: PRECIO BOSCONIA
B9: 1 | C9: MANTENIMIENTO DE ACONDICIONADOR DE AIRE TIPO MINISPLIT DE 18000 BTU | D9: 1 | E9: 176000 | F9: 290000 | I9: =+MIN(E9:G9) -> 176000 | J9: =+ROUND(AVERAGE(E9:G9),0) -> 233000 | K9: =+ROUND(AVERAGE(I9:J9),0) -> 204500 | M9: =+K9 -> 204500 | N9: 304630.58 | P9: =+MIN(M9:N9) -> 204500 | Q9: =+ROUND(AVERAGE(M9:N9),0) -> 254565 | R9: =+ROUND(AVERAGE(P9:Q9),0) -> 229533 | T9: =+Q9 -> 254565
B10: 2 | C10: MANTENIMIENTO DE ACONDICIONADOR DE AIRE TIPO MINISPLIT DE 24000 BTU | D10: 1 | E10: 206600 | F10: 290000 | I10: =+MIN(E10:G10) -> 206600 | J10: =+ROUND(AVERAGE(E10:G10),0) -> 248300 | K10: =+ROUND(AVERAGE(I10:J10),0) -> 227450 | M10: =+K10 -> 227450 | N10: 304630.58 | P10: =+MIN(M10:N10) -> 227450 | Q10: =+ROUND(AVERAGE(M10:N10),0) -> 266040 | R10: =+ROUND(AVERAGE(P10:Q10),0) -> 246745 | T10: =+Q10 -> 266040
B11: 3 | C11: MANTENIMIENTO DE ACONDICIONADOR DE AIRE TIPO MINISPLIT DE 12OOO BTU | D11: 1 | E11: 145400 | F11: 290000 | I11: =+MIN(E11:G11) -> 145400 | J11: =+ROUND(AVERAGE(E11:G11),0) -> 217700 | K11: =+ROUND(AVERAGE(I11:J11),0) -> 181550 | M11: =+K11 -> 181550 | N11: 304630.58 | P11: =+MIN(M11:N11) -> 181550 | Q11: =+ROUND(AVERAGE(M11:N11),0) -> 243090 | R11: =+ROUND(AVERAGE(P11:Q11),0) -> 212320 | T11: =+Q11 -> 243090
B12: PRECIO VALLEDUPAR | M12: =+K12 -> 0 | T12: =+Q12 -> 0
B13: 1 | C13: MANTENIMIENTO DE ACONDICIONADOR DE AIRE TIPO MINISPLIT DE 24000 BTU | D13: 1 | E13: 175100 | F13: 240000 | I13: =+MIN(E13:G13) -> 175100 | J13: =+ROUND(AVERAGE(E13:G13),0) -> 207550 | K13: =+ROUND(AVERAGE(I13:J13),0) -> 191325 | M13: =+K13 -> 191325 | N13: 265636.86 | P13: =+MIN(M13:N13) -> 191325 | Q13: =+ROUND(AVERAGE(M13:N13),0) -> 228481 | R13: =+ROUND(AVERAGE(P13:Q13),0) -> 209903 | T13: =+Q13 -> 228481
B14: 2 | C14: MANTENIMIENTO DE ACONDICIONADOR DE AIRE TIPO MINISPLIT DE 18000 BTU | D14: 1 | E14: 149200 | F14: 240000 | I14: =+MIN(E14:G14) -> 149200 | J14: =+ROUND(AVERAGE(E14:G14),0) -> 194600 | K14: =+ROUND(AVERAGE(I14:J14),0) -> 171900 | M14: =+K14 -> 171900 | N14: 265636.86 | P14: =+MIN(M14:N14) -> 171900 | Q14: =+ROUND(AVERAGE(M14:N14),0) -> 218768 | R14: =+ROUND(AVERAGE(P14:Q14),0) -> 195334 | T14: =+Q14 -> 218768
B15: 3 | C15: MANTENIMIENTO DE ACONDICIONADOR DE AIRE TIPO MINISPLIT DE 12000 BTU | D15: 1 | E15: 123200 | F15: 240000 | I15: =+MIN(E15:G15) -> 123200 | J15: =+ROUND(AVERAGE(E15:G15),0) -> 181600 | K15: =+ROUND(AVERAGE(I15:J15),0) -> 152400 | M15: =+K15 -> 152400 | N15: 265636.86 | P15: =+MIN(M15:N15) -> 152400 | Q15: =+ROUND(AVERAGE(M15:N15),0) -> 209018 | R15: =+ROUND(AVERAGE(P15:Q15),0) -> 180709 | T15: =+Q15 -> 209018
B16: 4 | C16: MANTENIMIENTO DE ACONDICIONADOR DE AIRE TIPO CENTRALES-CONFORFRES DE DE 60000 BTU - TIPO PISO TECHO | D16: 1 | E16: 492900 | F16: 450000 | I16: =+MIN(E16:G16) -> 450000 | J16: =+ROUND(AVERAGE(E16:G16),0) -> 471450 | K16: =+ROUND(AVERAGE(I16:J16),0) -> 460725 | M16: =+K16 -> 460725 | N16: 342109.98 | P16: =+MIN(M16:N16) -> 342109.98 | Q16: =+ROUND(AVERAGE(M16:N16),0) -> 401417 | R16: =+ROUND(AVERAGE(P16:Q16),0) -> 371763 | T16: =+Q16 -> 401417
B17: 5 | C17: MANTENIMIENTO DE ACONDICIONADOR DE AIRE TIPO MINISPLIT DE 36000 BTU -MIRAGE | D17: 1 | E17: 227000 | F17: 450000 | I17: =+MIN(E17:G17) -> 227000 | J17: =+ROUND(AVERAGE(E17:G17),0) -> 338500 | K17: =+ROUND(AVERAGE(I17:J17),0) -> 282750 | M17: =+K17 -> 282750 | P17: 338500 | Q17: =+ROUND(AVERAGE(M17:N17),0) -> 282750 | R17: =+ROUND(AVERAGE(P17:Q17),0) -> 310625 | T17: =+Q17 -> 282750
B18: 6 | C18: MANTENIMIENTO DE ACONDICIONADOR DE AIRE TIPO MINISPLIT DE 9000 BTU- WESTINGHOUSE | D18: 1 | E18: 110300 | F18: 240000 | I18: =+MIN(E18:G18) -> 110300 | J18: =+ROUND(AVERAGE(E18:G18),0) -> 175150 | K18: =+ROUND(AVERAGE(I18:J18),0) -> 142725 | M18: =+K18 -> 142725 | P18: 175150 | Q18: =+ROUND(AVERAGE(M18:N18),0) -> 142725 | R18: =+ROUND(AVERAGE(P18:Q18),0) -> 158938 | T18: =+Q18 -> 142725
B19: PRECIO LA PAZ | M19: =+K19 -> 0 | T19: =+Q19 -> 0
B20: 1 | C20: MANTENIMIENTO DE ACONDICIONADOR DE AIRE TIPO MINISPLIT DE 24000 BTU | D20: 1 | E20: 183900 | F20: 240000 | I20: =+MIN(E20:G20) -> 183900 | J20: =+ROUND(AVERAGE(E20:G20),0) -> 211950 | K20: =+ROUND(AVERAGE(I20:J20),0) -> 197925 | M20: =+K20 -> 197925 | N20: 254153.27 | P20: =+MIN(M20:N20) -> 197925 | Q20: =+ROUND(AVERAGE(M20:N20),0) -> 226039 | R20: =+ROUND(AVERAGE(P20:Q20),0) -> 211982 | T20: =+Q20 -> 226039
B21: 2 | C21: MANTENIMIENTO DE ACONDICIONADOR DE AIRE TIPO MINISPLIT DE 12000 BTU | D21: 1 | E21: 129400 | F21: 240000 | I21: =+MIN(E21:G21) -> 129400 | J21: =+ROUND(AVERAGE(E21:G21),0) -> 184700 | K21: =+ROUND(AVERAGE(I21:J21),0) -> 157050 | M21: =+K21 -> 157050 | N21: 254153.27 | P21: =+MIN(M21:N21) -> 157050 | Q21: =+ROUND(AVERAGE(M21:N21),0) -> 205602 | R21: =+ROUND(AVERAGE(P21:Q21),0) -> 181326 | T21: =+Q21 -> 205602
B22: 3 | C22: MANTENIMIENTO DE ACONDICIONADOR DE AIRE TIPO MINISPLIT DE 18000 BTU | D22: 1 | E22: 156600 | F22: 240000 | I22: =+MIN(E22:G22) -> 156600 | J22: =+ROUND(AVERAGE(E22:G22),0) -> 198300 | K22: =+ROUND(AVERAGE(I22:J22),0) -> 177450 | M22: =+K22 -> 177450 | N22: 254153.27 | P22: =+MIN(M22:N22) -> 177450 | Q22: =+ROUND(AVERAGE(M22:N22),0) -> 215802 | R22: =+ROUND(AVERAGE(P22:Q22),0) -> 196626 | T22: =+Q22 -> 215802
B23: PRECIO CODAZZI | M23: =+K23 -> 0 | T23: =+Q23 -> 0
B24: 1 | C24: MANTENIMIENTO DE ACONDICIONADOR DE AIRE TIPO MINISPLIT DE 12000 BTU | D24: 1 | E24: 141700 | F24: 290000 | I24: =+MIN(E24:G24) -> 141700 | J24: =+ROUND(AVERAGE(E24:G24),0) -> 215850 | K24: =+ROUND(AVERAGE(I24:J24),0) -> 178775 | M24: =+K24 -> 178775 | N24: 276868.06 | P24: =+MIN(M24:N24) -> 178775 | Q24: =+ROUND(AVERAGE(M24:N24),0) -> 227822 | R24: =+ROUND(AVERAGE(P24:Q24),0) -> 203299 | T24: =+Q24 -> 227822
B25: 2 | C25: MANTENIMIENTO DE ACONDICIONADOR DE AIRE TIPO MINISPLIT DE 18000 BTU | D25: 1 | E25: 171500 | F25: 290000 | I25: =+MIN(E25:G25) -> 171500 | J25: =+ROUND(AVERAGE(E25:G25),0) -> 230750 | K25: =+ROUND(AVERAGE(I25:J25),0) -> 201125 | M25: =+K25 -> 201125 | N25: 276868.06 | P25: =+MIN(M25:N25) -> 201125 | Q25: =+ROUND(AVERAGE(M25:N25),0) -> 238997 | R25: =+ROUND(AVERAGE(P25:Q25),0) -> 220061 | T25: =+Q25 -> 238997
B26: PRECIO CHIRIGUANA | M26: =+K26 -> 0 | T26: =+Q26 -> 0
B27: 1 | C27: MANTENIMIENTO DE ACONDICIONADOR DE AIRE TIPO MINISPLIT DE 24000 BTU | D27: 1 | E27: 227600 | F27: 290000 | I27: =+MIN(E27:G27) -> 227600 | J27: =+ROUND(AVERAGE(E27:G27),0) -> 258800 | K27: =+ROUND(AVERAGE(I27:J27),0) -> 243200 | M27: =+K27 -> 243200 | N27: 294030.34 | P27: =+MIN(M27:N27) -> 243200 | Q27: =+ROUND(AVERAGE(M27:N27),0) -> 268615 | R27: =+ROUND(AVERAGE(P27:Q27),0) -> 255908 | T27: =+Q27 -> 268615
B28: 2 | C28: MANTENIMIENTO DE ACONDICIONADOR DE AIRE TIPO MINISPLIT DE 12000 BTU | D28: 1 | E28: 160200 | F28: 290000 | I28: =+MIN(E28:G28) -> 160200 | J28: =+ROUND(AVERAGE(E28:G28),0) -> 225100 | K28: =+ROUND(AVERAGE(I28:J28),0) -> 192650 | M28: =+K28 -> 192650 | N28: 294030.34 | P28: =+MIN(M28:N28) -> 192650 | Q28: =+ROUND(AVERAGE(M28:N28),0) -> 243340 | R28: =+ROUND(AVERAGE(P28:Q28),0) -> 217995 | T28: =+Q28 -> 243340
B29: PRECIO PAILITAS | M29: =+K29 -> 0 | T29: =+Q29 -> 0
B30: 1 | C30: MANTENIMIENTO DE ACONDICIONADOR DE AIRE TIPO MINISPLIT DE 24000 BTU | D30: 1 | E30: 241600 | F30: 290000 | I30: =+MIN(E30:G30) -> 241600 | J30: =+ROUND(AVERAGE(E30:G30),0) -> 265800 | K30: =+ROUND(AVERAGE(I30:J30),0) -> 253700 | M30: =+K30 -> 253700 | N30: 337062.25 | P30: =+MIN(M30:N30) -> 253700 | Q30: =+ROUND(AVERAGE(M30:N30),0) -> 295381 | R30: =+ROUND(AVERAGE(P30:Q30),0) -> 274541 | T30: =+Q30 -> 295381
B31: 2 | C31: MANTENIMIENTO DE ACONDICIONADOR DE AIRE TIPO MINISPLIT DE 12000 BTU | D31: 1 | E31: 170000 | F31: 290000 | I31: =+MIN(E31:G31) -> 170000 | J31: =+ROUND(AVERAGE(E31:G31),0) -> 230000 | K31: =+ROUND(AVERAGE(I31:J31),0) -> 200000 | M31: =+K31 -> 200000 | N31: 337062.25 | P31: =+MIN(M31:N31) -> 200000 | Q31: =+ROUND(AVERAGE(M31:N31),0) -> 268531 | R31: =+ROUND(AVERAGE(P31:Q31),0) -> 234266 | T31: =+Q31 -> 268531
B32: PRECIO PUEBLO BELLO | M32: =+K32 -> 0 | T32: =+Q32 -> 0
B33: 1 | C33: MANTENIMIENTO DE ACONDICIONADOR DE AIRE TIPO MINISPLIT DE 18000 BTU | D33: 1 | E33: 171500 | F33: 290000 | I33: =+MIN(E33:G33) -> 171500 | J33: =+ROUND(AVERAGE(E33:G33),0) -> 230750 | K33: =+ROUND(AVERAGE(I33:J33),0) -> 201125 | M33: =+K33 -> 201125 | N33: 427542.84 | P33: =+MIN(M33:N33) -> 201125 | Q33: =+ROUND(AVERAGE(M33:N33),0) -> 314334 | R33: =+ROUND(AVERAGE(P33:Q33),0) -> 257730 | T33: =+Q33 -> 314334
B34: 2 | C34: MANTENIMIENTO DE ACONDICIONADOR DE AIRE TIPO MINISPLIT DE 12000 BTU | D34: 1 | E34: 141700 | F34: 290000 | I34: =+MIN(E34:G34) -> 141700 | J34: =+ROUND(AVERAGE(E34:G34),0) -> 215850 | K34: =+ROUND(AVERAGE(I34:J34),0) -> 178775 | M34: =+K34 -> 178775 | N34: 427542.84 | P34: =+MIN(M34:N34) -> 178775 | Q34: =+ROUND(AVERAGE(M34:N34),0) -> 303159 | R34: =+ROUND(AVERAGE(P34:Q34),0) -> 240967 | T34: =+Q34 -> 303159
B35: EL PASO CESAR | M35: =+K35 -> 0 | T35: =+Q35 -> 0
B36: 1 | C36: MANTENIMIENTO DE ACONDICIONADOR DE AIRE TIPO MINISPLIT DE12000 BTU | D36: 1 | E36: 141700 | F36: 290000 | I36: =+MIN(E36:G36) -> 141700 | J36: =+ROUND(AVERAGE(E36:G36),0) -> 215850 | K36: =+ROUND(AVERAGE(I36:J36),0) -> 178775 | M36: =+K36 -> 178775 | N36: 414544.93 | P36: =+MIN(M36:N36) -> 178775 | Q36: =+ROUND(AVERAGE(M36:N36),0) -> 296660 | R36: =+ROUND(AVERAGE(P36:Q36),0) -> 237718 | T36: =+Q36 -> 296660
B37: JAGUA DE IBIRICO | M37: =+K37 -> 0 | T37: =+Q37 -> 0
B38: 1 | C38: MANTENIMIENTO DE ACONDICIONADOR DE AIRE TIPO MINISPLIT DE 24000 BTU | D38: 1 | E38: 201400 | F38: 290000 | I38: =+MIN(E38:G38) -> 201400 | J38: =+ROUND(AVERAGE(E38:G38),0) -> 245700 | K38: =+ROUND(AVERAGE(I38:J38),0) -> 223550 | M38: =+K38 -> 223550 | N38: 438143.07 | P38: =+MIN(M38:N38) -> 223550 | Q38: =+ROUND(AVERAGE(M38:N38),0) -> 330847 | R38: =+ROUND(AVERAGE(P38:Q38),0) -> 277199 | T38: =+Q38 -> 330847
B39: 2 | C39: MANTENIMIENTO DE ACONDICIONADOR DE AIRE TIPO MINISPLIT DE 12000 BTU | D39: 1 | E39: 141700 | F39: 290000 | I39: =+MIN(E39:G39) -> 141700 | J39: =+ROUND(AVERAGE(E39:G39),0) -> 215850 | K39: =+ROUND(AVERAGE(I39:J39),0) -> 178775 | M39: =+K39 -> 178775 | N39: 438143.07 | P39: =+MIN(M39:N39) -> 178775 | Q39: =+ROUND(AVERAGE(M39:N39),0) -> 308459 | R39: =+ROUND(AVERAGE(P39:Q39),0) -> 243617 | T39: =+Q39 -> 308459
B40: PRECIO CURUMANI | M40: =+K40 -> 0 | T40: =+Q40 -> 0
B41: 1 | C41: MANTENIMIENTO DE ACONDICIONADOR DE AIRE TIPO MINISPLIT DE 18000 BTU | D41: 1 | E41: 201400 | F41: 290000 | I41: =+MIN(E41:G41) -> 201400 | J41: =+ROUND(AVERAGE(E41:G41),0) -> 245700 | K41: =+ROUND(AVERAGE(I41:J41),0) -> 223550 | M41: =+K41 -> 223550 | N41: 307659.22 | P41: =+MIN(M41:N41) -> 223550 | Q41: =+ROUND(AVERAGE(M41:N41),0) -> 265605 | R41: =+ROUND(AVERAGE(P41:Q41),0) -> 244578 | T41: =+Q41 -> 265605
B42: 2 | C42: MANTENIMIENTO DE ACONDICIONADOR DE AIRE TIPO MINISPLIT DE 24000 BTU | D42: 1 | E42: 236400 | F42: 290000 | I42: =+MIN(E42:G42) -> 236400 | J42: =+ROUND(AVERAGE(E42:G42),0) -> 263200 | K42: =+ROUND(AVERAGE(I42:J42),0) -> 249800 | M42: =+K42 -> 249800 | N42: 307659.22 | P42: =+MIN(M42:N42) -> 249800 | Q42: =+ROUND(AVERAGE(M42:N42),0) -> 278730 | R42: =+ROUND(AVERAGE(P42:Q42),0) -> 264265 | T42: =+Q42 -> 278730
B43: 3 | C43: MANTENIMIENTO DE ACONDICIONADOR DE AIRE TIPO MINISPLIT DE 12000 BTU | D43: 1 | E43: 166400 | F43: 290000 | I43: =+MIN(E43:G43) -> 166400 | J43: =+ROUND(AVERAGE(E43:G43),0) -> 228200 | K43: =+ROUND(AVERAGE(I43:J43),0) -> 197300 | M43: =+K43 -> 197300 | N43: 307659.22 | P43: =+MIN(M43:N43) -> 197300 | Q43: =+ROUND(AVERAGE(M43:N43),0) -> 252480 | R43: =+ROUND(AVERAGE(P43:Q43),0) -> 224890 | T43: =+Q43 -> 252480
...

Sheet MANO OBRA CORRECTIVOS CES
B2: SECCIONAL CESAR
B3: MANO DE OBRA MANTENIMIENTO CORRECTIVO | D3: COTIZACION 1 | E3: COTIZACION 2 | F3: COTIZACION 3 | G3: ANALISIS DE COTIZACIONES | H3: COSTOS HISTORICOS DE CONTRATACIÓN | I3: VALORES SELECCIONADOS ESTUDIO | J3: COTIZACION 1 | K3: COTIZACION 2 | L3: COTIZACION 3 | M3: ANALISIS DE COTIZACIONES | N3: COSTOS HISTORICOS DE CONTRATACIÓN | O3: VALORES SELECCIONADOS ESTUDIO | P3: COTIZACION 1 | Q3: COTIZACION 2 | R3: COTIZACION 3 | S3: ANALISIS DE COTIZACIONES | T3: COSTOS HISTORICOS DE CONTRATACIÓN | U3: VALORES SELECCIONADOS ESTUDIO | V3: COTIZACION 1 | W3: COTIZACION 2 | X3: COTIZACION 3 | Y3: ANALISIS DE COTIZACIONES | Z3: COSTOS HISTORICOS DE CONTRATACIÓN | AA3: VALORES SELECCIONADOS ESTUDIO | AB3: COTIZACION 1 | AC3: COTIZACION 2 | AD3: COTIZACION 3 | AE3: ANALISIS DE COTIZACIONES | AF3: COSTOS HISTORICOS DE CONTRATACIÓN | AG3: VALORES SELECCIONADOS ESTUDIO | AH3: COTIZACION 1 | AI3: COTIZACION 2 | AJ3: COTIZACION 3 | AK3: ANALISIS DE COTIZACIONES | AL3: COSTOS HISTORICOS DE CONTRATACIÓN | AM3: VALORES SELECCIONADOS ESTUDIO | AN3: COTIZACION 1 | AO3: COTIZACION 2 | AP3: COTIZACION 3 | AQ3: ANALISIS DE COTIZACIONES | AR3: COSTOS HISTORICOS DE CONTRATACIÓN | AS3: VALORES SELECCIONADOS ESTUDIO | AT3: COTIZACION 1 | AU3: COTIZACION 2 | AV3: COTIZACION 3 | AW3: ANALISIS DE COTIZACIONES | AX3: COSTOS HISTORICOS DE CONTRATACIÓN | AY3: VALORES SELECCIONADOS ESTUDIO | AZ3: COTIZACION 1 | BA3: COTIZACION 2 | BB3: COTIZACION 3 | BC3: ANALISIS DE COTIZACIONES | BD3: COSTOS HISTORICOS DE CONTRATACIÓN | BE3: VALORES SELECCIONADOS ESTUDIO | BF3: COTIZACION 1 | BG3: COTIZACION 2 | BH3: COTIZACION 3 | BI3: ANALISIS DE COTIZACIONES | BJ3: COSTOS HISTORICOS DE CONTRATACIÓN | BK3: VALORES SELECCIONADOS ESTUDIO | BL3: COTIZACION 1 | BM3: COTIZACION 2 | BN3: COTIZACION 3 | BO3: ANALISIS DE COTIZACIONES | BP3: COSTOS HISTORICOS DE CONTRATACIÓN | BQ3: VALORES SELECCIONADOS ESTUDIO | BR3: COTIZACION 1 | BS3: COTIZACION 2 | BT3: COTIZACION 3 | BU3: ANALISIS DE COTIZACIONES | BV3: COSTOS HISTORICOS DE CONTRATACIÓN | BW3: VALORES SELECCIONADOS ESTUDIO
B4: ÍTEM | C4: DESCRIPCIÓN | D4: V. UNITARIO Mano de Obra Incluido IVA BOSCONIA | E4: V. UNITARIO Mano de Obra Incluido IVA BOSCONIA | F4: V. UNITARIO Mano de Obra Incluido IVA BOSCONIA | G4: V. UNITARIO Mano de Obra Incluido IVA BOSCONIA | H4: V. UNITARIO Mano de Obra Incluido IVA BOSCONIA | I4: V. UNITARIO Mano de Obra Incluido IVA BOSCONIA | J4: V. UNITARIO Mano de Obra Incluido IVA VALLEDUPAR | K4: V. UNITARIO Mano de Obra Incluido IVA VALLEDUPAR | L4: V. UNITARIO Mano de Obra Incluido IVA VALLEDUPAR | M4: V. UNITARIO Mano de Obra Incluido IVA VALLEDUPAR | N4: V. UNITARIO Mano de Obra Incluido IVA VALLEDUPAR | O4: V. UNITARIO Mano de Obra Incluido IVA VALLEDUPAR | P4: V. UNITARIO Mano de Obra Incluido IVA LA PAZ | Q4: V. UNITARIO Mano de Obra Incluido IVA LA PAZ | R4: V. UNITARIO Mano de Obra Incluido IVA LA PAZ | S4: V. UNITARIO Mano de Obra Incluido IVA LA PAZ | T4: V. UNITARIO Mano de Obra Incluido IVA LA PAZ | U4: V. UNITARIO Mano de Obra Incluido IVA LA PAZ | V4: V. UNITARIO Mano de Obra Incluido IVA CODAZZI | W4: V. UNITARIO Mano de Obra Incluido IVA CODAZZI | X4: V. UNITARIO Mano de Obra Incluido IVA CODAZZI | Y4: V. UNITARIO Mano de Obra Incluido IVA CODAZZI | Z4: V. UNITARIO Mano de Obra Incluido IVA CODAZZI | AA4: V. UNITARIO Mano de Obra Incluido IVA CODAZZI | AB4: V. UNITARIO Mano de Obra Incluido IVA CHIRIGUANA | AC4: V. UNITARIO Mano de Obra Incluido IVA CHIRIGUANA | AD4: V. UNITARIO Mano de Obra Incluido IVA CHIRIGUANA | AE4: V. UNITARIO Mano de Obra Incluido IVA CHIRIGUANA | AF4: V. UNITARIO Mano de Obra Incluido IVA CHIRIGUANA | AG4: V. UNITARIO Mano de Obra Incluido IVA CHIRIGUANA | AH4: V. UNITARIO Mano de Obra Incluido IVA PAILITAS | AI4: V. UNITARIO Mano de Obra Incluido IVA PAILITAS | AJ4: V. UNITARIO Mano de Obra Incluido IVA PAILITAS | AK4: V. UNITARIO Mano de Obra Incluido IVA PAILITAS | AL4: V. UNITARIO Mano de Obra Incluido IVA PAILITAS | AM4: V. UNITARIO Mano de Obra Incluido IVA PAILITAS | AN4: V. UNITARIO Mano de Obra Incluido IVA PUEBLO BELLO | AO4: V. UNITARIO Mano de Obra Incluido IVA PUEBLO BELLO | AP4: V. UNITARIO Mano de Obra Incluido IVA PUEBLO BELLO | AQ4: V. UNITARIO Mano de Obra Incluido IVA PUEBLO BELLO | AR4: V. UNITARIO Mano de Obra Incluido IVA PUEBLO BELLO | AS4: V. UNITARIO Mano de Obra Incluido IVA PUEBLO BELLO | AT4: V. UNITARIO Mano de Obra Incluido IVA EL PASO CESAR | AU4: V. UNITARIO Mano de Obra Incluido IVA EL PASO CESAR | AV4: V. UNITARIO Mano de Obra Incluido IVA EL PASO CESAR | AW4: V. UNITARIO Mano de Obra Incluido IVA EL PASO CESAR | AX4: V. UNITARIO Mano de Obra Incluido IVA EL PASO CESAR | AY4: V. UNITARIO Mano de Obra Incluido IVA EL PASO CESAR | AZ4: V. UNITARIO Mano de Obra Incluido IVA JAGUA DE IBIRICO | BA4: V. UNITARIO Mano de Obra Incluido IVA JAGUA DE IBIRICO | BB4: V. UNITARIO Mano de Obra Incluido IVA JAGUA DE IBIRICO | BC4: V. UNITARIO Mano de Obra Incluido IVA JAGUA DE IBIRICO | BD4: V. UNITARIO Mano de Obra Incluido IVA JAGUA DE IBIRICO | BE4: V. UNITARIO Mano de Obra Incluido IVA JAGUA DE IBIRICO | BF4: V. UNITARIO Mano de Obra Incluido IVA CURUMANI | BG4: V. UNITARIO Mano de Obra Incluido IVA CURUMANI | BH4: V. UNITARIO Mano de Obra Incluido IVA CURUMANI | BI4: V. UNITARIO Mano de Obra Incluido IVA CURUMANI | BJ4: V. UNITARIO Mano de Obra Incluido IVA CURUMANI | BK4: V. UNITARIO Mano de Obra Incluido IVA CURUMANI | BL4: V. UNITARIO Mano de Obra Incluido IVA SAN ALBERTO | BM4: V. UNITARIO Mano de Obra Incluido IVA SAN ALBERTO | BN4: V. UNITARIO Mano de Obra Incluido IVA SAN ALBERTO | BO4: V. UNITARIO Mano de Obra Incluido IVA SAN ALBERTO | BP4: V. UNITARIO Mano de Obra Incluido IVA SAN ALBERTO | BQ4: V. UNITARIO Mano de Obra Incluido IVA SAN ALBERTO | BR4: V. UNITARIO Mano de Obra Incluido IVA AGUACHICA | BS4: V. UNITARIO Mano de Obra Incluido IVA AGUACHICA | BT4: V. UNITARIO Mano de Obra Incluido IVA AGUACHICA | BU4: V. UNITARIO Mano de Obra Incluido IVA AGUACHICA | BV4: V. UNITARIO Mano de Obra Incluido IVA AGUACHICA | BW4: V. UNITARIO Mano de Obra Incluido IVA AGUACHICA
B5: 1 | C5: INSTALACIÓN O CAMBIO DE PROTECTOR ELECTRÓNICO DE VOLTAJE | D5: 130100 | E5: 243283 | G5: =+ROUND(AVERAGE(AVERAGE(D5:F5),MIN(D5:F5)),0) -> 158396 | H5: 241660.13 | I5: =+ROUND(AVERAGE(G5:H5),0) -> 200028 | J5: 110300 | K5: 178645 | M5: =+ROUND(AVERAGE(AVERAGE(J5:L5),MIN(J5:L5)),0) -> 127386 | N5: 163294.11 | O5: =+ROUND(AVERAGE(M5:N5),0) -> 145340 | P5: 115800 | Q5: 198846 | S5: =+ROUND(AVERAGE(AVERAGE(P5:R5),MIN(P5:R5)),0) -> 136562 | T5: 200521.12 | U5: =+ROUND(AVERAGE(S5:T5),0) -> 168542 | V5: 126800 | W5: 242151 | Y5: =+ROUND(AVERAGE(AVERAGE(V5:X5),MIN(V5:X5)),0) -> 155638 | Z5: 255036.62 | AA5: =+ROUND(AVERAGE(Y5:Z5),0) -> 205337 | AB5: 143300 | AC5: 323702 | AE5: =+ROUND(AVERAGE(AVERAGE(AB5:AD5),MIN(AB5:AD5)),0) -> 188401 | AF5: 282546.76 | AG5: =+ROUND(AVERAGE(AE5:AF5),0) -> 235474 | AH5: 152100 | AI5: 360796 | AK5: =+ROUND(AVERAGE(AVERAGE(AH5:AJ5),MIN(AH5:AJ5)),0) -> 204274 | AL5: 307659.22 | AM5: =+ROUND(AVERAGE(AK5:AL5),0) -> 255967 | AN5: 126800 | AO5: 336968 | AQ5: =+ROUND(AVERAGE(AVERAGE(AN5:AP5),MIN(AN5:AP5)),0) -> 179342 | AR5: 318259.45 | AS5: =+ROUND(AVERAGE(AQ5:AR5),0) -> 248801 | AT5: 137800 | AU5: 336023 | AW5: =+ROUND(AVERAGE(AVERAGE(AT5:AV5),MIN(AT5:AV5)),0) -> 187356 | AX5: 321792.87 | AY5: =+ROUND(AVERAGE(AW5:AX5),0) -> 254574 | AZ5: 143300 | BA5: 389431 | BC5: =+ROUND(AVERAGE(AVERAGE(AZ5:BB5),MIN(AZ5:BB5)),0) -> 204833 | BD5: 327597.76 | BE5: =+ROUND(AVERAGE(BC5:BD5),0) -> 266215 | BF5: 148800 | BG5: 389431 | BI5: =+ROUND(AVERAGE(AVERAGE(BF5:BH5),MIN(BF5:BH5)),0) -> 208958 | BJ5: 260462.93 | BK5: =+ROUND(AVERAGE(BI5:BJ5),0) -> 234710 | BL5: 170900 | BM5: 389431 | BO5: =+ROUND(AVERAGE(AVERAGE(BL5:BN5),MIN(BL5:BN5)),0) -> 225533 | BQ5: =+ROUND(AVERAGE(BO5:BP5),0) -> 225533 | BR5: 165400 | BS5: 389431 | BU5: =+ROUND(AVERAGE(AVERAGE(BR5:BT5),MIN(BR5:BT5)),0) -> 221408 | BW5: =+ROUND(AVERAGE(BU5:BV5),0) -> 221408
B6: 2 | C6: CAMBIO DE CAPACITOR DE ACONDICIONADOR DE AIRE | D6: 99500 | E6: 946779 | G6: =+ROUND(AVERAGE(AVERAGE(D6:F6),MIN(D6:F6)),0) -> 311320 | H6: 333528.84 | I6: =+ROUND(AVERAGE(G6:H6),0) -> 322424 | J6: 84300 | K6: 188399 | M6: =+ROUND(AVERAGE(AVERAGE(J6:L6),MIN(J6:L6)),0) -> 110325 | N6: 165817.97 | O6: =+ROUND(AVERAGE(M6:N6),0) -> 138071 | P6: 88500 | Q6: 207554 | S6: =+ROUND(AVERAGE(AVERAGE(P6:R6),MIN(P6:R6)),0) -> 118264 | T6: 192697.14 | U6: =+ROUND(AVERAGE(S6:T6),0) -> 155481 | V6: 97000 | W6: 250208 | Y6: =+ROUND(AVERAGE(AVERAGE(V6:X6),MIN(V6:X6)),0) -> 135302 | Z6: 232574.22 | AA6: =+ROUND(AVERAGE(Y6:Z6),0) -> 183938 | AB6: 109600 | AC6: 265679 | AE6: =+ROUND(AVERAGE(AVERAGE(AB6:AD6),MIN(AB6:AD6)),0) -> 148620 | AF6: 267151.18 | AG6: =+ROUND(AVERAGE(AE6:AF6),0) -> 207886 | AH6: 116300 | AI6: 294077 | AK6: =+ROUND(AVERAGE(AVERAGE(AH6:AJ6),MIN(AH6:AJ6)),0) -> 160744 | AL6: 291506.48 | AM6: =+ROUND(AVERAGE(AK6:AL6),0) -> 226125 | AN6: 97000 | AO6: 354234 | AQ6: =+ROUND(AVERAGE(AVERAGE(AN6:AP6),MIN(AN6:AP6)),0) -> 161309 | AR6: 275984.71 | AS6: =+ROUND(AVERAGE(AQ6:AR6),0) -> 218647 | AT6: 105400 | AU6: 353333 | AW6: =+ROUND(AVERAGE(AVERAGE(AT6:AV6),MIN(AT6:AV6)),0) -> 167383 | AX6: 297942.34 | AY6: =+ROUND(AVERAGE(AW6:AX6),0) -> 232663 | AZ6: 109600 | BA6: 315577 | BC6: =+ROUND(AVERAGE(AVERAGE(AZ6:BB6),MIN(AZ6:BB6)),0) -> 161094 | BD6: 458586.38 | BE6: =+ROUND(AVERAGE(BC6:BD6),0) -> 309840 | BF6: 113800 | BG6: 315577 | BI6: =+ROUND(AVERAGE(AVERAGE(BF6:BH6),MIN(BF6:BH6)),0) -> 164244 | BJ6: 296806.6 | BK6: =+ROUND(AVERAGE(BI6:BJ6),0) -> 230525 | BL6: 130700 | BM6: 315577 | BO6: =+ROUND(AVERAGE(AVERAGE(BL6:BN6),MIN(BL6:BN6)),0) -> 176919 | BQ6: =+ROUND(AVERAGE(BO6:BP6),0) -> 176919 | BR6: 126500 | BS6: 315577 | BU6: =+ROUND(AVERAGE(AVERAGE(BR6:BT6),MIN(BR6:BT6)),0) -> 173769 | BW6: =+ROUND(AVERAGE(BU6:BV6),0) -> 173769
B7: 3 | C7: CAMBIO DE UNIDAD COMPRESORA DE AIRE TIPO MINI SPLIT, INCLUYE MANO DE OBRA DE: CARGA COMPLETA DE REFRIGERANTE, LIMPIEZA DE TUBERÍA DE COBRE CON NITRÓGENO, CAMBIO DE FILTRO SECADOR. INSUMOS: NITRÓGENO, SOLDADURA | D7: 688800 | E7: 1704612 | G7: =+ROUND(AVERAGE(AVERAGE(D7:F7),MIN(D7:F7)),0) -> 942753 | H7: 808772.74 | I7: =+ROUND(AVERAGE(G7:H7),0) -> 875763 | J7: 583700 | K7: 877500 | M7: =+ROUND(AVERAGE(AVERAGE(J7:L7),MIN(J7:L7)),0) -> 657150 | N7: 723466.08 | O7: =+ROUND(AVERAGE(M7:N7),0) -> 690308 | P7: 612900 | Q7: 813132 | S7: =+ROUND(AVERAGE(AVERAGE(P7:R7),MIN(P7:R7)),0) -> 662958 | T7: 582255.8 | U7: =+ROUND(AVERAGE(S7:T7),0) -> 622607 | V7: 671200 | W7: 958675 | Y7: =+ROUND(AVERAGE(AVERAGE(V7:X7),MIN(V7:X7)),0) -> 743069 | Z7: 671600.64 | AA7: =+ROUND(AVERAGE(Y7:Z7),0) -> 707335 | AB7: 758800 | AC7: 1029863 | AE7: =+ROUND(AVERAGE(AVERAGE(AB7:AD7),MIN(AB7:AD7)),0) -> 826566 | AF7: 614056.51 | AG7: =+ROUND(AVERAGE(AE7:AF7),0) -> 720311 | AH7: 805500 | AI7: 1138005 | AK7: =+ROUND(AVERAGE(AVERAGE(AH7:AJ7),MIN(AH7:AJ7)),0) -> 888626 | AL7: 886381.61 | AM7: =+ROUND(AVERAGE(AK7:AL7),0) -> 887504 | AN7: 671200 | AO7: 1412355 | AQ7: =+ROUND(AVERAGE(AVERAGE(AN7:AP7),MIN(AN7:AP7)),0) -> 856489 | AR7: 709584.82 | AS7: =+ROUND(AVERAGE(AQ7:AR7),0) -> 783037 | AT7: 729600 | AU7: 1408792 | AW7: =+ROUND(AVERAGE(AVERAGE(AT7:AV7),MIN(AT7:AV7)),0) -> 899398 | AX7: 745676.1 | AY7: =+ROUND(AVERAGE(AW7:AX7),0) -> 822537 | AZ7: 758800 | BA7: 1223490 | BC7: =+ROUND(AVERAGE(AVERAGE(AZ7:BB7),MIN(AZ7:BB7)),0) -> 874973 | BD7: 868462.16 | BE7: =+ROUND(AVERAGE(BC7:BD7),0) -> 871718 | BF7: 788000 | BG7: 1223490 | BI7: =+ROUND(AVERAGE(AVERAGE(BF7:BH7),MIN(BF7:BH7)),0) -> 896873 | BJ7: 813568.08 | BK7: =+ROUND(AVERAGE(BI7:BJ7),0) -> 855221 | BL7: 904700 | BM7: 1223490 | BO7: =+ROUND(AVERAGE(AVERAGE(BL7:BN7),MIN(BL7:BN7)),0) -> 984398 | BQ7: =+ROUND(AVERAGE(BO7:BP7),0) -> 984398 | BR7: 875500 | BS7: 1223490 | BU7: =+ROUND(AVERAGE(AVERAGE(BR7:BT7),MIN(BR7:BT7)),0) -> 962498 | BW7: =+ROUND(AVERAGE(BU7:BV7),0) -> 962498
B8: 4 | C8: CAMBIO DE UNIDAD COMPRESORA DE AIRE TIPO CENTRAL, INCLUYE MANO DE OBRA DE: CARGA COMPLETA DE REFRIGERANTE, LIMPIEZA DE TUBERÍA DE COBRE CON NITRÓGENO, CAMBIO DE FILTRO SECADOR. INSUMOS: NITRÓGENO, SOLDADURA | D8: N/A | E8: N/A | F8: N/A | G8: N/A | H8: 780757.83 | I8: 780757.83 | J8: 1011700 | K8: 1282500 | M8: =+ROUND(AVERAGE(AVERAGE(J8:L8),MIN(J8:L8)),0) -> 1079400 | N8: 904174.86 | O8: =+ROUND(AVERAGE(M8:N8),0) -> 991787 | P8: N/A | Q8: N/A | R8: N/A | S8: N/A | T8: 959573.71 | U8: 959573.71 | V8: N/A | W8: N/A | X8: N/A | Y8: N/A | Z8: 843097.31 | AA8: 843097.31 | AB8: N/A | AC8: N/A | AD8: N/A | AE8: N/A | AF8: 1142301.6 | AG8: N/A | AH8: N/A | AI8: N/A | AJ8: N/A | AK8: N/A | AL8: 1335882.1 | AM8: N/A | AN8: N/A | AO8: N/A | AP8: N/A | AQ8: N/A | AR8: 940770.91 | AS8: N/A | AT8: N/A | AU8: N/A | AV8: N/A | AW8: N/A | AX8: 1100026.8 | AY8: N/A | AZ8: N/A | BA8: N/A | BB8: N/A | BC8: N/A | BD8: 824294.51 | BE8: N/A | BF8: N/A | BG8: N/A | BH8: N/A | BI8: N/A | BJ8: 1222181.9 | BK8: N/A | BL8: N/A | BM8: N/A | BN8: N/A | BO8: N/A | BP8: N/A | BQ8: N/A | BR8: N/A | BS8: N/A | BT8: N/A | BU8: N/A | BV8: N/A | BW8: N/A
B9: 5 | C9: CAMBIO TARJETA ELECTRÓNICA DE ACONDICIONADOR DE AIRE | D9: 183700 | E9: 889595 | G9: =+ROUND(AVERAGE(AVERAGE(D9:F9),MIN(D9:F9)),0) -> 360174 | H9: 371891.6 | I9: =+ROUND(AVERAGE(G9:H9),0) -> 366033 | J9: 155700 | K9: 256500 | M9: =+ROUND(AVERAGE(AVERAGE(J9:L9),MIN(J9:L9)),0) -> 180900 | N9: 214402.38 | O9: =+ROUND(AVERAGE(M9:N9),0) -> 197651 | P9: 163400 | Q9: 257731 | S9: =+ROUND(AVERAGE(AVERAGE(P9:R9),MIN(P9:R9)),0) -> 186983 | T9: 246707.86 | U9: =+ROUND(AVERAGE(S9:T9),0) -> 216845 | V9: 179000 | W9: 308248 | Y9: =+ROUND(AVERAGE(AVERAGE(V9:X9),MIN(V9:X9)),0) -> 211312 | Z9: 311571.21 | AA9: =+ROUND(AVERAGE(Y9:Z9),0) -> 261442 | AB9: 202300 | AC9: 328556 | AE9: =+ROUND(AVERAGE(AVERAGE(AB9:AD9),MIN(AB9:AD9)),0) -> 233864 | AF9: 344633.85 | AG9: =+ROUND(AVERAGE(AE9:AF9),0) -> 289249 | AH9: 214800 | AI9: 363572 | AK9: =+ROUND(AVERAGE(AVERAGE(AH9:AJ9),MIN(AH9:AJ9)),0) -> 251993 | AL9: 379841.78 | AM9: =+ROUND(AVERAGE(AK9:AL9),0) -> 315917 | AN9: 179000 | AO9: 443236 | AQ9: =+ROUND(AVERAGE(AVERAGE(AN9:AP9),MIN(AN9:AP9)),0) -> 245059 | AR9: 373405.92 | AS9: =+ROUND(AVERAGE(AQ9:AR9),0) -> 309232 | AT9: 194600 | AU9: 442091 | AW9: =+ROUND(AVERAGE(AVERAGE(AT9:AV9),MIN(AT9:AV9)),0) -> 256473 | AX9: 382870.41 | AY9: =+ROUND(AVERAGE(AW9:AX9),0) -> 319672 | AZ9: 202300 | BA9: 390739 | BC9: =+ROUND(AVERAGE(AVERAGE(AZ9:BB9),MIN(AZ9:BB9)),0) -> 249410 | BD9: 520799.67 | BE9: =+ROUND(AVERAGE(BC9:BD9),0) -> 385105 | BF9: 210100 | BG9: 390739 | BI9: =+ROUND(AVERAGE(AVERAGE(BF9:BH9),MIN(BF9:BH9)),0) -> 255260 | BJ9: 388927.69 | BK9: =+ROUND(AVERAGE(BI9:BJ9),0) -> 322094 | BL9: 241300 | BM9: 390739 | BO9: =+ROUND(AVERAGE(AVERAGE(BL9:BN9),MIN(BL9:BN9)),0) -> 278660 | BQ9: =+ROUND(AVERAGE(BO9:BP9),0) -> 278660 | BR9: 233500 | BS9: 390739 | BU9: =+ROUND(AVERAGE(AVERAGE(BR9:BT9),MIN(BR9:BT9)),0) -> 272810 | BW9: =+ROUND(AVERAGE(BU9:BV9),0) -> 272810
B10: 6 | C10: UBICACIÓN Y CORRECCIÓN DE FUGA DE GAS REFRIGERANTE Y ACEITE EN EL SISTEMA MINI SPLIT O CENTRAL, INCLUYE MANO DE OBRA DE: VACÍO, CARGA COMPLETA DE REFRIGERANTE, LIMPIEZA DE TUBERÍA DE COBRE CON NITRÓGENO, INSTALACIÓN DE FILTRO SECADOR. INSUMOS: NITRÓGENO, SOLDADURA Y DEMÁS ACTIVIDADES QUE GARANTICEN SU CORRECTO FUNCIONAMIENTO | D10: 581600 | E10: 610938 | G10: =+ROUND(AVERAGE(AVERAGE(D10:F10),MIN(D10:F10)),0) -> 588935 | H10: 789591.36 | I10: =+ROUND(AVERAGE(G10:H10),0) -> 689263 | J10: 492900 | K10: 714474 | M10: =+ROUND(AVERAGE(AVERAGE(J10:L10),MIN(J10:L10)),0) -> 548294 | N10: 749209.51 | O10: =+ROUND(AVERAGE(M10:N10),0) -> 648752 | P10: 517500 | Q10: 783170 | S10: =+ROUND(AVERAGE(AVERAGE(P10:R10),MIN(P10:R10)),0) -> 583918 | T10: 779243.51 | U10: =+ROUND(AVERAGE(S10:T10),0) -> 681581 | V10: 566800 | W10: 904549 | Y10: =+ROUND(AVERAGE(AVERAGE(V10:X10),MIN(V10:X10)),0) -> 651237 | Z10: 855969.03 | AA10: =+ROUND(AVERAGE(Y10:Z10),0) -> 753603 | AB10: 640800 | AC10: 988858 | AE10: =+ROUND(AVERAGE(AVERAGE(AB10:AD10),MIN(AB10:AD10)),0) -> 727815 | AF10: 952380.69 | AG10: =+ROUND(AVERAGE(AE10:AF10),0) -> 840098 | AH10: 680200 | AI10: 1084997 | AK10: =+ROUND(AVERAGE(AVERAGE(AH10:AJ10),MIN(AH10:AJ10)),0) -> 781399 | AL10: 1050937.6 | AM10: =+ROUND(AVERAGE(AK10:AL10),0) -> 916168 | AN10: 566800 | AO10: 1306164 | AQ10: =+ROUND(AVERAGE(AVERAGE(AN10:AP10),MIN(AN10:AP10)),0) -> 751641 | AR10: 1117693.9 | AS10: =+ROUND(AVERAGE(AQ10:AR10),0) -> 934667 | AT10: 616100 | AU10: 1305091 | AW10: =+ROUND(AVERAGE(AVERAGE(AT10:AV10),MIN(AT10:AV10)),0) -> 788348 | AX10: 1113781.9 | AY10: =+ROUND(AVERAGE(AW10:AX10),0) -> 951065 | AZ10: 640800 | BA10: 1162275 | BC10: =+ROUND(AVERAGE(AVERAGE(AZ10:BB10),MIN(AZ10:BB10)),0) -> 771169 | BD10: 899505.71 | BE10: =+ROUND(AVERAGE(BC10:BD10),0) -> 835337 | BF10: 665400 | BG10: 1162275 | BI10: =+ROUND(AVERAGE(AVERAGE(BF10:BH10),MIN(BF10:BH10)),0) -> 789619 | BJ10: 1081981.2 | BK10: =+ROUND(AVERAGE(BI10:BJ10),0) -> 935800 | BL10: 764000 | BM10: 1162275 | BO10: =+ROUND(AVERAGE(AVERAGE(BL10:BN10),MIN(BL10:BN10)),0) -> 863569 | BQ10: =+ROUND(AVERAGE(BO10:BP10),0) -> 863569 | BR10: 739300 | BS10: 1162275 | BU10: =+ROUND(AVERAGE(AVERAGE(BR10:BT10),MIN(BR10:BT10)),0) -> 845044 | BW10: =+ROUND(AVERAGE(BU10:BV10),0) -> 845044
B11: 7 | C11: DESMOTE DE ACONDICIONADOR DE AIRE TIPO CENTRAL DE 60.000 BTU | D11: N/A | E11: N/A | F11: N/A | G11: N/A | H11: 284944.43 | I11: 284944.43 | J11: 415100 | K11: 337500 | M11: =+ROUND(AVERAGE(AVERAGE(J11:L11),MIN(J11:L11)),0) -> 356900 | N11: 207966.53 | O11: =+ROUND(AVERAGE(M11:N11),0) -> 282433 | P11: N/A | Q11: N/A | R11: N/A | S11: N/A | T11: 276110.9 | U11: 276110.9 | V11: N/A | W11: N/A | X11: N/A | Y11: N/A | Z11: 298951.88 | AA11: N/A | AB11: N/A | AC11: N/A | AD11: N/A | AE11: N/A | AF11: 390946.78 | AG11: N/A | AH11: N/A | AI11: N/A | AJ11: N/A | AK11: N/A | AL11: 482184.53 | AM11: N/A | AN11: N/A | AO11: N/A | AP11: N/A | AQ11: N/A | AR11: 310056.89 | AS11: N/A | AT11: N/A | AU11: N/A | AV11: N/A | AW11: N/A | AX11: 302485.29 | AY11: N/A | AZ11: N/A | BA11: N/A | BB11: N/A | BC11: N/A | BD11: 308794.96 | BE11: N/A | BF11: N/A | BG11: N/A | BH11: N/A | BI11: N/A | BJ11: 463129.34 | BK11: N/A | BL11: N/A | BM11: N/A | BN11: N/A | BO11: N/A | BP11: N/A | BQ11: N/A | BR11: N/A | BS11: N/A | BT11: N/A | BU11: N/A | BV11: N/A | BW11: N/A
B12: 8 | C12: DESMOTE DE ACONDICIONADOR DE AIRE TIPO MINI SPLIT | D12: 229600 | E12: 1373394 | G12: =+ROUND(AVERAGE(AVERAGE(D12:F12),MIN(D12:F12)),0) -> 515549 | H12: 507423.18 | I12: =+ROUND(AVERAGE(G12:H12),0) -> 511486 | J12: 194600 | K12: 229500 | M12: =+ROUND(AVERAGE(AVERAGE(J12:L12),MIN(J12:L12)),0) -> 203325 | N12: 254531.85 | O12: =+ROUND(AVERAGE(M12:N12),0) -> 228928 | P12: 204300 | Q12: 275632 | S12: =+ROUND(AVERAGE(AVERAGE(P12:R12),MIN(P12:R12)),0) -> 222133 | T12: 270810.78 | U12: =+ROUND(AVERAGE(S12:T12),0) -> 246472 | V12: 223700 | W12: 339185 | Y12: =+ROUND(AVERAGE(AVERAGE(V12:X12),MIN(V12:X12)),0) -> 252571 | Z12: 318638.03 | AA12: =+ROUND(AVERAGE(Y12:Z12),0) -> 285605 | AB12: 252900 | AC12: 364688 | AE12: =+ROUND(AVERAGE(AVERAGE(AB12:AD12),MIN(AB12:AD12)),0) -> 280847 | AF12: 400916.05 | AG12: =+ROUND(AVERAGE(AE12:AF12),0) -> 340882 | AH12: 268500 | AI12: 400813 | AK12: =+ROUND(AVERAGE(AVERAGE(AH12:AJ12),MIN(AH12:AJ12)),0) -> 301578 | AL12: 429561.93 | AM12: =+ROUND(AVERAGE(AK12:AL12),0) -> 365570 | AN12: 223700 | AO12: 471168 | AQ12: =+ROUND(AVERAGE(AVERAGE(AN12:AP12),MIN(AN12:AP12)),0) -> 285567 | AR12: 415428.28 | AS12: =+ROUND(AVERAGE(AQ12:AR12),0) -> 350498 | AT12: 243200 | AU12: 469924 | AW12: =+ROUND(AVERAGE(AVERAGE(AT12:AV12),MIN(AT12:AV12)),0) -> 299881 | AX12: 409497.2 | AY12: =+ROUND(AVERAGE(AW12:AX12),0) -> 354689 | AZ12: 252900 | BA12: 429532 | BC12: =+ROUND(AVERAGE(AVERAGE(AZ12:BB12),MIN(AZ12:BB12)),0) -> 297058 | BD12: 652924.04 | BE12: =+ROUND(AVERAGE(BC12:BD12),0) -> 474991 | BF12: 262700 | BG12: 429532 | BI12: =+ROUND(AVERAGE(AVERAGE(BF12:BH12),MIN(BF12:BH12)),0) -> 304408 | BJ12: 429057.16 | BK12: =+ROUND(AVERAGE(BI12:BJ12),0) -> 366733 | BL12: 301600 | BM12: 429532 | BO12: =+ROUND(AVERAGE(AVERAGE(BL12:BN12),MIN(BL12:BN12)),0) -> 333583 | BQ12: =+ROUND(AVERAGE(BO12:BP12),0) -> 333583 | BR12: 291800 | BS12: 429532 | BU12: =+ROUND(AVERAGE(AVERAGE(BR12:BT12),MIN(BR12:BT12)),0) -> 326233 | BW12: =+ROUND(AVERAGE(BU12:BV12),0) -> 326233
B13: 9 | C13: INSTALACIÓN DE ACONDICIONADOR DE AIRE TIPO CENTRAL DE 60.000 BTU INCLUYE MANO DE OBRA DE: VACÍO, CARGA COMPLETA DE REFRIGERANTE, LIMPIEZA DE TUBERÍA DE COBRE CON NITRÓGENO, INSTALACIÓN DE FILTRO SECADOR. INSUMOS: NITRÓGENO, SOLDADURA Y DEMÁS ACTIVIDADES QUE GARANTICEN SU CORRECTO FUNCIONAMIENTO | D13: N/A | E13: N/A | F13: N/A | G13: N/A | H13: 581246.25 | I13: 581246.25 | J13: 972800 | K13: 1485000 | M13: =+ROUND(AVERAGE(AVERAGE(J13:L13),MIN(J13:L13)),0) -> 1100850 | N13: 639295.16 | O13: =+ROUND(AVERAGE(M13:N13),0) -> 870073 | P13: N/A | Q13: N/A | R13: N/A | S13: N/A | T13: 785300.79 | U13: 785300.79 | V13: N/A | W13: N/A | X13: N/A | Y13: N/A | Z13: 675260.25 | AA13: 675260.25 | AB13: N/A | AC13: N/A | AD13: N/A | AE13: N/A | AF13: 814451.44 | AG13: N/A | AH13: N/A | AI13: N/A | AJ13: N/A | AK13: N/A | AL13: 893827.01 | AM13: N/A | AN13: N/A | AO13: N/A | AP13: N/A | AQ13: N/A | AR13: 740754.56 | AS13: 740754.56 | AT13: N/A | AU13: N/A | AV13: N/A | AW13: N/A | AX13: 746685.64 | AY13: N/A | AZ13: N/A | BA13: N/A | BB13: N/A | BC13: N/A | BD13: 631344.98 | BE13: N/A | BF13: N/A | BG13: N/A | BH13: N/A | BI13: N/A | BJ13: 868840.74 | BK13: N/A | BL13: N/A | BM13: N/A | BN13: N/A | BO13: N/A | BP13: N/A | BQ13: N/A | BR13: N/A | BS13: N/A | BT13: N/A | BU13: N/A | BV13: N/A | BW13: N/A
B14: 10 | C14: INSTALACIÓN DE ACONDICIONADOR DE AIRE TIPO MINI SPLIT (12000-18000-24000 BTU) INCLUYE MANO DE OBRA DE: VACÍO, CARGA COMPLETA DE REFRIGERANTE, LIMPIEZA DE TUBERÍA DE COBRE CON NITRÓGENO, INSTALACIÓN DE FILTRO SECADOR. INSUMOS: NITRÓGENO, SOLDADURA Y DEMÁS ACTIVIDADES QUE GARANTICEN SU CORRECTO FUNCIONAMIENTO | D14: 520400 | E14: 393966 | G14: =+ROUND(AVERAGE(AVERAGE(D14:F14),MIN(D14:F14)),0) -> 425575 | H14: 513606.65 | I14: =+ROUND(AVERAGE(G14:H14),0) -> 469591 | J14: 441000 | K14: 538398 | M14: =+ROUND(AVERAGE(AVERAGE(J14:L14),MIN(J14:L14)),0) -> 465350 | N14: 499599.2 | O14: =+ROUND(AVERAGE(M14:N14),0) -> 482475 | P14: 463100 | Q14: 584840 | S14: =+ROUND(AVERAGE(AVERAGE(P14:R14),MIN(P14:R14)),0) -> 493535 | T14: 537204.8 | U14: =+ROUND(AVERAGE(S14:T14),0) -> 515370 | V14: 507200 | W14: 687732 | Y14: =+ROUND(AVERAGE(AVERAGE(V14:X14),MIN(V14:X14)),0) -> 552333 | Z14: 607494.45 | AA14: =+ROUND(AVERAGE(Y14:Z14),0) -> 579914 | AB14: 573300 | AC14: 752127 | AE14: =+ROUND(AVERAGE(AVERAGE(AB14:AD14),MIN(AB14:AD14)),0) -> 618007 | AF14: 693558.27 | AG14: =+ROUND(AVERAGE(AE14:AF14),0) -> 655783 | AH14: 608600 | AI14: 823348 | AK14: =+ROUND(AVERAGE(AVERAGE(AH14:AJ14),MIN(AH14:AJ14)),0) -> 662287 | AL14: 758421.62 | AM14: =+ROUND(AVERAGE(AK14:AL14),0) -> 710354 | AN14: 507200 | AO14: 985583 | AQ14: =+ROUND(AVERAGE(AVERAGE(AN14:AP14),MIN(AN14:AP14)),0) -> 626796 | AR14: 786184.14 | AS14: =+ROUND(AVERAGE(AQ14:AR14),0) -> 706490 | AT14: 551300 | AU14: 982294 | AW14: =+ROUND(AVERAGE(AVERAGE(AT14:AV14),MIN(AT14:AV14)),0) -> 659049 | AX14: 794260.51 | AY14: =+ROUND(AVERAGE(AW14:AX14),0) -> 726655 | AZ14: 573300 | BA14: 880896 | BC14: =+ROUND(AVERAGE(AVERAGE(AZ14:BB14),MIN(AZ14:BB14)),0) -> 650199 | BD14: 645731.02 | BE14: =+ROUND(AVERAGE(BC14:BD14),0) -> 647965 | BF14: 595400 | BG14: 880896 | BI14: =+ROUND(AVERAGE(AVERAGE(BF14:BH14),MIN(BF14:BH14)),0) -> 666774 | BJ14: 786057.95 | BK14: =+ROUND(AVERAGE(BI14:BJ14),0) -> 726416 | BL14: 683600 | BM14: 880896 | BO14: =+ROUND(AVERAGE(AVERAGE(BL14:BN14),MIN(BL14:BN14)),0) -> 732924 | BQ14: =+ROUND(AVERAGE(BO14:BP14),0) -> 732924 | BR14: 661500 | BS14: 880896 | BU14: =+ROUND(AVERAGE(AVERAGE(BR14:BT14),MIN(BR14:BT14)),0) -> 716349 | BW14: =+ROUND(AVERAGE(BU14:BV14),0) -> 716349
B15: 11 | C15: REPARACIÓN TARJETA ELECTRÓNICA ORIGINAL DE ACONDICIONADOR DE AIRE | D15: 398000 | E15: 567294 | G15: =+ROUND(AVERAGE(AVERAGE(D15:F15),MIN(D15:F15)),0) -> 440324 | H15: 398644.57 | I15: =+ROUND(AVERAGE(G15:H15),0) -> 419484 | J15: 337200 | K15: 286324 | M15: =+ROUND(AVERAGE(AVERAGE(J15:L15),MIN(J15:L15)),0) -> 299043 | N15: 255415.2 | O15: =+ROUND(AVERAGE(M15:N15),0) -> 277229 | P15: 354100 | Q15: 317814 | S15: =+ROUND(AVERAGE(AVERAGE(P15:R15),MIN(P15:R15)),0) -> 326886 | T15: 296175.63 | U15: =+ROUND(AVERAGE(S15:T15),0) -> 311531 | V15: 387800 | W15: 388726 | Y15: =+ROUND(AVERAGE(AVERAGE(V15:X15),MIN(V15:X15)),0) -> 388032 | Z15: 352205.45 | AA15: =+ROUND(AVERAGE(Y15:Z15),0) -> 370119 | AB15: 438400 | AC15: 403388 | AE15: =+ROUND(AVERAGE(AVERAGE(AB15:AD15),MIN(AB15:AD15)),0) -> 412141 | AF15: 396499.29 | AG15: =+ROUND(AVERAGE(AE15:AF15),0) -> 404320 | AH15: 465400 | AI15: 449538 | AK15: =+ROUND(AVERAGE(AVERAGE(AH15:AJ15),MIN(AH15:AJ15)),0) -> 453504 | AL15: 440540.74 | AM15: =+ROUND(AVERAGE(AK15:AL15),0) -> 447022 | AN15: 387800 | AO15: 552601 | AQ15: =+ROUND(AVERAGE(AVERAGE(AN15:AP15),MIN(AN15:AP15)),0) -> 429000 | AR15: 461615.02 | AS15: =+ROUND(AVERAGE(AQ15:AR15),0) -> 445308 | AT15: 421600 | AU15: 548418 | AW15: =+ROUND(AVERAGE(AVERAGE(AT15:AV15),MIN(AT15:AV15)),0) -> 453305 | AX15: 479155.89 | AY15: =+ROUND(AVERAGE(AW15:AX15),0) -> 466230 | AZ15: 438400 | BA15: 485689 | BC15: =+ROUND(AVERAGE(AVERAGE(AZ15:BB15),MIN(AZ15:BB15)),0) -> 450222 | BD15: 515120.97 | BE15: =+ROUND(AVERAGE(BC15:BD15),0) -> 482671 | BF15: 455300 | BG15: 485689 | BI15: =+ROUND(AVERAGE(AVERAGE(BF15:BH15),MIN(BF15:BH15)),0) -> 462897 | BJ15: 454674.39 | BK15: =+ROUND(AVERAGE(BI15:BJ15),0) -> 458786 | BL15: 522700 | BM15: 485689 | BO15: =+ROUND(AVERAGE(AVERAGE(BL15:BN15),MIN(BL15:BN15)),0) -> 494942 | BQ15: =+ROUND(AVERAGE(BO15:BP15),0) -> 494942 | BR15: 505900 | BS15: 485689 | BU15: =+ROUND(AVERAGE(AVERAGE(BR15:BT15),MIN(BR15:BT15)),0) -> 490742 | BW15: =+ROUND(AVERAGE(BU15:BV15),0) -> 490742
B16: 12 | C16: REUBICACIÓN CONDENSADORA ACONDICIONADOR DE AIRE TIPO MINI SPLIT INCLUYE MANO DE OBRA DE: VACÍO, CARGA COMPLETA DE REFRIGERANTE, LIMPIEZA DE TUBERÍA DE COBRE CON NITRÓGENO, INSTALACIÓN DE FILTRO SECADOR. INSUMOS: NITRÓGENO, SOLDADURA Y DEMÁS ACTIVIDADES QUE GARANTICEN SU CORRECTO FUNCIONAMIENTO | D16: 581600 | E16: 1191733 | G16: =+ROUND(AVERAGE(AVERAGE(D16:F16),MIN(D16:F16)),0) -> 734133 | H16: 564336.35 | I16: =+ROUND(AVERAGE(G16:H16),0) -> 649235 | J16: 492900 | K16: 454049 | M16: =+ROUND(AVERAGE(AVERAGE(J16:L16),MIN(J16:L16)),0) -> 463762 | N16: 514363.81 | O16: =+ROUND(AVERAGE(M16:N16),0) -> 489063 | P16: 517500 | Q16: 494063 | S16: =+ROUND(AVERAGE(AVERAGE(P16:R16),MIN(P16:R16)),0) -> 499922 | T16: 518906.77 | U16: =+ROUND(AVERAGE(S16:T16),0) -> 509414 | V16: 566800 | W16: 582601 | Y16: =+ROUND(AVERAGE(AVERAGE(V16:X16),MIN(V16:X16)),0) -> 570750 | Z16: 434609.66 | AA16: =+ROUND(AVERAGE(Y16:Z16),0) -> 502680 | AB16: 640800 | AC16: 633289 | AE16: =+ROUND(AVERAGE(AVERAGE(AB16:AD16),MIN(AB16:AD16)),0) -> 635167 | AF16: 553231.34 | AG16: =+ROUND(AVERAGE(AE16:AF16),0) -> 594199 | AH16: 680200 | AI16: 694436 | AK16: =+ROUND(AVERAGE(AVERAGE(AH16:AJ16),MIN(AH16:AJ16)),0) -> 683759 | AL16: 527992.69 | AM16: =+ROUND(AVERAGE(AK16:AL16),0) -> 605876 | AN16: 566800 | AO16: 826830 | AQ16: =+ROUND(AVERAGE(AVERAGE(AN16:AP16),MIN(AN16:AP16)),0) -> 631808 | AR16: 486979.87 | AS16: =+ROUND(AVERAGE(AQ16:AR16),0) -> 559394 | AT16: 616100 | AU16: 822996 | AW16: =+ROUND(AVERAGE(AVERAGE(AT16:AV16),MIN(AT16:AV16)),0) -> 667824 | AX16: 525468.82 | AY16: =+ROUND(AVERAGE(AW16:AX16),0) -> 596646 | AZ16: 640800 | BA16: 744746 | BC16: =+ROUND(AVERAGE(AVERAGE(AZ16:BB16),MIN(AZ16:BB16)),0) -> 666787 | BD16: 595127.51 | BE16: =+ROUND(AVERAGE(BC16:BD16),0) -> 630957 | BF16: 665400 | BG16: 744746 | BI16: =+ROUND(AVERAGE(AVERAGE(BF16:BH16),MIN(BF16:BH16)),0) -> 685237 | BJ16: 527361.72 | BK16: =+ROUND(AVERAGE(BI16:BJ16),0) -> 606299 | BL16: 764000 | BM16: 744746 | BO16: =+ROUND(AVERAGE(AVERAGE(BL16:BN16),MIN(BL16:BN16)),0) -> 749560 | BQ16: =+ROUND(AVERAGE(BO16:BP16),0) -> 749560 | BR16: 739300 | BS16: 744746 | BU16: =+ROUND(AVERAGE(AVERAGE(BR16:BT16),MIN(BR16:BT16)),0) -> 740662 | BW16: =+ROUND(AVERAGE(BU16:BV16),0) -> 740662
B17: 13 | C17: REUBICACIÓN MANEJADORA ACONDICIONADOR DE AIRE TIPO CENTRAL INCLUYE MANO DE OBRA DE: VACÍO, CARGA COMPLETA DE REFRIGERANTE, LIMPIEZA DE TUBERÍA DE COBRE CON NITRÓGENO, INSTALACIÓN DE FILTRO SECADOR. INSUMOS: NITRÓGENO, SOLDADURA Y DEMÁS ACTIVIDADES QUE GARANTICEN SU CORRECTO FUNCIONAMIENTO | D17: N/A | E17: N/A | F17: N/A | G17: N/A | H17: 489377.54 | I17: 489377.54 | J17: 804200 | K17: 742456 | M17: =+ROUND(AVERAGE(AVERAGE(J17:L17),MIN(J17:L17)),0) -> 757892 | N17: 440414.55 | O17: =+ROUND(AVERAGE(M17:N17),0) -> 599153 | P17: N/A | Q17: N/A | R17: N/A | S17: N/A | T17: 505656.48 | U17: 505656.48 | V17: N/A | W17: N/A | X17: N/A | Y17: N/A | Z17: 562191.07 | AA17: N/A | AB17: N/A | AC17: N/A | AD17: N/A | AE17: N/A | AF17: 642954.77 | AG17: N/A | AH17: N/A | AI17: N/A | AJ17: N/A | AK17: N/A | AL17: 700751.29 | AM17: N/A | AN17: N/A | AO17: N/A | AP17: N/A | AQ17: N/A | AR17: 609008.77 | AS17: N/A | AT17: N/A | AU17: N/A | AV17: N/A | AW17: N/A | AX17: 622763.84 | AY17: N/A | AZ17: N/A | BA17: N/A | BB17: N/A | BC17: N/A | BD17: 530390.36 | BE17: N/A | BF17: N/A | BG17: N/A | BH17: N/A | BI17: N/A | BJ17: 705925.21 | BK17: N/A | BL17: N/A | BM17: N/A | BN17: N/A | BO17: N/A | BP17: N/A | BQ17: N/A | BR17: N/A | BS17: N/A | BT17: N/A | BU17: N/A | BV17: N/A | BW17: N/A
B18: 14 | C18: REUBICACIÓN MANEJADORA ACONDICIONADOR DE AIRE TIPO MINI SPLIT INCLUYE MANO DE OBRA DE: VACÍO, CARGA COMPLETA DE REFRIGERANTE, LIMPIEZA DE TUBERÍA DE COBRE CON NITRÓGENO, INSTALACIÓN DE FILTRO SECADOR. INSUMOS: NITRÓGENO, SOLDADURA Y DEMÁS ACTIVIDADES QUE GARANTICEN SU CORRECTO FUNCIONAMIENTO | D18: 459200 | E18: 495337 | G18: =+ROUND(AVERAGE(AVERAGE(D18:F18),MIN(D18:F18)),0) -> 468234 | H18: 459091.16 | I18: =+ROUND(AVERAGE(G18:H18),0) -> 463663 | J18: 389100 | K18: 364827 | M18: =+ROUND(AVERAGE(AVERAGE(J18:L18),MIN(J18:L18)),0) -> 370895 | N18: 463381.73 | O18: =+ROUND(AVERAGE(M18:N18),0) -> 417138 | P18: 408600 | Q18: 407123 | S18: =+ROUND(AVERAGE(AVERAGE(P18:R18),MIN(P18:R18)),0) -> 407492 | T18: 524459.28 | U18: =+ROUND(AVERAGE(S18:T18),0) -> 465976 | V18: 447500 | W18: 491990 | Y18: =+ROUND(AVERAGE(AVERAGE(V18:X18),MIN(V18:X18)),0) -> 458623 | Z18: 571024.6 | AA18: =+ROUND(AVERAGE(Y18:Z18),0) -> 514824 | AB18: 505900 | AC18: 504479 | AE18: =+ROUND(AVERAGE(AVERAGE(AB18:AD18),MIN(AB18:AD18)),0) -> 504834 | AF18: 570267.44 | AG18: =+ROUND(AVERAGE(AE18:AF18),0) -> 537551 | AH18: 537000 | AI18: 571275 | AK18: =+ROUND(AVERAGE(AVERAGE(AH18:AJ18),MIN(AH18:AJ18)),0) -> 545569 | AL18: 697091.68 | AM18: =+ROUND(AVERAGE(AK18:AL18),0) -> 621330 | AN18: 447500 | AO18: 704602 | AQ18: =+ROUND(AVERAGE(AVERAGE(AN18:AP18),MIN(AN18:AP18)),0) -> 511776 | AR18: 468429.46 | AS18: =+ROUND(AVERAGE(AQ18:AR18),0) -> 490103 | AT18: 486400 | AU18: 699423 | AW18: =+ROUND(AVERAGE(AVERAGE(AT18:AV18),MIN(AT18:AV18)),0) -> 539656 | AX18: 506792.22 | AY18: =+ROUND(AVERAGE(AW18:AX18),0) -> 523224 | AZ18: 505900 | BA18: 616333 | BC18: =+ROUND(AVERAGE(AVERAGE(AZ18:BB18),MIN(AZ18:BB18)),0) -> 533508 | BD18: 487484.64 | BE18: =+ROUND(AVERAGE(BC18:BD18),0) -> 510496 | BF18: 525300 | BG18: 616333 | BI18: =+ROUND(AVERAGE(AVERAGE(BF18:BH18),MIN(BF18:BH18)),0) -> 548058 | BJ18: 507927.96 | BK18: =+ROUND(AVERAGE(BI18:BJ18),0) -> 527993 | BL18: 603200 | BM18: 616333 | BO18: =+ROUND(AVERAGE(AVERAGE(BL18:BN18),MIN(BL18:BN18)),0) -> 606483 | BQ18: =+ROUND(AVERAGE(BO18:BP18),0) -> 606483 | BR18: 583700 | BS18: 616333 | BU18: =+ROUND(AVERAGE(AVERAGE(BR18:BT18),MIN(BR18:BT18)),0) -> 591858 | BW18: =+ROUND(AVERAGE(BU18:BV18),0) -> 591858
B19: 15 | C19: CAMBIO DE CONDENSADORA DE AIRE TIPO MINI SPLIT INCLUYE MANO DE OBRA DE: VACÍO, CARGA COMPLETA DE REFRIGERANTE, LIMPIEZA DE TUBERÍA DE COBRE CON NITRÓGENO, INSTALACIÓN DE FILTRO SECADOR. INSUMOS: NITRÓGENO, SOLDADURA Y DEMÁS ACTIVIDADES QUE GARANTICEN SU CORRECTO FUNCIONAMIENTO | D19: 612200 | E19: 1280865 | G19: =+ROUND(AVERAGE(AVERAGE(D19:F19),MIN(D19:F19)),0) -> 779366 | H19: 598029.96 | I19: =+ROUND(AVERAGE(G19:H19),0) -> 688698 | J19: 518800 | K19: 341243 | M19: =+ROUND(AVERAGE(AVERAGE(J19:L19),MIN(J19:L19)),0) -> 385632 | N19: 456062.52 | O19: =+ROUND(AVERAGE(M19:N19),0) -> 420847 | P19: 544800 | Q19: 404561 | S19: =+ROUND(AVERAGE(AVERAGE(P19:R19),MIN(P19:R19)),0) -> 439621 | T19: 533040.42 | U19: =+ROUND(AVERAGE(S19:T19),0) -> 486331 | V19: 596700 | W19: 487430 | Y19: =+ROUND(AVERAGE(AVERAGE(V19:X19),MIN(V19:X19)),0) -> 514748 | Z19: 593739.39 | AA19: =+ROUND(AVERAGE(Y19:Z19),0) -> 554244 | AB19: 674500 | AC19: 499646 | AE19: =+ROUND(AVERAGE(AVERAGE(AB19:AD19),MIN(AB19:AD19)),0) -> 543360 | AF19: 641945.22 | AG19: =+ROUND(AVERAGE(AE19:AF19),0) -> 592653 | AH19: 716000 | AI19: 555473 | AK19: =+ROUND(AVERAGE(AVERAGE(AH19:AJ19),MIN(AH19:AJ19)),0) -> 595605 | AL19: 701760.84 | AM19: =+ROUND(AVERAGE(AK19:AL19),0) -> 648683 | AN19: 596700 | AO19: 654294 | AQ19: =+ROUND(AVERAGE(AVERAGE(AN19:AP19),MIN(AN19:AP19)),0) -> 611099 | AR19: 454926.78 | AS19: =+ROUND(AVERAGE(AQ19:AR19),0) -> 533013 | AT19: 648600 | AU19: 647979 | AW19: =+ROUND(AVERAGE(AVERAGE(AT19:AV19),MIN(AT19:AV19)),0) -> 648134 | AX19: 506539.83 | AY19: =+ROUND(AVERAGE(AW19:AX19),0) -> 577337 | AZ19: 674500 | BA19: 598019 | BC19: =+ROUND(AVERAGE(AVERAGE(AZ19:BB19),MIN(AZ19:BB19)),0) -> 617139 | BD19: 616327.98 | BE19: =+ROUND(AVERAGE(BC19:BD19),0) -> 616733 | BF19: 700400 | BG19: 598019 | BI19: =+ROUND(AVERAGE(AVERAGE(BF19:BH19),MIN(BF19:BH19)),0) -> 623614 | BJ19: 510578.01 | BK19: =+ROUND(AVERAGE(BI19:BJ19),0) -> 567096 | BL19: 804200 | BM19: 598019 | BO19: =+ROUND(AVERAGE(AVERAGE(BL19:BN19),MIN(BL19:BN19)),0) -> 649564 | BQ19: =+ROUND(AVERAGE(BO19:BP19),0) -> 649564 | BR19: 778300 | BS19: 598019 | BU19: =+ROUND(AVERAGE(AVERAGE(BR19:BT19),MIN(BR19:BT19)),0) -> 643089 | BW19: =+ROUND(AVERAGE(BU19:BV19),0) -> 643089
B20: 16 | C20: CAMBIO DE CONDENSADORA DE AIRE TIPO CENTRAL INCLUYE MANO DE OBRA DE: VACÍO, CARGA COMPLETA DE REFRIGERANTE, LIMPIEZA DE TUBERÍA DE COBRE CON NITRÓGENO, INSTALACIÓN DE FILTRO SECADOR. INSUMOS: NITRÓGENO, SOLDADURA Y DEMÁS ACTIVIDADES QUE GARANTICEN SU CORRECTO FUNCIONAMIENTO | D20: N/A | E20: N/A | F20: N/A | G20: N/A | H20: 405711.4 | I20: 405711.4 | J20: 933900 | K20: 787755 | M20: =+ROUND(AVERAGE(AVERAGE(J20:L20),MIN(J20:L20)),0) -> 824291 | N20: 408613.84 | O20: =+ROUND(AVERAGE(M20:N20),0) -> 616452 | P20: N/A | Q20: N/A | R20: N/A | S20: N/A | T20: 474612.93 | U20: 474612.93 | V20: N/A | W20: N/A | X20: N/A | Y20: N/A | Z20: 533797.58 | AA20: 533797.58 | AB20: N/A | AC20: N/A | AD20: N/A | AE20: N/A | AF20: 585536.82 | AG20: N/A | AH20: N/A | AI20: N/A | AJ20: N/A | AK20: N/A | AL20: 624909.13 | AM20: N/A | AN20: N/A | AO20: N/A | AP20: N/A | AQ20: N/A | AR20: 582255.8 | AS20: N/A | AT20: N/A | AU20: N/A | AV20: N/A | AW20: N/A | AX20: 603203.88 | AY20: N/A | AZ20: N/A | BA20: N/A | BB20: N/A | BC20: N/A | BD20: 444326.54 | BE20: N/A | BF20: N/A | BG20: N/A | BH20: N/A | BI20: N/A | BJ20: 636140.33 | BK20: N/A | BL20: N/A | BM20: N/A | BN20: N/A | BO20: N/A | BP20: N/A | BQ20: N/A | BR20: N/A | BS20: N/A | BT20: N/A | BU20: N/A | BV20: N/A | BW20: N/A
B21: 17 | C21: CAMBIO MOTOR VENTILADOR DE ACONDICIONADOR DE AIRE | D21: 229600 | E21: 341362 | G21: =+ROUND(AVERAGE(AVERAGE(D21:F21),MIN(D21:F21)),0) -> 257541 | H21: 348672.04 | I21: =+ROUND(AVERAGE(G21:H21),0) -> 303107 | J21: 194600 | K21: 283298 | M21: =+ROUND(AVERAGE(AVERAGE(J21:L21),MIN(J21:L21)),0) -> 216775 | N21: 247465.02 | O21: =+ROUND(AVERAGE(M21:N21),0) -> 232120 | P21: 204300 | Q21: 314343 | S21: =+ROUND(AVERAGE(AVERAGE(P21:R21),MIN(P21:R21)),0) -> 231811 | T21: 291127.9 | U21: =+ROUND(AVERAGE(S21:T21),0) -> 261469 | V21: 223700 | W21: 384466 | Y21: =+ROUND(AVERAGE(AVERAGE(V21:X21),MIN(V21:X21)),0) -> 263892 | Z21: 344255.27 | AA21: =+ROUND(AVERAGE(Y21:Z21),0) -> 304074 | AB21: 252900 | AC21: 400710 | AE21: =+ROUND(AVERAGE(AVERAGE(AB21:AD21),MIN(AB21:AD21)),0) -> 289853 | AF21: 380472.74 | AG21: =+ROUND(AVERAGE(AE21:AF21),0) -> 335163 | AH21: 268500 | AI21: 451244 | AK21: =+ROUND(AVERAGE(AVERAGE(AH21:AJ21),MIN(AH21:AJ21)),0) -> 314186 | AL21: 426280.9 | AM21: =+ROUND(AVERAGE(AK21:AL21),0) -> 370233 | AN21: 223700 | AO21: 544362 | AQ21: =+ROUND(AVERAGE(AVERAGE(AN21:AP21),MIN(AN21:AP21)),0) -> 303866 | AR21: 441171.71 | AS21: =+ROUND(AVERAGE(AQ21:AR21),0) -> 372519 | AT21: 243200 | AU21: 542140 | AW21: =+ROUND(AVERAGE(AVERAGE(AT21:AV21),MIN(AT21:AV21)),0) -> 317935 | AX21: 454800.58 | AY21: =+ROUND(AVERAGE(AW21:AX21),0) -> 386368 | AZ21: 252900 | BA21: 484807 | BC21: =+ROUND(AVERAGE(AVERAGE(AZ21:BB21),MIN(AZ21:BB21)),0) -> 310877 | BD21: 410001.97 | BE21: =+ROUND(AVERAGE(BC21:BD21),0) -> 360439 | BF21: 262700 | BG21: 484807 | BI21: =+ROUND(AVERAGE(AVERAGE(BF21:BH21),MIN(BF21:BH21)),0) -> 318227 | BJ21: 441802.68 | BK21: =+ROUND(AVERAGE(BI21:BJ21),0) -> 380015 | BL21: 301600 | BM21: 484807 | BO21: =+ROUND(AVERAGE(AVERAGE(BL21:BN21),MIN(BL21:BN21)),0) -> 347402 | BQ21: =+ROUND(AVERAGE(BO21:BP21),0) -> 347402 | BR21: 291800 | BS21: 484807 | BU21: =+ROUND(AVERAGE(AVERAGE(BR21:BT21),MIN(BR21:BT21)),0) -> 340052 | BW21: =+ROUND(AVERAGE(BU21:BV21),0) -> 340052
B22: 18 | C22: CAMBIO TRANSFORMADOR DE ACONDICIONADOR DE AIRES | D22: N/A | E22: N/A | F22: N/A | G22: N/A | H22: 310687.86 | I22: 310687.86 | J22: 123200 | K22: 206317 | M22: =+ROUND(AVERAGE(AVERAGE(J22:L22),MIN(J22:L22)),0) -> 143979 | N22: 189289.92 | O22: =+ROUND(AVERAGE(M22:N22),0) -> 166634 | P22: N/A | Q22: N/A | R22: N/A | S22: N/A | T22: 257939.07 | U22: 257939.07 | V22: N/A | W22: N/A | X22: N/A | Y22: N/A | Z22: N/A | AA22: N/A | AB22: N/A | AC22: N/A | AD22: N/A | AE22: N/A | AF22: 335800.32 | AG22: N/A | AH22: N/A | AI22: N/A | AJ22: N/A | AK22: N/A | AL22: 379337 | AM22: N/A | AN22: N/A | AO22: N/A | AP22: N/A | AQ22: N/A | AR22: 323811.96 | AS22: N/A | AT22: N/A | AU22: N/A | AV22: N/A | AW22: N/A | AX22: 341605.21 | AY22: N/A | AZ22: N/A | BA22: N/A | BB22: N/A | BC22: N/A | BD22: 360281.82 | BE22: N/A | BF22: N/A | BG22: N/A | BH22: N/A | BI22: N/A | BJ22: 398392.19 | BK22: N/A | BL22: N/A | BM22: N/A | BN22: N/A | BO22: N/A | BP22: N/A | BQ22: N/A | BR22: N/A | BS22: N/A | BT22: N/A | BU22: N/A | BV22: N/A | BW22: N/A
B23: 19 | C23: CAMBIO BALINERA DE MOTOR VENTILADOR | D23: 199000 | E23: 309184 | G23: =+ROUND(AVERAGE(AVERAGE(D23:F23),MIN(D23:F23)),0) -> 226546 | H23: 302485.29 | I23: =+ROUND(AVERAGE(G23:H23),0) -> 264516 | J23: 168600 | K23: 254789 | M23: =+ROUND(AVERAGE(AVERAGE(J23:L23),MIN(J23:L23)),0) -> 190147 | N23: 212888.07 | O23: =+ROUND(AVERAGE(M23:N23),0) -> 201518 | P23: 177100 | Q23: 285793 | S23: =+ROUND(AVERAGE(AVERAGE(P23:R23),MIN(P23:R23)),0) -> 204273 | T23: 251124.63 | U23: =+ROUND(AVERAGE(S23:T23),0) -> 227699 | V23: 193900 | W23: 347847 | Y23: =+ROUND(AVERAGE(AVERAGE(V23:X23),MIN(V23:X23)),0) -> 232387 | Z23: 290623.13 | AA23: =+ROUND(AVERAGE(Y23:Z23),0) -> 261505 | AB23: 219200 | AC23: 362044 | AE23: =+ROUND(AVERAGE(AVERAGE(AB23:AD23),MIN(AB23:AD23)),0) -> 254911 | AF23: 332897.88 | AG23: =+ROUND(AVERAGE(AE23:AF23),0) -> 293904 | AH23: 232700 | AI23: 406258 | AK23: =+ROUND(AVERAGE(AVERAGE(AH23:AJ23),MIN(AH23:AJ23)),0) -> 276090 | AL23: 375803.59 | AM23: =+ROUND(AVERAGE(AK23:AL23),0) -> 325947 | AN23: 193900 | AO23: 488902 | AQ23: =+ROUND(AVERAGE(AVERAGE(AN23:AP23),MIN(AN23:AP23)),0) -> 267651 | AR23: 393723.04 | AS23: =+ROUND(AVERAGE(AQ23:AR23),0) -> 330687 | AT23: 210800 | AU23: 486807 | AW23: =+ROUND(AVERAGE(AVERAGE(AT23:AV23),MIN(AT23:AV23)),0) -> 279802 | AX23: 397887.41 | AY23: =+ROUND(AVERAGE(AW23:AX23),0) -> 338845 | AZ23: 219200 | BA23: 437484 | BC23: =+ROUND(AVERAGE(AVERAGE(AZ23:BB23),MIN(AZ23:BB23)),0) -> 273771 | BD23: 400158.89 | BE23: =+ROUND(AVERAGE(BC23:BD23),0) -> 336965 | BF23: 227600 | BG23: 437484 | BI23: =+ROUND(AVERAGE(AVERAGE(BF23:BH23),MIN(BF23:BH23)),0) -> 280071 | BJ23: 402935.15 | BK23: =+ROUND(AVERAGE(BI23:BJ23),0) -> 341503 | BL23: 261400 | BM23: 437484 | BO23: =+ROUND(AVERAGE(AVERAGE(BL23:BN23),MIN(BL23:BN23)),0) -> 305421 | BQ23: =+ROUND(AVERAGE(BO23:BP23),0) -> 305421 | BR23: 252900 | BS23: 437484 | BU23: =+ROUND(AVERAGE(AVERAGE(BR23:BT23),MIN(BR23:BT23)),0) -> 299046 | BW23: =+ROUND(AVERAGE(BU23:BV23),0) -> 299046
B24: 20 | C24: CAMBIO CONTACTOR DE ACONDICIONADOR DE AIRES | D24: N/A | E24: N/A | F24: N/A | G24: N/A | H24: 307280.64 | I24: 307280.64 | J24: 110300 | K24: 229666 | M24: =+ROUND(AVERAGE(AVERAGE(J24:L24),MIN(J24:L24)),0) -> 140142 | N24: 207714.14 | O24: =+ROUND(AVERAGE(M24:N24),0) -> 173928 | P24: N/A | Q24: N/A | R24: N/A | S24: N/A | T24: 248222.18 | U24: 248222.18 | V24: N/A | W24: N/A | X24: N/A | Y24: N/A | Z24: 291380.29 | AA24: N/A | AB24: N/A | AC24: N/A | AD24: N/A | AE24: N/A | AF24: 334790.77 | AG24: N/A | AH24: N/A | AI24: N/A | AJ24: N/A | AK24: N/A | AL24: 366843.87 | AM24: N/A | AN24: N/A | AO24: N/A | AP24: N/A | AQ24: N/A | AR24: 374289.27 | AS24: N/A | AT24: N/A | AU24: N/A | AV24: N/A | AW24: N/A | AX24: 361165.17 | AY24: N/A | AZ24: N/A | BA24: N/A | BB24: N/A | BC24: N/A | BD24: 381734.68 | BE24: N/A | BF24: N/A | BG24: N/A | BH24: N/A | BI24: N/A | BJ24: 379967.97 | BK24: N/A | BL24: N/A | BM24: N/A | BN24: N/A | BO24: N/A | BP24: N/A | BQ24: N/A | BR24: N/A | BS24: N/A | BT24: N/A | BU24: N/A | BV24: N/A | BW24: N/A
B25: 21 | C25: CAMBIO FAN RELAY ACONDICIONADOR DE AIRE | D25: N/A | E25: N/A | F25: N/A | G25: N/A | H25: 276994.25 | I25: 276994.25 | J25: 110300 | K25: 195770 | M25: =+ROUND(AVERAGE(AVERAGE(J25:L25),MIN(J25:L25)),0) -> 131668 | N25: 174020.53 | O25: =+ROUND(AVERAGE(M25:N25),0) -> 152844 | P25: N/A | Q25: N/A | R25: N/A | S25: N/A | T25: 238883.88 | U25: 238883.88 | V25: N/A | W25: N/A | X25: N/A | Y25: N/A | Z25: 280906.24 | AA25: N/A | AB25: N/A | AC25: N/A | AD25: N/A | AE25: N/A | AF25: 309047.35 | AG25: N/A | AH25: N/A | AI25: N/A | AJ25: N/A | AK25: N/A | AL25: 357757.95 | AM25: N/A | AN25: N/A | AO25: N/A | AP25: N/A | AQ25: N/A | AR25: 329112.08 | AS25: N/A | AT25: N/A | AU25: N/A | AV25: N/A | AW25: N/A | AX25: 320530.93 | AY25: N/A | AZ25: N/A | BA25: N/A | BB25: N/A | BC25: N/A | BD25: 332140.72 | BE25: N/A | BF25: N/A | BG25: N/A | BH25: N/A | BI25: N/A | BJ25: 376055.98 | BK25: N/A | BL25: N/A | BM25: N/A | BN25: N/A | BO25: N/A | BP25: N/A | BQ25: N/A | BR25: N/A | BS25: N/A | BT25: N/A | BU25: N/A | BV25: N/A | BW25: N/A
B26: 22 | C26: CAMBIO PRESOSTATO DE ACONDICIONADOR DE AIRE | D26: N/A | E26: N/A | F26: N/A | G26: N/A | H26: 252260.37 | I26: 252260.37 | J26: 142700 | K26: 199350 | M26: =+ROUND(AVERAGE(AVERAGE(J26:L26),MIN(J26:L26)),0) -> 156863 | N26: 165944.16 | O26: =+ROUND(AVERAGE(M26:N26),0) -> 161404 | P26: N/A | Q26: N/A | R26: N/A | S26: N/A | T26: 198249.64 | U26: 198249.64 | V26: N/A | W26: N/A | X26: N/A | Y26: N/A | Z26: 236864.79 | AA26: N/A | AB26: N/A | AC26: N/A | AD26: N/A | AE26: N/A | AF26: 275984.71 | AG26: N/A | AH26: N/A | AI26: N/A | AJ26: N/A | AK26: N/A | AL26: 310183.08 | AM26: N/A | AN26: N/A | AO26: N/A | AP26: N/A | AQ26: N/A | AR26: 321161.9 | AS26: N/A | AT26: N/A | AU26: N/A | AV26: N/A | AW26: N/A | AX26: 312959.34 | AY26: N/A | AZ26: N/A | BA26: N/A | BB26: N/A | BC26: N/A | BD26: 317123.72 | BE26: N/A | BF26: N/A | BG26: N/A | BH26: N/A | BI26: N/A | BJ26: 315735.59 | BK26: N/A | BL26: N/A | BM26: N/A | BN26: N/A | BO26: N/A | BP26: N/A | BQ26: N/A | BR26: N/A | BS26: N/A | BT26: N/A | BU26: N/A | BV26: N/A | BW26: N/A
B27: 23 | C27: CAMBIO TEMPORIZADOR DE ACONDICIONADOR DE AIRE | D27: N/A | E27: N/A | F27: N/A | G27: N/A | H27: 221216.82 | I27: 221216.82 | J27: 123200 | K27: 200816 | M27: =+ROUND(AVERAGE(AVERAGE(J27:L27),MIN(J27:L27)),0) -> 142604 | N27: 166701.32 | O27: =+ROUND(AVERAGE(M27:N27),0) -> 154653 | P27: N/A | Q27: N/A | R27: N/A | S27: N/A | T27: 221469.21 | U27: 221469.21 | V27: N/A | W27: N/A | X27: N/A | Y27: N/A | Z27: 263743.96 | AA27: N/A | AB27: N/A | AC27: N/A | AD27: N/A | AE27: N/A | AF27: 289487.39 | AG27: N/A | AH27: N/A | AI27: N/A | AJ27: N/A | AK27: N/A | AL27: 351322.09 | AM27: N/A | AN27: N/A | AO27: N/A | AP27: N/A | AQ27: N/A | AR27: 301854.33 | AS27: N/A | AT27: N/A | AU27: N/A | AV27: N/A | AW27: N/A | AX27: 295670.86 | AY27: N/A | AZ27: N/A | BA27: N/A | BB27: N/A | BC27: N/A | BD27: 285449.2 | BE27: N/A | BF27: N/A | BG27: N/A | BH27: N/A | BI27: N/A | BJ27: 358515.11 | BK27: N/A | BL27: N/A | BM27: N/A | BN27: N/A | BO27: N/A | BP27: N/A | BQ27: N/A | BR27: N/A | BS27: N/A | BT27: N/A | BU27: N/A | BV27: N/A | BW27: N/A
B28: 24 | C28: SUMINISTRO E INSTALACIÓN A TODO COSTO DE DUCTERIA EN LAMINA DE PORÓN (METRO CUADRADO). INCLUYE MATERIALES NECESARIOS: LÁMINA DE PORÓN, CINTA FOIL, ENTRE OTROS. | D28: N/A | E28: N/A | F28: N/A | G28: N/A | H28: 220081.08 | I28: 220081.08 | J28: 246400 | K28: 320000 | M28: =+ROUND(AVERAGE(AVERAGE(J28:L28),MIN(J28:L28)),0) -> 264800 | N28: 158372.57 | O28: =+ROUND(AVERAGE(M28:N28),0) -> 211586 | P28: N/A | Q28: N/A | R28: N/A | S28: N/A | T28: 185377.93 | U28: 185377.93 | V28: N/A | W28: N/A | X28: N/A | Y28: N/A | Z28: 211247.55 | AA28: N/A | AB28: N/A | AC28: N/A | AD28: N/A | AE28: N/A | AF28: 256172.36 | AG28: N/A | AH28: N/A | AI28: N/A | AJ28: N/A | AK28: N/A | AL28: 286584.94 | AM28: N/A | AN28: N/A | AO28: N/A | AP28: N/A | AQ28: N/A | AR28: 254027.07 | AS28: N/A | AT28: N/A | AU28: N/A | AV28: N/A | AW28: N/A | AX28: 273334.65 | AY28: N/A | AZ28: N/A | BA28: N/A | BB28: N/A | BC28: N/A | BD28: 280527.66 | BE28: N/A | BF28: N/A | BG28: N/A | BH28: N/A | BI28: N/A | BJ28: 286332.55 | BK28: N/A | BL28: N/A | BM28: N/A | BN28: N/A | BO28: N/A | BP28: N/A | BQ28: N/A | BR28: N/A | BS28: N/A | BT28: N/A | BU28: N/A | BV28: N/A | BW28: N/A
B29: 25 | C29: SUMINISTRO E INSTALACIÓN A TODO COSTO DE DUCTERIA EN FIBRA DE VIDRIO (METRO CUADRADO). INCLUYE MATERIALES NECESARIOS: LÁMINAS, CINTA, ENTRE OTROS. | D29: N/A | E29: N/A | F29: N/A | G29: N/A | H29: 242795.87 | I29: 242795.87 | J29: 214000 | K29: 430000 | M29: =+ROUND(AVERAGE(AVERAGE(J29:L29),MIN(J29:L29)),0) -> 268000 | N29: 172127.64 | O29: =+ROUND(AVERAGE(M29:N29),0) -> 220064 | P29: N/A | Q29: N/A | R29: N/A | S29: N/A | T29: 210364.2 | U29: 210364.2 | V29: N/A | W29: N/A | X29: N/A | Y29: N/A | Z29: 234971.89 | AA29: N/A | AB29: N/A | AC29: N/A | AD29: N/A | AE29: N/A | AF29: 261093.9 | AG29: N/A | AH29: N/A | AI29: N/A | AJ29: N/A | AK29: N/A | AL29: 312706.95 | AM29: N/A | AN29: N/A | AO29: N/A | AP29: N/A | AQ29: N/A | AR29: 267277.37 | AS29: N/A | AT29: N/A | AU29: N/A | AV29: N/A | AW29: N/A | AX29: 262860.6 | AY29: N/A | AZ29: N/A | BA29: N/A | BB29: N/A | BC29: N/A | BD29: 260589.13 | BE29: N/A | BF29: N/A | BG29: N/A | BH29: N/A | BI29: N/A | BJ29: 295544.66 | BK29: N/A | BL29: N/A | BM29: N/A | BN29: N/A | BO29: N/A | BP29: N/A | BQ29: N/A | BR29: N/A | BS29: N/A | BT29: N/A | BU29: N/A | BV29: N/A | BW29: N/A
