Workbook
Name OLE_LINK1: 'REPUESTOS MAG'!#REF!

Sheet MTO PREVENTICO MAG
B1: ANEXO ESTUDIO DEL SECTOR
B5: SECCIONAL MAGDALENA
B6: MANTENIMIENTOS PREVENTIVOS | E6: COTIZACION 1 | F6: COTIZACION 2 | G6: COTIZACION 3 | I6: VALOR COTIZACIÓN HÁBIL MÁS BAJA | J6: PROMEDIO | K6: MEDIA ARITMETICA BAJA | M6: ANALISIS DE COTIZACIONES | N6: COSTOS HISTORICOS DE CONTRATACIÓN | P6: VALOR COTIZACIÓN HÁBIL MÁS BAJA | Q6: PROMEDIO | R6: MEDIA ARITMETICA BAJA | T6: VALORES SELECCIONADOS ESTUDIO
B7: ÍTEM | C7: DESCRIPCIÓN | D7: CANT. EQUIPOS | E7: VALOR MTO. X EQUIPO INCLUIDO IVA | F7: VALOR MTO. X EQUIPO INCLUIDO IVA | G7: VALOR MTO. X EQUIPO INCLUIDO IVA | I7: VALOR MTO. X EQUIPO INCLUIDO IVA | J7: VALOR MTO. X EQUIPO INCLUIDO IVA | K7: VALOR MTO. X EQUIPO INCLUIDO IVA | M7: VALOR MTO. X EQUIPO INCLUIDO IVA | N7: VALOR MTO. X EQUIPO INCLUIDO IVA | P7: VALOR MTO. X EQUIPO INCLUIDO IVA | Q7: VALOR MTO. X EQUIPO INCLUIDO IVA | R7: VALOR MTO. X EQUIPO INCLUIDO IVA | T7: VALOR MTO. X EQUIPO INCLUIDO IVA
B8: PRECIO SANTA MARTA
B9: 1 | C9: MANTENIMIENTO DE ACONDICIONADOR DE AIRE TIPO MINISPLIT DE 12000 BTU - 18000 BTU - 24000 BTU | D9: 1 | E9: 149200 | F9: 240000 | I9: =+MIN(E9:G9) -> 149200 | J9: =+ROUND(AVERAGE(E9:G9),0) -> 194600 | K9: =+ROUND(AVERAGE(I9:J9),0) -> 171900 | M9: =+K9 -> 171900 | N9: 209966.03 | P9: =+MIN(M9:N9) -> 171900 | Q9: =+ROUND(AVERAGE(M9:N9),0) -> 190933 | R9: =+ROUND(AVERAGE(P9:Q9),0) -> 181417 | T9: =+Q9 -> 190933
B10: 2 | C10: MANTENIMIENTO DE ACONDICIONADOR DE AIRE TIPO MINISPLIT O PISO TECHO DE 36000 BTU | D10: 1 | E10: 240000 | F10: 450000 | I10: =+MIN(E10:G10) -> 240000 | J10: =+ROUND(AVERAGE(E10:G10),0) -> 345000 | K10: =+ROUND(AVERAGE(I10:J10),0) -> 292500 | M10: =+K10 -> 292500 | N10: 227899.53 | P10: =+MIN(M10:N10) -> 227899.53 | Q10: =+ROUND(AVERAGE(M10:N10),0) -> 260200 | R10: =+ROUND(AVERAGE(P10:Q10),0) -> 244050 | T10: =+Q10 -> 260200
B11: 3 | C11: MANTENIMIENTO DE ACONDICIONADOR DE AIRE TIPO CENTRAL DE 60.000 BTU PISO TECHO O DESCARGA VERTICAL | D11: 1 | E11: 492900 | F11: 450000 | I11: =+MIN(E11:G11) -> 450000 | J11: =+ROUND(AVERAGE(E11:G11),0) -> 471450 | K11: =+ROUND(AVERAGE(I11:J11),0) -> 460725 | M11: =+K11 -> 460725 | N11: 256566.97 | P11: =+MIN(M11:N11) -> 256566.97 | Q11: =+ROUND(AVERAGE(M11:N11),0) -> 358646 | R11: =+ROUND(AVERAGE(P11:Q11),0) -> 307606 | T11: =+Q11 -> 358646
B12: PRECIO CIÉNAGA MAGDALENA | M12: =+K12 -> 0 | T12: =+Q12 -> 0
B13: 1 | C13: MANTENIMIENTO DE ACONDICIONADOR DE AIRE TIPO MINISPLIT DE 12000 BTU - 18000 BTU - 24000 BTU | D13: 1 | E13: 164100 | F13: 320000 | I13: =+MIN(E13:G13) -> 164100 | J13: =+ROUND(AVERAGE(E13:G13),0) -> 242050 | K13: =+ROUND(AVERAGE(I13:J13),0) -> 203075 | M13: =+K13 -> 203075 | N13: 216772.91 | P13: =+MIN(M13:N13) -> 203075 | Q13: =+ROUND(AVERAGE(M13:N13),0) -> 209924 | R13: =+ROUND(AVERAGE(P13:Q13),0) -> 206500 | T13: =+Q13 -> 209924
B14: 2 | C14: MANTENIMIENTO DE ACONDICIONADOR DE AIRE TIPO MINISPLIT O PISO TECHO DE 36000 BTU | D14: 1 | E14: 264000 | F14: 620000 | I14: =+MIN(E14:G14) -> 264000 | J14: =+ROUND(AVERAGE(E14:G14),0) -> 442000 | K14: =+ROUND(AVERAGE(I14:J14),0) -> 353000 | M14: =+K14 -> 353000 | N14: 0 | P14: 442000 | Q14: =+ROUND(AVERAGE(M14:N14),0) -> 176500 | R14: =+ROUND(AVERAGE(P14:Q14),0) -> 309250 | T14: =+Q14 -> 176500
B15: 3 | C15: MANTENIMIENTO DE ACONDICIONADOR DE AIRE TIPO CENTRAL DE 60.000 BTU PISO TECHO O DESCARGA VERTICAL | D15: 1 | E15: 542200 | F15: 620000 | I15: =+MIN(E15:G15) -> 542200 | J15: =+ROUND(AVERAGE(E15:G15),0) -> 581100 | K15: =+ROUND(AVERAGE(I15:J15),0) -> 561650 | M15: =+K15 -> 561650 | N15: 275154.98 | P15: =+MIN(M15:N15) -> 275154.98 | Q15: =+ROUND(AVERAGE(M15:N15),0) -> 418402 | R15: =+ROUND(AVERAGE(P15:Q15),0) -> 346778 | T15: =+Q15 -> 418402
B16: PRECIO FUNDACIÓN MAGDALENA | M16: =+K16 -> 0 | T16: =+Q16 -> 0
B17: 1 | C17: MANTENIMIENTO DE ACONDICIONADOR DE AIRE TIPO MINISPLIT DE 12000 BTU - 18000 BTU - 24000 BTU | D17: 1 | E17: 182000 | F17: 320000 | I17: =+MIN(E17:G17) -> 182000 | J17: =+ROUND(AVERAGE(E17:G17),0) -> 251000 | K17: =+ROUND(AVERAGE(I17:J17),0) -> 216500 | M17: =+K17 -> 216500 | N17: 234706.41 | P17: =+MIN(M17:N17) -> 216500 | Q17: =+ROUND(AVERAGE(M17:N17),0) -> 225603 | R17: =+ROUND(AVERAGE(P17:Q17),0) -> 221052 | T17: =+Q17 -> 225603
B18: 2 | C18: MANTENIMIENTO DE ACONDICIONADOR DE AIRE TIPO MINISPLIT O PISO TECHO DE 36000 BTU | D18: 1 | E18: 292800 | F18: 620000 | I18: =+MIN(E18:G18) -> 292800 | J18: =+ROUND(AVERAGE(E18:G18),0) -> 456400 | K18: =+ROUND(AVERAGE(I18:J18),0) -> 374600 | M18: =+K18 -> 374600 | N18: 283925.38 | P18: =+MIN(M18:N18) -> 283925.38 | Q18: =+ROUND(AVERAGE(M18:N18),0) -> 329263 | R18: =+ROUND(AVERAGE(P18:Q18),0) -> 306594 | T18: =+Q18 -> 329263
B19: PRECIO PIVIJAY MAGDALENA | M19: =+K19 -> 0 | T19: =+Q19 -> 0
B20: 1 | C20: MANTENIMIENTO DE ACONDICIONADOR DE AIRE TIPO MINISPLIT DE 12000 BTU - 18000 BTU - 24000 BTU | D20: 1 | E20: 201400 | F20: 320000 | I20: =+MIN(E20:G20) -> 201400 | J20: =+ROUND(AVERAGE(E20:G20),0) -> 260700 | K20: =+ROUND(AVERAGE(I20:J20),0) -> 231050 | M20: =+K20 -> 231050 | N20: 243215.01 | P20: =+MIN(M20:N20) -> 231050 | Q20: =+ROUND(AVERAGE(M20:N20),0) -> 237133 | R20: =+ROUND(AVERAGE(P20:Q20),0) -> 234092 | T20: =+Q20 -> 237133
B21: PRECIO CHIBOLO MAGDALENA | M21: =+K21 -> 0 | T21: =+Q21 -> 0
B22: 1 | C22: MANTENIMIENTO DE ACONDICIONADOR DE AIRE TIPO MINISPLIT DE 12000 BTU - 18000 BTU - 24000 BTU | D22: 1 | E22: 216300 | F22: 320000 | I22: =+MIN(E22:G22) -> 216300 | J22: =+ROUND(AVERAGE(E22:G22),0) -> 268150 | K22: =+ROUND(AVERAGE(I22:J22),0) -> 242225 | M22: =+K22 -> 242225 | N22: 283270.87 | P22: =+MIN(M22:N22) -> 242225 | Q22: =+ROUND(AVERAGE(M22:N22),0) -> 262748 | R22: =+ROUND(AVERAGE(P22:Q22),0) -> 252487 | T22: =+Q22 -> 262748
B23: PRECIO PLATO MAGDALENA | M23: =+K23 -> 0 | T23: =+Q23 -> 0
B24: 1 | C24: MANTENIMIENTO DE ACONDICIONADOR DE AIRE TIPO MINISPLIT DE 12000 BTU - 18000 BTU - 24000 BTU | D24: 1 | E24: 216300 | F24: 320000 | I24: =+MIN(E24:G24) -> 216300 | J24: =+ROUND(AVERAGE(E24:G24),0) -> 268150 | K24: =+ROUND(AVERAGE(I24:J24),0) -> 242225 | M24: =+K24 -> 242225 | N24: 249105.58 | P24: =+MIN(M24:N24) -> 242225 | Q24: =+ROUND(AVERAGE(M24:N24),0) -> 245665 | R24: =+ROUND(AVERAGE(P24:Q24),0) -> 243945 | T24: =+Q24 -> 245665
B25: PRECIO EL BANCO MAGDALENA | M25: =+K25 -> 0 | T25: =+Q25 -> 0
B26: 1 | C26: MANTENIMIENTO DE ACONDICIONADOR DE AIRE TIPO MINISPLIT DE 12000 BTU - 18000 BTU - 24000 BTU | D26: 1 | E26: 253600 | F26: 320000 | I26: =+MIN(E26:G26) -> 253600 | J26: =+ROUND(AVERAGE(E26:G26),0) -> 286800 | K26: =+ROUND(AVERAGE(I26:J26),0) -> 270200 | M26: =+K26 -> 270200 | N26: 255127.05 | P26: =+MIN(M26:N26) -> 255127.05 | Q26: =+ROUND(AVERAGE(M26:N26),0) -> 262664 | R26: =+ROUND(AVERAGE(P26:Q26),0) -> 258896 | T26: =+Q26 -> 262664
B27: PRECIO SANTA ANA MAGDALENA | M27: =+K27 -> 0 | T27: =+Q27 -> 0
B28: 1 | C28: MANTENIMIENTO DE ACONDICIONADOR DE AIRE TIPO MINISPLIT DE 12000 BTU - 18000 BTU - 24000 BTU | D28: 1 | E28: 246100 | F28: 320000 | I28: =+MIN(E28:G28) -> 246100 | J28: =+ROUND(AVERAGE(E28:G28),0) -> 283050 | K28: =+ROUND(AVERAGE(I28:J28),0) -> 264575 | M28: =+K28 -> 264575 | N28: 279736.53 | P28: =+MIN(M28:N28) -> 264575 | Q28: =+ROUND(AVERAGE(M28:N28),0) -> 272156 | R28: =+ROUND(AVERAGE(P28:Q28),0) -> 268366 | T28: =+Q28 -> 272156
B29: TOTAL | E29: =SUM(E9:E28) -> 3460900 | F29: =SUM(F9:F28) -> 5240000 | G29: =SUM(G9:G28) -> 0 | M29: =SUM(M9:M28) -> 3884225 | N29: =SUM(N9:N28) -> 3015447.2 | T29: =SUM(T9:T28) -> 3449837
B31: NOTA | C31: DENTRO DE LOS COSTOS SE INCLUYE LOS INSUMOS Y LA MANO DE OBRA NECESARIA PARA REALIZAR CADA MANTENIMIENTO PREVENTIVO

Sheet MANO OBRA CORRECTIVOS MAG
B2: SECCIONALMAGDALENA
B3: MANO DE OBRA MANTENIMIENTO CORRECTIVO | D3: COTIZACION 1 | E3: COTIZACION 2 | F3: COTIZACION 3 | G3: ANALISIS DE COTIZACIONES | H3: COSTOS HISTORICOS DE CONTRATACIÓN | I3: VALORES SELECCIONADOS ESTUDIO | J3: COTIZACION 1 | K3: COTIZACION 2 | L3: COTIZACION 3 | M3: ANALISIS DE COTIZACIONES | N3: COSTOS HISTORICOS DE CONTRATACIÓN | O3: VALORES SELECCIONADOS ESTUDIO | P3: COTIZACION 1 | Q3: COTIZACION 2 | R3: COTIZACION 3 | S3: ANALISIS DE COTIZACIONES | T3: COSTOS HISTORICOS DE CONTRATACIÓN | U3: VALORES SELECCIONADOS ESTUDIO | V3: COTIZACION 1 | W3: COTIZACION 2 | X3: COTIZACION 3 | Y3: ANALISIS DE COTIZACIONES | Z3: COSTOS HISTORICOS DE CONTRATACIÓN | AA3: VALORES SELECCIONADOS ESTUDIO | AB3: COTIZACION 1 | AC3: COTIZACION 2 | AD3: COTIZACION 3 | AE3: ANALISIS DE COTIZACIONES | AF3: COSTOS HISTORICOS DE CONTRATACIÓN | AG3: VALORES SELECCIONADOS ESTUDIO | AH3: COTIZACION 1 | AI3: COTIZACION 2 | AJ3: COTIZACION 3 | AK3: ANALISIS DE COTIZACIONES | AL3: COSTOS HISTORICOS DE CONTRATACIÓN | AM3: VALORES SELECCIONADOS ESTUDIO | AN3: COTIZACION 1 | AO3: COTIZACION 2 | AP3: COTIZACION 3 | AQ3: ANALISIS DE COTIZACIONES | AR3: COSTOS HISTORICOS DE CONTRATACIÓN | AS3: VALORES SELECCIONADOS ESTUDIO | AT3: COTIZACION 1 | AU3: COTIZACION 2 | AV3: COTIZACION 3 | AW3: ANALISIS DE COTIZACIONES | AX3: COSTOS HISTORICOS DE CONTRATACIÓN | AY3: VALORES SELECCIONADOS ESTUDIO
B4: ÍTEM | C4: DESCRIPCIÓN | D4: V. UNITARIO Mano de Obra Incluido IVA SANTA MARTA | E4: V. UNITARIO Mano de Obra Incluido IVA SANTA MARTA | F4: V. UNITARIO Mano de Obra Incluido IVA SANTA MARTA | G4: V. UNITARIO Mano de Obra Incluido IVA SANTA MARTA | H4: V. UNITARIO Mano de Obra Incluido IVA SANTA MARTA | I4: V. UNITARIO Mano de Obra Incluido IVA SANTA MARTA | J4: V. UNITARIO Mano de Obra Incluido IVA CIÉNAGA | K4: V. UNITARIO Mano de Obra Incluido IVA CIÉNAGA | L4: V. UNITARIO Mano de Obra Incluido IVA CIÉNAGA | M4: V. UNITARIO Mano de Obra Incluido IVA CIÉNAGA | N4: V. UNITARIO Mano de Obra Incluido IVA CIÉNAGA | O4: V. UNITARIO Mano de Obra Incluido IVA CIÉNAGA | P4: V. UNITARIO Mano de Obra Incluido IVA FUNDACIÓN | Q4: V. UNITARIO Mano de Obra Incluido IVA FUNDACIÓN | R4: V. UNITARIO Mano de Obra Incluido IVA FUNDACIÓN | S4: V. UNITARIO Mano de Obra Incluido IVA FUNDACIÓN | T4: V. UNITARIO Mano de Obra Incluido IVA FUNDACIÓN | U4: V. UNITARIO Mano de Obra Incluido IVA FUNDACIÓN | V4: V. UNITARIO Mano de Obra Incluido IVA PIVIJAY | W4: V. UNITARIO Mano de Obra Incluido IVA PIVIJAY | X4: V. UNITARIO Mano de Obra Incluido IVA PIVIJAY | Y4: V. UNITARIO Mano de Obra Incluido IVA PIVIJAY | Z4: V. UNITARIO Mano de Obra Incluido IVA PIVIJAY | AA4: V. UNITARIO Mano de Obra Incluido IVA PIVIJAY | AB4: V. UNITARIO Mano de Obra Incluido IVA PLATO | AC4: V. UNITARIO Mano de Obra Incluido IVA PLATO | AD4: V. UNITARIO Mano de Obra Incluido IVA PLATO | AE4: V. UNITARIO Mano de Obra Incluido IVA PLATO | AF4: V. UNITARIO Mano de Obra Incluido IVA PLATO | AG4: V. UNITARIO Mano de Obra Incluido IVA PLATO | AH4: V. UNITARIO Mano de Obra Incluido IVA EL BANCO | AI4: V. UNITARIO Mano de Obra Incluido IVA EL BANCO | AJ4: V. UNITARIO Mano de Obra Incluido IVA EL BANCO | AK4: V. UNITARIO Mano de Obra Incluido IVA EL BANCO | AL4: V. UNITARIO Mano de Obra Incluido IVA EL BANCO | AM4: V. UNITARIO Mano de Obra Incluido IVA EL BANCO | AN4: V. UNITARIO Mano de Obra Incluido IVA SANTA ANA | AO4: V. UNITARIO Mano de Obra Incluido IVA SANTA ANA | AP4: V. UNITARIO Mano de Obra Incluido IVA SANTA ANA | AQ4: V. UNITARIO Mano de Obra Incluido IVA SANTA ANA | AR4: V. UNITARIO Mano de Obra Incluido IVA SANTA ANA | AS4: V. UNITARIO Mano de Obra Incluido IVA SANTA ANA | AT4: V. UNITARIO Mano de Obra Incluido IVA CHIBOLO | AU4: V. UNITARIO Mano de Obra Incluido IVA CHIBOLO | AV4: V. UNITARIO Mano de Obra Incluido IVA CHIBOLO | AW4: V. UNITARIO Mano de Obra Incluido IVA CHIBOLO | AX4: V. UNITARIO Mano de Obra Incluido IVA CHIBOLO | AY4: V. UNITARIO Mano de Obra Incluido IVA CHIBOLO
B5: 1 | C5: INSTALACIÓN O CAMBIO DE PROTECTOR ELECTRÓNICO DE VOLTAJE | D5: 110300 | E5: 178645 | G5: =+ROUND(AVERAGE(AVERAGE(D5:F5),MIN(D5:F5)),0) -> 127386 | H5: 194258 | I5: =+ROUND(AVERAGE(G5:H5),0) -> 160822 | J5: 121300 | K5: 178645 | M5: =+ROUND(AVERAGE(AVERAGE(J5:L5),MIN(J5:L5)),0) -> 135636 | N5: 217296.51 | O5: =+ROUND(AVERAGE(M5:N5),0) -> 176466 | P5: 134500 | Q5: 178645 | S5: =+ROUND(AVERAGE(AVERAGE(P5:R5),MIN(P5:R5)),0) -> 145536 | T5: 245309.43 | U5: =+ROUND(AVERAGE(S5:T5),0) -> 195423 | V5: 148800 | W5: 178645 | Y5: =+ROUND(AVERAGE(AVERAGE(V5:X5),MIN(V5:X5)),0) -> 156261 | Z5: 254996.15 | AA5: =+ROUND(AVERAGE(Y5:Z5),0) -> 205629 | AB5: 159900 | AC5: 178645 | AE5: =+ROUND(AVERAGE(AVERAGE(AB5:AD5),MIN(AB5:AD5)),0) -> 164586 | AF5: 273715.06 | AG5: =+ROUND(AVERAGE(AE5:AF5),0) -> 219151 | AH5: 187400 | AI5: 178645 | AK5: =+ROUND(AVERAGE(AVERAGE(AH5:AJ5),MIN(AH5:AJ5)),0) -> 180834 | AL5: 276333.09 | AM5: =+ROUND(AVERAGE(AK5:AL5),0) -> 228584 | AN5: 181900 | AO5: 178645 | AQ5: =+ROUND(AVERAGE(AVERAGE(AN5:AP5),MIN(AN5:AP5)),0) -> 179459 | AR5: 279867.43 | AS5: =+ROUND(AVERAGE(AQ5:AR5),0) -> 229663 | AT5: 159900 | AU5: 178645 | AW5: =+ROUND(AVERAGE(AVERAGE(AT5:AV5),MIN(AT5:AV5)),0) -> 164586 | AX5: 280652.84 | AY5: =+ROUND(AVERAGE(AW5:AX5),0) -> 222619
B6: 2 | C6: CAMBIO DE CAPACITOR DE ACONDICIONADOR DE AIRE | D6: 84300 | E6: 188399 | G6: =+ROUND(AVERAGE(AVERAGE(D6:F6),MIN(D6:F6)),0) -> 110325 | H6: 204729.97 | I6: =+ROUND(AVERAGE(G6:H6),0) -> 157527 | J6: 92700 | K6: 188399 | M6: =+ROUND(AVERAGE(AVERAGE(J6:L6),MIN(J6:L6)),0) -> 116625 | N6: 212976.76 | O6: =+ROUND(AVERAGE(M6:N6),0) -> 164801 | P6: 102900 | Q6: 188399 | S6: =+ROUND(AVERAGE(AVERAGE(P6:R6),MIN(P6:R6)),0) -> 124275 | T6: 239942.47 | U6: =+ROUND(AVERAGE(S6:T6),0) -> 182109 | V6: 113800 | W6: 188399 | Y6: =+ROUND(AVERAGE(AVERAGE(V6:X6),MIN(V6:X6)),0) -> 132450 | Z6: 254996.15 | AA6: =+ROUND(AVERAGE(Y6:Z6),0) -> 193723 | AB6: 122300 | AC6: 188399 | AE6: =+ROUND(AVERAGE(AVERAGE(AB6:AD6),MIN(AB6:AD6)),0) -> 138825 | AF6: 269264.41 | AG6: =+ROUND(AVERAGE(AE6:AF6),0) -> 204045 | AH6: 143300 | AI6: 188399 | AK6: =+ROUND(AVERAGE(AVERAGE(AH6:AJ6),MIN(AH6:AJ6)),0) -> 154575 | AL6: 269657.12 | AM6: =+ROUND(AVERAGE(AK6:AL6),0) -> 212116 | AN6: 139100 | AO6: 188399 | AQ6: =+ROUND(AVERAGE(AVERAGE(AN6:AP6),MIN(AN6:AP6)),0) -> 151425 | AR6: 271358.84 | AS6: =+ROUND(AVERAGE(AQ6:AR6),0) -> 211392 | AT6: 122300 | AU6: 188399 | AW6: =+ROUND(AVERAGE(AVERAGE(AT6:AV6),MIN(AT6:AV6)),0) -> 138825 | AX6: 272144.25 | AY6: =+ROUND(AVERAGE(AW6:AX6),0) -> 205485
B7: 3 | C7: CAMBIO DE UNIDAD COMPRESORA DE AIRE TIPO MINI SPLIT, INCLUYE MANO DE OBRA DE: CARGA COMPLETA DE REFRIGERANTE, LIMPIEZA DE TUBERÍA DE COBRE CON NITRÓGENO, CAMBIO DE FILTRO SECADOR. INSUMOS: NITRÓGENO, SOLDADURA | D7: 583700 | E7: 877500 | G7: =+ROUND(AVERAGE(AVERAGE(D7:F7),MIN(D7:F7)),0) -> 657150 | H7: 880574.48 | I7: =+ROUND(AVERAGE(G7:H7),0) -> 768862 | J7: 642100 | K7: 877500 | M7: =+ROUND(AVERAGE(AVERAGE(J7:L7),MIN(J7:L7)),0) -> 700950 | N7: 920761.24 | O7: =+ROUND(AVERAGE(M7:N7),0) -> 810856 | P7: 712100 | Q7: 877500 | S7: =+ROUND(AVERAGE(AVERAGE(P7:R7),MIN(P7:R7)),0) -> 753450 | T7: 956759.16 | U7: =+ROUND(AVERAGE(S7:T7),0) -> 855105 | V7: 788000 | W7: 877500 | Y7: =+ROUND(AVERAGE(AVERAGE(V7:X7),MIN(V7:X7)),0) -> 810375 | Z7: 998124.04 | AA7: =+ROUND(AVERAGE(Y7:Z7),0) -> 904250 | AB7: 846400 | AC7: 877500 | AE7: =+ROUND(AVERAGE(AVERAGE(AB7:AD7),MIN(AB7:AD7)),0) -> 854175 | AF7: 1000742.1 | AG7: =+ROUND(AVERAGE(AE7:AF7),0) -> 927459 | AH7: 992300 | AI7: 877500 | AK7: =+ROUND(AVERAGE(AVERAGE(AH7:AJ7),MIN(AH7:AJ7)),0) -> 906200 | AL7: 1001134.8 | AM7: =+ROUND(AVERAGE(AK7:AL7),0) -> 953667 | AN7: 963100 | AO7: 877500 | AQ7: =+ROUND(AVERAGE(AVERAGE(AN7:AP7),MIN(AN7:AP7)),0) -> 898900 | AR7: 1002836.5 | AS7: =+ROUND(AVERAGE(AQ7:AR7),0) -> 950868 | AT7: 846400 | AU7: 877500 | AW7: =+ROUND(AVERAGE(AVERAGE(AT7:AV7),MIN(AT7:AV7)),0) -> 854175 | AX7: 1003360.1 | AY7: =+ROUND(AVERAGE(AW7:AX7),0) -> 928768
B8: 4 | C8: CAMBIO DE UNIDAD COMPRESORA DE AIRE TIPO CENTRAL, INCLUYE MANO DE OBRA DE: CARGA COMPLETA DE REFRIGERANTE, LIMPIEZA DE TUBERÍA DE COBRE CON NITRÓGENO, CAMBIO DE FILTRO SECADOR. INSUMOS: NITRÓGENO, SOLDADURA | D8: 1011700 | E8: 1282500 | G8: =+ROUND(AVERAGE(AVERAGE(D8:F8),MIN(D8:F8)),0) -> 1079400 | H8: 1294354.2 | I8: =+ROUND(AVERAGE(G8:H8),0) -> 1186877 | J8: 1112900 | K8: 1282500 | M8: =+ROUND(AVERAGE(AVERAGE(J8:L8),MIN(J8:L8)),0) -> 1155300 | N8: 1338075.3 | O8: =+ROUND(AVERAGE(M8:N8),0) -> 1246688 | P8: N/A | Q8: N/A | R8: N/A | S8: N/A | T8: 837638.78 | U8: N/A | V8: N/A | W8: N/A | X8: N/A | Y8: N/A | Z8: N/A | AA8: N/A | AB8: N/A | AC8: N/A | AD8: N/A | AE8: N/A | AF8: N/A | AG8: N/A | AH8: N/A | AI8: N/A | AJ8: N/A | AK8: N/A | AL8: N/A | AM8: N/A | AN8: N/A | AO8: N/A | AP8: N/A | AQ8: N/A | AR8: N/A | AS8: N/A | AT8: N/A | AU8: N/A | AV8: N/A | AW8: N/A | AX8: N/A | AY8: N/A
B9: 5 | C9: CAMBIO TARJETA ELECTRÓNICA DE ACONDICIONADOR DE AIRE | D9: 155700 | E9: 256500 | G9: =+ROUND(AVERAGE(AVERAGE(D9:F9),MIN(D9:F9)),0) -> 180900 | H9: 266777.28 | I9: =+ROUND(AVERAGE(G9:H9),0) -> 223839 | J9: 171200 | K9: 256500 | M9: =+ROUND(AVERAGE(AVERAGE(J9:L9),MIN(J9:L9)),0) -> 192525 | N9: 279082.03 | O9: =+ROUND(AVERAGE(M9:N9),0) -> 235804 | P9: 189900 | Q9: 256500 | S9: =+ROUND(AVERAGE(AVERAGE(P9:R9),MIN(P9:R9)),0) -> 206550 | T9: 299633.56 | U9: =+ROUND(AVERAGE(S9:T9),0) -> 253092 | V9: 210100 | W9: 256500 | Y9: =+ROUND(AVERAGE(AVERAGE(V9:X9),MIN(V9:X9)),0) -> 221700 | Z9: 319530.59 | AA9: =+ROUND(AVERAGE(Y9:Z9),0) -> 270615 | AB9: 225700 | AC9: 256500 | AE9: =+ROUND(AVERAGE(AVERAGE(AB9:AD9),MIN(AB9:AD9)),0) -> 233400 | AF9: 321755.92 | AG9: =+ROUND(AVERAGE(AE9:AF9),0) -> 277578 | AH9: 264600 | AI9: 256500 | AK9: =+ROUND(AVERAGE(AVERAGE(AH9:AJ9),MIN(AH9:AJ9)),0) -> 258525 | AL9: 322541.33 | AM9: =+ROUND(AVERAGE(AK9:AL9),0) -> 290533 | AN9: 256800 | AO9: 256500 | AQ9: =+ROUND(AVERAGE(AVERAGE(AN9:AP9),MIN(AN9:AP9)),0) -> 256575 | AR9: 323981.24 | AS9: =+ROUND(AVERAGE(AQ9:AR9),0) -> 290278 | AT9: 225700 | AU9: 256500 | AW9: =+ROUND(AVERAGE(AVERAGE(AT9:AV9),MIN(AT9:AV9)),0) -> 233400 | AX9: 324766.65 | AY9: =+ROUND(AVERAGE(AW9:AX9),0) -> 279083
B10: 6 | C10: CAMBIO DE AISLAMIENTO TERMICO DE TUBERIAS DE REFRIGERACION EQUIPO MINI SPLIT | D10: 155700 | E10: 277138 | G10: =+ROUND(AVERAGE(AVERAGE(D10:F10),MIN(D10:F10)),0) -> 186060 | H10: 0 | I10: =+ROUND(AVERAGE(G10:H10),0) -> 93030 | J10: 171200 | K10: 277138 | M10: =+ROUND(AVERAGE(AVERAGE(J10:L10),MIN(J10:L10)),0) -> 197685 | O10: =+ROUND(AVERAGE(M10:N10),0) -> 197685 | P10: 189900 | Q10: 277138 | S10: =+ROUND(AVERAGE(AVERAGE(P10:R10),MIN(P10:R10)),0) -> 211710 | T10: 0 | U10: =+ROUND(AVERAGE(S10:T10),0) -> 105855 | V10: 210100 | W10: 277138 | Y10: =+ROUND(AVERAGE(AVERAGE(V10:X10),MIN(V10:X10)),0) -> 226860 | AA10: =+ROUND(AVERAGE(Y10:Z10),0) -> 226860 | AB10: 225700 | AC10: 277138 | AE10: =+ROUND(AVERAGE(AVERAGE(AB10:AD10),MIN(AB10:AD10)),0) -> 238560 | AG10: =+ROUND(AVERAGE(AE10:AF10),0) -> 238560 | AH10: 264600 | AI10: 277138 | AK10: =+ROUND(AVERAGE(AVERAGE(AH10:AJ10),MIN(AH10:AJ10)),0) -> 267735 | AM10: =+ROUND(AVERAGE(AK10:AL10),0) -> 267735 | AN10: 256800 | AO10: 277138 | AQ10: =+ROUND(AVERAGE(AVERAGE(AN10:AP10),MIN(AN10:AP10)),0) -> 261885 | AS10: =+ROUND(AVERAGE(AQ10:AR10),0) -> 261885 | AT10: 225700 | AU10: 277138 | AW10: =+ROUND(AVERAGE(AVERAGE(AT10:AV10),MIN(AT10:AV10)),0) -> 238560 | AY10: =+ROUND(AVERAGE(AW10:AX10),0) -> 238560
B11: 7 | C11: UBICACIÓN Y CORRECCIÓN DE FUGA DE GAS REFRIGERANTE Y ACEITE EN EL SISTEMA MINI SPLIT O CENTRAL, INCLUYE MANO DE OBRA DE: VACÍO, CARGA COMPLETA DE REFRIGERANTE, LIMPIEZA DE TUBERÍA DE COBRE CON NITRÓGENO, INSTALACIÓN DE FILTRO SECADOR. INSUMOS: NITRÓGENO, SOLDADURA Y DEMÁS ACTIVIDADES QUE GARANTICEN SU CORRECTO FUNCIONAMIENTO | D11: 492900 | E11: 714474 | G11: =+ROUND(AVERAGE(AVERAGE(D11:F11),MIN(D11:F11)),0) -> 548294 | H11: 866568.01 | I11: =+ROUND(AVERAGE(G11:H11),0) -> 707431 | J11: 542200 | K11: 714474 | M11: =+ROUND(AVERAGE(AVERAGE(J11:L11),MIN(J11:L11)),0) -> 585269 | N11: 902173.23 | O11: =+ROUND(AVERAGE(M11:N11),0) -> 743721 | P11: 601300 | Q11: 714474 | S11: =+ROUND(AVERAGE(AVERAGE(P11:R11),MIN(P11:R11)),0) -> 629594 | T11: 969587.51 | U11: =+ROUND(AVERAGE(S11:T11),0) -> 799591 | V11: 665400 | W11: 714474 | Y11: =+ROUND(AVERAGE(AVERAGE(V11:X11),MIN(V11:X11)),0) -> 677669 | Z11: 987521.01 | AA11: =+ROUND(AVERAGE(Y11:Z11),0) -> 832595 | AB11: 714700 | AC11: 714474 | AE11: =+ROUND(AVERAGE(AVERAGE(AB11:AD11),MIN(AB11:AD11)),0) -> 714531 | AF11: 1000349.4 | AG11: =+ROUND(AVERAGE(AE11:AF11),0) -> 857440 | AH11: 837900 | AI11: 714474 | AK11: =+ROUND(AVERAGE(AVERAGE(AH11:AJ11),MIN(AH11:AJ11)),0) -> 745331 | AL11: 1010297.9 | AM11: =+ROUND(AVERAGE(AK11:AL11),0) -> 877814 | AN11: 813300 | AO11: 714474 | AQ11: =+ROUND(AVERAGE(AVERAGE(AN11:AP11),MIN(AN11:AP11)),0) -> 739181 | AR11: 1034645.6 | AS11: =+ROUND(AVERAGE(AQ11:AR11),0) -> 886913 | AT11: 714700 | AU11: 714474 | AW11: =+ROUND(AVERAGE(AVERAGE(AT11:AV11),MIN(AT11:AV11)),0) -> 714531 | AX11: 1039227.1 | AY11: =+ROUND(AVERAGE(AW11:AX11),0) -> 876879
B12: 8 | C12: DESMOTE DE ACONDICIONADOR DE AIRE TIPO CENTRAL DE 60.000 BTU | D12: 415100 | E12: 337500 | G12: =+ROUND(AVERAGE(AVERAGE(D12:F12),MIN(D12:F12)),0) -> 356900 | H12: 377389.06 | I12: =+ROUND(AVERAGE(G12:H12),0) -> 367145 | J12: 456600 | K12: 337500 | M12: =+ROUND(AVERAGE(AVERAGE(J12:L12),MIN(J12:L12)),0) -> 367275 | N12: 427524.34 | O12: =+ROUND(AVERAGE(M12:N12),0) -> 397400 | P12: N/A | Q12: N/A | R12: N/A | S12: N/A | T12: 461296.93 | U12: N/A | V12: N/A | W12: N/A | X12: N/A | Y12: N/A | Z12: N/A | AA12: N/A | AB12: N/A | AC12: N/A | AD12: N/A | AE12: N/A | AF12: N/A | AG12: N/A | AH12: N/A | AI12: N/A | AJ12: N/A | AK12: N/A | AL12: N/A | AM12: N/A | AN12: N/A | AO12: N/A | AP12: N/A | AQ12: N/A | AR12: N/A | AS12: N/A | AT12: N/A | AU12: N/A | AV12: N/A | AW12: N/A | AX12: N/A | AY12: N/A
B13: 9 | C13: DESMOTE DE ACONDICIONADOR DE AIRE TIPO MINI SPLIT | D13: 194600 | E13: 229500 | G13: =+ROUND(AVERAGE(AVERAGE(D13:F13),MIN(D13:F13)),0) -> 203325 | H13: 279867.43 | I13: =+ROUND(AVERAGE(G13:H13),0) -> 241596 | J13: 214000 | K13: 229500 | M13: =+ROUND(AVERAGE(AVERAGE(J13:L13),MIN(J13:L13)),0) -> 217875 | N13: 292695.78 | O13: =+ROUND(AVERAGE(M13:N13),0) -> 255285 | P13: 237400 | Q13: 229500 | S13: =+ROUND(AVERAGE(AVERAGE(P13:R13),MIN(P13:R13)),0) -> 231475 | T13: 326468.37 | U13: =+ROUND(AVERAGE(S13:T13),0) -> 278972 | V13: 262700 | W13: 229500 | Y13: =+ROUND(AVERAGE(AVERAGE(V13:X13),MIN(V13:X13)),0) -> 237800 | Z13: 336809.59 | AA13: =+ROUND(AVERAGE(Y13:Z13),0) -> 287305 | AB13: 282100 | AC13: 229500 | AE13: =+ROUND(AVERAGE(AVERAGE(AB13:AD13),MIN(AB13:AD13)),0) -> 242650 | AF13: 339034.92 | AG13: =+ROUND(AVERAGE(AE13:AF13),0) -> 290842 | AH13: 330800 | AI13: 229500 | AK13: =+ROUND(AVERAGE(AVERAGE(AH13:AJ13),MIN(AH13:AJ13)),0) -> 254825 | AL13: 339558.52 | AM13: =+ROUND(AVERAGE(AK13:AL13),0) -> 297192 | AN13: 321000 | AO13: 229500 | AQ13: =+ROUND(AVERAGE(AVERAGE(AN13:AP13),MIN(AN13:AP13)),0) -> 252375 | AR13: 341391.15 | AS13: =+ROUND(AVERAGE(AQ13:AR13),0) -> 296883 | AT13: 282100 | AU13: 229500 | AW13: =+ROUND(AVERAGE(AVERAGE(AT13:AV13),MIN(AT13:AV13)),0) -> 242650 | AX13: 342176.55 | AY13: =+ROUND(AVERAGE(AW13:AX13),0) -> 292413
B14: 10 | C14: INSTALACIÓN DE ACONDICIONADOR DE AIRE TIPO CENTRAL DE 60.000 BTU INCLUYE MANO DE OBRA DE: VACÍO, CARGA COMPLETA DE REFRIGERANTE, LIMPIEZA DE TUBERÍA DE COBRE CON NITRÓGENO, INSTALACIÓN DE FILTRO SECADOR. INSUMOS: NITRÓGENO, SOLDADURA Y DEMÁS ACTIVIDADES QUE GARANTICEN SU CORRECTO FUNCIONAMIENTO | D14: 972800 | E14: 1485000 | G14: =+ROUND(AVERAGE(AVERAGE(D14:F14),MIN(D14:F14)),0) -> 1100850 | H14: 1266472.1 | I14: =+ROUND(AVERAGE(G14:H14),0) -> 1183661 | J14: 1070100 | K14: 1485000 | M14: =+ROUND(AVERAGE(AVERAGE(J14:L14),MIN(J14:L14)),0) -> 1173825 | N14: 1309407.8 | O14: =+ROUND(AVERAGE(M14:N14),0) -> 1241616 | P14: N/A | Q14: N/A | R14: N/A | S14: N/A | T14: 1363339.3 | U14: N/A | V14: N/A | W14: N/A | X14: N/A | Y14: N/A | Z14: 1418972.4 | AA14: N/A | AB14: N/A | AC14: N/A | AD14: N/A | AE14: N/A | AF14: N/A | AG14: N/A | AH14: N/A | AI14: N/A | AJ14: N/A | AK14: N/A | AL14: N/A | AM14: N/A | AN14: N/A | AO14: N/A | AP14: N/A | AQ14: N/A | AR14: N/A | AS14: N/A | AT14: N/A | AU14: N/A | AV14: N/A | AW14: N/A | AX14: N/A | AY14: N/A
B15: 11 | C15: INSTALACIÓN DE ACONDICIONADOR DE AIRE TIPO MINI SPLIT (12000-18000-24000 BTU) INCLUYE MANO DE OBRA DE: VACÍO, CARGA COMPLETA DE REFRIGERANTE, LIMPIEZA DE TUBERÍA DE COBRE CON NITRÓGENO, INSTALACIÓN DE FILTRO SECADOR. INSUMOS: NITRÓGENO, SOLDADURA Y DEMÁS ACTIVIDADES QUE GARANTICEN SU CORRECTO FUNCIONAMIENTO | D15: 441000 | E15: 538398 | G15: =+ROUND(AVERAGE(AVERAGE(D15:F15),MIN(D15:F15)),0) -> 465350 | H15: 608692.03 | I15: =+ROUND(AVERAGE(G15:H15),0) -> 537021 | J15: 485100 | K15: 538398 | M15: =+ROUND(AVERAGE(AVERAGE(J15:L15),MIN(J15:L15)),0) -> 498425 | N15: 653983.96 | O15: =+ROUND(AVERAGE(M15:N15),0) -> 576204 | P15: 538000 | Q15: 538398 | S15: =+ROUND(AVERAGE(AVERAGE(P15:R15),MIN(P15:R15)),0) -> 538100 | T15: 706082.76 | U15: =+ROUND(AVERAGE(S15:T15),0) -> 622091 | V15: 595400 | W15: 538398 | Y15: =+ROUND(AVERAGE(AVERAGE(V15:X15),MIN(V15:X15)),0) -> 552649 | Z15: 747971.24 | AA15: =+ROUND(AVERAGE(Y15:Z15),0) -> 650310 | AB15: 639500 | AC15: 538398 | AE15: =+ROUND(AVERAGE(AVERAGE(AB15:AD15),MIN(AB15:AD15)),0) -> 563674 | AF15: 750196.57 | AG15: =+ROUND(AVERAGE(AE15:AF15),0) -> 656935 | AH15: 749700 | AI15: 538398 | AK15: =+ROUND(AVERAGE(AVERAGE(AH15:AJ15),MIN(AH15:AJ15)),0) -> 591224 | AL15: 750589.27 | AM15: =+ROUND(AVERAGE(AK15:AL15),0) -> 670907 | AN15: 727700 | AO15: 538398 | AQ15: =+ROUND(AVERAGE(AVERAGE(AN15:AP15),MIN(AN15:AP15)),0) -> 585724 | AR15: 753338.21 | AS15: =+ROUND(AVERAGE(AQ15:AR15),0) -> 669531 | AT15: 639500 | AU15: 538398 | AW15: =+ROUND(AVERAGE(AVERAGE(AT15:AV15),MIN(AT15:AV15)),0) -> 563674 | AX15: 754123.62 | AY15: =+ROUND(AVERAGE(AW15:AX15),0) -> 658899
B16: 12 | C16: REPARACIÓN TARJETA ELECTRÓNICA ORIGINAL DE ACONDICIONADOR DE AIRE | D16: 337200 | E16: 286324 | G16: =+ROUND(AVERAGE(AVERAGE(D16:F16),MIN(D16:F16)),0) -> 299043 | H16: 337333.2 | I16: =+ROUND(AVERAGE(G16:H16),0) -> 318188 | J16: 371000 | K16: 286324 | M16: =+ROUND(AVERAGE(AVERAGE(J16:L16),MIN(J16:L16)),0) -> 307493 | N16: 349899.74 | O16: =+ROUND(AVERAGE(M16:N16),0) -> 328696 | P16: 411400 | Q16: 286324 | S16: =+ROUND(AVERAGE(AVERAGE(P16:R16),MIN(P16:R16)),0) -> 317593 | T16: 367309.64 | U16: =+ROUND(AVERAGE(S16:T16),0) -> 342451 | V16: 455300 | W16: 286324 | Y16: =+ROUND(AVERAGE(AVERAGE(V16:X16),MIN(V16:X16)),0) -> 328568 | Z16: 406318.3 | AA16: =+ROUND(AVERAGE(Y16:Z16),0) -> 367443 | AB16: 489000 | AC16: 286324 | AE16: =+ROUND(AVERAGE(AVERAGE(AB16:AD16),MIN(AB16:AD16)),0) -> 336993 | AF16: 408805.42 | AG16: =+ROUND(AVERAGE(AE16:AF16),0) -> 372899 | AH16: 573300 | AI16: 286324 | AK16: =+ROUND(AVERAGE(AVERAGE(AH16:AJ16),MIN(AH16:AJ16)),0) -> 358068 | AL16: 409067.23 | AM16: =+ROUND(AVERAGE(AK16:AL16),0) -> 383568 | AN16: 556500 | AO16: 286324 | AQ16: =+ROUND(AVERAGE(AVERAGE(AN16:AP16),MIN(AN16:AP16)),0) -> 353868 | AR16: 411030.75 | AS16: =+ROUND(AVERAGE(AQ16:AR16),0) -> 382449 | AT16: 489000 | AU16: 286324 | AW16: =+ROUND(AVERAGE(AVERAGE(AT16:AV16),MIN(AT16:AV16)),0) -> 336993 | AX16: 411947.06 | AY16: =+ROUND(AVERAGE(AW16:AX16),0) -> 374470
B17: 13 | C17: REUBICACIÓN CONDENSADORA ACONDICIONADOR DE AIRE TIPO MINI SPLIT INCLUYE MANO DE OBRA DE: VACÍO, CARGA COMPLETA DE REFRIGERANTE, LIMPIEZA DE TUBERÍA DE COBRE CON NITRÓGENO, INSTALACIÓN DE FILTRO SECADOR. INSUMOS: NITRÓGENO, SOLDADURA Y DEMÁS ACTIVIDADES QUE GARANTICEN SU CORRECTO FUNCIONAMIENTO | D17: 492900 | E17: 454049 | G17: =+ROUND(AVERAGE(AVERAGE(D17:F17),MIN(D17:F17)),0) -> 463762 | H17: 490095.26 | I17: =+ROUND(AVERAGE(G17:H17),0) -> 476929 | J17: 542200 | K17: 454049 | M17: =+ROUND(AVERAGE(AVERAGE(J17:L17),MIN(J17:L17)),0) -> 476087 | N17: 530674.73 | O17: =+ROUND(AVERAGE(M17:N17),0) -> 503381 | P17: 601300 | Q17: 454049 | S17: =+ROUND(AVERAGE(AVERAGE(P17:R17),MIN(P17:R17)),0) -> 490862 | T17: 566018.14 | U17: =+ROUND(AVERAGE(S17:T17),0) -> 528440 | V17: 665400 | W17: 454049 | Y17: =+ROUND(AVERAGE(AVERAGE(V17:X17),MIN(V17:X17)),0) -> 506887 | Z17: 605419.5 | AA17: =+ROUND(AVERAGE(Y17:Z17),0) -> 556153 | AB17: 714700 | AC17: 454049 | AE17: =+ROUND(AVERAGE(AVERAGE(AB17:AD17),MIN(AB17:AD17)),0) -> 519212 | AF17: 610262.85 | AG17: =+ROUND(AVERAGE(AE17:AF17),0) -> 564737 | AH17: 837900 | AI17: 454049 | AK17: =+ROUND(AVERAGE(AVERAGE(AH17:AJ17),MIN(AH17:AJ17)),0) -> 550012 | AL17: 613273.59 | AM17: =+ROUND(AVERAGE(AK17:AL17),0) -> 581643 | AN17: 813300 | AO17: 454049 | AQ17: =+ROUND(AVERAGE(AVERAGE(AN17:AP17),MIN(AN17:AP17)),0) -> 543862 | AR17: 621258.58 | AS17: =+ROUND(AVERAGE(AQ17:AR17),0) -> 582560 | AT17: 714700 | AU17: 454049 | AW17: =+ROUND(AVERAGE(AVERAGE(AT17:AV17),MIN(AT17:AV17)),0) -> 519212 | AX17: 622043.99 | AY17: =+ROUND(AVERAGE(AW17:AX17),0) -> 570628
B18: 14 | C18: REUBICACIÓN MANEJADORA ACONDICIONADOR DE AIRE TIPO CENTRAL INCLUYE MANO DE OBRA DE: VACÍO, CARGA COMPLETA DE REFRIGERANTE, LIMPIEZA DE TUBERÍA DE COBRE CON NITRÓGENO, INSTALACIÓN DE FILTRO SECADOR. INSUMOS: NITRÓGENO, SOLDADURA Y DEMÁS ACTIVIDADES QUE GARANTICEN SU CORRECTO FUNCIONAMIENTO | D18: 804200 | E18: 742456 | G18: =+ROUND(AVERAGE(AVERAGE(D18:F18),MIN(D18:F18)),0) -> 757892 | H18: 873636.7 | I18: =+ROUND(AVERAGE(G18:H18),0) -> 815764 | J18: 884600 | K18: 742456 | M18: =+ROUND(AVERAGE(AVERAGE(J18:L18),MIN(J18:L18)),0) -> 777992 | N18: 913823.46 | O18: =+ROUND(AVERAGE(M18:N18),0) -> 845908 | P18: N/A | Q18: N/A | R18: N/A | S18: N/A | T18: 951261.29 | U18: N/A | V18: N/A | W18: N/A | X18: N/A | Y18: N/A | Z18: N/A | AA18: N/A | AB18: N/A | AC18: N/A | AD18: N/A | AE18: N/A | AF18: N/A | AG18: N/A | AH18: N/A | AI18: N/A | AJ18: N/A | AK18: N/A | AL18: N/A | AM18: N/A | AN18: N/A | AO18: N/A | AP18: N/A | AQ18: N/A | AR18: N/A | AS18: N/A | AT18: N/A | AU18: N/A | AV18: N/A | AW18: N/A | AX18: N/A | AY18: N/A
B19: 15 | C19: REUBICACIÓN MANEJADORA ACONDICIONADOR DE AIRE TIPO MINI SPLIT INCLUYE MANO DE OBRA DE: VACÍO, CARGA COMPLETA DE REFRIGERANTE, LIMPIEZA DE TUBERÍA DE COBRE CON NITRÓGENO, INSTALACIÓN DE FILTRO SECADOR. INSUMOS: NITRÓGENO, SOLDADURA Y DEMÁS ACTIVIDADES QUE GARANTICEN SU CORRECTO FUNCIONAMIENTO | D19: 389100 | E19: 364827 | G19: =+ROUND(AVERAGE(AVERAGE(D19:F19),MIN(D19:F19)),0) -> 370895 | H19: 411554.36 | I19: =+ROUND(AVERAGE(G19:H19),0) -> 391225 | J19: 428000 | K19: 364827 | M19: =+ROUND(AVERAGE(AVERAGE(J19:L19),MIN(J19:L19)),0) -> 380620 | N19: 453835.54 | O19: =+ROUND(AVERAGE(M19:N19),0) -> 417228 | P19: 474700 | Q19: 364827 | S19: =+ROUND(AVERAGE(AVERAGE(P19:R19),MIN(P19:R19)),0) -> 392295 | T19: 479361.34 | U19: =+ROUND(AVERAGE(S19:T19),0) -> 435828 | V19: 525300 | W19: 364827 | Y19: =+ROUND(AVERAGE(AVERAGE(V19:X19),MIN(V19:X19)),0) -> 404945 | Z19: 518893.6 | AA19: =+ROUND(AVERAGE(Y19:Z19),0) -> 461919 | AB19: 564200 | AC19: 364827 | AE19: =+ROUND(AVERAGE(AVERAGE(AB19:AD19),MIN(AB19:AD19)),0) -> 414670 | AF19: 523736.95 | AG19: =+ROUND(AVERAGE(AE19:AF19),0) -> 469203 | AH19: 661500 | AI19: 364827 | AK19: =+ROUND(AVERAGE(AVERAGE(AH19:AJ19),MIN(AH19:AJ19)),0) -> 438995 | AL19: 527009.49 | AM19: =+ROUND(AVERAGE(AK19:AL19),0) -> 483002 | AN19: 642100 | AO19: 364827 | AQ19: =+ROUND(AVERAGE(AVERAGE(AN19:AP19),MIN(AN19:AP19)),0) -> 434145 | AR19: 537481.61 | AS19: =+ROUND(AVERAGE(AQ19:AR19),0) -> 485813 | AT19: 564200 | AU19: 364827 | AW19: =+ROUND(AVERAGE(AVERAGE(AT19:AV19),MIN(AT19:AV19)),0) -> 414670 | AX19: 542324.97 | AY19: =+ROUND(AVERAGE(AW19:AX19),0) -> 478497
B20: 16 | C20: CAMBIO DE CONDENSADORA DE AIRE TIPO MINI SPLIT INCLUYE MANO DE OBRA DE: VACÍO, CARGA COMPLETA DE REFRIGERANTE, LIMPIEZA DE TUBERÍA DE COBRE CON NITRÓGENO, INSTALACIÓN DE FILTRO SECADOR. INSUMOS: NITRÓGENO, SOLDADURA Y DEMÁS ACTIVIDADES QUE GARANTICEN SU CORRECTO FUNCIONAMIENTO | D20: 518800 | E20: 341243 | G20: =+ROUND(AVERAGE(AVERAGE(D20:F20),MIN(D20:F20)),0) -> 385632 | H20: 505279.84 | I20: =+ROUND(AVERAGE(G20:H20),0) -> 445456 | J20: 570700 | K20: 341243 | M20: =+ROUND(AVERAGE(AVERAGE(J20:L20),MIN(J20:L20)),0) -> 398607 | N20: 547430.13 | O20: =+ROUND(AVERAGE(M20:N20),0) -> 473019 | P20: 633000 | Q20: 341243 | S20: =+ROUND(AVERAGE(AVERAGE(P20:R20),MIN(P20:R20)),0) -> 414182 | T20: 573217.72 | U20: =+ROUND(AVERAGE(S20:T20),0) -> 493700 | V20: 700400 | W20: 341243 | Y20: =+ROUND(AVERAGE(AVERAGE(V20:X20),MIN(V20:X20)),0) -> 431032 | Z20: 612226.38 | AA20: =+ROUND(AVERAGE(Y20:Z20),0) -> 521629 | AB20: 752300 | AC20: 341243 | AE20: =+ROUND(AVERAGE(AVERAGE(AB20:AD20),MIN(AB20:AD20)),0) -> 444007 | AF20: 616677.03 | AG20: =+ROUND(AVERAGE(AE20:AF20),0) -> 530342 | AH20: 882000 | AI20: 341243 | AK20: =+ROUND(AVERAGE(AVERAGE(AH20:AJ20),MIN(AH20:AJ20)),0) -> 476432 | AL20: 619818.66 | AM20: =+ROUND(AVERAGE(AK20:AL20),0) -> 548125 | AN20: 856100 | AO20: 341243 | AQ20: =+ROUND(AVERAGE(AVERAGE(AN20:AP20),MIN(AN20:AP20)),0) -> 469957 | AR20: 632385.21 | AS20: =+ROUND(AVERAGE(AQ20:AR20),0) -> 551171 | AT20: 752300 | AU20: 341243 | AW20: =+ROUND(AVERAGE(AVERAGE(AT20:AV20),MIN(AT20:AV20)),0) -> 444007 | AX20: 639715.69 | AY20: =+ROUND(AVERAGE(AW20:AX20),0) -> 541861
B21: 17 | C21: CAMBIO DE CONDENSADORA DE AIRE TIPO CENTRAL INCLUYE MANO DE OBRA DE: VACÍO, CARGA COMPLETA DE REFRIGERANTE, LIMPIEZA DE TUBERÍA DE COBRE CON NITRÓGENO, INSTALACIÓN DE FILTRO SECADOR. INSUMOS: NITRÓGENO, SOLDADURA Y DEMÁS ACTIVIDADES QUE GARANTICEN SU CORRECTO FUNCIONAMIENTO | D21: 933900 | E21: 787755 | G21: =+ROUND(AVERAGE(AVERAGE(D21:F21),MIN(D21:F21)),0) -> 824291 | H21: 977441.6 | I21: =+ROUND(AVERAGE(G21:H21),0) -> 900866 | J21: 1027300 | K21: 787755 | M21: =+ROUND(AVERAGE(AVERAGE(J21:L21),MIN(J21:L21)),0) -> 847641 | N21: 1019461 | O21: =+ROUND(AVERAGE(M21:N21),0) -> 933551 | P21: N/A | Q21: N/A | R21: N/A | S21: N/A | T21: 1057291.5 | U21: N/A | V21: N/A | W21: N/A | X21: N/A | Y21: N/A | Z21: N/A | AA21: N/A | AB21: N/A | AC21: N/A | AD21: N/A | AE21: N/A | AF21: N/A | AG21: N/A | AH21: N/A | AI21: N/A | AJ21: N/A | AK21: N/A | AL21: N/A | AM21: N/A | AN21: N/A | AO21: N/A | AP21: N/A | AQ21: N/A | AR21: N/A | AS21: N/A | AT21: N/A | AU21: N/A | AV21: N/A | AW21: N/A | AX21: N/A | AY21: N/A
B22: 18 | C22: CAMBIO MOTOR VENTILADOR DE ACONDICIONADOR DE AIRE | D22: 194600 | E22: 283298 | G22: =+ROUND(AVERAGE(AVERAGE(D22:F22),MIN(D22:F22)),0) -> 216775 | H22: 263504.75 | I22: =+ROUND(AVERAGE(G22:H22),0) -> 240140 | J22: 214000 | K22: 283298 | M22: =+ROUND(AVERAGE(AVERAGE(J22:L22),MIN(J22:L22)),0) -> 231325 | N22: 305393.23 | O22: =+ROUND(AVERAGE(M22:N22),0) -> 268359 | P22: 237400 | Q22: 283298 | S22: =+ROUND(AVERAGE(AVERAGE(P22:R22),MIN(P22:R22)),0) -> 248875 | T22: 326599.27 | U22: =+ROUND(AVERAGE(S22:T22),0) -> 287737 | V22: 262700 | W22: 283298 | Y22: =+ROUND(AVERAGE(AVERAGE(V22:X22),MIN(V22:X22)),0) -> 267850 | Z22: 520988.02 | AA22: =+ROUND(AVERAGE(Y22:Z22),0) -> 394419 | AB22: 282100 | AC22: 283298 | AE22: =+ROUND(AVERAGE(AVERAGE(AB22:AD22),MIN(AB22:AD22)),0) -> 282400 | AF22: 538005.22 | AG22: =+ROUND(AVERAGE(AE22:AF22),0) -> 410203 | AH22: 330800 | AI22: 283298 | AK22: =+ROUND(AVERAGE(AVERAGE(AH22:AJ22),MIN(AH22:AJ22)),0) -> 295174 | AL22: 542063.16 | AM22: =+ROUND(AVERAGE(AK22:AL22),0) -> 418619 | AN22: 321000 | AO22: 283298 | AQ22: =+ROUND(AVERAGE(AVERAGE(AN22:AP22),MIN(AN22:AP22)),0) -> 292724 | AR22: 553975.2 | AS22: =+ROUND(AVERAGE(AQ22:AR22),0) -> 423350 | AT22: 282100 | AU22: 283298 | AW22: =+ROUND(AVERAGE(AVERAGE(AT22:AV22),MIN(AT22:AV22)),0) -> 282400 | AX22: 555546.02 | AY22: =+ROUND(AVERAGE(AW22:AX22),0) -> 418973
B23: 19 | C23: CAMBIO TRANSFORMADOR DE ACONDICIONADOR DE AIRES | D23: 123200 | E23: 206317 | G23: =+ROUND(AVERAGE(AVERAGE(D23:F23),MIN(D23:F23)),0) -> 143979 | H23: 224888.8 | I23: =+ROUND(AVERAGE(G23:H23),0) -> 184434 | J23: 135500 | K23: 206317 | M23: =+ROUND(AVERAGE(AVERAGE(J23:L23),MIN(J23:L23)),0) -> 153204 | N23: 264159.25 | O23: =+ROUND(AVERAGE(M23:N23),0) -> 208682 | P23: N/A | Q23: N/A | R23: N/A | S23: N/A | T23: 289946.85 | U23: N/A | V23: N/A | W23: N/A | X23: N/A | Y23: N/A | Z23: N/A | AA23: N/A | AB23: N/A | AC23: N/A | AD23: N/A | AE23: N/A | AF23: N/A | AG23: N/A | AH23: N/A | AI23: N/A | AJ23: N/A | AK23: N/A | AL23: N/A | AM23: N/A | AN23: N/A | AO23: N/A | AP23: N/A | AQ23: N/A | AR23: N/A | AS23: N/A | AT23: N/A | AU23: N/A | AV23: N/A | AW23: N/A | AX23: N/A | AY23: N/A
B24: 20 | C24: CAMBIO BALINERA DE MOTOR VENTILADOR | D24: 168600 | E24: 254789 | G24: =+ROUND(AVERAGE(AVERAGE(D24:F24),MIN(D24:F24)),0) -> 190147 | H24: 247927.47 | I24: =+ROUND(AVERAGE(G24:H24),0) -> 219037 | J24: 185500 | K24: 254789 | M24: =+ROUND(AVERAGE(AVERAGE(J24:L24),MIN(J24:L24)),0) -> 202822 | N24: 286150.71 | O24: =+ROUND(AVERAGE(M24:N24),0) -> 244486 | P24: 205700 | Q24: 254789 | S24: =+ROUND(AVERAGE(AVERAGE(P24:R24),MIN(P24:R24)),0) -> 217972 | T24: 307618.56 | U24: =+ROUND(AVERAGE(S24:T24),0) -> 262795 | V24: 227600 | W24: 254789 | Y24: =+ROUND(AVERAGE(AVERAGE(V24:X24),MIN(V24:X24)),0) -> 234397 | Z24: 309058.47 | AA24: =+ROUND(AVERAGE(Y24:Z24),0) -> 271728 | AB24: 244500 | AC24: 254789 | AE24: =+ROUND(AVERAGE(AVERAGE(AB24:AD24),MIN(AB24:AD24)),0) -> 247072 | AF24: 311152.9 | AG24: =+ROUND(AVERAGE(AE24:AF24),0) -> 279112 | AH24: 286700 | AI24: 254789 | AK24: =+ROUND(AVERAGE(AVERAGE(AH24:AJ24),MIN(AH24:AJ24)),0) -> 262767 | AL24: 311807.4 | AM24: =+ROUND(AVERAGE(AK24:AL24),0) -> 287287 | AN24: 278200 | AO24: 254789 | AQ24: =+ROUND(AVERAGE(AVERAGE(AN24:AP24),MIN(AN24:AP24)),0) -> 260642 | AR24: 314949.04 | AS24: =+ROUND(AVERAGE(AQ24:AR24),0) -> 287796 | AT24: 244500 | AU24: 254789 | AW24: =+ROUND(AVERAGE(AVERAGE(AT24:AV24),MIN(AT24:AV24)),0) -> 247072 | AX24: 315734.45 | AY24: =+ROUND(AVERAGE(AW24:AX24),0) -> 281403
B25: 21 | C25: CAMBIO CONTACTOR DE ACONDICIONADOR DE AIRES | D25: 110300 | E25: 229666 | G25: =+ROUND(AVERAGE(AVERAGE(D25:F25),MIN(D25:F25)),0) -> 140142 | H25: 234837.31 | I25: =+ROUND(AVERAGE(G25:H25),0) -> 187490 | J25: 121300 | K25: 229666 | M25: =+ROUND(AVERAGE(AVERAGE(J25:L25),MIN(J25:L25)),0) -> 148392 | N25: 270049.82 | O25: =+ROUND(AVERAGE(M25:N25),0) -> 209221 | P25: 134500 | Q25: 229666 | S25: =+ROUND(AVERAGE(AVERAGE(P25:R25),MIN(P25:R25)),0) -> 158292 | T25: 290470.46 | U25: =+ROUND(AVERAGE(S25:T25),0) -> 224381 | V25: 148800 | W25: 229666 | Y25: =+ROUND(AVERAGE(AVERAGE(V25:X25),MIN(V25:X25)),0) -> 169017 | Z25: 293219.39 | AA25: =+ROUND(AVERAGE(Y25:Z25),0) -> 231118 | AB25: 159900 | AC25: 229666 | AE25: =+ROUND(AVERAGE(AVERAGE(AB25:AD25),MIN(AB25:AD25)),0) -> 177342 | AF25: 295313.81 | AG25: =+ROUND(AVERAGE(AE25:AF25),0) -> 236328 | AH25: 187400 | AI25: 229666 | AK25: =+ROUND(AVERAGE(AVERAGE(AH25:AJ25),MIN(AH25:AJ25)),0) -> 197967 | AL25: 295968.32 | AM25: =+ROUND(AVERAGE(AK25:AL25),0) -> 246968 | AN25: 181900 | AO25: 229666 | AQ25: =+ROUND(AVERAGE(AVERAGE(AN25:AP25),MIN(AN25:AP25)),0) -> 193842 | AR25: 298717.25 | AS25: =+ROUND(AVERAGE(AQ25:AR25),0) -> 246280 | AT25: 159900 | AU25: 229666 | AW25: =+ROUND(AVERAGE(AVERAGE(AT25:AV25),MIN(AT25:AV25)),0) -> 177342 | AX25: 299633.56 | AY25: =+ROUND(AVERAGE(AW25:AX25),0) -> 238488
B26: 22 | C26: CAMBIO FAN RELAY ACONDICIONADOR DE AIRE | D26: 110300 | E26: 195770 | G26: =+ROUND(AVERAGE(AVERAGE(D26:F26),MIN(D26:F26)),0) -> 131668 | H26: 192294.32 | I26: =+ROUND(AVERAGE(G26:H26),0) -> 161981 | J26: 121300 | K26: 195770 | M26: =+ROUND(AVERAGE(AVERAGE(J26:L26),MIN(J26:L26)),0) -> 139918 | N26: 215463.89 | O26: =+ROUND(AVERAGE(M26:N26),0) -> 177691 | P26: N/A | Q26: N/A | R26: N/A | S26: N/A | T26: 253556.23 | U26: N/A | V26: N/A | W26: N/A | X26: N/A | Y26: N/A | Z26: N/A | AA26: N/A | AB26: N/A | AC26: N/A | AD26: N/A | AE26: N/A | AF26: N/A | AG26: N/A | AH26: N/A | AI26: N/A | AJ26: N/A | AK26: N/A | AL26: N/A | AM26: N/A | AN26: N/A | AO26: N/A | AP26: N/A | AQ26: N/A | AR26: N/A | AS26: N/A | AT26: N/A | AU26: N/A | AV26: N/A | AW26: N/A | AX26: N/A | AY26: N/A
B27: 23 | C27: CAMBIO PRESOSTATO DE ACONDICIONADOR DE AIRE | D27: 142700 | E27: 199350 | G27: =+ROUND(AVERAGE(AVERAGE(D27:F27),MIN(D27:F27)),0) -> 156863 | H27: 208918.81 | I27: =+ROUND(AVERAGE(G27:H27),0) -> 182891 | J27: 156900 | K27: 199350 | M27: =+ROUND(AVERAGE(AVERAGE(J27:L27),MIN(J27:L27)),0) -> 167513 | N27: 248451.07 | O27: =+ROUND(AVERAGE(M27:N27),0) -> 207982 | P27: 174100 | Q27: 199350 | S27: =+ROUND(AVERAGE(AVERAGE(P27:R27),MIN(P27:R27)),0) -> 180413 | T27: 275024.08 | U27: =+ROUND(AVERAGE(S27:T27),0) -> 227719 | V27: 192600 | W27: 199350 | Y27: =+ROUND(AVERAGE(AVERAGE(V27:X27),MIN(V27:X27)),0) -> 194288 | Z27: 276464 | AA27: =+ROUND(AVERAGE(Y27:Z27),0) -> 235376 | AB27: 206900 | AC27: 199350 | AE27: =+ROUND(AVERAGE(AVERAGE(AB27:AD27),MIN(AB27:AD27)),0) -> 201238 | AF27: 276987.6 | AG27: =+ROUND(AVERAGE(AE27:AF27),0) -> 239113 | AH27: 242600 | AI27: 199350 | AK27: =+ROUND(AVERAGE(AVERAGE(AH27:AJ27),MIN(AH27:AJ27)),0) -> 210163 | AL27: 277642.11 | AM27: =+ROUND(AVERAGE(AK27:AL27),0) -> 243903 | AN27: 235400 | AO27: 199350 | AQ27: =+ROUND(AVERAGE(AVERAGE(AN27:AP27),MIN(AN27:AP27)),0) -> 208363 | AR27: 280129.24 | AS27: =+ROUND(AVERAGE(AQ27:AR27),0) -> 244246 | AT27: 206900 | AU27: 199350 | AW27: =+ROUND(AVERAGE(AVERAGE(AT27:AV27),MIN(AT27:AV27)),0) -> 201238 | AX27: 281307.35 | AY27: =+ROUND(AVERAGE(AW27:AX27),0) -> 241273
B28: 24 | C28: CAMBIO TEMPORIZADOR DE ACONDICIONADOR DE AIRE | D28: 123200 | E28: 200816 | G28: =+ROUND(AVERAGE(AVERAGE(D28:F28),MIN(D28:F28)),0) -> 142604 | H28: 198053.99 | I28: =+ROUND(AVERAGE(G28:H28),0) -> 170329 | J28: 135500 | K28: 200816 | M28: =+ROUND(AVERAGE(AVERAGE(J28:L28),MIN(J28:L28)),0) -> 151829 | N28: 240466.08 | O28: =+ROUND(AVERAGE(M28:N28),0) -> 196148 | P28: N/A | Q28: N/A | R28: N/A | S28: N/A | T28: 273584.16 | U28: N/A | V28: N/A | W28: N/A | X28: N/A | Y28: N/A | Z28: N/A | AA28: N/A | AB28: N/A | AC28: N/A | AD28: N/A | AE28: N/A | AF28: N/A | AG28: N/A | AH28: N/A | AI28: N/A | AJ28: N/A | AK28: N/A | AL28: N/A | AM28: N/A | AN28: N/A | AO28: N/A | AP28: N/A | AQ28: N/A | AR28: N/A | AS28: N/A | AT28: N/A | AU28: N/A | AV28: N/A | AW28: N/A | AX28: N/A | AY28: N/A
B29: 25 | C29: SUMINISTRO E INSTALACIÓN A TODO COSTO DE DUCTERIA EN LAMINA DE PORÓN (METRO CUADRADO) | D29: 246400 | E29: 161723 | G29: =+ROUND(AVERAGE(AVERAGE(D29:F29),MIN(D29:F29)),0) -> 182892 | H29: 144646.17 | I29: =+ROUND(AVERAGE(G29:H29),0) -> 163769 | J29: 271100 | K29: 161723 | M29: =+ROUND(AVERAGE(AVERAGE(J29:L29),MIN(J29:L29)),0) -> 189067 | N29: 189414.49 | O29: =+ROUND(AVERAGE(M29:N29),0) -> 189241 | P29: N/A | Q29: N/A | R29: N/A | S29: N/A | T29: N/A | U29: N/A | V29: N/A | W29: N/A | X29: N/A | Y29: N/A | Z29: N/A | AA29: N/A | AB29: N/A | AC29: N/A | AD29: N/A | AE29: N/A | AF29: N/A | AG29: N/A | AH29: N/A | AI29: N/A | AJ29: N/A | AK29: N/A | AL29: N/A | AM29: N/A | AN29: N/A | AO29: N/A | AP29: N/A | AQ29: N/A | AR29: N/A | AS29: N/A | AT29: N/A | AU29: N/A | AV29: N/A | AW29: N/A | AX29: N/A | AY29: N/A
B30: 26 | C30: SUMINISTRO E INSTALACIÓN A TODO COSTO DE DUCTERIA EN FIBRA DE VIDRIO (METRO CUADRADO) | D30: 214000 | E30: 271197 | G30: =+ROUND(AVERAGE(AVERAGE(D30:F30),MIN(D30:F30)),0) -> 228299 | H30: 242691.4 | I30: =+ROUND(AVERAGE(G30:H30),0) -> 235495 | J30: 235400 | K30: 271197 | M30: =+ROUND(AVERAGE(AVERAGE(J30:L30),MIN(J30:L30)),0) -> 244349 | N30: 248320.17 | O30: =+ROUND(AVERAGE(M30:N30),0) -> 246335 | P30: N/A | Q30: N/A | R30: N/A | S30: N/A | T30: N/A | U30: N/A | V30: N/A | W30: N/A | X30: N/A | Y30: N/A | Z30: N/A | AA30: N/A | AB30: N/A | AC30: N/A | AD30: N/A | AE30: N/A | AF30: N/A | AG30: N/A | AH30: N/A | AI30: N/A | AJ30: N/A | AK30: N/A | AL30: N/A | AM30: N/A | AN30: N/A | AO30: N/A | AP30: N/A | AQ30: N/A | AR30: N/A | AS30: N/A | AT30: N/A | AU30: N/A | AV30: N/A | AW30: N/A | AX30: N/A | AY30: N/A
B31: 27 | C31: SUMINISTRO E INSTALACIÓN A TODO COSTO DE DUCTERIA GALVANIZADA (METRO CUADRADO) | D31: 363200 | E31: 272425 | G31: =+ROUND(AVERAGE(AVERAGE(D31:F31),MIN(D31:F31)),0) -> 295119 | H31: 243738.62 | I31: =+ROUND(AVERAGE(G31:H31),0) -> 269429 | J31: 399500 | K31: 272425 | M31: =+ROUND(AVERAGE(AVERAGE(J31:L31),MIN(J31:L31)),0) -> 304194 | N31: 253425.33 | O31: =+ROUND(AVERAGE(M31:N31),0) -> 278810 | P31: 443100 | Q31: 272425 | S31: =+ROUND(AVERAGE(AVERAGE(P31:R31),MIN(P31:R31)),0) -> 315094 | T31: 268348.1 | U31: =+ROUND(AVERAGE(S31:T31),0) -> 291721 | V31: 490300 | W31: 272425 | Y31: =+ROUND(AVERAGE(AVERAGE(V31:X31),MIN(V31:X31)),0) -> 326894 | Z31: 268871.71 | AA31: =+ROUND(AVERAGE(Y31:Z31),0) -> 297883 | AB31: 526600 | AC31: 272425 | AE31: =+ROUND(AVERAGE(AVERAGE(AB31:AD31),MIN(AB31:AD31)),0) -> 335969 | AF31: 270704.33 | AG31: =+ROUND(AVERAGE(AE31:AF31),0) -> 303337 | AH31: 617400 | AI31: 272425 | AK31: =+ROUND(AVERAGE(AVERAGE(AH31:AJ31),MIN(AH31:AJ31)),0) -> 358669 | AL31: 271882.44 | AM31: =+ROUND(AVERAGE(AK31:AL31),0) -> 315276 | AN31: 599300 | AO31: 272425 | AQ31: =+ROUND(AVERAGE(AVERAGE(AN31:AP31),MIN(AN31:AP31)),0) -> 354144 | AR31: 273060.56 | AS31: =+ROUND(AVERAGE(AQ31:AR31),0) -> 313602 | AT31: 526600 | AU31: 272425 | AW31: =+ROUND(AVERAGE(AVERAGE(AT31:AV31),MIN(AT31:AV31)),0) -> 335969 | AX31: 273845.96 | AY31: =+ROUND(AVERAGE(AW31:AX31),0) -> 304907
B32: 28 | C32: DESMONTE Y MONTAJE DE DIVISIÓN MIXTA (PANEL VIDRIO) DE 2.40 X 2.20 METROS PARA REALIZAR EL MANTENIMIENTO PREVENTIVO DE ACONDICIONADORES TIPO MINI SPLIT. | D32: 492900 | E32: 269264 | G32: =+ROUND(AVERAGE(AVERAGE(D32:F32),MIN(D32:F32)),0) -> 325173 | H32: 240858.78 | I32: =+ROUND(AVERAGE(G32:H32),0) -> 283016 | J32: N/A | K32: N/A | L32: N/A | M32: N/A | N32: N/A | O32: N/A | P32: N/A | Q32: N/A | R32: N/A | S32: N/A | T32: N/A | U32: N/A | V32: N/A | W32: N/A | X32: N/A | Y32: N/A | Z32: N/A | AA32: N/A | AB32: N/A | AC32: N/A | AD32: N/A | AE32: N/A | AF32: N/A | AG32: N/A | AH32: N/A | AI32: N/A | AJ32: N/A | AK32: N/A | AL32: N/A | AM32: N/A | AN32: N/A | AO32: N/A | AP32: N/A | AQ32: N/A | AR32: N/A | AS32: N/A | AT32: N/A | AU32: N/A | AV32: N/A | AW32: N/A | AX32: N/A | AY32: N/A
C33: TOTAL | D33: 10383300 | E33: =SUM(E5:E32) -> 11886823 | F33: =SUM(F5:F32) -> 0 | G33: =SUM(G5:G32) -> 10271116 | H33: =SUM(H5:H32) -> 12277384 | I33: =SUM(I5:I32) -> 11274250 | J33: =SUM(J5:J32) -> 10879200 | K33: =SUM(K5:K32) -> 11617559 | L33: =SUM(L5:L32) -> 0 | ... AY33: =SUM(AY5:AY32) -> 7153206
C35: TOTAL | D35: =+D33+J33+P33+V33+AB33+AH33+AN33+AT33 -> 64793100 | E35: =+E33+K33+Q33+W33+AC33+AI33+AO33+AU33 -> 59183532 | F35: =+F33+L33+R33+X33+AD33+AJ33+AP33+AV33 -> 0 | G35: =+G33+M33+S33+Y33+AE33+AK33+AQ33+AW33 -> 57352644 | H35: =+H33+N33+T33+Z33+AF33+AL33+AR33+AX33 -> 78518131 | I35: =+I33+O33+U33+AA33+AG33+AM33+AS33+AY33 -> 65197588

Sheet REPUESTOS MAG
B2: SECCIONAL MAGDALENA
B3: REPUESTOS CORRECTIVOS | E3: COTIZACION 1 | F3: COTIZACION 2 | G3: COTIZACION 3 | I3: VALOR COTIZACIÓN HÁBIL MÁS BAJA | J3: PROMEDIO | K3: MEDIA ARITMETICA BAJA | M3: ANALISIS DE COTIZACIONES | N3: COSTOS HISTORICOS DE CONTRATACIÓN | P3: VALOR COTIZACIÓN HÁBIL MÁS BAJA | Q3: PROMEDIO | R3: MEDIA ARITMETICA BAJA | T3: VALORES SELECCIONADOS ESTUDIO
B4: ÍTEM | C4: DESCRIPCIÓN | D4: UNIDAD DE MEDIDA | E4: VALOR REPUESTO INCLUIDO IVA | F4: VALOR REPUESTO INCLUIDO IVA | G4: VALOR REPUESTO INCLUIDO IVA | I4: VALOR REPUESTO INCLUIDO IVA | J4: VALOR REPUESTO INCLUIDO IVA | K4: VALOR REPUESTO INCLUIDO IVA | M4: VALOR REPUESTO INCLUIDO IVA | N4: VALOR REPUESTO INCLUIDO IVA | P4: VALOR REPUESTO INCLUIDO IVA | Q4: VALOR REPUESTO INCLUIDO IVA | R4: VALOR REPUESTO INCLUIDO IVA | T4: VALOR REPUESTO INCLUIDO IVA
B5: 1 | C5: CAPACITOR DE MARCHA 5 MFD 440V | D5: UND | E5: 38500 | F5: 37474 | I5: =+MIN(E5:G5) -> 37474 | J5: =+ROUND(AVERAGE(E5:G5),0) -> 37987 | K5: =+ROUND(AVERAGE(I5:J5),0) -> 37731 | M5: =+K5 -> 37731 | N5: 23809.663 | P5: =+MIN(M5:N5) -> 23809.663 | Q5: =+ROUND(AVERAGE(M5:N5),0) -> 30770 | R5: =+ROUND(AVERAGE(P5:Q5),0) -> 27290 | T5: =+Q5 -> 30770
B6: 2 | C6: CAPACITOR DE MARCHA 10 MFD 440V | D6: UND | E6: 44000 | F6: 36021 | I6: =+MIN(E6:G6) -> 36021 | J6: =+ROUND(AVERAGE(E6:G6),0) -> 40011 | K6: =+ROUND(AVERAGE(I6:J6),0) -> 38016 | M6: =+K6 -> 38016 | N6: 27211.043 | P6: =+MIN(M6:N6) -> 27211.043 | Q6: =+ROUND(AVERAGE(M6:N6),0) -> 32614 | R6: =+ROUND(AVERAGE(P6:Q6),0) -> 29913 | T6: =+Q6 -> 32614
B7: 3 | C7: CAPACITOR DE MARCHA 15 MFD 440V | D7: UND | E7: 52200 | F7: 37017 | I7: =+MIN(E7:G7) -> 37017 | J7: =+ROUND(AVERAGE(E7:G7),0) -> 44609 | K7: =+ROUND(AVERAGE(I7:J7),0) -> 40813 | M7: =+K7 -> 40813 | N7: 28241.765 | P7: =+MIN(M7:N7) -> 28241.765 | Q7: =+ROUND(AVERAGE(M7:N7),0) -> 34527 | R7: =+ROUND(AVERAGE(P7:Q7),0) -> 31384 | T7: =+Q7 -> 34527
B8: 4 | C8: CAPACITOR DE MARCHA 30 MFD 370V | D8: UND | E8: 57700 | F8: 72030 | I8: =+MIN(E8:G8) -> 57700 | J8: =+ROUND(AVERAGE(E8:G8),0) -> 64865 | K8: =+ROUND(AVERAGE(I8:J8),0) -> 61283 | M8: =+K8 -> 61283 | N8: 53700.582 | P8: =+MIN(M8:N8) -> 53700.582 | Q8: =+ROUND(AVERAGE(M8:N8),0) -> 57492 | R8: =+ROUND(AVERAGE(P8:Q8),0) -> 55596 | T8: =+Q8 -> 57492
B9: 5 | C9: CAPACITOR DE MARCHA 35 MFD 440V | D9: UND | E9: 60500 | F9: 74014 | I9: =+MIN(E9:G9) -> 60500 | J9: =+ROUND(AVERAGE(E9:G9),0) -> 67257 | K9: =+ROUND(AVERAGE(I9:J9),0) -> 63879 | M9: =+K9 -> 63879 | N9: 55762.024 | P9: =+MIN(M9:N9) -> 55762.024 | Q9: =+ROUND(AVERAGE(M9:N9),0) -> 59821 | R9: =+ROUND(AVERAGE(P9:Q9),0) -> 57792 | T9: =+Q9 -> 59821
B10: 6 | C10: CAPACITOR DE MARCHA 40 MFD 440V | D10: UND | E10: 66000 | F10: 75693 | I10: =+MIN(E10:G10) -> 66000 | J10: =+ROUND(AVERAGE(E10:G10),0) -> 70847 | K10: =+ROUND(AVERAGE(I10:J10),0) -> 68424 | M10: =+K10 -> 68424 | N10: 57205.034 | P10: =+MIN(M10:N10) -> 57205.034 | Q10: =+ROUND(AVERAGE(M10:N10),0) -> 62815 | R10: =+ROUND(AVERAGE(P10:Q10),0) -> 60010 | T10: =+Q10 -> 62815
B11: 7 | C11: CAPACITOR DE MARCHA 45 MFD 440V | D11: UND | E11: 68700 | F11: 77178 | I11: =+MIN(E11:G11) -> 68700 | J11: =+ROUND(AVERAGE(E11:G11),0) -> 72939 | K11: =+ROUND(AVERAGE(I11:J11),0) -> 70820 | M11: =+K11 -> 70820 | N11: 59266.477 | P11: =+MIN(M11:N11) -> 59266.477 | Q11: =+ROUND(AVERAGE(M11:N11),0) -> 65043 | R11: =+ROUND(AVERAGE(P11:Q11),0) -> 62155 | T11: =+Q11 -> 65043
B12: 8 | C12: CAPACITOR DE MARCHA 1,5 MFD 440V | D12: UND | E12: 38500 | F12: 42048 | I12: =+MIN(E12:G12) -> 38500 | J12: =+ROUND(AVERAGE(E12:G12),0) -> 40274 | K12: =+ROUND(AVERAGE(I12:J12),0) -> 39387 | M12: =+K12 -> 39387 | P12: =+MIN(M12:N12) -> 39387 | Q12: =+ROUND(AVERAGE(M12:N12),0) -> 39387 | R12: =+ROUND(AVERAGE(P12:Q12),0) -> 39387 | T12: =+Q12 -> 39387
B13: 9 | C13: CAPACITOR DE MARCHA 2,0 MFD 440V | D13: UND | E13: 38500 | F13: 40566 | I13: =+MIN(E13:G13) -> 38500 | J13: =+ROUND(AVERAGE(E13:G13),0) -> 39533 | K13: =+ROUND(AVERAGE(I13:J13),0) -> 39017 | M13: =+K13 -> 39017 | P13: =+MIN(M13:N13) -> 39017 | Q13: =+ROUND(AVERAGE(M13:N13),0) -> 39017 | R13: =+ROUND(AVERAGE(P13:Q13),0) -> 39017 | T13: =+Q13 -> 39017
B14: 10 | C14: CAPACITOR DE MARCHA 3,0 MFD 440V | D14: UND | E14: 38500 | F14: 40566 | I14: =+MIN(E14:G14) -> 38500 | J14: =+ROUND(AVERAGE(E14:G14),0) -> 39533 | K14: =+ROUND(AVERAGE(I14:J14),0) -> 39017 | M14: =+K14 -> 39017 | P14: =+MIN(M14:N14) -> 39017 | Q14: =+ROUND(AVERAGE(M14:N14),0) -> 39017 | R14: =+ROUND(AVERAGE(P14:Q14),0) -> 39017 | T14: =+Q14 -> 39017
B15: 11 | C15: CAPACITOR DE MARCHA 45+5 MFD 440V | D15: UND | E15: 77000 | F15: 80741 | I15: =+MIN(E15:G15) -> 77000 | J15: =+ROUND(AVERAGE(E15:G15),0) -> 78871 | K15: =+ROUND(AVERAGE(I15:J15),0) -> 77936 | M15: =+K15 -> 77936 | N15: 64832.372 | P15: =+MIN(M15:N15) -> 64832.372 | Q15: =+ROUND(AVERAGE(M15:N15),0) -> 71384 | R15: =+ROUND(AVERAGE(P15:Q15),0) -> 68108 | T15: =+Q15 -> 71384
B16: 12 | C16: CAPACITOR DE MARCHA 5 MFD 370V | D16: UND | E16: 38500 | F16: 35913 | I16: =+MIN(E16:G16) -> 35913 | J16: =+ROUND(AVERAGE(E16:G16),0) -> 37207 | K16: =+ROUND(AVERAGE(I16:J16),0) -> 36560 | M16: =+K16 -> 36560 | N16: 24634.24 | P16: =+MIN(M16:N16) -> 24634.24 | Q16: =+ROUND(AVERAGE(M16:N16),0) -> 30597 | R16: =+ROUND(AVERAGE(P16:Q16),0) -> 27616 | T16: =+Q16 -> 30597
B17: 13 | C17: CAPACITOR DE MARCHA 50 MFD 440V | D17: UND | E17: 74200 | F17: 89532 | I17: =+MIN(E17:G17) -> 74200 | J17: =+ROUND(AVERAGE(E17:G17),0) -> 81866 | K17: =+ROUND(AVERAGE(I17:J17),0) -> 78033 | M17: =+K17 -> 78033 | N17: 67099.959 | P17: =+MIN(M17:N17) -> 67099.959 | Q17: =+ROUND(AVERAGE(M17:N17),0) -> 72566 | R17: =+ROUND(AVERAGE(P17:Q17),0) -> 69833 | T17: =+Q17 -> 72566
B18: 14 | C18: CAPACITOR DE MARCHA 55 MFD 440V | D18: UND | E18: 79700 | F18: 91080 | I18: =+MIN(E18:G18) -> 79700 | J18: =+ROUND(AVERAGE(E18:G18),0) -> 85390 | K18: =+ROUND(AVERAGE(I18:J18),0) -> 82545 | M18: =+K18 -> 82545 | N18: 68233.753 | P18: =+MIN(M18:N18) -> 68233.753 | Q18: =+ROUND(AVERAGE(M18:N18),0) -> 75389 | R18: =+ROUND(AVERAGE(P18:Q18),0) -> 71811 | T18: =+Q18 -> 75389
B19: 15 | C19: CAPACITOR DE MARCHA 60 MFD (+5-5) 440V | D19: UND | E19: 85200 | F19: 92587 | I19: =+MIN(E19:G19) -> 85200 | J19: =+ROUND(AVERAGE(E19:G19),0) -> 88894 | K19: =+ROUND(AVERAGE(I19:J19),0) -> 87047 | M19: =+K19 -> 87047 | N19: 70604.412 | P19: =+MIN(M19:N19) -> 70604.412 | Q19: =+ROUND(AVERAGE(M19:N19),0) -> 78826 | R19: =+ROUND(AVERAGE(P19:Q19),0) -> 74715 | T19: =+Q19 -> 78826
B20: 16 | C20: CAPACITOR DE MARCHA 7.5 MFD 370V | D20: UND | E20: 41200 | F20: 75069 | I20: =+MIN(E20:G20) -> 41200 | J20: =+ROUND(AVERAGE(E20:G20),0) -> 58135 | K20: =+ROUND(AVERAGE(I20:J20),0) -> 49668 | M20: =+K20 -> 49668 | N20: 52979.077 | P20: =+MIN(M20:N20) -> 49668 | Q20: =+ROUND(AVERAGE(M20:N20),0) -> 51324 | R20: =+ROUND(AVERAGE(P20:Q20),0) -> 50496 | T20: =+Q20 -> 51324
B21: 17 | C21: CAPACITOR DE MARCHA 70 MFD 440V | D21: UND | E21: 93500 | F21: 95755 | I21: =+MIN(E21:G21) -> 93500 | J21: =+ROUND(AVERAGE(E21:G21),0) -> 94628 | K21: =+ROUND(AVERAGE(I21:J21),0) -> 94064 | M21: =+K21 -> 94064 | N21: 76170.307 | P21: =+MIN(M21:N21) -> 76170.307 | Q21: =+ROUND(AVERAGE(M21:N21),0) -> 85117 | R21: =+ROUND(AVERAGE(P21:Q21),0) -> 80644 | T21: =+Q21 -> 85117
B22: 18 | C22: CAPACITOR DUAL 25+5 MFD 440V | D22: UND | E22: 63200 | F22: 76825 | I22: =+MIN(E22:G22) -> 63200 | J22: =+ROUND(AVERAGE(E22:G22),0) -> 70013 | K22: =+ROUND(AVERAGE(I22:J22),0) -> 66607 | M22: =+K22 -> 66607 | N22: 58854.188 | P22: =+MIN(M22:N22) -> 58854.188 | Q22: =+ROUND(AVERAGE(M22:N22),0) -> 62731 | R22: =+ROUND(AVERAGE(P22:Q22),0) -> 60793 | T22: =+Q22 -> 62731
B23: 19 | C23: CAPACITOR DUAL 35+5 MFD 440V | D23: UND | E23: 71500 | F23: 80000 | I23: =+MIN(E23:G23) -> 71500 | J23: =+ROUND(AVERAGE(E23:G23),0) -> 75750 | K23: =+ROUND(AVERAGE(I23:J23),0) -> 73625 | M23: =+K23 -> 73625 | N23: 61534.064 | P23: =+MIN(M23:N23) -> 61534.064 | Q23: =+ROUND(AVERAGE(M23:N23),0) -> 67580 | R23: =+ROUND(AVERAGE(P23:Q23),0) -> 64557 | T23: =+Q23 -> 67580
B24: 20 | C24: TRANSFORMADOR 40 VA 110-220V SALIDA 24V | D24: UND | E24: 107200 | F24: 150000 | I24: =+MIN(E24:G24) -> 107200 | J24: =+ROUND(AVERAGE(E24:G24),0) -> 128600 | K24: =+ROUND(AVERAGE(I24:J24),0) -> 117900 | M24: =+K24 -> 117900 | N24: 149763.81 | P24: =+MIN(M24:N24) -> 117900 | Q24: =+ROUND(AVERAGE(M24:N24),0) -> 133832 | R24: =+ROUND(AVERAGE(P24:Q24),0) -> 125866 | T24: =+Q24 -> 133832
B25: 21 | C25: TRANSFORMADOR 75 VA 220 - 24V | D25: UND | E25: 134700 | F25: 308066 | I25: =+MIN(E25:G25) -> 134700 | J25: =+ROUND(AVERAGE(E25:G25),0) -> 221383 | K25: =+ROUND(AVERAGE(I25:J25),0) -> 178042 | M25: =+K25 -> 178042 | N25: 206556.56 | P25: =+MIN(M25:N25) -> 178042 | Q25: =+ROUND(AVERAGE(M25:N25),0) -> 192299 | R25: =+ROUND(AVERAGE(P25:Q25),0) -> 185171 | T25: =+Q25 -> 192299
B26: 22 | C26: CONTACTOR 2P X 30 AMP 110V | D26: UND | E26: 107200 | F26: 159239 | I26: =+MIN(E26:G26) -> 107200 | J26: =+ROUND(AVERAGE(E26:G26),0) -> 133220 | K26: =+ROUND(AVERAGE(I26:J26),0) -> 120210 | M26: =+K26 -> 120210 | N26: 124201.92 | P26: =+MIN(M26:N26) -> 120210 | Q26: =+ROUND(AVERAGE(M26:N26),0) -> 122206 | R26: =+ROUND(AVERAGE(P26:Q26),0) -> 121208 | T26: =+Q26 -> 122206
... B36: 32 | C36: CONTACTOR 3P X 60 AMP 24V | D36: UND | E36: 199400 | F36: 259388 | I36: =+MIN(E36:G36) -> 199400 | J36: =+ROUND(AVERAGE(E36:G36),0) -> 229394 | K36: =+ROUND(AVERAGE(I36:J36),0) -> 214397 | M36: =+K36 -> 214397 | N36: 214183.89 | P36: =+MIN(M36:N36) -> 214183.89 | Q36: =+ROUND(AVERAGE(M36:N36),0) -> 214290 | R36: =+ROUND(AVERAGE(P36:Q36),0) -> 214237 | T36: =+Q36 -> 214290
B37: 33 | C37: CINTA DE VINILO | D37: UND | E37: 19200 | F37: 33750 | I37: =+MIN(E37:G37) -> 19200 | J37: =+ROUND(AVERAGE(E37:G37),0) -> 26475 | K37: =+ROUND(AVERAGE(I37:J37),0) -> 22838 | M37: =+K37 -> 22838 | P37: =+MIN(M37:N37) -> 22838 | Q37: =+ROUND(AVERAGE(M37:N37),0) -> 22838 | R37: =+ROUND(AVERAGE(P37:Q37),0) -> 22838 | T37: =+Q37 -> 22838
B38: 34 | C38: FILTRO SECADOR SOLDABLE 7/8" | D38: UND | E38: 121000 | F38: 201828 | I38: =+MIN(E38:G38) -> 121000 | J38: =+ROUND(AVERAGE(E38:G38),0) -> 161414 | K38: =+ROUND(AVERAGE(I38:J38),0) -> 141207 | M38: =+K38 -> 141207 | N38: 212225.52 | P38: =+MIN(M38:N38) -> 141207 | Q38: =+ROUND(AVERAGE(M38:N38),0) -> 176716 | R38: =+ROUND(AVERAGE(P38:Q38),0) -> 158962 | T38: =+Q38 -> 176716
B39: 35 | C39: FILTRO SECADOR SOLDABLE 1/2" | D39: UND | E39: 71500 | F39: 138881 | I39: =+MIN(E39:G39) -> 71500 | J39: =+ROUND(AVERAGE(E39:G39),0) -> 105191 | K39: =+ROUND(AVERAGE(I39:J39),0) -> 88346 | M39: =+K39 -> 88346 | N39: 116162.29 | P39: =+MIN(M39:N39) -> 88346 | Q39: =+ROUND(AVERAGE(M39:N39),0) -> 102254 | R39: =+ROUND(AVERAGE(P39:Q39),0) -> 95300 | T39: =+Q39 -> 102254
B40: 36 | C40: FILTRO SECADOR ROSCADLE 1/2" | D40: UND | E40: 79700 | F40: 187048 | I40: =+MIN(E40:G40) -> 79700 | J40: =+ROUND(AVERAGE(E40:G40),0) -> 133374 | K40: =+ROUND(AVERAGE(I40:J40),0) -> 106537 | M40: =+K40 -> 106537 | N40: 125438.79 | P40: =+MIN(M40:N40) -> 106537 | Q40: =+ROUND(AVERAGE(M40:N40),0) -> 115988 | R40: =+ROUND(AVERAGE(P40:Q40),0) -> 111263 | T40: =+Q40 -> 115988
B41: 37 | C41: FILTRO SECADOR SOLDABLE 3/8" | D41: UND | E41: 61900 | F41: 135416 | I41: =+MIN(E41:G41) -> 61900 | J41: =+ROUND(AVERAGE(E41:G41),0) -> 98658 | K41: =+ROUND(AVERAGE(I41:J41),0) -> 80279 | M41: =+K41 -> 80279 | N41: 107504.24 | P41: =+MIN(M41:N41) -> 80279 | Q41: =+ROUND(AVERAGE(M41:N41),0) -> 93892 | R41: =+ROUND(AVERAGE(P41:Q41),0) -> 87086 | T41: =+Q41 -> 93892
B42: 38 | C42: FILTRO SECADOR SOLDABLE 5/8" | D42: UND | E42: 85200 | F42: 145572 | I42: =+MIN(E42:G42) -> 85200 | J42: =+ROUND(AVERAGE(E42:G42),0) -> 115386 | K42: =+ROUND(AVERAGE(I42:J42),0) -> 100293 | M42: =+K42 -> 100293 | N42: 118326.81 | P42: =+MIN(M42:N42) -> 100293 | Q42: =+ROUND(AVERAGE(M42:N42),0) -> 109310 | R42: =+ROUND(AVERAGE(P42:Q42),0) -> 104802 | T42: =+Q42 -> 109310
B43: 39 | C43: FILTRO SECADOR 1-1/8" | D43: UND | E43: 171900 | F43: 210507 | I43: =+MIN(E43:G43) -> 171900 | J43: =+ROUND(AVERAGE(E43:G43),0) -> 191204 | K43: =+ROUND(AVERAGE(I43:J43),0) -> 181552 | M43: =+K43 -> 181552 | N43: 260154.07 | P43: =+MIN(M43:N43) -> 181552 | Q43: =+ROUND(AVERAGE(M43:N43),0) -> 220853 | R43: =+ROUND(AVERAGE(P43:Q43),0) -> 201203 | T43: =+Q43 -> 220853
B44: 40 | C44: FILTRO SECADOR 1-3/8" | D44: UND | E44: 226900 | F44: 213045 | I44: =+MIN(E44:G44) -> 213045 | J44: =+ROUND(AVERAGE(E44:G44),0) -> 219973 | K44: =+ROUND(AVERAGE(I44:J44),0) -> 216509 | M44: =+K44 -> 216509 | N44: 275717.96 | P44: =+MIN(M44:N44) -> 216509 | Q44: =+ROUND(AVERAGE(M44:N44),0) -> 246113 | R44: =+ROUND(AVERAGE(P44:Q44),0) -> 231311 | T44: =+Q44 -> 246113
B45: 41 | C45: MANGUERA RUBATEX 1 1/8" X 1/2" | D45: UND | E45: 44000 | F45: 38008 | I45: =+MIN(E45:G45) -> 38008 | J45: =+ROUND(AVERAGE(E45:G45),0) -> 41004 | K45: =+ROUND(AVERAGE(I45:J45),0) -> 39506 | M45: =+K45 -> 39506 | N45: 28550.981 | P45: =+MIN(M45:N45) -> 28550.981 | Q45: =+ROUND(AVERAGE(M45:N45),0) -> 34028 | R45: =+ROUND(AVERAGE(P45:Q45),0) -> 31289 | T45: =+Q45 -> 34028
B46: 42 | C46: MANGUERA RUBATEX 1 3/8" X 1/2" | D46: UND | E46: 52200 | F46: 39029 | I46: =+MIN(E46:G46) -> 39029 | J46: =+ROUND(AVERAGE(E46:G46),0) -> 45615 | K46: =+ROUND(AVERAGE(I46:J46),0) -> 42322 | M46: =+K46 -> 42322 | N46: 30200.135 | P46: =+MIN(M46:N46) -> 30200.135 | Q46: =+ROUND(AVERAGE(M46:N46),0) -> 36261 | R46: =+ROUND(AVERAGE(P46:Q46),0) -> 33231 | T46: =+Q46 -> 36261
B47: 43 | C47: MANGUERA RUBATEX 3/4" X 1/2" | D47: UND | E47: 30200 | F47: 38329 | I47: =+MIN(E47:G47) -> 30200 | J47: =+ROUND(AVERAGE(E47:G47),0) -> 34265 | K47: =+ROUND(AVERAGE(I47:J47),0) -> 32233 | M47: =+K47 -> 32233 | N47: 29787.847 | P47: =+MIN(M47:N47) -> 29787.847 | Q47: =+ROUND(AVERAGE(M47:N47),0) -> 31010 | R47: =+ROUND(AVERAGE(P47:Q47),0) -> 30399 | T47: =+Q47 -> 31010
B48: 44 | C48: RUBATEX ¾×⅞ | D48: UND | E48: 41200 | F48: 42082 | I48: =+MIN(E48:G48) -> 41200 | J48: =+ROUND(AVERAGE(E48:G48),0) -> 41641 | K48: =+ROUND(AVERAGE(I48:J48),0) -> 41421 | M48: =+K48 -> 41421 | N48: 28241.765 | P48: =+MIN(M48:N48) -> 28241.765 | Q48: =+ROUND(AVERAGE(M48:N48),0) -> 34831 | R48: =+ROUND(AVERAGE(P48:Q48),0) -> 31536 | T48: =+Q48 -> 34831
B49: 45 | C49: RUBATEX ¾×1⅛ | D49: UND | E49: 49500 | F49: 42921 | I49: =+MIN(E49:G49) -> 42921 | J49: =+ROUND(AVERAGE(E49:G49),0) -> 46211 | K49: =+ROUND(AVERAGE(I49:J49),0) -> 44566 | M49: =+K49 -> 44566 | N49: 28757.125 | P49: =+MIN(M49:N49) -> 28757.125 | Q49: =+ROUND(AVERAGE(M49:N49),0) -> 36662 | R49: =+ROUND(AVERAGE(P49:Q49),0) -> 32710 | T49: =+Q49 -> 36662
... B57: 53 | C57: MANGUERA RUBATEX 7/8" X 1/2" | D57: UND | E57: 35700 | F57: 25177 | I57: =+MIN(E57:G57) -> 25177 | J57: =+ROUND(AVERAGE(E57:G57),0) -> 30439 | K57: =+ROUND(AVERAGE(I57:J57),0) -> 27808 | M57: =+K57 -> 27808 | N57: 19274.489 | P57: =+MIN(M57:N57) -> 19274.489 | Q57: =+ROUND(AVERAGE(M57:N57),0) -> 23541 | R57: =+ROUND(AVERAGE(P57:Q57),0) -> 21408 | T57: =+Q57 -> 23541
B58: 54 | C58: RUBATEX 5/8" X 3/8" | D58: UND | E58: 30200 | F58: 37800 | I58: =+MIN(E58:G58) -> 30200 | J58: =+ROUND(AVERAGE(E58:G58),0) -> 34000 | K58: =+ROUND(AVERAGE(I58:J58),0) -> 32100 | M58: =+K58 -> 32100 | P58: =+MIN(M58:N58) -> 32100 | Q58: =+ROUND(AVERAGE(M58:N58),0) -> 32100 | R58: =+ROUND(AVERAGE(P58:Q58),0) -> 32100 | T58: =+Q58 -> 32100
B59: 55 | C59: CINTA FOIL | D59: UND | E59: 52200 | F59: 40000 | I59: =+MIN(E59:G59) -> 40000 | J59: =+ROUND(AVERAGE(E59:G59),0) -> 46100 | K59: =+ROUND(AVERAGE(I59:J59),0) -> 43050 | M59: =+K59 -> 43050 | P59: =+MIN(M59:N59) -> 43050 | Q59: =+ROUND(AVERAGE(M59:N59),0) -> 43050 | R59: =+ROUND(AVERAGE(P59:Q59),0) -> 43050 | T59: =+Q59 -> 43050
B60: 56 | C60: REFRIGERANTE R-410a X 11,3 Kg | D60: UND | E60: 1072400 | F60: 1343447 | I60: =+MIN(E60:G60) -> 1072400 | J60: =+ROUND(AVERAGE(E60:G60),0) -> 1207924 | K60: =+ROUND(AVERAGE(I60:J60),0) -> 1140162 | M60: =+K60 -> 1140162 | N60: 900850.45 | P60: =+MIN(M60:N60) -> 900850.45 | Q60: =+ROUND(AVERAGE(M60:N60),0) -> 1020506 | R60: =+ROUND(AVERAGE(P60:Q60),0) -> 960678 | T60: =+Q60 -> 1020506
B61: 57 | C61: REFRIGERANTE R-22 X 13,6 Kg | D61: UND | E61: 1306200 | F61: 1440733 | I61: =+MIN(E61:G61) -> 1306200 | J61: =+ROUND(AVERAGE(E61:G61),0) -> 1373467 | K61: =+ROUND(AVERAGE(I61:J61),0) -> 1339834 | M61: =+K61 -> 1339834 | N61: 966095.11 | P61: =+MIN(M61:N61) -> 966095.11 | Q61: =+ROUND(AVERAGE(M61:N61),0) -> 1152965 | R61: =+ROUND(AVERAGE(P61:Q61),0) -> 1059530 | T61: =+Q61 -> 1152965
B62: 58 | C62: LIMPIADOR DIELECTRICO | D62: UND | E62: 107200 | F62: 60750 | I62: =+MIN(E62:G62) -> 60750 | J62: =+ROUND(AVERAGE(E62:G62),0) -> 83975 | K62: =+ROUND(AVERAGE(I62:J62),0) -> 72363 | M62: =+K62 -> 72363 | P62: =+MIN(M62:N62) -> 72363 | Q62: =+ROUND(AVERAGE(M62:N62),0) -> 72363 | R62: =+ROUND(AVERAGE(P62:Q62),0) -> 72363 | T62: =+Q62 -> 72363
B63: 59 | C63: TUBERÍA COBRE FLEXIBLE 1/2" | D63: METRO | E63: 46700 | F63: 60851 | I63: =+MIN(E63:G63) -> 46700 | J63: =+ROUND(AVERAGE(E63:G63),0) -> 53776 | K63: =+ROUND(AVERAGE(I63:J63),0) -> 50238 | M63: =+K63 -> 50238 | N63: 42568.791 | P63: =+MIN(M63:N63) -> 42568.791 | Q63: =+ROUND(AVERAGE(M63:N63),0) -> 46403 | R63: =+ROUND(AVERAGE(P63:Q63),0) -> 44486 | T63: =+Q63 -> 46403
B64: 60 | C64: TUBERÍA COBRE FLEXIBLE 1/4" | D64: METRO | E64: 24700 | F64: 42891 | I64: =+MIN(E64:G64) -> 24700 | J64: =+ROUND(AVERAGE(E64:G64),0) -> 33796 | K64: =+ROUND(AVERAGE(I64:J64),0) -> 29248 | M64: =+K64 -> 29248 | N64: 29787.847 | P64: =+MIN(M64:N64) -> 29248 | Q64: =+ROUND(AVERAGE(M64:N64),0) -> 29518 | R64: =+ROUND(AVERAGE(P64:Q64),0) -> 29383 | T64: =+Q64 -> 29518
B65: 61 | C65: TUBERÍA COBRE FLEXIBLE 3/4" | D65: METRO | E65: 77000 | F65: 79445 | I65: =+MIN(E65:G65) -> 77000 | J65: =+ROUND(AVERAGE(E65:G65),0) -> 78223 | K65: =+ROUND(AVERAGE(I65:J65),0) -> 77612 | M65: =+K65 -> 77612 | N65: 55452.808 | P65: =+MIN(M65:N65) -> 55452.808 | Q65: =+ROUND(AVERAGE(M65:N65),0) -> 66532 | R65: =+ROUND(AVERAGE(P65:Q65),0) -> 60992 | T65: =+Q65 -> 66532
B66: 62 | C66: TUBERÍA COBRE FLEXIBLE 3/8" | D66: METRO | E66: 33000 | F66: 48431 | I66: =+MIN(E66:G66) -> 33000 | J66: =+ROUND(AVERAGE(E66:G66),0) -> 40716 | K66: =+ROUND(AVERAGE(I66:J66),0) -> 36858 | M66: =+K66 -> 36858 | N66: 33807.66 | P66: =+MIN(M66:N66) -> 33807.66 | Q66: =+ROUND(AVERAGE(M66:N66),0) -> 35333 | R66: =+ROUND(AVERAGE(P66:Q66),0) -> 34570 | T66: =+Q66 -> 35333
B67: 63 | C67: TUBERÍA COBRE FLEXIBLE 5/8" | D67: METRO | E67: 57700 | F67: 75491 | I67: =+MIN(E67:G67) -> 57700 | J67: =+ROUND(AVERAGE(E67:G67),0) -> 66596 | K67: =+ROUND(AVERAGE(I67:J67),0) -> 62148 | M67: =+K67 -> 62148 | N67: 52669.86 | P67: =+MIN(M67:N67) -> 52669.86 | Q67: =+ROUND(AVERAGE(M67:N67),0) -> 57409 | R67: =+ROUND(AVERAGE(P67:Q67),0) -> 55039 | T67: =+Q67 -> 57409
B68: 64 | C68: TUBERÍA COBRE FLEXIBLE 7/8" | D68: METRO | E68: 93500 | F68: 107546 | I68: =+MIN(E68:G68) -> 93500 | J68: =+ROUND(AVERAGE(E68:G68),0) -> 100523 | K68: =+ROUND(AVERAGE(I68:J68),0) -> 97012 | M68: =+K68 -> 97012 | N68: 75242.658 | P68: =+MIN(M68:N68) -> 75242.658 | Q68: =+ROUND(AVERAGE(M68:N68),0) -> 86127 | R68: =+ROUND(AVERAGE(P68:Q68),0) -> 80685 | T68: =+Q68 -> 86127
B69: 65 | C69: TUBERÍA COBRE RÍGIDA 1-1/8" | D69: METRO | E69: 134700 | F69: 139130 | I69: =+MIN(E69:G69) -> 134700 | J69: =+ROUND(AVERAGE(E69:G69),0) -> 136915 | K69: =+ROUND(AVERAGE(I69:J69),0) -> 135808 | M69: =+K69 -> 135808 | N69: 100392.26 | P69: =+MIN(M69:N69) -> 100392.26 | Q69: =+ROUND(AVERAGE(M69:N69),0) -> 118100 | R69: =+ROUND(AVERAGE(P69:Q69),0) -> 109246 | T69: =+Q69 -> 118100
B70: 66 | C70: TUBERÍA COBRE RÍGIDA 3/8" | D70: METRO | E70: 35700 | F70: 71391 | I70: =+MIN(E70:G70) -> 35700 | J70: =+ROUND(AVERAGE(E70:G70),0) -> 53546 | K70: =+ROUND(AVERAGE(I70:J70),0) -> 44623 | M70: =+K70 -> 44623 | N70: 49268.48 | P70: =+MIN(M70:N70) -> 44623 | Q70: =+ROUND(AVERAGE(M70:N70),0) -> 46946 | R70: =+ROUND(AVERAGE(P70:Q70),0) -> 45785 | T70: =+Q70 -> 46946
B71: 67 | C71: TUBERÍA COBRE RÍGIDA 7/8" | D71: METRO | E71: 101700 | F71: 109126 | I71: =+MIN(E71:G71) -> 101700 | J71: =+ROUND(AVERAGE(E71:G71),0) -> 105413 | K71: =+ROUND(AVERAGE(I71:J71),0) -> 103557 | M71: =+K71 -> 103557 | N71: 75242.658 | P71: =+MIN(M71:N71) -> 75242.658 | Q71: =+ROUND(AVERAGE(M71:N71),0) -> 89400 | R71: =+ROUND(AVERAGE(P71:Q71),0) -> 82321 | T71: =+Q71 -> 89400
B72: 68 | C72: TUERCAS FLER DE BRONCE 3/4 | D72: UND | E72: 44000 | F72: 60750 | I72: =+MIN(E72:G72) -> 44000 | J72: =+ROUND(AVERAGE(E72:G72),0) -> 52375 | K72: =+ROUND(AVERAGE(I72:J72),0) -> 48188 | M72: =+K72 -> 48188 | P72: =+MIN(M72:N72) -> 48188 | Q72: =+ROUND(AVERAGE(M72:N72),0) -> 48188 | R72: =+ROUND(AVERAGE(P72:Q72),0) -> 48188 | T72: =+Q72 -> 48188
B73: 69 | C73: TUERCAS FLER DE BRONCE 5/8 | D73: UND | E73: 33000 | F73: 51300 | I73: =+MIN(E73:G73) -> 33000 | J73: =+ROUND(AVERAGE(E73:G73),0) -> 42150 | K73: =+ROUND(AVERAGE(I73:J73),0) -> 37575 | M73: =+K73 -> 37575 | P73: =+MIN(M73:N73) -> 37575 | Q73: =+ROUND(AVERAGE(M73:N73),0) -> 37575 | R73: =+ROUND(AVERAGE(P73:Q73),0) -> 37575 | T73: =+Q73 -> 37575
B74: 70 | C74: TUERCAS FLER DE BRONCE 1/2 | D74: UND | E74: 24700 | F74: 43200 | I74: =+MIN(E74:G74) -> 24700 | J74: =+ROUND(AVERAGE(E74:G74),0) -> 33950 | K74: =+ROUND(AVERAGE(I74:J74),0) -> 29325 | M74: =+K74 -> 29325 | P74: =+MIN(M74:N74) -> 29325 | Q74: =+ROUND(AVERAGE(M74:N74),0) -> 29325 | R74: =+ROUND(AVERAGE(P74:Q74),0) -> 29325 | T74: =+Q74 -> 29325
B75: 71 | C75: TUERCAS FLER DE BRONCE 1/4 | D75: UND | E75: 16500 | F75: 29700 | I75: =+MIN(E75:G75) -> 16500 | J75: =+ROUND(AVERAGE(E75:G75),0) -> 23100 | K75: =+ROUND(AVERAGE(I75:J75),0) -> 19800 | M75: =+K75 -> 19800 | P75: =+MIN(M75:N75) -> 19800 | Q75: =+ROUND(AVERAGE(M75:N75),0) -> 19800 | R75: =+ROUND(AVERAGE(P75:Q75),0) -> 19800 | T75: =+Q75 -> 19800
B76: 72 | C76: TARJETAS ELECTRÓNICA UNIVERSAL PARA ACONDICIONADOR DE AIRE TIPO MINI SPLIT | D76: UND | E76: 254400 | F76: 540593 | I76: =+MIN(E76:G76) -> 254400 | J76: =+ROUND(AVERAGE(E76:G76),0) -> 397497 | K76: =+ROUND(AVERAGE(I76:J76),0) -> 325949 | M76: =+K76 -> 325949 | N76: 379923.89 | P76: =+MIN(M76:N76) -> 325949 | Q76: =+ROUND(AVERAGE(M76:N76),0) -> 352936 | R76: =+ROUND(AVERAGE(P76:Q76),0) -> 339443 | T76: =+Q76 -> 352936
B77: 73 | C77: COMPRESOR 1 TR ROTATIVO 12 KBTU 220V 1PH 60 HZ REFRIGERANTE R 22 | D77: UND | E77: 1168700 | F77: 1257861 | I77: =+MIN(E77:G77) -> 1168700 | J77: =+ROUND(AVERAGE(E77:G77),0) -> 1213281 | K77: =+ROUND(AVERAGE(I77:J77),0) -> 1190991 | M77: =+K77 -> 1190991 | N77: 1307573.1 | P77: =+MIN(M77:N77) -> 1190991 | Q77: =+ROUND(AVERAGE(M77:N77),0) -> 1249282 | R77: =+ROUND(AVERAGE(P77:Q77),0) -> 1220137 | T77: =+Q77 -> 1249282
B78: 74 | C78: COMPRESOR 1 TR ROTATIVO 12 KBTU 220V 1PH 60 HZ REFRIGERANTE 410 | D78: UND | E78: 1223700 | F78: 1282134 | I78: =+MIN(E78:G78) -> 1223700 | J78: =+ROUND(AVERAGE(E78:G78),0) -> 1252917 | K78: =+ROUND(AVERAGE(I78:J78),0) -> 1238309 | M78: =+K78 -> 1238309 | N78: 1383434.2 | P78: =+MIN(M78:N78) -> 1238309 | Q78: =+ROUND(AVERAGE(M78:N78),0) -> 1310872 | R78: =+ROUND(AVERAGE(P78:Q78),0) -> 1274591 | T78: =+Q78 -> 1310872
B79: 75 | C79: COMPRESOR 1.5 TR ROTATIVO 18 KBTU 220V 1 PH REFRIGERANTE R 22 | D79: UND | E79: 1443700 | F79: 1423843 | I79: =+MIN(E79:G79) -> 1423843 | J79: =+ROUND(AVERAGE(E79:G79),0) -> 1433772 | K79: =+ROUND(AVERAGE(I79:J79),0) -> 1428808 | M79: =+K79 -> 1428808 | N79: 1553297.1 | P79: =+MIN(M79:N79) -> 1428808 | Q79: =+ROUND(AVERAGE(M79:N79),0) -> 1491053 | R79: =+ROUND(AVERAGE(P79:Q79),0) -> 1459931 | T79: =+Q79 -> 1491053
B80: 76 | C80: COMPRESOR 1.5 TR ROTATIVO 18 KBTU 220V 1 PH REFRIGERANTE 410 | D80: UND | E80: 1498700 | F80: 1456702 | I80: =+MIN(E80:G80) -> 1456702 | J80: =+ROUND(AVERAGE(E80:G80),0) -> 1477701 | K80: =+ROUND(AVERAGE(I80:J80),0) -> 1467202 | M80: =+K80 -> 1467202 | N80: 1645546.6 | P80: =+MIN(M80:N80) -> 1467202 | Q80: =+ROUND(AVERAGE(M80:N80),0) -> 1556374 | R80: =+ROUND(AVERAGE(P80:Q80),0) -> 1511788 | T80: =+Q80 -> 1556374
B81: 77 | C81: COMPRESOR 2 TR ROTATIVO 24 KBTU 220V 60 HZ REFRIGERANTE R 22 | D81: UND | E81: 1856200 | F81: 1663131 | I81: =+MIN(E81:G81) -> 1663131 | J81: =+ROUND(AVERAGE(E81:G81),0) -> 1759666 | K81: =+ROUND(AVERAGE(I81:J81),0) -> 1711399 | M81: =+K81 -> 1711399 | N81: 1879623.4 | P81: =+MIN(M81:N81) -> 1711399 | Q81: =+ROUND(AVERAGE(M81:N81),0) -> 1795511 | R81: =+ROUND(AVERAGE(P81:Q81),0) -> 1753455 | T81: =+Q81 -> 1795511
B82: 78 | C82: COMPRESOR 2 TR ROTATIVO 24 KBTU 220V 60 HZ REFRIGERANTE 410 | D82: UND | E82: 1924900 | F82: 1689398 | I82: =+MIN(E82:G82) -> 1689398 | J82: =+ROUND(AVERAGE(E82:G82),0) -> 1807149 | K82: =+ROUND(AVERAGE(I82:J82),0) -> 1748274 | M82: =+K82 -> 1748274 | N82: 1935797.7 | P82: =+MIN(M82:N82) -> 1748274 | Q82: =+ROUND(AVERAGE(M82:N82),0) -> 1842036 | R82: =+ROUND(AVERAGE(P82:Q82),0) -> 1795155 | T82: =+Q82 -> 1842036
B83: 79 | C83: COMPRESOR 3 TR ROTATIVO 36 KBTU 220V 3PH 60 HZ REFRIGERANTE R 22 | D83: UND | E83: 2474900 | F83: 2237873 | I83: =+MIN(E83:G83) -> 2237873 | J83: =+ROUND(AVERAGE(E83:G83),0) -> 2356387 | K83: =+ROUND(AVERAGE(I83:J83),0) -> 2297130 | M83: =+K83 -> 2297130 | N83: 2770682 | P83: =+MIN(M83:N83) -> 2297130 | Q83: =+ROUND(AVERAGE(M83:N83),0) -> 2533906 | R83: =+ROUND(AVERAGE(P83:Q83),0) -> 2415518 | T83: =+Q83 -> 2533906
B84: 80 | C84: COMPRESOR 3 TR ROTATIVO 36 KBTU 220V 3PH 60 HZ REFRIGERANTE 410 | D84: UND | E84: 2557400 | F84: 2275099 | I84: =+MIN(E84:G84) -> 2275099 | J84: =+ROUND(AVERAGE(E84:G84),0) -> 2416250 | K84: =+ROUND(AVERAGE(I84:J84),0) -> 2345675 | M84: =+K84 -> 2345675 | N84: 2728937.8 | P84: =+MIN(M84:N84) -> 2345675 | Q84: =+ROUND(AVERAGE(M84:N84),0) -> 2537306 | R84: =+ROUND(AVERAGE(P84:Q84),0) -> 2441491 | T84: =+Q84 -> 2537306
B85: 81 | C85: COMPRESOR 3 TR ROTATIVO 36 KBTU 220V 1PH 60 HZ REFRIGERANTE R 22 | D85: UND | E85: 2612400 | F85: 2245069 | I85: =+MIN(E85:G85) -> 2245069 | J85: =+ROUND(AVERAGE(E85:G85),0) -> 2428735 | K85: =+ROUND(AVERAGE(I85:J85),0) -> 2336902 | M85: =+K85 -> 2336902 | N85: 2796140.8 | P85: =+MIN(M85:N85) -> 2336902 | Q85: =+ROUND(AVERAGE(M85:N85),0) -> 2566521 | R85: =+ROUND(AVERAGE(P85:Q85),0) -> 2451712 | T85: =+Q85 -> 2566521
B86: 82 | C86: COMPRESOR 3 TR ROTATIVO 36 KBTU 220V 1PH 60 HZ REFRIGERANTE 410 | D86: UND | E86: 2694900 | F86: 2281898 | I86: =+MIN(E86:G86) -> 2281898 | J86: =+ROUND(AVERAGE(E86:G86),0) -> 2488399 | K86: =+ROUND(AVERAGE(I86:J86),0) -> 2385149 | M86: =+K86 -> 2385149 | N86: 2728937.8 | P86: =+MIN(M86:N86) -> 2385149 | Q86: =+ROUND(AVERAGE(M86:N86),0) -> 2557043 | R86: =+ROUND(AVERAGE(P86:Q86),0) -> 2471096 | T86: =+Q86 -> 2557043
B87: 83 | C87: COMPRESOR 5 TR SCROLL R-22 220V / 1PH 60 HZ REFRIGERANTE R 22 | D87: UND | E87: 3918500 | F87: 3319567 | I87: =+MIN(E87:G87) -> 3319567 | J87: =+ROUND(AVERAGE(E87:G87),0) -> 3619034 | K87: =+ROUND(AVERAGE(I87:J87),0) -> 3469301 | M87: =+K87 -> 3469301 | N87: 4505901.4 | P87: =+MIN(M87:N87) -> 3469301 | Q87: =+ROUND(AVERAGE(M87:N87),0) -> 3987601 | R87: =+ROUND(AVERAGE(P87:Q87),0) -> 3728451 | T87: =+Q87 -> 3987601
... B112: 108 | C112: REJILLAS DIFUSORAS DE ALUMINIO 10"X10" | D112: UND | E112: 158100 | F112: 470066 | I112: =+MIN(E112:G112) -> 158100 | J112: =+ROUND(AVERAGE(E112:G112),0) -> 314083 | K112: =+ROUND(AVERAGE(I112:J112),0) -> 236092 | M112: =+K112 -> 236092 | N112: 315194.59 | P112: =+MIN(M112:N112) -> 236092 | Q112: =+ROUND(AVERAGE(M112:N112),0) -> 275643 | R112: =+ROUND(AVERAGE(P112:Q112),0) -> 255868 | T112: =+Q112 -> 275643
B113: 109 | C113: REJILLAS DIFUSORAS DE ALUMINIO 12"X12" DE CUATRO VIAS MOVILES | D113: UND | E113: 199400 | F113: 425436 | I113: =+MIN(E113:G113) -> 199400 | J113: =+ROUND(AVERAGE(E113:G113),0) -> 312418 | K113: =+ROUND(AVERAGE(I113:J113),0) -> 255909 | M113: =+K113 -> 255909 | P113: =+MIN(M113:N113) -> 255909 | Q113: =+ROUND(AVERAGE(M113:N113),0) -> 255909 | R113: =+ROUND(AVERAGE(P113:Q113),0) -> 255909 | T113: =+Q113 -> 255909
B114: TOTAL | E114: =SUM(E5:E113) -> 62332300 | F114: =SUM(F5:F113) -> 57283138 | G114: =SUM(G5:G113) -> 0 | I114: =SUM(I5:I113) -> 49506439 | J114: =SUM(J5:J113) -> 59807744 | K114: =SUM(K5:K113) -> 54657118 | M114: =SUM(M5:M113) -> 54657118 | N114: =SUM(N5:N113) -> 63108285 | P114: =SUM(P5:P113) -> 53375980 | Q114: =SUM(Q5:Q113) -> 59221981 | R114: =SUM(R5:R113) -> 56298995 | T114: =SUM(T5:T113) -> 59221981

Sheet TOTAL
B2: SECCIONAL ATLÁNTICO | D2: COTIZACION 1 | E2: COTIZACION 2 | F2: COTIZACIÓN 3 | G2: VALORES SELECCIONADOS ESTUDIO
B3: ITEM | C3: DESCRIPCIÓN | D3: VALOR TOTAL | E3: VALOR TOTAL | F3: VALOR TOTAL | G3: VALOR TOTAL
B4: 1 | C4: MANTENIMIENTO PREVENTIVO | D4: =+'MTO PREVENTICO MAG'!E29 -> 3460900 | E4: =+'MTO PREVENTICO MAG'!F29 -> 5240000 | F4: =+'MTO PREVENTICO MAG'!G29 -> 0 | G4: =+'MTO PREVENTICO MAG'!T29 -> 3449837
B5: 2 | C5: MANO DE OBRA MANTENIMIENTO CORRECTIVO | D5: =+'MANO OBRA CORRECTIVOS MAG'!D35 -> 64793100 | E5: =+'MANO OBRA CORRECTIVOS MAG'!E35 -> 59183532 | F5: =+'MANO OBRA CORRECTIVOS MAG'!F35 -> 0 | G5: =+'MANO OBRA CORRECTIVOS MAG'!I35 -> 65197588
B6: 3 | C6: REPUESTOS | D6: =+'REPUESTOS MAG'!E114 -> 62332300 | E6: =+'REPUESTOS MAG'!F114 -> 57283138 | F6: =+'REPUESTOS MAG'!G114 -> 0 | G6: =+'REPUESTOS MAG'!T114 -> 59221981
B7: TOTAL | D7: =SUM(D4:D6) -> 130586300 | E7: =SUM(E4:E6) -> 121706670 | F7: =SUM(F4:F6) -> 0 | G7: =SUM(G4:G6) -> 127869406
